{"text_format":"1","workbook":"xlsx","n_sheets":3,"sheets":["Sheet1","Sheet2","StandingOrder"],"not_rendered":{"charts":0,"images":3,"macros":1,"external_links":0,"defined_names":8,"comments":2,"pivot_tables":0},"unopened":[],"bounds":{"document_bytes":16777216,"sheet_cells":100000,"rows_first":2000,"rows_last":500,"rows_between":2000,"halvings":0,"cell_chars":16384,"cell_head_chars":4096},"cells_cut":0,"cells_raw":0,"read":"whole","date_system":"1900"}

{"sheet":"Sheet1","index":0,"n_rows":3917,"n_cols":33,"rows_kept":2250,"cut":true,"hidden":false,"merged":[[6,12,6,20],[16,12,16,13],[17,12,17,13],[11,12,11,13],[12,12,12,13],[13,12,13,13],[14,12,14,13],[15,12,15,13],[7,14,7,20],[8,14,8,20],[9,14,9,20],[10,14,10,20],[11,14,11,20],[12,14,12,20],[13,14,13,20],[14,14,14,20],[6,5,6,10],[7,6,7,10],[8,6,8,10],[9,6,9,10],[10,6,10,10],[16,6,16,10],[17,6,17,10],[19,6,19,10],[7,12,7,13],[8,12,8,13],[9,12,9,13],[10,12,10,13],[11,6,11,10],[12,6,12,10],[13,6,13,10],[14,6,14,10],[15,6,15,10],[19,12,19,13],[12,25,12,26],[12,27,12,28],[8,23,8,24],[9,23,9,24],[6,22,6,28],[7,23,7,24],[11,22,11,24],[10,25,10,26],[10,27,10,28],[11,25,11,26],[11,27,11,28],[7,25,7,28],[8,25,8,28],[9,25,9,28],[12,22,12,24],[19,14,19,20],[13,22,13,24],[13,25,13,26],[13,27,13,28],[14,25,14,26],[14,27,14,28],[15,14,15,20],[16,14,16,20],[17,14,17,20]],"bounds":{"rows_first":1000,"rows_last":250,"rows_between":1000,"halvings":1}}
[]
[]
[]
[]
[]
[]
[null,null,null,null,null,"Ship to",null,null,null,null,null,null,"Bill to",null,null,null,null,null,null,null,null,null,"Summary"]
[null,null,null,null,null,"School/Library:",null,null,null,null,null,null,"School/Library:",null,null,null,null,null,null,null,null,null,null,"Print",null," eBooks"]
[null,null,null,null,null,"Attention:",null,null,null,null,null,null,"Attention:",null,null,null,null,null,null,null,null,null,"# of Books",{"$f":"SUMPRODUCT(((Table1[Product Type]=\"Library Bound Book\")\n+(Table1[Product Type]=\"Library Set\")\n+(Table1[Product Type]=\"Paperback Book\")\n+(Table1[Product Type]=\"Single Copy Set\"))*(Table1[Subtotal QTY]))","v":0},null,{"$f":"SUMPRODUCT(((Table1[Product Type]=\"eBook\")+(Table1[Product Type]=\"eBook Set\"))*(Table1[Subtotal QTY]))","v":0}]
[null,null,null,null,null,"Title:",null,null,null,null,null,null,"Title:",null,null,null,null,null,null,null,null,null,"Subtotal",{"$f":"SUMPRODUCT(((Table1[Product Type]=\"Library Bound Book\")\n+(Table1[Product Type]=\"Library Set\")\n+(Table1[Product Type]=\"Paperback Book\")\n+(Table1[Product Type]=\"Single Copy Set\"))*(Table1[Subtotal]))","v":0},null,{"$f":"SUMPRODUCT(((Table1[Product Type]=\"eBook\")+(Table1[Product Type]=\"eBook Set\"))*(Table1[Subtotal]))","v":0}]
[null,null,null,null,null,"Street Address:",null,null,null,null,null,null,"Street Address:",null,null,null,null,null,null,null,null,null,null,null,null,"Book Subtotal",null,{"$f":"X10+Z10","v":0}]
[null,null,null,null,null,"City:",null,null,null,null,null,null,"City:",null,null,null,null,null,null,null,null,null,"(if applicable)",null,null,"Library Processing"]
[null,null,null,null,null,"State:",null,null,null,null,null,null,"State:",null,null,null,null,null,null,null,null,null,"9% S&H (12% for Alaska & Hawaii) - FREE on all orders over $500",null,null,"Shipping & Handling",null,{"$f":"IF(AB11<500,(AB11*0.09),(\"0.00\"))","v":0}]
[null,null,null,null,null,"Zip:",null,null,null,null,null,null,"Zip:",null,null,null,null,null,null,null,null,null,"(if applicable)",null,null,"Tax"]
[null,null,null,null,null,"Contact Name:",null,null,null,null,null,null,"Contact Name:",null,null,null,null,null,null,null,null,null,null,null,null,"GRAND TOTAL",null,{"$f":"AB11+AB12+AB13+AB14","v":0}]
[null,null,null,null,null,"Phone:",null,null,null,null,null,null,"Phone:"]
[null,null,null,null,null,"Fax:",null,null,null,null,null,null,"Fax:",null,null,null,null,null,null,null,null,null,null,"Notes"]
[null,null,null,null,null,"email:",null,null,null,null,null,null,"email:"]
[]
[null,null,null,null,null,"PO# (if needed)",null,null,null,null,null,null,"Rep Name:",null,"Mike White (mikewhite@booklookindiana.com)"]
[]
["QTY","Catalog Page #","GNH Pg # Spring","Catalog Subject","Series","Title","ISBN","Imprint","Product Type","# of Books","© Date","Season","Binding Type","Trim","Contributor Type","Contributor","ATOS","Points","DRA","EIL","GRL","Lexile","Reading Age Level","Reading Level","Interest Level","Description","Language","List Price","School & Library Price","Dewey","Page Count","Subtotal QTY","Subtotal"]
[null,6,null,"Current Issues","Opposing Viewpoints (Jan '18 Set)","Opposing Viewpoints (Jan '18 Set)","978-1-5345-0247-5","Greenhaven Publishing","Library Set",6,2018,"January 2018","Library","6.000 X 9.000"," "," ",null,null,null,null,null,null,"Years 14 - 17","Grade 10 - 12","Grade 9 - 12","First introduced more than 40 years ago, the Opposing Viewpoints series still sets the standard for current-issue studies. With nearly 300 volumes covering nearly every controversial contemporary topic, Opposing Viewpoints is the leading source of current-issue materials for libraries and classrooms. Each book delivers pro/con expert opinions selected from highly respected and often hard to find sources and publications.\r\n\"This series is valuable in its presenting both sides of numerous arguments on often highly controversial topic. . . Topical volumes of interest to patrons are invaluable additions to any young adult, public, or undergraduate library collection where teenagers, college students, or others are seeking a single book that has information on a controversial topic.\" AMERICAN REFERENCE BOOKS ANNUAL","English",292.8,234.24,null,"224 pp.",{"$f":"Table1[[#This Row],['# of Books]]*Table1[[#This Row],[QTY]]","v":0},{"$f":"Table1[[#This Row],[QTY]]*Table1[[#This Row],[School & Library Price]]","v":0}]
[null,6,null,"Current Issues","Opposing Viewpoints (Jan '18 Set)","Opposing Viewpoints (Jan '18 Set)","978-1-5345-0272-7","Greenhaven Publishing","Single Copy Set",6,2018,"January 2018","Paperback","6.000 X 9.000"," "," ",null,null,null,null,null,null,"Years 14 - 17","Grade 10 - 12","Grade 9 - 12","First introduced more than 40 years ago, the Opposing Viewpoints series still sets the standard for current-issue studies. With nearly 300 volumes covering nearly every controversial contemporary topic, Opposing Viewpoints is the leading source of current-issue materials for libraries and classrooms. Each book delivers pro/con expert opinions selected from highly respected and often hard to find sources and publications.\r\n\"This series is valuable in its presenting both sides of numerous arguments on often highly controversial topic. . . Topical volumes of interest to patrons are invaluable additions to any young adult, public, or undergraduate library collection where teenagers, college students, or others are seeking a single book that has information on a controversial topic.\" AMERICAN REFERENCE BOOKS ANNUAL","English",202.8,162.24,null,"224 pp.",{"$f":"Table1[[#This Row],['# of Books]]*Table1[[#This Row],[QTY]]","v":0},{"$f":"Table1[[#This Row],[QTY]]*Table1[[#This Row],[School & Library Price]]","v":0}]
[null,6,null,"Current Issues","Opposing Viewpoints","Big Pharma and Drug Pricing","978-1-5345-0176-8","Greenhaven Publishing","Library Bound Book",1,2018,"January 2018","Library","6.000 X 9.000","Edited by","Pete Schauer",null,null,null,null,"Z",null,"Years 14 - 17","Grade 10 - 12","Grade 9 - 12","Americans pay among the highest prices for prescription drugs, thanks to government legislation and the powerful pharmaceutical lobbies. The effect has been disastrous, with many citizens obtaining cheaper medicine from Canada, and others forgoing it altogether at the risk of their health. These crippling prices are set by \"big pharma,\" at the insistence of those who support free trade. Consumers call the pharmaceutical companies greedy and selfish, but these companies also enact change, through scientific research, curing of diseases, and community outreach. What is the answer to this complex issue? Readers will learn about the conflicts and potential solutions in this compelling volume.","English",48.8,39.04,null,"224 pp.",{"$f":"Table1[[#This Row],['# of Books]]*Table1[[#This Row],[QTY]]","v":0},{"$f":"Table1[[#This Row],[QTY]]*Table1[[#This Row],[School & Library Price]]","v":0}]
[null,6,null,"Current Issues","Opposing Viewpoints","Big Pharma and Drug Pricing","978-1-5345-0182-9","Greenhaven Publishing","Paperback Book",1,2018,"January 2018","Paperback","6.000 X 9.000","Edited by","Pete Schauer",null,null,null,null,"Z",null,"Years 14 - 17","Grade 10 - 12","Grade 9 - 12","Americans pay among the highest prices for prescription drugs, thanks to government legislation and the powerful pharmaceutical lobbies. The effect has been disastrous, with many citizens obtaining cheaper medicine from Canada, and others forgoing it altogether at the risk of their health. These crippling prices are set by \"big pharma,\" at the insistence of those who support free trade. Consumers call the pharmaceutical companies greedy and selfish, but these companies also enact change, through scientific research, curing of diseases, and community outreach. What is the answer to this complex issue? Readers will learn about the conflicts and potential solutions in this compelling volume.","English",33.799999999999997,27.04,null,"224 pp.",{"$f":"Table1[[#This Row],['# of Books]]*Table1[[#This Row],[QTY]]","v":0},{"$f":"Table1[[#This Row],[QTY]]*Table1[[#This Row],[School & Library Price]]","v":0}]
[null,6,null,"Current Issues","Opposing Viewpoints","Hacking and Freedom of Information","978-1-5345-0178-2","Greenhaven Publishing","Library Bound Book",1,2018,"January 2018","Library","6.000 X 9.000","Edited by","Marcia Amidon Lusted",null,null,null,null,"Z",null,"Years 14 - 17","Grade 10 - 12","Grade 9 - 12","We know there are white hat hackers and black hat hackers, but what about the gray area in between? Some hackers consider themselves activists and have justified their cyberattacks on media, political figures, universities, and even governments as a search for truth. Is information indeed free in a democracy? Does uncovering secrets that the public may have a right to know justify security breaches? Are WikiLeaks and the Anonymous group providing an important service to citizens, or are they traitors? Through a progression of authoritative viewpoints, readers will learn that there are no easy answers to this debate.","English",48.8,39.04,null,"224 pp.",{"$f":"Table1[[#This Row],['# of Books]]*Table1[[#This Row],[QTY]]","v":0},{"$f":"Table1[[#This Row],[QTY]]*Table1[[#This Row],[School & Library Price]]","v":0}]
[null,6,null,"Current Issues","Opposing Viewpoints","Hacking and Freedom of Information","978-1-5345-0184-3","Greenhaven Publishing","Paperback Book",1,2018,"January 2018","Paperback","6.000 X 9.000","Edited by","Marcia Amidon Lusted",null,null,null,null,"Z",null,"Years 14 - 17","Grade 10 - 12","Grade 9 - 12","We know there are white hat hackers and black hat hackers, but what about the gray area in between? Some hackers consider themselves activists and have justified their cyberattacks on media, political figures, universities, and even governments as a search for truth. Is information indeed free in a democracy? Does uncovering secrets that the public may have a right to know justify security breaches? Are WikiLeaks and the Anonymous group providing an important service to citizens, or are they traitors? Through a progression of authoritative viewpoints, readers will learn that there are no easy answers to this debate.","English",33.799999999999997,27.04,null,"224 pp.",{"$f":"Table1[[#This Row],['# of Books]]*Table1[[#This Row],[QTY]]","v":0},{"$f":"Table1[[#This Row],[QTY]]*Table1[[#This Row],[School & Library Price]]","v":0}]
[null,6,null,"Current Issues","Opposing Viewpoints","Identity Politics","978-1-5345-0174-4","Greenhaven Publishing","Library Bound Book",1,2018,"January 2018","Library","6.000 X 9.000","Edited by","Elizabeth Schmermund",null,null,null,null,"Z",null,"Years 14 - 17","Grade 10 - 12","Grade 9 - 12","In an age of divisiveness, perhaps more than America has seen in decades, identity politics has taken its share of the blame. Those who have cheered on progressive ideology often write off detractors as racists, homophobes, and misogynists. And those who rail against political correctness often feel their own voices are not being heard or, worse, are being censored. Do identity politics come at a cost to national empathy and unity? Or do they reflect and address legitimate discrimination? Through multiple perspectives, readers will learn why this topic has become a hot button issue.","English",48.8,39.04,null,"224 pp.",{"$f":"Table1[[#This Row],['# of Books]]*Table1[[#This Row],[QTY]]","v":0},{"$f":"Table1[[#This Row],[QTY]]*Table1[[#This Row],[School & Library Price]]","v":0}]
[null,6,null,"Current Issues","Opposing Viewpoints","Identity Politics","978-1-5345-0180-5","Greenhaven Publishing","Paperback Book",1,2018,"January 2018","Paperback","6.000 X 9.000","Edited by","Elizabeth Schmermund",null,null,null,null,"Z",null,"Years 14 - 17","Grade 10 - 12","Grade 9 - 12","In an age of divisiveness, perhaps more than America has seen in decades, identity politics has taken its share of the blame. Those who have cheered on progressive ideology often write off detractors as racists, homophobes, and misogynists. And those who rail against political correctness often feel their own voices are not being heard or, worse, are being censored. Do identity politics come at a cost to national empathy and unity? Or do they reflect and address legitimate discrimination? Through multiple perspectives, readers will learn why this topic has become a hot button issue.","English",33.799999999999997,27.04,null,"224 pp.",{"$f":"Table1[[#This Row],['# of Books]]*Table1[[#This Row],[QTY]]","v":0},{"$f":"Table1[[#This Row],[QTY]]*Table1[[#This Row],[School & Library Price]]","v":0}]
[null,6,null,"Current Issues","Opposing Viewpoints","Online Filter Bubbles","978-1-5345-0175-1","Greenhaven Publishing","Library Bound Book",1,2018,"January 2018","Library","6.000 X 9.000","Edited by","Paula Johanson",null,null,null,null,"Z",null,"Years 14 - 17","Grade 10 - 12","Grade 9 - 12","Every time we check our feeds we create safety bubbles around ourselves. Thanks to technological algorithms, we are living an increasingly narrow existence, one in which the news we read, the products we purchase, and the people we interact with are tailor-made for each of us. We might feel informed and comfortable, but we are isolating ourselves from anything outside our bubble. Are online filters just an efficient way to connect, or do they spell the end of democracy? Anyone who has read this book will understand the potential dangers of a society whose assumptions are never challenged.","English",48.8,39.04,null,"224 pp.",{"$f":"Table1[[#This Row],['# of Books]]*Table1[[#This Row],[QTY]]","v":0},{"$f":"Table1[[#This Row],[QTY]]*Table1[[#This Row],[School & Library Price]]","v":0}]
[null,6,null,"Current Issues","Opposing Viewpoints","Online Filter Bubbles","978-1-5345-0181-2","Greenhaven Publishing","Paperback Book",1,2018,"January 2018","Paperback","6.000 X 9.000","Edited by","Paula Johanson",null,null,null,null,"Z",null,"Years 14 - 17","Grade 10 - 12","Grade 9 - 12","Every time we check our feeds we create safety bubbles around ourselves. Thanks to technological algorithms, we are living an increasingly narrow existence, one in which the news we read, the products we purchase, and the people we interact with are tailor-made for each of us. We might feel informed and comfortable, but we are isolating ourselves from anything outside our bubble. Are online filters just an efficient way to connect, or do they spell the end of democracy? Anyone who has read this book will understand the potential dangers of a society whose assumptions are never challenged.","English",33.799999999999997,27.04,null,"224 pp.",{"$f":"Table1[[#This Row],['# of Books]]*Table1[[#This Row],[QTY]]","v":0},{"$f":"Table1[[#This Row],[QTY]]*Table1[[#This Row],[School & Library Price]]","v":0}]
[null,6,null,"Current Issues","Opposing Viewpoints","The Fifth Estate: Extreme Viewpoints from Alternative Media","978-1-5345-0177-5","Greenhaven Publishing","Library Bound Book",1,2018,"January 2018","Library","6.000 X 9.000","Edited by","Kathryn Roberts",null,null,null,null,"Z",null,"Years 14 - 17","Grade 10 - 12","Grade 9 - 12","The influence of what is known as The Fifth Estate, which is viewpoints and journalism generated outside of the mainstream press, has risen thanks to the emergence of blogs and social media. How effective are these alternate sources in raising public consciousness, changing government policy, and stirring grassroots movements? Are they held to the same standards as mainstream journalism? In this age of fake news, WikiLeaks, and the president's so-called war on the press, readers will find the varied and provocative viewpoints that are explained in this book incredibly relevant and enlightening.","English",48.8,39.04,null,"224 pp.",{"$f":"Table1[[#This Row],['# of Books]]*Table1[[#This Row],[QTY]]","v":0},{"$f":"Table1[[#This Row],[QTY]]*Table1[[#This Row],[School & Library Price]]","v":0}]
[null,6,null,"Current Issues","Opposing Viewpoints","The Fifth Estate: Extreme Viewpoints from Alternative Media","978-1-5345-0183-6","Greenhaven Publishing","Paperback Book",1,2018,"January 2018","Paperback","6.000 X 9.000","Edited by","Kathryn Roberts",null,null,null,null,"Z",null,"Years 14 - 17","Grade 10 - 12","Grade 9 - 12","The influence of what is known as The Fifth Estate, which is viewpoints and journalism generated outside of the mainstream press, has risen thanks to the emergence of blogs and social media. How effective are these alternate sources in raising public consciousness, changing government policy, and stirring grassroots movements? Are they held to the same standards as mainstream journalism? In this age of fake news, WikiLeaks, and the president's so-called war on the press, readers will find the varied and provocative viewpoints that are explained in this book incredibly relevant and enlightening.","English",33.799999999999997,27.04,null,"224 pp.",{"$f":"Table1[[#This Row],['# of Books]]*Table1[[#This Row],[QTY]]","v":0},{"$f":"Table1[[#This Row],[QTY]]*Table1[[#This Row],[School & Library Price]]","v":0}]
[null,6,null,"Current Issues","Opposing Viewpoints","Western Democracy at Risk","978-1-5345-0173-7","Greenhaven Publishing","Library Bound Book",1,2018,"January 2018","Library","6.000 X 9.000","Edited by","Avery Elizabeth Hurt",null,null,null,null,"Z",null,"Years 14 - 17","Grade 10 - 12","Grade 9 - 12","America's founding principles have long been held up as model of success to the rest of the world. Somewhat suddenly however, these principals don't seem as solid as they once did. Globalization has created economic growth, but has also widened the gap between rich and poor. A rising conflict between multiculturalism and nationalism has fragmented western populations and caused a surge of nativism. Fake news and filters undermine free speech and a free press. Political parties have fragmented, and election tampering is a valid concern. The viewpoints in this resource address the current state of western democracy.","English",48.8,39.04,null,"224 pp.",{"$f":"Table1[[#This Row],['# of Books]]*Table1[[#This Row],[QTY]]","v":0},{"$f":"Table1[[#This Row],[QTY]]*Table1[[#This Row],[School & Library Price]]","v":0}]
[null,6,null,"Current Issues","Opposing Viewpoints","Western Democracy at Risk","978-1-5345-0179-9","Greenhaven Publishing","Paperback Book",1,2018,"January 2018","Paperback","6.000 X 9.000","Edited by","Avery Elizabeth Hurt",null,null,null,null,"Z",null,"Years 14 - 17","Grade 10 - 12","Grade 9 - 12","America's founding principles have long been held up as model of success to the rest of the world. Somewhat suddenly however, these principals don't seem as solid as they once did. Globalization has created economic growth, but has also widened the gap between rich and poor. A rising conflict between multiculturalism and nationalism has fragmented western populations and caused a surge of nativism. Fake news and filters undermine free speech and a free press. Political parties have fragmented, and election tampering is a valid concern. The viewpoints in this resource address the current state of western democracy.","English",33.799999999999997,27.04,null,"224 pp.",{"$f":"Table1[[#This Row],['# of Books]]*Table1[[#This Row],[QTY]]","v":0},{"$f":"Table1[[#This Row],[QTY]]*Table1[[#This Row],[School & Library Price]]","v":0}]
[null,6,null,"Current Issues","Opposing Viewpoints (Aug '17 Set)","Opposing Viewpoints (Aug '17 Set)","978-1-5345-0171-3","Greenhaven Publishing","Library Set",6,"2018","August 2017","Library","6.000 X 9.000"," "," ",null,null,null,null,null,null,"Years 14 - 17","Grade 10 - 12","Grade 9 - 12","First introduced more than 40 years ago, Opposing Viewpoints still sets the standard for current-issue studies. With nearly 300 volumes covering nearly every controversial contemporary topic, Opposing Viewpoints is the leading source of current-issue materials for libraries and classrooms. Each title delivers pro/con expert opinions selected from highly respected and often hard to find sources and publications.","English",292.8,234.24,null,"224 pp.",{"$f":"Table1[[#This Row],['# of Books]]*Table1[[#This Row],[QTY]]","v":0},{"$f":"Table1[[#This Row],[QTY]]*Table1[[#This Row],[School & Library Price]]","v":0}]
[null,6,null,"Current Issues","Opposing Viewpoints (Aug '17 Set)","Opposing Viewpoints (Aug '17 Set)","978-1-5345-0172-0","Greenhaven Publishing","Single Copy Set",6,"2018","August 2017","Paperback","6.000 X 9.000"," "," ",null,null,null,null,null,null,"Years 14 - 17","Grade 10 - 12","Grade 9 - 12","First introduced more than 40 years ago, Opposing Viewpoints still sets the standard for current-issue studies. With nearly 300 volumes covering nearly every controversial contemporary topic, Opposing Viewpoints is the leading source of current-issue materials for libraries and classrooms. Each title delivers pro/con expert opinions selected from highly respected and often hard to find sources and publications.","English",202.8,162.24,null,"224 pp.",{"$f":"Table1[[#This Row],['# of Books]]*Table1[[#This Row],[QTY]]","v":0},{"$f":"Table1[[#This Row],[QTY]]*Table1[[#This Row],[School & Library Price]]","v":0}]
[null,6,null,"Current Issues","Opposing Viewpoints","Corporate Farming","978-1-5345-0051-8","Greenhaven Publishing","Library Bound Book",1,"2018","August 2017","Library","6.000 X 9.000","Edited by","Avery Elizabeth Hurt",null,null,null,null,"Z",null,"Years 14 - 17","Grade 10 - 12","Grade 9 - 12","Corporate farms have solved so many of the world’s problems. In addition to making healthy food accessible and affordable to more people, they provide jobs in communities that sorely need them. But do corporations have too much power over food? Do they benefit from unfair tax breaks? Are their profit-driven practices hurting the environment, perhaps irreparably? And what does their success mean for the family farmer? This thought-provoking volume tackles these t","English",48.8,39.04,"338.1--dc23","208 pp.",{"$f":"Table1[[#This Row],['# of Books]]*Table1[[#This Row],[QTY]]","v":0},{"$f":"Table1[[#This Row],[QTY]]*Table1[[#This Row],[School & Library Price]]","v":0}]
[null,6,null,"Current Issues","Opposing Viewpoints","Corporate Farming","978-1-5345-0049-5","Greenhaven Publishing","Paperback Book",1,"2018","August 2017","Paperback","6.000 X 9.000","Edited by","Avery Elizabeth Hurt",null,null,null,null,"Z",null,"Years 14 - 17","Grade 10 - 12","Grade 9 - 12","Corporate farms have solved so many of the world’s problems. In addition to making healthy food accessible and affordable to more people, they provide jobs in communities that sorely need them. But do corporations have too much power over food? Do they benefit from unfair tax breaks? Are their profit-driven practices hurting the environment, perhaps irreparably? And what does their success mean for the family farmer? This thought-provoking volume tackles these t","English",33.799999999999997,27.04,"338.1--dc23","208 pp.",{"$f":"Table1[[#This Row],['# of Books]]*Table1[[#This Row],[QTY]]","v":0},{"$f":"Table1[[#This Row],[QTY]]*Table1[[#This Row],[School & Library Price]]","v":0}]
[null,6,null,"Current Issues","Opposing Viewpoints","Immigration Bans","978-1-5345-0059-4","Greenhaven Publishing","Library Bound Book",1,"2018","August 2017","Library","6.000 X 9.000","Edited by","Elizabeth Schmermund",null,null,null,null,"Z",null,"Years 14 - 17","Grade 10 - 12","Grade 9 - 12","Recent world events have brought the issue of immigration to the forefront of media and journalism, cultural debates, and political campaigns. Calls for regulation are criticized as racist and xenophobic by some and deemed necessary by others. This resource addresses important questions surrounding the issue: How do immigration bans affect different groups? How can nations reconcile humanitarian and security concerns for refugees? How much of the nation’s economy depends on immigrant labor? And finally, do increased border controls and deportations actually work?","English",48.8,39.04,"325.73--dc23","232 pp.",{"$f":"Table1[[#This Row],['# of Books]]*Table1[[#This Row],[QTY]]","v":0},{"$f":"Table1[[#This Row],[QTY]]*Table1[[#This Row],[School & Library Price]]","v":0}]
[null,6,null,"Current Issues","Opposing Viewpoints","Immigration Bans","978-1-5345-0057-0","Greenhaven Publishing","Paperback Book",1,"2018","August 2017","Paperback","6.000 X 9.000","Edited by","Elizabeth Schmermund",null,null,null,null,"Z",null,"Years 14 - 17","Grade 10 - 12","Grade 9 - 12","Recent world events have brought the issue of immigration to the forefront of media and journalism, cultural debates, and political campaigns. Calls for regulation are criticized as racist and xenophobic by some and deemed necessary by others. This resource addresses important questions surrounding the issue: How do immigration bans affect different groups? How can nations reconcile humanitarian and security concerns for refugees? How much of the nation’s economy depends on immigrant labor? And finally, do increased border controls and deportations actually work?","English",33.799999999999997,27.04,"325.73--dc23","232 pp.",{"$f":"Table1[[#This Row],['# of Books]]*Table1[[#This Row],[QTY]]","v":0},{"$f":"Table1[[#This Row],[QTY]]*Table1[[#This Row],[School & Library Price]]","v":0}]
[null,6,null,"Current Issues","Opposing Viewpoints","Mass Incarceration","978-1-5345-0045-7","Greenhaven Publishing","Library Bound Book",1,"2018","August 2017","Library","6.000 X 9.000","Edited by","Rebecca Aldridge",null,null,null,null,"Z",null,"Years 14 - 17","Grade 10 - 12","Grade 9 - 12","The number of Americans who live behind bars has increased by 550 percent over the last 40 years. This has been the result of aggressive tough-on-crime legislation that had more harmful effects than lawmakers could have foreseen. Experts now see the problem but disagree on the solutions. Does incarceration limit crime, or does it simply feed into a cycle of problems that harm society and create a criminal class? Are sentences and rehabilitation programs that avoid prison time effective? This compelling volume tackles tough questions from many different angles.","English",48.8,39.04,"365'.973--dc23","296 pp.",{"$f":"Table1[[#This Row],['# of Books]]*Table1[[#This Row],[QTY]]","v":0},{"$f":"Table1[[#This Row],[QTY]]*Table1[[#This Row],[School & Library Price]]","v":0}]
[null,6,null,"Current Issues","Opposing Viewpoints","Mass Incarceration","978-1-5345-0043-3","Greenhaven Publishing","Paperback Book",1,"2018","August 2017","Paperback","6.000 X 9.000","Edited by","Rebecca Aldridge",null,null,null,null,"Z",null,"Years 14 - 17","Grade 10 - 12","Grade 9 - 12","The number of Americans who live behind bars has increased by 550 percent over the last 40 years. This has been the result of aggressive tough-on-crime legislation that had more harmful effects than lawmakers could have foreseen. Experts now see the problem but disagree on the solutions. Does incarceration limit crime, or does it simply feed into a cycle of problems that harm society and create a criminal class? Are sentences and rehabilitation programs that avoid prison time effective? This compelling volume tackles tough questions from many different angles.","English",33.799999999999997,27.04,"365'.973--dc23","296 pp.",{"$f":"Table1[[#This Row],['# of Books]]*Table1[[#This Row],[QTY]]","v":0},{"$f":"Table1[[#This Row],[QTY]]*Table1[[#This Row],[School & Library Price]]","v":0}]
[null,6,null,"Current Issues","Opposing Viewpoints","The Politics of Water Scarcity","978-1-5345-0054-9","Greenhaven Publishing","Library Bound Book",1,"2018","August 2017","Library","6.000 X 9.000","Edited by","Susan Nichols",null,null,null,null,"Z",null,"Years 14 - 17","Grade 10 - 12","Grade 9 - 12","Clean water is something we take for granted. It’s there when we turn on our taps to fill a glass, take a shower, or wash our hands. But for many of the world’s citizens, water is a precious commodity. Many don’t have access to clean water. Others must use the same water for drinking, cooking, and cleaning. Is access to clean water a human right? Should water be provided by governments or private entities? Will water become a commodity of the rich? And how are our environmental practices affecting the world’s supply of water?","English",48.8,39.04,"333.91'16--dc23","192 pp.",{"$f":"Table1[[#This Row],['# of Books]]*Table1[[#This Row],[QTY]]","v":0},{"$f":"Table1[[#This Row],[QTY]]*Table1[[#This Row],[School & Library Price]]","v":0}]
[null,6,null,"Current Issues","Opposing Viewpoints","The Politics of Water Scarcity","978-1-5345-0052-5","Greenhaven Publishing","Paperback Book",1,"2018","August 2017","Paperback","6.000 X 9.000","Edited by","Susan Nichols",null,null,null,null,"Z",null,"Years 14 - 17","Grade 10 - 12","Grade 9 - 12","Clean water is something we take for granted. It’s there when we turn on our taps to fill a glass, take a shower, or wash our hands. But for many of the world’s citizens, water is a precious commodity. Many don’t have access to clean water. Others must use the same water for drinking, cooking, and cleaning. Is access to clean water a human right? Should water be provided by governments or private entities? Will water become a commodity of the rich? And how are our environmental practices affecting the world’s supply of water?","English",33.799999999999997,27.04,"333.91'16--dc23","192 pp.",{"$f":"Table1[[#This Row],['# of Books]]*Table1[[#This Row],[QTY]]","v":0},{"$f":"Table1[[#This Row],[QTY]]*Table1[[#This Row],[School & Library Price]]","v":0}]
[null,6,null,"Current Issues","Opposing Viewpoints","Uber, Lyft, Airbnb, and the Sharing Economy","978-1-5345-0048-8","Greenhaven Publishing","Library Bound Book",1,"2018","August 2017","Library","6.000 X 9.000","Edited by","Rachel Bozek",null,null,null,null,"Z",null,"Years 14 - 17","Grade 10 - 12","Grade 9 - 12","Something remarkable emerged as a result of the Great Recession of the early twenty-first century: a sharing economy. Among the loss of jobs and mortgages and uncertainty about the future, people got creative with the way they earned—and spent—their money. Democratic platforms like Uber and Airbnb have skyrocketed in popularity, prompting tighter government regulations. But are they the answer to an economy increasingly controlled by giant corporations? Or are they just a different way for people to profit from and exploit struggling workers? Learn more from viewpoints written by today’s experts.","English",48.8,39.04,"339.4'7--dc23","208 pp.",{"$f":"Table1[[#This Row],['# of Books]]*Table1[[#This Row],[QTY]]","v":0},{"$f":"Table1[[#This Row],[QTY]]*Table1[[#This Row],[School & Library Price]]","v":0}]
[null,6,null,"Current Issues","Opposing Viewpoints","Uber, Lyft, Airbnb, and the Sharing Economy","978-1-5345-0046-4","Greenhaven Publishing","Paperback Book",1,"2018","August 2017","Paperback","6.000 X 9.000","Edited by","Rachel Bozek",null,null,null,null,"Z",null,"Years 14 - 17","Grade 10 - 12","Grade 9 - 12","Something remarkable emerged as a result of the Great Recession of the early twenty-first century: a sharing economy. Among the loss of jobs and mortgages and uncertainty about the future, people got creative with the way they earned—and spent—their money. Democratic platforms like Uber and Airbnb have skyrocketed in popularity, prompting tighter government regulations. But are they the answer to an economy increasingly controlled by giant corporations? Or are they just a different way for people to profit from and exploit struggling workers? Learn more from viewpoints written by today’s experts.","English",33.799999999999997,27.04,"339.4'7--dc23","208 pp.",{"$f":"Table1[[#This Row],['# of Books]]*Table1[[#This Row],[QTY]]","v":0},{"$f":"Table1[[#This Row],[QTY]]*Table1[[#This Row],[School & Library Price]]","v":0}]
[null,6,null,"Current Issues","Opposing Viewpoints","Violent Video Games and Society","978-1-5345-0072-3","Greenhaven Publishing","Library Bound Book",1,"2018","August 2017","Library","6.000 X 9.000","Edited by","Gloria G. Adams",null,null,null,null,"Z",null,"Years 14 - 17","Grade 10 - 12","Grade 9 - 12","The video game industry is big business, and with the improvement of Virtual Reality technology, video games will only become more realistic and immersive. Fears abound that they drive their players to commit violent acts. While many people believe the games desensitize kids to violence, others argue that there has been no scientific connection between aggressive behavior and video games. Is immersion in violent video games a bridge to committing real-life acts of violence, demeaning women, and bullying? Or can video games actually help troubled kids, by providing them with a safe outlet for their aggression and a way to work out their frustrations?","English",48.8,39.04,null,"192 pp.",{"$f":"Table1[[#This Row],['# of Books]]*Table1[[#This Row],[QTY]]","v":0},{"$f":"Table1[[#This Row],[QTY]]*Table1[[#This Row],[School & Library Price]]","v":0}]
[null,6,null,"Current Issues","Opposing Viewpoints","Violent Video Games and Society","978-1-5345-0055-6","Greenhaven Publishing","Paperback Book",1,"2018","August 2017","Paperback","6.000 X 9.000","Edited by","Gloria G. Adams",null,null,null,null,"Z",null,"Years 14 - 17","Grade 10 - 12","Grade 9 - 12","The video game industry is big business, and with the improvement of Virtual Reality technology, video games will only become more realistic and immersive. Fears abound that they drive their players to commit violent acts. While many people believe the games desensitize kids to violence, others argue that there has been no scientific connection between aggressive behavior and video games. Is immersion in violent video games a bridge to committing real-life acts of violence, demeaning women, and bullying? Or can video games actually help troubled kids, by providing them with a safe outlet for their aggression and a way to work out their frustrations?","English",33.799999999999997,27.04,null,"192 pp.",{"$f":"Table1[[#This Row],['# of Books]]*Table1[[#This Row],[QTY]]","v":0},{"$f":"Table1[[#This Row],[QTY]]*Table1[[#This Row],[School & Library Price]]","v":0}]
[null,6,null,"Current Issues","Opposing Viewpoints (Jan '17 Set)","Opposing Viewpoints (Jan '17 Set)","978-1-5345-0003-7","Greenhaven Publishing","Library Set",6,2017,"January 2017","Library Bound","6.000 X 9.000"," "," ",null,null,null,null,null,null,"Years 14 - 17",null,"Grade 9 - 12","First introduced more than forty years ago, Opposing Viewpoints still sets the standard for current-issue studies. Covering nearly every controversial contemporary topic, Opposing Viewpoints is the leading source of current-issue materials for libraries and classrooms. Each title delivers pro/con expert opinions, selected from highly respected and often hard-to-find sources and publications.","English",292.8,234.24,null,"224 pp.",{"$f":"Table1[[#This Row],['# of Books]]*Table1[[#This Row],[QTY]]","v":0},{"$f":"Table1[[#This Row],[QTY]]*Table1[[#This Row],[School & Library Price]]","v":0}]
[null,6,null,"Current Issues","Opposing Viewpoints (Jan '17 Set)","Opposing Viewpoints (Jan '17 Set)","978-1-5345-0005-1","Greenhaven Publishing","Single Copy Set",6,2017,"January 2017","Paperback","6.000 X 9.000"," "," ",null,null,null,null,null,null,"Years 14 - 17",null,"Grade 9 - 12","First introduced more than forty years ago, Opposing Viewpoints still sets the standard for current-issue studies. Covering nearly every controversial contemporary topic, Opposing Viewpoints is the leading source of current-issue materials for libraries and classrooms. Each title delivers pro/con expert opinions, selected from highly respected and often hard-to-find sources and publications.","English",202.8,162.24,null,"224 pp.",{"$f":"Table1[[#This Row],['# of Books]]*Table1[[#This Row],[QTY]]","v":0},{"$f":"Table1[[#This Row],[QTY]]*Table1[[#This Row],[School & Library Price]]","v":0}]
[null,6,null,"Current Issues","Opposing Viewpoints","Artificial Intelligence and the Technological Singularity","978-1-5345-0027-3","Greenhaven Publishing","Library Bound Book",1,2017,"January 2017","Library Bound","6.000 X 9.000","Editor","Anne Cunningham",null,null,null,null,"Z",null,"Years 14 - 17",null,"Grade 9 - 12","Will machines take over the world one day? Will they have human emotions? Will they be our friends or foes? Will they make our lives easier or will they wipe out the human labor force? Readers will come to their own conclusions after reading articles from leading experts forecasting how robots and machines will be integrated into our world, as well as their warnings about how it could all go horribly wrong. Aside from the obvious benefits, the development of artificial intelligence brings up a host of ethical considerations, which are being debated by the world’s technology leaders before it’s too late.","English",48.8,39.04,null,"224 pp.",{"$f":"Table1[[#This Row],['# of Books]]*Table1[[#This Row],[QTY]]","v":0},{"$f":"Table1[[#This Row],[QTY]]*Table1[[#This Row],[School & Library Price]]","v":0}]
[null,6,null,"Current Issues","Opposing Viewpoints","Artificial Intelligence and the Technological Singularity","978-1-5345-0029-7","Greenhaven Publishing","Paperback Book",1,2017,"January 2017","Paperback","6.000 X 9.000","Editor","Anne Cunningham",null,null,null,null,"Z",null,"Years 14 - 17",null,"Grade 9 - 12","Will machines take over the world one day? Will they have human emotions? Will they be our friends or foes? Will they make our lives easier or will they wipe out the human labor force? Readers will come to their own conclusions after reading articles from leading experts forecasting how robots and machines will be integrated into our world, as well as their warnings about how it could all go horribly wrong. Aside from the obvious benefits, the development of artificial intelligence brings up a host of ethical considerations, which are being debated by the world’s technology leaders before it’s too late.","English",33.799999999999997,27.04,null,"224 pp.",{"$f":"Table1[[#This Row],['# of Books]]*Table1[[#This Row],[QTY]]","v":0},{"$f":"Table1[[#This Row],[QTY]]*Table1[[#This Row],[School & Library Price]]","v":0}]
[null,6,null,"Current Issues","Opposing Viewpoints","Public Shaming","978-1-5345-0023-5","Greenhaven Publishing","Library Bound Book",1,2017,"January 2017","Library Bound","6.000 X 9.000","Editor","Anne Cunningham",null,null,null,null,"Z",null,"Years 14 - 17",null,"Grade 9 - 12","Embarrassing others to correct their behavior is nothing new—stockades and tarring and feathering were favored methods in colonial America, after all. But today, individuals and the media can point out egregious behavior via social media and reach a wide audience. There are countless examples of people who have lost their jobs and received physical threats because of shaming that went viral. Did the punishment fit the crime? Through a multitude of viewpoints and examples, readers will examine the value of public shaming: Is it an effective disciplinary tool or simply a way for people to feel morally superior?","English",48.8,39.04,null,"224 pp.",{"$f":"Table1[[#This Row],['# of Books]]*Table1[[#This Row],[QTY]]","v":0},{"$f":"Table1[[#This Row],[QTY]]*Table1[[#This Row],[School & Library Price]]","v":0}]
[null,6,null,"Current Issues","Opposing Viewpoints","Public Shaming","978-1-5345-0033-4","Greenhaven Publishing","Paperback Book",1,2017,"January 2017","Paperback","6.000 X 9.000","Editor","Anne Cunningham",null,null,null,null,"Z",null,"Years 14 - 17",null,"Grade 9 - 12","Embarrassing others to correct their behavior is nothing new—stockades and tarring and feathering were favored methods in colonial America, after all. But today, individuals and the media can point out egregious behavior via social media and reach a wide audience. There are countless examples of people who have lost their jobs and received physical threats because of shaming that went viral. Did the punishment fit the crime? Through a multitude of viewpoints and examples, readers will examine the value of public shaming: Is it an effective disciplinary tool or simply a way for people to feel morally superior?","English",33.799999999999997,27.04,null,"224 pp.",{"$f":"Table1[[#This Row],['# of Books]]*Table1[[#This Row],[QTY]]","v":0},{"$f":"Table1[[#This Row],[QTY]]*Table1[[#This Row],[School & Library Price]]","v":0}]
[null,6,null,"Current Issues","Opposing Viewpoints","Race in America","978-1-5345-0022-8","Greenhaven Publishing","Library Bound Book",1,2017,"January 2017","Library Bound","6.000 X 9.000","Editor","Susan Henneberg",null,null,null,null,"Z",null,"Years 14 - 17",null,"Grade 9 - 12","Many Americans believe they’re living in a post-racial society, pointing to the election of Barack Obama to the presidency as evidence. Others believe that, despite the advances achieved by the civil rights movement, people of color are treated as second-class citizens. Is race overemphasized in America? Have government programs and policies done enough to level the playing field? Can the United States, a country that lives by the credo that all men are created equal, ever overcome its legacy of racism? Readers of this multifaceted anthology will be given the tools to form their own opinions about these complex issues.","English",48.8,39.04,null,"224 pp.",{"$f":"Table1[[#This Row],['# of Books]]*Table1[[#This Row],[QTY]]","v":0},{"$f":"Table1[[#This Row],[QTY]]*Table1[[#This Row],[School & Library Price]]","v":0}]
[null,6,null,"Current Issues","Opposing Viewpoints","Race in America","978-1-5345-0028-0","Greenhaven Publishing","Paperback Book",1,2017,"January 2017","Paperback","6.000 X 9.000","Editor","Susan Henneberg",null,null,null,null,"Z",null,"Years 14 - 17",null,"Grade 9 - 12","Many Americans believe they’re living in a post-racial society, pointing to the election of Barack Obama to the presidency as evidence. Others believe that, despite the advances achieved by the civil rights movement, people of color are treated as second-class citizens. Is race overemphasized in America? Have government programs and policies done enough to level the playing field? Can the United States, a country that lives by the credo that all men are created equal, ever overcome its legacy of racism? Readers of this multifaceted anthology will be given the tools to form their own opinions about these complex issues.","English",33.799999999999997,27.04,null,"224 pp.",{"$f":"Table1[[#This Row],['# of Books]]*Table1[[#This Row],[QTY]]","v":0},{"$f":"Table1[[#This Row],[QTY]]*Table1[[#This Row],[School & Library Price]]","v":0}]
[null,6,null,"Current Issues","Opposing Viewpoints","Reparations","978-1-5345-0025-9","Greenhaven Publishing","Library Bound Book",1,2017,"January 2017","Library Bound","6.000 X 9.000","Editor","Anne Cunningham",null,null,null,null,"Z",null,"Years 14 - 17",null,"Grade 9 - 12","Should descendants of slaves be compensated for the suffering their ancestors endured? Should the losing side in a war be forced to pay the victor? When modern-day states confront long-ago atrocities, is acknowledgement and an apology enough? This fascinating examination of reparations offers opinions by leading experts on such past injustices as the Holocaust, the slave trade, the Armenian genocide, the forced relocation of Native Americans, and the Imperial Japanese Army’s comfort women. An asset to any library, Reparations takes on the very uncomfortable issue of how governments and individuals can reckon with sins of the past.","English",48.8,39.04,null,"224 pp.",{"$f":"Table1[[#This Row],['# of Books]]*Table1[[#This Row],[QTY]]","v":0},{"$f":"Table1[[#This Row],[QTY]]*Table1[[#This Row],[School & Library Price]]","v":0}]
[null,6,null,"Current Issues","Opposing Viewpoints","Reparations","978-1-5345-0031-0","Greenhaven Publishing","Paperback Book",1,2017,"January 2017","Paperback","6.000 X 9.000","Editor","Anne Cunningham",null,null,null,null,"Z",null,"Years 14 - 17",null,"Grade 9 - 12","Should descendants of slaves be compensated for the suffering their ancestors endured? Should the losing side in a war be forced to pay the victor? When modern-day states confront long-ago atrocities, is acknowledgement and an apology enough? This fascinating examination of reparations offers opinions by leading experts on such past injustices as the Holocaust, the slave trade, the Armenian genocide, the forced relocation of Native Americans, and the Imperial Japanese Army’s comfort women. An asset to any library, Reparations takes on the very uncomfortable issue of how governments and individuals can reckon with sins of the past.","English",33.799999999999997,27.04,null,"224 pp.",{"$f":"Table1[[#This Row],['# of Books]]*Table1[[#This Row],[QTY]]","v":0},{"$f":"Table1[[#This Row],[QTY]]*Table1[[#This Row],[School & Library Price]]","v":0}]
[null,6,null,"Current Issues","Opposing Viewpoints","Virtual Reality","978-1-5345-0026-6","Greenhaven Publishing","Library Bound Book",1,2017,"January 2017","Library Bound","6.000 X 9.000","Editor","Susan Henneberg",null,null,null,null,"Z",null,"Years 14 - 17",null,"Grade 9 - 12","Virtual reality might seem like the stuff of science fiction, but it has been in use in various forms since the 1950s. The technology is being developed for use in education, professional and military training, therapy, entertainment, and design. But is a simulated world a better world? Experts caution that virtual reality could be physically and emotionally debilitating. They predict that society could go into decline. Is this simply fear of progress, or is it something to take seriously? Readers will learn the hot-button issues associated with virtual reality and whether we should be excited or afraid of this incredible technology.","English",48.8,39.04,null,"224 pp.",{"$f":"Table1[[#This Row],['# of Books]]*Table1[[#This Row],[QTY]]","v":0},{"$f":"Table1[[#This Row],[QTY]]*Table1[[#This Row],[School & Library Price]]","v":0}]
[null,6,null,"Current Issues","Opposing Viewpoints","Virtual Reality","978-1-5345-0030-3","Greenhaven Publishing","Paperback Book",1,2017,"January 2017","Paperback","6.000 X 9.000","Editor","Susan Henneberg",null,null,null,null,"Z",null,"Years 14 - 17",null,"Grade 9 - 12","Virtual reality might seem like the stuff of science fiction, but it has been in use in various forms since the 1950s. The technology is being developed for use in education, professional and military training, therapy, entertainment, and design. But is a simulated world a better world? Experts caution that virtual reality could be physically and emotionally debilitating. They predict that society could go into decline. Is this simply fear of progress, or is it something to take seriously? Readers will learn the hot-button issues associated with virtual reality and whether we should be excited or afraid of this incredible technology.","English",33.799999999999997,27.04,null,"224 pp.",{"$f":"Table1[[#This Row],['# of Books]]*Table1[[#This Row],[QTY]]","v":0},{"$f":"Table1[[#This Row],[QTY]]*Table1[[#This Row],[School & Library Price]]","v":0}]
[null,6,null,"Current Issues","Opposing Viewpoints","The Wealth Gap","978-1-5345-0024-2","Greenhaven Publishing","Library Bound Book",1,2017,"January 2017","Library Bound","6.000 X 9.000","Editor","Susan Henneberg",null,null,null,null,"Z",null,"Years 14 - 17",null,"Grade 9 - 12","Depending on whom you ask, the gap between rich and poor in the United States is widening. Is income inequality in America a cause for concern, or is it, as some experts assert, necessary for a functioning society? What is the government’s responsibility in attaining a more equitable distribution of wealth? This well-balanced anthology tackles big questions like “Is the American dream still attainable?” and “How should income inequality be addressed?” with articles from a variety of viewpoints that will help readers understand how we got to this point, what can be done to change things, and potential effects on our future.","English",48.8,39.04,null,"224 pp.",{"$f":"Table1[[#This Row],['# of Books]]*Table1[[#This Row],[QTY]]","v":0},{"$f":"Table1[[#This Row],[QTY]]*Table1[[#This Row],[School & Library Price]]","v":0}]
[null,6,null,"Current Issues","Opposing Viewpoints","The Wealth Gap","978-1-5345-0034-1","Greenhaven Publishing","Paperback Book",1,2017,"January 2017","Paperback","6.000 X 9.000","Editor","Susan Henneberg",null,null,null,null,"Z",null,"Years 14 - 17",null,"Grade 9 - 12","Depending on whom you ask, the gap between rich and poor in the United States is widening. Is income inequality in America a cause for concern, or is it, as some experts assert, necessary for a functioning society? What is the government’s responsibility in attaining a more equitable distribution of wealth? This well-balanced anthology tackles big questions like “Is the American dream still attainable?” and “How should income inequality be addressed?” with articles from a variety of viewpoints that will help readers understand how we got to this point, what can be done to change things, and potential effects on our future.","English",33.799999999999997,27.04,null,"224 pp.",{"$f":"Table1[[#This Row],['# of Books]]*Table1[[#This Row],[QTY]]","v":0},{"$f":"Table1[[#This Row],[QTY]]*Table1[[#This Row],[School & Library Price]]","v":0}]
[null,7,null,"Current Issues","Opposing Viewpoints","Abortion","978-0-7377-6939-5","Greenhaven Publishing","Library Bound Book",1,2014,null,"Library Bound","6.000 X 9.000","Author","Noël Merino",null,null,null,null,null,null,"Years 15 - 17",null,"Grade 10 - 12","OPPOSING VIEWPOINTS: ABORTION explores issues surrounding abortion including whether abortion is immoral, how Roe v. Wade has impacted abortion, should abortion rights be restricted, and other concerns about abortion. The viewpoints are selected from a wide range of highly respected and often hard-to-find sources and publications. By choosing from such diverse sources and including both popular and unpopular views, the OPPOSING VIEWPOINTS series has adhered to its commitment to editorial objectivity. Readers are exposed to many sides of a debate, which promotes issue awareness as well as critical thinking.","English",48.8,39.04,"363","192 pp.",{"$f":"Table1[[#This Row],['# of Books]]*Table1[[#This Row],[QTY]]","v":0},{"$f":"Table1[[#This Row],[QTY]]*Table1[[#This Row],[School & Library Price]]","v":0}]
[null,7,null,"Current Issues","Opposing Viewpoints","Abortion","978-0-7377-6940-1","Greenhaven Publishing","Paperback Book",1,2014,null,"Paperback","6.000 X 9.000","Author","Noël Merino",null,null,null,null,null,null,"Years 15 - 17",null,"Grade 10 - 12","OPPOSING VIEWPOINTS: ABORTION explores issues surrounding abortion including whether abortion is immoral, how Roe v. Wade has impacted abortion, should abortion rights be restricted, and other concerns about abortion. The viewpoints are selected from a wide range of highly respected and often hard-to-find sources and publications. By choosing from such diverse sources and including both popular and unpopular views, the OPPOSING VIEWPOINTS series has adhered to its commitment to editorial objectivity. Readers are exposed to many sides of a debate, which promotes issue awareness as well as critical thinking.","English",33.799999999999898,27.039999999999921,"363","188 pp.",{"$f":"Table1[[#This Row],['# of Books]]*Table1[[#This Row],[QTY]]","v":0},{"$f":"Table1[[#This Row],[QTY]]*Table1[[#This Row],[School & Library Price]]","v":0}]
[null,7,null,"Current Issues","Opposing Viewpoints","Addiction","978-0-7377-6941-8","Greenhaven Publishing","Library Bound Book",1,2014,null,"Library Bound","6.000 X 9.000","Author","Christine Watkins",null,null,null,null,null,null,"Years 15 - 17",null,"Grade 10 - 12","This title addresses various issues related to addiction, including what some causes and sources of addiction are, how addiction can be prevented, how addictions affect relationships, and how addictions can be treated. The viewpoints are selected from a wide range of highly respected and often hard-to-find sources and publications. By choosing from such diverse sources and including both popular and unpopular views, the OPPOSING VIEWPOINTS series has adhered to its commitment to editorial objectivity. Readers are exposed to many sides of a debate, which promotes issue awareness as well as critical thinking.","English",48.8,39.04,"362","248 pp.",{"$f":"Table1[[#This Row],['# of Books]]*Table1[[#This Row],[QTY]]","v":0},{"$f":"Table1[[#This Row],[QTY]]*Table1[[#This Row],[School & Library Price]]","v":0}]
[null,7,null,"Current Issues","Opposing Viewpoints","Addiction","978-0-7377-6942-5","Greenhaven Publishing","Paperback Book",1,2014,null,"Paperback","6.000 X 9.000","Author","Christine Watkins",null,null,null,null,null,null,"Years 15 - 17",null,"Grade 10 - 12","This title addresses various issues related to addiction, including what some causes and sources of addiction are, how addiction can be prevented, how addictions affect relationships, and how addictions can be treated. The viewpoints are selected from a wide range of highly respected and often hard-to-find sources and publications. By choosing from such diverse sources and including both popular and unpopular views, the OPPOSING VIEWPOINTS series has adhered to its commitment to editorial objectivity. Readers are exposed to many sides of a debate, which promotes issue awareness as well as critical thinking.","English",33.799999999999898,27.039999999999921,"362","245 pp.",{"$f":"Table1[[#This Row],['# of Books]]*Table1[[#This Row],[QTY]]","v":0},{"$f":"Table1[[#This Row],[QTY]]*Table1[[#This Row],[School & Library Price]]","v":0}]
[null,7,null,"Current Issues","Opposing Viewpoints","Advertising","978-0-7377-4751-5","Greenhaven Publishing","Library Bound Book",1,2010,null,"Library Bound","6.000 X 9.000","Author","Roman Espejo",null,null,null,null,null,null,"Years 15 - 17",null,"Grade 10 - 12","This volume explores different perspectives on the pervasiveness and content of advertising. Chapters address the impact of sexism in advertising and cause marketing; the potential for exploitation of children; the rise in both spending and negativity in political ads and the potential for reform; and the future of advertising with the use of new outlets like the internet and product placement.","English",48.8,39.04,"659","208 pp.",{"$f":"Table1[[#This Row],['# of Books]]*Table1[[#This Row],[QTY]]","v":0},{"$f":"Table1[[#This Row],[QTY]]*Table1[[#This Row],[School & Library Price]]","v":0}]
[null,7,null,"Current Issues","Opposing Viewpoints","Advertising","978-0-7377-4752-2","Greenhaven Publishing","Paperback Book",1,2010,null,"Paperback","6.000 X 9.000","Author","Roman Espejo",null,null,null,null,null,null,"Years 15 - 17",null,"Grade 10 - 12","This volume explores different perspectives on the pervasiveness and content of advertising. Chapters address the impact of sexism in advertising and cause marketing; the potential for exploitation of children; the rise in both spending and negativity in political ads and the potential for reform; and the future of advertising with the use of new outlets like the internet and product placement.","English",33.799999999999898,27.039999999999921,"659","208 pp.",{"$f":"Table1[[#This Row],['# of Books]]*Table1[[#This Row],[QTY]]","v":0},{"$f":"Table1[[#This Row],[QTY]]*Table1[[#This Row],[School & Library Price]]","v":0}]
[null,7,null,"Current Issues","Opposing Viewpoints","Afghanistan","978-0-7377-7242-5","Greenhaven Publishing","Library Bound Book",1,2015,null,"Library Bound","6.000 X 9.000","Author"," Greenhaven Press",null,null,null,null,null,null,"Years 15 - 17",null,"Grade 10 - 12","OPPOSING VIEWPOINTS: AFGHANISTAN examines security issues in Afghanistan; issues that confront Afghan democracy; economic issues in Afghanistan; and the human rights situation in Afghanistan.","English",48.8,39.04,"958","240 pp.",{"$f":"Table1[[#This Row],['# of Books]]*Table1[[#This Row],[QTY]]","v":0},{"$f":"Table1[[#This Row],[QTY]]*Table1[[#This Row],[School & Library Price]]","v":0}]
[null,7,null,"Current Issues","Opposing Viewpoints","Afghanistan","978-0-7377-7243-2","Greenhaven Publishing","Paperback Book",1,2015,null,"Paperback","6.000 X 9.000","Author"," Greenhaven Press",null,null,null,null,null,null,"Years 15 - 17",null,"Grade 10 - 12","OPPOSING VIEWPOINTS: AFGHANISTAN examines security issues in Afghanistan; issues that confront Afghan democracy; economic issues in Afghanistan; and the human rights situation in Afghanistan.","English",33.799999999999898,27.039999999999921,"958","236 pp.",{"$f":"Table1[[#This Row],['# of Books]]*Table1[[#This Row],[QTY]]","v":0},{"$f":"Table1[[#This Row],[QTY]]*Table1[[#This Row],[School & Library Price]]","v":0}]
[null,7,null,"Current Issues","Opposing Viewpoints","Africa","978-0-7377-5703-3","Greenhaven Publishing","Library Bound Book",1,2012,null,"Library Bound","6.000 X 9.000","Author","David M. Haugen",null,null,null,null,null,null,"Years 15 - 17",null,"Grade 10 - 12",null,"English",48.8,39.04,"960","248 pp.",{"$f":"Table1[[#This Row],['# of Books]]*Table1[[#This Row],[QTY]]","v":0},{"$f":"Table1[[#This Row],[QTY]]*Table1[[#This Row],[School & Library Price]]","v":0}]
[null,7,null,"Current Issues","Opposing Viewpoints","Africa","978-0-7377-5704-0","Greenhaven Publishing","Paperback Book",1,2012,null,"Paperback","6.000 X 9.000","Author","David M. Haugen",null,null,null,null,null,null,"Years 15 - 17",null,"Grade 10 - 12",null,"English",33.799999999999898,27.039999999999921,"960","248 pp.",{"$f":"Table1[[#This Row],['# of Books]]*Table1[[#This Row],[QTY]]","v":0},{"$f":"Table1[[#This Row],[QTY]]*Table1[[#This Row],[School & Library Price]]","v":0}]
[null,7,null,"Current Issues","Opposing Viewpoints","Agricultural Subsidies","978-0-7377-4500-9","Greenhaven Publishing","Library Bound Book",1,2010,null,"Library Bound","6.000 X 9.000","Author","Noël Merino",null,null,null,null,null,null,"Years 15 - 17",null,"Grade 10 - 12",null,"English",48.8,39.04,"338","240 pp.",{"$f":"Table1[[#This Row],['# of Books]]*Table1[[#This Row],[QTY]]","v":0},{"$f":"Table1[[#This Row],[QTY]]*Table1[[#This Row],[School & Library Price]]","v":0}]
[null,7,null,"Current Issues","Opposing Viewpoints","Agricultural Subsidies","978-0-7377-4501-6","Greenhaven Publishing","Paperback Book",1,2010,null,"Paperback","6.000 X 9.000","Author","Noël Merino",null,null,null,null,null,null,"Years 15 - 17",null,"Grade 10 - 12",null,"English",33.799999999999898,27.039999999999921,"338","240 pp.",{"$f":"Table1[[#This Row],['# of Books]]*Table1[[#This Row],[QTY]]","v":0},{"$f":"Table1[[#This Row],[QTY]]*Table1[[#This Row],[School & Library Price]]","v":0}]
[null,7,null,"Current Issues","Opposing Viewpoints","AIDS","978-0-7377-5705-7","Greenhaven Publishing","Library Bound Book",1,2012,null,"Library Bound","6.000 X 9.000","Author","Roman Espejo",null,null,null,null,null,null,"Years 15 - 17",null,"Grade 10 - 12","This edition in the popular OPPOSING VIEWPOINTS series addresses the topic of AIDS. Through a balanced collection of articles from a variety of sources, the title explores the status of the global AIDS epidemic, the causes of AIDS, suggestions for controlling the spread of the AIDS virus, and the viability of various treatment options.","English",48.8,39.04,"362","208 pp.",{"$f":"Table1[[#This Row],['# of Books]]*Table1[[#This Row],[QTY]]","v":0},{"$f":"Table1[[#This Row],[QTY]]*Table1[[#This Row],[School & Library Price]]","v":0}]
[null,7,null,"Current Issues","Opposing Viewpoints","AIDS","978-0-7377-5706-4","Greenhaven Publishing","Paperback Book",1,2012,null,"Paperback","6.000 X 9.000","Author","Roman Espejo",null,null,null,null,null,null,"Years 15 - 17",null,"Grade 10 - 12","This edition in the popular OPPOSING VIEWPOINTS series addresses the topic of AIDS. Through a balanced collection of articles from a variety of sources, the title explores the status of the global AIDS epidemic, the causes of AIDS, suggestions for controlling the spread of the AIDS virus, and the viability of various treatment options.","English",33.799999999999898,27.039999999999921,"362","208 pp.",{"$f":"Table1[[#This Row],['# of Books]]*Table1[[#This Row],[QTY]]","v":0},{"$f":"Table1[[#This Row],[QTY]]*Table1[[#This Row],[School & Library Price]]","v":0}]
[null,7,null,"Current Issues","Opposing Viewpoints","Alcohol","978-0-7377-3734-9","Greenhaven Publishing","Paperback Book",1,2008,null,"Paperback","6.000 X 9.000","Author","Andrea C. Nakaya",null,null,null,null,null,null,"Years 15 - 17",null,"Grade 10 - 12",null,"English",33.799999999999898,27.039999999999921,"362.292","219 pp.",{"$f":"Table1[[#This Row],['# of Books]]*Table1[[#This Row],[QTY]]","v":0},{"$f":"Table1[[#This Row],[QTY]]*Table1[[#This Row],[School & Library Price]]","v":0}]
[null,7,null,"Current Issues","Opposing Viewpoints","Alternative Lending","978-0-7377-4753-9","Greenhaven Publishing","Library Bound Book",1,2010,null,"Library Bound","6.000 X 9.000","Author","Amanda Hiber",null,null,null,null,null,null,"Years 15 - 17",null,"Grade 10 - 12","This volume explores how alternative lending compares to traditional lending, the relative risks of both, and if traditional lending should be made more accessible. Discussions look at the benefits and costs of payday lending and peer-to-peer lending is an effective alternative, as well as the potential and limitations of global microlending for bringing borrowers out of poverty.","English",48.8,39.04,"332","208 pp.",{"$f":"Table1[[#This Row],['# of Books]]*Table1[[#This Row],[QTY]]","v":0},{"$f":"Table1[[#This Row],[QTY]]*Table1[[#This Row],[School & Library Price]]","v":0}]
[null,7,null,"Current Issues","Opposing Viewpoints","Alternative Lending","978-0-7377-4754-6","Greenhaven Publishing","Paperback Book",1,2010,null,"Paperback","6.000 X 9.000","Author","Amanda Hiber",null,null,null,null,null,null,"Years 15 - 17",null,"Grade 10 - 12","This volume explores how alternative lending compares to traditional lending, the relative risks of both, and if traditional lending should be made more accessible. Discussions look at the benefits and costs of payday lending and peer-to-peer lending is an effective alternative, as well as the potential and limitations of global microlending for bringing borrowers out of poverty.","English",33.799999999999898,27.039999999999921,"332","208 pp.",{"$f":"Table1[[#This Row],['# of Books]]*Table1[[#This Row],[QTY]]","v":0},{"$f":"Table1[[#This Row],[QTY]]*Table1[[#This Row],[School & Library Price]]","v":0}]
[null,7,null,"Current Issues","Opposing Viewpoints","Alternative Medicine","978-0-7377-5438-4","Greenhaven Publishing","Library Bound Book",1,2012,null,"Library Bound","6.000 X 9.000","Author","Lynn M. Zott",null,null,null,null,null,null,"Years 15 - 17",null,"Grade 10 - 12","This title explores the effectiveness of alternative medicines such as homeopathic medicine, acupuncture, and chelation therapy, reasons for the popularity of alternative medicines, whether alternative and conventional medicine can work together, and government’s role in researching and regulating alternative medicines.","English",48.8,39.04,"615","264 pp.",{"$f":"Table1[[#This Row],['# of Books]]*Table1[[#This Row],[QTY]]","v":0},{"$f":"Table1[[#This Row],[QTY]]*Table1[[#This Row],[School & Library Price]]","v":0}]
[null,7,null,"Current Issues","Opposing Viewpoints","Alternative Medicine","978-0-7377-5439-1","Greenhaven Publishing","Paperback Book",1,2012,null,"Paperback","6.000 X 9.000","Author","Lynn M. Zott",null,null,null,null,null,null,"Years 15 - 17",null,"Grade 10 - 12","This title explores the effectiveness of alternative medicines such as homeopathic medicine, acupuncture, and chelation therapy, reasons for the popularity of alternative medicines, whether alternative and conventional medicine can work together, and government’s role in researching and regulating alternative medicines.","English",33.799999999999898,27.039999999999921,"615","264 pp.",{"$f":"Table1[[#This Row],['# of Books]]*Table1[[#This Row],[QTY]]","v":0},{"$f":"Table1[[#This Row],[QTY]]*Table1[[#This Row],[School & Library Price]]","v":0}]
[null,7,null,"Current Issues","Opposing Viewpoints","American Values","978-0-7377-6945-6","Greenhaven Publishing","Library Bound Book",1,2014,null,"Library Bound","6.000 X 9.000","Author","David M. Haugen",null,null,null,null,null,null,"Years 15 - 17",null,"Grade 10 - 12","OPPOSING VIEWPOINTS: AMERICAN VALUES debates what values are important to America, whether America’s values are threatened, whether Americans should promote patriotism, and if American values bridge cultural divides. The viewpoints are selected from a wide range of highly respected and often hard-to-find sources and publications. By choosing from such diverse sources and including both popular and unpopular views, the OPPOSING VIEWPOINTS series has adhered to its commitment to editorial objectivity. Readers are exposed to many sides of a debate, which promotes issue awareness as well as critical thinking.","English",48.8,39.04,"306","208 pp.",{"$f":"Table1[[#This Row],['# of Books]]*Table1[[#This Row],[QTY]]","v":0},{"$f":"Table1[[#This Row],[QTY]]*Table1[[#This Row],[School & Library Price]]","v":0}]
[null,7,null,"Current Issues","Opposing Viewpoints","American Values","978-0-7377-6946-3","Greenhaven Publishing","Paperback Book",1,2014,null,"Paperback","6.000 X 9.000","Author","David M. Haugen",null,null,null,null,null,null,"Years 15 - 17",null,"Grade 10 - 12","OPPOSING VIEWPOINTS: AMERICAN VALUES debates what values are important to America, whether America’s values are threatened, whether Americans should promote patriotism, and if American values bridge cultural divides. The viewpoints are selected from a wide range of highly respected and often hard-to-find sources and publications. By choosing from such diverse sources and including both popular and unpopular views, the OPPOSING VIEWPOINTS series has adhered to its commitment to editorial objectivity. Readers are exposed to many sides of a debate, which promotes issue awareness as well as critical thinking.","English",33.799999999999898,27.039999999999921,"306","240 pp.",{"$f":"Table1[[#This Row],['# of Books]]*Table1[[#This Row],[QTY]]","v":0},{"$f":"Table1[[#This Row],[QTY]]*Table1[[#This Row],[School & Library Price]]","v":0}]
[null,7,null,"Current Issues","Opposing Viewpoints","America's Global Influence","978-0-7377-5707-1","Greenhaven Publishing","Library Bound Book",1,2012,null,"Library Bound","6.000 X 9.000","Author","Noël Merino",null,null,null,null,null,null,"Years 15 - 17",null,"Grade 10 - 12",null,"English",48.8,39.04,"303","240 pp.",{"$f":"Table1[[#This Row],['# of Books]]*Table1[[#This Row],[QTY]]","v":0},{"$f":"Table1[[#This Row],[QTY]]*Table1[[#This Row],[School & Library Price]]","v":0}]
[null,7,null,"Current Issues","Opposing Viewpoints","America's Global Influence","978-0-7377-5708-8","Greenhaven Publishing","Paperback Book",1,2012,null,"Paperback","6.000 X 9.000","Author","Noël Merino",null,null,null,null,null,null,"Years 15 - 17",null,"Grade 10 - 12",null,"English",33.799999999999898,27.039999999999921,"303","240 pp.",{"$f":"Table1[[#This Row],['# of Books]]*Table1[[#This Row],[QTY]]","v":0},{"$f":"Table1[[#This Row],[QTY]]*Table1[[#This Row],[School & Library Price]]","v":0}]
[null,7,null,"Current Issues","Opposing Viewpoints","Americas Prisons","978-0-7377-7536-5","Greenhaven Publishing","Library Bound Book",1,2016,null,"Library Bound","6.000 X 9.000","Author","Jack Lasky",null,null,null,null,null,null,"Years 15 - 17",null,"Grade 10 - 12","This title addresses controversies related to America's prisons including: What problems do America's prisons face? Who is in America's prisons? Are prisoners treated humanely? Do prison alternatives work?","English",48.8,39.04,"365","202 pp.",{"$f":"Table1[[#This Row],['# of Books]]*Table1[[#This Row],[QTY]]","v":0},{"$f":"Table1[[#This Row],[QTY]]*Table1[[#This Row],[School & Library Price]]","v":0}]
[null,7,null,"Current Issues","Opposing Viewpoints","Americas Prisons","978-0-7377-7537-2","Greenhaven Publishing","Paperback Book",1,2016,null,"Paperback","6.000 X 9.000","Author","Jack Lasky",null,null,null,null,null,null,"Years 15 - 17",null,"Grade 10 - 12","This title addresses controversies related to America's prisons including: What problems do America's prisons face? Who is in America's prisons? Are prisoners treated humanely? Do prison alternatives work?","English",33.799999999999898,27.039999999999921,"365","202 pp.",{"$f":"Table1[[#This Row],['# of Books]]*Table1[[#This Row],[QTY]]","v":0},{"$f":"Table1[[#This Row],[QTY]]*Table1[[#This Row],[School & Library Price]]","v":0}]
[null,7,null,"Current Issues","Opposing Viewpoints","America's Youth","978-0-7377-3735-6","Greenhaven Publishing","Library Bound Book",1,2008,null,"Library Bound","6.000 X 9.000","Author","Jamuna Carroll",null,null,null,null,null,null,"Years 15 - 17",null,"Grade 10 - 12",null,"English",48.8,39.04,"305","232 pp.",{"$f":"Table1[[#This Row],['# of Books]]*Table1[[#This Row],[QTY]]","v":0},{"$f":"Table1[[#This Row],[QTY]]*Table1[[#This Row],[School & Library Price]]","v":0}]
[null,7,null,"Current Issues","Opposing Viewpoints","America's Youth","978-0-7377-3736-3","Greenhaven Publishing","Paperback Book",1,2008,null,"Paperback","6.000 X 9.000","Author","Jamuna Carroll",null,null,null,null,null,null,"Years 15 - 17",null,"Grade 10 - 12",null,"English",33.799999999999898,27.039999999999921,"305.235","232 pp.",{"$f":"Table1[[#This Row],['# of Books]]*Table1[[#This Row],[QTY]]","v":0},{"$f":"Table1[[#This Row],[QTY]]*Table1[[#This Row],[School & Library Price]]","v":0}]
[null,7,null,"Current Issues","Opposing Viewpoints","Antibiotics","978-0-7377-5209-0","Greenhaven Publishing","Library Bound Book",1,2011,null,"Library Bound","6.000 X 9.000","Author","Noah Berlatsky",null,null,null,null,null,null,"Years 15 - 17",null,"Grade 10 - 12","Antibiotics explores issues related to the prescription of antibiotics, including the dangers of overprescribing as well as underprescribing. In addition, it covers the drawbacks and potential benefits of buying antibiotics without a prescription, and presents the best ways to use antibiotics to combat disease. This volume also examines health dangers and benefits related to using antibiotics and looks at acceptable uses of antibiotics in agriculture and its potential impact on crops, animals, and humans.","English",48.8,39.04,"615","224 pp.",{"$f":"Table1[[#This Row],['# of Books]]*Table1[[#This Row],[QTY]]","v":0},{"$f":"Table1[[#This Row],[QTY]]*Table1[[#This Row],[School & Library Price]]","v":0}]
[null,7,null,"Current Issues","Opposing Viewpoints","Antibiotics","978-0-7377-5210-6","Greenhaven Publishing","Paperback Book",1,2011,null,"Paperback","6.000 X 9.000","Author","Noah Berlatsky",null,null,null,null,null,null,"Years 15 - 17",null,"Grade 10 - 12","Antibiotics explores issues related to the prescription of antibiotics, including the dangers of overprescribing as well as underprescribing. In addition, it covers the drawbacks and potential benefits of buying antibiotics without a prescription, and presents the best ways to use antibiotics to combat disease. This volume also examines health dangers and benefits related to using antibiotics and looks at acceptable uses of antibiotics in agriculture and its potential impact on crops, animals, and humans.","English",33.799999999999898,27.039999999999921,"615","224 pp.",{"$f":"Table1[[#This Row],['# of Books]]*Table1[[#This Row],[QTY]]","v":0},{"$f":"Table1[[#This Row],[QTY]]*Table1[[#This Row],[School & Library Price]]","v":0}]
[null,7,null,"Current Issues","Opposing Viewpoints","Anti-Semitism","978-0-7377-6947-0","Greenhaven Publishing","Library Bound Book",1,2014,null,"Library Bound","6.000 X 9.000","Author","Noah Berlatsky",null,null,null,null,null,null,"Years 15 - 17",null,"Grade 10 - 12","This title explores the issues of anti-Semitism, including: social factors that contribute to anti-Semitism; the relationship between Christianity, Islam, and anti-Semitism; opposition to Israeli policy linked to anti-Semitism; political groups and anti-Semitism. The viewpoints are selected from a wide range of highly respected and often hard-to-find sources and publications. By choosing from such diverse sources and including both popular and unpopular views, the OPPOSING VIEWPOINTS series has adhered to its commitment to editorial objectivity. Readers are exposed to many sides of a debate, which promotes issue awareness as well as critical thinking.","English",48.8,39.04,"305","208 pp.",{"$f":"Table1[[#This Row],['# of Books]]*Table1[[#This Row],[QTY]]","v":0},{"$f":"Table1[[#This Row],[QTY]]*Table1[[#This Row],[School & Library Price]]","v":0}]
[null,7,null,"Current Issues","Opposing Viewpoints","Anti-semitism","978-0-7377-6948-7","Greenhaven Publishing","Paperback Book",1,2014,null,"Paperback","6.000 X 9.000","Author","Noah Berlatsky",null,null,null,null,null,null,"Years 15 - 17",null,"Grade 10 - 12","This title explores the issues of anti-Semitism, including: social factors that contribute to anti-Semitism; the relationship between Christianity, Islam, and anti-Semitism; opposition to Israeli policy linked to anti-Semitism; political groups and anti-Semitism. The viewpoints are selected from a wide range of highly respected and often hard-to-find sources and publications. By choosing from such diverse sources and including both popular and unpopular views, the OPPOSING VIEWPOINTS series has adhered to its commitment to editorial objectivity. Readers are exposed to many sides of a debate, which promotes issue awareness as well as critical thinking.","English",33.799999999999898,27.039999999999921,"305","204 pp.",{"$f":"Table1[[#This Row],['# of Books]]*Table1[[#This Row],[QTY]]","v":0},{"$f":"Table1[[#This Row],[QTY]]*Table1[[#This Row],[School & Library Price]]","v":0}]
[null,7,null,"Current Issues","Opposing Viewpoints","Artificial Intelligence","978-0-7377-5710-1","Greenhaven Publishing","Paperback Book",1,2011,null,"Paperback","6.000 X 9.000","Author","Noah Berlatsky",null,null,null,null,null,null,"Years 15 - 17",null,"Grade 10 - 12",null,"English",33.799999999999898,27.039999999999921,"006","256 pp.",{"$f":"Table1[[#This Row],['# of Books]]*Table1[[#This Row],[QTY]]","v":0},{"$f":"Table1[[#This Row],[QTY]]*Table1[[#This Row],[School & Library Price]]","v":0}]
[null,7,null,"Current Issues","Opposing Viewpoints","Atheism","978-0-7377-4192-6","Greenhaven Publishing","Library Bound Book",1,2009,null,"Library Bound","6.000 X 9.000","Author","Beth Rosenthal",null,null,null,null,null,null,"Years 15 - 17",null,"Grade 10 - 12",null,"English",48.8,39.04,"211","232 pp.",{"$f":"Table1[[#This Row],['# of Books]]*Table1[[#This Row],[QTY]]","v":0},{"$f":"Table1[[#This Row],[QTY]]*Table1[[#This Row],[School & Library Price]]","v":0}]
[null,7,null,"Current Issues","Opposing Viewpoints","Atheism","978-0-7377-4193-3","Greenhaven Publishing","Paperback Book",1,2009,null,"Paperback","6.000 X 9.000","Author","Beth Rosenthal",null,null,null,null,null,null,"Years 15 - 17",null,"Grade 10 - 12",null,"English",33.799999999999898,27.039999999999921,"211","232 pp.",{"$f":"Table1[[#This Row],['# of Books]]*Table1[[#This Row],[QTY]]","v":0},{"$f":"Table1[[#This Row],[QTY]]*Table1[[#This Row],[School & Library Price]]","v":0}]
[null,7,null,"Current Issues","Opposing Viewpoints","Bankruptcy","978-0-7377-7244-9","Greenhaven Publishing","Library Bound Book",1,2015,null,"Library Bound","6.000 X 9.000","Author","Noah Berlatsky",null,null,null,null,null,null,"Years 15 - 17",null,"Grade 10 - 12","OPPOSING VIEWPOINTS: BANKRUPTCY examines whether it is wrong to file for bankruptcy. It explores how different types of debt should be dealt with in a bankruptcy. It deals with issues facing cities that declare bankruptcy. It also covers when a government bailout is preferable to bankruptcy.","English",48.8,39.04,"346","176 pp.",{"$f":"Table1[[#This Row],['# of Books]]*Table1[[#This Row],[QTY]]","v":0},{"$f":"Table1[[#This Row],[QTY]]*Table1[[#This Row],[School & Library Price]]","v":0}]
[null,7,null,"Current Issues","Opposing Viewpoints","Bankruptcy","978-0-7377-7245-6","Greenhaven Publishing","Paperback Book",1,2015,null,"Paperback","6.000 X 9.000","Author","Noah Berlatsky",null,null,null,null,null,null,"Years 15 - 17",null,"Grade 10 - 12","OPPOSING VIEWPOINTS: BANKRUPTCY  examines whether it is wrong to file for bankruptcy. It explores how different types of debt should be dealt with in a bankruptcy. It deals with issues facing cities that declare bankruptcy. It also covers when a government bailout is preferable to bankruptcy.","English",33.799999999999898,27.039999999999921,"346","175 pp.",{"$f":"Table1[[#This Row],['# of Books]]*Table1[[#This Row],[QTY]]","v":0},{"$f":"Table1[[#This Row],[QTY]]*Table1[[#This Row],[School & Library Price]]","v":0}]
[null,7,null,"Current Issues","Opposing Viewpoints","Behavioral Disorders","978-0-7377-6949-4","Greenhaven Publishing","Library Bound Book",1,2014,null,"Library Bound","6.000 X 9.000","Author","Roman Espejo",null,null,null,null,null,null,"Years 15 - 17",null,"Grade 10 - 12","This title explores behavioral disorders, including: are behavioral disorders a serious problem; contributing factors to behavioral disorders; treatment of behavioral disorders; policies that best address the challenges of behavioral disorders. The viewpoints are selected from a wide range of highly respected and often hard-to-find sources and publications. By choosing from such diverse sources and including both popular and unpopular views, the OPPOSING VIEWPOINTS series has adhered to its commitment to editorial objectivity. Readers are exposed to many sides of a debate, which promotes issue awareness as well as critical thinking.","English",48.8,39.04,"618","232 pp.",{"$f":"Table1[[#This Row],['# of Books]]*Table1[[#This Row],[QTY]]","v":0},{"$f":"Table1[[#This Row],[QTY]]*Table1[[#This Row],[School & Library Price]]","v":0}]
[null,7,null,"Current Issues","Opposing Viewpoints","Behavioral Disorders","978-0-7377-6950-0","Greenhaven Publishing","Paperback Book",1,2014,null,"Paperback","6.000 X 9.000","Author","Roman Espejo",null,null,null,null,null,null,"Years 15 - 17",null,"Grade 10 - 12","This title explores behavioral disorders, including: are behavioral disorders a serious problem; contributing factors to behavioral disorders; treatment of behavioral disorders; policies that best address the challenges of behavioral disorders. The viewpoints are selected from a wide range of highly respected and often hard-to-find sources and publications. By choosing from such diverse sources and including both popular and unpopular views, the OPPOSING VIEWPOINTS series has adhered to its commitment to editorial objectivity. Readers are exposed to many sides of a debate, which promotes issue awareness as well as critical thinking.","English",33.799999999999898,27.039999999999921,"618","226 pp.",{"$f":"Table1[[#This Row],['# of Books]]*Table1[[#This Row],[QTY]]","v":0},{"$f":"Table1[[#This Row],[QTY]]*Table1[[#This Row],[School & Library Price]]","v":0}]
[null,7,null,"Current Issues","Opposing Viewpoints","Biological Warfare","978-0-7377-4757-7","Greenhaven Publishing","Library Bound Book",1,2010,null,"Library Bound","6.000 X 9.000","Author","Christine Watkins",null,null,null,null,null,null,"Years 15 - 17",null,"Grade 10 - 12",null,"English",48.8,39.04,"358","232 pp.",{"$f":"Table1[[#This Row],['# of Books]]*Table1[[#This Row],[QTY]]","v":0},{"$f":"Table1[[#This Row],[QTY]]*Table1[[#This Row],[School & Library Price]]","v":0}]
[null,7,null,"Current Issues","Opposing Viewpoints","Biological Warfare","978-0-7377-4758-4","Greenhaven Publishing","Paperback Book",1,2010,null,"Paperback","6.000 X 9.000","Author","Christine Watkins",null,null,null,null,null,null,"Years 15 - 17",null,"Grade 10 - 12",null,"English",33.799999999999898,27.039999999999921,"358","232 pp.",{"$f":"Table1[[#This Row],['# of Books]]*Table1[[#This Row],[QTY]]","v":0},{"$f":"Table1[[#This Row],[QTY]]*Table1[[#This Row],[School & Library Price]]","v":0}]
[null,7,null,"Current Issues","Opposing Viewpoints","Biomedical Ethics","978-0-7377-3738-7","Greenhaven Publishing","Paperback Book",1,2008,null,"Paperback","6.000 X 9.000","Author","Viqi Wagner",null,null,null,null,null,null,"Years 15 - 17",null,"Grade 10 - 12",null,"English",33.799999999999898,27.039999999999921,"174","256 pp.",{"$f":"Table1[[#This Row],['# of Books]]*Table1[[#This Row],[QTY]]","v":0},{"$f":"Table1[[#This Row],[QTY]]*Table1[[#This Row],[School & Library Price]]","v":0}]
[null,7,null,"Current Issues","Opposing Viewpoints","Bioterrorism","978-0-7377-6474-1","Greenhaven Publishing","Library Bound Book",1,2013,null,"Library Bound","6.000 X 9.000","Author","Roman Espejo",null,null,null,null,null,null,"Years 15 - 17",null,"Grade 10 - 12","This title explores how great the threat of bioterrorism may be, issues that are associated with biodefense research, how the US might prepare for bioterrorism, and what anti-bioterrorism policies the US should have in place.","English",48.8,39.04,"363.325","232 pp.",{"$f":"Table1[[#This Row],['# of Books]]*Table1[[#This Row],[QTY]]","v":0},{"$f":"Table1[[#This Row],[QTY]]*Table1[[#This Row],[School & Library Price]]","v":0}]
[null,7,null,"Current Issues","Opposing Viewpoints","Bioterrorism","978-0-7377-6475-8","Greenhaven Publishing","Paperback Book",1,2013,null,"Paperback","6.000 X 9.000","Author","Roman Espejo",null,null,null,null,null,null,"Years 15 - 17",null,"Grade 10 - 12","This title explores how great the threat of bioterrorism may be, issues that are associated with biodefense research, how the US might prepare for bioterrorism, and what anti-bioterrorism policies the US should have in place.","English",33.799999999999898,27.039999999999921,"363.325","231 pp.",{"$f":"Table1[[#This Row],['# of Books]]*Table1[[#This Row],[QTY]]","v":0},{"$f":"Table1[[#This Row],[QTY]]*Table1[[#This Row],[School & Library Price]]","v":0}]
[null,7,null,"Current Issues","Opposing Viewpoints","Birth Control","978-0-7377-7506-8","Greenhaven Publishing","Library Bound Book",1,2016,null,"Library Bound","6.000 X 9.000","Author","Jack Lasky",null,null,null,null,null,null,"Years 15 - 17",null,"Grade 10 - 12","This title in the Opposing Viewpoints series explores the societal consequences of birth control, what concerns birth control raises, who should have access to birth control, and what is the effect of the Affordable Care Act on birth control.","English",48.8,39.04,"363","203 pp.",{"$f":"Table1[[#This Row],['# of Books]]*Table1[[#This Row],[QTY]]","v":0},{"$f":"Table1[[#This Row],[QTY]]*Table1[[#This Row],[School & Library Price]]","v":0}]
[null,7,null,"Current Issues","Opposing Viewpoints","Birth Control","978-0-7377-7507-5","Greenhaven Publishing","Paperback Book",1,2016,null,"Paperback","6.000 X 9.000","Author","Jack Lasky",null,null,null,null,null,null,"Years 15 - 17",null,"Grade 10 - 12","This title in the Opposing Viewpoints series explores the societal consequences of birth control, what concerns birth control raises, who should have access to birth control, and what is the effect of the Affordable Care Act on birth control.","English",33.799999999999898,27.039999999999921,"363","203 pp.",{"$f":"Table1[[#This Row],['# of Books]]*Table1[[#This Row],[QTY]]","v":0},{"$f":"Table1[[#This Row],[QTY]]*Table1[[#This Row],[School & Library Price]]","v":0}]
[null,7,null,"Current Issues","Opposing Viewpoints","Birth Defects","978-0-7377-4504-7","Greenhaven Publishing","Library Bound Book",1,2014,null,"Library Bound","6.000 X 9.000","Author","Noël Merino",null,null,null,null,null,null,"Years 15 - 17",null,"Grade 10 - 12","OPPOSING VIEWPOINTS: BIRTH DEFECTS explores issues related to birth defects including what the common birth defects are, what causes birth defects, whether pregnant women should undergo screening for birth defects, and how birth defects should be addressed. The viewpoints are selected from a wide range of highly respected and often hard-to-find sources and publications. By choosing from such diverse sources and including both popular and unpopular views, the OPPOSING VIEWPOINTS series has adhered to its commitment to editorial objectivity. Readers are exposed to many sides of a debate, which promotes issue awareness as well as critical thinking.","English",48.8,39.04,"616","192 pp.",{"$f":"Table1[[#This Row],['# of Books]]*Table1[[#This Row],[QTY]]","v":0},{"$f":"Table1[[#This Row],[QTY]]*Table1[[#This Row],[School & Library Price]]","v":0}]
[null,7,null,"Current Issues","Opposing Viewpoints","Birth Defects","978-0-7377-4505-4","Greenhaven Publishing","Paperback Book",1,2014,null,"Paperback","6.000 X 9.000","Author","Noël Merino",null,null,null,null,null,null,"Years 15 - 17",null,"Grade 10 - 12","OPPOSING VIEWPOINTS: BIRTH DEFECTS explores issues related to birth defects including what the common birth defects are, what causes birth defects, whether pregnant women should undergo screening for birth defects, and how birth defects should be addressed. The viewpoints are selected from a wide range of highly respected and often hard-to-find sources and publications. By choosing from such diverse sources and including both popular and unpopular views, the OPPOSING VIEWPOINTS series has adhered to its commitment to editorial objectivity. Readers are exposed to many sides of a debate, which promotes issue awareness as well as critical thinking.","English",33.799999999999898,27.039999999999921,"616","187 pp.",{"$f":"Table1[[#This Row],['# of Books]]*Table1[[#This Row],[QTY]]","v":0},{"$f":"Table1[[#This Row],[QTY]]*Table1[[#This Row],[School & Library Price]]","v":0}]
[null,7,null,"Current Issues","Opposing Viewpoints","Breast Cancer","978-0-7377-7550-1","Greenhaven Publishing","Library Bound Book",1,2016,null,"Library Bound","6.000 X 9.000","Author","Dedria Bryfonski",null,null,null,null,null,null,"Years 15 - 17",null,"Grade 10 - 12","This title addresses controversies related to Breast Cancer including: Do annual mammograms save lives? Does preventative mastectomy save lives? Does abortion increase the risk of breast cancer? Has breast cancer awareness become commercialized?","English",48.8,39.04,"362","199 pp.",{"$f":"Table1[[#This Row],['# of Books]]*Table1[[#This Row],[QTY]]","v":0},{"$f":"Table1[[#This Row],[QTY]]*Table1[[#This Row],[School & Library Price]]","v":0}]
[null,7,null,"Current Issues","Opposing Viewpoints","Breast Cancer","978-0-7377-7551-8","Greenhaven Publishing","Paperback Book",1,2016,null,"Paperback","6.000 X 9.000","Author","Dedria Bryfonski",null,null,null,null,null,null,"Years 15 - 17",null,"Grade 10 - 12","This title addresses controversies related to Breast Cancer including: Do annual mammograms save lives? Does preventative mastectomy save lives? Does abortion increase the risk of breast cancer? Has breast cancer awareness become commercialized?","English",33.799999999999898,27.039999999999921,"362","199 pp.",{"$f":"Table1[[#This Row],['# of Books]]*Table1[[#This Row],[QTY]]","v":0},{"$f":"Table1[[#This Row],[QTY]]*Table1[[#This Row],[School & Library Price]]","v":0}]
[null,7,null,"Current Issues","Opposing Viewpoints","Canada","978-0-7377-5211-3","Greenhaven Publishing","Library Bound Book",1,2011,null,"Library Bound","6.000 X 9.000","Author","Margaret Haerens",null,null,null,null,null,null,"Years 15 - 17",null,"Grade 10 - 12",null,"English",48.8,39.04,"971","272 pp.",{"$f":"Table1[[#This Row],['# of Books]]*Table1[[#This Row],[QTY]]","v":0},{"$f":"Table1[[#This Row],[QTY]]*Table1[[#This Row],[School & Library Price]]","v":0}]
[null,7,null,"Current Issues","Opposing Viewpoints","Canada","978-0-7377-5212-0","Greenhaven Publishing","Paperback Book",1,2011,null,"Paperback","6.000 X 9.000","Author","Margaret Haerens",null,null,null,null,null,null,"Years 15 - 17",null,"Grade 10 - 12",null,"English",33.799999999999898,27.039999999999921,"971","272 pp.",{"$f":"Table1[[#This Row],['# of Books]]*Table1[[#This Row],[QTY]]","v":0},{"$f":"Table1[[#This Row],[QTY]]*Table1[[#This Row],[School & Library Price]]","v":0}]
[null,7,null,"Current Issues","Opposing Viewpoints","Cars in America","978-0-7377-4759-1","Greenhaven Publishing","Library Bound Book",1,2010,null,"Library Bound","6.000 X 9.000","Author","Roman Espejo",null,null,null,null,null,null,"Years 15 - 17",null,"Grade 10 - 12",null,"English",48.8,39.04,"303","184 pp.",{"$f":"Table1[[#This Row],['# of Books]]*Table1[[#This Row],[QTY]]","v":0},{"$f":"Table1[[#This Row],[QTY]]*Table1[[#This Row],[School & Library Price]]","v":0}]
[null,7,null,"Current Issues","Opposing Viewpoints","Cars in America","978-0-7377-4760-7","Greenhaven Publishing","Paperback Book",1,2010,null,"Paperback","6.000 X 9.000","Author","Roman Espejo",null,null,null,null,null,null,"Years 15 - 17",null,"Grade 10 - 12",null,"English",33.799999999999898,27.039999999999921,"303","239 pp.",{"$f":"Table1[[#This Row],['# of Books]]*Table1[[#This Row],[QTY]]","v":0},{"$f":"Table1[[#This Row],[QTY]]*Table1[[#This Row],[School & Library Price]]","v":0}]
[null,7,null,"Current Issues","Opposing Viewpoints","Celebrity Culture","978-0-7377-7246-3","Greenhaven Publishing","Library Bound Book",1,2015,null,"Library Bound","6.000 X 9.000","Author","Noah Berlatsky",null,null,null,null,null,null,"Years 15 - 17",null,"Grade 10 - 12","OPPOSING VIEWPOINTS: CELEBRITY CULTURE explores the need for information on popular figures. It examines the celebrity lifestyle and its impact on society and the power of the media. It covers the actions of celebrities and the scrutiny they are under because of their celebrity.","English",48.8,39.04,"306","208 pp.",{"$f":"Table1[[#This Row],['# of Books]]*Table1[[#This Row],[QTY]]","v":0},{"$f":"Table1[[#This Row],[QTY]]*Table1[[#This Row],[School & Library Price]]","v":0}]
[null,7,null,"Current Issues","Opposing Viewpoints","Celebrity Culture","978-0-7377-7247-0","Greenhaven Publishing","Paperback Book",1,2015,null,"Paperback","6.000 X 9.000","Author","Noah Berlatsky",null,null,null,null,null,null,"Years 15 - 17",null,"Grade 10 - 12","OPPOSING VIEWPOINTS: CELEBRITY CULTURE  explores the need for information on popular figures. It examines the celebrity lifestyle and its impact on society and the power of the media. It covers the actions of celebrities and the scrutiny they are under because of their celebrity.","English",33.799999999999898,27.039999999999921,"306","203 pp.",{"$f":"Table1[[#This Row],['# of Books]]*Table1[[#This Row],[QTY]]","v":0},{"$f":"Table1[[#This Row],[QTY]]*Table1[[#This Row],[School & Library Price]]","v":0}]
[null,7,null,"Current Issues","Opposing Viewpoints","Censorship","978-0-7377-4762-1","Greenhaven Publishing","Paperback Book",1,2010,null,"Paperback","6.000 X 9.000","Author","Scott Barbour",null,null,null,null,null,null,"Years 15 - 17",null,"Grade 10 - 12",null,"English",33.799999999999898,27.039999999999921,"363","217 pp.",{"$f":"Table1[[#This Row],['# of Books]]*Table1[[#This Row],[QTY]]","v":0},{"$f":"Table1[[#This Row],[QTY]]*Table1[[#This Row],[School & Library Price]]","v":0}]
[null,7,null,"Current Issues","Opposing Viewpoints","Charter Schools","978-0-7377-5442-1","Greenhaven Publishing","Library Bound Book",1,2012,null,"Library Bound","6.000 X 9.000","Author","Mitchell Young",null,null,null,null,null,null,"Years 15 - 17",null,"Grade 10 - 12","This addition to the popular OPPOSING VIEWPOINTS series discusses the topic of charter schools. Through the use of carefully selected articles, pulled from a variety of sources, this text addresses whether charter schools are good alternatives to public schools, whether religious charter schools are a viable choice, whether online charter schools work, and how charter schools can be improved.","English",48.8,39.04,"371","248 pp.",{"$f":"Table1[[#This Row],['# of Books]]*Table1[[#This Row],[QTY]]","v":0},{"$f":"Table1[[#This Row],[QTY]]*Table1[[#This Row],[School & Library Price]]","v":0}]
[null,7,null,"Current Issues","Opposing Viewpoints","Charter Schools","978-0-7377-5443-8","Greenhaven Publishing","Paperback Book",1,2012,null,"Paperback","6.000 X 9.000","Author","Mitchell Young",null,null,null,null,null,null,"Years 15 - 17",null,"Grade 10 - 12","This addition to the popular OPPOSING VIEWPOINTS series discusses the topic of charter schools. Through the use of carefully selected articles, pulled from a variety of sources, this text addresses whether charter schools are good alternatives to public schools, whether religious charter schools are a viable choice, whether online charter schools work, and how charter schools can be improved.","English",33.799999999999898,27.039999999999921,"371","248 pp.",{"$f":"Table1[[#This Row],['# of Books]]*Table1[[#This Row],[QTY]]","v":0},{"$f":"Table1[[#This Row],[QTY]]*Table1[[#This Row],[School & Library Price]]","v":0}]
[null,7,null,"Current Issues","Opposing Viewpoints","Chemical Dependency","978-0-7377-5215-1","Greenhaven Publishing","Library Bound Book",1,2011,null,"Library Bound","6.000 X 9.000","Author","Roman Espejo",null,null,null,null,null,null,"Years 15 - 17",null,"Grade 10 - 12",null,"English",48.8,39.04,"362","216 pp.",{"$f":"Table1[[#This Row],['# of Books]]*Table1[[#This Row],[QTY]]","v":0},{"$f":"Table1[[#This Row],[QTY]]*Table1[[#This Row],[School & Library Price]]","v":0}]
[null,7,null,"Current Issues","Opposing Viewpoints","Chemical Dependency","978-0-7377-5216-8","Greenhaven Publishing","Paperback Book",1,2011,null,"Paperback","6.000 X 9.000","Author","Roman Espejo",null,null,null,null,null,null,"Years 15 - 17",null,"Grade 10 - 12",null,"English",33.799999999999898,27.039999999999921,"362","216 pp.",{"$f":"Table1[[#This Row],['# of Books]]*Table1[[#This Row],[QTY]]","v":0},{"$f":"Table1[[#This Row],[QTY]]*Table1[[#This Row],[School & Library Price]]","v":0}]
[null,7,null,"Current Issues","Opposing Viewpoints","Chemicals","978-0-7377-7248-7","Greenhaven Publishing","Library Bound Book",1,2015,null,"Library Bound","6.000 X 9.000","Author","Margaret Haerens",null,null,null,null,null,null,"Years 15 - 17",null,"Grade 10 - 12","OPPOSING VIEWPOINTS: CHEMICALS examines the threats that chemicals pose to the environment and public health. It explores what can lead to dangerous levels of toxic chemical exposure. This title observes how chemicals may be endangering water and food supplies. Finally, it debates how the government should protect Americans from toxic chemicals.","English",48.8,39.04,"363","240 pp.",{"$f":"Table1[[#This Row],['# of Books]]*Table1[[#This Row],[QTY]]","v":0},{"$f":"Table1[[#This Row],[QTY]]*Table1[[#This Row],[School & Library Price]]","v":0}]
[null,7,null,"Current Issues","Opposing Viewpoints","Chemicals","978-0-7377-7249-4","Greenhaven Publishing","Paperback Book",1,2015,null,"Paperback","6.000 X 9.000","Author","Margaret Haerens",null,null,null,null,null,null,"Years 15 - 17",null,"Grade 10 - 12","OPPOSING VIEWPOINTS: CHEMICALS  examines the threats that chemicals pose to the environment and public health. It explores what can lead to dangerous levels of toxic chemical exposure. This title observes how chemicals may be endangering water and food supplies. Finally, it debates how the government should protect Americans from toxic chemicals.","English",33.799999999999898,27.039999999999921,"363","240 pp.",{"$f":"Table1[[#This Row],['# of Books]]*Table1[[#This Row],[QTY]]","v":0},{"$f":"Table1[[#This Row],[QTY]]*Table1[[#This Row],[School & Library Price]]","v":0}]
[null,7,null,"Current Issues","Opposing Viewpoints","Child Abuse","978-0-7377-4354-8","Greenhaven Publishing","Library Bound Book",1,2009,null,"Library Bound","6.000 X 9.000","Author","Heidi Williams",null,null,null,null,null,null,"Years 15 - 17",null,"Grade 10 - 12",null,"English",48.8,39.04,"362","248 pp.",{"$f":"Table1[[#This Row],['# of Books]]*Table1[[#This Row],[QTY]]","v":0},{"$f":"Table1[[#This Row],[QTY]]*Table1[[#This Row],[School & Library Price]]","v":0}]
[null,7,null,"Current Issues","Opposing Viewpoints","Child Abuse","978-0-7377-4353-1","Greenhaven Publishing","Paperback Book",1,2009,null,"Paperback","6.000 X 9.000","Author","Heidi Williams",null,null,null,null,null,null,"Years 15 - 17",null,"Grade 10 - 12",null,"English",33.799999999999898,27.039999999999921,"362","248 pp.",{"$f":"Table1[[#This Row],['# of Books]]*Table1[[#This Row],[QTY]]","v":0},{"$f":"Table1[[#This Row],[QTY]]*Table1[[#This Row],[School & Library Price]]","v":0}]
[null,7,null,"Current Issues","Opposing Viewpoints","Child Custody","978-0-7377-5217-5","Greenhaven Publishing","Library Bound Book",1,2011,null,"Library Bound","6.000 X 9.000","Author","Dedria Bryfonski",null,null,null,null,null,null,"Years 15 - 17",null,"Grade 10 - 12",null,"English",48.8,39.04,"306","240 pp.",{"$f":"Table1[[#This Row],['# of Books]]*Table1[[#This Row],[QTY]]","v":0},{"$f":"Table1[[#This Row],[QTY]]*Table1[[#This Row],[School & Library Price]]","v":0}]
[null,7,null,"Current Issues","Opposing Viewpoints","Child Custody","978-0-7377-5218-2","Greenhaven Publishing","Paperback Book",1,2011,null,"Paperback","6.000 X 9.000","Author","Dedria Bryfonski",null,null,null,null,null,null,"Years 15 - 17",null,"Grade 10 - 12",null,"English",33.799999999999898,27.039999999999921,"306","240 pp.",{"$f":"Table1[[#This Row],['# of Books]]*Table1[[#This Row],[QTY]]","v":0},{"$f":"Table1[[#This Row],[QTY]]*Table1[[#This Row],[School & Library Price]]","v":0}]
[null,7,null,"Current Issues","Opposing Viewpoints","Childbirth","978-0-7377-4196-4","Greenhaven Publishing","Library Bound Book",1,2009,null,"Library Bound","6.000 X 9.000","Author","Christina Fisanick",null,null,null,null,null,null,"Years 15 - 17",null,"Grade 10 - 12",null,"English",48.8,39.04,"618","240 pp.",{"$f":"Table1[[#This Row],['# of Books]]*Table1[[#This Row],[QTY]]","v":0},{"$f":"Table1[[#This Row],[QTY]]*Table1[[#This Row],[School & Library Price]]","v":0}]
[null,7,null,"Current Issues","Opposing Viewpoints","Childbirth","978-0-7377-4197-1","Greenhaven Publishing","Paperback Book",1,2009,null,"Paperback","6.000 X 9.000","Author","Christina Fisanick",null,null,null,null,null,null,"Years 15 - 17",null,"Grade 10 - 12",null,"English",33.799999999999898,27.039999999999921,"618","233 pp.",{"$f":"Table1[[#This Row],['# of Books]]*Table1[[#This Row],[QTY]]","v":0},{"$f":"Table1[[#This Row],[QTY]]*Table1[[#This Row],[School & Library Price]]","v":0}]
[null,7,null,"Current Issues","Opposing Viewpoints","Children and the Entertainment Industry","978-0-7377-4763-8","Greenhaven Publishing","Library Bound Book",1,2010,null,"Library Bound","6.000 X 9.000","Author","Karen Miller",null,null,null,null,null,null,"Years 15 - 17",null,"Grade 10 - 12",null,"English",48.8,39.04,"302","184 pp.",{"$f":"Table1[[#This Row],['# of Books]]*Table1[[#This Row],[QTY]]","v":0},{"$f":"Table1[[#This Row],[QTY]]*Table1[[#This Row],[School & Library Price]]","v":0}]
[null,7,null,"Current Issues","Opposing Viewpoints","Children and the Entertainment Industry","978-0-7377-4764-5","Greenhaven Publishing","Paperback Book",1,2010,null,"Paperback","6.000 X 9.000","Author","Karen Miller",null,null,null,null,null,null,"Years 15 - 17",null,"Grade 10 - 12",null,"English",33.799999999999898,27.039999999999921,"302","184 pp.",{"$f":"Table1[[#This Row],['# of Books]]*Table1[[#This Row],[QTY]]","v":0},{"$f":"Table1[[#This Row],[QTY]]*Table1[[#This Row],[School & Library Price]]","v":0}]
[null,8,null,"Current Issues","Opposing Viewpoints","China","978-0-7377-4765-2","Greenhaven Publishing","Library Bound Book",1,2010,null,"Library Bound","6.000 X 9.000","Author","Noah Berlatsky",null,null,null,null,null,null,"Years 15 - 17",null,"Grade 10 - 12","Explores the status of human rights and democracy in China, as well as China's economy and its potential as a military threat. Issues discussed include the global recession, trade imbalances, intellectual property piracy, nuclear nonproliferation, Taiwan and North Korea. Also looks at how China is addressing environmental concerns in the region.","English",48.8,39.04,"951","216 pp.",{"$f":"Table1[[#This Row],['# of Books]]*Table1[[#This Row],[QTY]]","v":0},{"$f":"Table1[[#This Row],[QTY]]*Table1[[#This Row],[School & Library Price]]","v":0}]
[null,8,null,"Current Issues","Opposing Viewpoints","China","978-0-7377-4766-9","Greenhaven Publishing","Paperback Book",1,2010,null,"Paperback","6.000 X 9.000","Author","Noah Berlatsky",null,null,null,null,null,null,"Years 15 - 17",null,"Grade 10 - 12","Explores the status of human rights and democracy in China, as well as China's economy and its potential as a military threat. Issues discussed include the global recession, trade imbalances, intellectual property piracy, nuclear nonproliferation, Taiwan and North Korea. Also looks at how China is addressing environmental concerns in the region.","English",33.799999999999898,27.039999999999921,"951","216 pp.",{"$f":"Table1[[#This Row],['# of Books]]*Table1[[#This Row],[QTY]]","v":0},{"$f":"Table1[[#This Row],[QTY]]*Table1[[#This Row],[School & Library Price]]","v":0}]
[null,8,null,"Current Issues","Opposing Viewpoints","Church and State","978-0-7377-5433-9","Greenhaven Publishing","Paperback Book",1,2012,null,"Paperback","6.000 X 9.000","Author","Lynn M. Zott",null,null,null,null,null,null,"Years 15 - 17",null,"Grade 10 - 12",null,"English",33.799999999999898,27.039999999999921,"322","248 pp.",{"$f":"Table1[[#This Row],['# of Books]]*Table1[[#This Row],[QTY]]","v":0},{"$f":"Table1[[#This Row],[QTY]]*Table1[[#This Row],[School & Library Price]]","v":0}]
[null,8,null,"Current Issues","Opposing Viewpoints","Civil Liberties","978-0-7377-6304-1","Greenhaven Publishing","Library Bound Book",1,2013,null,"Library Bound","6.000 X 9.000","Author","Noël Merino",null,null,null,null,null,null,"Years 15 - 17",null,"Grade 10 - 12","This title in the Opposing Viewpoints series explores the controversial topic of civil liberties by placing expert opinions in a unique pro/con format. The viewpoints are selected from a wide range of highly respected and often hard-to-find sources and publications. By choosing from such diverse sources and including both popular and unpopular views, the Opposing Viewpoints series has adhered to its commitment to editorial objectivity. Readers are exposed to many sides of a debate, which promotes issue awareness as well as critical thinking.","English",48.8,39.04,"323","256 pp.",{"$f":"Table1[[#This Row],['# of Books]]*Table1[[#This Row],[QTY]]","v":0},{"$f":"Table1[[#This Row],[QTY]]*Table1[[#This Row],[School & Library Price]]","v":0}]
[null,8,null,"Current Issues","Opposing Viewpoints","Civil Liberties","978-0-7377-6305-8","Greenhaven Publishing","Paperback Book",1,2013,null,"Paperback","6.000 X 9.000","Author","Noël Merino",null,null,null,null,null,null,"Years 15 - 17",null,"Grade 10 - 12","This title in the Opposing Viewpoints series explores the controversial topic of civil liberties by placing expert opinions in a unique pro/con format. The viewpoints are selected from a wide range of highly respected and often hard-to-find sources and publications. By choosing from such diverse sources and including both popular and unpopular views, the Opposing Viewpoints series has adhered to its commitment to editorial objectivity. Readers are exposed to many sides of a debate, which promotes issue awareness as well as critical thinking.","English",33.799999999999898,27.039999999999921,"323","250 pp.",{"$f":"Table1[[#This Row],['# of Books]]*Table1[[#This Row],[QTY]]","v":0},{"$f":"Table1[[#This Row],[QTY]]*Table1[[#This Row],[School & Library Price]]","v":0}]
[null,8,null,"Current Issues","Opposing Viewpoints","Cloning","978-0-7377-5713-2","Greenhaven Publishing","Library Bound Book",1,2012,null,"Library Bound","6.000 X 9.000","Author","Jacqueline Langwith",null,null,null,null,null,null,"Years 15 - 17",null,"Grade 10 - 12","This addition to the popular OPPOSING VIEWPOINTS series addresses the controversial topic of cloning. Through a balanced collection of articles from a variety of sources, the title explores the ethical and moral issues surrounding research cloning,  the issues related to reproductive cloning, the regulation of cloning activities, and animal cloning.","English",48.8,39.04,"174","240 pp.",{"$f":"Table1[[#This Row],['# of Books]]*Table1[[#This Row],[QTY]]","v":0},{"$f":"Table1[[#This Row],[QTY]]*Table1[[#This Row],[School & Library Price]]","v":0}]
[null,8,null,"Current Issues","Opposing Viewpoints","Cloning","978-0-7377-5714-9","Greenhaven Publishing","Paperback Book",1,2012,null,"Paperback","6.000 X 9.000","Author","Jacqueline Langwith",null,null,null,null,null,null,"Years 15 - 17",null,"Grade 10 - 12","This addition to the popular OPPOSING VIEWPOINTS series addresses the controversial topic of cloning. Through a balanced collection of articles from a variety of sources, the title explores the ethical and moral issues surrounding research cloning,  the issues related to reproductive cloning, the regulation of cloning activities, and animal cloning.","English",33.799999999999898,27.039999999999921,"174","240 pp.",{"$f":"Table1[[#This Row],['# of Books]]*Table1[[#This Row],[QTY]]","v":0},{"$f":"Table1[[#This Row],[QTY]]*Table1[[#This Row],[School & Library Price]]","v":0}]
[null,8,null,"Current Issues","Opposing Viewpoints","Coal","978-0-7377-5715-6","Greenhaven Publishing","Library Bound Book",1,2011,null,"Library Bound","6.000 X 9.000","Author","Roman Espejo",null,null,null,null,null,null,"Years 15 - 17",null,"Grade 10 - 12",null,"English",48.8,39.04,"333","208 pp.",{"$f":"Table1[[#This Row],['# of Books]]*Table1[[#This Row],[QTY]]","v":0},{"$f":"Table1[[#This Row],[QTY]]*Table1[[#This Row],[School & Library Price]]","v":0}]
[null,8,null,"Current Issues","Opposing Viewpoints","Coal","978-0-7377-5716-3","Greenhaven Publishing","Paperback Book",1,2011,null,"Paperback","6.000 X 9.000","Author","Roman Espejo",null,null,null,null,null,null,"Years 15 - 17",null,"Grade 10 - 12",null,"English",33.799999999999898,27.039999999999921,"333","208 pp.",{"$f":"Table1[[#This Row],['# of Books]]*Table1[[#This Row],[QTY]]","v":0},{"$f":"Table1[[#This Row],[QTY]]*Table1[[#This Row],[School & Library Price]]","v":0}]
[null,8,null,"Current Issues","Opposing Viewpoints","Community Policing","978-0-7377-6951-7","Greenhaven Publishing","Library Bound Book",1,2014,null,"Library Bound","6.000 X 9.000","Author","Roman Espejo",null,null,null,null,null,null,"Years 15 - 17",null,"Grade 10 - 12","This title explores community policing, including: what is community policing; effectiveness of community policing and neighborhood watch programs; how community policing can be improved; should citizens have the right to use deadly force? The viewpoints are selected from a wide range of highly respected and often hard-to-find sources and publications. By choosing from such diverse sources and including both popular and unpopular views, the OPPOSING VIEWPOINTS series has adhered to its commitment to editorial objectivity. Readers are exposed to many sides of a debate, which promotes issue awareness as well as critical thinking.","English",48.8,39.04,"363","216 pp.",{"$f":"Table1[[#This Row],['# of Books]]*Table1[[#This Row],[QTY]]","v":0},{"$f":"Table1[[#This Row],[QTY]]*Table1[[#This Row],[School & Library Price]]","v":0}]
[null,8,null,"Current Issues","Opposing Viewpoints","Community Policing","978-0-7377-6952-4","Greenhaven Publishing","Paperback Book",1,2014,null,"Paperback","6.000 X 9.000","Author","Roman Espejo",null,null,null,null,null,null,"Years 15 - 17",null,"Grade 10 - 12","This title explores community policing, including: what is community policing; effectiveness of community policing and neighborhood watch programs; how community policing can be improved; should citizens have the right to use deadly force? The viewpoints are selected from a wide range of highly respected and often hard-to-find sources and publications. By choosing from such diverse sources and including both popular and unpopular views, the OPPOSING VIEWPOINTS series has adhered to its commitment to editorial objectivity. Readers are exposed to many sides of a debate, which promotes issue awareness as well as critical thinking.","English",33.799999999999898,27.039999999999921,"363","215 pp.",{"$f":"Table1[[#This Row],['# of Books]]*Table1[[#This Row],[QTY]]","v":0},{"$f":"Table1[[#This Row],[QTY]]*Table1[[#This Row],[School & Library Price]]","v":0}]
[null,8,null,"Current Issues","Opposing Viewpoints","Conflict Resolution","978-0-7377-3992-3","Greenhaven Publishing","Library Bound Book",1,2008,null,"Library Bound","6.000 X 9.000","Author","Tom Lansford",null,null,null,null,null,null,"Years 15 - 17",null,"Grade 10 - 12",null,"English",48.8,39.04,"303","232 pp.",{"$f":"Table1[[#This Row],['# of Books]]*Table1[[#This Row],[QTY]]","v":0},{"$f":"Table1[[#This Row],[QTY]]*Table1[[#This Row],[School & Library Price]]","v":0}]
[null,8,null,"Current Issues","Opposing Viewpoints","Conflict Resolution","978-0-7377-3993-0","Greenhaven Publishing","Paperback Book",1,2008,null,"Paperback","6.000 X 9.000","Author","Tom Lansford",null,null,null,null,null,null,"Years 15 - 17",null,"Grade 10 - 12",null,"English",33.799999999999898,27.039999999999921,"303","232 pp.",{"$f":"Table1[[#This Row],['# of Books]]*Table1[[#This Row],[QTY]]","v":0},{"$f":"Table1[[#This Row],[QTY]]*Table1[[#This Row],[School & Library Price]]","v":0}]
[null,8,null,"Current Issues","Opposing Viewpoints","Congressional Ethics","978-0-7377-6046-0","Greenhaven Publishing","Library Bound Book",1,2013,null,"Library Bound","6.000 X 9.000","Author","Joe Tardiff",null,null,null,null,null,null,"Years 15 - 17",null,"Grade 10 - 12","This title explores congressional ethics by placing expert opinions in a unique pro/con format. The viewpoints are selected from a wide range of highly respected and often hard-to-find sources and publications. By choosing from such diverse sources and including both popular and unpopular views, the OPPOSING VIEWPOINTS editorial team has adhered to its commitment to editorial objectivity. Readers are exposed to many sides of a debate, which promotes issue awareness as well as critical thinking.","English",48.8,39.04,"172","248 pp.",{"$f":"Table1[[#This Row],['# of Books]]*Table1[[#This Row],[QTY]]","v":0},{"$f":"Table1[[#This Row],[QTY]]*Table1[[#This Row],[School & Library Price]]","v":0}]
[null,8,null,"Current Issues","Opposing Viewpoints","Congressional Ethics","978-0-7377-6047-7","Greenhaven Publishing","Paperback Book",1,2013,null,"Paperback","6.000 X 9.000","Author","Joe Tardiff",null,null,null,null,null,null,"Years 15 - 17",null,"Grade 10 - 12","This title explores congressional ethics by placing expert opinions in a unique pro/con format. The viewpoints are selected from a wide range of highly respected and often hard-to-find sources and publications. By choosing from such diverse sources and including both popular and unpopular views, the OPPOSING VIEWPOINTS editorial team has adhered to its commitment to editorial objectivity. Readers are exposed to many sides of a debate, which promotes issue awareness as well as critical thinking.","English",33.799999999999898,27.039999999999921,"172","248 pp.",{"$f":"Table1[[#This Row],['# of Books]]*Table1[[#This Row],[QTY]]","v":0},{"$f":"Table1[[#This Row],[QTY]]*Table1[[#This Row],[School & Library Price]]","v":0}]
[null,8,null,"Current Issues","Opposing Viewpoints","Consumerism","978-0-7377-4506-1","Greenhaven Publishing","Library Bound Book",1,2010,null,"Library Bound","6.000 X 9.000","Author","Roman Espejo",null,null,null,null,null,null,"Years 15 - 17",null,"Grade 10 - 12",null,"English",48.8,39.04,"381","232 pp.",{"$f":"Table1[[#This Row],['# of Books]]*Table1[[#This Row],[QTY]]","v":0},{"$f":"Table1[[#This Row],[QTY]]*Table1[[#This Row],[School & Library Price]]","v":0}]
[null,8,null,"Current Issues","Opposing Viewpoints","Consumerism","978-0-7377-4507-8","Greenhaven Publishing","Paperback Book",1,2010,null,"Paperback","6.000 X 9.000","Author","Roman Espejo",null,null,null,null,null,null,"Years 15 - 17",null,"Grade 10 - 12",null,"English",33.799999999999898,27.039999999999921,"381","232 pp.",{"$f":"Table1[[#This Row],['# of Books]]*Table1[[#This Row],[QTY]]","v":0},{"$f":"Table1[[#This Row],[QTY]]*Table1[[#This Row],[School & Library Price]]","v":0}]
[null,8,null,"Current Issues","Opposing Viewpoints","Copyright Infringement","978-0-7377-6650-9","Greenhaven Publishing","Library Bound Book",1,2014,null,"Library Bound","6.000 X 9.000","Author","Carol Ullmann",null,null,null,null,null,null,"Years 15 - 17",null,"Grade 10 - 12","This title explores copyright infringement, including: what constitutes copyright infringement; the economic impact of copyright infringement; is copyright law effective; how does technology affect copyright infringement. The viewpoints are selected from a wide range of highly respected and often hard-to-find sources and publications. By choosing from such diverse sources and including both popular and unpopular views, the OPPOSING VIEWPOINTS editorial team has adhered to its commitment to editorial objectivity. Readers are exposed to many sides of a debate, which promotes issue awareness as well as critical thinking.","English",48.8,39.04,"346","248 pp.",{"$f":"Table1[[#This Row],['# of Books]]*Table1[[#This Row],[QTY]]","v":0},{"$f":"Table1[[#This Row],[QTY]]*Table1[[#This Row],[School & Library Price]]","v":0}]
[null,8,null,"Current Issues","Opposing Viewpoints","Copyright Infringement","978-0-7377-6651-6","Greenhaven Publishing","Paperback Book",1,2014,null,"Paperback","6.000 X 9.000","Author","Carol Ullmann",null,null,null,null,null,null,"Years 15 - 17",null,"Grade 10 - 12","This title explores copyright infringement, including: what constitutes copyright infringement; the economic impact of copyright infringement; is copyright law effective; how does technology affect copyright infringement. The viewpoints are selected from a wide range of highly respected and often hard-to-find sources and publications. By choosing from such diverse sources and including both popular and unpopular views, the OPPOSING VIEWPOINTS editorial team has adhered to its commitment to editorial objectivity. Readers are exposed to many sides of a debate, which promotes issue awareness as well as critical thinking.","English",33.799999999999898,27.039999999999921,"346","248 pp.",{"$f":"Table1[[#This Row],['# of Books]]*Table1[[#This Row],[QTY]]","v":0},{"$f":"Table1[[#This Row],[QTY]]*Table1[[#This Row],[School & Library Price]]","v":0}]
[null,8,null,"Current Issues","Opposing Viewpoints","Corporate Social Responsibility","978-0-7377-6652-3","Greenhaven Publishing","Library Bound Book",1,2014,null,"Library Bound","6.000 X 9.000","Author","Lynn Zott",null,null,null,null,null,null,"Years 15 - 17",null,"Grade 10 - 12","This topic looks at issues related to the Corporate Social Responsibility, including the potential business benefits, relationships between businesses and consumers, and laws. The viewpoints are selected from a wide range of highly respected and often hard-to-find sources and publications. By choosing from such diverse sources and including both popular and unpopular views, the OPPOSING VIEWPOINTS editorial team has adhered to its commitment to editorial objectivity. Readers are exposed to many sides of a debate, which promotes issue awareness as well as critical thinking.","English",48.8,39.04,"658","224 pp.",{"$f":"Table1[[#This Row],['# of Books]]*Table1[[#This Row],[QTY]]","v":0},{"$f":"Table1[[#This Row],[QTY]]*Table1[[#This Row],[School & Library Price]]","v":0}]
[null,8,null,"Current Issues","Opposing Viewpoints","Corporate Social Responsibility","978-0-7377-6653-0","Greenhaven Publishing","Paperback Book",1,2014,null,"Paperback","6.000 X 9.000","Author","Lynn Zott",null,null,null,null,null,null,"Years 15 - 17",null,"Grade 10 - 12","This topic looks at issues related to the Corporate Social Responsibility, including the potential business benefits, relationships between businesses and consumers, and laws. The viewpoints are selected from a wide range of highly respected and often hard-to-find sources and publications. By choosing from such diverse sources and including both popular and unpopular views, the OPPOSING VIEWPOINTS editorial team has adhered to its commitment to editorial objectivity. Readers are exposed to many sides of a debate, which promotes issue awareness as well as critical thinking.","English",33.799999999999898,27.039999999999921,"658","217 pp.",{"$f":"Table1[[#This Row],['# of Books]]*Table1[[#This Row],[QTY]]","v":0},{"$f":"Table1[[#This Row],[QTY]]*Table1[[#This Row],[School & Library Price]]","v":0}]
[null,8,null,"Current Issues","Opposing Viewpoints","Cosmetic Surgery","978-0-7377-4958-8","Greenhaven Publishing","Library Bound Book",1,2011,null,"Library Bound","6.000 X 9.000","Author","Roman Espejo",null,null,null,null,null,null,"Years 15 - 17",null,"Grade 10 - 12","This volume explores the potential benefits and consequences of cosmetic surgery: Does it improve self-esteem? Is it dangerous? Also covered are problems facing the cosmetic surgery industry, such as so-called cosmetic tourism, the safety of medical spas, and issues of cosmetic surgery regulation. Cosmetic Surgery examines the increase in social pressure to have cosmetic surgery and what to consider prior to making a decision, as well as the pros and cons of whether or not people should have elective plastic surgery.","English",48.8,39.04,"617","184 pp.",{"$f":"Table1[[#This Row],['# of Books]]*Table1[[#This Row],[QTY]]","v":0},{"$f":"Table1[[#This Row],[QTY]]*Table1[[#This Row],[School & Library Price]]","v":0}]
[null,8,null,"Current Issues","Opposing Viewpoints","Cosmetic Surgery","978-0-7377-4959-5","Greenhaven Publishing","Paperback Book",1,2011,null,"Paperback","6.000 X 9.000","Author","Roman Espejo",null,null,null,null,null,null,"Years 15 - 17",null,"Grade 10 - 12","This volume explores the potential benefits and consequences of cosmetic surgery: Does it improve self-esteem? Is it dangerous? Also covered are problems facing the cosmetic surgery industry, such as so-called cosmetic tourism, the safety of medical spas, and issues of cosmetic surgery regulation. Cosmetic Surgery examines the increase in social pressure to have cosmetic surgery and what to consider prior to making a decision, as well as the pros and cons of whether or not people should have elective plastic surgery.","English",33.799999999999898,27.039999999999921,"617","184 pp.",{"$f":"Table1[[#This Row],['# of Books]]*Table1[[#This Row],[QTY]]","v":0},{"$f":"Table1[[#This Row],[QTY]]*Table1[[#This Row],[School & Library Price]]","v":0}]
[null,8,null,"Current Issues","Opposing Viewpoints","Crime and Criminals","978-0-7377-4360-9","Greenhaven Publishing","Library Bound Book",1,2010,null,"Library Bound","6.000 X 9.000","Author","Christina Fisanick",null,null,null,null,null,null,"Years 15 - 17",null,"Grade 10 - 12",null,"English",48.8,39.04,"364","256 pp.",{"$f":"Table1[[#This Row],['# of Books]]*Table1[[#This Row],[QTY]]","v":0},{"$f":"Table1[[#This Row],[QTY]]*Table1[[#This Row],[School & Library Price]]","v":0}]
[null,8,null,"Current Issues","Opposing Viewpoints","Crime and Criminals","978-0-7377-4359-3","Greenhaven Publishing","Paperback Book",1,2010,null,"Paperback","6.000 X 9.000","Author","Christina Fisanick",null,null,null,null,null,null,"Years 15 - 17",null,"Grade 10 - 12",null,"English",33.799999999999898,27.039999999999921,"364","256 pp.",{"$f":"Table1[[#This Row],['# of Books]]*Table1[[#This Row],[QTY]]","v":0},{"$f":"Table1[[#This Row],[QTY]]*Table1[[#This Row],[School & Library Price]]","v":0}]
[null,8,null,"Current Issues","Opposing Viewpoints","Criminal Justice","978-0-7377-6306-5","Greenhaven Publishing","Library Bound Book",1,2013,null,"Library Bound","6.000 X 9.000","Author","Noël Merino",null,null,null,null,null,null,"Years 15 - 17",null,"Grade 10 - 12","This title explores whether or not the criminal justice system needs reform, the state of the incarceration system in the US, and if sentencing laws need reform. What rights should be part of the criminal justice system are also explored.","English",48.8,39.04,"364","232 pp.",{"$f":"Table1[[#This Row],['# of Books]]*Table1[[#This Row],[QTY]]","v":0},{"$f":"Table1[[#This Row],[QTY]]*Table1[[#This Row],[School & Library Price]]","v":0}]
[null,8,null,"Current Issues","Opposing Viewpoints","Criminal Justice","978-0-7377-6307-2","Greenhaven Publishing","Paperback Book",1,2013,null,"Paperback","6.000 X 9.000","Author","Noël Merino",null,null,null,null,null,null,"Years 15 - 17",null,"Grade 10 - 12","This title explores whether or not the criminal justice system needs reform, the state of the incarceration system in the US, and if sentencing laws need reform. What rights should be part of the criminal justice system are also explored.","English",33.799999999999898,27.039999999999921,"364","228 pp.",{"$f":"Table1[[#This Row],['# of Books]]*Table1[[#This Row],[QTY]]","v":0},{"$f":"Table1[[#This Row],[QTY]]*Table1[[#This Row],[School & Library Price]]","v":0}]
[null,8,null,"Current Issues","Opposing Viewpoints","Cuba","978-0-7377-6308-9","Greenhaven Publishing","Library Bound Book",1,2013,null,"Library Bound","6.000 X 9.000","Author","Noah Berlatsky",null,null,null,null,null,null,"Years 15 - 17",null,"Grade 10 - 12","This title in the Opposing Viewpoints series explores the state of Cuba and the relationship between Cuba and the rest of the world, by placing expert opinions in a unique pro/con format. The viewpoints are selected from a wide range of highly respected and often hard-to-find sources and publications. By choosing from such diverse sources and including both popular and unpopular views, the Opposing Viewpoints series has adhered to its commitment to editorial objectivity. Readers are exposed to many sides of a debate, which promotes issue awareness as well as critical thinking.","English",48.8,39.04,"972","224 pp.",{"$f":"Table1[[#This Row],['# of Books]]*Table1[[#This Row],[QTY]]","v":0},{"$f":"Table1[[#This Row],[QTY]]*Table1[[#This Row],[School & Library Price]]","v":0}]
[null,8,null,"Current Issues","Opposing Viewpoints","Cuba","978-0-7377-6309-6","Greenhaven Publishing","Paperback Book",1,2013,null,"Paperback","6.000 X 9.000","Author","Noah Berlatsky",null,null,null,null,null,null,"Years 15 - 17",null,"Grade 10 - 12","This title in the Opposing Viewpoints series explores the state of Cuba, and the relationship between Cuba and the rest of the world, by placing expert opinions in a unique pro/con format. The viewpoints are selected from a wide range of highly respected and often hard-to-find sources and publications. By choosing from such diverse sources and including both popular and unpopular views, the Opposing Viewpoints series has adhered to its commitment to editorial objectivity. Readers are exposed to many sides of a debate, which promotes issue awareness as well as critical thinking.","English",33.799999999999898,27.039999999999921,"972","218 pp.",{"$f":"Table1[[#This Row],['# of Books]]*Table1[[#This Row],[QTY]]","v":0},{"$f":"Table1[[#This Row],[QTY]]*Table1[[#This Row],[School & Library Price]]","v":0}]
[null,8,null,"Current Issues","Opposing Viewpoints","Cults","978-0-7377-3994-7","Greenhaven Publishing","Library Bound Book",1,2013,null,"Library Bound","6.000 X 9.000","Author","Roman Espejo",null,null,null,null,null,null,"Years 15 - 17",null,"Grade 10 - 12","This title explores what are cults, whether cults are a serious threat, why people join cults, and how cult members can be helped.","English",48.8,39.04,"306","224 pp.",{"$f":"Table1[[#This Row],['# of Books]]*Table1[[#This Row],[QTY]]","v":0},{"$f":"Table1[[#This Row],[QTY]]*Table1[[#This Row],[School & Library Price]]","v":0}]
[null,8,null,"Current Issues","Opposing Viewpoints","Cults","978-0-7377-3995-4","Greenhaven Publishing","Paperback Book",1,2013,null,"Paperback","6.000 X 9.000","Author","Roman Espejo",null,null,null,null,null,null,"Years 15 - 17",null,"Grade 10 - 12","This title explores what are cults, whether cults are a serious threat, why people join cults, and how cult members can be helped.","English",33.799999999999898,27.039999999999921,"306","218 pp.",{"$f":"Table1[[#This Row],['# of Books]]*Table1[[#This Row],[QTY]]","v":0},{"$f":"Table1[[#This Row],[QTY]]*Table1[[#This Row],[School & Library Price]]","v":0}]
[null,8,null,"Current Issues","Opposing Viewpoints","Culture Wars","978-0-7377-3756-1","Greenhaven Publishing","Paperback Book",1,2008,null,"Paperback","6.000 X 9.000","Author","Mitchell Young",null,null,null,null,null,null,"Years 15 - 17",null,"Grade 10 - 12",null,"English",33.799999999999898,27.039999999999921,"174","210 pp.",{"$f":"Table1[[#This Row],['# of Books]]*Table1[[#This Row],[QTY]]","v":0},{"$f":"Table1[[#This Row],[QTY]]*Table1[[#This Row],[School & Library Price]]","v":0}]
[null,8,null,"Current Issues","Opposing Viewpoints","Cybercrime","978-0-7377-6312-6","Greenhaven Publishing","Library Bound Book",1,2013,null,"Library Bound","6.000 X 9.000","Author","Louise I. Gerdes",null,null,null,null,null,null,"Years 15 - 17",null,"Grade 10 - 12","This title in the Opposing Viewpoints series explores the problem of cybercrime by placing expert opinions in a unique pro/con format. Includes discussion of the definition of cybercrime and possible solutions. The viewpoints are selected from a wide range of highly respected and often hard-to-find sources and publications. By choosing from such diverse sources and including both popular and unpopular views, the Opposing Viewpoints series has adhered to its commitment to editorial objectivity. Readers are exposed to many sides of a debate, which promotes issue awareness as well as critical thinking.","English",48.8,39.04,"364","248 pp.",{"$f":"Table1[[#This Row],['# of Books]]*Table1[[#This Row],[QTY]]","v":0},{"$f":"Table1[[#This Row],[QTY]]*Table1[[#This Row],[School & Library Price]]","v":0}]
[null,8,null,"Current Issues","Opposing Viewpoints","Cybercrime","978-0-7377-6313-3","Greenhaven Publishing","Paperback Book",1,2013,null,"Paperback","6.000 X 9.000","Author","Louise I. Gerdes",null,null,null,null,null,null,"Years 15 - 17",null,"Grade 10 - 12","This title in the Opposing Viewpoints series explores the problem of cybercrime by placing expert opinions in a unique pro/con format. Includes discussion of the definition of cybercrime and possible solutions. The viewpoints are selected from a wide range of highly respected and often hard-to-find sources and publications. By choosing from such diverse sources and including both popular and unpopular views, the Opposing Viewpoints series has adhered to its commitment to editorial objectivity. Readers are exposed to many sides of a debate, which promotes issue awareness as well as critical thinking.","English",33.799999999999898,27.039999999999921,"364","243 pp.",{"$f":"Table1[[#This Row],['# of Books]]*Table1[[#This Row],[QTY]]","v":0},{"$f":"Table1[[#This Row],[QTY]]*Table1[[#This Row],[School & Library Price]]","v":0}]
[null,8,null,"Current Issues","Opposing Viewpoints","Death and Dying","978-0-7377-1223-0","Greenhaven Publishing","Paperback Book",1,2003,null,"Paperback","6.000 X 9.000","Author","James Haley",null,null,null,null,null,null,"Years 15 - 17",null,"Grade 10 - 12","Doctors, scientists, and those who have lost loved ones discuss the difficult issues surrounding death and dying such as easing the dying process, coping with death, extending the human life span, and the possibility of life after death.","English",33.799999999999898,27.039999999999921,"306.9","224 pp.",{"$f":"Table1[[#This Row],['# of Books]]*Table1[[#This Row],[QTY]]","v":0},{"$f":"Table1[[#This Row],[QTY]]*Table1[[#This Row],[School & Library Price]]","v":0}]
[null,8,null,"Current Issues","Opposing Viewpoints","Debt","978-0-7377-4203-9","Greenhaven Publishing","Paperback Book",1,2010,null,"Paperback","6.000 X 9.000","Author","Christina Fisanick",null,null,null,null,null,null,"Years 15 - 17",null,"Grade 10 - 12",null,"English",33.799999999999898,27.039999999999921,"332","200 pp.",{"$f":"Table1[[#This Row],['# of Books]]*Table1[[#This Row],[QTY]]","v":0},{"$f":"Table1[[#This Row],[QTY]]*Table1[[#This Row],[School & Library Price]]","v":0}]
[null,8,null,"Current Issues","Opposing Viewpoints","Democracy","978-0-7377-5717-0","Greenhaven Publishing","Library Bound Book",1,2012,null,"Library Bound","6.000 X 9.000","Author","David Haugen",null,null,null,null,null,null,"Years 15 - 17",null,"Grade 10 - 12","This addition to the popular OPPOSING VIEWPOINTS series examines the democratic political system. Through a balanced collection of articles from a variety of sources, the title explores the state of democracy worldwide; the question of whether or not there can be democracy in the Middle East; what can be done to improve United States democracy; and the role of the United States in fostering democracy worldwide.","English",48.8,39.04,"321","280 pp.",{"$f":"Table1[[#This Row],['# of Books]]*Table1[[#This Row],[QTY]]","v":0},{"$f":"Table1[[#This Row],[QTY]]*Table1[[#This Row],[School & Library Price]]","v":0}]
[null,8,null,"Current Issues","Opposing Viewpoints","Democracy","978-0-7377-5718-7","Greenhaven Publishing","Paperback Book",1,2012,null,"Paperback","6.000 X 9.000","Author","David Haugen",null,null,null,null,null,null,"Years 15 - 17",null,"Grade 10 - 12","This addition to the popular OPPOSING VIEWPOINTS series examines the democratic political system. Through a balanced collection of articles from a variety of sources, the title explores the state of democracy worldwide; the question of whether or not there can be democracy in the Middle East; what can be done to improve United States democracy; and the role of the United States in fostering democracy worldwide.","English",33.799999999999898,27.039999999999921,"321","280 pp.",{"$f":"Table1[[#This Row],['# of Books]]*Table1[[#This Row],[QTY]]","v":0},{"$f":"Table1[[#This Row],[QTY]]*Table1[[#This Row],[School & Library Price]]","v":0}]
[null,8,null,"Current Issues","Opposing Viewpoints","Deregulation","978-0-7377-5108-6","Greenhaven Publishing","Library Bound Book",1,2011,null,"Library Bound","6.000 X 9.000","Author","Dedria Bryfonski",null,null,null,null,null,null,"Years 15 - 17",null,"Grade 10 - 12",null,"English",48.8,39.04,"338","280 pp.",{"$f":"Table1[[#This Row],['# of Books]]*Table1[[#This Row],[QTY]]","v":0},{"$f":"Table1[[#This Row],[QTY]]*Table1[[#This Row],[School & Library Price]]","v":0}]
[null,8,null,"Current Issues","Opposing Viewpoints","Deregulation","978-0-7377-5109-3","Greenhaven Publishing","Paperback Book",1,2011,null,"Paperback","6.000 X 9.000","Author","Dedria Bryfonski",null,null,null,null,null,null,"Years 15 - 17",null,"Grade 10 - 12",null,"English",33.799999999999898,27.039999999999921,"338","280 pp.",{"$f":"Table1[[#This Row],['# of Books]]*Table1[[#This Row],[QTY]]","v":0},{"$f":"Table1[[#This Row],[QTY]]*Table1[[#This Row],[School & Library Price]]","v":0}]
[null,8,null,"Current Issues","Opposing Viewpoints","Dictatorships","978-0-7377-6314-0","Greenhaven Publishing","Library Bound Book",1,2013,null,"Library Bound","6.000 X 9.000","Author","Tom Lansford",null,null,null,null,null,null,"Years 15 - 17",null,"Grade 10 - 12","This title addresses dictatorships worldwide, examining whether dictatorships can be a good form of government; whether certain dictatorships are becoming democracies; whether certain democracies are becoming dictatorships; and what the future might hold for Middle East governments. The viewpoints are selected from a wide range of highly respected and often hard-to-find sources and publications. By choosing from such diverse sources and including both popular and unpopular views, the OPPOSING VIEWPOINTS editorial team has adhered to its commitment to editorial objectivity. Readers are exposed to many sides of a debate, which promotes issue awareness as well as critical thinking.","English",48.8,39.04,"321","224 pp.",{"$f":"Table1[[#This Row],['# of Books]]*Table1[[#This Row],[QTY]]","v":0},{"$f":"Table1[[#This Row],[QTY]]*Table1[[#This Row],[School & Library Price]]","v":0}]
[null,8,null,"Current Issues","Opposing Viewpoints","Dictatorships","978-0-7377-6315-7","Greenhaven Publishing","Paperback Book",1,2013,null,"Paperback","6.000 X 9.000","Author","Tom Lansford",null,null,null,null,null,null,"Years 15 - 17",null,"Grade 10 - 12","This title addresses dictatorships worldwide, examining whether dictatorships can be a good form of government; whether certain dictatorships are becoming democracies; whether certain democracies are becoming dictatorships; and what the future might hold for Middle East governments. The viewpoints are selected from a wide range of highly respected and often hard-to-find sources and publications. By choosing from such diverse sources and including both popular and unpopular views, the OPPOSING VIEWPOINTS editorial team has adhered to its commitment to editorial objectivity. Readers are exposed to many sides of a debate, which promotes issue awareness as well as critical thinking.","English",33.799999999999898,27.039999999999921,"321","222 pp.",{"$f":"Table1[[#This Row],['# of Books]]*Table1[[#This Row],[QTY]]","v":0},{"$f":"Table1[[#This Row],[QTY]]*Table1[[#This Row],[School & Library Price]]","v":0}]
[null,8,null,"Current Issues","Opposing Viewpoints","Dietary Supplements","978-0-7377-6316-4","Greenhaven Publishing","Library Bound Book",1,2014,null,"Library Bound","6.000 X 9.000","Author","Noah Berlatsky",null,null,null,null,null,null,"Years 15 - 17",null,"Grade 10 - 12","This title addresses controversies related to dietary supplements, including: how should dietary supplements be regulated; are vitamin and mineral supplements beneficial; are weight-loss supplements and athletic supplements beneficial; how well do supplements treat different medical conditions. The viewpoints are selected from a wide range of highly respected and often hard-to-find sources and publications. By choosing from such diverse sources and including both popular and unpopular views, the OPPOSING VIEWPOINTS editorial team has adhered to its commitment to editorial objectivity. Readers are exposed to many sides of a debate, which promotes issue awareness as well as critical thinking.","English",48.8,39.04,"613","200 pp.",{"$f":"Table1[[#This Row],['# of Books]]*Table1[[#This Row],[QTY]]","v":0},{"$f":"Table1[[#This Row],[QTY]]*Table1[[#This Row],[School & Library Price]]","v":0}]
[null,8,null,"Current Issues","Opposing Viewpoints","Dietary Supplements","978-0-7377-6317-1","Greenhaven Publishing","Paperback Book",1,2014,null,"Paperback","6.000 X 9.000","Author","Noah Berlatsky",null,null,null,null,null,null,"Years 15 - 17",null,"Grade 10 - 12","This title addresses controversies related to dietary supplements, including: how should dietary supplements be regulated; are vitamin and mineral supplements beneficial; are weight-loss supplements and athletic supplements beneficial; how well do supplements treat different medical conditions. The viewpoints are selected from a wide range of highly respected and often hard-to-find sources and publications. By choosing from such diverse sources and including both popular and unpopular views, the OPPOSING VIEWPOINTS editorial team has adhered to its commitment to editorial objectivity. Readers are exposed to many sides of a debate, which promotes issue awareness as well as critical thinking.","English",33.799999999999898,27.039999999999921,"613","195 pp.",{"$f":"Table1[[#This Row],['# of Books]]*Table1[[#This Row],[QTY]]","v":0},{"$f":"Table1[[#This Row],[QTY]]*Table1[[#This Row],[School & Library Price]]","v":0}]
[null,8,null,"Current Issues","Opposing Viewpoints","Discrimination","978-0-7377-3740-0","Greenhaven Publishing","Paperback Book",1,2008,null,"Paperback","6.000 X 9.000","Author","Jacqueline Langwith",null,null,null,null,null,null,"Years 15 - 17",null,"Grade 10 - 12",null,"English",33.799999999999898,27.039999999999921,"174","247 pp.",{"$f":"Table1[[#This Row],['# of Books]]*Table1[[#This Row],[QTY]]","v":0},{"$f":"Table1[[#This Row],[QTY]]*Table1[[#This Row],[School & Library Price]]","v":0}]
[null,8,null,"Current Issues","Opposing Viewpoints","Divorce","978-0-7377-4204-6","Greenhaven Publishing","Library Bound Book",1,2009,null,"Library Bound","6.000 X 9.000","Author","Mike Wilson",null,null,null,null,null,null,"Years 15 - 17",null,"Grade 10 - 12",null,"English",48.8,39.04,"306","200 pp.",{"$f":"Table1[[#This Row],['# of Books]]*Table1[[#This Row],[QTY]]","v":0},{"$f":"Table1[[#This Row],[QTY]]*Table1[[#This Row],[School & Library Price]]","v":0}]
[null,8,null,"Current Issues","Opposing Viewpoints","Divorce","978-0-7377-4205-3","Greenhaven Publishing","Paperback Book",1,2009,null,"Paperback","6.000 X 9.000","Author","Mike Wilson",null,null,null,null,null,null,"Years 15 - 17",null,"Grade 10 - 12",null,"English",33.799999999999898,27.039999999999921,"306","200 pp.",{"$f":"Table1[[#This Row],['# of Books]]*Table1[[#This Row],[QTY]]","v":0},{"$f":"Table1[[#This Row],[QTY]]*Table1[[#This Row],[School & Library Price]]","v":0}]
[null,8,null,"Current Issues","Opposing Viewpoints","Domestic Terrorism","978-0-7377-7254-8","Greenhaven Publishing","Library Bound Book",1,2015,null,"Library Bound","6.000 X 9.000","Author","Margaret Haerens",null,null,null,null,null,null,"Years 15 - 17",null,"Grade 10 - 12","OPPOSING VIEWPOINTS: DOMESTIC TERRORISM examines how domestic terrorism should be assessed or defined, and what groups are likely to emerge from these threats. It also looks at how the threat of domestic terrorism could be averted or prevented, and how it should be treated.","English",48.8,39.04,"363","232 pp.",{"$f":"Table1[[#This Row],['# of Books]]*Table1[[#This Row],[QTY]]","v":0},{"$f":"Table1[[#This Row],[QTY]]*Table1[[#This Row],[School & Library Price]]","v":0}]
[null,8,null,"Current Issues","Opposing Viewpoints","Domestic Terrorism","978-0-7377-7255-5","Greenhaven Publishing","Paperback Book",1,2015,null,"Paperback","6.000 X 9.000","Author","Margaret Haerens",null,null,null,null,null,null,"Years 15 - 17",null,"Grade 10 - 12","OPPOSING VIEWPOINTS: DOMESTIC TERRORISM  examines how domestic terrorism should be assessed or defined, and what groups are likely to emerge from these threats. It also looks at how the threat of domestic terrorism could be averted or prevented, and how it should be treated.","English",33.799999999999898,27.039999999999921,"363","230 pp.",{"$f":"Table1[[#This Row],['# of Books]]*Table1[[#This Row],[QTY]]","v":0},{"$f":"Table1[[#This Row],[QTY]]*Table1[[#This Row],[School & Library Price]]","v":0}]
[null,8,null,"Current Issues","Opposing Viewpoints","Domestic Violence","978-0-7377-5719-4","Greenhaven Publishing","Library Bound Book",1,2012,null,"Library Bound","6.000 X 9.000","Author","Louise I. Gerdes",null,null,null,null,null,null,"Years 15 - 17",null,"Grade 10 - 12",null,"English",48.8,39.04,"362","240 pp.",{"$f":"Table1[[#This Row],['# of Books]]*Table1[[#This Row],[QTY]]","v":0},{"$f":"Table1[[#This Row],[QTY]]*Table1[[#This Row],[School & Library Price]]","v":0}]
[null,8,null,"Current Issues","Opposing Viewpoints","Domestic Violence","978-0-7377-5720-0","Greenhaven Publishing","Paperback Book",1,2012,null,"Paperback","6.000 X 9.000","Author","Louise I. Gerdes",null,null,null,null,null,null,"Years 15 - 17",null,"Grade 10 - 12",null,"English",33.799999999999898,27.039999999999921,"362","238 pp.",{"$f":"Table1[[#This Row],['# of Books]]*Table1[[#This Row],[QTY]]","v":0},{"$f":"Table1[[#This Row],[QTY]]*Table1[[#This Row],[School & Library Price]]","v":0}]
[null,8,null,"Current Issues","Opposing Viewpoints","Doomsday Scenarios","978-0-7377-5721-7","Greenhaven Publishing","Library Bound Book",1,2011,null,"Library Bound","6.000 X 9.000","Author","Noah Berlatsky",null,null,null,null,null,null,"Years 15 - 17",null,"Grade 10 - 12",null,"English",48.8,39.04,"202","232 pp.",{"$f":"Table1[[#This Row],['# of Books]]*Table1[[#This Row],[QTY]]","v":0},{"$f":"Table1[[#This Row],[QTY]]*Table1[[#This Row],[School & Library Price]]","v":0}]
[null,8,null,"Current Issues","Opposing Viewpoints","Doomsday Scenarios","978-0-7377-5722-4","Greenhaven Publishing","Paperback Book",1,2011,null,"Paperback","6.000 X 9.000","Author","Noah Berlatsky",null,null,null,null,null,null,"Years 15 - 17",null,"Grade 10 - 12",null,"English",33.799999999999898,27.039999999999921,"202","232 pp.",{"$f":"Table1[[#This Row],['# of Books]]*Table1[[#This Row],[QTY]]","v":0},{"$f":"Table1[[#This Row],[QTY]]*Table1[[#This Row],[School & Library Price]]","v":0}]
[null,8,null,"Current Issues","Opposing Viewpoints","Doping","978-0-7377-6318-8","Greenhaven Publishing","Library Bound Book",1,2014,null,"Library Bound","6.000 X 9.000","Author","Aarti Stephens",null,null,null,null,null,null,"Years 15 - 17",null,"Grade 10 - 12","This title explores doping, including: why do athletes dope; should doping be banned; what are the effects of doping on sports; how should doping athletes be treated. The viewpoints are selected from a wide range of highly respected and often hard-to-find sources and publications. By choosing from such diverse sources and including both popular and unpopular views, the OPPOSING VIEWPOINTS editorial team has adhered to its commitment to editorial objectivity. Readers are exposed to many sides of a debate, which promotes issue awareness as well as critical thinking.","English",48.8,39.04,"362","200 pp.",{"$f":"Table1[[#This Row],['# of Books]]*Table1[[#This Row],[QTY]]","v":0},{"$f":"Table1[[#This Row],[QTY]]*Table1[[#This Row],[School & Library Price]]","v":0}]
[null,8,null,"Current Issues","Opposing Viewpoints","Doping","978-0-7377-6319-5","Greenhaven Publishing","Paperback Book",1,2014,null,"Paperback","6.000 X 9.000","Author","Aarti Stephens",null,null,null,null,null,null,"Years 15 - 17",null,"Grade 10 - 12","This title explores doping, including: why do athletes dope; should doping be banned; what are the effects of doping on sports; how should doping athletes be treated. The viewpoints are selected from a wide range of highly respected and often hard-to-find sources and publications. By choosing from such diverse sources and including both popular and unpopular views, the OPPOSING VIEWPOINTS editorial team has adhered to its commitment to editorial objectivity. Readers are exposed to many sides of a debate, which promotes issue awareness as well as critical thinking.","English",33.799999999999898,27.039999999999921,"362","199 pp.",{"$f":"Table1[[#This Row],['# of Books]]*Table1[[#This Row],[QTY]]","v":0},{"$f":"Table1[[#This Row],[QTY]]*Table1[[#This Row],[School & Library Price]]","v":0}]
[null,8,null,"Current Issues","Opposing Viewpoints","Eating Disorders","978-0-7377-5723-1","Greenhaven Publishing","Library Bound Book",1,2012,null,"Library Bound","6.000 X 9.000","Author","Roman Espejo",null,null,null,null,null,null,"Years 15 - 17",null,"Grade 10 - 12","This edition in the popular OPPOSING VIEWPOINTS series discusses issues related to eating disorders. Through a balanced collection of articles from a variety of sources, the title explores whether or not eating disorders are a serious problem; possible causes of eating disorders, such as genetics, mental health issues, and societal influences; the relationship between the Internet and eating disorders; and various ways to treat eating disorders.","English",48.8,39.04,"616","232 pp.",{"$f":"Table1[[#This Row],['# of Books]]*Table1[[#This Row],[QTY]]","v":0},{"$f":"Table1[[#This Row],[QTY]]*Table1[[#This Row],[School & Library Price]]","v":0}]
[null,8,null,"Current Issues","Opposing Viewpoints","Eating Disorders","978-0-7377-5724-8","Greenhaven Publishing","Paperback Book",1,2012,null,"Paperback","6.000 X 9.000","Author","Roman Espejo",null,null,null,null,null,null,"Years 15 - 17",null,"Grade 10 - 12","This edition in the popular OPPOSING VIEWPOINTS series discusses issues related to eating disorders. Through a balanced collection of articles from a variety of sources, the title explores whether or not eating disorders are a serious problem; possible causes of eating disorders, such as genetics, mental health issues, and societal influences; the relationship between the Internet and eating disorders; and various ways to treat eating disorders.","English",33.799999999999898,27.039999999999921,"616","232 pp.",{"$f":"Table1[[#This Row],['# of Books]]*Table1[[#This Row],[QTY]]","v":0},{"$f":"Table1[[#This Row],[QTY]]*Table1[[#This Row],[School & Library Price]]","v":0}]
[null,8,null,"Current Issues","Opposing Viewpoints","Eco-Architecture","978-0-7377-6320-1","Greenhaven Publishing","Library Bound Book",1,2013,null,"Library Bound","6.000 X 9.000","Author","Roman Espejo",null,null,null,null,null,null,"Years 15 - 17",null,"Grade 10 - 12","This title explores numerous aspects of eco-friendly architecture, including whether it is financially beneficial, whether it can also be stylish, whether it protects human health, and whether it benefits the environment. This volume also examines ways green building is being used on campus and in hospitals.","English",48.8,39.04,"720","240 pp.",{"$f":"Table1[[#This Row],['# of Books]]*Table1[[#This Row],[QTY]]","v":0},{"$f":"Table1[[#This Row],[QTY]]*Table1[[#This Row],[School & Library Price]]","v":0}]
[null,8,null,"Current Issues","Opposing Viewpoints","Eco-Architecture","978-0-7377-6321-8","Greenhaven Publishing","Paperback Book",1,2013,null,"Paperback","6.000 X 9.000","Author","Roman Espejo",null,null,null,null,null,null,"Years 15 - 17",null,"Grade 10 - 12","This title explores numerous aspects of eco-friendly architecture, including whether it is financially beneficial, whether it can also be stylish, whether it protects human health, and whether it benefits the environment. This volume also examines ways green building is being used on campus and in hospitals.","English",33.799999999999898,27.039999999999921,"720","235 pp.",{"$f":"Table1[[#This Row],['# of Books]]*Table1[[#This Row],[QTY]]","v":0},{"$f":"Table1[[#This Row],[QTY]]*Table1[[#This Row],[School & Library Price]]","v":0}]
[null,8,null,"Current Issues","Opposing Viewpoints","Education","978-0-7377-6434-5","Greenhaven Publishing","Library Bound Book",1,2014,null,"Library Bound","6.000 X 9.000","Author","Noël Merino",null,null,null,null,null,null,"Years 15 - 17",null,"Grade 10 - 12","OPPOSING VIEWPOINTS: EDUCATION examines what the state of education is in America, if school alternatives are a good idea, if religion and religious ideas should be part of public education, and how the education system should be improved. The viewpoints are selected from a wide range of highly respected and often hard-to-find sources and publications. By choosing from such diverse sources and including both popular and unpopular views, the OPPOSING VIEWPOINTS editorial team has adhered to its commitment to editorial objectivity. Readers are exposed to many sides of a debate, which promotes issue awareness as well as critical thinking.","English",48.8,39.04,"370","224 pp.",{"$f":"Table1[[#This Row],['# of Books]]*Table1[[#This Row],[QTY]]","v":0},{"$f":"Table1[[#This Row],[QTY]]*Table1[[#This Row],[School & Library Price]]","v":0}]
[null,8,null,"Current Issues","Opposing Viewpoints","Education","978-0-7377-6433-8","Greenhaven Publishing","Paperback Book",1,2014,null,"Paperback","6.000 X 9.000","Author","Noël Merino",null,null,null,null,null,null,"Years 15 - 17",null,"Grade 10 - 12","OPPOSING VIEWPOINTS: EDUCATION examines what the state of education is in America, if school alternatives are a good idea, if religion and religious ideas should be part of public education, and how the education system should be improved. The viewpoints are selected from a wide range of highly respected and often hard-to-find sources and publications. By choosing from such diverse sources and including both popular and unpopular views, the OPPOSING VIEWPOINTS editorial team has adhered to its commitment to editorial objectivity. Readers are exposed to many sides of a debate, which promotes issue awareness as well as critical thinking.","English",33.799999999999898,27.039999999999921,"370","217 pp.",{"$f":"Table1[[#This Row],['# of Books]]*Table1[[#This Row],[QTY]]","v":0},{"$f":"Table1[[#This Row],[QTY]]*Table1[[#This Row],[School & Library Price]]","v":0}]
[null,9,null,"Current Issues","Opposing Viewpoints","Egypt","978-0-7377-7256-2","Greenhaven Publishing","Library Bound Book",1,2015,null,"Library Bound","6.000 X 9.000","Author","Margaret Haerens",null,null,null,null,null,null,"Years 15 - 17",null,"Grade 10 - 12","The changing political climate in Egypt is explored in this volume of Opposing Viewpoints with such topics as how to view recent political events in Egypt, the impact of recent political and social upheaval in Egypt, the political, economic, and social policies Egypt should adopt, and what the US Policy should be on Egypt.","English",48.8,39.04,"932","270 pp.",{"$f":"Table1[[#This Row],['# of Books]]*Table1[[#This Row],[QTY]]","v":0},{"$f":"Table1[[#This Row],[QTY]]*Table1[[#This Row],[School & Library Price]]","v":0}]
[null,9,null,"Current Issues","Opposing Viewpoints","Egypt","978-0-7377-7257-9","Greenhaven Publishing","Paperback Book",1,2015,null,"Paperback","6.000 X 9.000","Author","Margaret Haerens",null,null,null,null,null,null,"Years 15 - 17",null,"Grade 10 - 12","The changing political climate in Egypt is explored in this volume of Opposing Viewpoints with such topics as how to view recent political events in Egypt, the impact of recent political and social upheaval in Egypt, the political, economic, and social policies Egypt should adopt, and what the US Policy should be on Egypt.","English",33.799999999999898,27.039999999999921,"932","270 pp.",{"$f":"Table1[[#This Row],['# of Books]]*Table1[[#This Row],[QTY]]","v":0},{"$f":"Table1[[#This Row],[QTY]]*Table1[[#This Row],[School & Library Price]]","v":0}]
[null,9,null,"Current Issues","Opposing Viewpoints","Election Spending","978-0-7377-5434-6","Greenhaven Publishing","Library Bound Book",1,2012,null,"Library Bound","6.000 X 9.000","Author","Nancy Dziedzic",null,null,null,null,null,null,"Years 15 - 17",null,"Grade 10 - 12",null,"English",48.8,39.04,"324","224 pp.",{"$f":"Table1[[#This Row],['# of Books]]*Table1[[#This Row],[QTY]]","v":0},{"$f":"Table1[[#This Row],[QTY]]*Table1[[#This Row],[School & Library Price]]","v":0}]
[null,9,null,"Current Issues","Opposing Viewpoints","Election Spending","978-0-7377-5435-3","Greenhaven Publishing","Paperback Book",1,2012,null,"Paperback","6.000 X 9.000","Author","Nancy Dziedzic",null,null,null,null,null,null,"Years 15 - 17",null,"Grade 10 - 12",null,"English",33.799999999999898,27.039999999999921,"324","225 pp.",{"$f":"Table1[[#This Row],['# of Books]]*Table1[[#This Row],[QTY]]","v":0},{"$f":"Table1[[#This Row],[QTY]]*Table1[[#This Row],[School & Library Price]]","v":0}]
[null,9,null,"Current Issues","Opposing Viewpoints","Endangered Oceans","978-0-7377-6052-1","Greenhaven Publishing","Library Bound Book",1,2014,null,"Library Bound","6.000 X 9.000","Author","Helga Schier",null,null,null,null,null,null,"Years 15 - 17",null,"Grade 10 - 12","This addition to the popular OPPOSING VIEWPOINTS series discusses the topic of Earth’s endangered oceans. Through the use of carefully selected articles, pulled from a variety of sources, this text addresses what threatens the world’s oceans, what ocean policies are best, what strategies would best promote sustainable fishing, and what impact do human activities have on marine mammals. The viewpoints are selected from a wide range of highly respected and often hard-to-find sources and publications. By choosing from such diverse sources and including both popular and unpopular views, the OPPOSING VIEWPOINTS editorial team has adhered to its commitment to editorial objectivity. Readers are exposed to many sides of a debate, which promotes issue awareness as well as critical thinking.","English",48.8,39.04,"333","232 pp.",{"$f":"Table1[[#This Row],['# of Books]]*Table1[[#This Row],[QTY]]","v":0},{"$f":"Table1[[#This Row],[QTY]]*Table1[[#This Row],[School & Library Price]]","v":0}]
[null,9,null,"Current Issues","Opposing Viewpoints","Endangered Oceans","978-0-7377-6053-8","Greenhaven Publishing","Paperback Book",1,2014,null,"Paperback","6.000 X 9.000","Author","Helga Schier",null,null,null,null,null,null,"Years 15 - 17",null,"Grade 10 - 12","This addition to the popular OPPOSING VIEWPOINTS series discusses the topic of Earth’s endangered oceans. Through the use of carefully selected articles, pulled from a variety of sources, this text addresses what threatens the world’s oceans, what ocean policies are best, what strategies would best promote sustainable fishing, and what impact do human activities have on marine mammals. The viewpoints are selected from a wide range of highly respected and often hard-to-find sources and publications. By choosing from such diverse sources and including both popular and unpopular views, the OPPOSING VIEWPOINTS editorial team has adhered to its commitment to editorial objectivity. Readers are exposed to many sides of a debate, which promotes issue awareness as well as critical thinking.","English",33.799999999999898,27.039999999999921,"333","228 pp.",{"$f":"Table1[[#This Row],['# of Books]]*Table1[[#This Row],[QTY]]","v":0},{"$f":"Table1[[#This Row],[QTY]]*Table1[[#This Row],[School & Library Price]]","v":0}]
[null,9,null,"Current Issues","Opposing Viewpoints","Endangered Species","978-0-7377-2931-3","Greenhaven Publishing","Library Bound Book",1,2008,null,"Library Bound","6.000 X 9.000","Author","Viqi Wagner",null,null,null,null,null,null,"Years 15 - 17",null,"Grade 10 - 12",null,"English",48.8,39.04,"333","240 pp.",{"$f":"Table1[[#This Row],['# of Books]]*Table1[[#This Row],[QTY]]","v":0},{"$f":"Table1[[#This Row],[QTY]]*Table1[[#This Row],[School & Library Price]]","v":0}]
[null,9,null,"Current Issues","Opposing Viewpoints","Endangered Species","978-0-7377-2932-0","Greenhaven Publishing","Paperback Book",1,2008,null,"Paperback","6.000 X 9.000","Author","Viqi Wagner",null,null,null,null,null,null,"Years 15 - 17",null,"Grade 10 - 12",null,"English",33.799999999999898,27.039999999999921,"333","230 pp.",{"$f":"Table1[[#This Row],['# of Books]]*Table1[[#This Row],[QTY]]","v":0},{"$f":"Table1[[#This Row],[QTY]]*Table1[[#This Row],[School & Library Price]]","v":0}]
[null,9,null,"Current Issues","Opposing Viewpoints","Energy Alternatives","978-0-7377-7258-6","Greenhaven Publishing","Library Bound Book",1,2015,null,"Library Bound","6.000 X 9.000","Author","Sylvia Engdahl",null,null,null,null,null,null,"Years 15 - 17",null,"Grade 10 - 12","OPPOSING VIEWPOINTS: ENERGY ALTERNATIVES  examines whether or not alternative energy sources can replace fossil fuels and if the benefits of wind power outweigh its disadvantages. This volume also debates the practicality of utility-scale solar power as a practical alternative energy source as well as the advantages and disadvantages of alternative energy in general.","English",48.8,39.04,"333","224 pp.",{"$f":"Table1[[#This Row],['# of Books]]*Table1[[#This Row],[QTY]]","v":0},{"$f":"Table1[[#This Row],[QTY]]*Table1[[#This Row],[School & Library Price]]","v":0}]
[null,9,null,"Current Issues","Opposing Viewpoints","Energy Alternatives","978-0-7377-7259-3","Greenhaven Publishing","Paperback Book",1,2015,null,"Paperback","6.000 X 9.000","Author","Sylvia Engdahl",null,null,null,null,null,null,"Years 15 - 17",null,"Grade 10 - 12","OPPOSING VIEWPOINTS: ENERGY ALTERNATIVES examines whether or not alternative energy sources can replace fossil fuels and if the benefits of wind power outweigh its disadvantages. This volume also debates the practicality of utility-scale solar power as a practical alternative energy source as well as the advantages and disadvantages of alternative energy in general.","English",33.799999999999898,27.039999999999921,"333","220 pp.",{"$f":"Table1[[#This Row],['# of Books]]*Table1[[#This Row],[QTY]]","v":0},{"$f":"Table1[[#This Row],[QTY]]*Table1[[#This Row],[School & Library Price]]","v":0}]
[null,9,null,"Current Issues","Opposing Viewpoints","Epidemics","978-0-7377-5220-5","Greenhaven Publishing","Paperback Book",1,2011,null,"Paperback","6.000 X 9.000","Author","David Haugen",null,null,null,null,null,null,"Years 15 - 17",null,"Grade 10 - 12",null,"English",33.799999999999898,27.039999999999921,"614","280 pp.",{"$f":"Table1[[#This Row],['# of Books]]*Table1[[#This Row],[QTY]]","v":0},{"$f":"Table1[[#This Row],[QTY]]*Table1[[#This Row],[School & Library Price]]","v":0}]
[null,9,null,"Current Issues","Opposing Viewpoints","Ethics","978-0-7377-7260-9","Greenhaven Publishing","Library Bound Book",1,2015,null,"Library Bound","6.000 X 9.000","Author","Noël Merino",null,null,null,null,null,null,"Years 15 - 17",null,"Grade 10 - 12","OPPOSING VIEWPOINTS: ETHICS examines the basis for ethics, including changing boundaries and secular values. It covers what ethics should guide decisions about life including the morally relevant moment of life, and also aiding in death decisions and health care.  This title questions whether religious beliefs about ethics should justify behavior including conscience objections, blanket exemptions to laws, and provision/denial of health care. It also covers how ethics should guide economic policies like the free market and minimum wage.","English",48.8,39.04,"170","224 pp.",{"$f":"Table1[[#This Row],['# of Books]]*Table1[[#This Row],[QTY]]","v":0},{"$f":"Table1[[#This Row],[QTY]]*Table1[[#This Row],[School & Library Price]]","v":0}]
[null,9,null,"Current Issues","Opposing Viewpoints","Ethics","978-0-7377-7261-6","Greenhaven Publishing","Paperback Book",1,2015,null,"Paperback","6.000 X 9.000","Author","Noël Merino",null,null,null,null,null,null,"Years 15 - 17",null,"Grade 10 - 12","OPPOSING VIEWPOINTS: ETHICS  examines the basis for ethics, including changing boundaries and secular values. It covers what ethics should guide decisions about life including the morally relevant moment of life, and also aiding in death decisions and health care.  This title questions whether religious beliefs about ethics should justify behavior including conscience objections, blanket exemptions to laws, and provision/denial of health care. It also covers how ethics should guide economic policies like the free market and minimum wage.","English",33.799999999999898,27.039999999999921,"170","220 pp.",{"$f":"Table1[[#This Row],['# of Books]]*Table1[[#This Row],[QTY]]","v":0},{"$f":"Table1[[#This Row],[QTY]]*Table1[[#This Row],[School & Library Price]]","v":0}]
[null,9,null,"Current Issues","Opposing Viewpoints","Euthanasia","978-0-7377-7262-3","Greenhaven Publishing","Library Bound Book",1,2015,null,"Library Bound","6.000 X 9.000","Author","Margaret Haerens",null,null,null,null,null,null,"Years 15 - 17",null,"Grade 10 - 12","This title in the OPPOSING VIEWPOINTS SERIES explores the hot-button issue of euthanasia with topics such as should governments allow voluntary euthanasia and physician-assisted suicide, what effect does it have on society, what recent controversies affect the euthanasia debate, and what possible impact the Affordable Care Act will have on euthanasia.","English",48.8,39.04,"179","232 pp.",{"$f":"Table1[[#This Row],['# of Books]]*Table1[[#This Row],[QTY]]","v":0},{"$f":"Table1[[#This Row],[QTY]]*Table1[[#This Row],[School & Library Price]]","v":0}]
[null,9,null,"Current Issues","Opposing Viewpoints","Euthanasia","978-0-7377-7263-0","Greenhaven Publishing","Paperback Book",1,2015,null,"Paperback","6.000 X 9.000","Author","Margaret Haerens",null,null,null,null,null,null,"Years 15 - 17",null,"Grade 10 - 12","This title in the OPPOSING VIEWPOINTS SERIES explores the hot-button issue of euthanasia with topics such as should governments allow voluntary euthanasia and physician-assisted suicide, what effect does it have on society, what recent controversies affect the euthanasia debate, and what possible impact the Affordable Care Act will have on euthanasia.","English",33.799999999999898,27.039999999999921,"179","232 pp.",{"$f":"Table1[[#This Row],['# of Books]]*Table1[[#This Row],[QTY]]","v":0},{"$f":"Table1[[#This Row],[QTY]]*Table1[[#This Row],[School & Library Price]]","v":0}]
[null,9,null,"Current Issues","Opposing Viewpoints","Extremism","978-0-7377-4965-6","Greenhaven Publishing","Paperback Book",1,2011,null,"Paperback","6.000 X 9.000","Author","Laurie Willis",null,null,null,null,null,null,"Years 15 - 17",null,"Grade 10 - 12",null,"English",33.799999999999898,27.039999999999921,"320","208 pp.",{"$f":"Table1[[#This Row],['# of Books]]*Table1[[#This Row],[QTY]]","v":0},{"$f":"Table1[[#This Row],[QTY]]*Table1[[#This Row],[School & Library Price]]","v":0}]
[null,9,null,"Current Issues","Opposing Viewpoints","Family","978-0-7377-3742-4","Greenhaven Publishing","Paperback Book",1,2008,null,"Paperback","6.000 X 9.000","Author","Karen Miller",null,null,null,null,null,null,"Years 15 - 17",null,"Grade 10 - 12",null,"English",33.799999999999898,27.039999999999921,"174","227 pp.",{"$f":"Table1[[#This Row],['# of Books]]*Table1[[#This Row],[QTY]]","v":0},{"$f":"Table1[[#This Row],[QTY]]*Table1[[#This Row],[School & Library Price]]","v":0}]
[null,9,null,"Current Issues","Opposing Viewpoints","Feminism","978-0-7377-5440-7","Greenhaven Publishing","Library Bound Book",1,2012,null,"Library Bound","6.000 X 9.000","Author","Nancy Dziedzic",null,null,null,null,null,null,"Years 15 - 17",null,"Grade 10 - 12","This addition to the popular Opposing Viewpoints series discusses issues related to feminism. Through a balanced collection of articles from a variety of sources, the title explores the state of feminism in the 21st century, the impact of recent political contests on American feminism, the role religion plays in feminism, and how women's sexuality and reproductive rights are affected by feminism.","English",48.8,39.04,"305","240 pp.",{"$f":"Table1[[#This Row],['# of Books]]*Table1[[#This Row],[QTY]]","v":0},{"$f":"Table1[[#This Row],[QTY]]*Table1[[#This Row],[School & Library Price]]","v":0}]
[null,9,null,"Current Issues","Opposing Viewpoints","Feminism","978-0-7377-5441-4","Greenhaven Publishing","Paperback Book",1,2012,null,"Paperback","6.000 X 9.000","Author","Nancy Dziedzic",null,null,null,null,null,null,"Years 15 - 17",null,"Grade 10 - 12","This addition to the popular OPPOSING VIEWPOINTS series discusses issues related to feminism. Through a balanced collection of articles from a variety of sources, the title explores the state of feminism in the 21st century, the impact of recent political contests on American feminism, the role religion plays in feminism, and how women’s sexuality and reproductive rights are affected by feminism.","English",33.799999999999898,27.039999999999921,"305","240 pp.",{"$f":"Table1[[#This Row],['# of Books]]*Table1[[#This Row],[QTY]]","v":0},{"$f":"Table1[[#This Row],[QTY]]*Table1[[#This Row],[School & Library Price]]","v":0}]
[null,9,null,"Current Issues","Opposing Viewpoints","For-Profit Education","978-0-7377-5836-8","Greenhaven Publishing","Library Bound Book",1,2012,null,"Library Bound","6.000 X 9.000","Author","Mitchell Young",null,null,null,null,null,null,"Years 15 - 17",null,"Grade 10 - 12",null,"English",48.8,39.04,"371","224 pp.",{"$f":"Table1[[#This Row],['# of Books]]*Table1[[#This Row],[QTY]]","v":0},{"$f":"Table1[[#This Row],[QTY]]*Table1[[#This Row],[School & Library Price]]","v":0}]
[null,9,null,"Current Issues","Opposing Viewpoints","For-Profit Education","978-0-7377-5837-5","Greenhaven Publishing","Paperback Book",1,2012,null,"Paperback","6.000 X 9.000","Author","Mitchell Young",null,null,null,null,null,null,"Years 15 - 17",null,"Grade 10 - 12",null,"English",33.799999999999898,27.039999999999921,"371","224 pp.",{"$f":"Table1[[#This Row],['# of Books]]*Table1[[#This Row],[QTY]]","v":0},{"$f":"Table1[[#This Row],[QTY]]*Table1[[#This Row],[School & Library Price]]","v":0}]
[null,9,null,"Current Issues","Opposing Viewpoints","Free Trade","978-0-7377-6054-5","Greenhaven Publishing","Library Bound Book",1,2013,null,"Library Bound","6.000 X 9.000","Author","Ann Aubrey Hanson",null,null,null,null,null,null,"Years 15 - 17",null,"Grade 10 - 12","This title in the Opposing Viewpoints series explores free trade including the effect on the US economy, developing countries, human rights and the global marketplace by placing expert opinions in a unique pro/con format. The viewpoints are selected from a wide range of highly respected and often hard-to-find sources and publications. By choosing from such diverse sources and including both popular and unpopular views, the Opposing Viewpoints series has adhered to its commitment to editorial objectivity. Readers are exposed to many sides of a debate, which promotes issue awareness as well as critical thinking.","English",48.8,39.04,"382","248 pp.",{"$f":"Table1[[#This Row],['# of Books]]*Table1[[#This Row],[QTY]]","v":0},{"$f":"Table1[[#This Row],[QTY]]*Table1[[#This Row],[School & Library Price]]","v":0}]
[null,9,null,"Current Issues","Opposing Viewpoints","Free Trade","978-0-7377-6055-2","Greenhaven Publishing","Paperback Book",1,2013,null,"Paperback","6.000 X 9.000","Author","Ann Aubrey Hanson",null,null,null,null,null,null,"Years 15 - 17",null,"Grade 10 - 12","This title in the Opposing Viewpoints series explores free trade including the effect on the US economy, developing countries, human rights and the global marketplace by placing expert opinions in a unique pro/con format. The viewpoints are selected from a wide range of highly respected and often hard-to-find sources and publications. By choosing from such diverse sources and including both popular and unpopular views, the Opposing Viewpoints series has adhered to its commitment to editorial objectivity. Readers are exposed to many sides of a debate, which promotes issue awareness as well as critical thinking.","English",33.799999999999898,27.039999999999921,"382","242 pp.",{"$f":"Table1[[#This Row],['# of Books]]*Table1[[#This Row],[QTY]]","v":0},{"$f":"Table1[[#This Row],[QTY]]*Table1[[#This Row],[School & Library Price]]","v":0}]
[null,9,null,"Current Issues","Opposing Viewpoints","Gambling","978-0-7377-5838-2","Greenhaven Publishing","Library Bound Book",1,2011,null,"Library Bound","6.000 X 9.000","Author","Margaret Haerens",null,null,null,null,null,null,"Years 15 - 17",null,"Grade 10 - 12",null,"English",48.8,39.04,"363","240 pp.",{"$f":"Table1[[#This Row],['# of Books]]*Table1[[#This Row],[QTY]]","v":0},{"$f":"Table1[[#This Row],[QTY]]*Table1[[#This Row],[School & Library Price]]","v":0}]
[null,9,null,"Current Issues","Opposing Viewpoints","Gambling","978-0-7377-5839-9","Greenhaven Publishing","Paperback Book",1,2011,null,"Paperback","6.000 X 9.000","Author","Margaret Haerens",null,null,null,null,null,null,"Years 15 - 17",null,"Grade 10 - 12",null,"English",33.799999999999898,27.039999999999921,"363","240 pp.",{"$f":"Table1[[#This Row],['# of Books]]*Table1[[#This Row],[QTY]]","v":0},{"$f":"Table1[[#This Row],[QTY]]*Table1[[#This Row],[School & Library Price]]","v":0}]
[null,9,null,"Current Issues","Opposing Viewpoints","Gangs","978-0-7377-4366-1","Greenhaven Publishing","Library Bound Book",1,2009,null,"Library Bound","6.000 X 9.000","Author","Adela Soliz",null,null,null,null,null,null,"Years 15 - 17",null,"Grade 10 - 12",null,"English",48.8,39.04,"364","216 pp.",{"$f":"Table1[[#This Row],['# of Books]]*Table1[[#This Row],[QTY]]","v":0},{"$f":"Table1[[#This Row],[QTY]]*Table1[[#This Row],[School & Library Price]]","v":0}]
[null,9,null,"Current Issues","Opposing Viewpoints","Gangs","978-0-7377-4365-4","Greenhaven Publishing","Paperback Book",1,2009,null,"Paperback","6.000 X 9.000","Author","Adela Soliz",null,null,null,null,null,null,"Years 15 - 17",null,"Grade 10 - 12",null,"English",33.799999999999898,27.039999999999921,"364","216 pp.",{"$f":"Table1[[#This Row],['# of Books]]*Table1[[#This Row],[QTY]]","v":0},{"$f":"Table1[[#This Row],[QTY]]*Table1[[#This Row],[School & Library Price]]","v":0}]
[null,9,null,"Current Issues","Opposing Viewpoints","Garbage and Recycling","978-0-7377-5428-5","Greenhaven Publishing","Library Bound Book",1,2012,null,"Library Bound","6.000 X 9.000","Author","Margaret Haerens",null,null,null,null,null,null,"Years 15 - 17",null,"Grade 10 - 12",null,"English",48.8,39.04,"363","248 pp.",{"$f":"Table1[[#This Row],['# of Books]]*Table1[[#This Row],[QTY]]","v":0},{"$f":"Table1[[#This Row],[QTY]]*Table1[[#This Row],[School & Library Price]]","v":0}]
[null,9,null,"Current Issues","Opposing Viewpoints","Garbage and Recycling","978-0-7377-5429-2","Greenhaven Publishing","Paperback Book",1,2012,null,"Paperback","6.000 X 9.000","Author","Margaret Haerens",null,null,null,null,null,null,"Years 15 - 17",null,"Grade 10 - 12",null,"English",33.799999999999898,27.039999999999921,"363","248 pp.",{"$f":"Table1[[#This Row],['# of Books]]*Table1[[#This Row],[QTY]]","v":0},{"$f":"Table1[[#This Row],[QTY]]*Table1[[#This Row],[School & Library Price]]","v":0}]
[null,9,null,"Current Issues","Opposing Viewpoints","Gateway Drugs","978-0-7377-4003-5","Greenhaven Publishing","Paperback Book",1,2008,null,"Paperback","6.000 X 9.000","Author","Noël Merino",null,null,null,null,null,null,"Years 15 - 17",null,"Grade 10 - 12",null,"English",33.799999999999898,27.039999999999921,"362","198 pp.",{"$f":"Table1[[#This Row],['# of Books]]*Table1[[#This Row],[QTY]]","v":0},{"$f":"Table1[[#This Row],[QTY]]*Table1[[#This Row],[School & Library Price]]","v":0}]
[null,9,null,"Current Issues","Opposing Viewpoints","Gay Parenting","978-0-7377-6422-2","Greenhaven Publishing","Library Bound Book",1,2013,null,"Library Bound","6.000 X 9.000","Author","Beth Rosenthal",null,null,null,null,null,null,"Years 15 - 17",null,"Grade 10 - 12","This title explores the impact of gay parenting on children, the impact of gay families on society, what methods of parenthood should be available to same-sex partners, and what laws should regulate gay parenting.","English",48.8,39.04,"362","248 pp.",{"$f":"Table1[[#This Row],['# of Books]]*Table1[[#This Row],[QTY]]","v":0},{"$f":"Table1[[#This Row],[QTY]]*Table1[[#This Row],[School & Library Price]]","v":0}]
[null,9,null,"Current Issues","Opposing Viewpoints","Gay Parenting","978-0-7377-6423-9","Greenhaven Publishing","Paperback Book",1,2013,null,"Paperback","6.000 X 9.000","Author","Beth Rosenthal",null,null,null,null,null,null,"Years 15 - 17",null,"Grade 10 - 12","This title explores the impact of gay parenting on children, the impact of gay families on society, what methods of parenthood should be available to same-sex partners, and what laws should regulate gay parenting.","English",33.799999999999898,27.039999999999921,"362","248 pp.",{"$f":"Table1[[#This Row],['# of Books]]*Table1[[#This Row],[QTY]]","v":0},{"$f":"Table1[[#This Row],[QTY]]*Table1[[#This Row],[School & Library Price]]","v":0}]
[null,9,null,"Current Issues","Opposing Viewpoints","Gays in the Military","978-0-7377-5222-9","Greenhaven Publishing","Paperback Book",1,2011,null,"Paperback","6.000 X 9.000","Author","Noah Berlatsky",null,null,null,null,null,null,"Years 15 - 17",null,"Grade 10 - 12",null,"English",33.799999999999898,27.039999999999921,"355","200 pp.",{"$f":"Table1[[#This Row],['# of Books]]*Table1[[#This Row],[QTY]]","v":0},{"$f":"Table1[[#This Row],[QTY]]*Table1[[#This Row],[School & Library Price]]","v":0}]
[null,9,null,"Current Issues","Opposing Viewpoints","Gendercide","978-0-7377-7004-9","Greenhaven Publishing","Library Bound Book",1,2014,null,"Library Bound","6.000 X 9.000","Author","Noah Berlatsky",null,null,null,null,null,null,"Years 15 - 17",null,"Grade 10 - 12","OPPOSING VIEWPOINTS: GENDERCIDE explores numerous aspects of gendercide around the world, including the relationship between sex-selection abortion and gendercide, the relationship between gender-related violence and genocide, and at those who are the target of gendercide. The viewpoints are selected from a wide range of highly respected and often hard-to-find sources and publications. By choosing from such diverse sources and including both popular and unpopular views, the OPPOSING VIEWPOINTS editorial team has adhered to its commitment to editorial objectivity. Readers are exposed to many sides of a debate, which promotes issue awareness as well as critical thinking.","English",48.8,39.04,"305","224 pp.",{"$f":"Table1[[#This Row],['# of Books]]*Table1[[#This Row],[QTY]]","v":0},{"$f":"Table1[[#This Row],[QTY]]*Table1[[#This Row],[School & Library Price]]","v":0}]
[null,9,null,"Current Issues","Opposing Viewpoints","Gendercide","978-0-7377-7005-6","Greenhaven Publishing","Paperback Book",1,2014,null,"Paperback","6.000 X 9.000","Author","Noah Berlatsky",null,null,null,null,null,null,"Years 15 - 17",null,"Grade 10 - 12","OPPOSING VIEWPOINTS: GENDERCIDE explores numerous aspects of gendercide around the world, including the relationship between sex-selection abortion and gendercide, the relationship between gender-related violence and genocide, and at those who are the target of gendercide. The viewpoints are selected from a wide range of highly respected and often hard-to-find sources and publications. By choosing from such diverse sources and including both popular and unpopular views, the OPPOSING VIEWPOINTS editorial team has adhered to its commitment to editorial objectivity. Readers are exposed to many sides of a debate, which promotes issue awareness as well as critical thinking.","English",33.799999999999898,27.039999999999921,"305","219 pp.",{"$f":"Table1[[#This Row],['# of Books]]*Table1[[#This Row],[QTY]]","v":0},{"$f":"Table1[[#This Row],[QTY]]*Table1[[#This Row],[School & Library Price]]","v":0}]
[null,9,null,"Current Issues","Opposing Viewpoints","Genetic Disorders","978-0-7377-4212-1","Greenhaven Publishing","Library Bound Book",1,2009,null,"Library Bound","6.000 X 9.000","Author","Katherine Swarts",null,null,null,null,null,null,"Years 15 - 17",null,"Grade 10 - 12",null,"English",48.8,39.04,"616","208 pp.",{"$f":"Table1[[#This Row],['# of Books]]*Table1[[#This Row],[QTY]]","v":0},{"$f":"Table1[[#This Row],[QTY]]*Table1[[#This Row],[School & Library Price]]","v":0}]
[null,9,null,"Current Issues","Opposing Viewpoints","Genetic Disorders","978-0-7377-4213-8","Greenhaven Publishing","Paperback Book",1,2009,null,"Paperback","6.000 X 9.000","Author","Katherine Swarts",null,null,null,null,null,null,"Years 15 - 17",null,"Grade 10 - 12",null,"English",33.799999999999898,27.039999999999921,"616","208 pp.",{"$f":"Table1[[#This Row],['# of Books]]*Table1[[#This Row],[QTY]]","v":0},{"$f":"Table1[[#This Row],[QTY]]*Table1[[#This Row],[School & Library Price]]","v":0}]
[null,9,null,"Current Issues","Opposing Viewpoints","Genetic Engineering","978-0-7377-6424-6","Greenhaven Publishing","Library Bound Book",1,2013,null,"Library Bound","6.000 X 9.000","Author","Noël Merino",null,null,null,null,null,null,"Years 15 - 17",null,"Grade 10 - 12","This title in the Opposing Viewpoints series explores the controversial subject of genetic engineering by placing expert opinions in a unique pro/con format. The viewpoints are selected from a wide range of highly respected and often hard-to-find sources and publications. By choosing from such diverse sources and including both popular and unpopular views, the Opposing Viewpoints series has adhered to its commitment to editorial objectivity. Readers are exposed to many sides of a debate, which promotes issue awareness as well as critical thinking.","English",48.8,39.04,"174","232 pp.",{"$f":"Table1[[#This Row],['# of Books]]*Table1[[#This Row],[QTY]]","v":0},{"$f":"Table1[[#This Row],[QTY]]*Table1[[#This Row],[School & Library Price]]","v":0}]
[null,9,null,"Current Issues","Opposing Viewpoints","Genetic Engineering","978-0-7377-6425-3","Greenhaven Publishing","Paperback Book",1,2013,null,"Paperback","6.000 X 9.000","Author","Noël Merino",null,null,null,null,null,null,"Years 15 - 17",null,"Grade 10 - 12","This title in the Opposing Viewpoints series explores the controversial subject of genetic engineering by placing expert opinions in a unique pro/con format. The viewpoints are selected from a wide range of highly respected and often hard-to-find sources and publications. By choosing from such diverse sources and including both popular and unpopular views, the Opposing Viewpoints series has adhered to its commitment to editorial objectivity. Readers are exposed to many sides of a debate, which promotes issue awareness as well as critical thinking.","English",33.799999999999898,27.039999999999921,"174","227 pp.",{"$f":"Table1[[#This Row],['# of Books]]*Table1[[#This Row],[QTY]]","v":0},{"$f":"Table1[[#This Row],[QTY]]*Table1[[#This Row],[School & Library Price]]","v":0}]
[null,9,null,"Current Issues","Opposing Viewpoints","Girls and Sports","978-0-7377-4517-7","Greenhaven Publishing","Paperback Book",1,2010,null,"Paperback","6.000 X 9.000","Author","Karen Miller",null,null,null,null,null,null,"Years 15 - 17",null,"Grade 10 - 12",null,"English",33.799999999999898,27.039999999999921,"796","219 pp.",{"$f":"Table1[[#This Row],['# of Books]]*Table1[[#This Row],[QTY]]","v":0},{"$f":"Table1[[#This Row],[QTY]]*Table1[[#This Row],[School & Library Price]]","v":0}]
[null,9,null,"Current Issues","Opposing Viewpoints","Global Resources","978-0-7377-3743-1","Greenhaven Publishing","Library Bound Book",1,2008,null,"Library Bound","6.000 X 9.000","Author","Clare Hanrahan",null,null,null,null,null,null,"Years 15 - 17",null,"Grade 10 - 12",null,"English",48.8,39.04,"305","240 pp.",{"$f":"Table1[[#This Row],['# of Books]]*Table1[[#This Row],[QTY]]","v":0},{"$f":"Table1[[#This Row],[QTY]]*Table1[[#This Row],[School & Library Price]]","v":0}]
[null,9,null,"Current Issues","Opposing Viewpoints","Global Resources","978-0-7377-3744-8","Greenhaven Publishing","Paperback Book",1,2008,null,"Paperback","6.000 X 9.000","Author","Clare Hanrahan",null,null,null,null,null,null,"Years 15 - 17",null,"Grade 10 - 12",null,"English",33.799999999999898,27.039999999999921,"174","233 pp.",{"$f":"Table1[[#This Row],['# of Books]]*Table1[[#This Row],[QTY]]","v":0},{"$f":"Table1[[#This Row],[QTY]]*Table1[[#This Row],[School & Library Price]]","v":0}]
[null,9,null,"Current Issues","Opposing Viewpoints","Global Sustainability","978-0-7377-7520-4","Greenhaven Publishing","Library Bound Book",1,2016,null,"Library Bound","6.000 X 9.000","Author","Dedria Bryfonski",null,null,null,null,null,null,"Years 15 - 17",null,"Grade 10 - 12","This title in the Opposing Viewpoints series explores global sustainability and poses such questions as, do genetically modified foods contribute to global sustainability?; is water scarcity a threat to global sustainability?; does social equity promote global sustainability?; and is economic growth compatible with sustainability?","English",48.8,39.04,"338","282 pp.",{"$f":"Table1[[#This Row],['# of Books]]*Table1[[#This Row],[QTY]]","v":0},{"$f":"Table1[[#This Row],[QTY]]*Table1[[#This Row],[School & Library Price]]","v":0}]
[null,9,null,"Current Issues","Opposing Viewpoints","Global Sustainability","978-0-7377-7521-1","Greenhaven Publishing","Paperback Book",1,2016,null,"Paperback","6.000 X 9.000","Author","Dedria Bryfonski",null,null,null,null,null,null,"Years 15 - 17",null,"Grade 10 - 12","This title in the Opposing Viewpoints series explores global sustainability and poses such questions as, do genetically modified foods contribute to global sustainability?; is water scarcity a threat to global sustainability?; does social equity promote global sustainability?; and is economic growth compatible with sustainability?","English",33.799999999999898,27.039999999999921,"338","282 pp.",{"$f":"Table1[[#This Row],['# of Books]]*Table1[[#This Row],[QTY]]","v":0},{"$f":"Table1[[#This Row],[QTY]]*Table1[[#This Row],[School & Library Price]]","v":0}]
[null,9,null,"Current Issues","Opposing Viewpoints","Global Warming","978-0-7377-4631-0","Greenhaven Publishing","Library Bound Book",1,2010,null,"Library Bound","6.000 X 9.000","Author","David Haugen",null,null,null,null,null,null,"Years 15 - 17",null,"Grade 10 - 12","Explores whether global warming is a real phenomenon or a myth, addressing possible causes like carbon dioxide, deforestation, melting permafrost, and livestock agriculture. Examines the effects of global warming on the polar ice caps, polar bears and human health, and discusses some proposed strategies to mitigate the impact.","English",48.8,39.04,"363","256 pp.",{"$f":"Table1[[#This Row],['# of Books]]*Table1[[#This Row],[QTY]]","v":0},{"$f":"Table1[[#This Row],[QTY]]*Table1[[#This Row],[School & Library Price]]","v":0}]
[null,9,null,"Current Issues","Opposing Viewpoints","Global Warming","978-0-7377-4632-7","Greenhaven Publishing","Paperback Book",1,2010,null,"Paperback","6.000 X 9.000","Author","David Haugen",null,null,null,null,null,null,"Years 15 - 17",null,"Grade 10 - 12","Explores whether global warming is a real phenomenon or a myth, addressing possible causes like carbon dioxide, deforestation, melting permafrost, and livestock agriculture. Examines the effects of global warming on the polar ice caps, polar bears and human health, and discusses some proposed strategies to mitigate the impact.","English",33.799999999999898,27.039999999999921,"363","249 pp.",{"$f":"Table1[[#This Row],['# of Books]]*Table1[[#This Row],[QTY]]","v":0},{"$f":"Table1[[#This Row],[QTY]]*Table1[[#This Row],[School & Library Price]]","v":0}]
[null,9,null,"Current Issues","Opposing Viewpoints","Globalization","978-0-7377-4772-0","Greenhaven Publishing","Paperback Book",1,2010,null,"Paperback","6.000 X 9.000","Author","David M. Haugen",null,null,null,null,null,null,"Years 15 - 17",null,"Grade 10 - 12","Explores the impact of globalization on world societies and its role in crises such as global warming, the modern financial crisis, and terrorism. Examines some of globalization's effects on developing nations, including income inequality and food shortages. Looks at globalization and the U.S. economy, discussing the benefit or harm of NAFTA, outsourcing, free trade and \"buy American\" policies.","English",33.799999999999898,27.039999999999921,"303","260 pp.",{"$f":"Table1[[#This Row],['# of Books]]*Table1[[#This Row],[QTY]]","v":0},{"$f":"Table1[[#This Row],[QTY]]*Table1[[#This Row],[School & Library Price]]","v":0}]
[null,9,null,"Current Issues","Opposing Viewpoints","Government Gridlock","978-0-7377-7266-1","Greenhaven Publishing","Library Bound Book",1,2015,null,"Library Bound","6.000 X 9.000","Author","Margaret Haerens",null,null,null,null,null,null,"Years 15 - 17",null,"Grade 10 - 12","OPPOSING VIEWPOINTS: GOVERNMENT GRIDLOCK discusses the severity of government gridlock and what some of its causes are. This book asks how government gridlock should be addressed and how filibuster reform will impact this issue.","English",48.8,39.04,"328","232 pp.",{"$f":"Table1[[#This Row],['# of Books]]*Table1[[#This Row],[QTY]]","v":0},{"$f":"Table1[[#This Row],[QTY]]*Table1[[#This Row],[School & Library Price]]","v":0}]
[null,9,null,"Current Issues","Opposing Viewpoints","Government Gridlock","978-0-7377-7267-8","Greenhaven Publishing","Paperback Book",1,2015,null,"Paperback","6.000 X 9.000","Author","Margaret Haerens",null,null,null,null,null,null,"Years 15 - 17",null,"Grade 10 - 12","OPPOSING VIEWPOINTS: GOVERNMENT GRIDLOCK discusses the severity of government gridlock and what some of its causes are. This book asks how government gridlock should be addressed and how filibuster reform will impact this issue.","English",33.799999999999898,27.039999999999921,"328","232 pp.",{"$f":"Table1[[#This Row],['# of Books]]*Table1[[#This Row],[QTY]]","v":0},{"$f":"Table1[[#This Row],[QTY]]*Table1[[#This Row],[School & Library Price]]","v":0}]
[null,9,null,"Current Issues","Opposing Viewpoints","Government Spending","978-0-7377-6322-5","Greenhaven Publishing","Library Bound Book",1,2013,null,"Library Bound","6.000 X 9.000","Author","Noël Merino",null,null,null,null,null,null,"Years 15 - 17",null,"Grade 10 - 12","This title explores whether government spending - on education, health care, and earmark projects - is wasteful, whether government spending should allow deficits and debt, the impact spending policies have on the economy, and ways spending must change to meet future challenges, like the increase in retirees, the evolving clean energy industry, and the changing needs of the nation’s defense.","English",48.8,39.04,"336","240 pp.",{"$f":"Table1[[#This Row],['# of Books]]*Table1[[#This Row],[QTY]]","v":0},{"$f":"Table1[[#This Row],[QTY]]*Table1[[#This Row],[School & Library Price]]","v":0}]
[null,9,null,"Current Issues","Opposing Viewpoints","Government Spending","978-0-7377-6323-2","Greenhaven Publishing","Paperback Book",1,2013,null,"Paperback","6.000 X 9.000","Author","Noël Merino",null,null,null,null,null,null,"Years 15 - 17",null,"Grade 10 - 12","This title explores whether government spending - on education, health care, and earmark projects - is wasteful, whether government spending should allow deficits and debt, the impact spending policies have on the economy, and ways spending must change to meet future challenges, like the increase in retirees, the evolving clean energy industry, and the changing needs of the nation’s defense.","English",33.799999999999898,27.039999999999921,"336","233 pp.",{"$f":"Table1[[#This Row],['# of Books]]*Table1[[#This Row],[QTY]]","v":0},{"$f":"Table1[[#This Row],[QTY]]*Table1[[#This Row],[School & Library Price]]","v":0}]
[null,9,null,"Current Issues","Opposing Viewpoints","Gun Violence","978-0-7377-7268-5","Greenhaven Publishing","Library Bound Book",1,2015,null,"Library Bound","6.000 X 9.000","Author","Noël Merino",null,null,null,null,null,null,"Years 15 - 17",null,"Grade 10 - 12","OPPOSING VIEWPOINTS: GUN VIOLENCE explores how the purchasing of firearms, background checks, and current firearm regulation are affecting the rate of gun related violence. Other topics include whether or not gun violence is on the rise and if there is cause for concern. This volume points to recent tragedies and statistical information to supplement varied and passionate viewpoints.","English",48.8,39.04,"363","208 pp.",{"$f":"Table1[[#This Row],['# of Books]]*Table1[[#This Row],[QTY]]","v":0},{"$f":"Table1[[#This Row],[QTY]]*Table1[[#This Row],[School & Library Price]]","v":0}]
[null,9,null,"Current Issues","Opposing Viewpoints","Gun Violence","978-0-7377-7269-2","Greenhaven Publishing","Paperback Book",1,2015,null,"Paperback","6.000 X 9.000","Author","Noël Merino",null,null,null,null,null,null,"Years 15 - 17",null,"Grade 10 - 12","OPPOSING VIEWPOINTS: GUN VIOLENCE  explores how the purchasing of firearms, background checks, and current firearm regulation are affecting the rate of gun related violence. Other topics include whether or not gun violence is on the rise and if there is cause for concern. This volume points to recent tragedies and statistical information to supplement varied and passionate viewpoints.","English",33.799999999999898,27.039999999999921,"363","203 pp.",{"$f":"Table1[[#This Row],['# of Books]]*Table1[[#This Row],[QTY]]","v":0},{"$f":"Table1[[#This Row],[QTY]]*Table1[[#This Row],[School & Library Price]]","v":0}]
[null,9,null,"Current Issues","Opposing Viewpoints","Hacking and Hackers","978-0-7377-6656-1","Greenhaven Publishing","Library Bound Book",1,2014,null,"Library Bound","6.000 X 9.000","Author","Margaret Haerens",null,null,null,null,null,null,"Years 15 - 17",null,"Grade 10 - 12","This title addresses various issues related to hacking and hackers, including ways to combat hacking; if hacktivism is a serious threat; the significance of WikiLeaks; and the role of government in hacking. The viewpoints are selected from a wide range of highly respected and often hard-to-find sources and publications. By choosing from such diverse sources and including both popular and unpopular views, the OPPOSING VIEWPOINTS editorial team has adhered to its commitment to editorial objectivity. Readers are exposed to many sides of a debate, which promotes issue awareness as well as critical thinking.","English",48.8,39.04,"364","216 pp.",{"$f":"Table1[[#This Row],['# of Books]]*Table1[[#This Row],[QTY]]","v":0},{"$f":"Table1[[#This Row],[QTY]]*Table1[[#This Row],[School & Library Price]]","v":0}]
[null,9,null,"Current Issues","Opposing Viewpoints","Hacking and Hackers","978-0-7377-6657-8","Greenhaven Publishing","Paperback Book",1,2014,null,"Paperback","6.000 X 9.000","Author","Margaret Haerens",null,null,null,null,null,null,"Years 15 - 17",null,"Grade 10 - 12","This title addresses various issues related to hacking and hackers, including ways to combat hacking; if hacktivism is a serious threat; the significance of WikiLeaks; and the role of government in hacking. The viewpoints are selected from a wide range of highly respected and often hard-to-find sources and publications. By choosing from such diverse sources and including both popular and unpopular views, the OPPOSING VIEWPOINTS editorial team has adhered to its commitment to editorial objectivity. Readers are exposed to many sides of a debate, which promotes issue awareness as well as critical thinking.","English",33.799999999999898,27.039999999999921,"364","211 pp.",{"$f":"Table1[[#This Row],['# of Books]]*Table1[[#This Row],[QTY]]","v":0},{"$f":"Table1[[#This Row],[QTY]]*Table1[[#This Row],[School & Library Price]]","v":0}]
[null,9,null,"Current Issues","Opposing Viewpoints","Health","978-0-7377-4520-7","Greenhaven Publishing","Library Bound Book",1,2009,null,"Library Bound","6.000 X 9.000","Author","Diane Andrews Henningfeld",null,null,null,null,null,null,"Years 15 - 17",null,"Grade 10 - 12",null,"English",48.8,39.04,"613","216 pp.",{"$f":"Table1[[#This Row],['# of Books]]*Table1[[#This Row],[QTY]]","v":0},{"$f":"Table1[[#This Row],[QTY]]*Table1[[#This Row],[School & Library Price]]","v":0}]
[null,9,null,"Current Issues","Opposing Viewpoints","Health","978-0-7377-4521-4","Greenhaven Publishing","Paperback Book",1,2009,null,"Paperback","6.000 X 9.000","Author","Diane Andrews Henningfeld",null,null,null,null,null,null,"Years 15 - 17",null,"Grade 10 - 12",null,"English",33.799999999999898,27.039999999999921,"613","215 pp.",{"$f":"Table1[[#This Row],['# of Books]]*Table1[[#This Row],[QTY]]","v":0},{"$f":"Table1[[#This Row],[QTY]]*Table1[[#This Row],[School & Library Price]]","v":0}]
[null,9,null,"Current Issues","Opposing Viewpoints","Health Care","978-0-7377-5725-5","Greenhaven Publishing","Library Bound Book",1,2012,null,"Library Bound","6.000 X 9.000","Author","David Haugen",null,null,null,null,null,null,"Years 15 - 17",null,"Grade 10 - 12","This addition to the popular OPPOSING VIEWPOINTS series discusses issues related to the controversial topic if health care. Through a balanced collection of articles from a variety of sources, the title explores the current state of health care in the United States. Topics covered within the text include: who is to blame for rising health care costs in the U.S.; how can health care be reformed; and how will the Patient Protection and Affordable Care Act Affect (PPACA) impact health care.","English",48.8,39.04,"362","280 pp.",{"$f":"Table1[[#This Row],['# of Books]]*Table1[[#This Row],[QTY]]","v":0},{"$f":"Table1[[#This Row],[QTY]]*Table1[[#This Row],[School & Library Price]]","v":0}]
[null,9,null,"Current Issues","Opposing Viewpoints","Health Care","978-0-7377-5726-2","Greenhaven Publishing","Paperback Book",1,2012,null,"Paperback","6.000 X 9.000","Author","David Haugen",null,null,null,null,null,null,"Years 15 - 17",null,"Grade 10 - 12","This addition to the popular OPPOSING VIEWPOINTS series discusses issues related to the controversial topic if health care. Through a balanced collection of articles from a variety of sources, the title explores the current state of health care in the United States. Topics covered within the text include: who is to blame for rising health care costs in the U.S.; how can health care be reformed; and how will the Patient Protection and Affordable Care Act Affect (PPACA) impact health care.","English",33.799999999999898,27.039999999999921,"362","280 pp.",{"$f":"Table1[[#This Row],['# of Books]]*Table1[[#This Row],[QTY]]","v":0},{"$f":"Table1[[#This Row],[QTY]]*Table1[[#This Row],[School & Library Price]]","v":0}]
[null,9,null,"Current Issues","Opposing Viewpoints","High School Alternative Program","978-0-7377-7270-8","Greenhaven Publishing","Library Bound Book",1,2015,null,"Library Bound","6.000 X 9.000","Author","Noah Berlatsky",null,null,null,null,null,null,"Years 15 - 17",null,"Grade 10 - 12","OPPOSING VIEWPOINTS: HIGH SCHOOL ALTERNATIVE PROGRAMS examines whether or not alternative programs can help at-risk and special needs students, what alternatives there are to those who do not obtain a high school diploma, whether or not Charter and Magnet schools are good alternatives to high school, and if online learning is a good alternative for high school students.","English",48.8,39.04,"371","232 pp.",{"$f":"Table1[[#This Row],['# of Books]]*Table1[[#This Row],[QTY]]","v":0},{"$f":"Table1[[#This Row],[QTY]]*Table1[[#This Row],[School & Library Price]]","v":0}]
[null,9,null,"Current Issues","Opposing Viewpoints","High School Alternative Program","978-0-7377-7271-5","Greenhaven Publishing","Paperback Book",1,2015,null,"Paperback","6.000 X 9.000","Author","Noah Berlatsky",null,null,null,null,null,null,"Years 15 - 17",null,"Grade 10 - 12","OPPOSING VIEWPOINTS: HIGH SCHOOL ALTERNATIVE PROGRAMS examines whether or not alternative programs can help at-risk and special needs students, what alternatives there are to those who do not obtain a high school diploma, whether or not Charter and Magnet schools are good alternatives to high school, and if online learning is a good alternative for high school students.","English",33.799999999999898,27.039999999999921,"371","230 pp.",{"$f":"Table1[[#This Row],['# of Books]]*Table1[[#This Row],[QTY]]","v":0},{"$f":"Table1[[#This Row],[QTY]]*Table1[[#This Row],[School & Library Price]]","v":0}]
[null,10,null,"Current Issues","Opposing Viewpoints","Homelessness","978-0-7377-5939-6","Greenhaven Publishing","Library Bound Book",1,2012,null,"Library Bound","6.000 X 9.000","Author","Tamara Thompson",null,null,null,null,null,null,"Years 15 - 17",null,"Grade 10 - 12","This addition to the popular OPPOSING VIEWPOINTS series discusses issues related to homelessness. Through a balanced collection of articles from a variety of sources, the title explores the seriousness of America’s homeless problem; factors that contribute to homelessness, such as the recession, mental illness, substance abuse, and domestic violence; housing policies, like vouchers and Housing First programs, that may benefit the homeless; and the government’s role in addressing homelessness.","English",48.8,39.04,"362.5","248 pp.",{"$f":"Table1[[#This Row],['# of Books]]*Table1[[#This Row],[QTY]]","v":0},{"$f":"Table1[[#This Row],[QTY]]*Table1[[#This Row],[School & Library Price]]","v":0}]
[null,10,null,"Current Issues","Opposing Viewpoints","Homelessness","978-0-7377-5940-2","Greenhaven Publishing","Paperback Book",1,2012,null,"Paperback","6.000 X 9.000","Author","Tamara Thompson",null,null,null,null,null,null,"Years 15 - 17",null,"Grade 10 - 12","This addition to the popular OPPOSING VIEWPOINTS series discusses issues related to homelessness. Through a balanced collection of articles from a variety of sources, the title explores the seriousness of America’s homeless problem; factors that contribute to homelessness, such as the recession, mental illness, substance abuse, and domestic violence; housing policies, like vouchers and Housing First programs, that may benefit the homeless; and the government’s role in addressing homelessness.","English",33.799999999999898,27.039999999999921,"362.5","248 pp.",{"$f":"Table1[[#This Row],['# of Books]]*Table1[[#This Row],[QTY]]","v":0},{"$f":"Table1[[#This Row],[QTY]]*Table1[[#This Row],[School & Library Price]]","v":0}]
[null,10,null,"Current Issues","Opposing Viewpoints","Homeschooling","978-0-7377-4968-7","Greenhaven Publishing","Library Bound Book",1,2010,null,"Library Bound","6.000 X 9.000","Author","Noah Berlatsky",null,null,null,null,null,null,"Years 15 - 17",null,"Grade 10 - 12",null,"English",48.8,39.04,"371","192 pp.",{"$f":"Table1[[#This Row],['# of Books]]*Table1[[#This Row],[QTY]]","v":0},{"$f":"Table1[[#This Row],[QTY]]*Table1[[#This Row],[School & Library Price]]","v":0}]
[null,10,null,"Current Issues","Opposing Viewpoints","Homeschooling","978-0-7377-4969-4","Greenhaven Publishing","Paperback Book",1,2010,null,"Paperback","6.000 X 9.000","Author","Noah Berlatsky",null,null,null,null,null,null,"Years 15 - 17",null,"Grade 10 - 12",null,"English",33.799999999999898,27.039999999999921,"371","192 pp.",{"$f":"Table1[[#This Row],['# of Books]]*Table1[[#This Row],[QTY]]","v":0},{"$f":"Table1[[#This Row],[QTY]]*Table1[[#This Row],[School & Library Price]]","v":0}]
[null,10,null,"Current Issues","Opposing Viewpoints","Homosexuality","978-0-7377-6324-9","Greenhaven Publishing","Library Bound Book",1,2013,null,"Library Bound","6.000 X 9.000","Author","David M. Haugen",null,null,null,null,null,null,"Years 15 - 17",null,"Grade 10 - 12","This title in the Opposing Viewpoints series explores the controversy around homosexuality, including the related topics of same-sex marriage and adoption, by placing expert opinions in a unique pro/con format. The viewpoints are selected from a wide range of highly respected and often hard-to-find sources and publications. By choosing from such diverse sources and including both popular and unpopular views, the Opposing Viewpoints series has adhered to its commitment to editorial objectivity. Readers are exposed to many sides of a debate, which promotes issue awareness as well as critical thinking.","English",48.8,39.04,"306","250 pp.",{"$f":"Table1[[#This Row],['# of Books]]*Table1[[#This Row],[QTY]]","v":0},{"$f":"Table1[[#This Row],[QTY]]*Table1[[#This Row],[School & Library Price]]","v":0}]
[null,10,null,"Current Issues","Opposing Viewpoints","Homosexuality","978-0-7377-6325-6","Greenhaven Publishing","Paperback Book",1,2013,null,"Paperback","6.000 X 9.000","Author","David M. Haugen",null,null,null,null,null,null,"Years 15 - 17",null,"Grade 10 - 12","This title in the Opposing Viewpoints series explores the controversy around homosexuality, including the related topics of same-sex marriage and adoption, by placing expert opinions in a unique pro/con format. The viewpoints are selected from a wide range of highly respected and often hard-to-find sources and publications. By choosing from such diverse sources and including both popular and unpopular views, the Opposing Viewpoints series has adhered to its commitment to editorial objectivity. Readers are exposed to many sides of a debate, which promotes issue awareness as well as critical thinking.","English",33.799999999999898,27.039999999999921,"306","207 pp.",{"$f":"Table1[[#This Row],['# of Books]]*Table1[[#This Row],[QTY]]","v":0},{"$f":"Table1[[#This Row],[QTY]]*Table1[[#This Row],[School & Library Price]]","v":0}]
[null,10,null,"Current Issues","Opposing Viewpoints","Human Genetics","978-0-7377-6953-1","Greenhaven Publishing","Library Bound Book",1,2014,null,"Library Bound","6.000 X 9.000","Author","Louise Gerdes",null,null,null,null,null,null,"Years 15 - 17",null,"Grade 10 - 12","This title explores patenting laws and whether patent holders should have to share, civil rights and liberty issues, gene therapies and whether to act on genetic testing or not, and reproduction issues including designer babies and whether or not to abort genetic defects.","English",48.8,39.04,"174","240 pp.",{"$f":"Table1[[#This Row],['# of Books]]*Table1[[#This Row],[QTY]]","v":0},{"$f":"Table1[[#This Row],[QTY]]*Table1[[#This Row],[School & Library Price]]","v":0}]
[null,10,null,"Current Issues","Opposing Viewpoints","Human Genetics","978-0-7377-6954-8","Greenhaven Publishing","Paperback Book",1,2014,null,"Paperback","6.000 X 9.000","Author","Louise Gerdes",null,null,null,null,null,null,"Years 15 - 17",null,"Grade 10 - 12","This title explores patenting laws and whether patent holders should have to share, civil rights and liberty issues, gene therapies and whether to act on genetic testing or not, and reproduction issues including designer babies and whether or not to abort genetic defects.","English",33.799999999999898,27.039999999999921,"174","235 pp.",{"$f":"Table1[[#This Row],['# of Books]]*Table1[[#This Row],[QTY]]","v":0},{"$f":"Table1[[#This Row],[QTY]]*Table1[[#This Row],[School & Library Price]]","v":0}]
[null,10,null,"Current Issues","Opposing Viewpoints","Human Rights","978-0-7377-4773-7","Greenhaven Publishing","Library Bound Book",1,2013,null,"Library Bound","6.000 X 9.000","Author","David M. Haugen",null,null,null,null,null,null,"Years 15 - 17",null,"Grade 10 - 12","This title in the Opposing Viewpoints series explores the status of human rights in the US and worldwide by placing expert opinions in a unique pro/con format. The viewpoints are selected from a wide range of highly respected and often hard-to-find sources and publications. By choosing from such diverse sources and including both popular and unpopular views, the Opposing Viewpoints series has adhered to its commitment to editorial objectivity. Readers are exposed to many sides of a debate, which promotes issue awareness as well as critical thinking.","English",48.8,39.04,"323","240 pp.",{"$f":"Table1[[#This Row],['# of Books]]*Table1[[#This Row],[QTY]]","v":0},{"$f":"Table1[[#This Row],[QTY]]*Table1[[#This Row],[School & Library Price]]","v":0}]
[null,10,null,"Current Issues","Opposing Viewpoints","Human Rights","978-0-7377-4774-4","Greenhaven Publishing","Paperback Book",1,2013,null,"Paperback","6.000 X 9.000","Author","David M. Haugen",null,null,null,null,null,null,"Years 15 - 17",null,"Grade 10 - 12","This title in the Opposing Viewpoints series explores the status of human rights in the US and worldwide by placing expert opinions in a unique pro/con format. The viewpoints are selected from a wide range of highly respected and often hard-to-find sources and publications. By choosing from such diverse sources and including both popular and unpopular views, the Opposing Viewpoints series has adhered to its commitment to editorial objectivity. Readers are exposed to many sides of a debate, which promotes issue awareness as well as critical thinking.","English",33.799999999999898,27.039999999999921,"323","237 pp.",{"$f":"Table1[[#This Row],['# of Books]]*Table1[[#This Row],[QTY]]","v":0},{"$f":"Table1[[#This Row],[QTY]]*Table1[[#This Row],[School & Library Price]]","v":0}]
[null,10,null,"Current Issues","Opposing Viewpoints","Illegal Immigration","978-0-7377-7272-2","Greenhaven Publishing","Library Bound Book",1,2015,null,"Library Bound","6.000 X 9.000","Author","Noël Merino",null,null,null,null,null,null,"Years 15 - 17",null,"Grade 10 - 12","This volume in the OPPOSING VIEWPOINTS SERIES debates the issue of illegal immigration with such topics as how does illegal immigration impact the United States, how effective are policies to stop illegal immigration, are immigrants treated justly, and how US immigration policy should be reformed.","English",48.8,39.04,"325","216 pp.",{"$f":"Table1[[#This Row],['# of Books]]*Table1[[#This Row],[QTY]]","v":0},{"$f":"Table1[[#This Row],[QTY]]*Table1[[#This Row],[School & Library Price]]","v":0}]
[null,10,null,"Current Issues","Opposing Viewpoints","Illegal Immigration","978-0-7377-7273-9","Greenhaven Publishing","Paperback Book",1,2015,null,"Paperback","6.000 X 9.000","Author","Noël Merino",null,null,null,null,null,null,"Years 15 - 17",null,"Grade 10 - 12","This volume in the OPPOSING VIEWPOINTS SERIES debates the issue of illegal immigration with such topics as how does illegal immigration impact the United States, how effective are policies to stop illegal immigration, are immigrants treated justly, and how US immigration policy should be reformed.","English",33.799999999999898,27.039999999999921,"325","212 pp.",{"$f":"Table1[[#This Row],['# of Books]]*Table1[[#This Row],[QTY]]","v":0},{"$f":"Table1[[#This Row],[QTY]]*Table1[[#This Row],[School & Library Price]]","v":0}]
[null,10,null,"Current Issues","Opposing Viewpoints","Immigration","978-0-7377-4522-1","Greenhaven Publishing","Library Bound Book",1,2009,null,"Library Bound","6.000 X 9.000","Author","David M. Haugen",null,null,null,null,null,null,"Years 15 - 17",null,"Grade 10 - 12",null,"English",48.8,39.04,"325","248 pp.",{"$f":"Table1[[#This Row],['# of Books]]*Table1[[#This Row],[QTY]]","v":0},{"$f":"Table1[[#This Row],[QTY]]*Table1[[#This Row],[School & Library Price]]","v":0}]
[null,10,null,"Current Issues","Opposing Viewpoints","Immigration","978-0-7377-4523-8","Greenhaven Publishing","Paperback Book",1,2009,null,"Paperback","6.000 X 9.000","Author","David M. Haugen",null,null,null,null,null,null,"Years 15 - 17",null,"Grade 10 - 12",null,"English",33.799999999999898,27.039999999999921,"325","248 pp.",{"$f":"Table1[[#This Row],['# of Books]]*Table1[[#This Row],[QTY]]","v":0},{"$f":"Table1[[#This Row],[QTY]]*Table1[[#This Row],[School & Library Price]]","v":0}]
[null,10,null,"Current Issues","Opposing Viewpoints","Income Inequality","978-0-7377-7524-2","Greenhaven Publishing","Library Bound Book",1,2016,null,"Library Bound","6.000 X 9.000","Author","Noël Merino",null,null,null,null,null,null,"Years 15 - 17",null,"Grade 10 - 12","This title in the Opposing Viewpoints series focuses on the increasing evidence of income inequality, asking if income inequality is a problem in the US, what are the causes of income inequality, how race, gender and ethnicity affect income inequality, and what should be done about it.","English",48.8,39.04,"339","234 pp.",{"$f":"Table1[[#This Row],['# of Books]]*Table1[[#This Row],[QTY]]","v":0},{"$f":"Table1[[#This Row],[QTY]]*Table1[[#This Row],[School & Library Price]]","v":0}]
[null,10,null,"Current Issues","Opposing Viewpoints","Income Inequality","978-0-7377-7525-9","Greenhaven Publishing","Paperback Book",1,2016,null,"Paperback","6.000 X 9.000","Author","Noël Merino",null,null,null,null,null,null,"Years 15 - 17",null,"Grade 10 - 12","This title in the Opposing Viewpoints series focuses on the increasing evidence of income inequality, asking if income inequality is a problem in the US, what are the causes of income inequality, how race, gender and ethnicity affect income inequality, and what should be done about it.","English",33.799999999999898,27.039999999999921,"339","234 pp.",{"$f":"Table1[[#This Row],['# of Books]]*Table1[[#This Row],[QTY]]","v":0},{"$f":"Table1[[#This Row],[QTY]]*Table1[[#This Row],[School & Library Price]]","v":0}]
[null,10,null,"Current Issues","Opposing Viewpoints","India","978-0-7377-4370-8","Greenhaven Publishing","Library Bound Book",1,2009,null,"Library Bound","6.000 X 9.000","Author","Jamuna Carroll",null,null,null,null,null,null,"Years 15 - 17",null,"Grade 10 - 12",null,"English",48.8,39.04,"954","208 pp.",{"$f":"Table1[[#This Row],['# of Books]]*Table1[[#This Row],[QTY]]","v":0},{"$f":"Table1[[#This Row],[QTY]]*Table1[[#This Row],[School & Library Price]]","v":0}]
[null,10,null,"Current Issues","Opposing Viewpoints","India","978-0-7377-4369-2","Greenhaven Publishing","Paperback Book",1,2009,null,"Paperback","6.000 X 9.000","Author","Jamuna Carroll",null,null,null,null,null,null,"Years 15 - 17",null,"Grade 10 - 12",null,"English",33.799999999999898,27.039999999999921,"954","208 pp.",{"$f":"Table1[[#This Row],['# of Books]]*Table1[[#This Row],[QTY]]","v":0},{"$f":"Table1[[#This Row],[QTY]]*Table1[[#This Row],[School & Library Price]]","v":0}]
[null,10,null,"Current Issues","Opposing Viewpoints","Inflation","978-0-7377-6426-0","Greenhaven Publishing","Library Bound Book",1,2013,null,"Library Bound","6.000 X 9.000","Author","Noah Berlatsky",null,null,null,null,null,null,"Years 15 - 17",null,"Grade 10 - 12","This title explores the causes of inflation, whether inflation is dangerous, and what inflationary conditions pose the biggest threat to the economy.","English",48.8,39.04,"332","176 pp.",{"$f":"Table1[[#This Row],['# of Books]]*Table1[[#This Row],[QTY]]","v":0},{"$f":"Table1[[#This Row],[QTY]]*Table1[[#This Row],[School & Library Price]]","v":0}]
[null,10,null,"Current Issues","Opposing Viewpoints","Inflation","978-0-7377-6427-7","Greenhaven Publishing","Paperback Book",1,2013,null,"Paperback","6.000 X 9.000","Author","Noah Berlatsky",null,null,null,null,null,null,"Years 15 - 17",null,"Grade 10 - 12","This title explores the causes of inflation, whether inflation is dangerous, and what inflationary conditions pose the biggest threat to the economy.","English",33.799999999999898,27.039999999999921,"332","170 pp.",{"$f":"Table1[[#This Row],['# of Books]]*Table1[[#This Row],[QTY]]","v":0},{"$f":"Table1[[#This Row],[QTY]]*Table1[[#This Row],[School & Library Price]]","v":0}]
[null,10,null,"Current Issues","Opposing Viewpoints","International Adoptions","978-0-7377-4970-0","Greenhaven Publishing","Library Bound Book",1,2011,null,"Library Bound","6.000 X 9.000","Author","Margaret Haerens",null,null,null,null,null,null,"Years 15 - 17",null,"Grade 10 - 12",null,"English",48.8,39.04,"362","232 pp.",{"$f":"Table1[[#This Row],['# of Books]]*Table1[[#This Row],[QTY]]","v":0},{"$f":"Table1[[#This Row],[QTY]]*Table1[[#This Row],[School & Library Price]]","v":0}]
[null,10,null,"Current Issues","Opposing Viewpoints","International Adoptions","978-0-7377-4971-7","Greenhaven Publishing","Paperback Book",1,2011,null,"Paperback","6.000 X 9.000","Author","Margaret Haerens",null,null,null,null,null,null,"Years 15 - 17",null,"Grade 10 - 12",null,"English",33.799999999999898,27.039999999999921,"362","232 pp.",{"$f":"Table1[[#This Row],['# of Books]]*Table1[[#This Row],[QTY]]","v":0},{"$f":"Table1[[#This Row],[QTY]]*Table1[[#This Row],[School & Library Price]]","v":0}]
[null,10,null,"Current Issues","Opposing Viewpoints","Internet Censorship","978-0-7377-6658-5","Greenhaven Publishing","Library Bound Book",1,2014,null,"Library Bound","6.000 X 9.000","Author","Margaret Haerens",null,null,null,null,null,null,"Years 15 - 17",null,"Grade 10 - 12","OPPOSING VIEWPOINTS: INTERNET CENSORSHIP examines whether or not the Internet should be censored, who should govern the Internet, what the best ways to fight Internet Censorship are, and which legal measures effectively address Internet Censorship. The viewpoints are selected from a wide range of highly respected and often hard-to-find sources and publications. By choosing from such diverse sources and including both popular and unpopular views, the OPPOSING VIEWPOINTS editorial team has adhered to its commitment to editorial objectivity. Readers are exposed to many sides of a debate, which promotes issue awareness as well as critical thinking.","English",48.8,39.04,"005","224 pp.",{"$f":"Table1[[#This Row],['# of Books]]*Table1[[#This Row],[QTY]]","v":0},{"$f":"Table1[[#This Row],[QTY]]*Table1[[#This Row],[School & Library Price]]","v":0}]
[null,10,null,"Current Issues","Opposing Viewpoints","Internet Censorship","978-0-7377-6659-2","Greenhaven Publishing","Paperback Book",1,2014,null,"Paperback","6.000 X 9.000","Author","Margaret Haerens",null,null,null,null,null,null,"Years 15 - 17",null,"Grade 10 - 12","OPPOSING VIEWPOINTS: INTERNET CENSORSHIP examines whether or not the Internet should be censored, who should govern the Internet, what the best ways to fight Internet Censorship are, and which legal measures effectively address Internet Censorship. The viewpoints are selected from a wide range of highly respected and often hard-to-find sources and publications. By choosing from such diverse sources and including both popular and unpopular views, the OPPOSING VIEWPOINTS editorial team has adhered to its commitment to editorial objectivity. Readers are exposed to many sides of a debate, which promotes issue awareness as well as critical thinking.","English",33.799999999999898,27.039999999999921,"005","219 pp.",{"$f":"Table1[[#This Row],['# of Books]]*Table1[[#This Row],[QTY]]","v":0},{"$f":"Table1[[#This Row],[QTY]]*Table1[[#This Row],[School & Library Price]]","v":0}]
[null,10,null,"Current Issues","Opposing Viewpoints","Interracial America","978-0-7377-5728-6","Greenhaven Publishing","Paperback Book",1,2012,null,"Paperback","6.000 X 9.000","Author","Noah Berlatsky",null,null,null,null,null,null,"Years 15 - 17",null,"Grade 10 - 12",null,"English",33.799999999999898,27.039999999999921,"305","224 pp.",{"$f":"Table1[[#This Row],['# of Books]]*Table1[[#This Row],[QTY]]","v":0},{"$f":"Table1[[#This Row],[QTY]]*Table1[[#This Row],[School & Library Price]]","v":0}]
[null,10,null,"Current Issues","Opposing Viewpoints","Interventions","978-0-7377-6000-2","Greenhaven Publishing","Library Bound Book",1,2012,null,"Library Bound","6.000 X 9.000","Author","Susan Hunnicutt",null,null,null,null,null,null,"Years 15 - 17",null,"Grade 10 - 12","This new edition in the popular OPPOSING VIEWPOINTS series offers a comprehensive look at issues related to interventions. Through a balanced collection of articles from a variety of sources, the title examines whether or not substance abuse remains a serious problem, whether interventions are effective and necessary, and who should be involved in substance abuse interventions. The text also discusses the popularity and implications of televising interventions.","English",48.8,39.04,"616.86","184 pp.",{"$f":"Table1[[#This Row],['# of Books]]*Table1[[#This Row],[QTY]]","v":0},{"$f":"Table1[[#This Row],[QTY]]*Table1[[#This Row],[School & Library Price]]","v":0}]
[null,10,null,"Current Issues","Opposing Viewpoints","Interventions","978-0-7377-6001-9","Greenhaven Publishing","Paperback Book",1,2012,null,"Paperback","6.000 X 9.000","Author","Susan Hunnicutt",null,null,null,null,null,null,"Years 15 - 17",null,"Grade 10 - 12","This new edition in the popular OPPOSING VIEWPOINTS series offers a comprehensive look at issues related to interventions. Through a balanced collection of articles from a variety of sources, the title examines whether or not substance abuse remains a serious problem, whether interventions are effective and necessary, and who should be involved in substance abuse interventions. The text also discusses the popularity and implications of televising interventions.","English",33.799999999999898,27.039999999999921,"616.86","184 pp.",{"$f":"Table1[[#This Row],['# of Books]]*Table1[[#This Row],[QTY]]","v":0},{"$f":"Table1[[#This Row],[QTY]]*Table1[[#This Row],[School & Library Price]]","v":0}]
[null,10,null,"Current Issues","Opposing Viewpoints","Iran","978-0-7377-4972-4","Greenhaven Publishing","Library Bound Book",1,2010,null,"Library Bound","6.000 X 9.000","Author","David Haugen",null,null,null,null,null,null,"Years 15 - 17",null,"Grade 10 - 12",null,"English",48.8,39.04,"327","248 pp.",{"$f":"Table1[[#This Row],['# of Books]]*Table1[[#This Row],[QTY]]","v":0},{"$f":"Table1[[#This Row],[QTY]]*Table1[[#This Row],[School & Library Price]]","v":0}]
[null,10,null,"Current Issues","Opposing Viewpoints","Iran","978-0-7377-4973-1","Greenhaven Publishing","Paperback Book",1,2010,null,"Paperback","6.000 X 9.000","Author","David Haugen",null,null,null,null,null,null,"Years 15 - 17",null,"Grade 10 - 12",null,"English",33.799999999999898,27.039999999999921,"327","248 pp.",{"$f":"Table1[[#This Row],['# of Books]]*Table1[[#This Row],[QTY]]","v":0},{"$f":"Table1[[#This Row],[QTY]]*Table1[[#This Row],[School & Library Price]]","v":0}]
[null,10,null,"Current Issues","Opposing Viewpoints","Iraq","978-0-7377-4524-5","Greenhaven Publishing","Library Bound Book",1,2009,null,"Library Bound","6.000 X 9.000","Author","David M. Haugen",null,null,null,null,null,null,"Years 15 - 17",null,"Grade 10 - 12",null,"English",48.8,39.04,"956","192 pp.",{"$f":"Table1[[#This Row],['# of Books]]*Table1[[#This Row],[QTY]]","v":0},{"$f":"Table1[[#This Row],[QTY]]*Table1[[#This Row],[School & Library Price]]","v":0}]
[null,10,null,"Current Issues","Opposing Viewpoints","Iraq","978-0-7377-4525-2","Greenhaven Publishing","Paperback Book",1,2009,null,"Paperback","6.000 X 9.000","Author","David M. Haugen",null,null,null,null,null,null,"Years 15 - 17",null,"Grade 10 - 12",null,"English",33.799999999999898,27.039999999999921,"956","192 pp.",{"$f":"Table1[[#This Row],['# of Books]]*Table1[[#This Row],[QTY]]","v":0},{"$f":"Table1[[#This Row],[QTY]]*Table1[[#This Row],[School & Library Price]]","v":0}]
[null,10,null,"Current Issues","Opposing Viewpoints","Islam","978-0-7377-4526-9","Greenhaven Publishing","Library Bound Book",1,2009,null,"Library Bound","6.000 X 9.000","Author","David M. Haugen",null,null,null,null,null,null,"Years 15 - 17",null,"Grade 10 - 12",null,"English",48.8,39.04,"297","216 pp.",{"$f":"Table1[[#This Row],['# of Books]]*Table1[[#This Row],[QTY]]","v":0},{"$f":"Table1[[#This Row],[QTY]]*Table1[[#This Row],[School & Library Price]]","v":0}]
[null,10,null,"Current Issues","Opposing Viewpoints","Islam","978-0-7377-4527-6","Greenhaven Publishing","Paperback Book",1,2009,null,"Paperback","6.000 X 9.000","Author","David M. Haugen",null,null,null,null,null,null,"Years 15 - 17",null,"Grade 10 - 12",null,"English",33.799999999999898,27.039999999999921,"297","216 pp.",{"$f":"Table1[[#This Row],['# of Books]]*Table1[[#This Row],[QTY]]","v":0},{"$f":"Table1[[#This Row],[QTY]]*Table1[[#This Row],[School & Library Price]]","v":0}]
[null,10,null,"Current Issues","Opposing Viewpoints","Islamic Militancy","978-0-7377-4216-9","Greenhaven Publishing","Library Bound Book",1,2009,null,"Library Bound","6.000 X 9.000","Author","Amanda Hiber",null,null,null,null,null,null,"Years 15 - 17",null,"Grade 10 - 12",null,"English",48.8,39.04,"322","256 pp.",{"$f":"Table1[[#This Row],['# of Books]]*Table1[[#This Row],[QTY]]","v":0},{"$f":"Table1[[#This Row],[QTY]]*Table1[[#This Row],[School & Library Price]]","v":0}]
[null,10,null,"Current Issues","Opposing Viewpoints","Islamic Militancy","978-0-7377-4217-6","Greenhaven Publishing","Paperback Book",1,2009,null,"Paperback","6.000 X 9.000","Author","Amanda Hiber",null,null,null,null,null,null,"Years 15 - 17",null,"Grade 10 - 12",null,"English",33.799999999999898,27.039999999999921,"322","256 pp.",{"$f":"Table1[[#This Row],['# of Books]]*Table1[[#This Row],[QTY]]","v":0},{"$f":"Table1[[#This Row],[QTY]]*Table1[[#This Row],[School & Library Price]]","v":0}]
[null,10,null,"Current Issues","Opposing Viewpoints","Israel","978-0-7377-4974-8","Greenhaven Publishing","Library Bound Book",1,2011,null,"Library Bound","6.000 X 9.000","Author","Myra Immell",null,null,null,null,null,null,"Years 15 - 17",null,"Grade 10 - 12",null,"English",48.8,39.04,"956","200 pp.",{"$f":"Table1[[#This Row],['# of Books]]*Table1[[#This Row],[QTY]]","v":0},{"$f":"Table1[[#This Row],[QTY]]*Table1[[#This Row],[School & Library Price]]","v":0}]
[null,10,null,"Current Issues","Opposing Viewpoints","Israel","978-0-7377-4975-5","Greenhaven Publishing","Paperback Book",1,2011,null,"Paperback","6.000 X 9.000","Author","Myra Immell",null,null,null,null,null,null,"Years 15 - 17",null,"Grade 10 - 12",null,"English",33.799999999999898,27.039999999999921,"956","200 pp.",{"$f":"Table1[[#This Row],['# of Books]]*Table1[[#This Row],[QTY]]","v":0},{"$f":"Table1[[#This Row],[QTY]]*Table1[[#This Row],[School & Library Price]]","v":0}]
[null,10,null,"Current Issues","Opposing Viewpoints","Japan","978-0-7377-4372-2","Greenhaven Publishing","Library Bound Book",1,2009,null,"Library Bound","6.000 X 9.000","Author","Karen Miller",null,null,null,null,null,null,"Years 15 - 17",null,"Grade 10 - 12",null,"English",48.8,39.04,"952","208 pp.",{"$f":"Table1[[#This Row],['# of Books]]*Table1[[#This Row],[QTY]]","v":0},{"$f":"Table1[[#This Row],[QTY]]*Table1[[#This Row],[School & Library Price]]","v":0}]
[null,10,null,"Current Issues","Opposing Viewpoints","Japan","978-0-7377-4371-5","Greenhaven Publishing","Paperback Book",1,2009,null,"Paperback","6.000 X 9.000","Author","Karen Miller",null,null,null,null,null,null,"Years 15 - 17",null,"Grade 10 - 12",null,"English",33.799999999999898,27.039999999999921,"952","208 pp.",{"$f":"Table1[[#This Row],['# of Books]]*Table1[[#This Row],[QTY]]","v":0},{"$f":"Table1[[#This Row],[QTY]]*Table1[[#This Row],[School & Library Price]]","v":0}]
[null,10,null,"Current Issues","Opposing Viewpoints","Journalism","978-0-7377-6955-5","Greenhaven Publishing","Library Bound Book",1,2014,null,"Library Bound","6.000 X 9.000","Author","Roman Espejo",null,null,null,null,null,null,"Years 15 - 17",null,"Grade 10 - 12","This volume of OPPOSING VIEWPOINTS discusses the changing face of journalism. The Internet has revolutionized the way we view media, and this text explores the ethical issues facing journalism today, how journalism should be practiced and journalists be protected, and the future of journalism in a rapidly evolving global Internet age. The viewpoints are selected from a wide range of highly respected and often hard-to-find sources and publications. By choosing from such diverse sources and including both popular and unpopular views, the OPPOSING VIEWPOINTS editorial team has adhered to its commitment to editorial objectivity. Readers are exposed to many sides of a debate, which promotes issue awareness as well as critical thinking.","English",48.8,39.04,"070","248 pp.",{"$f":"Table1[[#This Row],['# of Books]]*Table1[[#This Row],[QTY]]","v":0},{"$f":"Table1[[#This Row],[QTY]]*Table1[[#This Row],[School & Library Price]]","v":0}]
[null,10,null,"Current Issues","Opposing Viewpoints","Journalism","978-0-7377-6956-2","Greenhaven Publishing","Paperback Book",1,2014,null,"Paperback","6.000 X 9.000","Author","Roman Espejo",null,null,null,null,null,null,"Years 15 - 17",null,"Grade 10 - 12","This volume of OPPOSING VIEWPOINTS discusses the changing face of journalism. The Internet has revolutionized the way we view media, and this text explores the ethical issues facing journalism today, how journalism should be practiced and journalists be protected, and the future of journalism in a rapidly evolving global Internet age. The viewpoints are selected from a wide range of highly respected and often hard-to-find sources and publications. By choosing from such diverse sources and including both popular and unpopular views, the OPPOSING VIEWPOINTS editorial team has adhered to its commitment to editorial objectivity. Readers are exposed to many sides of a debate, which promotes issue awareness as well as critical thinking.","English",33.799999999999898,27.039999999999921,"070","247 pp.",{"$f":"Table1[[#This Row],['# of Books]]*Table1[[#This Row],[QTY]]","v":0},{"$f":"Table1[[#This Row],[QTY]]*Table1[[#This Row],[School & Library Price]]","v":0}]
[null,10,null,"Current Issues","Opposing Viewpoints","Judicial Activism","978-0-7377-5729-3","Greenhaven Publishing","Library Bound Book",1,2012,null,"Library Bound","6.000 X 9.000","Author","Noah Berlatsky",null,null,null,null,null,null,"Years 15 - 17",null,"Grade 10 - 12",null,"English",48.8,39.04,"347","208 pp.",{"$f":"Table1[[#This Row],['# of Books]]*Table1[[#This Row],[QTY]]","v":0},{"$f":"Table1[[#This Row],[QTY]]*Table1[[#This Row],[School & Library Price]]","v":0}]
[null,10,null,"Current Issues","Opposing Viewpoints","Judicial Activism","978-0-7377-5730-9","Greenhaven Publishing","Paperback Book",1,2012,null,"Paperback","6.000 X 9.000","Author","Noah Berlatsky",null,null,null,null,null,null,"Years 15 - 17",null,"Grade 10 - 12",null,"English",33.799999999999898,27.039999999999921,"347","208 pp.",{"$f":"Table1[[#This Row],['# of Books]]*Table1[[#This Row],[QTY]]","v":0},{"$f":"Table1[[#This Row],[QTY]]*Table1[[#This Row],[School & Library Price]]","v":0}]
[null,10,null,"Current Issues","Opposing Viewpoints","Juvenile Crime","978-0-7377-5731-6","Greenhaven Publishing","Library Bound Book",1,2012,null,"Library Bound","6.000 X 9.000","Author","Louise I. Gerdes",null,null,null,null,null,null,"Years 15 - 17",null,"Grade 10 - 12","Through a balanced collection of articles from a variety of sources, this addition to the OPPOSING VIEWPOINTS series explores many aspects of juvenile crime in the United States. Topics covered include the seriousness of the juvenile crime problem, the causes of juvenile crime and violence, the treatment of juvenile offenders by the criminal justice system, and policies that may help reduce juvenile crime.","English",48.8,39.04,"364","240 pp.",{"$f":"Table1[[#This Row],['# of Books]]*Table1[[#This Row],[QTY]]","v":0},{"$f":"Table1[[#This Row],[QTY]]*Table1[[#This Row],[School & Library Price]]","v":0}]
[null,10,null,"Current Issues","Opposing Viewpoints","Juvenile Crime","978-0-7377-5732-3","Greenhaven Publishing","Paperback Book",1,2012,null,"Paperback","6.000 X 9.000","Author","Louise I. Gerdes",null,null,null,null,null,null,"Years 15 - 17",null,"Grade 10 - 12","Through a balanced collection of articles from a variety of sources, this addition to the OPPOSING VIEWPOINTS series explores many aspects of juvenile crime in the United States. Topics covered include the seriousness of the juvenile crime problem, the causes of juvenile crime and violence, the treatment of juvenile offenders by the criminal justice system, and policies that may help reduce juvenile crime.","English",33.799999999999898,27.039999999999921,"364","240 pp.",{"$f":"Table1[[#This Row],['# of Books]]*Table1[[#This Row],[QTY]]","v":0},{"$f":"Table1[[#This Row],[QTY]]*Table1[[#This Row],[School & Library Price]]","v":0}]
[null,10,null,"Current Issues","Opposing Viewpoints","Labor Unions","978-0-7377-3822-3","Greenhaven Publishing","Library Bound Book",1,2008,null,"Library Bound","6.000 X 9.000","Author","Viqi Wagner",null,null,null,null,null,null,"Years 15 - 17",null,"Grade 10 - 12",null,"English",48.8,39.04,"331","240 pp.",{"$f":"Table1[[#This Row],['# of Books]]*Table1[[#This Row],[QTY]]","v":0},{"$f":"Table1[[#This Row],[QTY]]*Table1[[#This Row],[School & Library Price]]","v":0}]
[null,10,null,"Current Issues","Opposing Viewpoints","Latin America","978-0-7377-4374-6","Greenhaven Publishing","Library Bound Book",1,2009,null,"Library Bound","6.000 X 9.000","Author","Louise I. Gerdes",null,null,null,null,null,null,"Years 15 - 17",null,"Grade 10 - 12",null,"English",48.8,39.04,"980","264 pp.",{"$f":"Table1[[#This Row],['# of Books]]*Table1[[#This Row],[QTY]]","v":0},{"$f":"Table1[[#This Row],[QTY]]*Table1[[#This Row],[School & Library Price]]","v":0}]
[null,10,null,"Current Issues","Opposing Viewpoints","Latin America","978-0-7377-4373-9","Greenhaven Publishing","Paperback Book",1,2009,null,"Paperback","6.000 X 9.000","Author","Louise I. Gerdes",null,null,null,null,null,null,"Years 15 - 17",null,"Grade 10 - 12",null,"English",33.799999999999898,27.039999999999921,"980","264 pp.",{"$f":"Table1[[#This Row],['# of Books]]*Table1[[#This Row],[QTY]]","v":0},{"$f":"Table1[[#This Row],[QTY]]*Table1[[#This Row],[School & Library Price]]","v":0}]
[null,10,null,"Current Issues","Opposing Viewpoints","Legal System","978-0-7377-3757-8","Greenhaven Publishing","Library Bound Book",1,2008,null,"Library Bound","6.000 X 9.000","Author","Clare Hanrahan",null,null,null,null,null,null,"Years 15 - 17",null,"Grade 10 - 12",null,"English",48.8,39.04,"347","240 pp.",{"$f":"Table1[[#This Row],['# of Books]]*Table1[[#This Row],[QTY]]","v":0},{"$f":"Table1[[#This Row],[QTY]]*Table1[[#This Row],[School & Library Price]]","v":0}]
[null,10,null,"Current Issues","Opposing Viewpoints","Libya","978-0-7377-6031-6","Greenhaven Publishing","Library Bound Book",1,2012,null,"Library Bound","6.000 X 9.000","Author","Noah Berlatsky",null,null,null,null,null,null,"Years 15 - 17",null,"Grade 10 - 12","This title introduces readers to a variety of current issues related to Libya. The articles included cover topics like the status of human rights issues in Libya, the impact of weapons of mass destruction and terrorism on Libya’s international status, the issues facing Libya’s resistance movement, and the role of the United States in Libya’s current affairs.","English",48.8,39.04,"961","224 pp.",{"$f":"Table1[[#This Row],['# of Books]]*Table1[[#This Row],[QTY]]","v":0},{"$f":"Table1[[#This Row],[QTY]]*Table1[[#This Row],[School & Library Price]]","v":0}]
[null,10,null,"Current Issues","Opposing Viewpoints","Libya","978-0-7377-6032-3","Greenhaven Publishing","Paperback Book",1,2012,null,"Paperback","6.000 X 9.000","Author","Noah Berlatsky",null,null,null,null,null,null,"Years 15 - 17",null,"Grade 10 - 12","This title introduces readers to a variety of current issues related to Libya. The articles included cover topics like the status of human rights issues in Libya, the impact of weapons of mass destruction and terrorism on Libya’s international status, the issues facing Libya’s resistance movement, and the role of the United States in Libya’s current affairs.","English",33.799999999999898,27.039999999999921,"961","224 pp.",{"$f":"Table1[[#This Row],['# of Books]]*Table1[[#This Row],[QTY]]","v":0},{"$f":"Table1[[#This Row],[QTY]]*Table1[[#This Row],[School & Library Price]]","v":0}]
[null,10,null,"Current Issues","Opposing Viewpoints","Male/Female Roles","978-0-7377-6957-9","Greenhaven Publishing","Library Bound Book",1,2014,null,"Library Bound","6.000 X 9.000","Author","Noël Merino",null,null,null,null,null,null,"Years 15 - 17",null,"Grade 10 - 12","This title explores whether gender roles are important, how gender roles affect parenting and reproduction, how gender roles affect the workplace, and how gender roles are changing. The viewpoints are selected from a wide range of highly respected and often hard-to-find sources and publications. By choosing from such diverse sources and including both popular and unpopular views, the OPPOSING VIEWPOINTS editorial team has adhered to its commitment to editorial objectivity. Readers are exposed to many sides of a debate, which promotes issue awareness as well as critical thinking.","English",48.8,39.04,"305","216 pp.",{"$f":"Table1[[#This Row],['# of Books]]*Table1[[#This Row],[QTY]]","v":0},{"$f":"Table1[[#This Row],[QTY]]*Table1[[#This Row],[School & Library Price]]","v":0}]
[null,10,null,"Current Issues","Opposing Viewpoints","Male/Female Roles","978-0-7377-6958-6","Greenhaven Publishing","Paperback Book",1,2014,null,"Paperback","6.000 X 9.000","Author","Noël Merino",null,null,null,null,null,null,"Years 15 - 17",null,"Grade 10 - 12","This title explores whether gender roles are important, how gender roles affect parenting and reproduction, how gender roles affect the workplace, and how gender roles are changing. The viewpoints are selected from a wide range of highly respected and often hard-to-find sources and publications. By choosing from such diverse sources and including both popular and unpopular views, the OPPOSING VIEWPOINTS editorial team has adhered to its commitment to editorial objectivity. Readers are exposed to many sides of a debate, which promotes issue awareness as well as critical thinking.","English",33.799999999999898,27.039999999999921,"305","209 pp.",{"$f":"Table1[[#This Row],['# of Books]]*Table1[[#This Row],[QTY]]","v":0},{"$f":"Table1[[#This Row],[QTY]]*Table1[[#This Row],[School & Library Price]]","v":0}]
[null,10,null,"Current Issues","Opposing Viewpoints","Malnutrition","978-0-7377-4384-5","Greenhaven Publishing","Library Bound Book",1,2009,null,"Library Bound","6.000 X 9.000","Author","Margaret Haerens",null,null,null,null,null,null,"Years 15 - 17",null,"Grade 10 - 12",null,"English",48.8,39.04,"363","232 pp.",{"$f":"Table1[[#This Row],['# of Books]]*Table1[[#This Row],[QTY]]","v":0},{"$f":"Table1[[#This Row],[QTY]]*Table1[[#This Row],[School & Library Price]]","v":0}]
[null,10,null,"Current Issues","Opposing Viewpoints","Malnutrition","978-0-7377-4383-8","Greenhaven Publishing","Paperback Book",1,2009,null,"Paperback","6.000 X 9.000","Author","Margaret Haerens",null,null,null,null,null,null,"Years 15 - 17",null,"Grade 10 - 12",null,"English",33.799999999999898,27.039999999999921,"363","232 pp.",{"$f":"Table1[[#This Row],['# of Books]]*Table1[[#This Row],[QTY]]","v":0},{"$f":"Table1[[#This Row],[QTY]]*Table1[[#This Row],[School & Library Price]]","v":0}]
[null,11,null,"Current Issues","Opposing Viewpoints","Mandatory Minimum Sentencing","978-0-7377-4775-1","Greenhaven Publishing","Library Bound Book",1,2010,null,"Library Bound","6.000 X 9.000","Author","Margaret Haerens",null,null,null,null,null,null,"Years 15 - 17",null,"Grade 10 - 12","Explores a wide diversity of opinions on the impact of mandatory minimum sentencing on crime, including the \"three strikes\" law. Discusses the inherent fairness of mandatory sentences: Are they discriminatory? Do they usurp judicial power and result in overcrowd prisons?  Or do they protect children and deter repeat offenders? Also looks at alternatives to mandatory minimums, such as drug court supervision or extended treatment options.","English",48.8,39.04,"364","240 pp.",{"$f":"Table1[[#This Row],['# of Books]]*Table1[[#This Row],[QTY]]","v":0},{"$f":"Table1[[#This Row],[QTY]]*Table1[[#This Row],[School & Library Price]]","v":0}]
[null,11,null,"Current Issues","Opposing Viewpoints","Mandatory Minimum Sentencing","978-0-7377-4776-8","Greenhaven Publishing","Paperback Book",1,2010,null,"Paperback","6.000 X 9.000","Author","Margaret Haerens",null,null,null,null,null,null,"Years 15 - 17",null,"Grade 10 - 12","Explores a wide diversity of opinions on the impact of mandatory minimum sentencing on crime, including the \"three strikes\" law. Discusses the inherent fairness of mandatory sentences: Are they discriminatory? Do they usurp judicial power and result in overcrowd prisons?  Or do they protect children and deter repeat offenders? Also looks at alternatives to mandatory minimums, such as drug court supervision or extended treatment options.","English",33.799999999999898,27.039999999999921,"364","240 pp.",{"$f":"Table1[[#This Row],['# of Books]]*Table1[[#This Row],[QTY]]","v":0},{"$f":"Table1[[#This Row],[QTY]]*Table1[[#This Row],[School & Library Price]]","v":0}]
[null,11,null,"Current Issues","Opposing Viewpoints","Marijuana","978-0-7377-5733-0","Greenhaven Publishing","Library Bound Book",1,2012,null,"Library Bound","6.000 X 9.000","Author","Noah Berlatsky",null,null,null,null,null,null,"Years 15 - 17",null,"Grade 10 - 12","This addition to the popular OPPOSING VIEWPOINTS series focuses on the topic of marijuana. Through a balanced collection of articles from a variety of sources, the title examines whether or not marijuana is harmful, the possible medical benefits to using marijuana, and the legalization of medical marijuana.","English",48.8,39.04,"362","224 pp.",{"$f":"Table1[[#This Row],['# of Books]]*Table1[[#This Row],[QTY]]","v":0},{"$f":"Table1[[#This Row],[QTY]]*Table1[[#This Row],[School & Library Price]]","v":0}]
[null,11,null,"Current Issues","Opposing Viewpoints","Marijuana","978-0-7377-5734-7","Greenhaven Publishing","Paperback Book",1,2012,null,"Paperback","6.000 X 9.000","Author","Noah Berlatsky",null,null,null,null,null,null,"Years 15 - 17",null,"Grade 10 - 12","This addition to the popular OPPOSING VIEWPOINTS series focuses on the topic of marijuana. Through a balanced collection of articles from a variety of sources, the title examines whether or not marijuana is harmful, the possible medical benefits to using marijuana, and the legalization of medical marijuana.","English",33.799999999999898,27.039999999999921,"362","224 pp.",{"$f":"Table1[[#This Row],['# of Books]]*Table1[[#This Row],[QTY]]","v":0},{"$f":"Table1[[#This Row],[QTY]]*Table1[[#This Row],[School & Library Price]]","v":0}]
[null,11,null,"Current Issues","Opposing Viewpoints","Mass Media","978-0-7377-6660-8","Greenhaven Publishing","Library Bound Book",1,2014,null,"Library Bound","6.000 X 9.000","Author","Margaret Haerens",null,null,null,null,null,null,"Years 15 - 17",null,"Grade 10 - 12","OPPOSING VIEWPOINTS: MASS MEDIA addresses the role of the news media, examines the issue of media bias, explores the impact of media on society, and speculates on the future of mass media. The viewpoints are selected from a wide range of highly respected and often hard-to-find sources and publications. By choosing from such diverse sources and including both popular and unpopular views, the OPPOSING VIEWPOINTS editorial team has adhered to its commitment to editorial objectivity. Readers are exposed to many sides of a debate, which promotes issue awareness as well as critical thinking.","English",48.8,39.04,"302","208 pp.",{"$f":"Table1[[#This Row],['# of Books]]*Table1[[#This Row],[QTY]]","v":0},{"$f":"Table1[[#This Row],[QTY]]*Table1[[#This Row],[School & Library Price]]","v":0}]
[null,11,null,"Current Issues","Opposing Viewpoints","Mass Media","978-0-7377-6661-5","Greenhaven Publishing","Paperback Book",1,2014,null,"Paperback","6.000 X 9.000","Author","Margaret Haerens",null,null,null,null,null,null,"Years 15 - 17",null,"Grade 10 - 12","OPPOSING VIEWPOINTS: MASS MEDIA addresses the role of the news media, examines the issue of media bias, explores the impact of media on society, and speculates on the future of mass media. The viewpoints are selected from a wide range of highly respected and often hard-to-find sources and publications. By choosing from such diverse sources and including both popular and unpopular views, the OPPOSING VIEWPOINTS editorial team has adhered to its commitment to editorial objectivity. Readers are exposed to many sides of a debate, which promotes issue awareness as well as critical thinking.","English",33.799999999999898,27.039999999999921,"302","208 pp.",{"$f":"Table1[[#This Row],['# of Books]]*Table1[[#This Row],[QTY]]","v":0},{"$f":"Table1[[#This Row],[QTY]]*Table1[[#This Row],[School & Library Price]]","v":0}]
[null,11,null,"Current Issues","Opposing Viewpoints","Media Violence","978-0-7377-6328-7","Greenhaven Publishing","Library Bound Book",1,2012,null,"Library Bound","6.000 X 9.000","Author","Noah Berlatsky",null,null,null,null,null,null,"Years 15 - 17",null,"Grade 10 - 12","This title explores many aspects of media violence, including the seriousness of the media violence problem, the regulation of media violence, the effect of violence in the news, and the relationship between sex and violence in the media.","English",48.8,39.04,"303","208 pp.",{"$f":"Table1[[#This Row],['# of Books]]*Table1[[#This Row],[QTY]]","v":0},{"$f":"Table1[[#This Row],[QTY]]*Table1[[#This Row],[School & Library Price]]","v":0}]
[null,11,null,"Current Issues","Opposing Viewpoints","Media Violence","978-0-7377-6329-4","Greenhaven Publishing","Paperback Book",1,2012,null,"Paperback","6.000 X 9.000","Author","Noah Berlatsky",null,null,null,null,null,null,"Years 15 - 17",null,"Grade 10 - 12","This title explores many aspects of media violence, including the seriousness of the media violence problem, the regulation of media violence, the effect of violence in the news, and the relationship between sex and violence in the media.","English",33.799999999999898,27.039999999999921,"303","208 pp.",{"$f":"Table1[[#This Row],['# of Books]]*Table1[[#This Row],[QTY]]","v":0},{"$f":"Table1[[#This Row],[QTY]]*Table1[[#This Row],[School & Library Price]]","v":0}]
[null,11,null,"Current Issues","Opposing Viewpoints","Medical Marijuana","978-0-7377-6056-9","Greenhaven Publishing","Library Bound Book",1,2013,null,"Library Bound","6.000 X 9.000","Author","Margaret Haerens",null,null,null,null,null,null,"Years 15 - 17",null,"Grade 10 - 12","The legality of medical marijuana continues to provoke controversy and face challenges. This title addresses the various facets of the debate, including: whether medical marijuana should be legal, if medical marijuana is good for society, how access to medical marijuana should be managed, and legal rights of patients using medical marijuana, in terms of such issues as driving, gun rights, and employment.","English",48.8,39.04,"615.7","224 pp.",{"$f":"Table1[[#This Row],['# of Books]]*Table1[[#This Row],[QTY]]","v":0},{"$f":"Table1[[#This Row],[QTY]]*Table1[[#This Row],[School & Library Price]]","v":0}]
[null,11,null,"Current Issues","Opposing Viewpoints","Medical Marijuana","978-0-7377-6057-6","Greenhaven Publishing","Paperback Book",1,2013,null,"Paperback","6.000 X 9.000","Author","Margaret Haerens",null,null,null,null,null,null,"Years 15 - 17",null,"Grade 10 - 12","The legality of medical marijuana continues to provoke controversy and face challenges. This title addresses the various facets of the debate, including: whether medical marijuana should be legal, if medical marijuana is good for society, how access to medical marijuana should be managed, and legal rights of patients using medical marijuana, in terms of such issues as driving, gun rights, and employment.","English",33.799999999999898,27.039999999999921,"615.7","224 pp.",{"$f":"Table1[[#This Row],['# of Books]]*Table1[[#This Row],[QTY]]","v":0},{"$f":"Table1[[#This Row],[QTY]]*Table1[[#This Row],[School & Library Price]]","v":0}]
[null,11,null,"Current Issues","Opposing Viewpoints","Medical Technology","978-0-7377-6058-3","Greenhaven Publishing","Library Bound Book",1,2013,null,"Library Bound","6.000 X 9.000","Author","Carol Ullmann",null,null,null,null,null,null,"Years 15 - 17",null,"Grade 10 - 12","Opposing Viewpoints: Medical Technology explores the affect of technology on patient outcomes and health-care costs, the impact of electronic medical records, and the role of the government in regulating medical technology. The viewpoints are selected from a wide range of highly respected and often hard-to-find sources and publications. By choosing from such diverse sources and including both popular and unpopular views, the Opposing Viewpoints series has adhered to its commitment to editorial objectivity. Readers are exposed to many sides of a debate, which promotes issue awareness as well as critical thinking.","English",48.8,39.04,"610.28","240 pp.",{"$f":"Table1[[#This Row],['# of Books]]*Table1[[#This Row],[QTY]]","v":0},{"$f":"Table1[[#This Row],[QTY]]*Table1[[#This Row],[School & Library Price]]","v":0}]
[null,11,null,"Current Issues","Opposing Viewpoints","Medical Technology","978-0-7377-6059-0","Greenhaven Publishing","Paperback Book",1,2013,null,"Paperback","6.000 X 9.000","Author","Carol Ullmann",null,null,null,null,null,null,"Years 15 - 17",null,"Grade 10 - 12","Opposing Viewpoints: Medical Technology explores the affect of technology on patient outcomes and health-care costs, the impact of electronic medical records, and the role of the government in regulating medical technology. The viewpoints are selected from a wide range of highly respected and often hard-to-find sources and publications. By choosing from such diverse sources and including both popular and unpopular views, the Opposing Viewpoints series has adhered to its commitment to editorial objectivity. Readers are exposed to many sides of a debate, which promotes issue awareness as well as critical thinking.","English",33.799999999999898,27.039999999999921,"610.28","240 pp.",{"$f":"Table1[[#This Row],['# of Books]]*Table1[[#This Row],[QTY]]","v":0},{"$f":"Table1[[#This Row],[QTY]]*Table1[[#This Row],[School & Library Price]]","v":0}]
[null,11,null,"Current Issues","Opposing Viewpoints","Medical Testing","978-0-7377-6959-3","Greenhaven Publishing","Library Bound Book",1,2014,null,"Library Bound","6.000 X 9.000","Author","Noël Merino",null,null,null,null,null,null,"Years 15 - 17",null,"Grade 10 - 12","OPPOSING VIEWPOINTS: MEDICAL TESTING examines concerns regarding the testing of new medicine, how medical testing on humans and animals should be regulated, concerns about diagnostic medical tests, and concerns about genetic testing. The viewpoints are selected from a wide range of highly respected and often hard-to-find sources and publications. By choosing from such diverse sources and including both popular and unpopular views, the OPPOSING VIEWPOINTS editorial team has adhered to its commitment to editorial objectivity. Readers are exposed to many sides of a debate, which promotes issue awareness as well as critical thinking.","English",48.8,39.04,"174","224 pp.",{"$f":"Table1[[#This Row],['# of Books]]*Table1[[#This Row],[QTY]]","v":0},{"$f":"Table1[[#This Row],[QTY]]*Table1[[#This Row],[School & Library Price]]","v":0}]
[null,11,null,"Current Issues","Opposing Viewpoints","Medical Testing","978-0-7377-6960-9","Greenhaven Publishing","Paperback Book",1,2014,null,"Paperback","6.000 X 9.000","Author","Noël Merino",null,null,null,null,null,null,"Years 15 - 17",null,"Grade 10 - 12","OPPOSING VIEWPOINTS: MEDICAL TESTING examines concerns regarding the testing of new medicine, how medical testing on humans and animals should be regulated, concerns about diagnostic medical tests, and concerns about genetic testing. The viewpoints are selected from a wide range of highly respected and often hard-to-find sources and publications. By choosing from such diverse sources and including both popular and unpopular views, the OPPOSING VIEWPOINTS editorial team has adhered to its commitment to editorial objectivity. Readers are exposed to many sides of a debate, which promotes issue awareness as well as critical thinking.","English",33.799999999999898,27.039999999999921,"174","224 pp.",{"$f":"Table1[[#This Row],['# of Books]]*Table1[[#This Row],[QTY]]","v":0},{"$f":"Table1[[#This Row],[QTY]]*Table1[[#This Row],[School & Library Price]]","v":0}]
[null,11,null,"Current Issues","Opposing Viewpoints","Medicine","978-0-7377-3759-2","Greenhaven Publishing","Library Bound Book",1,2008,null,"Library Bound","6.000 X 9.000","Author","Louise I. Gerdes",null,null,null,null,null,null,"Years 15 - 17",null,"Grade 10 - 12",null,"English",48.8,39.04,"610","224 pp.",{"$f":"Table1[[#This Row],['# of Books]]*Table1[[#This Row],[QTY]]","v":0},{"$f":"Table1[[#This Row],[QTY]]*Table1[[#This Row],[School & Library Price]]","v":0}]
[null,11,null,"Current Issues","Opposing Viewpoints","Medicine","978-0-7377-3760-8","Greenhaven Publishing","Paperback Book",1,2008,null,"Paperback","6.000 X 9.000","Author","Louise I. Gerdes",null,null,null,null,null,null,"Years 15 - 17",null,"Grade 10 - 12",null,"English",33.799999999999898,27.039999999999921,"610","224 pp.",{"$f":"Table1[[#This Row],['# of Books]]*Table1[[#This Row],[QTY]]","v":0},{"$f":"Table1[[#This Row],[QTY]]*Table1[[#This Row],[School & Library Price]]","v":0}]
[null,11,null,"Current Issues","Opposing Viewpoints","Mental Illness","978-0-7377-7512-9","Greenhaven Publishing","Library Bound Book",1,2016,null,"Library Bound","6.000 X 9.000","Author","Noah Berlatsky",null,null,null,null,null,null,"Years 15 - 17",null,"Grade 10 - 12","This title addresses controversies related to mental illness including: What causes mental illness? How should mental illness be treated? Is involuntary treatment for the mentally ill ethical? What are the issues surrounding violence and the mentally ill?","English",48.8,39.04,"362","224 pp.",{"$f":"Table1[[#This Row],['# of Books]]*Table1[[#This Row],[QTY]]","v":0},{"$f":"Table1[[#This Row],[QTY]]*Table1[[#This Row],[School & Library Price]]","v":0}]
[null,11,null,"Current Issues","Opposing Viewpoints","Mental Illness","978-0-7377-7513-6","Greenhaven Publishing","Paperback Book",1,2016,null,"Paperback","6.000 X 9.000","Author","Noah Berlatsky",null,null,null,null,null,null,"Years 15 - 17",null,"Grade 10 - 12","This title addresses controversies related to mental illness including: What causes mental illness? How should mental illness be treated? Is involuntary treatment for the mentally ill ethical? What are the issues surrounding violence and the mentally ill?","English",33.799999999999898,27.039999999999921,"362","224 pp.",{"$f":"Table1[[#This Row],['# of Books]]*Table1[[#This Row],[QTY]]","v":0},{"$f":"Table1[[#This Row],[QTY]]*Table1[[#This Row],[School & Library Price]]","v":0}]
[null,11,null,"Current Issues","Opposing Viewpoints","Mexico","978-0-7377-5737-8","Greenhaven Publishing","Library Bound Book",1,2012,null,"Library Bound","6.000 X 9.000","Author","David M. Haugen",null,null,null,null,null,null,"Years 15 - 17",null,"Grade 10 - 12",null,"English",48.8,39.04,"972","264 pp.",{"$f":"Table1[[#This Row],['# of Books]]*Table1[[#This Row],[QTY]]","v":0},{"$f":"Table1[[#This Row],[QTY]]*Table1[[#This Row],[School & Library Price]]","v":0}]
[null,11,null,"Current Issues","Opposing Viewpoints","Mexico","978-0-7377-5738-5","Greenhaven Publishing","Paperback Book",1,2012,null,"Paperback","6.000 X 9.000","Author","David M. Haugen",null,null,null,null,null,null,"Years 15 - 17",null,"Grade 10 - 12",null,"English",33.799999999999898,27.039999999999921,"972","264 pp.",{"$f":"Table1[[#This Row],['# of Books]]*Table1[[#This Row],[QTY]]","v":0},{"$f":"Table1[[#This Row],[QTY]]*Table1[[#This Row],[School & Library Price]]","v":0}]
[null,11,null,"Current Issues","Opposing Viewpoints","Military Draft","978-0-7377-3824-7","Greenhaven Publishing","Library Bound Book",1,2008,null,"Library Bound","6.000 X 9.000","Author","Viqi Wagner",null,null,null,null,null,null,"Years 15 - 17",null,"Grade 10 - 12",null,"English",48.8,39.04,"355","240 pp.",{"$f":"Table1[[#This Row],['# of Books]]*Table1[[#This Row],[QTY]]","v":0},{"$f":"Table1[[#This Row],[QTY]]*Table1[[#This Row],[School & Library Price]]","v":0}]
[null,11,null,"Current Issues","Opposing Viewpoints","Military Draft","978-0-7377-3825-4","Greenhaven Publishing","Paperback Book",1,2008,null,"Paperback","6.000 X 9.000","Author","Viqi Wagner",null,null,null,null,null,null,"Years 15 - 17",null,"Grade 10 - 12",null,"English",33.799999999999898,27.039999999999921,"355","238 pp.",{"$f":"Table1[[#This Row],['# of Books]]*Table1[[#This Row],[QTY]]","v":0},{"$f":"Table1[[#This Row],[QTY]]*Table1[[#This Row],[School & Library Price]]","v":0}]
[null,11,null,"Current Issues","Opposing Viewpoints","Militias","978-0-7377-5739-2","Greenhaven Publishing","Library Bound Book",1,2012,null,"Library Bound","6.000 X 9.000","Author","Noah Berlatsky",null,null,null,null,null,null,"Years 15 - 17",null,"Grade 10 - 12","This addition to the popular OPPOSING VIEWPOINTS series focuses on the topic of militias. The title includes a balanced selection of articles on whether or not militias pose a danger; the groups and organizations linked to the militia movement, such as the NRA, Libertarians, and the Tea Party; the relationship between the militia movement and constitutional militias; and the relationship between Christianity and militias.","English",48.8,39.04,"322","240 pp.",{"$f":"Table1[[#This Row],['# of Books]]*Table1[[#This Row],[QTY]]","v":0},{"$f":"Table1[[#This Row],[QTY]]*Table1[[#This Row],[School & Library Price]]","v":0}]
[null,11,null,"Current Issues","Opposing Viewpoints","Militias","978-0-7377-5740-8","Greenhaven Publishing","Paperback Book",1,2012,null,"Paperback","6.000 X 9.000","Author","Noah Berlatsky",null,null,null,null,null,null,"Years 15 - 17",null,"Grade 10 - 12","This addition to the popular OPPOSING VIEWPOINTS series focuses on the topic of militias. The title includes a balanced selection of articles on whether or not militias pose a danger; the groups and organizations linked to the militia movement, such as the NRA, Libertarians, and the Tea Party; the relationship between the militia movement and constitutional militias; and the relationship between Christianity and militias.","English",33.799999999999898,27.039999999999921,"322","240 pp.",{"$f":"Table1[[#This Row],['# of Books]]*Table1[[#This Row],[QTY]]","v":0},{"$f":"Table1[[#This Row],[QTY]]*Table1[[#This Row],[School & Library Price]]","v":0}]
[null,11,null,"Current Issues","Opposing Viewpoints","Multiracial America","978-0-7377-6662-2","Greenhaven Publishing","Library Bound Book",1,2014,null,"Library Bound","6.000 X 9.000","Author","Noah Berlatsky",null,null,null,null,null,null,"Years 15 - 17",null,"Grade 10 - 12","This title addresses various issues related to multiracial America, including the connection between politics and multiracial America; how multiracial America can become more equal; what issues surround multiracial relationships in America; and what issues confront children in multiracial families. The viewpoints are selected from a wide range of highly respected and often hard-to-find sources and publications. By choosing from such diverse sources and including both popular and unpopular views, the OPPOSING VIEWPOINTS editorial team has adhered to its commitment to editorial objectivity. Readers are exposed to many sides of a debate, which promotes issue awareness as well as critical thinking.","English",48.8,39.04,"305","192 pp.",{"$f":"Table1[[#This Row],['# of Books]]*Table1[[#This Row],[QTY]]","v":0},{"$f":"Table1[[#This Row],[QTY]]*Table1[[#This Row],[School & Library Price]]","v":0}]
[null,11,null,"Current Issues","Opposing Viewpoints","Multiracial America","978-0-7377-6663-9","Greenhaven Publishing","Paperback Book",1,2014,null,"Paperback","6.000 X 9.000","Author","Noah Berlatsky",null,null,null,null,null,null,"Years 15 - 17",null,"Grade 10 - 12","This title addresses various issues related to multiracial America, including the connection between politics and multiracial America; how multiracial America can become more equal; what issues surround multiracial relationships in America; and what issues confront children in multiracial families. The viewpoints are selected from a wide range of highly respected and often hard-to-find sources and publications. By choosing from such diverse sources and including both popular and unpopular views, the OPPOSING VIEWPOINTS editorial team has adhered to its commitment to editorial objectivity. Readers are exposed to many sides of a debate, which promotes issue awareness as well as critical thinking.","English",33.799999999999898,27.039999999999921,"305","191 pp.",{"$f":"Table1[[#This Row],['# of Books]]*Table1[[#This Row],[QTY]]","v":0},{"$f":"Table1[[#This Row],[QTY]]*Table1[[#This Row],[School & Library Price]]","v":0}]
[null,11,null,"Current Issues","Opposing Viewpoints","Nanotechnology","978-0-7377-6961-6","Greenhaven Publishing","Library Bound Book",1,2014,null,"Library Bound","6.000 X 9.000","Author","Noah Berlatsky",null,null,null,null,null,null,"Years 15 - 17",null,"Grade 10 - 12","This title addresses various issues related to nanotechnology, including the relationship between public perception and nanotechnology and how nanotechnology will affect health, the environment, and  international relations. The viewpoints are selected from a wide range of highly respected and often hard-to-find sources and publications. By choosing from such diverse sources and including both popular and unpopular views, the OPPOSING VIEWPOINTS editorial team has adhered to its commitment to editorial objectivity. Readers are exposed to many sides of a debate, which promotes issue awareness as well as critical thinking.","English",48.8,39.04,"620","232 pp.",{"$f":"Table1[[#This Row],['# of Books]]*Table1[[#This Row],[QTY]]","v":0},{"$f":"Table1[[#This Row],[QTY]]*Table1[[#This Row],[School & Library Price]]","v":0}]
[null,11,null,"Current Issues","Opposing Viewpoints","Nanotechnology","978-0-7377-6962-3","Greenhaven Publishing","Paperback Book",1,2014,null,"Paperback","6.000 X 9.000","Author","Noah Berlatsky",null,null,null,null,null,null,"Years 15 - 17",null,"Grade 10 - 12","This title addresses various issues related to nanotechnology, including the relationship between public perception and nanotechnology and how nanotechnology will affect health, the environment, and  international relations. The viewpoints are selected from a wide range of highly respected and often hard-to-find sources and publications. By choosing from such diverse sources and including both popular and unpopular views, the OPPOSING VIEWPOINTS editorial team has adhered to its commitment to editorial objectivity. Readers are exposed to many sides of a debate, which promotes issue awareness as well as critical thinking.","English",33.799999999999898,27.039999999999921,"620","228 pp.",{"$f":"Table1[[#This Row],['# of Books]]*Table1[[#This Row],[QTY]]","v":0},{"$f":"Table1[[#This Row],[QTY]]*Table1[[#This Row],[School & Library Price]]","v":0}]
[null,11,null,"Current Issues","Opposing Viewpoints","NASA","978-0-7377-5745-3","Greenhaven Publishing","Library Bound Book",1,2012,null,"Library Bound","6.000 X 9.000","Author","Margaret Haerens",null,null,null,null,null,null,"Years 15 - 17",null,"Grade 10 - 12","This edition of the OPPOSING VIEWPOINTS series discusses the National Aeronautics and Space Administration (NASA). Article topics include the future of the NASA space program, issues surrounding the space shuttle program, NASA funding, and NASA’s role in diplomatic and scientific affairs.","English",48.8,39.04,"629","224 pp.",{"$f":"Table1[[#This Row],['# of Books]]*Table1[[#This Row],[QTY]]","v":0},{"$f":"Table1[[#This Row],[QTY]]*Table1[[#This Row],[School & Library Price]]","v":0}]
[null,11,null,"Current Issues","Opposing Viewpoints","NASA","978-0-7377-5746-0","Greenhaven Publishing","Paperback Book",1,2012,null,"Paperback","6.000 X 9.000","Author","Margaret Haerens",null,null,null,null,null,null,"Years 15 - 17",null,"Grade 10 - 12","This edition of the OPPOSING VIEWPOINTS series discusses the National Aeronautics and Space Administration (NASA). Article topics include the future of the NASA space program, issues surrounding the space shuttle program, NASA funding, and NASA's role in diplomatic and scientific affairs.","English",33.799999999999898,27.039999999999921,"629","224 pp.",{"$f":"Table1[[#This Row],['# of Books]]*Table1[[#This Row],[QTY]]","v":0},{"$f":"Table1[[#This Row],[QTY]]*Table1[[#This Row],[School & Library Price]]","v":0}]
[null,11,null,"Current Issues","Opposing Viewpoints","Nation Building","978-0-7377-3895-7","Greenhaven Publishing","Paperback Book",1,2008,null,"Paperback","6.000 X 9.000","Author","Michael Logan",null,null,null,null,null,null,"Years 15 - 17",null,"Grade 10 - 12",null,"English",33.799999999999898,27.039999999999921,"327","288 pp.",{"$f":"Table1[[#This Row],['# of Books]]*Table1[[#This Row],[QTY]]","v":0},{"$f":"Table1[[#This Row],[QTY]]*Table1[[#This Row],[School & Library Price]]","v":0}]
[null,11,null,"Current Issues","Opposing Viewpoints","National Security","978-0-7377-3761-5","Greenhaven Publishing","Library Bound Book",1,2008,null,"Library Bound","6.000 X 9.000","Author","David M. Haugen",null,null,null,null,null,null,"Years 15 - 17",null,"Grade 10 - 12",null,"English",48.8,39.04,"305","216 pp.",{"$f":"Table1[[#This Row],['# of Books]]*Table1[[#This Row],[QTY]]","v":0},{"$f":"Table1[[#This Row],[QTY]]*Table1[[#This Row],[School & Library Price]]","v":0}]
[null,11,null,"Current Issues","Opposing Viewpoints","National Security","978-0-7377-3762-2","Greenhaven Publishing","Paperback Book",1,2008,null,"Paperback","6.000 X 9.000","Author","David M. Haugen",null,null,null,null,null,null,"Years 15 - 17",null,"Grade 10 - 12",null,"English",33.799999999999898,27.039999999999921,"174","216 pp.",{"$f":"Table1[[#This Row],['# of Books]]*Table1[[#This Row],[QTY]]","v":0},{"$f":"Table1[[#This Row],[QTY]]*Table1[[#This Row],[School & Library Price]]","v":0}]
[null,11,null,"Current Issues","Opposing Viewpoints","National Service","978-0-7377-5233-5","Greenhaven Publishing","Library Bound Book",1,2011,null,"Library Bound","6.000 X 9.000","Author","Louise I. Gerdes",null,null,null,null,null,null,"Years 15 - 17",null,"Grade 10 - 12",null,"English",48.8,39.04,"363","248 pp.",{"$f":"Table1[[#This Row],['# of Books]]*Table1[[#This Row],[QTY]]","v":0},{"$f":"Table1[[#This Row],[QTY]]*Table1[[#This Row],[School & Library Price]]","v":0}]
[null,11,null,"Current Issues","Opposing Viewpoints","National Service","978-0-7377-5234-2","Greenhaven Publishing","Paperback Book",1,2011,null,"Paperback","6.000 X 9.000","Author","Louise I. Gerdes",null,null,null,null,null,null,"Years 15 - 17",null,"Grade 10 - 12",null,"English",33.799999999999898,27.039999999999921,"363","248 pp.",{"$f":"Table1[[#This Row],['# of Books]]*Table1[[#This Row],[QTY]]","v":0},{"$f":"Table1[[#This Row],[QTY]]*Table1[[#This Row],[School & Library Price]]","v":0}]
[null,11,null,"Current Issues","Opposing Viewpoints","Native Americans","978-0-7377-5444-5","Greenhaven Publishing","Library Bound Book",1,2012,null,"Library Bound","6.000 X 9.000","Author","Lynn M. Zott",null,null,null,null,null,null,"Years 15 - 17",null,"Grade 10 - 12","The title explores issues related to Native Americans, including key conflicts that still exist between the United States and tribal governments. Topics covered include the impact of discrimination on Native American culture, the current economic factors of concern to Native Americans, and how disputes over natural resources and cultural artifacts affect Native Americans.","English",48.8,39.04,"305","240 pp.",{"$f":"Table1[[#This Row],['# of Books]]*Table1[[#This Row],[QTY]]","v":0},{"$f":"Table1[[#This Row],[QTY]]*Table1[[#This Row],[School & Library Price]]","v":0}]
[null,11,null,"Current Issues","Opposing Viewpoints","Native Americans","978-0-7377-5445-2","Greenhaven Publishing","Paperback Book",1,2012,null,"Paperback","6.000 X 9.000","Author","Lynn M. Zott",null,null,null,null,null,null,"Years 15 - 17",null,"Grade 10 - 12","The title explores issues related to Native Americans, including key conflicts that still exist between the United States and tribal governments. Topics covered include the impact of discrimination on Native American culture, the current economic factors of concern to Native Americans, and how disputes over natural resources and cultural artifacts affect Native Americans.","English",33.799999999999898,27.039999999999921,"305","240 pp.",{"$f":"Table1[[#This Row],['# of Books]]*Table1[[#This Row],[QTY]]","v":0},{"$f":"Table1[[#This Row],[QTY]]*Table1[[#This Row],[School & Library Price]]","v":0}]
[null,11,null,"Current Issues","Opposing Viewpoints","Natural Disasters","978-0-7377-6060-6","Greenhaven Publishing","Library Bound Book",1,2013,null,"Library Bound","6.000 X 9.000","Author","Margaret Haerens",null,null,null,null,null,null,"Years 15 - 17",null,"Grade 10 - 12","Opposing Viewpoints: Natural Disasters explores the causes and frequency natural disasters as well the resulting issues surrounding media coverage, government aid and disaster relief. The viewpoints are selected from a wide range of highly respected and often hard-to-find sources and publications. By choosing from such diverse sources and including both popular and unpopular views, the Opposing Viewpoints series has adhered to its commitment to editorial objectivity. Readers are exposed to many sides of a debate, which promotes issue awareness as well as critical thinking.","English",48.8,39.04,"363.34","240 pp.",{"$f":"Table1[[#This Row],['# of Books]]*Table1[[#This Row],[QTY]]","v":0},{"$f":"Table1[[#This Row],[QTY]]*Table1[[#This Row],[School & Library Price]]","v":0}]
[null,11,null,"Current Issues","Opposing Viewpoints","Natural Disasters","978-0-7377-6061-3","Greenhaven Publishing","Paperback Book",1,2013,null,"Paperback","6.000 X 9.000","Author","Margaret Haerens",null,null,null,null,null,null,"Years 15 - 17",null,"Grade 10 - 12","Opposing Viewpoints: Natural Disasters explores the causes and frequency natural disasters as well the resulting issues surrounding media coverage, government aid and disaster relief. The viewpoints are selected from a wide range of highly respected and often hard-to-find sources and publications. By choosing from such diverse sources and including both popular and unpopular views, the Opposing Viewpoints series has adhered to its commitment to editorial objectivity. Readers are exposed to many sides of a debate, which promotes issue awareness as well as critical thinking.","English",33.799999999999898,27.039999999999921,"363.34","233 pp.",{"$f":"Table1[[#This Row],['# of Books]]*Table1[[#This Row],[QTY]]","v":0},{"$f":"Table1[[#This Row],[QTY]]*Table1[[#This Row],[School & Library Price]]","v":0}]
[null,11,null,"Current Issues","Opposing Viewpoints","Natural Gas","978-0-7377-7276-0","Greenhaven Publishing","Library Bound Book",1,2015,null,"Library Bound","6.000 X 9.000","Author","Dedria Bryfonski",null,null,null,null,null,null,"Years 15 - 17",null,"Grade 10 - 12","OPPOSING VIEWPOINTS: NATURAL GAS examines the potential benefits and dangers of Fracking, whether or not the United states needs more gas pipeline capacity, if the United States should export natural gas, and the risk and value of permitting offshore drilling.","English",48.8,39.04,"553","264 pp.",{"$f":"Table1[[#This Row],['# of Books]]*Table1[[#This Row],[QTY]]","v":0},{"$f":"Table1[[#This Row],[QTY]]*Table1[[#This Row],[School & Library Price]]","v":0}]
[null,11,null,"Current Issues","Opposing Viewpoints","Natural Gas","978-0-7377-7277-7","Greenhaven Publishing","Paperback Book",1,2015,null,"Paperback","6.000 X 9.000","Author","Dedria Bryfonski",null,null,null,null,null,null,"Years 15 - 17",null,"Grade 10 - 12","OPPOSING VIEWPOINTS: NATURAL GAS  examines the potential benefits and dangers of Fracking, whether or not the United states needs more gas pipeline capacity, if the United States should export natural gas, and the risk and value of permitting offshore drilling.","English",33.799999999999898,27.039999999999921,"553","258 pp.",{"$f":"Table1[[#This Row],['# of Books]]*Table1[[#This Row],[QTY]]","v":0},{"$f":"Table1[[#This Row],[QTY]]*Table1[[#This Row],[School & Library Price]]","v":0}]
[null,11,null,"Current Issues","Opposing Viewpoints","Netiquette and Online Ethics","978-0-7377-6428-4","Greenhaven Publishing","Library Bound Book",1,2013,null,"Library Bound","6.000 X 9.000","Author","Noah Berlatsky",null,null,null,null,null,null,"Years 15 - 17",null,"Grade 10 - 12","Opposing Viewpoints: Netiquette and Online Ethics explores the relationship between the internet and civility as well as the ethics and etiquette of online relationships and social media. The viewpoints are selected from a wide range of highly respected and often hard-to-find sources and publications. By choosing from such diverse sources and including both popular and unpopular views, the Opposing Viewpoints series has adhered to its commitment to editorial objectivity. Readers are exposed to many sides of a debate, which promotes issue awareness as well as critical thinking.","English",48.8,39.04,"395","216 pp.",{"$f":"Table1[[#This Row],['# of Books]]*Table1[[#This Row],[QTY]]","v":0},{"$f":"Table1[[#This Row],[QTY]]*Table1[[#This Row],[School & Library Price]]","v":0}]
[null,11,null,"Current Issues","Opposing Viewpoints","Netiquette and Online Ethics","978-0-7377-6429-1","Greenhaven Publishing","Paperback Book",1,2013,null,"Paperback","6.000 X 9.000","Author","Noah Berlatsky",null,null,null,null,null,null,"Years 15 - 17",null,"Grade 10 - 12","Opposing Viewpoints: Netiquette and Online Ethics explores the relationship between the internet and civility as well as the ethics and etiquette of online relationships and social media. The viewpoints are selected from a wide range of highly respected and often hard-to-find sources and publications. By choosing from such diverse sources and including both popular and unpopular views, the Opposing Viewpoints series has adhered to its commitment to editorial objectivity. Readers are exposed to many sides of a debate, which promotes issue awareness as well as critical thinking.","English",33.799999999999898,27.039999999999921,"395","213 pp.",{"$f":"Table1[[#This Row],['# of Books]]*Table1[[#This Row],[QTY]]","v":0},{"$f":"Table1[[#This Row],[QTY]]*Table1[[#This Row],[School & Library Price]]","v":0}]
[null,11,null,"Current Issues","Opposing Viewpoints","Nigeria","978-0-7377-5749-1","Greenhaven Publishing","Library Bound Book",1,2012,null,"Library Bound","6.000 X 9.000","Author","Margaret Haerens",null,null,null,null,null,null,"Years 15 - 17",null,"Grade 10 - 12","This title introduces readers to a variety of current issues related to Nigeria. The articles included cover topics like the effectiveness of Nigeria’s leadership, the best ways for Nigeria to address violent conflicts, the seriousness of the corruption problem in Nigeria, and the current challenges facing Nigeria, from schools to infrastructure.","English",48.8,39.04,"966","208 pp.",{"$f":"Table1[[#This Row],['# of Books]]*Table1[[#This Row],[QTY]]","v":0},{"$f":"Table1[[#This Row],[QTY]]*Table1[[#This Row],[School & Library Price]]","v":0}]
[null,11,null,"Current Issues","Opposing Viewpoints","Nigeria","978-0-7377-5750-7","Greenhaven Publishing","Paperback Book",1,2012,null,"Paperback","6.000 X 9.000","Author","Margaret Haerens",null,null,null,null,null,null,"Years 15 - 17",null,"Grade 10 - 12","This title introduces readers to a variety of current issues related to Nigeria. The articles included cover topics like the effectiveness of Nigeria’s leadership, the best ways for Nigeria to address violent conflicts, the seriousness of the corruption problem in Nigeria, and the current challenges facing Nigeria, from schools to infrastructure.","English",33.799999999999898,27.039999999999921,"966","208 pp.",{"$f":"Table1[[#This Row],['# of Books]]*Table1[[#This Row],[QTY]]","v":0},{"$f":"Table1[[#This Row],[QTY]]*Table1[[#This Row],[School & Library Price]]","v":0}]
[null,11,null,"Current Issues","Opposing Viewpoints","North and South Korea","978-0-7377-6963-0","Greenhaven Publishing","Library Bound Book",1,2014,null,"Library Bound","6.000 X 9.000","Author","Noah Berlatsky",null,null,null,null,null,null,"Years 15 - 17",null,"Grade 10 - 12","This title explores issues related to North Korea and South Korea. Through a balanced collection of articles from a variety of sources, the title explores the relationship between the Koreas; the relationship between the Koreas and the world; if North Korea presents a serious threat to the world; and what human rights issues exist in North Korea and South Korea. The viewpoints are selected from a wide range of highly respected and often hard-to-find sources and publications. By choosing from such diverse sources and including both popular and unpopular views, the OPPOSING VIEWPOINTS editorial team has adhered to its commitment to editorial objectivity. Readers are exposed to many sides of a debate, which promotes issue awareness as well as critical thinking.","English",48.8,39.04,"951.904","216 pp.",{"$f":"Table1[[#This Row],['# of Books]]*Table1[[#This Row],[QTY]]","v":0},{"$f":"Table1[[#This Row],[QTY]]*Table1[[#This Row],[School & Library Price]]","v":0}]
[null,11,null,"Current Issues","Opposing Viewpoints","North and South Korea","978-0-7377-6964-7","Greenhaven Publishing","Paperback Book",1,2014,null,"Paperback","6.000 X 9.000","Author","Noah Berlatsky",null,null,null,null,null,null,"Years 15 - 17",null,"Grade 10 - 12","This title explores issues related to North Korea and South Korea. Through a balanced collection of articles from a variety of sources, the title explores the relationship between the Koreas; the relationship between the Koreas and the world; if North Korea presents a serious threat to the world; and what human rights issues exist in North Korea and South Korea. The viewpoints are selected from a wide range of highly respected and often hard-to-find sources and publications. By choosing from such diverse sources and including both popular and unpopular views, the OPPOSING VIEWPOINTS editorial team has adhered to its commitment to editorial objectivity. Readers are exposed to many sides of a debate, which promotes issue awareness as well as critical thinking.","English",33.799999999999898,27.039999999999921,"951.904","209 pp.",{"$f":"Table1[[#This Row],['# of Books]]*Table1[[#This Row],[QTY]]","v":0},{"$f":"Table1[[#This Row],[QTY]]*Table1[[#This Row],[School & Library Price]]","v":0}]
[null,11,null,"Current Issues","Opposing Viewpoints","Nuclear Power","978-0-7377-6062-0","Greenhaven Publishing","Library Bound Book",1,2013,null,"Library Bound","6.000 X 9.000","Author","Lynn M. Zott",null,null,null,null,null,null,"Years 15 - 17",null,"Grade 10 - 12","This title explores how the risks of nuclear power can be managed, including risks from natural disasters and terrorist groups, whether nuclear power is good for the environment, and if nuclear power is an economical source of energy.","English",48.8,39.04,"333.792","256 pp.",{"$f":"Table1[[#This Row],['# of Books]]*Table1[[#This Row],[QTY]]","v":0},{"$f":"Table1[[#This Row],[QTY]]*Table1[[#This Row],[School & Library Price]]","v":0}]
[null,11,null,"Current Issues","Opposing Viewpoints","Nuclear Power","978-0-7377-6063-7","Greenhaven Publishing","Paperback Book",1,2013,null,"Paperback","6.000 X 9.000","Author","Lynn M. Zott",null,null,null,null,null,null,"Years 15 - 17",null,"Grade 10 - 12","This title explores how the risks of nuclear power can be managed, including risks from natural disasters and terrorist groups, whether nuclear power is good for the environment, and if nuclear power is an economical source of energy.","English",33.799999999999898,27.039999999999921,"333.792","252 pp.",{"$f":"Table1[[#This Row],['# of Books]]*Table1[[#This Row],[QTY]]","v":0},{"$f":"Table1[[#This Row],[QTY]]*Table1[[#This Row],[School & Library Price]]","v":0}]
[null,11,null,"Current Issues","Opposing Viewpoints","Nutrition","978-0-7377-5751-4","Greenhaven Publishing","Library Bound Book",1,2012,null,"Library Bound","6.000 X 9.000","Author","David M. Haugen",null,null,null,null,null,null,"Years 15 - 17",null,"Grade 10 - 12",null,"English",48.8,39.04,"613","240 pp.",{"$f":"Table1[[#This Row],['# of Books]]*Table1[[#This Row],[QTY]]","v":0},{"$f":"Table1[[#This Row],[QTY]]*Table1[[#This Row],[School & Library Price]]","v":0}]
[null,11,null,"Current Issues","Opposing Viewpoints","Nutrition","978-0-7377-5752-1","Greenhaven Publishing","Paperback Book",1,2012,null,"Paperback","6.000 X 9.000","Author","David M. Haugen",null,null,null,null,null,null,"Years 15 - 17",null,"Grade 10 - 12",null,"English",33.799999999999898,27.039999999999921,"613","240 pp.",{"$f":"Table1[[#This Row],['# of Books]]*Table1[[#This Row],[QTY]]","v":0},{"$f":"Table1[[#This Row],[QTY]]*Table1[[#This Row],[School & Library Price]]","v":0}]
[null,11,null,"Current Issues","Opposing Viewpoints","Obesity","978-0-7377-7278-4","Greenhaven Publishing","Library Bound Book",1,2015,null,"Library Bound","6.000 X 9.000","Author","Sylvia Engdahl",null,null,null,null,null,null,"Years 15 - 17",null,"Grade 10 - 12","OPPOSING VIEWPOINTS: OBESITY examines whether or not there is an obesity epidemic, if obesity is a disease, if society should actively combat obesity, and what is causing the rise in obesity.","English",48.8,39.04,"616","232 pp.",{"$f":"Table1[[#This Row],['# of Books]]*Table1[[#This Row],[QTY]]","v":0},{"$f":"Table1[[#This Row],[QTY]]*Table1[[#This Row],[School & Library Price]]","v":0}]
[null,11,null,"Current Issues","Opposing Viewpoints","Obesity","978-0-7377-7279-1","Greenhaven Publishing","Paperback Book",1,2015,null,"Paperback","6.000 X 9.000","Author","Sylvia Engdahl",null,null,null,null,null,null,"Years 15 - 17",null,"Grade 10 - 12","OPPOSING VIEWPOINTS: OBESITY  examines whether or not there is an obesity epidemic, if obesity is a disease, if society should actively combat obesity, and what is causing the rise in obesity.","English",33.799999999999898,27.039999999999921,"616","228 pp.",{"$f":"Table1[[#This Row],['# of Books]]*Table1[[#This Row],[QTY]]","v":0},{"$f":"Table1[[#This Row],[QTY]]*Table1[[#This Row],[School & Library Price]]","v":0}]
[null,11,null,"Current Issues","Opposing Viewpoints","Offshore Drilling","978-0-7377-4779-9","Greenhaven Publishing","Library Bound Book",1,2010,null,"Library Bound","6.000 X 9.000","Author","Margaret Haerens",null,null,null,null,null,null,"Years 15 - 17",null,"Grade 10 - 12",null,"English",48.8,39.04,"622","248 pp.",{"$f":"Table1[[#This Row],['# of Books]]*Table1[[#This Row],[QTY]]","v":0},{"$f":"Table1[[#This Row],[QTY]]*Table1[[#This Row],[School & Library Price]]","v":0}]
[null,11,null,"Current Issues","Opposing Viewpoints","Offshore Drilling","978-0-7377-4780-5","Greenhaven Publishing","Paperback Book",1,2010,null,"Paperback","6.000 X 9.000","Author","Margaret Haerens",null,null,null,null,null,null,"Years 15 - 17",null,"Grade 10 - 12",null,"English",33.799999999999898,27.039999999999921,"622","248 pp.",{"$f":"Table1[[#This Row],['# of Books]]*Table1[[#This Row],[QTY]]","v":0},{"$f":"Table1[[#This Row],[QTY]]*Table1[[#This Row],[School & Library Price]]","v":0}]
[null,12,null,"Current Issues","Opposing Viewpoints","Online Pornography","978-0-7377-5905-1","Greenhaven Publishing","Library Bound Book",1,2012,null,"Library Bound","6.000 X 9.000","Author","David Erik Nelson",null,null,null,null,null,null,"Years 15 - 17",null,"Grade 10 - 12","This title in the OPPOSING VIEWPOINTS series explores issues related to online pornography. Article topics include whether or not online pornography harms society; whether or not certain online activities - such as sexting - harm individuals; how online pornography should be regulated, if at all; and whether online pornography poses a special threat to minors.","English",48.8,39.04,"363","232 pp.",{"$f":"Table1[[#This Row],['# of Books]]*Table1[[#This Row],[QTY]]","v":0},{"$f":"Table1[[#This Row],[QTY]]*Table1[[#This Row],[School & Library Price]]","v":0}]
[null,12,null,"Current Issues","Opposing Viewpoints","Online Pornography","978-0-7377-5906-8","Greenhaven Publishing","Paperback Book",1,2012,null,"Paperback","6.000 X 9.000","Author","David Erik Nelson",null,null,null,null,null,null,"Years 15 - 17",null,"Grade 10 - 12","This title in the OPPOSING VIEWPOINTS series explores issues related to online pornography. Article topics include whether or not online pornography harms society; whether or not certain online activities - such as sexting - harm individuals; how online pornography should be regulated, if at all; and whether online pornography poses a special threat to minors.","English",33.799999999999898,27.039999999999921,"363","232 pp.",{"$f":"Table1[[#This Row],['# of Books]]*Table1[[#This Row],[QTY]]","v":0},{"$f":"Table1[[#This Row],[QTY]]*Table1[[#This Row],[School & Library Price]]","v":0}]
[null,12,null,"Current Issues","Opposing Viewpoints","Organ Donation","978-0-7377-6332-4","Greenhaven Publishing","Library Bound Book",1,2013,null,"Library Bound","6.000 X 9.000","Author","Laura K. Egendorf",null,null,null,null,null,null,"Years 15 - 17",null,"Grade 10 - 12","Opposing Viewpoints: Organ Donation debates ethical issues related to organ donation, including body parts as property, selling organs, and the need to increase donations. The viewpoints are selected from a wide range of highly respected and often hard-to-find sources and publications. By choosing from such diverse sources and including both popular and unpopular views, the Opposing Viewpoints series has adhered to its commitment to editorial objectivity. Readers are exposed to many sides of a debate, which promotes issue awareness as well as critical thinking.","English",48.8,39.04,"617","184 pp.",{"$f":"Table1[[#This Row],['# of Books]]*Table1[[#This Row],[QTY]]","v":0},{"$f":"Table1[[#This Row],[QTY]]*Table1[[#This Row],[School & Library Price]]","v":0}]
[null,12,null,"Current Issues","Opposing Viewpoints","Organ Donation","978-0-7377-6333-1","Greenhaven Publishing","Paperback Book",1,2013,null,"Paperback","6.000 X 9.000","Author","Laura K. Egendorf",null,null,null,null,null,null,"Years 15 - 17",null,"Grade 10 - 12","Opposing Viewpoints: Organ Donation debates ethical issues related to organ donation, including body parts as property, selling organs, and the need to increase donations. The viewpoints are selected from a wide range of highly respected and often hard-to-find sources and publications. By choosing from such diverse sources and including both popular and unpopular views, the Opposing Viewpoints series has adhered to its commitment to editorial objectivity. Readers are exposed to many sides of a debate, which promotes issue awareness as well as critical thinking.","English",33.799999999999898,27.039999999999921,"617","182 pp.",{"$f":"Table1[[#This Row],['# of Books]]*Table1[[#This Row],[QTY]]","v":0},{"$f":"Table1[[#This Row],[QTY]]*Table1[[#This Row],[School & Library Price]]","v":0}]
[null,12,null,"Current Issues","Opposing Viewpoints","Organized Crime","978-0-7377-6965-4","Greenhaven Publishing","Library Bound Book",1,2014,null,"Library Bound","6.000 X 9.000","Author","David M. Haugen",null,null,null,null,null,null,"Years 15 - 17",null,"Grade 10 - 12","This title explores whether organized crime presents a threat to the world today, how profitable some organized crime activities are, what policies should be implemented to address organized crime, and whether organized crime has moved to online. The viewpoints are selected from a wide range of highly respected and often hard-to-find sources and publications. By choosing from such diverse sources and including both popular and unpopular views, the OPPOSING VIEWPOINTS editorial team has adhered to its commitment to editorial objectivity. Readers are exposed to many sides of a debate, which promotes issue awareness as well as critical thinking.","English",48.8,39.04,"364","192 pp.",{"$f":"Table1[[#This Row],['# of Books]]*Table1[[#This Row],[QTY]]","v":0},{"$f":"Table1[[#This Row],[QTY]]*Table1[[#This Row],[School & Library Price]]","v":0}]
[null,12,null,"Current Issues","Opposing Viewpoints","Organized Crime","978-0-7377-6966-1","Greenhaven Publishing","Paperback Book",1,2014,null,"Paperback","6.000 X 9.000","Author","David M. Haugen",null,null,null,null,null,null,"Years 15 - 17",null,"Grade 10 - 12","This title explores whether organized crime presents a threat to the world today, how profitable some organized crime activities are, what policies should be implemented to address organized crime, and whether organized crime has moved to online. The viewpoints are selected from a wide range of highly respected and often hard-to-find sources and publications. By choosing from such diverse sources and including both popular and unpopular views, the OPPOSING VIEWPOINTS editorial team has adhered to its commitment to editorial objectivity. Readers are exposed to many sides of a debate, which promotes issue awareness as well as critical thinking.","English",33.799999999999898,27.039999999999921,"364","240 pp.",{"$f":"Table1[[#This Row],['# of Books]]*Table1[[#This Row],[QTY]]","v":0},{"$f":"Table1[[#This Row],[QTY]]*Table1[[#This Row],[School & Library Price]]","v":0}]
[null,12,null,"Current Issues","Opposing Viewpoints","Outsourcing","978-0-7377-6064-4","Greenhaven Publishing","Library Bound Book",1,2013,null,"Library Bound","6.000 X 9.000","Author","Jenny Cromie",null,null,null,null,null,null,"Years 15 - 17",null,"Grade 10 - 12","Opposing Viewpoints: Outsourcing discusses the impact of outsourcing on business, the US, and global economy as well as US government regulation. The viewpoints are selected from a wide range of highly respected and often hard-to-find sources and publications. By choosing from such diverse sources and including both popular and unpopular views, the Opposing Viewpoints series has adhered to its commitment to editorial objectivity. Readers are exposed to many sides of a debate, which promotes issue awareness as well as critical thinking.","English",48.8,39.04,"658.4","168 pp.",{"$f":"Table1[[#This Row],['# of Books]]*Table1[[#This Row],[QTY]]","v":0},{"$f":"Table1[[#This Row],[QTY]]*Table1[[#This Row],[School & Library Price]]","v":0}]
[null,12,null,"Current Issues","Opposing Viewpoints","Outsourcing","978-0-7377-6065-1","Greenhaven Publishing","Paperback Book",1,2013,null,"Paperback","6.000 X 9.000","Author","Jenny Cromie",null,null,null,null,null,null,"Years 15 - 17",null,"Grade 10 - 12","Opposing Viewpoints: Outsourcing discusses the impact of outsourcing on business, the US, and global economy as well as US government regulation. The viewpoints are selected from a wide range of highly respected and often hard-to-find sources and publications. By choosing from such diverse sources and including both popular and unpopular views, the Opposing Viewpoints series has adhered to its commitment to editorial objectivity. Readers are exposed to many sides of a debate, which promotes issue awareness as well as critical thinking.","English",33.799999999999898,27.039999999999921,"658.4","168 pp.",{"$f":"Table1[[#This Row],['# of Books]]*Table1[[#This Row],[QTY]]","v":0},{"$f":"Table1[[#This Row],[QTY]]*Table1[[#This Row],[School & Library Price]]","v":0}]
[null,12,null,"Current Issues","Opposing Viewpoints","Pacifism","978-0-7377-5229-8","Greenhaven Publishing","Library Bound Book",1,2011,null,"Library Bound","6.000 X 9.000","Author","Noah Berlatsky",null,null,null,null,null,null,"Years 15 - 17",null,"Grade 10 - 12",null,"English",48.8,39.04,"303","232 pp.",{"$f":"Table1[[#This Row],['# of Books]]*Table1[[#This Row],[QTY]]","v":0},{"$f":"Table1[[#This Row],[QTY]]*Table1[[#This Row],[School & Library Price]]","v":0}]
[null,12,null,"Current Issues","Opposing Viewpoints","Pacifism","978-0-7377-5230-4","Greenhaven Publishing","Paperback Book",1,2011,null,"Paperback","6.000 X 9.000","Author","Noah Berlatsky",null,null,null,null,null,null,"Years 15 - 17",null,"Grade 10 - 12",null,"English",33.799999999999898,27.039999999999921,"303","232 pp.",{"$f":"Table1[[#This Row],['# of Books]]*Table1[[#This Row],[QTY]]","v":0},{"$f":"Table1[[#This Row],[QTY]]*Table1[[#This Row],[School & Library Price]]","v":0}]
[null,12,null,"Current Issues","Opposing Viewpoints","Pakistan","978-0-7377-4538-2","Greenhaven Publishing","Library Bound Book",1,2010,null,"Library Bound","6.000 X 9.000","Author","Laura K. Egendorf",null,null,null,null,null,null,"Years 15 - 17",null,"Grade 10 - 12","Examines the internal problems facing Pakistan, including its economy, educational system, and Pakistani-related terrorism. Discusses what role, if any, the United States should play in improving Pakistan's economic and political situation. Looks at the future of Pakistan, from the potential for political stability to improving human rights.","English",48.8,39.04,"954","208 pp.",{"$f":"Table1[[#This Row],['# of Books]]*Table1[[#This Row],[QTY]]","v":0},{"$f":"Table1[[#This Row],[QTY]]*Table1[[#This Row],[School & Library Price]]","v":0}]
[null,12,null,"Current Issues","Opposing Viewpoints","Pakistan","978-0-7377-4539-9","Greenhaven Publishing","Paperback Book",1,2010,null,"Paperback","6.000 X 9.000","Author","Laura K. Egendorf",null,null,null,null,null,null,"Years 15 - 17",null,"Grade 10 - 12","Examines the internal problems facing Pakistan, including its economy, educational system, and Pakistani-related terrorism. Discusses what role, if any, the United States should play in improving Pakistan’s economic and political situation. Looks at the future of Pakistan, from the potential for political stability to improving human rights.","English",33.799999999999898,27.039999999999921,"954","208 pp.",{"$f":"Table1[[#This Row],['# of Books]]*Table1[[#This Row],[QTY]]","v":0},{"$f":"Table1[[#This Row],[QTY]]*Table1[[#This Row],[School & Library Price]]","v":0}]
[null,12,null,"Current Issues","Opposing Viewpoints","Palestinian Territories","978-0-7377-6967-8","Greenhaven Publishing","Library Bound Book",1,2014,null,"Library Bound","6.000 X 9.000","Author","Margaret Haerens",null,null,null,null,null,null,"Years 15 - 17",null,"Grade 10 - 12","This title explores possible solutions to the Palestinian-Israeli conflict, whether the United Nations should grant Palestinian statehood, what the Palestinians can to  improve political and economic circumstances in the territories, and how the United States can treat the Palestinian territories. The viewpoints are selected from a wide range of highly respected and often hard-to-find sources and publications. By choosing from such diverse sources and including both popular and unpopular views, the OPPOSING VIEWPOINTS editorial team has adhered to its commitment to editorial objectivity. Readers are exposed to many sides of a debate, which promotes issue awareness as well as critical thinking.","English",48.8,39.04,"956","224 pp.",{"$f":"Table1[[#This Row],['# of Books]]*Table1[[#This Row],[QTY]]","v":0},{"$f":"Table1[[#This Row],[QTY]]*Table1[[#This Row],[School & Library Price]]","v":0}]
[null,12,null,"Current Issues","Opposing Viewpoints","Palestinian Territories","978-0-7377-6968-5","Greenhaven Publishing","Paperback Book",1,2014,null,"Paperback","6.000 X 9.000","Author","Margaret Haerens",null,null,null,null,null,null,"Years 15 - 17",null,"Grade 10 - 12","This title explores possible solutions to the Palestinian-Israeli conflict, whether the United Nations should grant Palestinian statehood, what the Palestinians can to  improve political and economic circumstances in the territories, and how the United States can treat the Palestinian territories. The viewpoints are selected from a wide range of highly respected and often hard-to-find sources and publications. By choosing from such diverse sources and including both popular and unpopular views, the OPPOSING VIEWPOINTS editorial team has adhered to its commitment to editorial objectivity. Readers are exposed to many sides of a debate, which promotes issue awareness as well as critical thinking.","English",33.799999999999898,27.039999999999921,"956","217 pp.",{"$f":"Table1[[#This Row],['# of Books]]*Table1[[#This Row],[QTY]]","v":0},{"$f":"Table1[[#This Row],[QTY]]*Table1[[#This Row],[School & Library Price]]","v":0}]
[null,12,null,"Current Issues","Opposing Viewpoints","Paranormal Phenomena","978-0-7377-6334-8","Greenhaven Publishing","Library Bound Book",1,2013,null,"Library Bound","6.000 X 9.000","Author","Roman Espejo",null,null,null,null,null,null,"Years 15 - 17",null,"Grade 10 - 12","This title in the Opposing Viewpoints series explores paranormal phenomena by placing expert opinions in a unique pro/con format. The viewpoints are selected from a wide range of highly respected and often hard-to-find sources and publications. By choosing from such diverse sources and including both popular and unpopular views, the Opposing Viewpoints series has adhered to its commitment to editorial objectivity. Readers are exposed to many sides of a debate, which promotes issue awareness as well as critical thinking.","English",48.8,39.04,"130","192 pp.",{"$f":"Table1[[#This Row],['# of Books]]*Table1[[#This Row],[QTY]]","v":0},{"$f":"Table1[[#This Row],[QTY]]*Table1[[#This Row],[School & Library Price]]","v":0}]
[null,12,null,"Current Issues","Opposing Viewpoints","Paranormal Phenomena","978-0-7377-6335-5","Greenhaven Publishing","Paperback Book",1,2013,null,"Paperback","6.000 X 9.000","Author","Roman Espejo",null,null,null,null,null,null,"Years 15 - 17",null,"Grade 10 - 12","This title in the Opposing Viewpoints series explores paranormal phenomena by placing expert opinions in a unique pro/con format. The viewpoints are selected from a wide range of highly respected and often hard-to-find sources and publications. By choosing from such diverse sources and including both popular and unpopular views, the Opposing Viewpoints series has adhered to its commitment to editorial objectivity. Readers are exposed to many sides of a debate, which promotes issue awareness as well as critical thinking.","English",33.799999999999898,27.039999999999921,"130","185 pp.",{"$f":"Table1[[#This Row],['# of Books]]*Table1[[#This Row],[QTY]]","v":0},{"$f":"Table1[[#This Row],[QTY]]*Table1[[#This Row],[School & Library Price]]","v":0}]
[null,12,null,"Current Issues","Opposing Viewpoints","Parenting","978-0-7377-6336-2","Greenhaven Publishing","Library Bound Book",1,2013,null,"Library Bound","6.000 X 9.000","Author","Roman Espejo",null,null,null,null,null,null,"Years 15 - 17",null,"Grade 10 - 12","Opposing Viewpoints: Parenting discusses the controversies surrounding parenting including discipline, liability and the effects of different forms of parenting. The viewpoints are selected from a wide range of highly respected and often hard-to-find sources and publications. By choosing from such diverse sources and including both popular and unpopular views, the Opposing Viewpoints series has adhered to its commitment to editorial objectivity. Readers are exposed to many sides of a debate, which promotes issue awareness as well as critical thinking.","English",48.8,39.04,"649","200 pp.",{"$f":"Table1[[#This Row],['# of Books]]*Table1[[#This Row],[QTY]]","v":0},{"$f":"Table1[[#This Row],[QTY]]*Table1[[#This Row],[School & Library Price]]","v":0}]
[null,12,null,"Current Issues","Opposing Viewpoints","Parenting","978-0-7377-6337-9","Greenhaven Publishing","Paperback Book",1,2013,null,"Paperback","6.000 X 9.000","Author","Roman Espejo",null,null,null,null,null,null,"Years 15 - 17",null,"Grade 10 - 12","Opposing Viewpoints: Parenting discusses the controversies surrounding parenting including discipline, liability and the effects of different forms of parenting. The viewpoints are selected from a wide range of highly respected and often hard-to-find sources and publications. By choosing from such diverse sources and including both popular and unpopular views, the Opposing Viewpoints series has adhered to its commitment to editorial objectivity. Readers are exposed to many sides of a debate, which promotes issue awareness as well as critical thinking.","English",33.799999999999898,27.039999999999921,"649","200 pp.",{"$f":"Table1[[#This Row],['# of Books]]*Table1[[#This Row],[QTY]]","v":0},{"$f":"Table1[[#This Row],[QTY]]*Table1[[#This Row],[School & Library Price]]","v":0}]
[null,12,null,"Current Issues","Opposing Viewpoints","Performance-Enhancing Drugs","978-0-7377-7280-7","Greenhaven Publishing","Library Bound Book",1,2015,null,"Library Bound","6.000 X 9.000","Author","Roman Espejo",null,null,null,null,null,null,"Years 15 - 17",null,"Grade 10 - 12","OPPOSING VIEWPOINTS: PERFORMANCE-ENHANCING DRUGS takes a look at whether or not the use of performance-enhancing drugs should be accepted, how dangerous these drugs can be, and the effectiveness of drug testing. This volume also discusses the future of performance-enhancing drugs.","English",48.8,39.04,"362","208 pp.",{"$f":"Table1[[#This Row],['# of Books]]*Table1[[#This Row],[QTY]]","v":0},{"$f":"Table1[[#This Row],[QTY]]*Table1[[#This Row],[School & Library Price]]","v":0}]
[null,12,null,"Current Issues","Opposing Viewpoints","Performance-Enhancing Drugs","978-0-7377-7281-4","Greenhaven Publishing","Paperback Book",1,2015,null,"Paperback","6.000 X 9.000","Author","Roman Espejo",null,null,null,null,null,null,"Years 15 - 17",null,"Grade 10 - 12","OPPOSING VIEWPOINTS: PERFORMANCE-ENHANCING DRUGS takes a look at whether or not the use of performance-enhancing drugs should be accepted, how dangerous these drugs can be, and the effectiveness of drug testing. This volume also discusses the future of performance-enhancing drugs.","English",33.799999999999898,27.039999999999921,"362","206 pp.",{"$f":"Table1[[#This Row],['# of Books]]*Table1[[#This Row],[QTY]]","v":0},{"$f":"Table1[[#This Row],[QTY]]*Table1[[#This Row],[School & Library Price]]","v":0}]
[null,12,null,"Current Issues","Opposing Viewpoints","Police Brutality","978-0-7377-7518-1","Greenhaven Publishing","Library Bound Book",1,2016,null,"Library Bound","6.000 X 9.000","Author","Michael Ruth",null,null,null,null,null,null,"Years 15 - 17",null,"Grade 10 - 12","This title addresses controversies related to police brutality including are police using excessive force? Is police brutality a widespread problem in the United States? How can police brutality be stopped? What is the US government's response to police brutality?","English",48.8,39.04,"616","226 pp.",{"$f":"Table1[[#This Row],['# of Books]]*Table1[[#This Row],[QTY]]","v":0},{"$f":"Table1[[#This Row],[QTY]]*Table1[[#This Row],[School & Library Price]]","v":0}]
[null,12,null,"Current Issues","Opposing Viewpoints","Police Brutality","978-0-7377-7519-8","Greenhaven Publishing","Paperback Book",1,2016,null,"Paperback","6.000 X 9.000","Author","Michael Ruth",null,null,null,null,null,null,"Years 15 - 17",null,"Grade 10 - 12","This title addresses controversies related to police brutality including are police using excessive force? Is police brutality a widespread problem in the United States? How can police brutality be stopped? What is the US government's response to police brutality?","English",33.799999999999898,27.039999999999921,"616","226 pp.",{"$f":"Table1[[#This Row],['# of Books]]*Table1[[#This Row],[QTY]]","v":0},{"$f":"Table1[[#This Row],[QTY]]*Table1[[#This Row],[School & Library Price]]","v":0}]
[null,12,null,"Current Issues","Opposing Viewpoints","Political Campaigns","978-0-7377-4540-5","Greenhaven Publishing","Library Bound Book",1,2010,null,"Library Bound","6.000 X 9.000","Author","Louise I. Gerdes",null,null,null,null,null,null,"Years 15 - 17",null,"Grade 10 - 12","Explores the current status of campaign finance reform in the United States, including strategies that promote fair political campaigns such as public funding, spending caps and media regulation. Examines efforts to prevent partisan political redistricting; and looks at recent influential developments like small-donor fundraising and use of the internet in campaigns.","English",48.8,39.04,"324","248 pp.",{"$f":"Table1[[#This Row],['# of Books]]*Table1[[#This Row],[QTY]]","v":0},{"$f":"Table1[[#This Row],[QTY]]*Table1[[#This Row],[School & Library Price]]","v":0}]
[null,12,null,"Current Issues","Opposing Viewpoints","Political Campaigns","978-0-7377-4541-2","Greenhaven Publishing","Paperback Book",1,2010,null,"Paperback","6.000 X 9.000","Author","Louise I. Gerdes",null,null,null,null,null,null,"Years 15 - 17",null,"Grade 10 - 12","Explores the current status of campaign finance reform in the United States, including strategies that promote fair political campaigns such as public funding, spending caps and media regulation. Examines efforts to prevent partisan political redistricting; and looks at recent influential developments like small-donor fundraising and use of the internet in campaigns.","English",33.799999999999898,27.039999999999921,"324","248 pp.",{"$f":"Table1[[#This Row],['# of Books]]*Table1[[#This Row],[QTY]]","v":0},{"$f":"Table1[[#This Row],[QTY]]*Table1[[#This Row],[School & Library Price]]","v":0}]
[null,12,null,"Current Issues","Opposing Viewpoints","Pollution","978-0-7377-5232-8","Greenhaven Publishing","Paperback Book",1,2011,null,"Paperback","6.000 X 9.000","Author","Louise I. Gerdes",null,null,null,null,null,null,"Years 15 - 17",null,"Grade 10 - 12",null,"English",33.799999999999898,27.039999999999921,"363","264 pp.",{"$f":"Table1[[#This Row],['# of Books]]*Table1[[#This Row],[QTY]]","v":0},{"$f":"Table1[[#This Row],[QTY]]*Table1[[#This Row],[School & Library Price]]","v":0}]
[null,12,null,"Current Issues","Opposing Viewpoints","Popular Culture","978-0-7377-4980-9","Greenhaven Publishing","Library Bound Book",1,2011,null,"Library Bound","6.000 X 9.000","Author","David Haugen",null,null,null,null,null,null,"Years 15 - 17",null,"Grade 10 - 12","Explores the value of popular culture, asking: Can it make people smarter? Is blogging journalism? Does reality TV have merit? Is Twitter a catalyst for change? Looks at the relationship between the internet and pop culture; the effect on society of the violence prevalent in pop culture; and the impact of America’s pop culture on other parts of the world.","English",48.8,39.04,"306","192 pp.",{"$f":"Table1[[#This Row],['# of Books]]*Table1[[#This Row],[QTY]]","v":0},{"$f":"Table1[[#This Row],[QTY]]*Table1[[#This Row],[School & Library Price]]","v":0}]
[null,12,null,"Current Issues","Opposing Viewpoints","Popular Culture","978-0-7377-4981-6","Greenhaven Publishing","Paperback Book",1,2011,null,"Paperback","6.000 X 9.000","Author","David Haugen",null,null,null,null,null,null,"Years 15 - 17",null,"Grade 10 - 12","Explores the value of popular culture, asking: Can it make people smarter? Is blogging journalism? Does reality TV have merit? Is Twitter a catalyst for change? Looks at the relationship between the internet and pop culture; the effect on society of the violence prevalent in pop culture; and the impact of America’s pop culture on other parts of the world.","English",33.799999999999898,27.039999999999921,"306","192 pp.",{"$f":"Table1[[#This Row],['# of Books]]*Table1[[#This Row],[QTY]]","v":0},{"$f":"Table1[[#This Row],[QTY]]*Table1[[#This Row],[School & Library Price]]","v":0}]
[null,12,null,"Current Issues","Opposing Viewpoints","Population","978-0-7377-5755-2","Greenhaven Publishing","Library Bound Book",1,2012,null,"Library Bound","6.000 X 9.000","Author","David M. Haugen",null,null,null,null,null,null,"Years 15 - 17",null,"Grade 10 - 12",null,"English",48.8,39.04,"304","232 pp.",{"$f":"Table1[[#This Row],['# of Books]]*Table1[[#This Row],[QTY]]","v":0},{"$f":"Table1[[#This Row],[QTY]]*Table1[[#This Row],[School & Library Price]]","v":0}]
[null,12,null,"Current Issues","Opposing Viewpoints","Population","978-0-7377-5756-9","Greenhaven Publishing","Paperback Book",1,2012,null,"Paperback","6.000 X 9.000","Author","David M. Haugen",null,null,null,null,null,null,"Years 15 - 17",null,"Grade 10 - 12",null,"English",33.799999999999898,27.039999999999921,"304","232 pp.",{"$f":"Table1[[#This Row],['# of Books]]*Table1[[#This Row],[QTY]]","v":0},{"$f":"Table1[[#This Row],[QTY]]*Table1[[#This Row],[School & Library Price]]","v":0}]
[null,12,null,"Current Issues","Opposing Viewpoints","Poverty","978-0-7377-5757-6","Greenhaven Publishing","Library Bound Book",1,2012,null,"Library Bound","6.000 X 9.000","Author","Roman Espejo",null,null,null,null,null,null,"Years 15 - 17",null,"Grade 10 - 12","This title in the OPPOSING VIEWPOINTS series explores issues related to poverty. Article topics include whether or not poverty is a serious problem in America, the causes of poverty in the United States, and ways to reduce poverty in the U.S. and abroad.","English",48.8,39.04,"362","240 pp.",{"$f":"Table1[[#This Row],['# of Books]]*Table1[[#This Row],[QTY]]","v":0},{"$f":"Table1[[#This Row],[QTY]]*Table1[[#This Row],[School & Library Price]]","v":0}]
[null,12,null,"Current Issues","Opposing Viewpoints","Poverty","978-0-7377-5758-3","Greenhaven Publishing","Paperback Book",1,2012,null,"Paperback","6.000 X 9.000","Author","Roman Espejo",null,null,null,null,null,null,"Years 15 - 17",null,"Grade 10 - 12","This title in the OPPOSING VIEWPOINTS series explores issues related to poverty. Article topics include whether or not poverty is a serious problem in America, the causes of poverty in the United States, and ways to reduce poverty in the U.S. and abroad.","English",33.799999999999898,27.039999999999921,"362","240 pp.",{"$f":"Table1[[#This Row],['# of Books]]*Table1[[#This Row],[QTY]]","v":0},{"$f":"Table1[[#This Row],[QTY]]*Table1[[#This Row],[School & Library Price]]","v":0}]
[null,12,null,"Current Issues","Opposing Viewpoints","Prescription Drug Abuse","978-0-7377-6066-8","Greenhaven Publishing","Library Bound Book",1,2013,null,"Library Bound","6.000 X 9.000","Author","Lynn Zott",null,null,null,null,null,null,"Years 15 - 17",null,"Grade 10 - 12","The information in this volume provides insight into the impact and consequences of the prescription drug abuse problem in the United States, the causes of prescription drug addiction, and proposed and existing government policies that are hotly debated in the ongoing effort to effectively confront the prescription drug abuse problem in this country. Varied expert opinions that examine many of the different aspects that surround this issue are presented. The viewpoints are selected from a wide range of highly respected and often hard-to-find sources and publications. Allows the reader to attain the higher-level critical thinking and reading skills that are essential in a culture of diverse and contradictory opinions.","English",48.8,39.04,"362.29","256 pp.",{"$f":"Table1[[#This Row],['# of Books]]*Table1[[#This Row],[QTY]]","v":0},{"$f":"Table1[[#This Row],[QTY]]*Table1[[#This Row],[School & Library Price]]","v":0}]
[null,12,null,"Current Issues","Opposing Viewpoints","Prescription Drug Abuse","978-0-7377-6067-5","Greenhaven Publishing","Paperback Book",1,2013,null,"Paperback","6.000 X 9.000","Author","Lynn Zott",null,null,null,null,null,null,"Years 15 - 17",null,"Grade 10 - 12","The information in this volume provides insight into the impact and consequences of the prescription drug abuse problem in the United States, the causes of prescription drug addiction, and proposed and existing government policies that are hotly debated in the ongoing effort to effectively confront the prescription drug abuse problem in this country. Varied expert opinions that examine many of the different aspects that surround this issue are presented. The viewpoints are selected from a wide range of highly respected and often hard-to-find sources and publications. Allows the reader to attain the higher-level critical thinking and reading skills that are essential in a culture of diverse and contradictory opinions.","English",33.799999999999898,27.039999999999921,"362.29","255 pp.",{"$f":"Table1[[#This Row],['# of Books]]*Table1[[#This Row],[QTY]]","v":0},{"$f":"Table1[[#This Row],[QTY]]*Table1[[#This Row],[School & Library Price]]","v":0}]
[null,12,null,"Current Issues","Opposing Viewpoints","Presidential Powers","978-0-7377-4982-3","Greenhaven Publishing","Library Bound Book",1,2010,null,"Library Bound","6.000 X 9.000","Author","Noah Berlatsky",null,null,null,null,null,null,"Years 15 - 17",null,"Grade 10 - 12",null,"English",48.8,39.04,"342","240 pp.",{"$f":"Table1[[#This Row],['# of Books]]*Table1[[#This Row],[QTY]]","v":0},{"$f":"Table1[[#This Row],[QTY]]*Table1[[#This Row],[School & Library Price]]","v":0}]
[null,12,null,"Current Issues","Opposing Viewpoints","Presidential Powers","978-0-7377-4983-0","Greenhaven Publishing","Paperback Book",1,2010,null,"Paperback","6.000 X 9.000","Author","Noah Berlatsky",null,null,null,null,null,null,"Years 15 - 17",null,"Grade 10 - 12",null,"English",33.799999999999898,27.039999999999921,"342","238 pp.",{"$f":"Table1[[#This Row],['# of Books]]*Table1[[#This Row],[QTY]]","v":0},{"$f":"Table1[[#This Row],[QTY]]*Table1[[#This Row],[School & Library Price]]","v":0}]
[null,12,null,"Current Issues","Opposing Viewpoints","Privacy","978-0-7377-7282-1","Greenhaven Publishing","Library Bound Book",1,2015,null,"Library Bound","6.000 X 9.000","Author","Noël Merino",null,null,null,null,null,null,"Years 15 - 17",null,"Grade 10 - 12","OPPOSING VIEWPOINTS: PRIVACY discusses if technological developments threaten privacy. This volume asks if security measures infringe on privacy rights and if medical privacy is adequately protected. The final chapter explores how privacy should be protected.","English",48.8,39.04,"323","182 pp.",{"$f":"Table1[[#This Row],['# of Books]]*Table1[[#This Row],[QTY]]","v":0},{"$f":"Table1[[#This Row],[QTY]]*Table1[[#This Row],[School & Library Price]]","v":0}]
[null,12,null,"Current Issues","Opposing Viewpoints","Privacy","978-0-7377-7283-8","Greenhaven Publishing","Paperback Book",1,2015,null,"Paperback","6.000 X 9.000","Author","Noël Merino",null,null,null,null,null,null,"Years 15 - 17",null,"Grade 10 - 12","OPPOSING VIEWPOINTS: PRIVACY  discusses if technological developments threaten privacy. This volume asks if security measures infringe on privacy rights and if medical privacy is adequately protected. The final chapter explores how privacy should be protected.","English",33.799999999999898,27.039999999999921,"323","182 pp.",{"$f":"Table1[[#This Row],['# of Books]]*Table1[[#This Row],[QTY]]","v":0},{"$f":"Table1[[#This Row],[QTY]]*Table1[[#This Row],[School & Library Price]]","v":0}]
[null,12,null,"Current Issues","Opposing Viewpoints","Professional Athletes","978-0-7377-6068-2","Greenhaven Publishing","Library Bound Book",1,2014,null,"Library Bound","6.000 X 9.000","Author","Margaret Haerens",null,null,null,null,null,null,"Years 15 - 17",null,"Grade 10 - 12","This title addresses various issues related to professional athletes, including their role in society; policies regarding performance-enhancing drugs; whether athletes' free expression should be limited; and other controversies surrounding athletes, such as gambling problems and high salaries. The viewpoints are selected from a wide range of highly respected and often hard-to-find sources and publications. By choosing from such diverse sources and including both popular and unpopular views, the OPPOSING VIEWPOINTS editorial team has adhered to its commitment to editorial objectivity. Readers are exposed to many sides of a debate, which promotes issue awareness as well as critical thinking.","English",48.8,39.04,"796.01","208 pp.",{"$f":"Table1[[#This Row],['# of Books]]*Table1[[#This Row],[QTY]]","v":0},{"$f":"Table1[[#This Row],[QTY]]*Table1[[#This Row],[School & Library Price]]","v":0}]
[null,12,null,"Current Issues","Opposing Viewpoints","Professional Athletes","978-0-7377-6069-9","Greenhaven Publishing","Paperback Book",1,2014,null,"Paperback","6.000 X 9.000","Author","Margaret Haerens",null,null,null,null,null,null,"Years 15 - 17",null,"Grade 10 - 12","This title addresses various issues related to professional athletes, including their role in society; policies regarding performance-enhancing drugs; whether athletes' free expression should be limited; and other controversies surrounding athletes, such as gambling problems and high salaries. The viewpoints are selected from a wide range of highly respected and often hard-to-find sources and publications. By choosing from such diverse sources and including both popular and unpopular views, the OPPOSING VIEWPOINTS editorial team has adhered to its commitment to editorial objectivity. Readers are exposed to many sides of a debate, which promotes issue awareness as well as critical thinking.","English",33.799999999999898,27.039999999999921,"796.01","206 pp.",{"$f":"Table1[[#This Row],['# of Books]]*Table1[[#This Row],[QTY]]","v":0},{"$f":"Table1[[#This Row],[QTY]]*Table1[[#This Row],[School & Library Price]]","v":0}]
[null,12,null,"Current Issues","Opposing Viewpoints","Prostitution and Sex Trafficking","978-0-7377-3330-3","Greenhaven Publishing","Paperback Book",1,2006,null,"Paperback","6.000 X 9.000","Author","Louise I. Gerdes",null,null,null,null,null,null,"Years 15 - 17",null,"Grade 10 - 12",null,"English",33.799999999999898,27.039999999999921,"306.74","224 pp.",{"$f":"Table1[[#This Row],['# of Books]]*Table1[[#This Row],[QTY]]","v":0},{"$f":"Table1[[#This Row],[QTY]]*Table1[[#This Row],[School & Library Price]]","v":0}]
[null,12,null,"Current Issues","Opposing Viewpoints","Racial Profiling","978-0-7377-6070-5","Greenhaven Publishing","Library Bound Book",1,2013,null,"Library Bound","6.000 X 9.000","Author","Carol Ullmann",null,null,null,null,null,null,"Years 15 - 17",null,"Grade 10 - 12","Opposing Viewpoints: Racial Profiling presents articles regarding the issues surrounding racial profiling, including if Arab Muslims should be profiled in the war on terror, if racial profiling is justifiable, and what are the consequences of racial profiling. The viewpoints are selected from a wide range of highly respected and often hard-to-find sources and publications. By choosing from such diverse sources and including both popular and unpopular views, the Opposing Viewpoints series has adhered to its commitment to editorial objectivity. Readers are exposed to many sides of a debate, which promotes issue awareness as well as critical thinking.","English",48.8,39.04,"363.25","248 pp.",{"$f":"Table1[[#This Row],['# of Books]]*Table1[[#This Row],[QTY]]","v":0},{"$f":"Table1[[#This Row],[QTY]]*Table1[[#This Row],[School & Library Price]]","v":0}]
[null,12,null,"Current Issues","Opposing Viewpoints","Racial Profiling","978-0-7377-6071-2","Greenhaven Publishing","Paperback Book",1,2013,null,"Paperback","6.000 X 9.000","Author","Carol Ullmann",null,null,null,null,null,null,"Years 15 - 17",null,"Grade 10 - 12","Opposing Viewpoints: Racial Profiling presents articles regarding the issues surrounding racial profiling, including if Arab Muslims should be profiled in the war on terror, if racial profiling is justifiable, and what are the consequences of racial profiling. The viewpoints are selected from a wide range of highly respected and often hard-to-find sources and publications. By choosing from such diverse sources and including both popular and unpopular views, the Opposing Viewpoints series has adhered to its commitment to editorial objectivity. Readers are exposed to many sides of a debate, which promotes issue awareness as well as critical thinking.","English",33.799999999999898,27.039999999999921,"363.25","248 pp.",{"$f":"Table1[[#This Row],['# of Books]]*Table1[[#This Row],[QTY]]","v":0},{"$f":"Table1[[#This Row],[QTY]]*Table1[[#This Row],[School & Library Price]]","v":0}]
[null,12,null,"Current Issues","Opposing Viewpoints","Reforming Wall Street","978-0-7377-5235-9","Greenhaven Publishing","Library Bound Book",1,2011,null,"Library Bound","6.000 X 9.000","Author","David Haugen",null,null,null,null,null,null,"Years 15 - 17",null,"Grade 10 - 12",null,"English",48.8,39.04,"332","216 pp.",{"$f":"Table1[[#This Row],['# of Books]]*Table1[[#This Row],[QTY]]","v":0},{"$f":"Table1[[#This Row],[QTY]]*Table1[[#This Row],[School & Library Price]]","v":0}]
[null,12,null,"Current Issues","Opposing Viewpoints","Reforming Wall Street","978-0-7377-5236-6","Greenhaven Publishing","Paperback Book",1,2011,null,"Paperback","6.000 X 9.000","Author","David Haugen",null,null,null,null,null,null,"Years 15 - 17",null,"Grade 10 - 12",null,"English",33.799999999999898,27.039999999999921,"332","216 pp.",{"$f":"Table1[[#This Row],['# of Books]]*Table1[[#This Row],[QTY]]","v":0},{"$f":"Table1[[#This Row],[QTY]]*Table1[[#This Row],[School & Library Price]]","v":0}]
[null,12,null,"Current Issues","Opposing Viewpoints","Refugees","978-0-7377-4224-4","Greenhaven Publishing","Library Bound Book",1,2010,null,"Library Bound","6.000 X 9.000","Author","Margaret Haerens",null,null,null,null,null,null,"Years 15 - 17",null,"Grade 10 - 12",null,"English",48.8,39.04,"325","232 pp.",{"$f":"Table1[[#This Row],['# of Books]]*Table1[[#This Row],[QTY]]","v":0},{"$f":"Table1[[#This Row],[QTY]]*Table1[[#This Row],[School & Library Price]]","v":0}]
[null,12,null,"Current Issues","Opposing Viewpoints","Refugees","978-0-7377-4225-1","Greenhaven Publishing","Paperback Book",1,2010,null,"Paperback","6.000 X 9.000","Author","Margaret Haerens",null,null,null,null,null,null,"Years 15 - 17",null,"Grade 10 - 12",null,"English",33.799999999999898,27.039999999999921,"325","232 pp.",{"$f":"Table1[[#This Row],['# of Books]]*Table1[[#This Row],[QTY]]","v":0},{"$f":"Table1[[#This Row],[QTY]]*Table1[[#This Row],[School & Library Price]]","v":0}]
[null,12,null,"Current Issues","Opposing Viewpoints","Religion and Sexuality","978-0-7377-3750-9","Greenhaven Publishing","Paperback Book",1,2008,null,"Paperback","6.000 X 9.000","Author","Kevin Hillstrom",null,null,null,null,null,null,"Years 15 - 17",null,"Grade 10 - 12",null,"English",33.799999999999898,27.039999999999921,"174","226 pp.",{"$f":"Table1[[#This Row],['# of Books]]*Table1[[#This Row],[QTY]]","v":0},{"$f":"Table1[[#This Row],[QTY]]*Table1[[#This Row],[School & Library Price]]","v":0}]
[null,12,null,"Current Issues","Opposing Viewpoints","Religion in America","978-0-7377-4989-2","Greenhaven Publishing","Paperback Book",1,2011,null,"Paperback","6.000 X 9.000","Author","David Haugen",null,null,null,null,null,null,"Years 15 - 17",null,"Grade 10 - 12",null,"English",33.799999999999898,27.039999999999921,"200","240 pp.",{"$f":"Table1[[#This Row],['# of Books]]*Table1[[#This Row],[QTY]]","v":0},{"$f":"Table1[[#This Row],[QTY]]*Table1[[#This Row],[School & Library Price]]","v":0}]
[null,12,null,"Current Issues","Opposing Viewpoints","Religious Liberty","978-0-7377-6664-6","Greenhaven Publishing","Library Bound Book",1,2014,null,"Library Bound","6.000 X 9.000","Author","Carol Ullmann",null,null,null,null,null,null,"Years 15 - 17",null,"Grade 10 - 12","This title explores why religious liberty is important and controversial, what the US constitution says about religious liberty, whether religious liberty is under threat, and what the impact of politics is on religious liberty and democracy. The viewpoints are selected from a wide range of highly respected and often hard-to-find sources and publications. By choosing from such diverse sources and including both popular and unpopular views, the OPPOSING VIEWPOINTS editorial team has adhered to its commitment to editorial objectivity. Readers are exposed to many sides of a debate, which promotes issue awareness as well as critical thinking.","English",48.8,39.04,"342","200 pp.",{"$f":"Table1[[#This Row],['# of Books]]*Table1[[#This Row],[QTY]]","v":0},{"$f":"Table1[[#This Row],[QTY]]*Table1[[#This Row],[School & Library Price]]","v":0}]
[null,12,null,"Current Issues","Opposing Viewpoints","Religious Liberty","978-0-7377-6665-3","Greenhaven Publishing","Paperback Book",1,2014,null,"Paperback","6.000 X 9.000","Author","Carol Ullmann",null,null,null,null,null,null,"Years 15 - 17",null,"Grade 10 - 12","This title explores why religious liberty is important and controversial, what the US constitution says about religious liberty, whether religious liberty is under threat, and what the impact of politics is on religious liberty and democracy. The viewpoints are selected from a wide range of highly respected and often hard-to-find sources and publications. By choosing from such diverse sources and including both popular and unpopular views, the OPPOSING VIEWPOINTS editorial team has adhered to its commitment to editorial objectivity. Readers are exposed to many sides of a debate, which promotes issue awareness as well as critical thinking.","English",33.799999999999898,27.039999999999921,"342","198 pp.",{"$f":"Table1[[#This Row],['# of Books]]*Table1[[#This Row],[QTY]]","v":0},{"$f":"Table1[[#This Row],[QTY]]*Table1[[#This Row],[School & Library Price]]","v":0}]
[null,12,null,"Current Issues","Opposing Viewpoints","Renewable Energy","978-0-7377-6139-9","Greenhaven Publishing","Library Bound Book",1,2012,null,"Library Bound","6.000 X 9.000","Author","David M. Haugen",null,null,null,null,null,null,"Years 15 - 17",null,"Grade 10 - 12","This title explores renewable Energy and climate change, and examines how best to transition to renewable energy, various renewable energy sources such as biofuels, ethanol, and electric vehicles, and the government’s role in supporting renewable energy.","English",48.8,39.04,"333.79","256 pp.",{"$f":"Table1[[#This Row],['# of Books]]*Table1[[#This Row],[QTY]]","v":0},{"$f":"Table1[[#This Row],[QTY]]*Table1[[#This Row],[School & Library Price]]","v":0}]
[null,12,null,"Current Issues","Opposing Viewpoints","Renewable Energy","978-0-7377-6140-5","Greenhaven Publishing","Paperback Book",1,2012,null,"Paperback","6.000 X 9.000","Author","David M. Haugen",null,null,null,null,null,null,"Years 15 - 17",null,"Grade 10 - 12","This title explores renewable Energy and climate change, and examines how best to transition to renewable energy, various renewable energy sources such as biofuels, ethanol, and electric vehicles, and the government’s role in supporting renewable energy.","English",33.799999999999898,27.039999999999921,"333.79","256 pp.",{"$f":"Table1[[#This Row],['# of Books]]*Table1[[#This Row],[QTY]]","v":0},{"$f":"Table1[[#This Row],[QTY]]*Table1[[#This Row],[School & Library Price]]","v":0}]
[null,12,null,"Current Issues","Opposing Viewpoints","Resurgent Diseases","978-0-7377-4228-2","Greenhaven Publishing","Library Bound Book",1,2009,null,"Library Bound","6.000 X 9.000","Author","Karen Miller",null,null,null,null,null,null,"Years 15 - 17",null,"Grade 10 - 12",null,"English",48.8,39.04,"614","208 pp.",{"$f":"Table1[[#This Row],['# of Books]]*Table1[[#This Row],[QTY]]","v":0},{"$f":"Table1[[#This Row],[QTY]]*Table1[[#This Row],[School & Library Price]]","v":0}]
[null,12,null,"Current Issues","Opposing Viewpoints","Resurgent Diseases","978-0-7377-4229-9","Greenhaven Publishing","Paperback Book",1,2009,null,"Paperback","6.000 X 9.000","Author","Karen Miller",null,null,null,null,null,null,"Years 15 - 17",null,"Grade 10 - 12",null,"English",33.799999999999898,27.039999999999921,"614","206 pp.",{"$f":"Table1[[#This Row],['# of Books]]*Table1[[#This Row],[QTY]]","v":0},{"$f":"Table1[[#This Row],[QTY]]*Table1[[#This Row],[School & Library Price]]","v":0}]
[null,12,null,"Current Issues","Opposing Viewpoints","Robotic Technology","978-0-7377-6338-6","Greenhaven Publishing","Library Bound Book",1,2014,null,"Library Bound","6.000 X 9.000","Author","Louise I. Gerdes",null,null,null,null,null,null,"Years 15 - 17",null,"Grade 10 - 12","This title explores various issues related to robotic technology, centered around the questions of whether robotic technology is beneficial, what role should robotic technology play in war, and what are the ethical, legal and moral considerations surrounding robotic technology. The viewpoints are selected from a wide range of highly respected and often hard-to-find sources and publications. By choosing from such diverse sources and including both popular and unpopular views, the OPPOSING VIEWPOINTS editorial team has adhered to its commitment to editorial objectivity. Readers are exposed to many sides of a debate, which promotes issue awareness as well as critical thinking.","English",48.8,39.04,"629","200 pp.",{"$f":"Table1[[#This Row],['# of Books]]*Table1[[#This Row],[QTY]]","v":0},{"$f":"Table1[[#This Row],[QTY]]*Table1[[#This Row],[School & Library Price]]","v":0}]
[null,12,null,"Current Issues","Opposing Viewpoints","Robotic Technology","978-0-7377-6339-3","Greenhaven Publishing","Paperback Book",1,2014,null,"Paperback","6.000 X 9.000","Author","Louise I. Gerdes",null,null,null,null,null,null,"Years 15 - 17",null,"Grade 10 - 12","This title explores various issues related to robotic technology, centered around the questions of whether robotic technology is beneficial, what role should robotic technology play in war, and what are the ethical, legal and moral considerations surrounding robotic technology. The viewpoints are selected from a wide range of highly respected and often hard-to-find sources and publications. By choosing from such diverse sources and including both popular and unpopular views, the OPPOSING VIEWPOINTS editorial team has adhered to its commitment to editorial objectivity. Readers are exposed to many sides of a debate, which promotes issue awareness as well as critical thinking.","English",33.799999999999898,27.039999999999921,"629","198 pp.",{"$f":"Table1[[#This Row],['# of Books]]*Table1[[#This Row],[QTY]]","v":0},{"$f":"Table1[[#This Row],[QTY]]*Table1[[#This Row],[School & Library Price]]","v":0}]
[null,12,null,"Current Issues","Opposing Viewpoints","Russia","978-0-7377-6969-2","Greenhaven Publishing","Library Bound Book",1,2014,null,"Library Bound","6.000 X 9.000","Author","David M. Haugen",null,null,null,null,null,null,"Years 15 - 17",null,"Grade 10 - 12","This title explores Russia’s role in international politics, whether Russia is moving toward a democracy, what relationship the West should foster with Russia, and how Russian culture is changing. The viewpoints are selected from a wide range of highly respected and often hard-to-find sources and publications. By choosing from such diverse sources and including both popular and unpopular views, the OPPOSING VIEWPOINTS editorial team has adhered to its commitment to editorial objectivity. Readers are exposed to many sides of a debate, which promotes issue awareness as well as critical thinking.","English",48.8,39.04,"947.086","272 pp.",{"$f":"Table1[[#This Row],['# of Books]]*Table1[[#This Row],[QTY]]","v":0},{"$f":"Table1[[#This Row],[QTY]]*Table1[[#This Row],[School & Library Price]]","v":0}]
[null,12,null,"Current Issues","Opposing Viewpoints","Russia","978-0-7377-6970-8","Greenhaven Publishing","Paperback Book",1,2014,null,"Paperback","6.000 X 9.000","Author","David M. Haugen",null,null,null,null,null,null,"Years 15 - 17",null,"Grade 10 - 12","This title explores Russia’s role in international politics, whether Russia is moving toward a democracy, what relationship the West should foster with Russia, and how Russian culture is changing. The viewpoints are selected from a wide range of highly respected and often hard-to-find sources and publications. By choosing from such diverse sources and including both popular and unpopular views, the OPPOSING VIEWPOINTS editorial team has adhered to its commitment to editorial objectivity. Readers are exposed to many sides of a debate, which promotes issue awareness as well as critical thinking.","English",33.799999999999898,27.039999999999921,"947.086","266 pp.",{"$f":"Table1[[#This Row],['# of Books]]*Table1[[#This Row],[QTY]]","v":0},{"$f":"Table1[[#This Row],[QTY]]*Table1[[#This Row],[School & Library Price]]","v":0}]
[null,12,null,"Current Issues","Opposing Viewpoints","School Funding","978-0-7377-5436-0","Greenhaven Publishing","Library Bound Book",1,2012,null,"Library Bound","6.000 X 9.000","Author","Lynn M. Zott",null,null,null,null,null,null,"Years 15 - 17",null,"Grade 10 - 12",null,"English",48.8,39.04,"379","224 pp.",{"$f":"Table1[[#This Row],['# of Books]]*Table1[[#This Row],[QTY]]","v":0},{"$f":"Table1[[#This Row],[QTY]]*Table1[[#This Row],[School & Library Price]]","v":0}]
[null,12,null,"Current Issues","Opposing Viewpoints","School Funding","978-0-7377-5437-7","Greenhaven Publishing","Paperback Book",1,2012,null,"Paperback","6.000 X 9.000","Author","Lynn M. Zott",null,null,null,null,null,null,"Years 15 - 17",null,"Grade 10 - 12",null,"English",33.799999999999898,27.039999999999921,"379","216 pp.",{"$f":"Table1[[#This Row],['# of Books]]*Table1[[#This Row],[QTY]]","v":0},{"$f":"Table1[[#This Row],[QTY]]*Table1[[#This Row],[School & Library Price]]","v":0}]
[null,13,null,"Current Issues","Opposing Viewpoints","School Policies","978-0-7377-3827-8","Greenhaven Publishing","Paperback Book",1,2008,null,"Paperback","6.000 X 9.000","Author","Jamuna Carroll",null,null,null,null,null,null,"Years 15 - 17",null,"Grade 10 - 12",null,"English",33.799999999999898,27.039999999999921,"371","232 pp.",{"$f":"Table1[[#This Row],['# of Books]]*Table1[[#This Row],[QTY]]","v":0},{"$f":"Table1[[#This Row],[QTY]]*Table1[[#This Row],[School & Library Price]]","v":0}]
[null,13,null,"Current Issues","Opposing Viewpoints","School Reform","978-0-7377-7286-9","Greenhaven Publishing","Library Bound Book",1,2015,null,"Library Bound","6.000 X 9.000","Author","Noël Merino",null,null,null,null,null,null,"Years 15 - 17",null,"Grade 10 - 12","This title in the OPPOSING VIEWPOINTS SERIES examines different facets of school reform, such as the role of politics in school reform, school vouchers and charter schools, and the impact of standardized testing in the wake of Common Core.","English",48.8,39.04,"379","216 pp.",{"$f":"Table1[[#This Row],['# of Books]]*Table1[[#This Row],[QTY]]","v":0},{"$f":"Table1[[#This Row],[QTY]]*Table1[[#This Row],[School & Library Price]]","v":0}]
[null,13,null,"Current Issues","Opposing Viewpoints","School Reform","978-0-7377-7287-6","Greenhaven Publishing","Paperback Book",1,2015,null,"Paperback","6.000 X 9.000","Author","Noël Merino",null,null,null,null,null,null,"Years 15 - 17",null,"Grade 10 - 12","This title in the OPPOSING VIEWPOINTS SERIES examines different facets of school reform, such as the role of politics in school reform, school vouchers and charter schools, and the impact of standardized testing in the wake of Common Core.","English",33.799999999999898,27.039999999999921,"379","216 pp.",{"$f":"Table1[[#This Row],['# of Books]]*Table1[[#This Row],[QTY]]","v":0},{"$f":"Table1[[#This Row],[QTY]]*Table1[[#This Row],[School & Library Price]]","v":0}]
[null,13,null,"Current Issues","Opposing Viewpoints","School Safety","978-0-7377-7526-6","Greenhaven Publishing","Library Bound Book",1,2016,null,"Library Bound","6.000 X 9.000","Author","Noah Berlatsky",null,null,null,null,null,null,"Years 15 - 17",null,"Grade 10 - 12","This title in the Opposing Viewpoint series examines the important topic of school safety, asking such questions as: Are schools safe?; Can better gun policy make schools safer?; Can security measures make schools safer?; and What is the relationship between health care issues and student safety?","English",48.8,39.04,"371","211 pp.",{"$f":"Table1[[#This Row],['# of Books]]*Table1[[#This Row],[QTY]]","v":0},{"$f":"Table1[[#This Row],[QTY]]*Table1[[#This Row],[School & Library Price]]","v":0}]
[null,13,null,"Current Issues","Opposing Viewpoints","School Safety","978-0-7377-7527-3","Greenhaven Publishing","Paperback Book",1,2016,null,"Paperback","6.000 X 9.000","Author","Noah Berlatsky",null,null,null,null,null,null,"Years 15 - 17",null,"Grade 10 - 12","This title in the Opposing Viewpoint series examines the important topic of school safety, asking such questions as: Are schools safe?; Can better gun policy make schools safer?; Can security measures make schools safer?; and What is the relationship between health care issues and student safety?","English",33.799999999999898,27.039999999999921,"371","211 pp.",{"$f":"Table1[[#This Row],['# of Books]]*Table1[[#This Row],[QTY]]","v":0},{"$f":"Table1[[#This Row],[QTY]]*Table1[[#This Row],[School & Library Price]]","v":0}]
[null,13,null,"Current Issues","Opposing Viewpoints","Scientific Research","978-0-7377-7288-3","Greenhaven Publishing","Library Bound Book",1,2015,null,"Library Bound","6.000 X 9.000","Author","Sylvia Engdahl",null,null,null,null,null,null,"Years 15 - 17",null,"Grade 10 - 12","This volume in the OPPOSING VIEWPOINTS SERIES debates the issue of scientific research with such topics as whether or not the US government should fund scientific research, if there is too much government regulation, if animals should be used in scientific research, and if misconduct and fraud play a part in the scientific community.","English",48.8,39.04,"507","256 pp.",{"$f":"Table1[[#This Row],['# of Books]]*Table1[[#This Row],[QTY]]","v":0},{"$f":"Table1[[#This Row],[QTY]]*Table1[[#This Row],[School & Library Price]]","v":0}]
[null,13,null,"Current Issues","Opposing Viewpoints","Scientific Research","978-0-7377-7289-0","Greenhaven Publishing","Paperback Book",1,2015,null,"Paperback","6.000 X 9.000","Author","Sylvia Engdahl",null,null,null,null,null,null,"Years 15 - 17",null,"Grade 10 - 12","This volume in the OPPOSING VIEWPOINTS SERIES debates the issue of scientific research with such topics as whether or not the US government should fund scientific research, if there is too much government regulation, if animals should be used in scientific research, and if misconduct and fraud play a part in the scientific community.","English",33.799999999999898,27.039999999999921,"507","253 pp.",{"$f":"Table1[[#This Row],['# of Books]]*Table1[[#This Row],[QTY]]","v":0},{"$f":"Table1[[#This Row],[QTY]]*Table1[[#This Row],[School & Library Price]]","v":0}]
[null,13,null,"Current Issues","Opposing Viewpoints","Self-mutilation","978-0-7377-3828-5","Greenhaven Publishing","Library Bound Book",1,2008,null,"Library Bound","6.000 X 9.000","Author","Mary E. Williams",null,null,null,null,null,null,"Years 15 - 17",null,"Grade 10 - 12",null,"English",48.8,39.04,"616","232 pp.",{"$f":"Table1[[#This Row],['# of Books]]*Table1[[#This Row],[QTY]]","v":0},{"$f":"Table1[[#This Row],[QTY]]*Table1[[#This Row],[School & Library Price]]","v":0}]
[null,13,null,"Current Issues","Opposing Viewpoints","Self-mutilation","978-0-7377-3829-2","Greenhaven Publishing","Paperback Book",1,2008,null,"Paperback","6.000 X 9.000","Author","Mary E. Williams",null,null,null,null,null,null,"Years 15 - 17",null,"Grade 10 - 12",null,"English",33.799999999999898,27.039999999999921,"616","232 pp.",{"$f":"Table1[[#This Row],['# of Books]]*Table1[[#This Row],[QTY]]","v":0},{"$f":"Table1[[#This Row],[QTY]]*Table1[[#This Row],[School & Library Price]]","v":0}]
[null,13,null,"Current Issues","Opposing Viewpoints","Sexual Assault on Campus","978-0-7377-7560-0","Greenhaven Publishing","Library Bound Book",1,2016,null,"Library Bound","6.000 X 9.000","Author","Jack Lasky",null,null,null,null,null,null,"Years 15 - 17",null,"Grade 10 - 12","This title in the Opposing Viewpoints series investigates the seriousness of sexual assault on college campuses. Topics covered include why sexual assaults happen on campus, how is the problem being addressed, are the assault cases being handled properly, and what solutions need to be put in place to decrease the number of campus assaults.","English",48.8,39.04,"364","209 pp.",{"$f":"Table1[[#This Row],['# of Books]]*Table1[[#This Row],[QTY]]","v":0},{"$f":"Table1[[#This Row],[QTY]]*Table1[[#This Row],[School & Library Price]]","v":0}]
[null,13,null,"Current Issues","Opposing Viewpoints","Sexual Assault on Campus","978-0-7377-7561-7","Greenhaven Publishing","Paperback Book",1,2016,null,"Paperback","6.000 X 9.000","Author","Jack Lasky",null,null,null,null,null,null,"Years 15 - 17",null,"Grade 10 - 12","This title in the Opposing Viewpoints series investigates the seriousness of sexual assault on college campuses. Topics covered include why sexual assaults happen on campus, how is the problem being addressed, are the assault cases being handled properly, and what solutions need to be put in place to decrease the number of campus assaults.","English",33.799999999999898,27.039999999999921,"364","209 pp.",{"$f":"Table1[[#This Row],['# of Books]]*Table1[[#This Row],[QTY]]","v":0},{"$f":"Table1[[#This Row],[QTY]]*Table1[[#This Row],[School & Library Price]]","v":0}]
[null,13,null,"Current Issues","Opposing Viewpoints","Sexual Violence","978-0-7377-6340-9","Greenhaven Publishing","Library Bound Book",1,2014,null,"Library Bound","6.000 X 9.000","Author","Amanda Hiber",null,null,null,null,null,null,"Years 15 - 17",null,"Grade 10 - 12","This addition to the popular OPPOSING VIEWPOINTS series discusses the topic of sexual violence. Through the use of carefully selected articles, pulled from a variety of sources, this text addresses the issue of sexual violence as a societal problem that must be addressed. As with all large-scale social ills, it can only be effectively addressed after thoughtful examination. The viewpoints are selected from a wide range of highly respected and often hard-to-find sources and publications. By choosing from such diverse sources and including both popular and unpopular views, the OPPOSING VIEWPOINTS editorial team has adhered to its commitment to editorial objectivity. Readers are exposed to many sides of a debate, which promotes issue awareness as well as critical thinking.","English",48.8,39.04,"364","216 pp.",{"$f":"Table1[[#This Row],['# of Books]]*Table1[[#This Row],[QTY]]","v":0},{"$f":"Table1[[#This Row],[QTY]]*Table1[[#This Row],[School & Library Price]]","v":0}]
[null,13,null,"Current Issues","Opposing Viewpoints","Sexual Violence","978-0-7377-6341-6","Greenhaven Publishing","Paperback Book",1,2014,null,"Paperback","6.000 X 9.000","Author","Amanda Hiber",null,null,null,null,null,null,"Years 15 - 17",null,"Grade 10 - 12","This addition to the popular OPPOSING VIEWPOINTS series discusses the topic of sexual violence. Through the use of carefully selected articles, pulled from a variety of sources, this text addresses the issue of sexual violence as a societal problem that must be addressed. As with all large-scale social ills, it can only be effectively addressed after thoughtful examination. The viewpoints are selected from a wide range of highly respected and often hard-to-find sources and publications. By choosing from such diverse sources and including both popular and unpopular views, the OPPOSING VIEWPOINTS editorial team has adhered to its commitment to editorial objectivity. Readers are exposed to many sides of a debate, which promotes issue awareness as well as critical thinking.","English",33.799999999999898,27.039999999999921,"364","205 pp.",{"$f":"Table1[[#This Row],['# of Books]]*Table1[[#This Row],[QTY]]","v":0},{"$f":"Table1[[#This Row],[QTY]]*Table1[[#This Row],[School & Library Price]]","v":0}]
[null,13,null,"Current Issues","Opposing Viewpoints","Sexually Transmitted Diseases","978-0-7377-5237-3","Greenhaven Publishing","Library Bound Book",1,2011,null,"Library Bound","6.000 X 9.000","Author","Roman Espejo",null,null,null,null,null,null,"Years 15 - 17",null,"Grade 10 - 12",null,"English",48.8,39.04,"616","240 pp.",{"$f":"Table1[[#This Row],['# of Books]]*Table1[[#This Row],[QTY]]","v":0},{"$f":"Table1[[#This Row],[QTY]]*Table1[[#This Row],[School & Library Price]]","v":0}]
[null,13,null,"Current Issues","Opposing Viewpoints","Sexually Transmitted Diseases","978-0-7377-5238-0","Greenhaven Publishing","Paperback Book",1,2011,null,"Paperback","6.000 X 9.000","Author","Roman Espejo",null,null,null,null,null,null,"Years 15 - 17",null,"Grade 10 - 12",null,"English",33.799999999999898,27.039999999999921,"616","240 pp.",{"$f":"Table1[[#This Row],['# of Books]]*Table1[[#This Row],[QTY]]","v":0},{"$f":"Table1[[#This Row],[QTY]]*Table1[[#This Row],[School & Library Price]]","v":0}]
[null,13,null,"Current Issues","Opposing Viewpoints","Single-Parent Families","978-0-7377-7528-0","Greenhaven Publishing","Library Bound Book",1,2016,null,"Library Bound","6.000 X 9.000","Author","Margaret Haerens",null,null,null,null,null,null,"Years 15 - 17",null,"Grade 10 - 12","This title explores issues related to families headed by one parent, including how single-parent families affect children and communities, the challenges they face, and what government policies should be in place to help them.","English",48.8,39.04,"306","272 pp.",{"$f":"Table1[[#This Row],['# of Books]]*Table1[[#This Row],[QTY]]","v":0},{"$f":"Table1[[#This Row],[QTY]]*Table1[[#This Row],[School & Library Price]]","v":0}]
[null,13,null,"Current Issues","Opposing Viewpoints","Single-Parent Families","978-0-7377-7529-7","Greenhaven Publishing","Paperback Book",1,2016,null,"Paperback","6.000 X 9.000","Author","Margaret Haerens",null,null,null,null,null,null,"Years 15 - 17",null,"Grade 10 - 12","This title explores issues related to families headed by one parent, including how single-parent families affect children and communities, the challenges they face, and what government policies should be in place to help them.","English",33.799999999999898,27.039999999999921,"306","272 pp.",{"$f":"Table1[[#This Row],['# of Books]]*Table1[[#This Row],[QTY]]","v":0},{"$f":"Table1[[#This Row],[QTY]]*Table1[[#This Row],[School & Library Price]]","v":0}]
[null,13,null,"Current Issues","Opposing Viewpoints","Slavery And Human Trafficking","978-0-7377-7530-3","Greenhaven Publishing","Library Bound Book",1,2016,null,"Library Bound","6.000 X 9.000","Author","Noah Berlatsky",null,null,null,null,null,null,"Years 15 - 17",null,"Grade 10 - 12","This title addresses controversies related to The US Libertarian Movement including: What are the issues surrounding contemporary slavery? Is sex trafficking a serious problem? How does legal policy toward sex work affect sex trafficking? How does immigration policy affect human trafficking?","English",48.8,39.04,"306","209 pp.",{"$f":"Table1[[#This Row],['# of Books]]*Table1[[#This Row],[QTY]]","v":0},{"$f":"Table1[[#This Row],[QTY]]*Table1[[#This Row],[School & Library Price]]","v":0}]
[null,13,null,"Current Issues","Opposing Viewpoints","Slavery And Human Trafficking","978-0-7377-7531-0","Greenhaven Publishing","Paperback Book",1,2016,null,"Paperback","6.000 X 9.000","Author","Noah Berlatsky",null,null,null,null,null,null,"Years 15 - 17",null,"Grade 10 - 12","This title addresses controversies related to The US Libertarian Movement including: What are the issues surrounding contemporary slavery? Is sex trafficking a serious problem? How does legal policy toward sex work affect sex trafficking? How does immigration policy affect human trafficking?","English",33.799999999999898,27.039999999999921,"306","209 pp.",{"$f":"Table1[[#This Row],['# of Books]]*Table1[[#This Row],[QTY]]","v":0},{"$f":"Table1[[#This Row],[QTY]]*Table1[[#This Row],[School & Library Price]]","v":0}]
[null,13,null,"Current Issues","Opposing Viewpoints","Smartphones","978-0-7377-6342-3","Greenhaven Publishing","Library Bound Book",1,2013,null,"Library Bound","6.000 X 9.000","Author","Roman Espejo",null,null,null,null,null,null,"Years 15 - 17",null,"Grade 10 - 12","Opposing Viewpoints: Smartphones discusses smartphone ownership including the benefits and privacy risks. The viewpoints are selected from a wide range of highly respected and often hard-to-find sources and publications. By choosing from such diverse sources and including both popular and unpopular views, the Opposing Viewpoints series has adhered to its commitment to editorial objectivity. Readers are exposed to many sides of a debate, which promotes issue awareness as well as critical thinking.","English",48.8,39.04,"005","208 pp.",{"$f":"Table1[[#This Row],['# of Books]]*Table1[[#This Row],[QTY]]","v":0},{"$f":"Table1[[#This Row],[QTY]]*Table1[[#This Row],[School & Library Price]]","v":0}]
[null,13,null,"Current Issues","Opposing Viewpoints","Smartphones","978-0-7377-6343-0","Greenhaven Publishing","Paperback Book",1,2013,null,"Paperback","6.000 X 9.000","Author","Roman Espejo",null,null,null,null,null,null,"Years 15 - 17",null,"Grade 10 - 12","Opposing Viewpoints: Smartphones discusses smartphone ownership including the benefits and privacy risks. The viewpoints are selected from a wide range of highly respected and often hard-to-find sources and publications. By choosing from such diverse sources and including both popular and unpopular views, the Opposing Viewpoints series has adhered to its commitment to editorial objectivity. Readers are exposed to many sides of a debate, which promotes issue awareness as well as critical thinking.","English",33.799999999999898,27.039999999999921,"005","204 pp.",{"$f":"Table1[[#This Row],['# of Books]]*Table1[[#This Row],[QTY]]","v":0},{"$f":"Table1[[#This Row],[QTY]]*Table1[[#This Row],[School & Library Price]]","v":0}]
[null,13,null,"Current Issues","Opposing Viewpoints","Social Justice","978-0-7377-4783-6","Greenhaven Publishing","Library Bound Book",1,2010,null,"Library Bound","6.000 X 9.000","Author","David M. Haugen",null,null,null,null,null,null,"Years 15 - 17",null,"Grade 10 - 12","Explores whether or not the United States should do more to reduce economic inequality through wage regulation and tax reform. Examines policies such as affirmative action and reparations for minorities; and obstacles like the gender wage gap and the glass ceiling for women. Also looks at global policies that promote social justice, such as foreign aid and use of genetically modified crops to ease world hunger.","English",48.8,39.04,"303","232 pp.",{"$f":"Table1[[#This Row],['# of Books]]*Table1[[#This Row],[QTY]]","v":0},{"$f":"Table1[[#This Row],[QTY]]*Table1[[#This Row],[School & Library Price]]","v":0}]
[null,13,null,"Current Issues","Opposing Viewpoints","Social Justice","978-0-7377-4784-3","Greenhaven Publishing","Paperback Book",1,2010,null,"Paperback","6.000 X 9.000","Author","David M. Haugen",null,null,null,null,null,null,"Years 15 - 17",null,"Grade 10 - 12","Explores whether or not the United States should do more to reduce economic inequality through wage regulation and tax reform. Examines policies such as affirmative action and reparations for minorities; and obstacles like the gender wage gap and the glass ceiling for women. Also looks at global policies that promote social justice, such as foreign aid and use of genetically modified crops to ease world hunger.","English",33.799999999999898,27.039999999999921,"303","232 pp.",{"$f":"Table1[[#This Row],['# of Books]]*Table1[[#This Row],[QTY]]","v":0},{"$f":"Table1[[#This Row],[QTY]]*Table1[[#This Row],[School & Library Price]]","v":0}]
[null,13,null,"Current Issues","Opposing Viewpoints","Social Security","978-0-7377-4856-7","Greenhaven Publishing","Library Bound Book",1,2010,null,"Library Bound","6.000 X 9.000","Author","Mitchell Young",null,null,null,null,null,null,"Years 15 - 17",null,"Grade 10 - 12","Explores whether or not a crisis exists within the social security system and the role played by politics, demographics, and private pensions. Examines proposals for reforming the social security system, and the impact of the current system on different social groups. Also looks at pension systems in other countries, including Great Britain and Chile.","English",48.8,39.04,"368","224 pp.",{"$f":"Table1[[#This Row],['# of Books]]*Table1[[#This Row],[QTY]]","v":0},{"$f":"Table1[[#This Row],[QTY]]*Table1[[#This Row],[School & Library Price]]","v":0}]
[null,13,null,"Current Issues","Opposing Viewpoints","Social Security","978-0-7377-4857-4","Greenhaven Publishing","Paperback Book",1,2010,null,"Paperback","6.000 X 9.000","Author","Mitchell Young",null,null,null,null,null,null,"Years 15 - 17",null,"Grade 10 - 12","Explores whether or not a crisis exists within the social security system and the role played by politics, demographics, and private pensions. Examines proposals for reforming the social security system, and the impact of the current system on different social groups. Also looks at pension systems in other countries, including Great Britain and Chile.","English",33.799999999999898,27.039999999999921,"332","224 pp.",{"$f":"Table1[[#This Row],['# of Books]]*Table1[[#This Row],[QTY]]","v":0},{"$f":"Table1[[#This Row],[QTY]]*Table1[[#This Row],[School & Library Price]]","v":0}]
[null,13,null,"Current Issues","Opposing Viewpoints","Space Exploration","978-0-7377-7562-4","Greenhaven Publishing","Library Bound Book",1,2016,null,"Library Bound","6.000 X 9.000","Author","Michael Ruth",null,null,null,null,null,null,"Years 15 - 17",null,"Grade 10 - 12","This title addresses controversies related to space exploration including: What is the role of space exploration in the modern world? Where in space should humans explore? What are the politics of space exploration? What is the science behind space exploration?","English",48.8,39.04,"629","191 pp.",{"$f":"Table1[[#This Row],['# of Books]]*Table1[[#This Row],[QTY]]","v":0},{"$f":"Table1[[#This Row],[QTY]]*Table1[[#This Row],[School & Library Price]]","v":0}]
[null,13,null,"Current Issues","Opposing Viewpoints","Space Exploration","978-0-7377-7563-1","Greenhaven Publishing","Paperback Book",1,2016,null,"Paperback","6.000 X 9.000","Author","Michael Ruth",null,null,null,null,null,null,"Years 15 - 17",null,"Grade 10 - 12","This title addresses controversies related to space exploration including: What is the role of space exploration in the modern world? Where in space should humans explore? What are the politics of space exploration? What is the science behind space exploration?","English",33.799999999999898,27.039999999999921,"629","191 pp.",{"$f":"Table1[[#This Row],['# of Books]]*Table1[[#This Row],[QTY]]","v":0},{"$f":"Table1[[#This Row],[QTY]]*Table1[[#This Row],[School & Library Price]]","v":0}]
[null,13,null,"Current Issues","Opposing Viewpoints","Sports and Athletes","978-0-7377-4542-9","Greenhaven Publishing","Library Bound Book",1,2009,null,"Library Bound","6.000 X 9.000","Author","Christine Watkins",null,null,null,null,null,null,"Years 15 - 17",null,"Grade 10 - 12",null,"English",48.8,39.04,"796","232 pp.",{"$f":"Table1[[#This Row],['# of Books]]*Table1[[#This Row],[QTY]]","v":0},{"$f":"Table1[[#This Row],[QTY]]*Table1[[#This Row],[School & Library Price]]","v":0}]
[null,13,null,"Current Issues","Opposing Viewpoints","Sports and Athletes","978-0-7377-4543-6","Greenhaven Publishing","Paperback Book",1,2009,null,"Paperback","6.000 X 9.000","Author","Christine Watkins",null,null,null,null,null,null,"Years 15 - 17",null,"Grade 10 - 12",null,"English",33.799999999999898,27.039999999999921,"796","232 pp.",{"$f":"Table1[[#This Row],['# of Books]]*Table1[[#This Row],[QTY]]","v":0},{"$f":"Table1[[#This Row],[QTY]]*Table1[[#This Row],[School & Library Price]]","v":0}]
[null,13,null,"Current Issues","Opposing Viewpoints","Stem Cells","978-0-7377-5759-0","Greenhaven Publishing","Library Bound Book",1,2012,null,"Library Bound","6.000 X 9.000","Author","Jacqueline Langwith",null,null,null,null,null,null,"Years 15 - 17",null,"Grade 10 - 12",null,"English",48.8,39.04,"174","240 pp.",{"$f":"Table1[[#This Row],['# of Books]]*Table1[[#This Row],[QTY]]","v":0},{"$f":"Table1[[#This Row],[QTY]]*Table1[[#This Row],[School & Library Price]]","v":0}]
[null,13,null,"Current Issues","Opposing Viewpoints","Stem Cells","978-0-7377-5760-6","Greenhaven Publishing","Paperback Book",1,2012,null,"Paperback","6.000 X 9.000","Author","Jacqueline Langwith",null,null,null,null,null,null,"Years 15 - 17",null,"Grade 10 - 12",null,"English",33.799999999999898,27.039999999999921,"174","240 pp.",{"$f":"Table1[[#This Row],['# of Books]]*Table1[[#This Row],[QTY]]","v":0},{"$f":"Table1[[#This Row],[QTY]]*Table1[[#This Row],[School & Library Price]]","v":0}]
[null,13,null,"Current Issues","Opposing Viewpoints","Street Teens","978-0-7377-5761-3","Greenhaven Publishing","Library Bound Book",1,2012,null,"Library Bound","6.000 X 9.000","Author","Dedria Bryfonski",null,null,null,null,null,null,"Years 15 - 17",null,"Grade 10 - 12",null,"English",48.8,39.04,"362","224 pp.",{"$f":"Table1[[#This Row],['# of Books]]*Table1[[#This Row],[QTY]]","v":0},{"$f":"Table1[[#This Row],[QTY]]*Table1[[#This Row],[School & Library Price]]","v":0}]
[null,13,null,"Current Issues","Opposing Viewpoints","Street Teens","978-0-7377-5762-0","Greenhaven Publishing","Paperback Book",1,2012,null,"Paperback","6.000 X 9.000","Author","Dedria Bryfonski",null,null,null,null,null,null,"Years 15 - 17",null,"Grade 10 - 12",null,"English",33.799999999999898,27.039999999999921,"362","224 pp.",{"$f":"Table1[[#This Row],['# of Books]]*Table1[[#This Row],[QTY]]","v":0},{"$f":"Table1[[#This Row],[QTY]]*Table1[[#This Row],[School & Library Price]]","v":0}]
[null,13,null,"Current Issues","Opposing Viewpoints","Student Life","978-0-7377-4990-8","Greenhaven Publishing","Library Bound Book",1,2011,null,"Library Bound","6.000 X 9.000","Author","Karen Miller",null,null,null,null,null,null,"Years 15 - 17",null,"Grade 10 - 12",null,"English",48.8,39.04,"378","216 pp.",{"$f":"Table1[[#This Row],['# of Books]]*Table1[[#This Row],[QTY]]","v":0},{"$f":"Table1[[#This Row],[QTY]]*Table1[[#This Row],[School & Library Price]]","v":0}]
[null,13,null,"Current Issues","Opposing Viewpoints","Student Life","978-0-7377-4991-5","Greenhaven Publishing","Paperback Book",1,2011,null,"Paperback","6.000 X 9.000","Author","Karen Miller",null,null,null,null,null,null,"Years 15 - 17",null,"Grade 10 - 12",null,"English",33.799999999999898,27.039999999999921,"378","216 pp.",{"$f":"Table1[[#This Row],['# of Books]]*Table1[[#This Row],[QTY]]","v":0},{"$f":"Table1[[#This Row],[QTY]]*Table1[[#This Row],[School & Library Price]]","v":0}]
[null,13,null,"Current Issues","Opposing Viewpoints","Suicide","978-0-7377-4013-4","Greenhaven Publishing","Paperback Book",1,2008,null,"Paperback","6.000 X 9.000","Author","Jacqueline Langwith",null,null,null,null,null,null,"Years 15 - 17",null,"Grade 10 - 12",null,"English",33.799999999999898,27.039999999999921,"362","272 pp.",{"$f":"Table1[[#This Row],['# of Books]]*Table1[[#This Row],[QTY]]","v":0},{"$f":"Table1[[#This Row],[QTY]]*Table1[[#This Row],[School & Library Price]]","v":0}]
[null,13,null,"Current Issues","Opposing Viewpoints","Syria","978-0-7377-7006-3","Greenhaven Publishing","Library Bound Book",1,2015,null,"Library Bound","6.000 X 9.000","Author","Noah Berlatsky",null,null,null,null,null,null,"Years 15 - 17",null,"Grade 10 - 12","This title in the OPPOSING VIEWPOINTS SERIES examines the ongoing conflict in Syria, exploring such topics as what is the United States’ role in the Syrian civil war, the status of the Syrian resistance, the ongoing Syrian refugee crisis, and Syria’s relationship with the rest of the world.","English",48.8,39.04,"956","232 pp.",{"$f":"Table1[[#This Row],['# of Books]]*Table1[[#This Row],[QTY]]","v":0},{"$f":"Table1[[#This Row],[QTY]]*Table1[[#This Row],[School & Library Price]]","v":0}]
[null,13,null,"Current Issues","Opposing Viewpoints","Syria","978-0-7377-7007-0","Greenhaven Publishing","Paperback Book",1,2015,null,"Paperback","6.000 X 9.000","Author","Noah Berlatsky",null,null,null,null,null,null,"Years 15 - 17",null,"Grade 10 - 12","This title in the OPPOSING VIEWPOINTS SERIES examines the ongoing conflict in Syria, exploring such topics as what is the United States’ role in the Syrian civil war, the status of the Syrian resistance, the ongoing Syrian refugee crisis, and Syria’s relationship with the rest of the world.","English",33.799999999999898,27.039999999999921,"956","227 pp.",{"$f":"Table1[[#This Row],['# of Books]]*Table1[[#This Row],[QTY]]","v":0},{"$f":"Table1[[#This Row],[QTY]]*Table1[[#This Row],[School & Library Price]]","v":0}]
[null,13,null,"Current Issues","Opposing Viewpoints","Tax Reform","978-0-7377-5242-7","Greenhaven Publishing","Paperback Book",1,2011,null,"Paperback","6.000 X 9.000","Author","Noël Merino",null,null,null,null,null,null,"Years 15 - 17",null,"Grade 10 - 12",null,"English",33.799999999999898,27.039999999999921,"336","216 pp.",{"$f":"Table1[[#This Row],['# of Books]]*Table1[[#This Row],[QTY]]","v":0},{"$f":"Table1[[#This Row],[QTY]]*Table1[[#This Row],[School & Library Price]]","v":0}]
[null,13,null,"Current Issues","Opposing Viewpoints","Teachers and Ethics","978-0-7377-7532-7","Greenhaven Publishing","Library Bound Book",1,2016,null,"Library Bound","6.000 X 9.000","Author","Noah Berlatsky",null,null,null,null,null,null,"Years 15 - 17",null,"Grade 10 - 12","This title addresses controversies related to teachers and ethics including: What are the ethical issues surrounding teachers and unions? What are ethical issues around teachers' working conditions? What are ethical issues surrounding testing? What are ethical issues for teachers outside the classroom?","English",48.8,39.04,"174","228 pp.",{"$f":"Table1[[#This Row],['# of Books]]*Table1[[#This Row],[QTY]]","v":0},{"$f":"Table1[[#This Row],[QTY]]*Table1[[#This Row],[School & Library Price]]","v":0}]
[null,13,null,"Current Issues","Opposing Viewpoints","Teachers and Ethics","978-0-7377-7533-4","Greenhaven Publishing","Paperback Book",1,2016,null,"Paperback","6.000 X 9.000","Author","Noah Berlatsky",null,null,null,null,null,null,"Years 15 - 17",null,"Grade 10 - 12","This title addresses controversies related to teachers and ethics including: What are the ethical issues surrounding teachers and unions? What are ethical issues around teachers' working conditions? What are ethical issues surrounding testing? What are ethical issues for teachers outside the classroom?","English",33.799999999999898,27.039999999999921,"174","228 pp.",{"$f":"Table1[[#This Row],['# of Books]]*Table1[[#This Row],[QTY]]","v":0},{"$f":"Table1[[#This Row],[QTY]]*Table1[[#This Row],[School & Library Price]]","v":0}]
[null,13,null,"Current Issues","Opposing Viewpoints","Teen Dating","978-0-7377-6344-7","Greenhaven Publishing","Library Bound Book",1,2013,null,"Library Bound","6.000 X 9.000","Author","Louise I. Gerdes",null,null,null,null,null,null,"Years 15 - 17",null,"Grade 10 - 12","Opposing Viewpoints: Teen Dating discusses many aspects of teen dating including violence, teen sex and the impact of media and technology. The viewpoints are selected from a wide range of highly respected and often hard-to-find sources and publications. By choosing from such diverse sources and including both popular and unpopular views, the Opposing Viewpoints series has adhered to its commitment to editorial objectivity. Readers are exposed to many sides of a debate, which promotes issue awareness as well as critical thinking.","English",48.8,39.04,"646","224 pp.",{"$f":"Table1[[#This Row],['# of Books]]*Table1[[#This Row],[QTY]]","v":0},{"$f":"Table1[[#This Row],[QTY]]*Table1[[#This Row],[School & Library Price]]","v":0}]
[null,13,null,"Current Issues","Opposing Viewpoints","Teen Dating","978-0-7377-6345-4","Greenhaven Publishing","Paperback Book",1,2013,null,"Paperback","6.000 X 9.000","Author","Louise I. Gerdes",null,null,null,null,null,null,"Years 15 - 17",null,"Grade 10 - 12","Opposing Viewpoints: Teen Dating discusses many aspects of teen dating including violence, teen sex and the impact of media and technology. The viewpoints are selected from a wide range of highly respected and often hard-to-find sources and publications. By choosing from such diverse sources and including both popular and unpopular views, the Opposing Viewpoints series has adhered to its commitment to editorial objectivity. Readers are exposed to many sides of a debate, which promotes issue awareness as well as critical thinking.","English",33.799999999999898,27.039999999999921,"646","222 pp.",{"$f":"Table1[[#This Row],['# of Books]]*Table1[[#This Row],[QTY]]","v":0},{"$f":"Table1[[#This Row],[QTY]]*Table1[[#This Row],[School & Library Price]]","v":0}]
[null,13,null,"Current Issues","Opposing Viewpoints","Teen Drug Abuse","978-0-7377-4992-2","Greenhaven Publishing","Library Bound Book",1,2011,null,"Library Bound","6.000 X 9.000","Author","David E. Nelson",null,null,null,null,null,null,"Years 15 - 17",null,"Grade 10 - 12","Explores whether or not teen drug abuse is a serious problem, and if the use of certain drugs is increasing. Examines the potential causes and effects of teen drug abuse, such as adolescent depression and sexual activity. Discusses prevention measures, including school drug testing programs, \"tough love\" treatment, and anti-drug programs.","English",48.8,39.04,"362","240 pp.",{"$f":"Table1[[#This Row],['# of Books]]*Table1[[#This Row],[QTY]]","v":0},{"$f":"Table1[[#This Row],[QTY]]*Table1[[#This Row],[School & Library Price]]","v":0}]
[null,13,null,"Current Issues","Opposing Viewpoints","Teen Drug Abuse","978-0-7377-4993-9","Greenhaven Publishing","Paperback Book",1,2011,null,"Paperback","6.000 X 9.000","Author","David E. Nelson",null,null,null,null,null,null,"Years 15 - 17",null,"Grade 10 - 12","Explores whether or not teen drug abuse is a serious problem, and if the use of certain drugs is increasing. Examines the potential causes and effects of teen drug abuse, such as adolescent depression and sexual activity. Discusses prevention measures, including school drug testing programs, \"tough love\" treatment, and anti-drug programs.","English",33.799999999999898,27.039999999999921,"362","240 pp.",{"$f":"Table1[[#This Row],['# of Books]]*Table1[[#This Row],[QTY]]","v":0},{"$f":"Table1[[#This Row],[QTY]]*Table1[[#This Row],[School & Library Price]]","v":0}]
[null,13,null,"Current Issues","Opposing Viewpoints","Teenage Sexuality","978-0-7377-5763-7","Greenhaven Publishing","Library Bound Book",1,2012,null,"Library Bound","6.000 X 9.000","Author","Aarti Stephens",null,null,null,null,null,null,"Years 15 - 17",null,"Grade 10 - 12","This title in the OPPOSING VIEWPOINTS series explores issues related to the controversial subject of teenage sexuality, through a collection of balanced articles from a variety of source. Articles contained in the text examine several topics, including the major factors that influence teenage sexuality, including parents and peers; significant teen sexuality issues; the role of society in teaching teens about sex; and society’s response to teenage sexual activity.","English",48.8,39.04,"306","248 pp.",{"$f":"Table1[[#This Row],['# of Books]]*Table1[[#This Row],[QTY]]","v":0},{"$f":"Table1[[#This Row],[QTY]]*Table1[[#This Row],[School & Library Price]]","v":0}]
[null,13,null,"Current Issues","Opposing Viewpoints","Teenage Sexuality","978-0-7377-5764-4","Greenhaven Publishing","Paperback Book",1,2012,null,"Paperback","6.000 X 9.000","Author","Aarti Stephens",null,null,null,null,null,null,"Years 15 - 17",null,"Grade 10 - 12","This title in the OPPOSING VIEWPOINTS series explores issues related to the controversial subject of teenage sexuality, through a collection of balanced articles from a variety of source. Articles contained in the text examine several topics, including the major factors that influence teenage sexuality, including parents and peers; significant teen sexuality issues; the role of society in teaching teens about sex; and society’s response to teenage sexual activity.","English",33.799999999999898,27.039999999999921,"306","248 pp.",{"$f":"Table1[[#This Row],['# of Books]]*Table1[[#This Row],[QTY]]","v":0},{"$f":"Table1[[#This Row],[QTY]]*Table1[[#This Row],[School & Library Price]]","v":0}]
[null,13,null,"Current Issues","Opposing Viewpoints","Teens at Risk","978-0-7377-6430-7","Greenhaven Publishing","Library Bound Book",1,2013,null,"Library Bound","6.000 X 9.000","Author","Stephen Thompson",null,null,null,null,null,null,"Years 15 - 17",null,"Grade 10 - 12","This title explores factors that put teens at risk including: poverty, food choices, depression, alcohol and drugs, violent video games and bullying. Also discusses issues related to sexuality and gender. The viewpoints are selected from a wide range of highly respected and often hard-to-find sources and publications. By choosing from such diverse sources and including both popular and unpopular views, the OPPOSING VIEWPOINTS editorial team has adhered to its commitment to editorial objectivity. Readers are exposed to many sides of a debate, which promotes issue awareness as well as critical thinking.","English",48.8,39.04,"362","200 pp.",{"$f":"Table1[[#This Row],['# of Books]]*Table1[[#This Row],[QTY]]","v":0},{"$f":"Table1[[#This Row],[QTY]]*Table1[[#This Row],[School & Library Price]]","v":0}]
[null,13,null,"Current Issues","Opposing Viewpoints","Teens at Risk","978-0-7377-6431-4","Greenhaven Publishing","Paperback Book",1,2013,null,"Paperback","6.000 X 9.000","Author","Stephen Thompson",null,null,null,null,null,null,"Years 15 - 17",null,"Grade 10 - 12","This title explores factors that put teens at risk including: poverty, food choices, depression, alcohol and drugs, violent video games and bullying. Also discusses issues related to sexuality and gender. The viewpoints are selected from a wide range of highly respected and often hard-to-find sources and publications. By choosing from such diverse sources and including both popular and unpopular views, the OPPOSING VIEWPOINTS editorial team has adhered to its commitment to editorial objectivity. Readers are exposed to many sides of a debate, which promotes issue awareness as well as critical thinking.","English",33.799999999999898,27.039999999999921,"362","199 pp.",{"$f":"Table1[[#This Row],['# of Books]]*Table1[[#This Row],[QTY]]","v":0},{"$f":"Table1[[#This Row],[QTY]]*Table1[[#This Row],[School & Library Price]]","v":0}]
[null,13,null,"Current Issues","Opposing Viewpoints","Television","978-0-7377-5244-1","Greenhaven Publishing","Paperback Book",1,2011,null,"Paperback","6.000 X 9.000","Author","Margaret Haerens",null,null,null,null,null,null,"Years 15 - 17",null,"Grade 10 - 12",null,"English",33.799999999999898,27.039999999999921,"791","216 pp.",{"$f":"Table1[[#This Row],['# of Books]]*Table1[[#This Row],[QTY]]","v":0},{"$f":"Table1[[#This Row],[QTY]]*Table1[[#This Row],[School & Library Price]]","v":0}]
[null,13,null,"Current Issues","Opposing Viewpoints","Terrorism","978-0-7377-4234-3","Greenhaven Publishing","Library Bound Book",1,2009,null,"Library Bound","6.000 X 9.000","Author","Mike Wilson",null,null,null,null,null,null,"Years 15 - 17",null,"Grade 10 - 12",null,"English",48.8,39.04,"303","216 pp.",{"$f":"Table1[[#This Row],['# of Books]]*Table1[[#This Row],[QTY]]","v":0},{"$f":"Table1[[#This Row],[QTY]]*Table1[[#This Row],[School & Library Price]]","v":0}]
[null,13,null,"Current Issues","Opposing Viewpoints","Terrorism","978-0-7377-4235-0","Greenhaven Publishing","Paperback Book",1,2009,null,"Paperback","6.000 X 9.000","Author","Mike Wilson",null,null,null,null,null,null,"Years 15 - 17",null,"Grade 10 - 12",null,"English",33.799999999999898,27.039999999999921,"303","209 pp.",{"$f":"Table1[[#This Row],['# of Books]]*Table1[[#This Row],[QTY]]","v":0},{"$f":"Table1[[#This Row],[QTY]]*Table1[[#This Row],[School & Library Price]]","v":0}]
[null,13,null,"Current Issues","Opposing Viewpoints","The Achievement Gap","978-0-7377-4749-2","Greenhaven Publishing","Library Bound Book",1,2010,null,"Library Bound","6.000 X 9.000","Author","Karen Miller",null,null,null,null,null,null,"Years 15 - 17",null,"Grade 10 - 12",null,"English",48.8,39.04,"379","256 pp.",{"$f":"Table1[[#This Row],['# of Books]]*Table1[[#This Row],[QTY]]","v":0},{"$f":"Table1[[#This Row],[QTY]]*Table1[[#This Row],[School & Library Price]]","v":0}]
[null,13,null,"Current Issues","Opposing Viewpoints","The Achievement Gap","978-0-7377-4750-8","Greenhaven Publishing","Paperback Book",1,2010,null,"Paperback","6.000 X 9.000","Author","Karen Miller",null,null,null,null,null,null,"Years 15 - 17",null,"Grade 10 - 12",null,"English",33.799999999999898,27.039999999999921,"379","256 pp.",{"$f":"Table1[[#This Row],['# of Books]]*Table1[[#This Row],[QTY]]","v":0},{"$f":"Table1[[#This Row],[QTY]]*Table1[[#This Row],[School & Library Price]]","v":0}]
[null,13,null,"Current Issues","Opposing Viewpoints","The Aging Population","978-0-7377-6943-2","Greenhaven Publishing","Library Bound Book",1,2014,null,"Library Bound","6.000 X 9.000","Author","Margaret Haerens",null,null,null,null,null,null,"Years 15 - 17",null,"Grade 10 - 12","OPPOSING VIEWPOINTS: AGING POPULATION explores numerous impacts of the aging population, including the economic consequences of an aging population, the social and legal issues of an aging population, social security and the medical challenges that face an aging population. The viewpoints are selected from a wide range of highly respected and often hard-to-find sources and publications. By choosing from such diverse sources and including both popular and unpopular views, the OPPOSING VIEWPOINTS series has adhered to its commitment to editorial objectivity. Readers are exposed to many sides of a debate, which promotes issue awareness as well as critical thinking.","English",48.8,39.04,"305","256 pp.",{"$f":"Table1[[#This Row],['# of Books]]*Table1[[#This Row],[QTY]]","v":0},{"$f":"Table1[[#This Row],[QTY]]*Table1[[#This Row],[School & Library Price]]","v":0}]
[null,13,null,"Current Issues","Opposing Viewpoints","The Aging Population","978-0-7377-6944-9","Greenhaven Publishing","Paperback Book",1,2014,null,"Paperback","6.000 X 9.000","Author","Margaret Haerens",null,null,null,null,null,null,"Years 15 - 17",null,"Grade 10 - 12","OPPOSING VIEWPOINTS: AGING POPULATION explores numerous impacts of the aging population, including the economic consequences of an aging population, the social and legal issues of an aging population, social security and the medical challenges that face an aging population. The viewpoints are selected from a wide range of highly respected and often hard-to-find sources and publications. By choosing from such diverse sources and including both popular and unpopular views, the OPPOSING VIEWPOINTS series has adhered to its commitment to editorial objectivity. Readers are exposed to many sides of a debate, which promotes issue awareness as well as critical thinking.","English",33.799999999999898,27.039999999999921,"305","252 pp.",{"$f":"Table1[[#This Row],['# of Books]]*Table1[[#This Row],[QTY]]","v":0},{"$f":"Table1[[#This Row],[QTY]]*Table1[[#This Row],[School & Library Price]]","v":0}]
[null,13,null,"Current Issues","Opposing Viewpoints","The Arab Spring","978-0-7377-6042-2","Greenhaven Publishing","Library Bound Book",1,2013,null,"Library Bound","6.000 X 9.000","Author","Margaret Haerens",null,null,null,null,null,null,"Years 15 - 17",null,"Grade 10 - 12","This title explores what caused the Arab Spring, how the international community should respond to the Arab Spring, how the US should respond to the Arab Spring, and the social and political effects of the Arab Spring.","English",48.8,39.04,"909","224 pp.",{"$f":"Table1[[#This Row],['# of Books]]*Table1[[#This Row],[QTY]]","v":0},{"$f":"Table1[[#This Row],[QTY]]*Table1[[#This Row],[School & Library Price]]","v":0}]
[null,13,null,"Current Issues","Opposing Viewpoints","The Arab Spring","978-0-7377-6043-9","Greenhaven Publishing","Paperback Book",1,2013,null,"Paperback","6.000 X 9.000","Author","Margaret Haerens",null,null,null,null,null,null,"Years 15 - 17",null,"Grade 10 - 12","This title explores what caused the Arab Spring, how the international community should respond to the Arab Spring, how the US should respond to the Arab Spring, and the social and political effects of the Arab Spring.","English",33.799999999999898,27.039999999999921,"909","219 pp.",{"$f":"Table1[[#This Row],['# of Books]]*Table1[[#This Row],[QTY]]","v":0},{"$f":"Table1[[#This Row],[QTY]]*Table1[[#This Row],[School & Library Price]]","v":0}]
[null,13,null,"Current Issues","Opposing Viewpoints","The Armed Forces","978-0-7377-4755-3","Greenhaven Publishing","Library Bound Book",1,2010,null,"Library Bound","6.000 X 9.000","Author","Louise I. Gerdes",null,null,null,null,null,null,"Years 15 - 17",null,"Grade 10 - 12","Explores the role of the armed forces in nation building, controlling piracy, providing disaster relief, and quelling domestic unrest. Examines who should serve in the armed forces, use of the draft, and women in combat. Discusses management issues such as training, use of private contractors, and corruption and waste in procurement. Also looks at policies governing armed forces personnel, such as tours of duty, care of veterans, and the rules of engagement.","English",48.8,39.04,"355","272 pp.",{"$f":"Table1[[#This Row],['# of Books]]*Table1[[#This Row],[QTY]]","v":0},{"$f":"Table1[[#This Row],[QTY]]*Table1[[#This Row],[School & Library Price]]","v":0}]
[null,13,null,"Current Issues","Opposing Viewpoints","The Armed Forces","978-0-7377-4756-0","Greenhaven Publishing","Paperback Book",1,2010,null,"Paperback","6.000 X 9.000","Author","Louise I. Gerdes",null,null,null,null,null,null,"Years 15 - 17",null,"Grade 10 - 12","Explores the role of the armed forces in nation building, controlling piracy, providing disaster relief, and quelling domestic unrest. Examines who should serve in the armed forces, use of the draft, and women in combat. Discusses management issues such as training, use of private contractors, and corruption and waste in procurement. Also looks at policies governing armed forces personnel, such as tours of duty, care of veterans, and the rules of engagement.","English",33.799999999999898,27.039999999999921,"355","272 pp.",{"$f":"Table1[[#This Row],['# of Books]]*Table1[[#This Row],[QTY]]","v":0},{"$f":"Table1[[#This Row],[QTY]]*Table1[[#This Row],[School & Library Price]]","v":0}]
[null,13,null,"Current Issues","Opposing Viewpoints","The Banking Crisis","978-0-7377-4854-3","Greenhaven Publishing","Library Bound Book",1,2010,null,"Library Bound","6.000 X 9.000","Author","Dedria Bryfonski",null,null,null,null,null,null,"Years 15 - 17",null,"Grade 10 - 12","Explores the possible causes of the banking crisis, including greed, deregulation, government policies, excessive compensation and excessive debt. Examines the current stability of the U.S. banking system and the effect of bailouts, as well as possible fixes like increased regulation or nationalization. Also looks at the role played by foreign investments and banks in the crisis.","English",48.8,39.04,"332","272 pp.",{"$f":"Table1[[#This Row],['# of Books]]*Table1[[#This Row],[QTY]]","v":0},{"$f":"Table1[[#This Row],[QTY]]*Table1[[#This Row],[School & Library Price]]","v":0}]
[null,13,null,"Current Issues","Opposing Viewpoints","The Banking Crisis","978-0-7377-4855-0","Greenhaven Publishing","Paperback Book",1,2010,null,"Paperback","6.000 X 9.000","Author","Dedria Bryfonski",null,null,null,null,null,null,"Years 15 - 17",null,"Grade 10 - 12","Explores the possible causes of the banking crisis, including greed, deregulation, government policies, excessive compensation and excessive debt. Examines the current stability of the U.S. banking system and the effect of bailouts, as well as possible fixes like increased regulation or nationalization. Also looks at the role played by foreign investments and banks in the crisis.","English",33.799999999999898,27.039999999999921,"332","272 pp.",{"$f":"Table1[[#This Row],['# of Books]]*Table1[[#This Row],[QTY]]","v":0},{"$f":"Table1[[#This Row],[QTY]]*Table1[[#This Row],[School & Library Price]]","v":0}]
[null,13,null,"Current Issues","Opposing Viewpoints","The Catholic Church","978-0-7377-7538-9","Greenhaven Publishing","Library Bound Book",1,2016,null,"Library Bound","6.000 X 9.000","Author","Michael Ruth",null,null,null,null,null,null,"Years 15 - 17",null,"Grade 10 - 12","Opposing Viewpoints: The Catholic Church delves into current issues surrounding the Church including the priesthood, and how the Church approaches health, reproduction, homosexuality, and the secular world in the 21st century.","English",48.8,39.04,"282","224 pp.",{"$f":"Table1[[#This Row],['# of Books]]*Table1[[#This Row],[QTY]]","v":0},{"$f":"Table1[[#This Row],[QTY]]*Table1[[#This Row],[School & Library Price]]","v":0}]
[null,13,null,"Current Issues","Opposing Viewpoints","The Catholic Church","978-0-7377-7539-6","Greenhaven Publishing","Paperback Book",1,2016,null,"Paperback","6.000 X 9.000","Author","Michael Ruth",null,null,null,null,null,null,"Years 15 - 17",null,"Grade 10 - 12","Opposing Viewpoints: The Catholic Church delves into current issues surrounding the Church including the priesthood, and how the Church approaches health, reproduction, homosexuality, and the secular world in the 21st century.","English",33.799999999999898,27.039999999999921,"282","224 pp.",{"$f":"Table1[[#This Row],['# of Books]]*Table1[[#This Row],[QTY]]","v":0},{"$f":"Table1[[#This Row],[QTY]]*Table1[[#This Row],[School & Library Price]]","v":0}]
[null,14,null,"Current Issues","Opposing Viewpoints","The Culture of Beauty","978-0-7377-6310-2","Greenhaven Publishing","Library Bound Book",1,2013,null,"Library Bound","6.000 X 9.000","Author","Louise I. Gerdes",null,null,null,null,null,null,"Years 15 - 17",null,"Grade 10 - 12","This title in the Opposing Viewpoints series explores the culture of beauty by placing expert opinions in a unique pro/con format. The viewpoints are selected from a wide range of highly respected and often hard-to-find sources and publications. By choosing from such diverse sources and including both popular and unpopular views, the Opposing Viewpoints series has adhered to its commitment to editorial objectivity. Readers are exposed to many sides of a debate, which promotes issue awareness as well as critical thinking.","English",48.8,39.04,"306","192 pp.",{"$f":"Table1[[#This Row],['# of Books]]*Table1[[#This Row],[QTY]]","v":0},{"$f":"Table1[[#This Row],[QTY]]*Table1[[#This Row],[School & Library Price]]","v":0}]
[null,14,null,"Current Issues","Opposing Viewpoints","The Culture of Beauty","978-0-7377-6311-9","Greenhaven Publishing","Paperback Book",1,2013,null,"Paperback","6.000 X 9.000","Author","Louise I. Gerdes",null,null,null,null,null,null,"Years 15 - 17",null,"Grade 10 - 12","This title in the Opposing Viewpoints series explores the culture of beauty by placing expert opinions in a unique pro/con format. The viewpoints are selected from a wide range of highly respected and often hard-to-find sources and publications. By choosing from such diverse sources and including both popular and unpopular views, the Opposing Viewpoints series has adhered to its commitment to editorial objectivity. Readers are exposed to many sides of a debate, which promotes issue awareness as well as critical thinking.","English",33.799999999999898,27.039999999999921,"306","191 pp.",{"$f":"Table1[[#This Row],['# of Books]]*Table1[[#This Row],[QTY]]","v":0},{"$f":"Table1[[#This Row],[QTY]]*Table1[[#This Row],[School & Library Price]]","v":0}]
[null,14,null,"Current Issues","Opposing Viewpoints","The Death Penalty","978-0-7377-4960-1","Greenhaven Publishing","Library Bound Book",1,2013,null,"Library Bound","6.000 X 9.000","Author","Jenny Cromie",null,null,null,null,null,null,"Years 15 - 17",null,"Grade 10 - 12","This title explores the death penalty by placing expert opinions in a unique pro/con format. The viewpoints are selected from a wide range of highly respected and often hard-to-find sources and publications. By choosing from such diverse sources and including both popular and unpopular views, the OPPOSING VIEWPOINTS editorial team has adhered to its commitment to editorial objectivity. Readers are exposed to many sides of a debate, which promotes issue awareness as well as critical thinking.","English",48.8,39.04,"364","208 pp.",{"$f":"Table1[[#This Row],['# of Books]]*Table1[[#This Row],[QTY]]","v":0},{"$f":"Table1[[#This Row],[QTY]]*Table1[[#This Row],[School & Library Price]]","v":0}]
[null,14,null,"Current Issues","Opposing Viewpoints","The Death Penalty","978-0-7377-4961-8","Greenhaven Publishing","Paperback Book",1,2013,null,"Paperback","6.000 X 9.000","Author","Jenny Cromie",null,null,null,null,null,null,"Years 15 - 17",null,"Grade 10 - 12","This title explores the death penalty by placing expert opinions in a unique pro/con format. The viewpoints are selected from a wide range of highly respected and often hard-to-find sources and publications. By choosing from such diverse sources and including both popular and unpopular views, the OPPOSING VIEWPOINTS editorial team has adhered to its commitment to editorial objectivity. Readers are exposed to many sides of a debate, which promotes issue awareness as well as critical thinking.","English",33.799999999999898,27.039999999999921,"364","207 pp.",{"$f":"Table1[[#This Row],['# of Books]]*Table1[[#This Row],[QTY]]","v":0},{"$f":"Table1[[#This Row],[QTY]]*Table1[[#This Row],[School & Library Price]]","v":0}]
[null,14,null,"Current Issues","Opposing Viewpoints","The Democratic Party","978-0-7377-7252-4","Greenhaven Publishing","Library Bound Book",1,2015,null,"Library Bound","6.000 X 9.000","Author","Noah Berlatsky",null,null,null,null,null,null,"Years 15 - 17",null,"Grade 10 - 12","OPPOSING VIEWPOINTS: THE DEMOCRATIC PARTY examines factors that affect democratic electoral chances; how the Democratic Party relates to important voting groups; controversial domestic issues within the Democratic Party; and controversial foreign policy issues within the Democratic Party.","English",48.8,39.04,"324","256 pp.",{"$f":"Table1[[#This Row],['# of Books]]*Table1[[#This Row],[QTY]]","v":0},{"$f":"Table1[[#This Row],[QTY]]*Table1[[#This Row],[School & Library Price]]","v":0}]
[null,14,null,"Current Issues","Opposing Viewpoints","The Democratic Party","978-0-7377-7253-1","Greenhaven Publishing","Paperback Book",1,2015,null,"Paperback","6.000 X 9.000","Author","Noah Berlatsky",null,null,null,null,null,null,"Years 15 - 17",null,"Grade 10 - 12","OPPOSING VIEWPOINTS: THE DEMOCRATIC PARTY  examines factors that affect democratic electoral chances; how the Democratic Party relates to important voting groups; controversial domestic issues within the Democratic Party; and controversial foreign policy issues within the Democratic Party.","English",33.799999999999898,27.039999999999921,"324","254 pp.",{"$f":"Table1[[#This Row],['# of Books]]*Table1[[#This Row],[QTY]]","v":0},{"$f":"Table1[[#This Row],[QTY]]*Table1[[#This Row],[School & Library Price]]","v":0}]
[null,14,null,"Current Issues","Opposing Viewpoints","The Environment","978-0-7377-6654-7","Greenhaven Publishing","Library Bound Book",1,2015,null,"Library Bound","6.000 X 9.000","Author","Lynn Zott",null,null,null,null,null,null,"Years 15 - 17",null,"Grade 10 - 12","This title features viewpoints discussing aspects of our environment, including pollution, the debate about climate change, fracking, nuclear energy, changes that can be made to improve our environment and other current topics. The viewpoints are selected from a wide range of highly respected and often hard-to-find sources and publications. By choosing from such diverse sources and including both popular and unpopular views, the OPPOSING VIEWPOINTS editorial team has adhered to its commitment to editorial objectivity. Readers are exposed to many sides of a debate, which promotes issue awareness as well as critical thinking.","English",48.8,39.04,"333","224 pp.",{"$f":"Table1[[#This Row],['# of Books]]*Table1[[#This Row],[QTY]]","v":0},{"$f":"Table1[[#This Row],[QTY]]*Table1[[#This Row],[School & Library Price]]","v":0}]
[null,14,null,"Current Issues","Opposing Viewpoints","The Environment","978-0-7377-6655-4","Greenhaven Publishing","Paperback Book",1,2015,null,"Paperback","6.000 X 9.000","Author","Lynn Zott",null,null,null,null,null,null,"Years 15 - 17",null,"Grade 10 - 12","This title features viewpoints discussing aspects of our environment, including pollution, the debate about climate change, fracking, nuclear energy, changes that can be made to improve our environment and other current topics. The viewpoints are selected from a wide range of highly respected and often hard-to-find sources and publications. By choosing from such diverse sources and including both popular and unpopular views, the OPPOSING VIEWPOINTS editorial team has adhered to its commitment to editorial objectivity. Readers are exposed to many sides of a debate, which promotes issue awareness as well as critical thinking.","English",33.799999999999898,27.039999999999921,"333","224 pp.",{"$f":"Table1[[#This Row],['# of Books]]*Table1[[#This Row],[QTY]]","v":0},{"$f":"Table1[[#This Row],[QTY]]*Table1[[#This Row],[School & Library Price]]","v":0}]
[null,14,null,"Current Issues","Opposing Viewpoints","The European Union","978-0-7377-3998-5","Greenhaven Publishing","Library Bound Book",1,2008,null,"Library Bound","6.000 X 9.000","Author","Noël Merino",null,null,null,null,null,null,"Years 15 - 17",null,"Grade 10 - 12",null,"English",48.8,39.04,"341","200 pp.",{"$f":"Table1[[#This Row],['# of Books]]*Table1[[#This Row],[QTY]]","v":0},{"$f":"Table1[[#This Row],[QTY]]*Table1[[#This Row],[School & Library Price]]","v":0}]
[null,14,null,"Current Issues","Opposing Viewpoints","The European Union","978-0-7377-3999-2","Greenhaven Publishing","Paperback Book",1,2008,null,"Paperback","6.000 X 9.000","Author","Noël Merino",null,null,null,null,null,null,"Years 15 - 17",null,"Grade 10 - 12",null,"English",33.799999999999898,27.039999999999921,"341","197 pp.",{"$f":"Table1[[#This Row],['# of Books]]*Table1[[#This Row],[QTY]]","v":0},{"$f":"Table1[[#This Row],[QTY]]*Table1[[#This Row],[School & Library Price]]","v":0}]
[null,14,null,"Current Issues","Opposing Viewpoints","The Fashion Industry","978-0-7377-4512-2","Greenhaven Publishing","Library Bound Book",1,2010,null,"Library Bound","6.000 X 9.000","Author","Roman Espejo",null,null,null,null,null,null,"Years 15 - 17",null,"Grade 10 - 12","Explores the issues and influence of the fashion industry, including lack of ethnic and size diversity in the design room and on the catwalk. Examines the impact of merchandise knockoffs on revenue, branding, and overall quality, as well as poverty and abuse in the \"new\" sweatshops. Discusses the relationship between eating disorders and the \"Size Zero\" fashion culture, and looks at \"green\" design as part of the fashion industry's future.","English",48.8,39.04,"338","216 pp.",{"$f":"Table1[[#This Row],['# of Books]]*Table1[[#This Row],[QTY]]","v":0},{"$f":"Table1[[#This Row],[QTY]]*Table1[[#This Row],[School & Library Price]]","v":0}]
[null,14,null,"Current Issues","Opposing Viewpoints","The Fashion Industry","978-0-7377-4513-9","Greenhaven Publishing","Paperback Book",1,2010,null,"Paperback","6.000 X 9.000","Author","Roman Espejo",null,null,null,null,null,null,"Years 15 - 17",null,"Grade 10 - 12","Explores the issues and influence of the fashion industry, including lack of ethnic and size diversity in the design room and on the catwalk. Examines the impact of merchandise knockoffs on revenue, branding, and overall quality, as well as poverty and abuse in the \"new\" sweatshops. Discusses the relationship between eating disorders and the \"Size Zero\" fashion culture, and looks at \"green\" design as part of the fashion industry’s future.","English",33.799999999999898,27.039999999999921,"338","215 pp.",{"$f":"Table1[[#This Row],['# of Books]]*Table1[[#This Row],[QTY]]","v":0},{"$f":"Table1[[#This Row],[QTY]]*Table1[[#This Row],[School & Library Price]]","v":0}]
[null,14,null,"Current Issues","Opposing Viewpoints","The Federal Budget","978-0-7377-4769-0","Greenhaven Publishing","Library Bound Book",1,2010,null,"Library Bound","6.000 X 9.000","Author","Amanda Hiber",null,null,null,null,null,null,"Years 15 - 17",null,"Grade 10 - 12","Explores the effectiveness of the current federal budget process and potential areas for reform, including earmarks, supplemental appropriations, and PAYGO. Offers viewpoints on how best to raise federal revenues as well as how - and on what - they should be spent. Also examines the impact federal budget deficits have on the U.S. economy.","English",48.8,39.04,"336","240 pp.",{"$f":"Table1[[#This Row],['# of Books]]*Table1[[#This Row],[QTY]]","v":0},{"$f":"Table1[[#This Row],[QTY]]*Table1[[#This Row],[School & Library Price]]","v":0}]
[null,14,null,"Current Issues","Opposing Viewpoints","The Federal Budget","978-0-7377-4770-6","Greenhaven Publishing","Paperback Book",1,2010,null,"Paperback","6.000 X 9.000","Author","Amanda Hiber",null,null,null,null,null,null,"Years 15 - 17",null,"Grade 10 - 12","Explores the effectiveness of the current federal budget process and potential areas for reform, including earmarks, supplemental appropriations, and PAYGO. Offers viewpoints on how best to raise federal revenues as well as how - and on what - they should be spent. Also examines the impact federal budget deficits have on the U.S. economy.","English",33.799999999999898,27.039999999999921,"336","240 pp.",{"$f":"Table1[[#This Row],['# of Books]]*Table1[[#This Row],[QTY]]","v":0},{"$f":"Table1[[#This Row],[QTY]]*Table1[[#This Row],[School & Library Price]]","v":0}]
[null,14,null,"Current Issues","Opposing Viewpoints","The Film Industry","978-0-7377-4364-7","Greenhaven Publishing","Library Bound Book",1,2009,null,"Library Bound","6.000 X 9.000","Author","Roman Espejo",null,null,null,null,null,null,"Years 15 - 17",null,"Grade 10 - 12",null,"English",48.8,39.04,"384","224 pp.",{"$f":"Table1[[#This Row],['# of Books]]*Table1[[#This Row],[QTY]]","v":0},{"$f":"Table1[[#This Row],[QTY]]*Table1[[#This Row],[School & Library Price]]","v":0}]
[null,14,null,"Current Issues","Opposing Viewpoints","The Film Industry","978-0-7377-4363-0","Greenhaven Publishing","Paperback Book",1,2009,null,"Paperback","6.000 X 9.000","Author","Roman Espejo",null,null,null,null,null,null,"Years 15 - 17",null,"Grade 10 - 12",null,"English",33.799999999999898,27.039999999999921,"384","224 pp.",{"$f":"Table1[[#This Row],['# of Books]]*Table1[[#This Row],[QTY]]","v":0},{"$f":"Table1[[#This Row],[QTY]]*Table1[[#This Row],[School & Library Price]]","v":0}]
[null,14,null,"Current Issues","Opposing Viewpoints","The Homeless","978-0-7377-3655-7","Greenhaven Publishing","Paperback Book",1,2007,null,"Paperback","6.000 X 9.000","Author","Louise I. Gerdes",null,null,null,null,null,null,"Years 15 - 17",null,"Grade 10 - 12",null,"English",33.799999999999898,27.039999999999921,"362.5","203 pp.",{"$f":"Table1[[#This Row],['# of Books]]*Table1[[#This Row],[QTY]]","v":0},{"$f":"Table1[[#This Row],[QTY]]*Table1[[#This Row],[School & Library Price]]","v":0}]
[null,14,null,"Current Issues","Opposing Viewpoints","The Impact of the Tech Giants","978-0-7377-7522-8","Greenhaven Publishing","Library Bound Book",1,2016,null,"Library Bound","6.000 X 9.000","Author","Noah Berlatsky",null,null,null,null,null,null,"Years 15 - 17",null,"Grade 10 - 12","For decades, computer and technology companies have been the largest and most successful players in a global market. This title in the Greenhaven Opposing Viewpoints series examines the rise of the tech giants, and their effects worldwide.","English",48.8,39.04,"600","241 pp.",{"$f":"Table1[[#This Row],['# of Books]]*Table1[[#This Row],[QTY]]","v":0},{"$f":"Table1[[#This Row],[QTY]]*Table1[[#This Row],[School & Library Price]]","v":0}]
[null,14,null,"Current Issues","Opposing Viewpoints","The Impact of the Tech Giants","978-0-7377-7523-5","Greenhaven Publishing","Paperback Book",1,2016,null,"Paperback","6.000 X 9.000","Author","Noah Berlatsky",null,null,null,null,null,null,"Years 15 - 17",null,"Grade 10 - 12","For decades, computer and technology companies have been the largest and most successful players in a global market. This title in the Greenhaven Opposing Viewpoints series examines the rise of the tech giants, and their effects worldwide.","English",33.799999999999898,27.039999999999921,"600","241 pp.",{"$f":"Table1[[#This Row],['# of Books]]*Table1[[#This Row],[QTY]]","v":0},{"$f":"Table1[[#This Row],[QTY]]*Table1[[#This Row],[School & Library Price]]","v":0}]
[null,14,null,"Current Issues","Opposing Viewpoints","The Internet","978-0-7377-7554-9","Greenhaven Publishing","Library Bound Book",1,2016,null,"Library Bound","6.000 X 9.000","Author","Jack Lasky",null,null,null,null,null,null,"Years 15 - 17",null,"Grade 10 - 12","This title addresses controversies related to the internet including:  How should the internet be governed? How does the internet impact the world? What challenges does the internet pose? Can the internet be dangerous?","English",48.8,39.04,"303","174 pp.",{"$f":"Table1[[#This Row],['# of Books]]*Table1[[#This Row],[QTY]]","v":0},{"$f":"Table1[[#This Row],[QTY]]*Table1[[#This Row],[School & Library Price]]","v":0}]
[null,14,null,"Current Issues","Opposing Viewpoints","The Internet","978-0-7377-7555-6","Greenhaven Publishing","Paperback Book",1,2016,null,"Paperback","6.000 X 9.000","Author","Jack Lasky",null,null,null,null,null,null,"Years 15 - 17",null,"Grade 10 - 12","This title addresses controversies related to the internet including:  How should the internet be governed? How does the internet impact the world? What challenges does the internet pose? Can the internet be dangerous?","English",33.799999999999898,27.039999999999921,"303","174 pp.",{"$f":"Table1[[#This Row],['# of Books]]*Table1[[#This Row],[QTY]]","v":0},{"$f":"Table1[[#This Row],[QTY]]*Table1[[#This Row],[School & Library Price]]","v":0}]
[null,14,null,"Current Issues","Opposing Viewpoints","The Legalization of Marijuana","978-0-7377-7556-3","Greenhaven Publishing","Library Bound Book",1,2016,null,"Library Bound","6.000 X 9.000","Author","Noël Merino",null,null,null,null,null,null,"Years 15 - 17",null,"Grade 10 - 12","The national debate over the legalization of marijuana is heating up as states begin to legalize its use for medicinal and recreational purposes. The title in the Greenhaven series deepens the discussion on marijuana—should it be legal or not? Does it help or harm users? Should medicinal use only be allowed? Answers to these questions will be debated for years to come.","English",48.8,39.04,"364","240 pp.",{"$f":"Table1[[#This Row],['# of Books]]*Table1[[#This Row],[QTY]]","v":0},{"$f":"Table1[[#This Row],[QTY]]*Table1[[#This Row],[School & Library Price]]","v":0}]
[null,14,null,"Current Issues","Opposing Viewpoints","The Legalization of Marijuana","978-0-7377-7557-0","Greenhaven Publishing","Paperback Book",1,2016,null,"Paperback","6.000 X 9.000","Author","Noël Merino",null,null,null,null,null,null,"Years 15 - 17",null,"Grade 10 - 12","The national debate over the legalization of marijuana is heating up as states begin to legalize its use for medicinal and recreational purposes. The title in the Greenhaven series deepens the discussion on marijuana—should it be legal or not? Does it help or harm users? Should medicinal use only be allowed? Answers to these questions will be debated for years to come.","English",33.799999999999898,27.039999999999921,"364","240 pp.",{"$f":"Table1[[#This Row],['# of Books]]*Table1[[#This Row],[QTY]]","v":0},{"$f":"Table1[[#This Row],[QTY]]*Table1[[#This Row],[School & Library Price]]","v":0}]
[null,14,null,"Current Issues","Opposing Viewpoints","The Middle Class","978-0-7377-4777-5","Greenhaven Publishing","Library Bound Book",1,2010,null,"Library Bound","6.000 X 9.000","Author","David Haugen",null,null,null,null,null,null,"Years 15 - 17",null,"Grade 10 - 12","Explores the current economic state of the middle class in America, the reality of opportunities for upward mobility, and the idea that the middle class is declining. Examines the impact of middle class values on society, addressing the work ethic, debt, consumerism, gentrification, and the tax burden. Also looks at the movement of minorities into and out of the middle class.","English",48.8,39.04,"305","256 pp.",{"$f":"Table1[[#This Row],['# of Books]]*Table1[[#This Row],[QTY]]","v":0},{"$f":"Table1[[#This Row],[QTY]]*Table1[[#This Row],[School & Library Price]]","v":0}]
[null,14,null,"Current Issues","Opposing Viewpoints","The Middle Class","978-0-7377-4778-2","Greenhaven Publishing","Paperback Book",1,2010,null,"Paperback","6.000 X 9.000","Author","David Haugen",null,null,null,null,null,null,"Years 15 - 17",null,"Grade 10 - 12","Explores the current economic state of the middle class in America, the reality of opportunities for upward mobility, and the idea that the middle class is declining. Examines the impact of middle class values on society, addressing the work ethic, debt, consumerism, gentrification, and the tax burden. Also looks at the movement of minorities into and out of the middle class.","English",33.799999999999898,27.039999999999921,"305","256 pp.",{"$f":"Table1[[#This Row],['# of Books]]*Table1[[#This Row],[QTY]]","v":0},{"$f":"Table1[[#This Row],[QTY]]*Table1[[#This Row],[School & Library Price]]","v":0}]
[null,14,null,"Current Issues","Opposing Viewpoints","The Middle East","978-0-7377-4532-0","Greenhaven Publishing","Library Bound Book",1,2009,null,"Library Bound","6.000 X 9.000","Author","David Haugen",null,null,null,null,null,null,"Years 15 - 17",null,"Grade 10 - 12",null,"English",48.8,39.04,"956","264 pp.",{"$f":"Table1[[#This Row],['# of Books]]*Table1[[#This Row],[QTY]]","v":0},{"$f":"Table1[[#This Row],[QTY]]*Table1[[#This Row],[School & Library Price]]","v":0}]
[null,14,null,"Current Issues","Opposing Viewpoints","The Middle East","978-0-7377-4533-7","Greenhaven Publishing","Paperback Book",1,2009,null,"Paperback","6.000 X 9.000","Author","David Haugen",null,null,null,null,null,null,"Years 15 - 17",null,"Grade 10 - 12",null,"English",33.799999999999898,27.039999999999921,"956","264 pp.",{"$f":"Table1[[#This Row],['# of Books]]*Table1[[#This Row],[QTY]]","v":0},{"$f":"Table1[[#This Row],[QTY]]*Table1[[#This Row],[School & Library Price]]","v":0}]
[null,14,null,"Current Issues","Opposing Viewpoints","The Middle East Peace Process","978-0-7377-4976-2","Greenhaven Publishing","Library Bound Book",1,2011,null,"Library Bound","6.000 X 9.000","Author","Susan Hunnicutt",null,null,null,null,null,null,"Years 15 - 17",null,"Grade 10 - 12","Explores the issues contributing to the current crisis in the Middle East and the future of the peace process. Discusses whether or not human rights violations took place in Gaza, including reactions to the Goldstone Report; examines the potential for a two-state solution; and looks at concerns about the possibility of nuclear war in the region.","English",48.8,39.04,"327","192 pp.",{"$f":"Table1[[#This Row],['# of Books]]*Table1[[#This Row],[QTY]]","v":0},{"$f":"Table1[[#This Row],[QTY]]*Table1[[#This Row],[School & Library Price]]","v":0}]
[null,14,null,"Current Issues","Opposing Viewpoints","The Middle East Peace Process","978-0-7377-4977-9","Greenhaven Publishing","Paperback Book",1,2011,null,"Paperback","6.000 X 9.000","Author","Susan Hunnicutt",null,null,null,null,null,null,"Years 15 - 17",null,"Grade 10 - 12","Explores the issues contributing to the current crisis in the Middle East and the future of the peace process. Discusses whether or not human rights violations took place in Gaza, including reactions to the Goldstone Report; examines the potential for a two-state solution; and looks at concerns about the possibility of nuclear war in the region.","English",33.799999999999898,27.039999999999921,"327","192 pp.",{"$f":"Table1[[#This Row],['# of Books]]*Table1[[#This Row],[QTY]]","v":0},{"$f":"Table1[[#This Row],[QTY]]*Table1[[#This Row],[School & Library Price]]","v":0}]
[null,14,null,"Current Issues","Opposing Viewpoints","The Millennial Generation","978-0-7377-6326-3","Greenhaven Publishing","Library Bound Book",1,2013,null,"Library Bound","6.000 X 9.000","Author","David Haugen",null,null,null,null,null,null,"Years 15 - 17",null,"Grade 10 - 12","This title explores what defines the millennial generation, whether the millennial generation is as educated as other generations, what social factors have shaped the millennial generation, and how the millennial generation will shape the future.","English",48.8,39.04,"305","216 pp.",{"$f":"Table1[[#This Row],['# of Books]]*Table1[[#This Row],[QTY]]","v":0},{"$f":"Table1[[#This Row],[QTY]]*Table1[[#This Row],[School & Library Price]]","v":0}]
[null,14,null,"Current Issues","Opposing Viewpoints","The Millennial Generation","978-0-7377-6327-0","Greenhaven Publishing","Paperback Book",1,2013,null,"Paperback","6.000 X 9.000","Author","David Haugen",null,null,null,null,null,null,"Years 15 - 17",null,"Grade 10 - 12","This title explores what defines the millennial generation, whether the millennial generation is as educated as other generations, what social factors have shaped the millennial generation, and how the millennial generation will shape the future.","English",33.799999999999898,27.039999999999921,"305","213 pp.",{"$f":"Table1[[#This Row],['# of Books]]*Table1[[#This Row],[QTY]]","v":0},{"$f":"Table1[[#This Row],[QTY]]*Table1[[#This Row],[School & Library Price]]","v":0}]
[null,14,null,"Current Issues","Opposing Viewpoints","The Minimum Wage","978-0-7377-5741-5","Greenhaven Publishing","Library Bound Book",1,2012,null,"Library Bound","6.000 X 9.000","Author","Noah Berlatsky",null,null,null,null,null,null,"Years 15 - 17",null,"Grade 10 - 12","Articles collected in this edition of the popular OPPOSING VIEWPOINTS series discuss the minimum wage. The title includes a balanced selection of articles that address the impact of the minimum wage on workers, businesses, and the overall economy. Included articles also discuss how the minimum wage impacts immigration in the United States, and a variety issues related to the minimum wage in other countries, including Canada, China and Egypt.","English",48.8,39.04,"344","216 pp.",{"$f":"Table1[[#This Row],['# of Books]]*Table1[[#This Row],[QTY]]","v":0},{"$f":"Table1[[#This Row],[QTY]]*Table1[[#This Row],[School & Library Price]]","v":0}]
[null,14,null,"Current Issues","Opposing Viewpoints","The Minimum Wage","978-0-7377-5742-2","Greenhaven Publishing","Paperback Book",1,2012,null,"Paperback","6.000 X 9.000","Author","Noah Berlatsky",null,null,null,null,null,null,"Years 15 - 17",null,"Grade 10 - 12","Articles collected in this edition of the popular OPPOSING VIEWPOINTS series discuss the minimum wage. The title includes a balanced selection of articles that address the impact of the minimum wage on workers, businesses, and the overall economy. Included articles also discuss how the minimum wage impacts immigration in the United States, and a variety issues related to the minimum wage in other countries, including Canada, China and Egypt.","English",33.799999999999898,27.039999999999921,"344","216 pp.",{"$f":"Table1[[#This Row],['# of Books]]*Table1[[#This Row],[QTY]]","v":0},{"$f":"Table1[[#This Row],[QTY]]*Table1[[#This Row],[School & Library Price]]","v":0}]
[null,14,null,"Current Issues","Opposing Viewpoints","The Music Industry","978-0-7377-5743-9","Greenhaven Publishing","Library Bound Book",1,2012,null,"Library Bound","6.000 X 9.000","Author","Noah Berlatsky",null,null,null,null,null,null,"Years 15 - 17",null,"Grade 10 - 12","This new addition to the OPPOSING VIEWPOINTS series examines a variety of issues related to the music industry, through a collection of balanced articles from a variety of sources. Article topics include the copyright issues facing the music industry, such as the impact of unauthorized sampling and borrowing; the music industry's response to falling compact disk sales; the role played by record labels; and how changes in the industry will affect music and musicians.","English",48.8,39.04,"338","176 pp.",{"$f":"Table1[[#This Row],['# of Books]]*Table1[[#This Row],[QTY]]","v":0},{"$f":"Table1[[#This Row],[QTY]]*Table1[[#This Row],[School & Library Price]]","v":0}]
[null,14,null,"Current Issues","Opposing Viewpoints","The Music Industry","978-0-7377-5744-6","Greenhaven Publishing","Paperback Book",1,2012,null,"Paperback","6.000 X 9.000","Author","Noah Berlatsky",null,null,null,null,null,null,"Years 15 - 17",null,"Grade 10 - 12","This new addition to the OPPOSING VIEWPOINTS series examines a variety of issues related to the music industry, through a collection of balanced articles from a variety of sources. Article topics include the copyright issues facing the music industry, such as the impact of unauthorized sampling and borrowing; the music industry’s response to falling compact disk sales; the role played by record labels; and how changes in the industry will affect music and musicians.","English",33.799999999999898,27.039999999999921,"338","176 pp.",{"$f":"Table1[[#This Row],['# of Books]]*Table1[[#This Row],[QTY]]","v":0},{"$f":"Table1[[#This Row],[QTY]]*Table1[[#This Row],[School & Library Price]]","v":0}]
[null,14,null,"Current Issues","Opposing Viewpoints","The North and South Poles","978-0-7377-4534-4","Greenhaven Publishing","Library Bound Book",1,2009,null,"Library Bound","6.000 X 9.000","Author","Diane Andrews Henningfeld",null,null,null,null,null,null,"Years 15 - 17",null,"Grade 10 - 12",null,"English",48.8,39.04,"998","224 pp.",{"$f":"Table1[[#This Row],['# of Books]]*Table1[[#This Row],[QTY]]","v":0},{"$f":"Table1[[#This Row],[QTY]]*Table1[[#This Row],[School & Library Price]]","v":0}]
[null,14,null,"Current Issues","Opposing Viewpoints","The North and South Poles","978-0-7377-4535-1","Greenhaven Publishing","Paperback Book",1,2009,null,"Paperback","6.000 X 9.000","Author","Diane Andrews Henningfeld",null,null,null,null,null,null,"Years 15 - 17",null,"Grade 10 - 12",null,"English",33.799999999999898,27.039999999999921,"998","224 pp.",{"$f":"Table1[[#This Row],['# of Books]]*Table1[[#This Row],[QTY]]","v":0},{"$f":"Table1[[#This Row],[QTY]]*Table1[[#This Row],[School & Library Price]]","v":0}]
[null,14,null,"Current Issues","Opposing Viewpoints","The Pharmaceutical Industry","978-0-7377-5753-8","Greenhaven Publishing","Library Bound Book",1,2012,null,"Library Bound","6.000 X 9.000","Author","Roman Espejo",null,null,null,null,null,null,"Years 15 - 17",null,"Grade 10 - 12",null,"English",48.8,39.04,"338","192 pp.",{"$f":"Table1[[#This Row],['# of Books]]*Table1[[#This Row],[QTY]]","v":0},{"$f":"Table1[[#This Row],[QTY]]*Table1[[#This Row],[School & Library Price]]","v":0}]
[null,14,null,"Current Issues","Opposing Viewpoints","The Pharmaceutical Industry","978-0-7377-5754-5","Greenhaven Publishing","Paperback Book",1,2012,null,"Paperback","6.000 X 9.000","Author","Roman Espejo",null,null,null,null,null,null,"Years 15 - 17",null,"Grade 10 - 12",null,"English",33.799999999999898,27.039999999999921,"338","192 pp.",{"$f":"Table1[[#This Row],['# of Books]]*Table1[[#This Row],[QTY]]","v":0},{"$f":"Table1[[#This Row],[QTY]]*Table1[[#This Row],[School & Library Price]]","v":0}]
[null,14,null,"Current Issues","Opposing Viewpoints","The Presidential Election Process","978-0-7377-3893-3","Greenhaven Publishing","Paperback Book",1,2008,null,"Paperback","6.000 X 9.000","Author","Tom Lansford",null,null,null,null,null,null,"Years 15 - 17",null,"Grade 10 - 12",null,"English",33.799999999999898,27.039999999999921,"324","216 pp.",{"$f":"Table1[[#This Row],['# of Books]]*Table1[[#This Row],[QTY]]","v":0},{"$f":"Table1[[#This Row],[QTY]]*Table1[[#This Row],[School & Library Price]]","v":0}]
[null,14,null,"Current Issues","Opposing Viewpoints","The Republican Party","978-0-7377-7284-5","Greenhaven Publishing","Library Bound Book",1,2015,null,"Library Bound","6.000 X 9.000","Author","Noah Berlatsky",null,null,null,null,null,null,"Years 15 - 17",null,"Grade 10 - 12","OPPOSING VIEWPOINTS: THE REPUBLICAN PARTY explores the electoral chances of the Republican Party, the relationship between Republicans and voting groups, issues that divide Republicans, and issues surrounding the Tea Party.","English",48.8,39.04,"324","224 pp.",{"$f":"Table1[[#This Row],['# of Books]]*Table1[[#This Row],[QTY]]","v":0},{"$f":"Table1[[#This Row],[QTY]]*Table1[[#This Row],[School & Library Price]]","v":0}]
[null,14,null,"Current Issues","Opposing Viewpoints","The Republican Party","978-0-7377-7285-2","Greenhaven Publishing","Paperback Book",1,2015,null,"Paperback","6.000 X 9.000","Author","Noah Berlatsky",null,null,null,null,null,null,"Years 15 - 17",null,"Grade 10 - 12","OPPOSING VIEWPOINTS: THE REPUBLICAN PARTY explores the electoral chances of the Republican Party, the relationship between Republicans and voting groups, issues that divide Republicans, and issues surrounding the Tea Party.","English",33.799999999999898,27.039999999999921,"324","219 pp.",{"$f":"Table1[[#This Row],['# of Books]]*Table1[[#This Row],[QTY]]","v":0},{"$f":"Table1[[#This Row],[QTY]]*Table1[[#This Row],[School & Library Price]]","v":0}]
[null,14,null,"Current Issues","Opposing Viewpoints","The Taliban","978-0-7377-5239-7","Greenhaven Publishing","Library Bound Book",1,2011,null,"Library Bound","6.000 X 9.000","Author","Noah Berlatsky",null,null,null,null,null,null,"Years 15 - 17",null,"Grade 10 - 12",null,"English",48.8,39.04,"958","232 pp.",{"$f":"Table1[[#This Row],['# of Books]]*Table1[[#This Row],[QTY]]","v":0},{"$f":"Table1[[#This Row],[QTY]]*Table1[[#This Row],[School & Library Price]]","v":0}]
[null,14,null,"Current Issues","Opposing Viewpoints","The Taliban","978-0-7377-5240-3","Greenhaven Publishing","Paperback Book",1,2011,null,"Paperback","6.000 X 9.000","Author","Noah Berlatsky",null,null,null,null,null,null,"Years 15 - 17",null,"Grade 10 - 12",null,"English",33.799999999999898,27.039999999999921,"958","232 pp.",{"$f":"Table1[[#This Row],['# of Books]]*Table1[[#This Row],[QTY]]","v":0},{"$f":"Table1[[#This Row],[QTY]]*Table1[[#This Row],[School & Library Price]]","v":0}]
[null,14,null,"Current Issues","Opposing Viewpoints","The Third World","978-0-7377-2966-5","Greenhaven Publishing","Paperback Book",1,2006,null,"Paperback","6.000 X 9.000","Author","David M. Haugen",null,null,null,null,null,null,"Years 15 - 17",null,"Grade 10 - 12",null,"English",33.799999999999898,27.039999999999921,"909","230 pp.",{"$f":"Table1[[#This Row],['# of Books]]*Table1[[#This Row],[QTY]]","v":0},{"$f":"Table1[[#This Row],[QTY]]*Table1[[#This Row],[School & Library Price]]","v":0}]
[null,14,null,"Current Issues","Opposing Viewpoints","The U.S. Census","978-0-7377-5765-1","Greenhaven Publishing","Library Bound Book",1,2012,null,"Library Bound","6.000 X 9.000","Author","David Haugen",null,null,null,null,null,null,"Years 15 - 17",null,"Grade 10 - 12","This addition to the popular OPPOSING VIEWPOINTS series discusses a variety of issues related to the U.S. census. Articles collected within this title examine the usefulness of the census program, the representative accuracy of U.S. census data, and how the US census could be reformed.","English",48.8,39.04,"304","208 pp.",{"$f":"Table1[[#This Row],['# of Books]]*Table1[[#This Row],[QTY]]","v":0},{"$f":"Table1[[#This Row],[QTY]]*Table1[[#This Row],[School & Library Price]]","v":0}]
[null,14,null,"Current Issues","Opposing Viewpoints","The U.S. Census","978-0-7377-5766-8","Greenhaven Publishing","Paperback Book",1,2012,null,"Paperback","6.000 X 9.000","Author","David Haugen",null,null,null,null,null,null,"Years 15 - 17",null,"Grade 10 - 12","This addition to the popular OPPOSING VIEWPOINTS series discusses a variety of issues related to the U.S. census. Articles collected within this title examine the usefulness of the census program, the representative accuracy of U.S. census data, and how the US census could be reformed.","English",33.799999999999898,27.039999999999921,"304","208 pp.",{"$f":"Table1[[#This Row],['# of Books]]*Table1[[#This Row],[QTY]]","v":0},{"$f":"Table1[[#This Row],[QTY]]*Table1[[#This Row],[School & Library Price]]","v":0}]
[null,14,null,"Current Issues","Opposing Viewpoints","The U.S. Deficit","978-0-7377-6050-7","Greenhaven Publishing","Library Bound Book",1,2013,null,"Library Bound","6.000 X 9.000","Author","Kathy Jennings",null,null,null,null,null,null,"Years 15 - 17",null,"Grade 10 - 12","This title in the Opposing Viewpoints series explores the US deficit by placing expert opinions in a unique pro/con format. The viewpoints are selected from a wide range of highly respected and often hard-to-find sources and publications. By choosing from such diverse sources and including both popular and unpopular views, the Opposing Viewpoints series has adhered to its commitment to editorial objectivity. Readers are exposed to many sides of a debate, which promotes issue awareness as well as critical thinking.","English",48.8,39.04,"339.5","264 pp.",{"$f":"Table1[[#This Row],['# of Books]]*Table1[[#This Row],[QTY]]","v":0},{"$f":"Table1[[#This Row],[QTY]]*Table1[[#This Row],[School & Library Price]]","v":0}]
[null,14,null,"Current Issues","Opposing Viewpoints","The U.S. Deficit","978-0-7377-6051-4","Greenhaven Publishing","Paperback Book",1,2013,null,"Paperback","6.000 X 9.000","Author","Kathy Jennings",null,null,null,null,null,null,"Years 15 - 17",null,"Grade 10 - 12","This title in the Opposing Viewpoints series explores the US deficit by placing expert opinions in a unique pro/con format. The viewpoints are selected from a wide range of highly respected and often hard-to-find sources and publications. By choosing from such diverse sources and including both popular and unpopular views, the Opposing Viewpoints series has adhered to its commitment to editorial objectivity. Readers are exposed to many sides of a debate, which promotes issue awareness as well as critical thinking.","English",33.799999999999898,27.039999999999921,"339.5","264 pp.",{"$f":"Table1[[#This Row],['# of Books]]*Table1[[#This Row],[QTY]]","v":0},{"$f":"Table1[[#This Row],[QTY]]*Table1[[#This Row],[School & Library Price]]","v":0}]
[null,14,null,"Current Issues","Opposing Viewpoints","The U.S. Intelligence Community","978-0-7377-5245-8","Greenhaven Publishing","Library Bound Book",1,2011,null,"Library Bound","6.000 X 9.000","Author","Noah Berlatsky",null,null,null,null,null,null,"Years 15 - 17",null,"Grade 10 - 12",null,"English",48.8,39.04,"327","208 pp.",{"$f":"Table1[[#This Row],['# of Books]]*Table1[[#This Row],[QTY]]","v":0},{"$f":"Table1[[#This Row],[QTY]]*Table1[[#This Row],[School & Library Price]]","v":0}]
[null,14,null,"Current Issues","Opposing Viewpoints","The U.S. Intelligence Community","978-0-7377-5246-5","Greenhaven Publishing","Paperback Book",1,2011,null,"Paperback","6.000 X 9.000","Author","Noah Berlatsky",null,null,null,null,null,null,"Years 15 - 17",null,"Grade 10 - 12",null,"English",33.799999999999898,27.039999999999921,"327","206 pp.",{"$f":"Table1[[#This Row],['# of Books]]*Table1[[#This Row],[QTY]]","v":0},{"$f":"Table1[[#This Row],[QTY]]*Table1[[#This Row],[School & Library Price]]","v":0}]
[null,14,null,"Current Issues","Opposing Viewpoints","The U.S. Latino Community","978-0-7377-5228-1","Greenhaven Publishing","Paperback Book",1,2011,null,"Paperback","6.000 X 9.000","Author","Margaret Haerens",null,null,null,null,null,null,"Years 15 - 17",null,"Grade 10 - 12",null,"English",33.799999999999898,27.039999999999921,"305","184 pp.",{"$f":"Table1[[#This Row],['# of Books]]*Table1[[#This Row],[QTY]]","v":0},{"$f":"Table1[[#This Row],[QTY]]*Table1[[#This Row],[School & Library Price]]","v":0}]
[null,14,null,"Current Issues","Opposing Viewpoints","The U.S. Supreme Court","978-0-7377-4544-3","Greenhaven Publishing","Library Bound Book",1,2010,null,"Library Bound","6.000 X 9.000","Author","Margaret Haerens",null,null,null,null,null,null,"Years 15 - 17",null,"Grade 10 - 12",null,"English",48.8,39.04,"347","240 pp.",{"$f":"Table1[[#This Row],['# of Books]]*Table1[[#This Row],[QTY]]","v":0},{"$f":"Table1[[#This Row],[QTY]]*Table1[[#This Row],[School & Library Price]]","v":0}]
[null,14,null,"Current Issues","Opposing Viewpoints","The U.S. Supreme Court","978-0-7377-4545-0","Greenhaven Publishing","Paperback Book",1,2010,null,"Paperback","6.000 X 9.000","Author","Margaret Haerens",null,null,null,null,null,null,"Years 15 - 17",null,"Grade 10 - 12",null,"English",33.799999999999898,27.039999999999921,"347","240 pp.",{"$f":"Table1[[#This Row],['# of Books]]*Table1[[#This Row],[QTY]]","v":0},{"$f":"Table1[[#This Row],[QTY]]*Table1[[#This Row],[School & Library Price]]","v":0}]
[null,14,null,"Current Issues","Opposing Viewpoints","The United Nations","978-0-7377-4841-3","Greenhaven Publishing","Library Bound Book",1,2011,null,"Library Bound","6.000 X 9.000","Author","Laura Egendorf",null,null,null,null,null,null,"Years 15 - 17",null,"Grade 10 - 12",null,"English",48.8,39.04,"341","216 pp.",{"$f":"Table1[[#This Row],['# of Books]]*Table1[[#This Row],[QTY]]","v":0},{"$f":"Table1[[#This Row],[QTY]]*Table1[[#This Row],[School & Library Price]]","v":0}]
[null,14,null,"Current Issues","Opposing Viewpoints","The United Nations","978-0-7377-4842-0","Greenhaven Publishing","Paperback Book",1,2011,null,"Paperback","6.000 X 9.000","Author","Laura Egendorf",null,null,null,null,null,null,"Years 15 - 17",null,"Grade 10 - 12",null,"English",33.799999999999898,27.039999999999921,"341","216 pp.",{"$f":"Table1[[#This Row],['# of Books]]*Table1[[#This Row],[QTY]]","v":0},{"$f":"Table1[[#This Row],[QTY]]*Table1[[#This Row],[School & Library Price]]","v":0}]
[null,14,null,"Current Issues","Opposing Viewpoints","The Us Libertarian Movement","978-0-7377-7534-1","Greenhaven Publishing","Library Bound Book",1,2016,null,"Library Bound","6.000 X 9.000","Author","Michael Ruth",null,null,null,null,null,null,"Years 15 - 17",null,"Grade 10 - 12","This title addresses controversies related to The US Libertarian Movement including:  What is Libertarian's place in contemporary America? What are the economics of American Libertarian's? What is the Libertarian stance on social issues? How do Libertarians view other American issues?","English",48.8,39.04,"320","202 pp.",{"$f":"Table1[[#This Row],['# of Books]]*Table1[[#This Row],[QTY]]","v":0},{"$f":"Table1[[#This Row],[QTY]]*Table1[[#This Row],[School & Library Price]]","v":0}]
[null,14,null,"Current Issues","Opposing Viewpoints","The Us Libertarian Movement","978-0-7377-7535-8","Greenhaven Publishing","Paperback Book",1,2016,null,"Paperback","6.000 X 9.000","Author","Michael Ruth",null,null,null,null,null,null,"Years 15 - 17",null,"Grade 10 - 12","This title addresses controversies related to The US Libertarian Movement including:  What is Libertarian's place in contemporary America? What are the economics of American Libertarian's? What is the Libertarian stance on social issues? How do Libertarians view other American issues?","English",33.799999999999898,27.039999999999921,"320","202 pp.",{"$f":"Table1[[#This Row],['# of Books]]*Table1[[#This Row],[QTY]]","v":0},{"$f":"Table1[[#This Row],[QTY]]*Table1[[#This Row],[School & Library Price]]","v":0}]
[null,14,null,"Current Issues","Opposing Viewpoints","The US Military","978-0-7377-7566-2","Greenhaven Publishing","Library Bound Book",1,2016,null,"Library Bound","6.000 X 9.000","Author","Noah Berlatsky",null,null,null,null,null,null,"Years 15 - 17",null,"Grade 10 - 12","This title addresses controversies related to the US military including: Should the US military budget be reduced? In what conflicts should the United States intervene? What are US military personnel issues? How is the United States caring for its veterans?","English",48.8,39.04,"355","210 pp.",{"$f":"Table1[[#This Row],['# of Books]]*Table1[[#This Row],[QTY]]","v":0},{"$f":"Table1[[#This Row],[QTY]]*Table1[[#This Row],[School & Library Price]]","v":0}]
[null,14,null,"Current Issues","Opposing Viewpoints","The US Military","978-0-7377-7567-9","Greenhaven Publishing","Paperback Book",1,2016,null,"Paperback","6.000 X 9.000","Author","Noah Berlatsky",null,null,null,null,null,null,"Years 15 - 17",null,"Grade 10 - 12","This title addresses controversies related to the US military including: Should the US military budget be reduced? In what conflicts should the United States intervene? What are US military personnel issues? How is the United States caring for its veterans?","English",33.799999999999898,27.039999999999921,"355","210 pp.",{"$f":"Table1[[#This Row],['# of Books]]*Table1[[#This Row],[QTY]]","v":0},{"$f":"Table1[[#This Row],[QTY]]*Table1[[#This Row],[School & Library Price]]","v":0}]
[null,15,null,"Current Issues","Opposing Viewpoints","The World Trade Organization","978-0-7377-4785-0","Greenhaven Publishing","Library Bound Book",1,2010,null,"Library Bound","6.000 X 9.000","Author","Margaret Haerens",null,null,null,null,null,null,"Years 15 - 17",null,"Grade 10 - 12","Explores the mission of the World Trade Organization (WTO) and its role in the global economy, the promotion of human rights, the establishment of food safety and security, and the environment. Examines the relationship of the United States to the WTO, and looks at the importance of the WTO to U.S. interests.","English",48.8,39.04,"382","248 pp.",{"$f":"Table1[[#This Row],['# of Books]]*Table1[[#This Row],[QTY]]","v":0},{"$f":"Table1[[#This Row],[QTY]]*Table1[[#This Row],[School & Library Price]]","v":0}]
[null,15,null,"Current Issues","Opposing Viewpoints","The World Trade Organization","978-0-7377-4786-7","Greenhaven Publishing","Paperback Book",1,2010,null,"Paperback","6.000 X 9.000","Author","Margaret Haerens",null,null,null,null,null,null,"Years 15 - 17",null,"Grade 10 - 12","Explores the mission of the World Trade Organization (WTO) and its role in the global economy, the promotion of human rights, the establishment of food safety and security, and the environment. Examines the relationship of the United States to the WTO, and looks at the importance of the WTO to U.S. interests.","English",33.799999999999898,27.039999999999921,"382","248 pp.",{"$f":"Table1[[#This Row],['# of Books]]*Table1[[#This Row],[QTY]]","v":0},{"$f":"Table1[[#This Row],[QTY]]*Table1[[#This Row],[School & Library Price]]","v":0}]
[null,15,null,"Current Issues","Opposing Viewpoints","Tibet","978-0-7377-6666-0","Greenhaven Publishing","Library Bound Book",1,2014,null,"Library Bound","6.000 X 9.000","Author","Clare Hanrahan",null,null,null,null,null,null,"Years 15 - 17",null,"Grade 10 - 12","This addition to the popular OPPOSING VIEWPOINTS series discusses the current issues surrounding the country of Tibet. Through the use of carefully selected articles, this text explores how Tibet should be governed, the impact of Chinese rule in Tibet, if and/or how the United States should engage Tibet, and what is the best way to encourage political change. These issues can only be addressed after thoughtful examination. The viewpoints are selected from a wide range of highly respected and often hard-to-find sources and publications. By choosing from such diverse sources and including both popular and unpopular views, the OPPOSING VIEWPOINTS editorial team has adhered to its commitment to editorial objectivity. Readers are exposed to many sides of a debate, which promotes issue awareness as well as critical thinking.","English",48.8,39.04,"951","232 pp.",{"$f":"Table1[[#This Row],['# of Books]]*Table1[[#This Row],[QTY]]","v":0},{"$f":"Table1[[#This Row],[QTY]]*Table1[[#This Row],[School & Library Price]]","v":0}]
[null,15,null,"Current Issues","Opposing Viewpoints","Tibet","978-0-7377-7363-7","Greenhaven Publishing","Paperback Book",1,2014,null,"Paperback","6.000 X 9.000","Author","Margaret Haerens",null,null,null,null,null,null,"Years 15 - 17",null,"Grade 10 - 12","This addition to the popular Opposing Viewpoints series discusses the current issues surrounding the country of Tibet. Through the use of carefully selected articles, this text explores how Tibet should be governed, the impact of Chinese rule in Tibet, if and/or how the United States should engage Tibet, and what is the best way to encourage political change. These issues can only be addressed after thoughtful examination.","English",33.799999999999898,27.039999999999921,"951","220 pp.",{"$f":"Table1[[#This Row],['# of Books]]*Table1[[#This Row],[QTY]]","v":0},{"$f":"Table1[[#This Row],[QTY]]*Table1[[#This Row],[School & Library Price]]","v":0}]
[null,15,null,"Current Issues","Opposing Viewpoints","Tobacco and Smoking","978-0-7377-7294-4","Greenhaven Publishing","Library Bound Book",1,2015,null,"Library Bound","6.000 X 9.000","Author","Roman Espejo",null,null,null,null,null,null,"Years 15 - 17",null,"Grade 10 - 12","This edition in the OPPOSING VIEWPOINTS SERIES explores the questions of whether or not smoking is a serious problem, how tobacco use can be reduced, how smoking alternatives should be regulated, and how the media affects the choice to smoke or not to smoke.","English",48.8,39.04,"362","242 pp.",{"$f":"Table1[[#This Row],['# of Books]]*Table1[[#This Row],[QTY]]","v":0},{"$f":"Table1[[#This Row],[QTY]]*Table1[[#This Row],[School & Library Price]]","v":0}]
[null,15,null,"Current Issues","Opposing Viewpoints","Tobacco and Smoking","978-0-7377-7295-1","Greenhaven Publishing","Paperback Book",1,2015,null,"Paperback","6.000 X 9.000","Author","Roman Espejo",null,null,null,null,null,null,"Years 15 - 17",null,"Grade 10 - 12","This edition in the OPPOSING VIEWPOINTS SERIES explores the questions of whether or not smoking is a serious problem, how tobacco use can be reduced, how smoking alternatives should be regulated, and how the media affects the choice to smoke or not to smoke.","English",33.799999999999898,27.039999999999921,"362","242 pp.",{"$f":"Table1[[#This Row],['# of Books]]*Table1[[#This Row],[QTY]]","v":0},{"$f":"Table1[[#This Row],[QTY]]*Table1[[#This Row],[School & Library Price]]","v":0}]
[null,15,null,"Current Issues","Opposing Viewpoints","Transportation","978-0-7377-3830-8","Greenhaven Publishing","Library Bound Book",1,2008,null,"Library Bound","6.000 X 9.000","Author","Louise Gerdes",null,null,null,null,null,null,"Years 15 - 17",null,"Grade 10 - 12",null,"English",48.8,39.04,"388","224 pp.",{"$f":"Table1[[#This Row],['# of Books]]*Table1[[#This Row],[QTY]]","v":0},{"$f":"Table1[[#This Row],[QTY]]*Table1[[#This Row],[School & Library Price]]","v":0}]
[null,15,null,"Current Issues","Opposing Viewpoints","Transportation","978-0-7377-3831-5","Greenhaven Publishing","Paperback Book",1,2008,null,"Paperback","6.000 X 9.000","Author","Louise I. Gerdes",null,null,null,null,null,null,"Years 15 - 17",null,"Grade 10 - 12",null,"English",33.799999999999898,27.039999999999921,"388","224 pp.",{"$f":"Table1[[#This Row],['# of Books]]*Table1[[#This Row],[QTY]]","v":0},{"$f":"Table1[[#This Row],[QTY]]*Table1[[#This Row],[School & Library Price]]","v":0}]
[null,15,null,"Current Issues","Opposing Viewpoints","Ukraine","978-0-7377-7564-8","Greenhaven Publishing","Library Bound Book",1,2016,null,"Library Bound","6.000 X 9.000","Author","Michael Ruth",null,null,null,null,null,null,"Years 15 - 17",null,"Grade 10 - 12","This title in the Opposing Viewpoints series explores the complex issues in Ukraine, including how the US should manage the conflict in Ukraine, if Western intervention is warranted, Russia's role in Ukraine, and how Ukraine should craft its future.","English",48.8,39.04,"947","204 pp.",{"$f":"Table1[[#This Row],['# of Books]]*Table1[[#This Row],[QTY]]","v":0},{"$f":"Table1[[#This Row],[QTY]]*Table1[[#This Row],[School & Library Price]]","v":0}]
[null,15,null,"Current Issues","Opposing Viewpoints","Ukraine","978-0-7377-7565-5","Greenhaven Publishing","Paperback Book",1,2016,null,"Paperback","6.000 X 9.000","Author","Michael Ruth",null,null,null,null,null,null,"Years 15 - 17",null,"Grade 10 - 12","This title in the Opposing Viewpoints series explores the complex issues in Ukraine, including how the US should manage the conflict in Ukraine, if Western intervention is warranted, Russia's role in Ukraine, and how Ukraine should craft its future.","English",33.799999999999898,27.039999999999921,"947","204 pp.",{"$f":"Table1[[#This Row],['# of Books]]*Table1[[#This Row],[QTY]]","v":0},{"$f":"Table1[[#This Row],[QTY]]*Table1[[#This Row],[School & Library Price]]","v":0}]
[null,15,null,"Current Issues","Opposing Viewpoints","Understanding and Engaging Humanity","978-0-7377-4811-6","Greenhaven Publishing","Paperback Book",1,2010,null,"Paperback","6.000 X 9.000","Author","Brad McAdon",null,null,null,null,null,null,"Years 15 - 17",null,"Grade 10 - 12",null,"English",33.799999999999898,27.039999999999921,"300","289 pp.",{"$f":"Table1[[#This Row],['# of Books]]*Table1[[#This Row],[QTY]]","v":0},{"$f":"Table1[[#This Row],[QTY]]*Table1[[#This Row],[School & Library Price]]","v":0}]
[null,15,null,"Current Issues","Opposing Viewpoints","Unemployment","978-0-7377-5247-2","Greenhaven Publishing","Library Bound Book",1,2011,null,"Library Bound","6.000 X 9.000","Author","David Haugen",null,null,null,null,null,null,"Years 15 - 17",null,"Grade 10 - 12",null,"English",48.8,39.04,"331","208 pp.",{"$f":"Table1[[#This Row],['# of Books]]*Table1[[#This Row],[QTY]]","v":0},{"$f":"Table1[[#This Row],[QTY]]*Table1[[#This Row],[School & Library Price]]","v":0}]
[null,15,null,"Current Issues","Opposing Viewpoints","Unemployment","978-0-7377-5248-9","Greenhaven Publishing","Paperback Book",1,2011,null,"Paperback","6.000 X 9.000","Author","David Haugen",null,null,null,null,null,null,"Years 15 - 17",null,"Grade 10 - 12",null,"English",33.799999999999898,27.039999999999921,"331","208 pp.",{"$f":"Table1[[#This Row],['# of Books]]*Table1[[#This Row],[QTY]]","v":0},{"$f":"Table1[[#This Row],[QTY]]*Table1[[#This Row],[School & Library Price]]","v":0}]
[null,15,null,"Current Issues","Opposing Viewpoints","Universal Health Care","978-0-7377-4648-8","Greenhaven Publishing","Library Bound Book",1,2010,null,"Library Bound","6.000 X 9.000","Author","Susan Hunnicutt",null,null,null,null,null,null,"Years 15 - 17",null,"Grade 10 - 12","Explores whether or not the U.S. health care system is failing, and the potential impacts of trying to make changes. Offers differing views on health care access as a moral issue. Looks at the relative success of universal health care in other countries, as well as possible steps toward achieving universal health care in America.","English",48.8,39.04,"368.4","240 pp.",{"$f":"Table1[[#This Row],['# of Books]]*Table1[[#This Row],[QTY]]","v":0},{"$f":"Table1[[#This Row],[QTY]]*Table1[[#This Row],[School & Library Price]]","v":0}]
[null,15,null,"Current Issues","Opposing Viewpoints","Universal Health Care","978-0-7377-4649-5","Greenhaven Publishing","Paperback Book",1,2010,null,"Paperback","6.000 X 9.000","Author","Susan Hunnicutt",null,null,null,null,null,null,"Years 15 - 17",null,"Grade 10 - 12","Explores whether or not the U.S. health care system is failing, and the potential impacts of trying to make changes. Offers differing views on health care access as a moral issue. Looks at the relative success of universal health care in other countries, as well as possible steps toward achieving universal health care in America.","English",33.799999999999898,27.039999999999921,"362","240 pp.",{"$f":"Table1[[#This Row],['# of Books]]*Table1[[#This Row],[QTY]]","v":0},{"$f":"Table1[[#This Row],[QTY]]*Table1[[#This Row],[School & Library Price]]","v":0}]
[null,15,null,"Current Issues","Opposing Viewpoints","Urban Agriculture","978-0-7377-5446-9","Greenhaven Publishing","Library Bound Book",1,2012,null,"Library Bound","6.000 X 9.000","Author","Nancy Dziedzic",null,null,null,null,null,null,"Years 15 - 17",null,"Grade 10 - 12","This new edition in the OPPOSING VIEWPOINTS series includes a variety of articles on urban agriculture. Articles included in this text discuss urban agriculture as a viable solution to food insecurities; the economic sustainability of urban agriculture; the impact of urban agriculture on specific groups, such as women in developing countries; and the future of urban farming.","English",48.8,39.04,"630","248 pp.",{"$f":"Table1[[#This Row],['# of Books]]*Table1[[#This Row],[QTY]]","v":0},{"$f":"Table1[[#This Row],[QTY]]*Table1[[#This Row],[School & Library Price]]","v":0}]
[null,15,null,"Current Issues","Opposing Viewpoints","Urban Agriculture","978-0-7377-5447-6","Greenhaven Publishing","Paperback Book",1,2012,null,"Paperback","6.000 X 9.000","Author","Nancy Dziedzic",null,null,null,null,null,null,"Years 15 - 17",null,"Grade 10 - 12","This new edition in the OPPOSING VIEWPOINTS series includes a variety of articles on urban agriculture. Articles included in this text discuss urban agriculture as a viable solution to food insecurities; the economic sustainability of urban agriculture; the impact of urban agriculture on specific groups, such as women in developing countries; and the future of urban farming.","English",33.799999999999898,27.039999999999921,"630","248 pp.",{"$f":"Table1[[#This Row],['# of Books]]*Table1[[#This Row],[QTY]]","v":0},{"$f":"Table1[[#This Row],[QTY]]*Table1[[#This Row],[School & Library Price]]","v":0}]
[null,15,null,"Current Issues","Opposing Viewpoints","Urban America","978-0-7377-5249-6","Greenhaven Publishing","Library Bound Book",1,2011,null,"Library Bound","6.000 X 9.000","Author","Roman Espejo",null,null,null,null,null,null,"Years 15 - 17",null,"Grade 10 - 12",null,"English",48.8,39.04,"307","208 pp.",{"$f":"Table1[[#This Row],['# of Books]]*Table1[[#This Row],[QTY]]","v":0},{"$f":"Table1[[#This Row],[QTY]]*Table1[[#This Row],[School & Library Price]]","v":0}]
[null,15,null,"Current Issues","Opposing Viewpoints","Urban America","978-0-7377-5250-2","Greenhaven Publishing","Paperback Book",1,2011,null,"Paperback","6.000 X 9.000","Author","Roman Espejo",null,null,null,null,null,null,"Years 15 - 17",null,"Grade 10 - 12",null,"English",33.799999999999898,27.039999999999921,"307","208 pp.",{"$f":"Table1[[#This Row],['# of Books]]*Table1[[#This Row],[QTY]]","v":0},{"$f":"Table1[[#This Row],[QTY]]*Table1[[#This Row],[School & Library Price]]","v":0}]
[null,15,null,"Current Issues","Opposing Viewpoints","US Airport Security","978-0-7377-6040-8","Greenhaven Publishing","Library Bound Book",1,2013,null,"Library Bound","6.000 X 9.000","Author","Margaret Haerens",null,null,null,null,null,null,"Years 15 - 17",null,"Grade 10 - 12","This title in the Opposing Viewpoints discusses airport security in the United States, including topics such as passenger screening, profiling, and privatization. The viewpoints are selected from a wide range of highly respected and often hard-to-find sources and publications. By choosing from such diverse sources and including both popular and unpopular views, the Opposing Viewpoints series has adhered to its commitment to editorial objectivity. Readers are exposed to many sides of a debate, which promotes issue awareness as well as critical thinking.","English",48.8,39.04,"363.28","232 pp.",{"$f":"Table1[[#This Row],['# of Books]]*Table1[[#This Row],[QTY]]","v":0},{"$f":"Table1[[#This Row],[QTY]]*Table1[[#This Row],[School & Library Price]]","v":0}]
[null,15,null,"Current Issues","Opposing Viewpoints","US Airport Security","978-0-7377-6041-5","Greenhaven Publishing","Paperback Book",1,2013,null,"Paperback","6.000 X 9.000","Author","Margaret Haerens",null,null,null,null,null,null,"Years 15 - 17",null,"Grade 10 - 12","This title in the Opposing Viewpoints discusses airport security in the United States, including topics such as passenger screening, profiling, and privatization. The viewpoints are selected from a wide range of highly respected and often hard-to-find sources and publications. By choosing from such diverse sources and including both popular and unpopular views, the Opposing Viewpoints series has adhered to its commitment to editorial objectivity. Readers are exposed to many sides of a debate, which promotes issue awareness as well as critical thinking.","English",33.799999999999898,27.039999999999921,"363.28","232 pp.",{"$f":"Table1[[#This Row],['# of Books]]*Table1[[#This Row],[QTY]]","v":0},{"$f":"Table1[[#This Row],[QTY]]*Table1[[#This Row],[School & Library Price]]","v":0}]
[null,15,null,"Current Issues","Opposing Viewpoints","US Foreign Policy","978-0-7377-7296-8","Greenhaven Publishing","Library Bound Book",1,2015,null,"Library Bound","6.000 X 9.000","Author","Noël Merino",null,null,null,null,null,null,"Years 15 - 17",null,"Grade 10 - 12","This volume in the OPPOSING VIEWPOINTS SERIES examines some of the criticisms of current US foreign policies, if foreign military interventions and US economic policies abroad are good for the United States, and what considerations should guide the future of US foreign policy.","English",48.8,39.04,"327","224 pp.",{"$f":"Table1[[#This Row],['# of Books]]*Table1[[#This Row],[QTY]]","v":0},{"$f":"Table1[[#This Row],[QTY]]*Table1[[#This Row],[School & Library Price]]","v":0}]
[null,15,null,"Current Issues","Opposing Viewpoints","US Foreign Policy","978-0-7377-7297-5","Greenhaven Publishing","Paperback Book",1,2015,null,"Paperback","6.000 X 9.000","Author","Noël Merino",null,null,null,null,null,null,"Years 15 - 17",null,"Grade 10 - 12","This volume in the OPPOSING VIEWPOINTS SERIES examines some of the criticisms of current US foreign policies, if foreign military interventions and US economic policies abroad are good for the United States, and what considerations should guide the future of US foreign policy.","English",33.799999999999898,27.039999999999921,"327","230 pp.",{"$f":"Table1[[#This Row],['# of Books]]*Table1[[#This Row],[QTY]]","v":0},{"$f":"Table1[[#This Row],[QTY]]*Table1[[#This Row],[School & Library Price]]","v":0}]
[null,15,null,"Current Issues","Opposing Viewpoints","Veterans","978-0-7377-7298-2","Greenhaven Publishing","Library Bound Book",1,2015,null,"Library Bound","6.000 X 9.000","Author","Dedria Bryfonski",null,null,null,null,null,null,"Years 15 - 17",null,"Grade 10 - 12","OPPOSING VIEWPOINTS: VETERANS explores issues relating to those who have served in the military. It covers homelessness, Post Traumatic Stress Disorder, disabilities, unemployment, female veterans, and government assistance.","English",48.8,39.04,"362","240 pp.",{"$f":"Table1[[#This Row],['# of Books]]*Table1[[#This Row],[QTY]]","v":0},{"$f":"Table1[[#This Row],[QTY]]*Table1[[#This Row],[School & Library Price]]","v":0}]
[null,15,null,"Current Issues","Opposing Viewpoints","Veterans","978-0-7377-7299-9","Greenhaven Publishing","Paperback Book",1,2015,null,"Paperback","6.000 X 9.000","Author","Dedria Bryfonski",null,null,null,null,null,null,"Years 15 - 17",null,"Grade 10 - 12","OPPOSING VIEWPOINTS: VETERANS explores issues relating to those who have served in the military. It covers homelessness, Post Traumatic Stress Disorder, disabilities, unemployment, female veterans, and government assistance.","English",33.799999999999898,27.039999999999921,"362","240 pp.",{"$f":"Table1[[#This Row],['# of Books]]*Table1[[#This Row],[QTY]]","v":0},{"$f":"Table1[[#This Row],[QTY]]*Table1[[#This Row],[School & Library Price]]","v":0}]
[null,15,null,"Current Issues","Opposing Viewpoints","Violence","978-0-7377-3364-8","Greenhaven Publishing","Library Bound Book",1,2008,null,"Library Bound","6.000 X 9.000","Author","Louise I. Gerdes",null,null,null,null,null,null,"Years 15 - 17",null,"Grade 10 - 12",null,"English",48.8,39.04,"303","240 pp.",{"$f":"Table1[[#This Row],['# of Books]]*Table1[[#This Row],[QTY]]","v":0},{"$f":"Table1[[#This Row],[QTY]]*Table1[[#This Row],[School & Library Price]]","v":0}]
[null,15,null,"Current Issues","Opposing Viewpoints","Violence","978-0-7377-3365-5","Greenhaven Publishing","Paperback Book",1,2008,null,"Paperback","6.000 X 9.000","Author","Louise I. Gerdes",null,null,null,null,null,null,"Years 15 - 17",null,"Grade 10 - 12",null,"English",33.799999999999898,27.039999999999921,"303","234 pp.",{"$f":"Table1[[#This Row],['# of Books]]*Table1[[#This Row],[QTY]]","v":0},{"$f":"Table1[[#This Row],[QTY]]*Table1[[#This Row],[School & Library Price]]","v":0}]
[null,15,null,"Current Issues","Opposing Viewpoints","Voting Rights","978-0-7377-7300-2","Greenhaven Publishing","Library Bound Book",1,2015,null,"Library Bound","6.000 X 9.000","Author","Noah Berlatsky",null,null,null,null,null,null,"Years 15 - 17",null,"Grade 10 - 12","This volume of OPPOSING VIEWPOINTS delves into the issues surrounding voting rights such as whether or not voting rights protections are still necessary, if states are restricting voting rights, if voting rights apply to particular groups, and if changing voting procedures can promote equality.","English",48.8,39.04,"324","242 pp.",{"$f":"Table1[[#This Row],['# of Books]]*Table1[[#This Row],[QTY]]","v":0},{"$f":"Table1[[#This Row],[QTY]]*Table1[[#This Row],[School & Library Price]]","v":0}]
[null,15,null,"Current Issues","Opposing Viewpoints","Voting Rights","978-0-7377-7301-9","Greenhaven Publishing","Paperback Book",1,2015,null,"Paperback","6.000 X 9.000","Author","Noah Berlatsky",null,null,null,null,null,null,"Years 15 - 17",null,"Grade 10 - 12","This volume of OPPOSING VIEWPOINTS delves into the issues surrounding voting rights such as whether or not voting rights protections are still necessary, if states are restricting voting rights, if voting rights apply to particular groups, and if changing voting procedures can promote equality.","English",33.799999999999898,27.039999999999921,"324","242 pp.",{"$f":"Table1[[#This Row],['# of Books]]*Table1[[#This Row],[QTY]]","v":0},{"$f":"Table1[[#This Row],[QTY]]*Table1[[#This Row],[School & Library Price]]","v":0}]
[null,15,null,"Current Issues","Opposing Viewpoints","War","978-0-7377-6971-5","Greenhaven Publishing","Library Bound Book",1,2014,null,"Library Bound","6.000 X 9.000","Author","David M. Haugen",null,null,null,null,null,null,"Years 15 - 17",null,"Grade 10 - 12","This title examines whether warfare can be justified, the likely causes of future wars, how the United States is faring in the War on Terror, and the principles that should guide US conduct during war. The viewpoints are selected from a wide range of highly respected and often hard-to-find sources and publications. By choosing from such diverse sources and including both popular and unpopular views, the OPPOSING VIEWPOINTS editorial team has adhered to its commitment to editorial objectivity. Readers are exposed to many sides of a debate, which promotes issue awareness as well as critical thinking.","English",48.8,39.04,"355.02","264 pp.",{"$f":"Table1[[#This Row],['# of Books]]*Table1[[#This Row],[QTY]]","v":0},{"$f":"Table1[[#This Row],[QTY]]*Table1[[#This Row],[School & Library Price]]","v":0}]
[null,15,null,"Current Issues","Opposing Viewpoints","War","978-0-7377-6972-2","Greenhaven Publishing","Paperback Book",1,2014,null,"Paperback","6.000 X 9.000","Author","David M. Haugen",null,null,null,null,null,null,"Years 15 - 17",null,"Grade 10 - 12","This title examines whether warfare can be justified, the likely causes of future wars, how the United States is faring in the War on Terror, and the principles that should guide US conduct during war. The viewpoints are selected from a wide range of highly respected and often hard-to-find sources and publications. By choosing from such diverse sources and including both popular and unpopular views, the OPPOSING VIEWPOINTS editorial team has adhered to its commitment to editorial objectivity. Readers are exposed to many sides of a debate, which promotes issue awareness as well as critical thinking.","English",33.799999999999898,27.039999999999921,"355.02","261 pp.",{"$f":"Table1[[#This Row],['# of Books]]*Table1[[#This Row],[QTY]]","v":0},{"$f":"Table1[[#This Row],[QTY]]*Table1[[#This Row],[School & Library Price]]","v":0}]
[null,15,null,"Current Issues","Opposing Viewpoints","War Crimes","978-0-7377-4996-0","Greenhaven Publishing","Library Bound Book",1,2011,null,"Library Bound","6.000 X 9.000","Author","Margaret Haerens",null,null,null,null,null,null,"Years 15 - 17",null,"Grade 10 - 12",null,"English",48.8,39.04,"341","216 pp.",{"$f":"Table1[[#This Row],['# of Books]]*Table1[[#This Row],[QTY]]","v":0},{"$f":"Table1[[#This Row],[QTY]]*Table1[[#This Row],[School & Library Price]]","v":0}]
[null,15,null,"Current Issues","Opposing Viewpoints","War Crimes","978-0-7377-4997-7","Greenhaven Publishing","Paperback Book",1,2011,null,"Paperback","6.000 X 9.000","Author","Margaret Haerens",null,null,null,null,null,null,"Years 15 - 17",null,"Grade 10 - 12",null,"English",33.799999999999898,27.039999999999921,"341","216 pp.",{"$f":"Table1[[#This Row],['# of Books]]*Table1[[#This Row],[QTY]]","v":0},{"$f":"Table1[[#This Row],[QTY]]*Table1[[#This Row],[School & Library Price]]","v":0}]
[null,15,null,"Current Issues","Opposing Viewpoints","Water","978-0-7377-4546-7","Greenhaven Publishing","Library Bound Book",1,2010,null,"Library Bound","6.000 X 9.000","Author","Jacqueline Langwith",null,null,null,null,null,null,"Years 15 - 17",null,"Grade 10 - 12",null,"English",48.8,39.04,"333","264 pp.",{"$f":"Table1[[#This Row],['# of Books]]*Table1[[#This Row],[QTY]]","v":0},{"$f":"Table1[[#This Row],[QTY]]*Table1[[#This Row],[School & Library Price]]","v":0}]
[null,15,null,"Current Issues","Opposing Viewpoints","Water","978-0-7377-4547-4","Greenhaven Publishing","Paperback Book",1,2010,null,"Paperback","6.000 X 9.000","Author","Jacqueline Langwith",null,null,null,null,null,null,"Years 15 - 17",null,"Grade 10 - 12",null,"English",33.799999999999898,27.039999999999921,"333","264 pp.",{"$f":"Table1[[#This Row],['# of Books]]*Table1[[#This Row],[QTY]]","v":0},{"$f":"Table1[[#This Row],[QTY]]*Table1[[#This Row],[School & Library Price]]","v":0}]
[null,15,null,"Current Issues","Opposing Viewpoints","Welfare","978-0-7377-5431-5","Greenhaven Publishing","Paperback Book",1,2012,null,"Paperback","6.000 X 9.000","Author","Margaret Haerens",null,null,null,null,null,null,"Years 15 - 17",null,"Grade 10 - 12",null,"English",33.799999999999898,27.039999999999921,"362","223 pp.",{"$f":"Table1[[#This Row],['# of Books]]*Table1[[#This Row],[QTY]]","v":0},{"$f":"Table1[[#This Row],[QTY]]*Table1[[#This Row],[School & Library Price]]","v":0}]
[null,15,null,"Current Issues","Opposing Viewpoints","Whistleblowers","978-0-7377-6346-1","Greenhaven Publishing","Library Bound Book",1,2012,null,"Library Bound","6.000 X 9.000","Author","Noah Berlatsky",null,null,null,null,null,null,"Years 15 - 17",null,"Grade 10 - 12","Title explores the various factors that motivate whistleblowers, the issue of whether whistleblowers compromise safety/national security, Wikileaks’ function as a whistleblower, and the consequences faced by whistleblowers.","English",48.8,39.04,"302","208 pp.",{"$f":"Table1[[#This Row],['# of Books]]*Table1[[#This Row],[QTY]]","v":0},{"$f":"Table1[[#This Row],[QTY]]*Table1[[#This Row],[School & Library Price]]","v":0}]
[null,15,null,"Current Issues","Opposing Viewpoints","Whistleblowers","978-0-7377-6347-8","Greenhaven Publishing","Paperback Book",1,2012,null,"Paperback","6.000 X 9.000","Author","Noah Berlatsky",null,null,null,null,null,null,"Years 15 - 17",null,"Grade 10 - 12","Title explores the various factors that motivate whistleblowers, the issue of whether whistleblowers compromise safety/national security, Wikileaks’ function as a whistleblower, and the consequences faced by whistleblowers.","English",33.799999999999898,27.039999999999921,"302","204 pp.",{"$f":"Table1[[#This Row],['# of Books]]*Table1[[#This Row],[QTY]]","v":0},{"$f":"Table1[[#This Row],[QTY]]*Table1[[#This Row],[School & Library Price]]","v":0}]
[null,15,null,"Current Issues","Opposing Viewpoints","White-Collar Crime","978-0-7377-4548-1","Greenhaven Publishing","Library Bound Book",1,2009,null,"Library Bound","6.000 X 9.000","Author","Kelly Wand",null,null,null,null,null,null,"Years 15 - 17",null,"Grade 10 - 12",null,"English",48.8,39.04,"364","288 pp.",{"$f":"Table1[[#This Row],['# of Books]]*Table1[[#This Row],[QTY]]","v":0},{"$f":"Table1[[#This Row],[QTY]]*Table1[[#This Row],[School & Library Price]]","v":0}]
[null,15,null,"Current Issues","Opposing Viewpoints","White-Collar Crime","978-0-7377-4549-8","Greenhaven Publishing","Paperback Book",1,2009,null,"Paperback","6.000 X 9.000","Author","Kelly Wand",null,null,null,null,null,null,"Years 15 - 17",null,"Grade 10 - 12",null,"English",33.799999999999898,27.039999999999921,"364","288 pp.",{"$f":"Table1[[#This Row],['# of Books]]*Table1[[#This Row],[QTY]]","v":0},{"$f":"Table1[[#This Row],[QTY]]*Table1[[#This Row],[School & Library Price]]","v":0}]
[null,15,null,"Current Issues","Opposing Viewpoints","Women's Health","978-0-7377-6668-4","Greenhaven Publishing","Library Bound Book",1,2015,null,"Library Bound","6.000 X 9.000","Author","Lynn M. Zott",null,null,null,null,null,null,"Years 15 - 17",null,"Grade 10 - 12","This title in the popular OPPOSING VIEWPOINTS series discusses the latest issues concerning the health of women. This text addresses the issue of how the current political climate impacts women’s health legislation, the question of what part religion should play in women’s health-care policy, what clinical and scientific concerns affect women’s health, and what key health concerns are faced by US servicewomen. The viewpoints are selected from a wide range of highly respected and often hard-to-find sources and publications. By choosing from such diverse sources and including both popular and unpopular views, the OPPOSING VIEWPOINTS editorial team has adhered to its commitment to editorial objectivity. Readers are exposed to many sides of a debate, which promotes issue awareness as well as critical thinking.","English",48.8,39.04,"613","224 pp.",{"$f":"Table1[[#This Row],['# of Books]]*Table1[[#This Row],[QTY]]","v":0},{"$f":"Table1[[#This Row],[QTY]]*Table1[[#This Row],[School & Library Price]]","v":0}]
[null,15,null,"Current Issues","Opposing Viewpoints","Women's Health","978-0-7377-6669-1","Greenhaven Publishing","Paperback Book",1,2015,null,"Paperback","6.000 X 9.000","Author","Lynn M. Zott",null,null,null,null,null,null,"Years 15 - 17",null,"Grade 10 - 12","This title in the popular OPPOSING VIEWPOINTS series discusses the latest issues concerning the health of women. This text addresses the issue of how the current political climate impacts women’s health legislation, the question of what part religion should play in women’s health-care policy, what clinical and scientific concerns affect women’s health, and what key health concerns are faced by US servicewomen. The viewpoints are selected from a wide range of highly respected and often hard-to-find sources and publications. By choosing from such diverse sources and including both popular and unpopular views, the OPPOSING VIEWPOINTS editorial team has adhered to its commitment to editorial objectivity. Readers are exposed to many sides of a debate, which promotes issue awareness as well as critical thinking.","English",33.799999999999898,27.039999999999921,"613","223 pp.",{"$f":"Table1[[#This Row],['# of Books]]*Table1[[#This Row],[QTY]]","v":0},{"$f":"Table1[[#This Row],[QTY]]*Table1[[#This Row],[School & Library Price]]","v":0}]
[null,15,null,"Current Issues","Opposing Viewpoints","Work and Family","978-0-7377-5769-9","Greenhaven Publishing","Library Bound Book",1,2012,null,"Library Bound","6.000 X 9.000","Author","Mitchell Young",null,null,null,null,null,null,"Years 15 - 17",null,"Grade 10 - 12","Through a balanced collection of articles from a variety of sources, this title in the OPPOSING VIEWPOINTS series discusses issues related to work and the American family. Articles in the text explores how women balance work and family, how men balance work and family, the impact of government policies on the work/family balance, and how a lack of work effects families.","English",48.8,39.04,"306","192 pp.",{"$f":"Table1[[#This Row],['# of Books]]*Table1[[#This Row],[QTY]]","v":0},{"$f":"Table1[[#This Row],[QTY]]*Table1[[#This Row],[School & Library Price]]","v":0}]
[null,15,null,"Current Issues","Opposing Viewpoints","Work and Family","978-0-7377-5770-5","Greenhaven Publishing","Paperback Book",1,2012,null,"Paperback","6.000 X 9.000","Author","Mitchell Young",null,null,null,null,null,null,"Years 15 - 17",null,"Grade 10 - 12","Through a balanced collection of articles from a variety of sources, this title in the OPPOSING VIEWPOINTS series discusses issues related to work and the American family. Articles in the text explores how women balance work and family, how men balance work and family, the impact of government policies on the work/family balance, and how a lack of work effects families.","English",33.799999999999898,27.039999999999921,"306","192 pp.",{"$f":"Table1[[#This Row],['# of Books]]*Table1[[#This Row],[QTY]]","v":0},{"$f":"Table1[[#This Row],[QTY]]*Table1[[#This Row],[School & Library Price]]","v":0}]
[null,15,null,"Current Issues","Opposing Viewpoints","Working Women","978-0-7377-7302-6","Greenhaven Publishing","Library Bound Book",1,2015,null,"Library Bound","6.000 X 9.000","Author","Noah Berlatsky",null,null,null,null,null,null,"Years 15 - 17",null,"Grade 10 - 12","OPPOSING VIEWPOINTS: WORKING WOMEN explores whether women experience discrimination at work, how motherhood affects working women, whether the Lean-In movement helps women, and how workplace harassment affects women.","English",48.8,39.04,"331","191 pp.",{"$f":"Table1[[#This Row],['# of Books]]*Table1[[#This Row],[QTY]]","v":0},{"$f":"Table1[[#This Row],[QTY]]*Table1[[#This Row],[School & Library Price]]","v":0}]
[null,15,null,"Current Issues","Opposing Viewpoints","Working Women","978-0-7377-7303-3","Greenhaven Publishing","Paperback Book",1,2015,null,"Paperback","6.000 X 9.000","Author","Noah Berlatsky",null,null,null,null,null,null,"Years 15 - 17",null,"Grade 10 - 12","OPPOSING VIEWPOINTS: WORKING WOMEN  explores whether women experience discrimination at work, how motherhood affects working women, whether the Lean-In movement helps women, and how workplace harassment affects women.","English",33.799999999999898,27.039999999999921,"331","191 pp.",{"$f":"Table1[[#This Row],['# of Books]]*Table1[[#This Row],[QTY]]","v":0},{"$f":"Table1[[#This Row],[QTY]]*Table1[[#This Row],[School & Library Price]]","v":0}]
[null,15,null,"Current Issues","Opposing Viewpoints","World Peace","978-0-7377-7304-0","Greenhaven Publishing","Library Bound Book",1,2015,null,"Library Bound","6.000 X 9.000","Author","Margaret Haerens",null,null,null,null,null,null,"Years 15 - 17",null,"Grade 10 - 12","This title in the OPPOSING VIEWPOINTS SERIES examines the ideal of world peace in such topics as how should world peace be regarded, how can world peace be established, what economic, social, and political movements improve the chances of world peace, and what are the greatest threats to world peace.","English",48.8,39.04,"327","248 pp.",{"$f":"Table1[[#This Row],['# of Books]]*Table1[[#This Row],[QTY]]","v":0},{"$f":"Table1[[#This Row],[QTY]]*Table1[[#This Row],[School & Library Price]]","v":0}]
[null,15,null,"Current Issues","Opposing Viewpoints","World Peace","978-0-7377-7305-7","Greenhaven Publishing","Paperback Book",1,2015,null,"Paperback","6.000 X 9.000","Author","Margaret Haerens",null,null,null,null,null,null,"Years 15 - 17",null,"Grade 10 - 12","This title in the OPPOSING VIEWPOINTS SERIES examines the ideal of world peace in such topics as how should world peace be regarded, how can world peace be established, what economic, social, and political movements improve the chances of world peace, and what are the greatest threats to world peace.","English",33.799999999999898,27.039999999999921,"327","248 pp.",{"$f":"Table1[[#This Row],['# of Books]]*Table1[[#This Row],[QTY]]","v":0},{"$f":"Table1[[#This Row],[QTY]]*Table1[[#This Row],[School & Library Price]]","v":0}]
[null,16,null,"Current Issues","At Issue (Jan '18 Set)","At Issue (Jan '18 Set)","978-1-5345-0248-2","Greenhaven Publishing","Library Set",6,2018,"January 2018","Library","6.000 X 9.000"," "," ",null,null,null,null,null,null,"Years 14 - 17","Grade 10 - 12","Grade 9 - 12","The At Issue series includes a wide range of opinions on a single controversial subject. Each volume includes primary and secondary sources from many perspectives and a variety of sources, including journals, newspapers, books, websites, government agencies, and others. \"These books are an excellent source for middle and high school readers to enhance their critical thinking skills. They could easily be used as jumping off points for research projects and debate topics.\" AMERICAN REFERENCE BOOKS ANNUAL","English",236.4,189.12,null,"144 pp.",{"$f":"Table1[[#This Row],['# of Books]]*Table1[[#This Row],[QTY]]","v":0},{"$f":"Table1[[#This Row],[QTY]]*Table1[[#This Row],[School & Library Price]]","v":0}]
[null,16,null,"Current Issues","At Issue (Jan '18 Set)","At Issue (Jan '18 Set)","978-1-5345-0270-3","Greenhaven Publishing","Single Copy Set",6,2018,"January 2018","Paperback","6.000 X 9.000"," "," ",null,null,null,null,null,null,"Years 14 - 17","Grade 10 - 12","Grade 9 - 12","The At Issue series includes a wide range of opinions on a single controversial subject. Each volume includes primary and secondary sources from many perspectives and a variety of sources, including journals, newspapers, books, websites, government agencies, and others. \"These books are an excellent source for middle and high school readers to enhance their critical thinking skills. They could easily be used as jumping off points for research projects and debate topics.\" AMERICAN REFERENCE BOOKS ANNUAL","English",166.8,133.44,null,"144 pp.",{"$f":"Table1[[#This Row],['# of Books]]*Table1[[#This Row],[QTY]]","v":0},{"$f":"Table1[[#This Row],[QTY]]*Table1[[#This Row],[School & Library Price]]","v":0}]
[null,16,null,"Current Issues","At Issue","Cyberwarfare","978-1-5345-0204-8","Greenhaven Publishing","Library Bound Book",1,2018,"January 2018","Library","6.000 X 9.000","Edited by","Megan Manzano",null,null,null,null,"Z",null,"Years 14 - 17","Grade 10 - 12","Grade 9 - 12","There is warfare, and there is cyberwarfare. In today's technologically-driven world, governments, and even terrorist groups and hacktivists, engage in cyberwarfare to attack or disrupt the operations of other nations and organizations. Recent revelations about cyberattacks that threatened individual and national security have caused ripples of concern and outrage, but tend to die down quickly. How safe are we, and do we take security for granted? This resource offers a diverse selection of viewpoints from the top voices in the field to enlighten readers about warfare in the Information Age.","English",39.4,31.52,null,"144 pp.",{"$f":"Table1[[#This Row],['# of Books]]*Table1[[#This Row],[QTY]]","v":0},{"$f":"Table1[[#This Row],[QTY]]*Table1[[#This Row],[School & Library Price]]","v":0}]
[null,16,null,"Current Issues","At Issue","Cyberwarfare","978-1-5345-0201-7","Greenhaven Publishing","eBook",1,2018,"January 2018",null,null,"Edited by","Megan Manzano",null,null,null,null,"Z",null,"Years 14 - 17","Grade 10 - 12","Grade 9 - 12","There is warfare, and there is cyberwarfare. In today's technologically-driven world, governments, and even terrorist groups and hacktivists, engage in cyberwarfare to attack or disrupt the operations of other nations and organizations. Recent revelations about cyberattacks that threatened individual and national security have caused ripples of concern and outrage, but tend to die down quickly. How safe are we, and do we take security for granted? This resource offers a diverse selection of viewpoints from the top voices in the field to enlighten readers about warfare in the Information Age.","English",39.4,31.52,null,"144 pp.",{"$f":"Table1[[#This Row],['# of Books]]*Table1[[#This Row],[QTY]]","v":0},{"$f":"Table1[[#This Row],[QTY]]*Table1[[#This Row],[School & Library Price]]","v":0}]
[null,16,null,"Current Issues","At Issue","Cyberwarfare","978-1-5345-0210-9","Greenhaven Publishing","Paperback Book",1,2018,"January 2018","Paperback","6.000 X 9.000","Edited by","Megan Manzano",null,null,null,null,"Z",null,"Years 14 - 17","Grade 10 - 12","Grade 9 - 12","There is warfare, and there is cyberwarfare. In today's technologically-driven world, governments, and even terrorist groups and hacktivists, engage in cyberwarfare to attack or disrupt the operations of other nations and organizations. Recent revelations about cyberattacks that threatened individual and national security have caused ripples of concern and outrage, but tend to die down quickly. How safe are we, and do we take security for granted? This resource offers a diverse selection of viewpoints from the top voices in the field to enlighten readers about warfare in the Information Age.","English",27.8,22.24,null,"144 pp.",{"$f":"Table1[[#This Row],['# of Books]]*Table1[[#This Row],[QTY]]","v":0},{"$f":"Table1[[#This Row],[QTY]]*Table1[[#This Row],[School & Library Price]]","v":0}]
[null,16,null,"Current Issues","At Issue","Pipelines and Politics","978-1-5345-0203-1","Greenhaven Publishing","Library Bound Book",1,2018,"January 2018","Library","6.000 X 9.000","Edited by","Lisa Idzikowski",null,null,null,null,"Z",null,"Years 14 - 17","Grade 10 - 12","Grade 9 - 12","Fossil fuels are a valuable commodity at the forefront of national and international politics. Pipelines can create jobs and economic growth, not to mention delivering a commodity to people who need it. What happens when there is conflict about the land through which a pipeline travels? Such conflicts can lead to protests, stoppages, and even war. Readers of this comprehensive volume, which explores the topic from a multitude of angles, will learn how a simple pipeline can have enormous geopolitical ramifications.","English",39.4,31.52,null,"144 pp.",{"$f":"Table1[[#This Row],['# of Books]]*Table1[[#This Row],[QTY]]","v":0},{"$f":"Table1[[#This Row],[QTY]]*Table1[[#This Row],[School & Library Price]]","v":0}]
[null,16,null,"Current Issues","At Issue","Pipelines and Politics","978-1-5345-0198-0","Greenhaven Publishing","eBook",1,2018,"January 2018",null,null,"Edited by","Lisa Idzikowski",null,null,null,null,"Z",null,"Years 14 - 17","Grade 10 - 12","Grade 9 - 12","Fossil fuels are a valuable commodity at the forefront of national and international politics. Pipelines can create jobs and economic growth, not to mention delivering a commodity to people who need it. What happens when there is conflict about the land through which a pipeline travels? Such conflicts can lead to protests, stoppages, and even war. Readers of this comprehensive volume, which explores the topic from a multitude of angles, will learn how a simple pipeline can have enormous geopolitical ramifications.","English",39.4,31.52,null,"144 pp.",{"$f":"Table1[[#This Row],['# of Books]]*Table1[[#This Row],[QTY]]","v":0},{"$f":"Table1[[#This Row],[QTY]]*Table1[[#This Row],[School & Library Price]]","v":0}]
[null,16,null,"Current Issues","At Issue","Pipelines and Politics","978-1-5345-0212-3","Greenhaven Publishing","Paperback Book",1,2018,"January 2018","Paperback","6.000 X 9.000","Edited by","Lisa Idzikowski",null,null,null,null,"Z",null,"Years 14 - 17","Grade 10 - 12","Grade 9 - 12","Fossil fuels are a valuable commodity at the forefront of national and international politics. Pipelines can create jobs and economic growth, not to mention delivering a commodity to people who need it. What happens when there is conflict about the land through which a pipeline travels? Such conflicts can lead to protests, stoppages, and even war. Readers of this comprehensive volume, which explores the topic from a multitude of angles, will learn how a simple pipeline can have enormous geopolitical ramifications.","English",27.8,22.24,null,"144 pp.",{"$f":"Table1[[#This Row],['# of Books]]*Table1[[#This Row],[QTY]]","v":0},{"$f":"Table1[[#This Row],[QTY]]*Table1[[#This Row],[School & Library Price]]","v":0}]
[null,16,null,"Current Issues","At Issue","Populism in the Digital Age","978-1-5345-0207-9","Greenhaven Publishing","Library Bound Book",1,2018,"January 2018","Library","6.000 X 9.000","Edited by","Anne Cunningham",null,null,null,null,"Z",null,"Years 14 - 17","Grade 10 - 12","Grade 9 - 12","The development of social media platforms has allowed a new wave of populism to accelerate rapidly. Tweets, Facebook shares, and viral memes get information to ordinary citizens quickly and directly, without the influence of authorities, and often without the benefit of research and facts. Is this democracy in its purest form or mindless transmission of fake news and irresponsible reporting? What is the result of digital populism, and what can be done to use it for the good of the people? This resource contains viewpoints that will awaken readers to the value of critical thinking skills.","English",39.4,31.52,null,"144 pp.",{"$f":"Table1[[#This Row],['# of Books]]*Table1[[#This Row],[QTY]]","v":0},{"$f":"Table1[[#This Row],[QTY]]*Table1[[#This Row],[School & Library Price]]","v":0}]
[null,16,null,"Current Issues","At Issue","Populism in the Digital Age","978-1-5345-0202-4","Greenhaven Publishing","eBook",1,2018,"January 2018",null,null,"Edited by","Anne Cunningham",null,null,null,null,"Z",null,"Years 14 - 17","Grade 10 - 12","Grade 9 - 12","The development of social media platforms has allowed a new wave of populism to accelerate rapidly. Tweets, Facebook shares, and viral memes get information to ordinary citizens quickly and directly, without the influence of authorities, and often without the benefit of research and facts. Is this democracy in its purest form or mindless transmission of fake news and irresponsible reporting? What is the result of digital populism, and what can be done to use it for the good of the people? This resource contains viewpoints that will awaken readers to the value of critical thinking skills.","English",39.4,31.52,null,"144 pp.",{"$f":"Table1[[#This Row],['# of Books]]*Table1[[#This Row],[QTY]]","v":0},{"$f":"Table1[[#This Row],[QTY]]*Table1[[#This Row],[School & Library Price]]","v":0}]
[null,16,null,"Current Issues","At Issue","Populism in the Digital Age","978-1-5345-0214-7","Greenhaven Publishing","Paperback Book",1,2018,"January 2018","Paperback","6.000 X 9.000","Edited by","Anne Cunningham",null,null,null,null,"Z",null,"Years 14 - 17","Grade 10 - 12","Grade 9 - 12","The development of social media platforms has allowed a new wave of populism to accelerate rapidly. Tweets, Facebook shares, and viral memes get information to ordinary citizens quickly and directly, without the influence of authorities, and often without the benefit of research and facts. Is this democracy in its purest form or mindless transmission of fake news and irresponsible reporting? What is the result of digital populism, and what can be done to use it for the good of the people? This resource contains viewpoints that will awaken readers to the value of critical thinking skills.","English",27.8,22.24,null,"144 pp.",{"$f":"Table1[[#This Row],['# of Books]]*Table1[[#This Row],[QTY]]","v":0},{"$f":"Table1[[#This Row],[QTY]]*Table1[[#This Row],[School & Library Price]]","v":0}]
[null,16,null,"Current Issues","At Issue","Reproductive Rights","978-1-5345-0206-2","Greenhaven Publishing","Library Bound Book",1,2018,"January 2018","Library","6.000 X 9.000","Edited by","Anne Cunningham",null,null,null,null,"Z",null,"Years 14 - 17","Grade 10 - 12","Grade 9 - 12","There has been a neat divide in the United States and elsewhere between the \"pro-choice\" and \"pro-life\" camps. Reproductive rights are more expansive than the abortion debate. Access to affordable health services is a fundamental right, yet women, who are subject to discrimination, poverty, and violence at a higher rate than men, are at risk for losing access to screenings, maternal care, and contraception. Does the government have the right to legislate women's health? This close examination provides perspectives from all sides to help readers understand what is at stake.","English",39.4,31.52,null,"144 pp.",{"$f":"Table1[[#This Row],['# of Books]]*Table1[[#This Row],[QTY]]","v":0},{"$f":"Table1[[#This Row],[QTY]]*Table1[[#This Row],[School & Library Price]]","v":0}]
[null,16,null,"Current Issues","At Issue","Reproductive Rights","978-1-5345-0197-3","Greenhaven Publishing","eBook",1,2018,"January 2018",null,null,"Edited by","Anne Cunningham",null,null,null,null,"Z",null,"Years 14 - 17","Grade 10 - 12","Grade 9 - 12","There has been a neat divide in the United States and elsewhere between the \"pro-choice\" and \"pro-life\" camps. Reproductive rights are more expansive than the abortion debate. Access to affordable health services is a fundamental right, yet women, who are subject to discrimination, poverty, and violence at a higher rate than men, are at risk for losing access to screenings, maternal care, and contraception. Does the government have the right to legislate women's health? This close examination provides perspectives from all sides to help readers understand what is at stake.","English",39.4,31.52,null,"144 pp.",{"$f":"Table1[[#This Row],['# of Books]]*Table1[[#This Row],[QTY]]","v":0},{"$f":"Table1[[#This Row],[QTY]]*Table1[[#This Row],[School & Library Price]]","v":0}]
[null,16,null,"Current Issues","At Issue","Reproductive Rights","978-1-5345-0209-3","Greenhaven Publishing","Paperback Book",1,2018,"January 2018","Paperback","6.000 X 9.000","Edited by","Anne Cunningham",null,null,null,null,"Z",null,"Years 14 - 17","Grade 10 - 12","Grade 9 - 12","There has been a neat divide in the United States and elsewhere between the \"pro-choice\" and \"pro-life\" camps. Reproductive rights are more expansive than the abortion debate. Access to affordable health services is a fundamental right, yet women, who are subject to discrimination, poverty, and violence at a higher rate than men, are at risk for losing access to screenings, maternal care, and contraception. Does the government have the right to legislate women's health? This close examination provides perspectives from all sides to help readers understand what is at stake.","English",27.8,22.24,null,"144 pp.",{"$f":"Table1[[#This Row],['# of Books]]*Table1[[#This Row],[QTY]]","v":0},{"$f":"Table1[[#This Row],[QTY]]*Table1[[#This Row],[School & Library Price]]","v":0}]
[null,16,null,"Current Issues","At Issue","The Death Penalty","978-1-5345-0208-6","Greenhaven Publishing","Library Bound Book",1,2018,"January 2018","Library","6.000 X 9.000","Edited by","Megan Manzano",null,null,null,null,"Z",null,"Years 14 - 17","Grade 10 - 12","Grade 9 - 12","Is capital punishment morally justified? Although the issue generates strong opinions, there are no easy answers when it comes to taking the life of a human being. Supporters of the death penalty believe it deters law-breaking and is the only punishment strong enough for horrific crimes such as child murder and genocide. Opponents argue that it violates human rights and point to its finality in the face of judicial system error and unfairness. This resource presents a fascinating progression of current viewpoints that reflect the many facets of the death penalty debate.","English",39.4,31.52,"364.660973--dc23","144 pp.",{"$f":"Table1[[#This Row],['# of Books]]*Table1[[#This Row],[QTY]]","v":0},{"$f":"Table1[[#This Row],[QTY]]*Table1[[#This Row],[School & Library Price]]","v":0}]
[null,16,null,"Current Issues","At Issue","The Death Penalty","978-1-5345-0199-7","Greenhaven Publishing","eBook",1,2018,"January 2018",null,null,"Edited by","Megan Manzano",null,null,null,null,"Z",null,"Years 14 - 17","Grade 10 - 12","Grade 9 - 12","Is capital punishment morally justified? Although the issue generates strong opinions, there are no easy answers when it comes to taking the life of a human being. Supporters of the death penalty believe it deters law-breaking and is the only punishment strong enough for horrific crimes such as child murder and genocide. Opponents argue that it violates human rights and point to its finality in the face of judicial system error and unfairness. This resource presents a fascinating progression of current viewpoints that reflect the many facets of the death penalty debate.","English",39.4,31.52,"364.660973--dc23","144 pp.",{"$f":"Table1[[#This Row],['# of Books]]*Table1[[#This Row],[QTY]]","v":0},{"$f":"Table1[[#This Row],[QTY]]*Table1[[#This Row],[School & Library Price]]","v":0}]
[null,16,null,"Current Issues","At Issue","The Death Penalty","978-1-5345-0213-0","Greenhaven Publishing","Paperback Book",1,2018,"January 2018","Paperback","6.000 X 9.000","Edited by","Megan Manzano",null,null,null,null,"Z",null,"Years 14 - 17","Grade 10 - 12","Grade 9 - 12","Is capital punishment morally justified? Although the issue generates strong opinions, there are no easy answers when it comes to taking the life of a human being. Supporters of the death penalty believe it deters law-breaking and is the only punishment strong enough for horrific crimes such as child murder and genocide. Opponents argue that it violates human rights and point to its finality in the face of judicial system error and unfairness. This resource presents a fascinating progression of current viewpoints that reflect the many facets of the death penalty debate.","English",27.8,22.24,"364.660973--dc23","144 pp.",{"$f":"Table1[[#This Row],['# of Books]]*Table1[[#This Row],[QTY]]","v":0},{"$f":"Table1[[#This Row],[QTY]]*Table1[[#This Row],[School & Library Price]]","v":0}]
[null,16,null,"Current Issues","At Issue","The Ethics of Wikileaks","978-1-5345-0205-5","Greenhaven Publishing","Library Bound Book",1,2018,"January 2018","Library","6.000 X 9.000","Edited by","Carrie Ann Taylor",null,null,null,null,"Z",null,"Years 14 - 17","Grade 10 - 12","Grade 9 - 12","What is Wikileaks and how does it work? Wikileaks aims to expose secrets and make available important, and often classified, information to the public. The organization's commitment to encouraging and protecting whistleblowers and journalists is seen by many to be a heroic fight for free speech and government transparency. But at what point does the First Amendment matter more than security and diplomacy? Is the organization's agenda really as pure as it purports? Through reading a variety of authoritative viewpoints on the topic, readers will be encouraged to make sense of this ethical dilemma.","English",39.4,31.52,null,"144 pp.",{"$f":"Table1[[#This Row],['# of Books]]*Table1[[#This Row],[QTY]]","v":0},{"$f":"Table1[[#This Row],[QTY]]*Table1[[#This Row],[School & Library Price]]","v":0}]
[null,16,null,"Current Issues","At Issue","The Ethics of Wikileaks","978-1-5345-0200-0","Greenhaven Publishing","eBook",1,2018,"January 2018",null,null,"Edited by","Carrie Ann Taylor",null,null,null,null,"Z",null,"Years 14 - 17","Grade 10 - 12","Grade 9 - 12","What is Wikileaks and how does it work? Wikileaks aims to expose secrets and make available important, and often classified, information to the public. The organization's commitment to encouraging and protecting whistleblowers and journalists is seen by many to be a heroic fight for free speech and government transparency. But at what point does the First Amendment matter more than security and diplomacy? Is the organization's agenda really as pure as it purports? Through reading a variety of authoritative viewpoints on the topic, readers will be encouraged to make sense of this ethical dilemma.","English",39.4,31.52,null,"144 pp.",{"$f":"Table1[[#This Row],['# of Books]]*Table1[[#This Row],[QTY]]","v":0},{"$f":"Table1[[#This Row],[QTY]]*Table1[[#This Row],[School & Library Price]]","v":0}]
[null,16,null,"Current Issues","At Issue","The Ethics of Wikileaks","978-1-5345-0211-6","Greenhaven Publishing","Paperback Book",1,2018,"January 2018","Paperback","6.000 X 9.000","Edited by","Carrie Ann Taylor",null,null,null,null,"Z",null,"Years 14 - 17","Grade 10 - 12","Grade 9 - 12","What is Wikileaks and how does it work? Wikileaks aims to expose secrets and make available important, and often classified, information to the public. The organization's commitment to encouraging and protecting whistleblowers and journalists is seen by many to be a heroic fight for free speech and government transparency. But at what point does the First Amendment matter more than security and diplomacy? Is the organization's agenda really as pure as it purports? Through reading a variety of authoritative viewpoints on the topic, readers will be encouraged to make sense of this ethical dilemma.","English",27.8,22.24,null,"144 pp.",{"$f":"Table1[[#This Row],['# of Books]]*Table1[[#This Row],[QTY]]","v":0},{"$f":"Table1[[#This Row],[QTY]]*Table1[[#This Row],[School & Library Price]]","v":0}]
[null,16,null,"Current Issues","At Issue: 2017","At Issue: 2017","978-1-5345-0154-6","Greenhaven Publishing","Library Set",10,"2018","August 2017","Library","6.000 X 9.000"," "," ",null,null,null,null,null,null,"Years 14 - 17","Grade 10 - 12","Grade 9 - 12","The At Issue series includes a wide range of opinions on a single controversial subject. Each volume includes primary and secondary sources from many perspectives and a variety of sources, including journals, newspapers, books, websites, government agencies, and others.","English",394,315.2,null,"144-296 pp.",{"$f":"Table1[[#This Row],['# of Books]]*Table1[[#This Row],[QTY]]","v":0},{"$f":"Table1[[#This Row],[QTY]]*Table1[[#This Row],[School & Library Price]]","v":0}]
[null,16,null,"Current Issues","At Issue: 2017","At Issue: 2017","978-1-5345-0156-0","Greenhaven Publishing","Single Copy Set",10,"2018","August 2017","Paperback","6.000 X 9.000"," "," ",null,null,null,null,null,null,"Years 14 - 17","Grade 10 - 12","Grade 9 - 12","The At Issue series includes a wide range of opinions on a single controversial subject. Each volume includes primary and secondary sources from many perspectives and a variety of sources, including journals, newspapers, books, websites, government agencies, and others.","English",278,222.4,null,"144-296 pp.",{"$f":"Table1[[#This Row],['# of Books]]*Table1[[#This Row],[QTY]]","v":0},{"$f":"Table1[[#This Row],[QTY]]*Table1[[#This Row],[School & Library Price]]","v":0}]
[null,16,null,"Current Issues","At Issue (Aug '17 Set)","At Issue (Aug '17 Set)","978-1-5345-0145-4","Greenhaven Publishing","Library Set",6,"2018","August 2017","Library","6.000 X 9.000"," "," ",null,null,null,null,null,null,"Years 14 - 17","Grade 10 - 12","Grade 9 - 12","The At Issue series includes a wide range of opinions on a single controversial subject. Each volume includes primary and secondary sources from many perspectives and a variety of sources, including journals, newspapers, books, websites, government agencies, and others.","English",236.4,189.12,null,"144 pp.",{"$f":"Table1[[#This Row],['# of Books]]*Table1[[#This Row],[QTY]]","v":0},{"$f":"Table1[[#This Row],[QTY]]*Table1[[#This Row],[School & Library Price]]","v":0}]
[null,16,null,"Current Issues","At Issue (Aug '17 Set)","At Issue (Aug '17 Set)","978-1-5345-0146-1","Greenhaven Publishing","Single Copy Set",6,"2018","August 2017","Paperback","6.000 X 9.000"," "," ",null,null,null,null,null,null,"Years 14 - 17","Grade 10 - 12","Grade 9 - 12","The At Issue series includes a wide range of opinions on a single controversial subject. Each volume includes primary and secondary sources from many perspectives and a variety of sources, including journals, newspapers, books, websites, government agencies, and others.","English",166.8,133.44,null,"144 pp.",{"$f":"Table1[[#This Row],['# of Books]]*Table1[[#This Row],[QTY]]","v":0},{"$f":"Table1[[#This Row],[QTY]]*Table1[[#This Row],[School & Library Price]]","v":0}]
[null,16,null,"Current Issues","At Issue","Banned Books","978-1-5345-0075-4","Greenhaven Publishing","Library Bound Book",1,"2018","August 2017","Library","6.000 X 9.000","Edited by","Marcia Amidon Lusted",null,null,null,null,"Z",null,"Years 14 - 17","Grade 10 - 12","Grade 9 - 12","It may sound shocking, but even in this current age, books are banned all around the globe. But what makes a book inappropriate—even dangerous—for public consumption, and who has the power to deem it so? Some governments ban books as a form of censorship. Even schools can ban books they consider too racy or inappropriate for their students. Does banning books take away our liberties, attempt to erase history, and impose an agenda? Or is the practice actually in our best interests, depending on the circumstance? This balanced volume examines this surprisingly nuanced issue.","English",39.4,31.52,"363.31--dc23","88 pp.",{"$f":"Table1[[#This Row],['# of Books]]*Table1[[#This Row],[QTY]]","v":0},{"$f":"Table1[[#This Row],[QTY]]*Table1[[#This Row],[School & Library Price]]","v":0}]
[null,16,null,"Current Issues","At Issue","Banned Books","978-1-5345-0076-1","Greenhaven Publishing","eBook",1,"2018","August 2017",null,null,"Edited by","Marcia Amidon Lusted",null,null,null,null,"Z",null,"Years 14 - 17","Grade 10 - 12","Grade 9 - 12","It may sound shocking, but even in this current age, books are banned all around the globe. But what makes a book inappropriate—even dangerous—for public consumption, and who has the power to deem it so? Some governments ban books as a form of censorship. Even schools can ban books they consider too racy or inappropriate for their students. Does banning books take away our liberties, attempt to erase history, and impose an agenda? Or is the practice actually in our best interests, depending on the circumstance? This balanced volume examines this surprisingly nuanced issue.","English",39.4,31.52,"363.31--dc23","88 pp.",{"$f":"Table1[[#This Row],['# of Books]]*Table1[[#This Row],[QTY]]","v":0},{"$f":"Table1[[#This Row],[QTY]]*Table1[[#This Row],[School & Library Price]]","v":0}]
[null,16,null,"Current Issues","At Issue","Banned Books","978-1-5345-0071-6","Greenhaven Publishing","Paperback Book",1,"2018","August 2017","Paperback","6.000 X 9.000","Edited by","Marcia Amidon Lusted",null,null,null,null,"Z",null,"Years 14 - 17","Grade 10 - 12","Grade 9 - 12","It may sound shocking, but even in this current age, books are banned all around the globe. But what makes a book inappropriate—even dangerous—for public consumption, and who has the power to deem it so? Some governments ban books as a form of censorship. Even schools can ban books they consider too racy or inappropriate for their students. Does banning books take away our liberties, attempt to erase history, and impose an agenda? Or is the practice actually in our best interests, depending on the circumstance? This balanced volume examines this surprisingly nuanced issue.","English",27.8,22.24,"363.31--dc23","88 pp.",{"$f":"Table1[[#This Row],['# of Books]]*Table1[[#This Row],[QTY]]","v":0},{"$f":"Table1[[#This Row],[QTY]]*Table1[[#This Row],[School & Library Price]]","v":0}]
[null,16,null,"Current Issues","At Issue","Civil Disobedience","978-1-5345-0065-5","Greenhaven Publishing","Library Bound Book",1,"2018","August 2017","Library","6.000 X 9.000","Edited by","Elizabeth Schmermund",null,null,null,null,"Z",null,"Years 14 - 17","Grade 10 - 12","Grade 9 - 12","Civil disobedience, the refusal to obey certain laws, is a method of protest famously articulated by philosopher and writer Henry David Thoreau in his 1849 essay “Civil Disobedience.” Thoreau believed that protest became a moral obligation when laws collided with conscience. Since then, civil disobedience has been employed as a form of rebellion around the world. But is there a place for civil disobedience in democratic societies? When is civil disobedience justifiable? Is violence ever called for? Furthermore, how effective is civil disobedience?","English",39.4,31.52,"303.6'1--dc23","144 pp.",{"$f":"Table1[[#This Row],['# of Books]]*Table1[[#This Row],[QTY]]","v":0},{"$f":"Table1[[#This Row],[QTY]]*Table1[[#This Row],[School & Library Price]]","v":0}]
[null,16,null,"Current Issues","At Issue","Civil Disobedience","978-1-5345-0066-2","Greenhaven Publishing","eBook",1,"2018","August 2017",null,null,"Edited by","Elizabeth Schmermund",null,null,null,null,"Z",null,"Years 14 - 17","Grade 10 - 12","Grade 9 - 12","Civil disobedience, the refusal to obey certain laws, is a method of protest famously articulated by philosopher and writer Henry David Thoreau in his 1849 essay “Civil Disobedience.” Thoreau believed that protest became a moral obligation when laws collided with conscience. Since then, civil disobedience has been employed as a form of rebellion around the world. But is there a place for civil disobedience in democratic societies? When is civil disobedience justifiable? Is violence ever called for? Furthermore, how effective is civil disobedience?","English",39.4,31.52,"303.6'1--dc23","144 pp.",{"$f":"Table1[[#This Row],['# of Books]]*Table1[[#This Row],[QTY]]","v":0},{"$f":"Table1[[#This Row],[QTY]]*Table1[[#This Row],[School & Library Price]]","v":0}]
[null,16,null,"Current Issues","At Issue","Civil Disobedience","978-1-5345-0063-1","Greenhaven Publishing","Paperback Book",1,"2018","August 2017","Paperback","6.000 X 9.000","Edited by","Elizabeth Schmermund",null,null,null,null,"Z",null,"Years 14 - 17","Grade 10 - 12","Grade 9 - 12","Civil disobedience, the refusal to obey certain laws, is a method of protest famously articulated by philosopher and writer Henry David Thoreau in his 1849 essay “Civil Disobedience.” Thoreau believed that protest became a moral obligation when laws collided with conscience. Since then, civil disobedience has been employed as a form of rebellion around the world. But is there a place for civil disobedience in democratic societies? When is civil disobedience justifiable? Is violence ever called for? Furthermore, how effective is civil disobedience?","English",27.8,22.24,"303.6'1--dc23","144 pp.",{"$f":"Table1[[#This Row],['# of Books]]*Table1[[#This Row],[QTY]]","v":0},{"$f":"Table1[[#This Row],[QTY]]*Table1[[#This Row],[School & Library Price]]","v":0}]
[null,16,null,"Current Issues","At Issue","Guns: Conceal and Carry","978-1-5345-0062-4","Greenhaven Publishing","Library Bound Book",1,"2018","August 2017","Library","6.000 X 9.000","Edited by","Anne C. Cunningham",null,null,null,null,"Z",null,"Years 14 - 17","Grade 10 - 12","Grade 9 - 12","Nowhere is the gun control debate more heated than in the United States. Gun control advocates argue for tighter restrictions on purchasing and licensing in the hopes of reducing incidents of shootings. Gun owners fear that their guns will be taken away, eliminating their ability to protect their families. Carrying a concealed handgun is legal in every state, and polls shows that the majority of Americans support conceal and carry. The viewpoints in this volume attempt to answer tough questions, such as “Do concealed handguns deter or increase crime?” and “Do the protections stipulated in the Second Amendment cover today’s gun owners?”","English",39.4,31.52,"344.7305'33--dc23","200 pp.",{"$f":"Table1[[#This Row],['# of Books]]*Table1[[#This Row],[QTY]]","v":0},{"$f":"Table1[[#This Row],[QTY]]*Table1[[#This Row],[School & Library Price]]","v":0}]
[null,16,null,"Current Issues","At Issue","Guns: Conceal and Carry","978-1-5345-0073-0","Greenhaven Publishing","eBook",1,"2018","August 2017",null,null,"Edited by","Anne C. Cunningham",null,null,null,null,"Z",null,"Years 14 - 17","Grade 10 - 12","Grade 9 - 12","Nowhere is the gun control debate more heated than in the United States. Gun control advocates argue for tighter restrictions on purchasing and licensing in the hopes of reducing incidents of shootings. Gun owners fear that their guns will be taken away, eliminating their ability to protect their families. Carrying a concealed handgun is legal in every state, and polls shows that the majority of Americans support conceal and carry. The viewpoints in this volume attempt to answer tough questions, such as “Do concealed handguns deter or increase crime?” and “Do the protections stipulated in the Second Amendment cover today’s gun owners?”","English",39.4,31.52,"344.7305'33--dc23","200 pp.",{"$f":"Table1[[#This Row],['# of Books]]*Table1[[#This Row],[QTY]]","v":0},{"$f":"Table1[[#This Row],[QTY]]*Table1[[#This Row],[School & Library Price]]","v":0}]
[null,16,null,"Current Issues","At Issue","Guns: Conceal and Carry","978-1-5345-0060-0","Greenhaven Publishing","Paperback Book",1,"2018","August 2017","Paperback","6.000 X 9.000","Edited by","Anne C. Cunningham",null,null,null,null,"Z",null,"Years 14 - 17","Grade 10 - 12","Grade 9 - 12","Nowhere is the gun control debate more heated than in the United States. Gun control advocates argue for tighter restrictions on purchasing and licensing in the hopes of reducing incidents of shootings. Gun owners fear that their guns will be taken away, eliminating their ability to protect their families. Carrying a concealed handgun is legal in every state, and polls shows that the majority of Americans support conceal and carry. The viewpoints in this volume attempt to answer tough questions, such as “Do concealed handguns deter or increase crime?” and “Do the protections stipulated in the Second Amendment cover today’s gun owners?”","English",27.8,22.24,"344.7305'33--dc23","200 pp.",{"$f":"Table1[[#This Row],['# of Books]]*Table1[[#This Row],[QTY]]","v":0},{"$f":"Table1[[#This Row],[QTY]]*Table1[[#This Row],[School & Library Price]]","v":0}]
[null,16,null,"Current Issues","At Issue","The Right to a Living Wage","978-1-5345-0082-2","Greenhaven Publishing","Library Bound Book",1,"2018","August 2017","Library","6.000 X 9.000","Edited by","Matt Uhler",null,null,null,null,"Z",null,"Years 14 - 17","Grade 10 - 12","Grade 9 - 12","With the disappearance of well-paying jobs and the increasing cost of living, it’s becoming more and more difficult to stay afloat in the United States. Workers who earn the minimum wage often can’t afford the most basic needs. In response, more than 100 U.S. cities have issued living wage ordinances, requiring payments that allow workers to afford food, clothing, shelter, utilities, and healthcare. It may seem obvious that everyone wins with a living wage. But does paying out a living wage help or harm the economy? Should corporations be forced to pay them? What is society’s responsibility to its workers?","English",39.4,31.52,"331.2/3--dc23","200 pp.",{"$f":"Table1[[#This Row],['# of Books]]*Table1[[#This Row],[QTY]]","v":0},{"$f":"Table1[[#This Row],[QTY]]*Table1[[#This Row],[School & Library Price]]","v":0}]
[null,16,null,"Current Issues","At Issue","The Right to a Living Wage","978-1-5345-0083-9","Greenhaven Publishing","eBook",1,"2018","August 2017",null,null,"Edited by","Matt Uhler",null,null,null,null,"Z",null,"Years 14 - 17","Grade 10 - 12","Grade 9 - 12","With the disappearance of well-paying jobs and the increasing cost of living, it’s becoming more and more difficult to stay afloat in the United States. Workers who earn the minimum wage often can’t afford the most basic needs. In response, more than 100 U.S. cities have issued living wage ordinances, requiring payments that allow workers to afford food, clothing, shelter, utilities, and healthcare. It may seem obvious that everyone wins with a living wage. But does paying out a living wage help or harm the economy? Should corporations be forced to pay them? What is society’s responsibility to its workers?","English",39.4,31.52,"331.2/3--dc23","200 pp.",{"$f":"Table1[[#This Row],['# of Books]]*Table1[[#This Row],[QTY]]","v":0},{"$f":"Table1[[#This Row],[QTY]]*Table1[[#This Row],[School & Library Price]]","v":0}]
[null,16,null,"Current Issues","At Issue","The Right to a Living Wage","978-1-5345-0080-8","Greenhaven Publishing","Paperback Book",1,"2018","August 2017","Paperback","6.000 X 9.000","Edited by","Matt Uhler",null,null,null,null,"Z",null,"Years 14 - 17","Grade 10 - 12","Grade 9 - 12","With the disappearance of well-paying jobs and the increasing cost of living, it’s becoming more and more difficult to stay afloat in the United States. Workers who earn the minimum wage often can’t afford the most basic needs. In response, more than 100 U.S. cities have issued living wage ordinances, requiring payments that allow workers to afford food, clothing, shelter, utilities, and healthcare. It may seem obvious that everyone wins with a living wage. But does paying out a living wage help or harm the economy? Should corporations be forced to pay them? What is society’s responsibility to its workers?","English",27.8,22.24,"331.2/3--dc23","200 pp.",{"$f":"Table1[[#This Row],['# of Books]]*Table1[[#This Row],[QTY]]","v":0},{"$f":"Table1[[#This Row],[QTY]]*Table1[[#This Row],[School & Library Price]]","v":0}]
[null,16,null,"Current Issues","At Issue","Trial by Internet","978-1-5345-0069-3","Greenhaven Publishing","Library Bound Book",1,"2018","August 2017","Library","6.000 X 9.000","Edited by","Avery Elizabeth Hurt",null,null,null,null,"Z",null,"Years 14 - 17","Grade 10 - 12","Grade 9 - 12","The relative anonymity the Internet provides allows us to assert our knowledge like a professor, show off our seemingly perfect lives, and judge like we’re presiding over a court of law. The problem with this relatively new phenomenon is that we often make snap judgments about other people’s actions or statements without knowing all of the facts, and without giving others the benefit of the doubt. This volume dives deep into the realities of the Internet age: Do we become different people when we’re on the Internet? What responsibility do we have in our treatment of others in this new society? Is it our place to be virtual judge and jury?","English",39.4,31.52,"364.2/54--dc23","136 pp.",{"$f":"Table1[[#This Row],['# of Books]]*Table1[[#This Row],[QTY]]","v":0},{"$f":"Table1[[#This Row],[QTY]]*Table1[[#This Row],[School & Library Price]]","v":0}]
[null,16,null,"Current Issues","At Issue","Trial by Internet","978-1-5345-0070-9","Greenhaven Publishing","eBook",1,"2018","August 2017",null,null,"Edited by","Avery Elizabeth Hurt",null,null,null,null,"Z",null,"Years 14 - 17","Grade 10 - 12","Grade 9 - 12","The relative anonymity the Internet provides allows us to assert our knowledge like a professor, show off our seemingly perfect lives, and judge like we’re presiding over a court of law. The problem with this relatively new phenomenon is that we often make snap judgments about other people’s actions or statements without knowing all of the facts, and without giving others the benefit of the doubt. This volume dives deep into the realities of the Internet age: Do we become different people when we’re on the Internet? What responsibility do we have in our treatment of others in this new society? Is it our place to be virtual judge and jury?","English",39.4,31.52,"364.2/54--dc23","136 pp.",{"$f":"Table1[[#This Row],['# of Books]]*Table1[[#This Row],[QTY]]","v":0},{"$f":"Table1[[#This Row],[QTY]]*Table1[[#This Row],[School & Library Price]]","v":0}]
[null,16,null,"Current Issues","At Issue","Trial by Internet","978-1-5345-0067-9","Greenhaven Publishing","Paperback Book",1,"2018","August 2017","Paperback","6.000 X 9.000","Edited by","Avery Elizabeth Hurt",null,null,null,null,"Z",null,"Years 14 - 17","Grade 10 - 12","Grade 9 - 12","The relative anonymity the Internet provides allows us to assert our knowledge like a professor, show off our seemingly perfect lives, and judge like we’re presiding over a court of law. The problem with this relatively new phenomenon is that we often make snap judgments about other people’s actions or statements without knowing all of the facts, and without giving others the benefit of the doubt. This volume dives deep into the realities of the Internet age: Do we become different people when we’re on the Internet? What responsibility do we have in our treatment of others in this new society? Is it our place to be virtual judge and jury?","English",27.8,22.24,"364.2/54--dc23","136 pp.",{"$f":"Table1[[#This Row],['# of Books]]*Table1[[#This Row],[QTY]]","v":0},{"$f":"Table1[[#This Row],[QTY]]*Table1[[#This Row],[School & Library Price]]","v":0}]
[null,16,null,"Current Issues","At Issue","When Is Free Speech Hate Speech?","978-1-5345-0077-8","Greenhaven Publishing","Library Bound Book",1,"2018","August 2017","Library","6.000 X 9.000","Edited by","Martin Gitlin",null,null,null,null,"Z",null,"Years 14 - 17","Grade 10 - 12","Grade 9 - 12","Free speech is guaranteed under the First Amendment. Although it may hurt and offend, hate speech is still free, under most circumstances. But what happens when institutions like universities adopt policies prohibiting offensive speech? Do such policies cause more harm than good? Should measures be taken to curb threatening or insulting comments? Or does that amount to little more than censorship? Is our quest to be polite and politically correct curtailing opportunities to express, learn, and grow? When does free speech become criminally threatening? These questions and more are thoughtfully examined in this important resource.","English",39.4,31.52,"323.44/30973--dc23","160 pp.",{"$f":"Table1[[#This Row],['# of Books]]*Table1[[#This Row],[QTY]]","v":0},{"$f":"Table1[[#This Row],[QTY]]*Table1[[#This Row],[School & Library Price]]","v":0}]
[null,16,null,"Current Issues","At Issue","When Is Free Speech Hate Speech?","978-1-5345-0079-2","Greenhaven Publishing","eBook",1,"2018","August 2017",null,null,"Edited by","Martin Gitlin",null,null,null,null,"Z",null,"Years 14 - 17","Grade 10 - 12","Grade 9 - 12","Free speech is guaranteed under the First Amendment. Although it may hurt and offend, hate speech is still free, under most circumstances. But what happens when institutions like universities adopt policies prohibiting offensive speech? Do such policies cause more harm than good? Should measures be taken to curb threatening or insulting comments? Or does that amount to little more than censorship? Is our quest to be polite and politically correct curtailing opportunities to express, learn, and grow? When does free speech become criminally threatening? These questions and more are thoughtfully examined in this important resource.","English",39.4,31.52,"323.44/30973--dc23","160 pp.",{"$f":"Table1[[#This Row],['# of Books]]*Table1[[#This Row],[QTY]]","v":0},{"$f":"Table1[[#This Row],[QTY]]*Table1[[#This Row],[School & Library Price]]","v":0}]
[null,16,null,"Current Issues","At Issue","When Is Free Speech Hate Speech?","978-1-5345-0078-5","Greenhaven Publishing","Paperback Book",1,"2018","August 2017","Paperback","6.000 X 9.000","Edited by","Martin Gitlin",null,null,null,null,"Z",null,"Years 14 - 17","Grade 10 - 12","Grade 9 - 12","Free speech is guaranteed under the First Amendment. Although it may hurt and offend, hate speech is still free, under most circumstances. But what happens when institutions like universities adopt policies prohibiting offensive speech? Do such policies cause more harm than good? Should measures be taken to curb threatening or insulting comments? Or does that amount to little more than censorship? Is our quest to be polite and politically correct curtailing opportunities to express, learn, and grow? When does free speech become criminally threatening? These questions and more are thoughtfully examined in this important resource.","English",27.8,22.24,"323.44/30973--dc23","160 pp.",{"$f":"Table1[[#This Row],['# of Books]]*Table1[[#This Row],[QTY]]","v":0},{"$f":"Table1[[#This Row],[QTY]]*Table1[[#This Row],[School & Library Price]]","v":0}]
[null,16,null,"Current Issues","At Issue (Jan '17 Set)","At Issue (Jan '17 Set)","978-1-5345-0000-6","Greenhaven Publishing","Library Set",4,2017,"January2017","Library Bound","6.000 X 9.000"," "," ",null,null,null,null,null,null,"Years 14 - 17",null,"Grade 9 - 12","The At Issue series includes a wide range of opinions on a single controversial subject. Each volume includes primary and secondary sources from many perspectives and a variety of sources, including journals, newspapers, books, websites, government agencies, and others. Useful resource information includes an annotated list of organizations to contact, bibliography, and subject index.","English",157.6,126.08,null,"128 pp.",{"$f":"Table1[[#This Row],['# of Books]]*Table1[[#This Row],[QTY]]","v":0},{"$f":"Table1[[#This Row],[QTY]]*Table1[[#This Row],[School & Library Price]]","v":0}]
[null,16,null,"Current Issues","At Issue (Jan '17 Set)","At Issue (Jan '17 Set)","978-1-5345-0001-3","Greenhaven Publishing","Single Copy Set",4,2017,"January2017","Paperback","6.000 X 9.000"," "," ",null,null,null,null,null,null,"Years 14 - 17",null,"Grade 9 - 12","The At Issue series includes a wide range of opinions on a single controversial subject. Each volume includes primary and secondary sources from many perspectives and a variety of sources, including journals, newspapers, books, websites, government agencies, and others. Useful resource information includes an annotated list of organizations to contact, bibliography, and subject index.","English",111.2,88.96,null,"128 pp.",{"$f":"Table1[[#This Row],['# of Books]]*Table1[[#This Row],[QTY]]","v":0},{"$f":"Table1[[#This Row],[QTY]]*Table1[[#This Row],[School & Library Price]]","v":0}]
[null,16,null,"Current Issues","At Issue","Campus Sexual Violence","978-1-5345-0018-1","Greenhaven Publishing","Library Bound Book",1,2017,"January2017","Library Bound","6.000 X 9.000","Editor","Elizabeth Schmermund",null,null,null,null,"Z",null,"Years 14 - 17",null,"Grade 9 - 12","Sexual assault on the campuses of universities and private schools appears to be on the rise. Alcohol and fraternities are easy targets, but the issue is much more complicated. Despite attempts made by administrators to define consent clearly, it can be a legal gray area. Students condemned by a school’s excessively broad definition of sexual assault can be branded rapists long after graduation. Victims must face their attackers on campus because administrators prefer to keep incidents out of the hands of law enforcement. Through balanced viewpoints, this powerful anthology addresses the complexities of an issue that has important social repercussions.","English",39.4,31.52,null,"128 pp.",{"$f":"Table1[[#This Row],['# of Books]]*Table1[[#This Row],[QTY]]","v":0},{"$f":"Table1[[#This Row],[QTY]]*Table1[[#This Row],[School & Library Price]]","v":0}]
[null,16,null,"Current Issues","At Issue","Campus Sexual Violence","978-1-5345-0010-5","Greenhaven Publishing","eBook",1,2017,"January2017","eBook",null,"Edited by","Elizabeth Schmermund",null,null,null,null,"Z",null,"Years 14 - 17",null,"Grade 9 - 12","Sexual assault on the campuses of universities and private schools appears to be on the rise. Alcohol and fraternities are easy targets, but the issue is much more complicated. Despite attempts made by administrators to define consent clearly, it can be a legal gray area. Students condemned by a school’s excessively broad definition of sexual assault can be branded rapists long after graduation. Victims must face their attackers on campus because administrators prefer to keep incidents out of the hands of law enforcement. Through balanced viewpoints, this powerful anthology addresses the complexities of an issue that has important social repercussions.","English",39.4,31.52,null,"128 pp.",{"$f":"Table1[[#This Row],['# of Books]]*Table1[[#This Row],[QTY]]","v":0},{"$f":"Table1[[#This Row],[QTY]]*Table1[[#This Row],[School & Library Price]]","v":0}]
[null,16,null,"Current Issues","At Issue","Campus Sexual Violence","978-1-5345-0037-2","Greenhaven Publishing","Paperback Book",1,2017,"January2017","Paperback","6.000 X 9.000","Editor","Elizabeth Schmermund",null,null,null,null,"Z",null,"Years 14 - 17",null,"Grade 9 - 12","Sexual assault on the campuses of universities and private schools appears to be on the rise. Alcohol and fraternities are easy targets, but the issue is much more complicated. Despite attempts made by administrators to define consent clearly, it can be a legal gray area. Students condemned by a school’s excessively broad definition of sexual assault can be branded rapists long after graduation. Victims must face their attackers on campus because administrators prefer to keep incidents out of the hands of law enforcement. Through balanced viewpoints, this powerful anthology addresses the complexities of an issue that has important social repercussions.","English",27.8,22.24,null,"128 pp.",{"$f":"Table1[[#This Row],['# of Books]]*Table1[[#This Row],[QTY]]","v":0},{"$f":"Table1[[#This Row],[QTY]]*Table1[[#This Row],[School & Library Price]]","v":0}]
[null,16,null,"Current Issues","At Issue","Domestic Terrorism","978-1-5345-0015-0","Greenhaven Publishing","Library Bound Book",1,2017,"January2017","Library Bound","6.000 X 9.000","Editor","Elizabeth Schmermund",null,null,null,null,"Z",null,"Years 14 - 17",null,"Grade 9 - 12","What constitutes domestic terrorism? The answer is actually more complicated than most of us would think. Readers of this informative anthology will progress through a range of articles offering diverse viewpoints about the Patriot Act, the differences in perception of white Christian violent extremists and those of other races and religions, why some environmental and animal activists are considered terrorists, the growing problem of “paper terrorism,” and what can lead homegrown terrorists to lash out against a country that has given them so much opportunity.","English",39.4,31.52,null,"128 pp.",{"$f":"Table1[[#This Row],['# of Books]]*Table1[[#This Row],[QTY]]","v":0},{"$f":"Table1[[#This Row],[QTY]]*Table1[[#This Row],[School & Library Price]]","v":0}]
[null,16,null,"Current Issues","At Issue","Domestic Terrorism","978-1-5345-0011-2","Greenhaven Publishing","eBook",1,2017,"January2017","eBook",null,"Edited by","Elizabeth Schmermund",null,null,null,null,"Z",null,"Years 14 - 17",null,"Grade 9 - 12","What constitutes domestic terrorism? The answer is actually more complicated than most of us would think. Readers of this informative anthology will progress through a range of articles offering diverse viewpoints about the Patriot Act, the differences in perception of white Christian violent extremists and those of other races and religions, why some environmental and animal activists are considered terrorists, the growing problem of “paper terrorism,” and what can lead homegrown terrorists to lash out against a country that has given them so much opportunity.","English",39.4,31.52,null,"128 pp.",{"$f":"Table1[[#This Row],['# of Books]]*Table1[[#This Row],[QTY]]","v":0},{"$f":"Table1[[#This Row],[QTY]]*Table1[[#This Row],[School & Library Price]]","v":0}]
[null,16,null,"Current Issues","At Issue","Domestic Terrorism","978-1-5345-0039-6","Greenhaven Publishing","Paperback Book",1,2017,"January2017","Paperback","6.000 X 9.000","Editor","Elizabeth Schmermund",null,null,null,null,"Z",null,"Years 14 - 17",null,"Grade 9 - 12","What constitutes domestic terrorism? The answer is actually more complicated than most of us would think. Readers of this informative anthology will progress through a range of articles offering diverse viewpoints about the Patriot Act, the differences in perception of white Christian violent extremists and those of other races and religions, why some environmental and animal activists are considered terrorists, the growing problem of “paper terrorism,” and what can lead homegrown terrorists to lash out against a country that has given them so much opportunity.","English",27.8,22.24,null,"128 pp.",{"$f":"Table1[[#This Row],['# of Books]]*Table1[[#This Row],[QTY]]","v":0},{"$f":"Table1[[#This Row],[QTY]]*Table1[[#This Row],[School & Library Price]]","v":0}]
[null,16,null,"Current Issues","At Issue","Environmental Racism and Classism","978-1-5345-0016-7","Greenhaven Publishing","Library Bound Book",1,2017,"January2017","Library Bound","6.000 X 9.000","Editor","Anne Cunningham",null,null,null,null,"Z",null,"Years 14 - 17",null,"Grade 9 - 12","Flint’s water supply tainted with lead. Chicago’s toxic “donut.” Louisiana’s “cancer alley.” Corporate waste poisoning developing nations. These are all examples of environmental racism. Readers of this compelling anthology will be awakened to many examples of poor and minority communities that suffer physically, emotionally, and financially from living in a toxic environment. With no political clout and few available resources, these victims find themselves abandoned by the environmental movement and bullied by environmental policies. The burgeoning environmental justice movement argues that environmental protection is a basic right. After reading the informative viewpoints in this volume, students will come to their own conclusions.","English",39.4,31.52,null,"128 pp.",{"$f":"Table1[[#This Row],['# of Books]]*Table1[[#This Row],[QTY]]","v":0},{"$f":"Table1[[#This Row],[QTY]]*Table1[[#This Row],[School & Library Price]]","v":0}]
[null,16,null,"Current Issues","At Issue","Environmental Racism and Classism","978-1-5345-0012-9","Greenhaven Publishing","eBook",1,2017,"January2017","eBook",null,"Edited by","Anne Cunningham",null,null,null,null,"Z",null,"Years 14 - 17",null,"Grade 9 - 12","Flint’s water supply tainted with lead. Chicago’s toxic “donut.” Louisiana’s “cancer alley.” Corporate waste poisoning developing nations. These are all examples of environmental racism. Readers of this compelling anthology will be awakened to many examples of poor and minority communities that suffer physically, emotionally, and financially from living in a toxic environment. With no political clout and few available resources, these victims find themselves abandoned by the environmental movement and bullied by environmental policies. The burgeoning environmental justice movement argues that environmental protection is a basic right. After reading the informative viewpoints in this volume, students will come to their own conclusions.","English",39.4,31.52,null,"128 pp.",{"$f":"Table1[[#This Row],['# of Books]]*Table1[[#This Row],[QTY]]","v":0},{"$f":"Table1[[#This Row],[QTY]]*Table1[[#This Row],[School & Library Price]]","v":0}]
[null,16,null,"Current Issues","At Issue","Environmental Racism and Classism","978-1-5345-0040-2","Greenhaven Publishing","Paperback Book",1,2017,"January2017","Paperback","6.000 X 9.000","Editor","Anne Cunningham",null,null,null,null,"Z",null,"Years 14 - 17",null,"Grade 9 - 12","Flint’s water supply tainted with lead. Chicago’s toxic “donut.” Louisiana’s “cancer alley.” Corporate waste poisoning developing nations. These are all examples of environmental racism. Readers of this compelling anthology will be awakened to many examples of poor and minority communities that suffer physically, emotionally, and financially from living in a toxic environment. With no political clout and few available resources, these victims find themselves abandoned by the environmental movement and bullied by environmental policies. The burgeoning environmental justice movement argues that environmental protection is a basic right. After reading the informative viewpoints in this volume, students will come to their own conclusions.","English",27.8,22.24,null,"128 pp.",{"$f":"Table1[[#This Row],['# of Books]]*Table1[[#This Row],[QTY]]","v":0},{"$f":"Table1[[#This Row],[QTY]]*Table1[[#This Row],[School & Library Price]]","v":0}]
[null,16,null,"Current Issues","At Issue","Gender Politics","978-1-5345-0014-3","Greenhaven Publishing","Library Bound Book",1,2017,"January2017","Library Bound","6.000 X 9.000","Editor","Susan Henneberg",null,null,null,null,"Z",null,"Years 14 - 17",null,"Grade 9 - 12","It is somewhat astounding that a gender gap continues to exist today in the United States and worldwide. Girls and women face educational roadblocks, economic disparity, threats to their health and safety, and biased laws. How can such treatment of the world’s mothers, sisters, wives, and daughters be permitted? This enlightening anthology presents a range of diverse viewpoints about the gender divide between men and women. Readers will learn the effects that culture and gender constructs have on this gap, and why it is an issue that concerns both women and men.","English",39.4,31.52,null,"128 pp.",{"$f":"Table1[[#This Row],['# of Books]]*Table1[[#This Row],[QTY]]","v":0},{"$f":"Table1[[#This Row],[QTY]]*Table1[[#This Row],[School & Library Price]]","v":0}]
[null,16,null,"Current Issues","At Issue","Gender Politics","978-1-5345-0013-6","Greenhaven Publishing","eBook",1,2017,"January2017","eBook",null,"Edited by","Susan Henneberg",null,null,null,null,"Z",null,"Years 14 - 17",null,"Grade 9 - 12","It is somewhat astounding that a gender gap continues to exist today in the United States and worldwide. Girls and women face educational roadblocks, economic disparity, threats to their health and safety, and biased laws. How can such treatment of the world’s mothers, sisters, wives, and daughters be permitted? This enlightening anthology presents a range of diverse viewpoints about the gender divide between men and women. Readers will learn the effects that culture and gender constructs have on this gap, and why it is an issue that concerns both women and men.","English",39.4,31.52,null,"128 pp.",{"$f":"Table1[[#This Row],['# of Books]]*Table1[[#This Row],[QTY]]","v":0},{"$f":"Table1[[#This Row],[QTY]]*Table1[[#This Row],[School & Library Price]]","v":0}]
[null,16,null,"Current Issues","At Issue","Gender Politics","978-1-5345-0041-9","Greenhaven Publishing","Paperback Book",1,2017,"January2017","Paperback","6.000 X 9.000","Editor","Susan Henneberg",null,null,null,null,"Z",null,"Years 14 - 17",null,"Grade 9 - 12","It is somewhat astounding that a gender gap continues to exist today in the United States and worldwide. Girls and women face educational roadblocks, economic disparity, threats to their health and safety, and biased laws. How can such treatment of the world’s mothers, sisters, wives, and daughters be permitted? This enlightening anthology presents a range of diverse viewpoints about the gender divide between men and women. Readers will learn the effects that culture and gender constructs have on this gap, and why it is an issue that concerns both women and men.","English",27.8,22.24,null,"128 pp.",{"$f":"Table1[[#This Row],['# of Books]]*Table1[[#This Row],[QTY]]","v":0},{"$f":"Table1[[#This Row],[QTY]]*Table1[[#This Row],[School & Library Price]]","v":0}]
[null,16,null,"Current Issues","At Issue","Adaptation and Climate Change","978-0-7377-6141-2","Greenhaven Publishing","Library Bound Book",1,2013,null,"Library Bound","6.000 X 9.000","Author","Roman Espejo",null,null,null,null,null,null,"Years 15 - 17",null,"Grade 10 - 12","This title explores whether climate change is overstated, whether adaptation or mitigation is a better approach to climate change, the impact of climate change, including: relocation of populations, the impact on animal and plant species, food security, and water security, the role of business on climate change policy.","English",39.4,31.52,"304","136 pp.",{"$f":"Table1[[#This Row],['# of Books]]*Table1[[#This Row],[QTY]]","v":0},{"$f":"Table1[[#This Row],[QTY]]*Table1[[#This Row],[School & Library Price]]","v":0}]
[null,16,null,"Current Issues","At Issue","Adaptation and Climate Change","978-0-7377-6142-9","Greenhaven Publishing","Paperback Book",1,2013,null,"Paperback","6.000 X 9.000","Author","Roman Espejo",null,null,null,null,null,null,"Years 15 - 17",null,"Grade 10 - 12","This title explores whether climate change is overstated, whether adaptation or mitigation is a better approach to climate change, the impact of climate change, including: relocation of populations, the impact on animal and plant species, food security, and water security, the role of business on climate change policy.","English",27.8,22.240000000000002,"304","129 pp.",{"$f":"Table1[[#This Row],['# of Books]]*Table1[[#This Row],[QTY]]","v":0},{"$f":"Table1[[#This Row],[QTY]]*Table1[[#This Row],[School & Library Price]]","v":0}]
[null,16,null,"Current Issues","At Issue","Affirmative Action","978-0-7377-4278-7","Greenhaven Publishing","Library Bound Book",1,2009,null,"Library Bound","6.000 X 9.000","Author","Paul Connors",null,null,null,null,null,null,"Years 15 - 17",null,"Grade 10 - 12",null,"English",39.4,31.52,"378","136 pp.",{"$f":"Table1[[#This Row],['# of Books]]*Table1[[#This Row],[QTY]]","v":0},{"$f":"Table1[[#This Row],[QTY]]*Table1[[#This Row],[School & Library Price]]","v":0}]
[null,16,null,"Current Issues","At Issue","Affirmative Action","978-0-7377-4277-0","Greenhaven Publishing","Paperback Book",1,2009,null,"Paperback","6.000 X 9.000","Author","Paul Connors",null,null,null,null,null,null,"Years 15 - 17",null,"Grade 10 - 12",null,"English",27.8,22.240000000000002,"378","136 pp.",{"$f":"Table1[[#This Row],['# of Books]]*Table1[[#This Row],[QTY]]","v":0},{"$f":"Table1[[#This Row],[QTY]]*Table1[[#This Row],[School & Library Price]]","v":0}]
[null,16,null,"Current Issues","At Issue","Age of Consent","978-0-7377-6816-9","Greenhaven Publishing","Library Bound Book",1,2013,null,"Library Bound","6.000 X 9.000","Author","Christine Watkins",null,null,null,null,null,null,"Years 15 - 17",null,"Grade 10 - 12","This title explores the issue of the age of consent, question of a link between cell phone and cancer, focusing on if the age of consent should be eighteen or lower, if age of consent laws are confusing, if minors should need parental consent.","English",39.4,31.52,"306.70835","120 pp.",{"$f":"Table1[[#This Row],['# of Books]]*Table1[[#This Row],[QTY]]","v":0},{"$f":"Table1[[#This Row],[QTY]]*Table1[[#This Row],[School & Library Price]]","v":0}]
[null,16,null,"Current Issues","At Issue","Age of Consent","978-0-7377-6817-6","Greenhaven Publishing","Paperback Book",1,2013,null,"Paperback","6.000 X 9.000","Author","Christine Watkins",null,null,null,null,null,null,"Years 15 - 17",null,"Grade 10 - 12","This title explores the issue of the age of consent, question of a link between cell phone and cancer, focusing on if the age of consent should be eighteen or lower, if age of consent laws are confusing, if minors should need parental consent.","English",27.8,22.240000000000002,"306.70835","117 pp.",{"$f":"Table1[[#This Row],['# of Books]]*Table1[[#This Row],[QTY]]","v":0},{"$f":"Table1[[#This Row],[QTY]]*Table1[[#This Row],[School & Library Price]]","v":0}]
[null,16,null,"Current Issues","At Issue","AIDS in Developing Countries","978-0-7377-4671-6","Greenhaven Publishing","Library Bound Book",1,2010,null,"Library Bound","6.000 X 9.000","Author","Noël Merino",null,null,null,null,null,null,"Years 15 - 17",null,"Grade 10 - 12",null,"English",39.4,31.52,"362","120 pp.",{"$f":"Table1[[#This Row],['# of Books]]*Table1[[#This Row],[QTY]]","v":0},{"$f":"Table1[[#This Row],[QTY]]*Table1[[#This Row],[School & Library Price]]","v":0}]
[null,16,null,"Current Issues","At Issue","AIDS in Developing Countries","978-0-7377-4672-3","Greenhaven Publishing","Paperback Book",1,2010,null,"Paperback","6.000 X 9.000","Author","Noël Merino",null,null,null,null,null,null,"Years 15 - 17",null,"Grade 10 - 12",null,"English",27.8,22.240000000000002,"362","120 pp.",{"$f":"Table1[[#This Row],['# of Books]]*Table1[[#This Row],[QTY]]","v":0},{"$f":"Table1[[#This Row],[QTY]]*Table1[[#This Row],[School & Library Price]]","v":0}]
[null,16,null,"Current Issues","At Issue","Alcohol Abuse","978-0-7377-5542-8","Greenhaven Publishing","Library Bound Book",1,2012,null,"Library Bound","6.000 X 9.000","Author","Christine Watkins",null,null,null,null,null,null,"Years 15 - 17",null,"Grade 10 - 12","This edition in the At Issue series offers readers a comprehensive look at the issues surrounding alcohol abuse. The title explores the impact of alcohol consumption on health, the state of underage drinking and the effectiveness of a legalized drinking age, whether or not alcoholism can be considered a disease, the effectiveness of step programs in addressing alcohol abuse, and the long-term effects of alcoholic parents on their children.","English",39.4,31.52,"362","144 pp.",{"$f":"Table1[[#This Row],['# of Books]]*Table1[[#This Row],[QTY]]","v":0},{"$f":"Table1[[#This Row],[QTY]]*Table1[[#This Row],[School & Library Price]]","v":0}]
[null,16,null,"Current Issues","At Issue","Alcohol Abuse","978-0-7377-5543-5","Greenhaven Publishing","Paperback Book",1,2012,null,"Paperback","6.000 X 9.000","Author","Christine Watkins",null,null,null,null,null,null,"Years 15 - 17",null,"Grade 10 - 12","This edition in the At Issue series offers readers a comprehensive look at the issues surrounding alcohol abuse. The title explores the impact of alcohol consumption on health, the state of underage drinking and the effectiveness of a legalized drinking age, whether or not alcoholism can be considered a disease, the effectiveness of step programs in addressing alcohol abuse, and the long-term effects of alcoholic parents on their children.","English",27.8,22.240000000000002,"362","143 pp.",{"$f":"Table1[[#This Row],['# of Books]]*Table1[[#This Row],[QTY]]","v":0},{"$f":"Table1[[#This Row],[QTY]]*Table1[[#This Row],[School & Library Price]]","v":0}]
[null,16,null,"Current Issues","At Issue","Alternatives to Prisons","978-0-7377-5544-2","Greenhaven Publishing","Library Bound Book",1,2012,null,"Library Bound","6.000 X 9.000","Author","Ronald D. Lankford",null,null,null,null,null,null,"Years 15 - 17",null,"Grade 10 - 12","This edition in the At Issue series offers readers a comprehensive look at the issues surrounding alternative prisons. The title explores the effectiveness of the American prison system, the use of boot camps as a potential alternative for juveniles and adults, the role of electronic monitoring and intensive probation, and the development of reading courses as an alternative to incarceration.","English",39.4,31.52,"364","112 pp.",{"$f":"Table1[[#This Row],['# of Books]]*Table1[[#This Row],[QTY]]","v":0},{"$f":"Table1[[#This Row],[QTY]]*Table1[[#This Row],[School & Library Price]]","v":0}]
[null,16,null,"Current Issues","At Issue","Alternatives to Prisons","978-0-7377-5545-9","Greenhaven Publishing","Paperback Book",1,2012,null,"Paperback","6.000 X 9.000","Author","Ronald D. Lankford",null,null,null,null,null,null,"Years 15 - 17",null,"Grade 10 - 12","This edition in the At Issue series offers readers a comprehensive look at the issues surrounding alternative prisons. The title explores the effectiveness of the American prison system, the use of boot camps as a potential alternative for juveniles and adults, the role of electronic monitoring and intensive probation, and the development of reading courses as an alternative to incarceration.","English",27.8,22.240000000000002,"364","111 pp.",{"$f":"Table1[[#This Row],['# of Books]]*Table1[[#This Row],[QTY]]","v":0},{"$f":"Table1[[#This Row],[QTY]]*Table1[[#This Row],[School & Library Price]]","v":0}]
[null,16,null,"Current Issues","At Issue","Animal Experimentation","978-0-7377-6143-6","Greenhaven Publishing","Library Bound Book",1,2013,null,"Library Bound","6.000 X 9.000","Author","Susan C. Hunnicutt",null,null,null,null,null,null,"Years 15 - 17",null,"Grade 10 - 12","This edition in the At Issue series examines issues related to animal experimentation. Includes primary and secondary sources from a variety of perspectives -- eyewitnesses, scientific journals, government officials and many others.","English",39.4,31.52,"179","112 pp.",{"$f":"Table1[[#This Row],['# of Books]]*Table1[[#This Row],[QTY]]","v":0},{"$f":"Table1[[#This Row],[QTY]]*Table1[[#This Row],[School & Library Price]]","v":0}]
[null,16,null,"Current Issues","At Issue","Animal Experimentation","978-0-7377-6144-3","Greenhaven Publishing","Paperback Book",1,2013,null,"Paperback","6.000 X 9.000","Author","Susan C. Hunnicutt",null,null,null,null,null,null,"Years 15 - 17",null,"Grade 10 - 12","This edition in the At Issue series examines issues related to animal experimentation. Includes primary and secondary sources from a variety of perspectives -- eyewitnesses, scientific journals, government officials and many others.","English",27.8,22.240000000000002,"179","112 pp.",{"$f":"Table1[[#This Row],['# of Books]]*Table1[[#This Row],[QTY]]","v":0},{"$f":"Table1[[#This Row],[QTY]]*Table1[[#This Row],[School & Library Price]]","v":0}]
[null,17,null,"Current Issues","At Issue","Anorexia","978-0-7377-4866-6","Greenhaven Publishing","Library Bound Book",1,2010,null,"Library Bound","6.000 X 9.000","Author","Stefan Kiesbye",null,null,null,null,null,null,"Years 15 - 17",null,"Grade 10 - 12","This volume explores the issues surrounding anorexia, a serious eating disorder affecting up to one percent of girls and women in the United States. Chapters discuss the roles of sociocultural influences and genetics in causing anorexia; a possible connection to Asperger syndrome; the effectiveness of internet-based treatment programs; and the potential danger of pro-anorexia web sites.","English",39.4,31.52,"362","104 pp.",{"$f":"Table1[[#This Row],['# of Books]]*Table1[[#This Row],[QTY]]","v":0},{"$f":"Table1[[#This Row],[QTY]]*Table1[[#This Row],[School & Library Price]]","v":0}]
[null,17,null,"Current Issues","At Issue","Anorexia","978-0-7377-4867-3","Greenhaven Publishing","Paperback Book",1,2010,null,"Paperback","6.000 X 9.000","Author","Stefan Kiesbye",null,null,null,null,null,null,"Years 15 - 17",null,"Grade 10 - 12","This volume explores the issues surrounding anorexia, a serious eating disorder affecting up to one percent of girls and women in the United States. Chapters discuss the roles of sociocultural influences and genetics in causing anorexia; a possible connection to Asperger syndrome; the effectiveness of internet-based treatment programs; and the potential danger of pro-anorexia web sites.","English",27.8,22.240000000000002,"362","104 pp.",{"$f":"Table1[[#This Row],['# of Books]]*Table1[[#This Row],[QTY]]","v":0},{"$f":"Table1[[#This Row],[QTY]]*Table1[[#This Row],[School & Library Price]]","v":0}]
[null,17,null,"Current Issues","At Issue","Are Abortion Rights Threatened?","978-0-7377-6145-0","Greenhaven Publishing","Library Bound Book",1,2013,null,"Library Bound","6.000 X 9.000","Author","Tamara L. Roleff",null,null,null,null,null,null,"Years 15 - 17",null,"Grade 10 - 12","This edition in the At Issue series examines issues related to abortion rights. Includes primary and secondary sources from a variety of perspectives -- eyewitnesses, scientific journals, government officials and many others.","English",39.4,31.52,"363","136 pp.",{"$f":"Table1[[#This Row],['# of Books]]*Table1[[#This Row],[QTY]]","v":0},{"$f":"Table1[[#This Row],[QTY]]*Table1[[#This Row],[School & Library Price]]","v":0}]
[null,17,null,"Current Issues","At Issue","Are Abortion Rights Threatened?","978-0-7377-6146-7","Greenhaven Publishing","Paperback Book",1,2013,null,"Paperback","6.000 X 9.000","Author","Tamara L. Roleff",null,null,null,null,null,null,"Years 15 - 17",null,"Grade 10 - 12","This edition in the At Issue series examines issues related to abortion rights. Includes primary and secondary sources from a variety of perspectives -- eyewitnesses, scientific journals, government officials and many others.","English",27.8,22.240000000000002,"363","132 pp.",{"$f":"Table1[[#This Row],['# of Books]]*Table1[[#This Row],[QTY]]","v":0},{"$f":"Table1[[#This Row],[QTY]]*Table1[[#This Row],[School & Library Price]]","v":0}]
[null,17,null,"Current Issues","At Issue","Are Adoption Policies Fair?","978-0-7377-6147-4","Greenhaven Publishing","Library Bound Book",1,2012,null,"Library Bound","6.000 X 9.000","Author","Christine Watkins",null,null,null,null,null,null,"Years 15 - 17",null,"Grade 10 - 12","This title explores many issues related to adoption policies in the US, including: the benefits and drawbacks of open adoptions or sealed birth records, regulations surrounding international adoptions, issues related to adoption by same-sex couples, arguments for and against state or national father registries, and issues surrounding the adoption of children in foster care and older children.","English",39.4,31.52,"362","144 pp.",{"$f":"Table1[[#This Row],['# of Books]]*Table1[[#This Row],[QTY]]","v":0},{"$f":"Table1[[#This Row],[QTY]]*Table1[[#This Row],[School & Library Price]]","v":0}]
[null,17,null,"Current Issues","At Issue","Are Adoption Policies Fair?","978-0-7377-6148-1","Greenhaven Publishing","Paperback Book",1,2012,null,"Paperback","6.000 X 9.000","Author","Christine Watkins",null,null,null,null,null,null,"Years 15 - 17",null,"Grade 10 - 12","This title explores many issues related to adoption policies in the US, including: the benefits and drawbacks of open adoptions or sealed birth records, regulations surrounding international adoptions, issues related to adoption by same-sex couples, arguments for and against state or national father registries, and issues surrounding the adoption of children in foster care and older children.","English",27.8,22.240000000000002,"362","137 pp.",{"$f":"Table1[[#This Row],['# of Books]]*Table1[[#This Row],[QTY]]","v":0},{"$f":"Table1[[#This Row],[QTY]]*Table1[[#This Row],[School & Library Price]]","v":0}]
[null,17,null,"Current Issues","At Issue","Are Americans Overmedicated?","978-0-7377-5141-3","Greenhaven Publishing","Library Bound Book",1,2011,null,"Library Bound","6.000 X 9.000","Author","Tamara Thompson",null,null,null,null,null,null,"Years 15 - 17",null,"Grade 10 - 12",null,"English",39.4,31.52,"362","96 pp.",{"$f":"Table1[[#This Row],['# of Books]]*Table1[[#This Row],[QTY]]","v":0},{"$f":"Table1[[#This Row],[QTY]]*Table1[[#This Row],[School & Library Price]]","v":0}]
[null,17,null,"Current Issues","At Issue","Are Americans Overmedicated?","978-0-7377-5142-0","Greenhaven Publishing","Paperback Book",1,2011,null,"Paperback","6.000 X 9.000","Author","Tamara Thompson",null,null,null,null,null,null,"Years 15 - 17",null,"Grade 10 - 12",null,"English",27.8,22.240000000000002,"362","96 pp.",{"$f":"Table1[[#This Row],['# of Books]]*Table1[[#This Row],[QTY]]","v":0},{"$f":"Table1[[#This Row],[QTY]]*Table1[[#This Row],[School & Library Price]]","v":0}]
[null,17,null,"Current Issues","At Issue","Are America's Wealthy Too Powerful?","978-0-7377-5088-1","Greenhaven Publishing","Paperback Book",1,2011,null,"Paperback","6.000 X 9.000","Author","Ronnie D. Lankford",null,null,null,null,null,null,"Years 15 - 17",null,"Grade 10 - 12",null,"English",27.8,22.240000000000002,"330","112 pp.",{"$f":"Table1[[#This Row],['# of Books]]*Table1[[#This Row],[QTY]]","v":0},{"$f":"Table1[[#This Row],[QTY]]*Table1[[#This Row],[School & Library Price]]","v":0}]
[null,17,null,"Current Issues","At Issue","Are Athletes Good Role Models?","978-0-7377-6820-6","Greenhaven Publishing","Library Bound Book",1,2014,null,"Library Bound","6.000 X 9.000","Author","Thomas Riggs",null,null,null,null,null,null,"Years 15 - 17",null,"Grade 10 - 12","This title explores whether athletes should be viewed as role models, if athletes have a responsibility to be good role models, and how the media influences society's view of athletes. Includes primary and secondary sources from a variety of perspectives -- eyewitnesses, scientific journals, government officials and many others.","English",39.4,31.52,"306.4","96 pp.",{"$f":"Table1[[#This Row],['# of Books]]*Table1[[#This Row],[QTY]]","v":0},{"$f":"Table1[[#This Row],[QTY]]*Table1[[#This Row],[School & Library Price]]","v":0}]
[null,17,null,"Current Issues","At Issue","Are Athletes Good Role Models?","978-0-7377-6821-3","Greenhaven Publishing","Paperback Book",1,2014,null,"Paperback","6.000 X 9.000","Author","Thomas Riggs",null,null,null,null,null,null,"Years 15 - 17",null,"Grade 10 - 12","This title explores whether athletes should be viewed as role models, if athletes have a responsibility to be good role models, and how the media influences society's view of athletes. Includes primary and secondary sources from a variety of perspectives -- eyewitnesses, scientific journals, government officials and many others.","English",27.8,22.240000000000002,"796","96 pp.",{"$f":"Table1[[#This Row],['# of Books]]*Table1[[#This Row],[QTY]]","v":0},{"$f":"Table1[[#This Row],[QTY]]*Table1[[#This Row],[School & Library Price]]","v":0}]
[null,17,null,"Current Issues","At Issue","Are Athletes Good Role Models?","978-0-7377-7620-1","Greenhaven Publishing","eBook",1,2014,null,"eBook",null,"Author","Thomas Riggs",null,null,null,null,null,null,"Years 15 - 17",null,"Grade 10 - 12",null,"English",39.4,39.4,"306.4","96 pp.",{"$f":"Table1[[#This Row],['# of Books]]*Table1[[#This Row],[QTY]]","v":0},{"$f":"Table1[[#This Row],[QTY]]*Table1[[#This Row],[School & Library Price]]","v":0}]
[null,17,null,"Current Issues","At Issue","Are Books Becoming Extinct?","978-0-7377-5546-6","Greenhaven Publishing","Library Bound Book",1,2012,null,"Library Bound","6.000 X 9.000","Author","David Haugen",null,null,null,null,null,null,"Years 15 - 17",null,"Grade 10 - 12","This edition in the At Issue series offers readers a variety of articles that examine the future of print books. The title explores the impact of digital printing on book publishing, the increasing role of e-books and the needs of e-book readers and users, the overall importance of books in the digital age, and the responses of publishers and librarians to e-publishing.","English",39.4,31.52,"002","128 pp.",{"$f":"Table1[[#This Row],['# of Books]]*Table1[[#This Row],[QTY]]","v":0},{"$f":"Table1[[#This Row],[QTY]]*Table1[[#This Row],[School & Library Price]]","v":0}]
[null,17,null,"Current Issues","At Issue","Are Books Becoming Extinct?","978-0-7377-5547-3","Greenhaven Publishing","Paperback Book",1,2012,null,"Paperback","6.000 X 9.000","Author","David Haugen",null,null,null,null,null,null,"Years 15 - 17",null,"Grade 10 - 12","This edition in the At Issue series offers readers a variety of articles that examine the future of print books. The title explores the impact of digital printing on book publishing, the increasing role of e-books and the needs of e-book readers and users, the overall importance of books in the digital age, and the responses of publishers and librarians to e-publishing.","English",27.8,22.240000000000002,"002","125 pp.",{"$f":"Table1[[#This Row],['# of Books]]*Table1[[#This Row],[QTY]]","v":0},{"$f":"Table1[[#This Row],[QTY]]*Table1[[#This Row],[School & Library Price]]","v":0}]
[null,17,null,"Current Issues","At Issue","Are Conspiracy Theories Valid?","978-0-7377-3432-4","Greenhaven Publishing","Paperback Book",1,2006,null,"Paperback","6.000 X 9.000","Author","Stuart A. Kallen",null,null,null,null,null,null,"Years 15 - 17",null,"Grade 10 - 12","In the twenty-first century conspiracy theories can reach millions of Internet users in a matter of hours. Are Conspiracy Theories Valid? explores some of these provocative theories. Believers and skeptics comment on popular theories concerning the terrorist attacks of September 11, 2001, AIDS, UFOs, the Kennedy assassination, and more.","English",27.8,22.240000000000002,"001.9","98 pp.",{"$f":"Table1[[#This Row],['# of Books]]*Table1[[#This Row],[QTY]]","v":0},{"$f":"Table1[[#This Row],[QTY]]*Table1[[#This Row],[School & Library Price]]","v":0}]
[null,17,null,"Current Issues","At Issue","Are Executives Paid Too Much?","978-0-7377-5888-7","Greenhaven Publishing","Library Bound Book",1,2012,null,"Library Bound","6.000 X 9.000","Author","Beth Rosenthal",null,null,null,null,null,null,"Years 15 - 17",null,"Grade 10 - 12","This edition in the AT ISSUE series examines issues related to executive pay. Includes primary and secondary sources from a variety of perspectives -- eyewitnesses, scientific journals, government officials and many others.","English",39.4,31.52,"331","112 pp.",{"$f":"Table1[[#This Row],['# of Books]]*Table1[[#This Row],[QTY]]","v":0},{"$f":"Table1[[#This Row],[QTY]]*Table1[[#This Row],[School & Library Price]]","v":0}]
[null,17,null,"Current Issues","At Issue","Are Executives Paid Too Much?","978-0-7377-5889-4","Greenhaven Publishing","Paperback Book",1,2012,null,"Paperback","6.000 X 9.000","Author","Beth Rosenthal",null,null,null,null,null,null,"Years 15 - 17",null,"Grade 10 - 12","This edition in the AT ISSUE series examines issues related to executive pay. Includes primary and secondary sources from a variety of perspectives -- eyewitnesses, scientific journals, government officials and many others.","English",27.8,22.240000000000002,"331","106 pp.",{"$f":"Table1[[#This Row],['# of Books]]*Table1[[#This Row],[QTY]]","v":0},{"$f":"Table1[[#This Row],[QTY]]*Table1[[#This Row],[School & Library Price]]","v":0}]
[null,17,null,"Current Issues","At Issue","Are Government Bailouts Effective?","978-0-7377-6179-5","Greenhaven Publishing","Library Bound Book",1,2013,null,"Library Bound","6.000 X 9.000","Author","Louise I. Gerdes",null,null,null,null,null,null,"Years 15 - 17",null,"Grade 10 - 12","This title explores whether bank bailouts prevented economic collapse, if regulation can prevent future crises, and if the auto industry bailout was successful. Includes primary and secondary sources from a variety of perspectives -- eyewitnesses, scientific journals, government officials and many others.","English",39.4,31.52,"330","128 pp.",{"$f":"Table1[[#This Row],['# of Books]]*Table1[[#This Row],[QTY]]","v":0},{"$f":"Table1[[#This Row],[QTY]]*Table1[[#This Row],[School & Library Price]]","v":0}]
[null,17,null,"Current Issues","At Issue","Are Government Bailouts Effective?","978-0-7377-6180-1","Greenhaven Publishing","Paperback Book",1,2013,null,"Paperback","6.000 X 9.000","Author","Louise I. Gerdes",null,null,null,null,null,null,"Years 15 - 17",null,"Grade 10 - 12","This title explores whether bank bailouts prevented economic collapse, if regulation can prevent future crises, and if the auto industry bailout was successful. Includes primary and secondary sources from a variety of perspectives -- eyewitnesses, scientific journals, government officials and many others.","English",27.8,22.240000000000002,"330","123 pp.",{"$f":"Table1[[#This Row],['# of Books]]*Table1[[#This Row],[QTY]]","v":0},{"$f":"Table1[[#This Row],[QTY]]*Table1[[#This Row],[School & Library Price]]","v":0}]
[null,17,null,"Current Issues","At Issue","Are Graphic Music Lyrics Harmful?","978-0-7377-7376-7","Greenhaven Publishing","Library Bound Book",1,2016,null,"Library Bound","6.000 X 9.000","Author","Noah Berlatsky",null,null,null,null,null,null,"Years 15 - 17",null,"Grade 10 - 12","This title explores issues related to graphic music lyrics. It covers topics such as intent as a standard, violent lyrics and aggression, and the effects of violent music lyrics. It examines whether sexual music harms children, and women. It looks at Beyoncé's music and whether it is harmful to black girls and black women. It also discusses \"Bro Country\" music, and whether it is harmful.","English",39.4,31.52,"303","98 pp.",{"$f":"Table1[[#This Row],['# of Books]]*Table1[[#This Row],[QTY]]","v":0},{"$f":"Table1[[#This Row],[QTY]]*Table1[[#This Row],[School & Library Price]]","v":0}]
[null,17,null,"Current Issues","At Issue","Are Graphic Music Lyrics Harmful?","978-0-7377-7377-4","Greenhaven Publishing","Paperback Book",1,2016,null,"Paperback","6.000 X 9.000","Author","Noah Berlatsky",null,null,null,null,null,null,"Years 15 - 17",null,"Grade 10 - 12","This title explores issues related to graphic music lyrics. It covers topics such as intent as a standard, violent lyrics and aggression, and the effects of violent music lyrics. It examines whether sexual music harms children, and women. It looks at Beyoncé's music and whether it is harmful to black girls and black women. It also discusses \"Bro Country\" music, and whether it is harmful.","English",27.8,22.240000000000002,"303","98 pp.",{"$f":"Table1[[#This Row],['# of Books]]*Table1[[#This Row],[QTY]]","v":0},{"$f":"Table1[[#This Row],[QTY]]*Table1[[#This Row],[School & Library Price]]","v":0}]
[null,17,null,"Current Issues","At Issue","Are Graphic Music Lyrics Harmful?","978-0-7377-7621-8","Greenhaven Publishing","eBook",1,2016,null,"eBook",null,"Author","Noah Berlatsky",null,null,null,null,null,null,"Years 15 - 17",null,"Grade 10 - 12",null,"English",39.4,39.4,"363.4","98 pp.",{"$f":"Table1[[#This Row],['# of Books]]*Table1[[#This Row],[QTY]]","v":0},{"$f":"Table1[[#This Row],[QTY]]*Table1[[#This Row],[School & Library Price]]","v":0}]
[null,17,null,"Current Issues","At Issue","Are Mass Extinctions Inevitable?","978-0-7377-5548-0","Greenhaven Publishing","Library Bound Book",1,2012,null,"Library Bound","6.000 X 9.000","Author","Noah Berlatsky",null,null,null,null,null,null,"Years 15 - 17",null,"Grade 10 - 12","This addition to the At Issue series examines the facts and controversies surrounding mass extinctions theories. The title explores the signs potentially pointing to mass extinctions, the possibility of specific extinctions for amphibians, bees, plants, and animals (such as polar bears), and the possibility of a human being extinction.","English",39.4,31.52,"576","120 pp.",{"$f":"Table1[[#This Row],['# of Books]]*Table1[[#This Row],[QTY]]","v":0},{"$f":"Table1[[#This Row],[QTY]]*Table1[[#This Row],[School & Library Price]]","v":0}]
[null,17,null,"Current Issues","At Issue","Are Mass Extinctions Inevitable?","978-0-7377-5549-7","Greenhaven Publishing","Paperback Book",1,2012,null,"Paperback","6.000 X 9.000","Author","Noah Berlatsky",null,null,null,null,null,null,"Years 15 - 17",null,"Grade 10 - 12","This addition to the At Issue series examines the facts and controversies surrounding mass extinctions theories. The title explores the signs potentially pointing to mass extinctions, the possibility of specific extinctions for amphibians, bees, plants, and animals (such as polar bears), and the possibility of a human being extinction.","English",27.8,22.240000000000002,"576","114 pp.",{"$f":"Table1[[#This Row],['# of Books]]*Table1[[#This Row],[QTY]]","v":0},{"$f":"Table1[[#This Row],[QTY]]*Table1[[#This Row],[School & Library Price]]","v":0}]
[null,17,null,"Current Issues","At Issue","Are Natural Disasters Increasing?","978-0-7377-6822-0","Greenhaven Publishing","Library Bound Book",1,2014,null,"Library Bound","6.000 X 9.000","Author","Roman Espejo",null,null,null,null,null,null,"Years 15 - 17",null,"Grade 10 - 12","This title addresses the issue of natural disasters and the severity, frequency, and losses caused by them, including areas such as climate change, poor infrastructures, human activity, economic costs and recovery. Includes primary and secondary sources from a variety of perspectives -- eyewitnesses, scientific journals, government officials and many others.","English",39.4,31.52,"363","104 pp.",{"$f":"Table1[[#This Row],['# of Books]]*Table1[[#This Row],[QTY]]","v":0},{"$f":"Table1[[#This Row],[QTY]]*Table1[[#This Row],[School & Library Price]]","v":0}]
[null,17,null,"Current Issues","At Issue","Are Natural Disasters Increasing?","978-0-7377-6823-7","Greenhaven Publishing","Paperback Book",1,2014,null,"Paperback","6.000 X 9.000","Author","Roman Espejo",null,null,null,null,null,null,"Years 15 - 17",null,"Grade 10 - 12","This title addresses the issue of natural disasters and the severity, frequency, and losses caused by them, including areas such as climate change, poor infrastructures, human activity, economic costs and recovery. Includes primary and secondary sources from a variety of perspectives -- eyewitnesses, scientific journals, government officials and many others.","English",27.8,22.240000000000002,"363","103 pp.",{"$f":"Table1[[#This Row],['# of Books]]*Table1[[#This Row],[QTY]]","v":0},{"$f":"Table1[[#This Row],[QTY]]*Table1[[#This Row],[School & Library Price]]","v":0}]
[null,17,null,"Current Issues","At Issue","Are Natural Disasters Increasing?","978-0-7377-7622-5","Greenhaven Publishing","eBook",1,2014,null,"eBook",null,"Author","Roman Espejo",null,null,null,null,null,null,"Years 15 - 17",null,"Grade 10 - 12",null,"English",39.4,39.4,"363.34","104 pp.",{"$f":"Table1[[#This Row],['# of Books]]*Table1[[#This Row],[QTY]]","v":0},{"$f":"Table1[[#This Row],[QTY]]*Table1[[#This Row],[School & Library Price]]","v":0}]
[null,17,null,"Current Issues","At Issue","Are Newspapers Becoming Extinct?","978-0-7377-5143-7","Greenhaven Publishing","Library Bound Book",1,2011,null,"Library Bound","6.000 X 9.000","Author","Jennifer Dorman",null,null,null,null,null,null,"Years 15 - 17",null,"Grade 10 - 12",null,"English",39.4,31.52,"070","96 pp.",{"$f":"Table1[[#This Row],['# of Books]]*Table1[[#This Row],[QTY]]","v":0},{"$f":"Table1[[#This Row],[QTY]]*Table1[[#This Row],[School & Library Price]]","v":0}]
[null,17,null,"Current Issues","At Issue","Are Newspapers Becoming Extinct?","978-0-7377-5144-4","Greenhaven Publishing","Paperback Book",1,2011,null,"Paperback","6.000 X 9.000","Author","Jennifer Dorman",null,null,null,null,null,null,"Years 15 - 17",null,"Grade 10 - 12",null,"English",27.8,22.240000000000002,"070","96 pp.",{"$f":"Table1[[#This Row],['# of Books]]*Table1[[#This Row],[QTY]]","v":0},{"$f":"Table1[[#This Row],[QTY]]*Table1[[#This Row],[School & Library Price]]","v":0}]
[null,17,null,"Current Issues","At Issue","Are Players' Unions Good for Professional Sports Leagues?","978-0-7377-6416-1","Greenhaven Publishing","Library Bound Book",1,2013,null,"Library Bound","6.000 X 9.000","Author","Thomas Riggs",null,null,null,null,null,null,"Years 15 - 17",null,"Grade 10 - 12","This title explores whether players’ unions make professional sports more expensive for fans, if players’ unions encourage labor strife, and whether sports labor issues are based in racism.","English",39.4,31.52,"796","112 pp.",{"$f":"Table1[[#This Row],['# of Books]]*Table1[[#This Row],[QTY]]","v":0},{"$f":"Table1[[#This Row],[QTY]]*Table1[[#This Row],[School & Library Price]]","v":0}]
[null,17,null,"Current Issues","At Issue","Are Players' Unions Good for Professional Sports Leagues?","978-0-7377-6417-8","Greenhaven Publishing","Paperback Book",1,2013,null,"Paperback","6.000 X 9.000","Author","Thomas Riggs",null,null,null,null,null,null,"Years 15 - 17",null,"Grade 10 - 12","This title explores whether players’ unions make professional sports more expensive for fans, if players’ unions encourage labor strife, and whether sports labor issues are based in racism.","English",27.8,22.240000000000002,"796","110 pp.",{"$f":"Table1[[#This Row],['# of Books]]*Table1[[#This Row],[QTY]]","v":0},{"$f":"Table1[[#This Row],[QTY]]*Table1[[#This Row],[School & Library Price]]","v":0}]
[null,17,null,"Current Issues","At Issue","Are Privacy Rights Being Violated?","978-0-7377-4868-0","Greenhaven Publishing","Library Bound Book",1,2010,null,"Library Bound","6.000 X 9.000","Author","Ronald D. Lankford",null,null,null,null,null,null,"Years 15 - 17",null,"Grade 10 - 12",null,"English",39.4,31.52,"342","112 pp.",{"$f":"Table1[[#This Row],['# of Books]]*Table1[[#This Row],[QTY]]","v":0},{"$f":"Table1[[#This Row],[QTY]]*Table1[[#This Row],[School & Library Price]]","v":0}]
[null,17,null,"Current Issues","At Issue","Are Privacy Rights Being Violated?","978-0-7377-4869-7","Greenhaven Publishing","Paperback Book",1,2010,null,"Paperback","6.000 X 9.000","Author","Ronald D. Lankford",null,null,null,null,null,null,"Years 15 - 17",null,"Grade 10 - 12",null,"English",27.8,22.240000000000002,"342","109 pp.",{"$f":"Table1[[#This Row],['# of Books]]*Table1[[#This Row],[QTY]]","v":0},{"$f":"Table1[[#This Row],[QTY]]*Table1[[#This Row],[School & Library Price]]","v":0}]
[null,17,null,"Current Issues","At Issue","Are Social Networking Sites Harmful?","978-0-7377-7151-0","Greenhaven Publishing","Library Bound Book",1,2015,null,"Library Bound","6.000 X 9.000","Author","Noah Berlatsky",null,null,null,null,null,null,"Years 15 - 17",null,"Grade 10 - 12","Explores the pros and cons of social networking sites, the link between social media and privacy, social media and political reform, and social media-related disorders/addictions.","English",39.4,31.52,"302","96 pp.",{"$f":"Table1[[#This Row],['# of Books]]*Table1[[#This Row],[QTY]]","v":0},{"$f":"Table1[[#This Row],[QTY]]*Table1[[#This Row],[School & Library Price]]","v":0}]
[null,17,null,"Current Issues","At Issue","Are Social Networking Sites Harmful?","978-0-7377-7152-7","Greenhaven Publishing","Paperback Book",1,2015,null,"Paperback","6.000 X 9.000","Author","Noah Berlatsky",null,null,null,null,null,null,"Years 15 - 17",null,"Grade 10 - 12","Explores the pros and cons of social networking sites, the link between social media and privacy, social media and political reform, and social media-related disorders/addictions.","English",27.8,22.240000000000002,"302","94 pp.",{"$f":"Table1[[#This Row],['# of Books]]*Table1[[#This Row],[QTY]]","v":0},{"$f":"Table1[[#This Row],[QTY]]*Table1[[#This Row],[School & Library Price]]","v":0}]
[null,17,null,"Current Issues","At Issue","Are Social Networking Sites Harmful?","978-0-7377-7623-2","Greenhaven Publishing","eBook",1,2015,null,"eBook",null,"Author","Noah Berlatsky",null,null,null,null,null,null,"Years 15 - 17",null,"Grade 10 - 12",null,"English",39.4,39.4,"302.30285","96 pp.",{"$f":"Table1[[#This Row],['# of Books]]*Table1[[#This Row],[QTY]]","v":0},{"$f":"Table1[[#This Row],[QTY]]*Table1[[#This Row],[School & Library Price]]","v":0}]
[null,17,null,"Current Issues","At Issue","Are Teen Curfews Effective?","978-0-7377-4284-8","Greenhaven Publishing","Library Bound Book",1,2009,null,"Library Bound","6.000 X 9.000","Author","Roman Espejo",null,null,null,null,null,null,"Years 15 - 17",null,"Grade 10 - 12",null,"English",39.4,31.52,"364","104 pp.",{"$f":"Table1[[#This Row],['# of Books]]*Table1[[#This Row],[QTY]]","v":0},{"$f":"Table1[[#This Row],[QTY]]*Table1[[#This Row],[School & Library Price]]","v":0}]
[null,17,null,"Current Issues","At Issue","Are Teen Curfews Effective?","978-0-7377-4283-1","Greenhaven Publishing","Paperback Book",1,2009,null,"Paperback","6.000 X 9.000","Author","Roman Espejo",null,null,null,null,null,null,"Years 15 - 17",null,"Grade 10 - 12",null,"English",27.8,22.240000000000002,"364","104 pp.",{"$f":"Table1[[#This Row],['# of Books]]*Table1[[#This Row],[QTY]]","v":0},{"$f":"Table1[[#This Row],[QTY]]*Table1[[#This Row],[School & Library Price]]","v":0}]
[null,17,null,"Current Issues","At Issue","Are Textbooks Biased?","978-0-7377-5551-0","Greenhaven Publishing","Paperback Book",1,2012,null,"Paperback","6.000 X 9.000","Author","Noah Berlatsky",null,null,null,null,null,null,"Years 15 - 17",null,"Grade 10 - 12",null,"English",27.8,22.240000000000002,"371","128 pp.",{"$f":"Table1[[#This Row],['# of Books]]*Table1[[#This Row],[QTY]]","v":0},{"$f":"Table1[[#This Row],[QTY]]*Table1[[#This Row],[School & Library Price]]","v":0}]
[null,17,null,"Current Issues","At Issue","Are Unions Still Relevant?","978-0-7377-6151-1","Greenhaven Publishing","Library Bound Book",1,2013,null,"Library Bound","6.000 X 9.000","Author","Noah Berlatsky",null,null,null,null,null,null,"Years 15 - 17",null,"Grade 10 - 12","This edition in the At Issue series examines issues related to the relevancy of unions. Includes primary and secondary sources from a variety of perspectives -- eyewitnesses, scientific journals, government officials and many others.","English",39.4,31.52,"331","120 pp.",{"$f":"Table1[[#This Row],['# of Books]]*Table1[[#This Row],[QTY]]","v":0},{"$f":"Table1[[#This Row],[QTY]]*Table1[[#This Row],[School & Library Price]]","v":0}]
[null,17,null,"Current Issues","At Issue","Are Unions Still Relevant?","978-1-5345-0251-2","Greenhaven Publishing","eBook",1,2013,null,"eBook",null,"Author","Noah Berlatsky",null,null,null,null,null,null,"Years 15 - 17",null,"Grade 10 - 12","This edition in the At Issue series examines issues related to the relevancy of unions. Includes primary and secondary sources from a variety of perspectives -- eyewitnesses, scientific journals, government officials and many others.","English",39.4,31.52,"331","120 pp.",{"$f":"Table1[[#This Row],['# of Books]]*Table1[[#This Row],[QTY]]","v":0},{"$f":"Table1[[#This Row],[QTY]]*Table1[[#This Row],[School & Library Price]]","v":0}]
[null,17,null,"Current Issues","At Issue","Are Unions Still Relevant?","978-0-7377-6152-8","Greenhaven Publishing","Paperback Book",1,2013,null,"Paperback","6.000 X 9.000","Author","Noah Berlatsky",null,null,null,null,null,null,"Years 15 - 17",null,"Grade 10 - 12","This edition in the At Issue series examines issues related to the relevancy of unions. Includes primary and secondary sources from a variety of perspectives -- eyewitnesses, scientific journals, government officials and many others.","English",27.8,22.240000000000002,"331","118 pp.",{"$f":"Table1[[#This Row],['# of Books]]*Table1[[#This Row],[QTY]]","v":0},{"$f":"Table1[[#This Row],[QTY]]*Table1[[#This Row],[School & Library Price]]","v":0}]
[null,17,null,"Current Issues","At Issue","Are Women Paid Fairly?","978-0-7377-6153-5","Greenhaven Publishing","Library Bound Book",1,2013,null,"Library Bound","6.000 X 9.000","Author","Jennifer Dorman",null,null,null,null,null,null,"Years 15 - 17",null,"Grade 10 - 12","This edition in the At Issue series examines issues related to fair pay for women. Includes primary and secondary sources from a variety of perspectives -- eyewitnesses, scientific journals, government officials and many others.","English",39.4,31.52,"331","104 pp.",{"$f":"Table1[[#This Row],['# of Books]]*Table1[[#This Row],[QTY]]","v":0},{"$f":"Table1[[#This Row],[QTY]]*Table1[[#This Row],[School & Library Price]]","v":0}]
[null,17,null,"Current Issues","At Issue","Are Women Paid Fairly?","978-0-7377-6154-2","Greenhaven Publishing","Paperback Book",1,2013,null,"Paperback","6.000 X 9.000","Author","Jennifer Dorman",null,null,null,null,null,null,"Years 15 - 17",null,"Grade 10 - 12","This edition in the At Issue series examines issues related to fair pay for women. Includes primary and secondary sources from a variety of perspectives -- eyewitnesses, scientific journals, government officials and many others.","English",27.8,22.240000000000002,"331","98 pp.",{"$f":"Table1[[#This Row],['# of Books]]*Table1[[#This Row],[QTY]]","v":0},{"$f":"Table1[[#This Row],[QTY]]*Table1[[#This Row],[School & Library Price]]","v":0}]
[null,17,null,"Current Issues","At Issue","Assimilation","978-0-7377-4640-2","Greenhaven Publishing","Library Bound Book",1,2010,null,"Library Bound","6.000 X 9.000","Author","Kelly Barth",null,null,null,null,null,null,"Years 15 - 17",null,"Grade 10 - 12",null,"English",39.4,31.52,"301","112 pp.",{"$f":"Table1[[#This Row],['# of Books]]*Table1[[#This Row],[QTY]]","v":0},{"$f":"Table1[[#This Row],[QTY]]*Table1[[#This Row],[School & Library Price]]","v":0}]
[null,17,null,"Current Issues","At Issue","Assimilation","978-0-7377-4641-9","Greenhaven Publishing","Paperback Book",1,2010,null,"Paperback","6.000 X 9.000","Author","Kelly Barth",null,null,null,null,null,null,"Years 15 - 17",null,"Grade 10 - 12",null,"English",27.8,22.240000000000002,"301","112 pp.",{"$f":"Table1[[#This Row],['# of Books]]*Table1[[#This Row],[QTY]]","v":0},{"$f":"Table1[[#This Row],[QTY]]*Table1[[#This Row],[School & Library Price]]","v":0}]
[null,17,null,"Current Issues","At Issue","Beauty Pageants","978-0-7377-6824-4","Greenhaven Publishing","Library Bound Book",1,2014,null,"Library Bound","6.000 X 9.000","Author","Tamara L. Roleff",null,null,null,null,null,null,"Years 15 - 17",null,"Grade 10 - 12","This title explores the many issues of beauty pageants including the sexualization of young girls; the enjoyment pageants provide; the impact on children; the positive outcomes of participating in beauty pageants; transgenders and beauty pageants.","English",39.4,31.52,"305","96 pp.",{"$f":"Table1[[#This Row],['# of Books]]*Table1[[#This Row],[QTY]]","v":0},{"$f":"Table1[[#This Row],[QTY]]*Table1[[#This Row],[School & Library Price]]","v":0}]
[null,17,null,"Current Issues","At Issue","Beauty Pageants","978-0-7377-6825-1","Greenhaven Publishing","Paperback Book",1,2014,null,"Paperback","6.000 X 9.000","Author","Tamara L. Roleff",null,null,null,null,null,null,"Years 15 - 17",null,"Grade 10 - 12","This title explores the many issues of beauty pageants including the sexualization of young girls; the enjoyment pageants provide; the impact on children; the positive outcomes of participating in beauty pageants; transgenders and beauty pageants.","English",27.8,22.240000000000002,"305","93 pp.",{"$f":"Table1[[#This Row],['# of Books]]*Table1[[#This Row],[QTY]]","v":0},{"$f":"Table1[[#This Row],[QTY]]*Table1[[#This Row],[School & Library Price]]","v":0}]
[null,17,null,"Current Issues","At Issue","Bilingual Education","978-0-7377-7392-7","Greenhaven Publishing","Library Bound Book",1,2016,null,"Library Bound","6.000 X 9.000","Author","Noël Merino",null,null,null,null,null,null,"Years 15 - 17",null,"Grade 10 - 12","This title explores issues related to bilingual education. It covers the successes and failures of bilingual education. It examines the popularity of dual-language learning programs, and how they can help close the learning gap for immigrant students. It covers some failures of a bilingual education programs. It covers language immersion, and gradual immersion for immigrants.","English",39.4,31.52,"370","96 pp.",{"$f":"Table1[[#This Row],['# of Books]]*Table1[[#This Row],[QTY]]","v":0},{"$f":"Table1[[#This Row],[QTY]]*Table1[[#This Row],[School & Library Price]]","v":0}]
[null,17,null,"Current Issues","At Issue","Bilingual Education","978-0-7377-7393-4","Greenhaven Publishing","Paperback Book",1,2016,null,"Paperback","6.000 X 9.000","Author","Noël Merino",null,null,null,null,null,null,"Years 15 - 17",null,"Grade 10 - 12","This title explores issues related to bilingual education. It covers the successes and failures of bilingual education. It examines the popularity of dual-language learning programs, and how they can help close the learning gap for immigrant students. It covers some failures of a bilingual education programs. It covers language immersion, and gradual immersion for immigrants.","English",27.8,22.240000000000002,"370","96 pp.",{"$f":"Table1[[#This Row],['# of Books]]*Table1[[#This Row],[QTY]]","v":0},{"$f":"Table1[[#This Row],[QTY]]*Table1[[#This Row],[School & Library Price]]","v":0}]
[null,17,null,"Current Issues","At Issue","Bilingual Education","978-0-7377-7624-9","Greenhaven Publishing","eBook",1,2016,null,"eBook",null,"Author","Noel Merino",null,null,null,null,null,null,"Years 15 - 17",null,"Grade 10 - 12",null,"English",39.4,39.4,"370.117","96 pp.",{"$f":"Table1[[#This Row],['# of Books]]*Table1[[#This Row],[QTY]]","v":0},{"$f":"Table1[[#This Row],[QTY]]*Table1[[#This Row],[School & Library Price]]","v":0}]
[null,17,null,"Current Issues","At Issue","Biodiversity","978-0-7377-4677-8","Greenhaven Publishing","Library Bound Book",1,2010,null,"Library Bound","6.000 X 9.000","Author","Louise I. Gerdes",null,null,null,null,null,null,"Years 15 - 17",null,"Grade 10 - 12","Life on Earth consists of many millions of distinct biological species. This volume offers a variety of perspectives on the importance of this biodiversity to the environment and humanity. It explores the impact of global warming on biodiversity, the significance of mass species extinction, genetic science and its relationship to biodiversity, and the best ways to increase biodiversity.","English",39.4,31.52,"333","120 pp.",{"$f":"Table1[[#This Row],['# of Books]]*Table1[[#This Row],[QTY]]","v":0},{"$f":"Table1[[#This Row],[QTY]]*Table1[[#This Row],[School & Library Price]]","v":0}]
[null,17,null,"Current Issues","At Issue","Biodiversity","978-0-7377-4678-5","Greenhaven Publishing","Paperback Book",1,2010,null,"Paperback","6.000 X 9.000","Author","Louise I. Gerdes",null,null,null,null,null,null,"Years 15 - 17",null,"Grade 10 - 12","Life on Earth consists of many millions of distinct biological species. This volume offers a variety of perspectives on the importance of this biodiversity to the environment and humanity. It explores the impact of global warming on biodiversity, the significance of mass species extinction, genetic science and its relationship to biodiversity, and the best ways to increase biodiversity.","English",27.8,22.240000000000002,"333","120 pp.",{"$f":"Table1[[#This Row],['# of Books]]*Table1[[#This Row],[QTY]]","v":0},{"$f":"Table1[[#This Row],[QTY]]*Table1[[#This Row],[School & Library Price]]","v":0}]
[null,17,null,"Current Issues","At Issue","Biofuels","978-0-7377-5552-7","Greenhaven Publishing","Library Bound Book",1,2012,null,"Library Bound","6.000 X 9.000","Author","Margaret Haerens",null,null,null,null,null,null,"Years 15 - 17",null,"Grade 10 - 12","This new addition to the At Issue series offers readers a comprehensive look at the issues surrounding the use and development of biofuels. The title explores whether or not biofuels are superior to fossil fuels, the viability of certain types of ethanol, such as corn and cellulosic ethanol, the current status of ethanol use in the United States, the presence of biodiesel as a potential \"fuel of the future,\" and the use of algae as a biodiesel source.","English",39.4,31.52,"333","136 pp.",{"$f":"Table1[[#This Row],['# of Books]]*Table1[[#This Row],[QTY]]","v":0},{"$f":"Table1[[#This Row],[QTY]]*Table1[[#This Row],[School & Library Price]]","v":0}]
[null,17,null,"Current Issues","At Issue","Biofuels","978-0-7377-5553-4","Greenhaven Publishing","Paperback Book",1,2012,null,"Paperback","6.000 X 9.000","Author","Margaret Haerens",null,null,null,null,null,null,"Years 15 - 17",null,"Grade 10 - 12","This new addition to the At Issue series offers readers a comprehensive look at the issues surrounding the use and development of biofuels. The title explores whether or not biofuels are superior to fossil fuels, the viability of certain types of ethanol, such as corn and cellulosic ethanol, the current status of ethanol use in the United States, the presence of biodiesel as a potential \"fuel of the future,\" and the use of algae as a biodiesel source.","English",27.8,22.240000000000002,"333","133 pp.",{"$f":"Table1[[#This Row],['# of Books]]*Table1[[#This Row],[QTY]]","v":0},{"$f":"Table1[[#This Row],[QTY]]*Table1[[#This Row],[School & Library Price]]","v":0}]
[null,17,null,"Current Issues","At Issue","Biological and Chemical Weapons","978-0-7377-7153-4","Greenhaven Publishing","Library Bound Book",1,2015,null,"Library Bound","6.000 X 9.000","Author","Amy Francis",null,null,null,null,null,null,"Years 15 - 17",null,"Grade 10 - 12","AT ISSUE: BIOLOGICAL AND CHEMICAL WEAPONS explores the threat of biological and chemical weapons to the United States and elsewhere. It examines funding, and legal intervention. ","English",39.4,31.52,"358","120 pp.",{"$f":"Table1[[#This Row],['# of Books]]*Table1[[#This Row],[QTY]]","v":0},{"$f":"Table1[[#This Row],[QTY]]*Table1[[#This Row],[School & Library Price]]","v":0}]
[null,17,null,"Current Issues","At Issue","Biological and Chemical Weapons","978-0-7377-7154-1","Greenhaven Publishing","Paperback Book",1,2015,null,"Paperback","6.000 X 9.000","Author","Amy Francis",null,null,null,null,null,null,"Years 15 - 17",null,"Grade 10 - 12","AT ISSUE: BIOLOGICAL AND CHEMICAL WEAPONS explores the threat of biological and chemical weapons to the United States and elsewhere. It examines funding, and legal intervention. ","English",27.8,22.240000000000002,"358","120 pp.",{"$f":"Table1[[#This Row],['# of Books]]*Table1[[#This Row],[QTY]]","v":0},{"$f":"Table1[[#This Row],[QTY]]*Table1[[#This Row],[School & Library Price]]","v":0}]
[null,17,null,"Current Issues","At Issue","Bitcoin","978-0-7377-7314-9","Greenhaven Publishing","Library Bound Book",1,2015,null,"Library Bound","6.000 X 9.000","Author","Noah Berlatsky",null,null,null,null,null,null,"Years 15 - 17",null,"Grade 10 - 12","AT ISSUE: BITCOIN gives an explanation of what bitcoin is, and how it is the future of crypto-currency. This title explores how bitcoin compares with real currency. It examines the role of money laundering and crime using bitcoin.","English",39.4,31.52,"332","96 pp.",{"$f":"Table1[[#This Row],['# of Books]]*Table1[[#This Row],[QTY]]","v":0},{"$f":"Table1[[#This Row],[QTY]]*Table1[[#This Row],[School & Library Price]]","v":0}]
[null,17,null,"Current Issues","At Issue","Bitcoin","978-0-7377-7315-6","Greenhaven Publishing","Paperback Book",1,2015,null,"Paperback","6.000 X 9.000","Author","Noah Berlatsky",null,null,null,null,null,null,"Years 15 - 17",null,"Grade 10 - 12","AT ISSUE: BITCOIN gives an explanation of what bitcoin is, and how it is the future of crypto-currency. This title explores how bitcoin compares with real currency. It examines the role of money laundering and crime using bitcoin.","English",27.8,22.240000000000002,"332","89 pp.",{"$f":"Table1[[#This Row],['# of Books]]*Table1[[#This Row],[QTY]]","v":0},{"$f":"Table1[[#This Row],[QTY]]*Table1[[#This Row],[School & Library Price]]","v":0}]
[null,17,null,"Current Issues","At Issue","Body Piercing and Tattoos","978-0-7377-3112-5","Greenhaven Publishing","Paperback Book",1,2008,null,"Paperback","6.000 X 9.000","Author","Tamara Roleff",null,null,null,null,null,null,"Years 15 - 17",null,"Grade 10 - 12",null,"English",27.8,22.240000000000002,"391","101 pp.",{"$f":"Table1[[#This Row],['# of Books]]*Table1[[#This Row],[QTY]]","v":0},{"$f":"Table1[[#This Row],[QTY]]*Table1[[#This Row],[School & Library Price]]","v":0}]
[null,17,null,"Current Issues","At Issue","Book Banning","978-0-7377-5555-8","Greenhaven Publishing","Paperback Book",1,2012,null,"Paperback","6.000 X 9.000","Author","Thomas Riggs",null,null,null,null,null,null,"Years 15 - 17",null,"Grade 10 - 12",null,"English",27.8,22.240000000000002,"098","119 pp.",{"$f":"Table1[[#This Row],['# of Books]]*Table1[[#This Row],[QTY]]","v":0},{"$f":"Table1[[#This Row],[QTY]]*Table1[[#This Row],[School & Library Price]]","v":0}]
[null,17,null,"Current Issues","At Issue","Bulimia","978-0-7377-3674-8","Greenhaven Publishing","Paperback Book",1,2008,null,"Paperback","6.000 X 9.000","Author","Adriane Ruggiero",null,null,null,null,null,null,"Years 15 - 17",null,"Grade 10 - 12",null,"English",27.8,22.240000000000002,"362.292","98 pp.",{"$f":"Table1[[#This Row],['# of Books]]*Table1[[#This Row],[QTY]]","v":0},{"$f":"Table1[[#This Row],[QTY]]*Table1[[#This Row],[School & Library Price]]","v":0}]
[null,17,null,"Current Issues","At Issue","Caffeine","978-0-7377-7380-4","Greenhaven Publishing","Library Bound Book",1,2016,null,"Library Bound","6.000 X 9.000","Author","Amy Francis",null,null,null,null,null,null,"Years 15 - 17",null,"Grade 10 - 12","This title explores the health benefits of caffeine. It also examines the dangers of caffeine. It discusses caffeine as a drug, and the possible addictive nature of it. It examines the complexities of the regulation of caffeine.","English",39.4,31.52,"613","210 pp.",{"$f":"Table1[[#This Row],['# of Books]]*Table1[[#This Row],[QTY]]","v":0},{"$f":"Table1[[#This Row],[QTY]]*Table1[[#This Row],[School & Library Price]]","v":0}]
[null,17,null,"Current Issues","At Issue","Caffeine","978-0-7377-7381-1","Greenhaven Publishing","Paperback Book",1,2016,null,"Paperback","6.000 X 9.000","Author","Amy Francis",null,null,null,null,null,null,"Years 15 - 17",null,"Grade 10 - 12","This title explores the health benefits of caffeine. It also examines the dangers of caffeine. It discusses caffeine as a drug, and the possible addictive nature of it. It examines the complexities of the regulation of caffeine.","English",27.8,22.240000000000002,"613","102 pp.",{"$f":"Table1[[#This Row],['# of Books]]*Table1[[#This Row],[QTY]]","v":0},{"$f":"Table1[[#This Row],[QTY]]*Table1[[#This Row],[School & Library Price]]","v":0}]
[null,17,null,"Current Issues","At Issue","Caffeine","978-0-7377-7625-6","Greenhaven Publishing","eBook",1,2016,null,"eBook",null,"Author","Amy Francis",null,null,null,null,null,null,"Years 15 - 17",null,"Grade 10 - 12",null,"English",39.4,39.4,"613.8","210 pp.",{"$f":"Table1[[#This Row],['# of Books]]*Table1[[#This Row],[QTY]]","v":0},{"$f":"Table1[[#This Row],[QTY]]*Table1[[#This Row],[School & Library Price]]","v":0}]
[null,17,null,"Current Issues","At Issue","Campaign Finance","978-0-7377-4872-7","Greenhaven Publishing","Library Bound Book",1,2010,null,"Library Bound","6.000 X 9.000","Author","David Haugen",null,null,null,null,null,null,"Years 15 - 17",null,"Grade 10 - 12",null,"English",39.4,31.52,"324","128 pp.",{"$f":"Table1[[#This Row],['# of Books]]*Table1[[#This Row],[QTY]]","v":0},{"$f":"Table1[[#This Row],[QTY]]*Table1[[#This Row],[School & Library Price]]","v":0}]
[null,17,null,"Current Issues","At Issue","Campaign Finance","978-0-7377-4873-4","Greenhaven Publishing","Paperback Book",1,2010,null,"Paperback","6.000 X 9.000","Author","David Haugen",null,null,null,null,null,null,"Years 15 - 17",null,"Grade 10 - 12",null,"English",27.8,22.240000000000002,"324","128 pp.",{"$f":"Table1[[#This Row],['# of Books]]*Table1[[#This Row],[QTY]]","v":0},{"$f":"Table1[[#This Row],[QTY]]*Table1[[#This Row],[School & Library Price]]","v":0}]
[null,17,null,"Current Issues","At Issue","Can Busy Teens Succeed Academically?","978-0-7377-4285-5","Greenhaven Publishing","Paperback Book",1,2009,null,"Paperback","6.000 X 9.000","Author","Stefan Kiesbye",null,null,null,null,null,null,"Years 15 - 17",null,"Grade 10 - 12",null,"English",27.8,22.240000000000002,"371","96 pp.",{"$f":"Table1[[#This Row],['# of Books]]*Table1[[#This Row],[QTY]]","v":0},{"$f":"Table1[[#This Row],[QTY]]*Table1[[#This Row],[School & Library Price]]","v":0}]
[null,17,null,"Current Issues","At Issue","Can Celebrities Change the World?","978-0-7377-4088-2","Greenhaven Publishing","Library Bound Book",1,2009,null,"Library Bound","6.000 X 9.000","Author","Roman Espejo",null,null,null,null,null,null,"Years 15 - 17",null,"Grade 10 - 12",null,"English",39.4,31.52,"305","104 pp.",{"$f":"Table1[[#This Row],['# of Books]]*Table1[[#This Row],[QTY]]","v":0},{"$f":"Table1[[#This Row],[QTY]]*Table1[[#This Row],[School & Library Price]]","v":0}]
[null,17,null,"Current Issues","At Issue","Can Celebrities Change the World?","978-0-7377-4089-9","Greenhaven Publishing","Paperback Book",1,2009,null,"Paperback","6.000 X 9.000","Author","Roman Espejo",null,null,null,null,null,null,"Years 15 - 17",null,"Grade 10 - 12",null,"English",27.8,22.240000000000002,"305","104 pp.",{"$f":"Table1[[#This Row],['# of Books]]*Table1[[#This Row],[QTY]]","v":0},{"$f":"Table1[[#This Row],[QTY]]*Table1[[#This Row],[School & Library Price]]","v":0}]
[null,17,null,"Current Issues","At Issue","Can Diets Be Harmful?","978-0-7377-7394-1","Greenhaven Publishing","Library Bound Book",1,2016,null,"Library Bound","6.000 X 9.000","Author","Amy Francis",null,null,null,null,null,null,"Years 15 - 17",null,"Grade 10 - 12","Low-carb, paleo, and gluten-free--fad diets come and go. Which ones are harmless, and which should be avoided by adults and/or children? At Issue: Can Diets Be Harmful? pries the lid off the confusing issue of what we should and should not be eating for good health.","English",39.4,31.52,"613","80 pp.",{"$f":"Table1[[#This Row],['# of Books]]*Table1[[#This Row],[QTY]]","v":0},{"$f":"Table1[[#This Row],[QTY]]*Table1[[#This Row],[School & Library Price]]","v":0}]
[null,17,null,"Current Issues","At Issue","Can Diets Be Harmful?","978-0-7377-7395-8","Greenhaven Publishing","Paperback Book",1,2016,null,"Paperback","6.000 X 9.000","Author","Amy Francis",null,null,null,null,null,null,"Years 15 - 17",null,"Grade 10 - 12","Low-carb, paleo, and gluten-free--fad diets come and go. Which ones are harmless, and which should be avoided by adults and/or children? At Issue: Can Diets Be Harmful? pries the lid off the confusing issue of what we should and should not be eating for good health.","English",27.8,22.240000000000002,"613","80 pp.",{"$f":"Table1[[#This Row],['# of Books]]*Table1[[#This Row],[QTY]]","v":0},{"$f":"Table1[[#This Row],[QTY]]*Table1[[#This Row],[School & Library Price]]","v":0}]
[null,17,null,"Current Issues","At Issue","Can Diets Be Harmful?","978-0-7377-7626-3","Greenhaven Publishing","eBook",1,2016,null,"eBook",null,"Author","Amy Francis",null,null,null,null,null,null,"Years 15 - 17",null,"Grade 10 - 12",null,"English",39.4,39.4,"613.2","80 pp.",{"$f":"Table1[[#This Row],['# of Books]]*Table1[[#This Row],[QTY]]","v":0},{"$f":"Table1[[#This Row],[QTY]]*Table1[[#This Row],[School & Library Price]]","v":0}]
[null,18,null,"Current Issues","At Issue","Can Glacier and Ice Melt Be Reversed?","978-0-7377-6826-8","Greenhaven Publishing","Library Bound Book",1,2014,null,"Library Bound","6.000 X 9.000","Author","Roman Espejo",null,null,null,null,null,null,"Years 15 - 17",null,"Grade 10 - 12","This title explores many issues related to the reversal of glaciers and ice melt, including: reducing soot as it relates to glaciers, media reporting of ice melt, the rate ice sheets are melting, Antarctica and melting, and permafrost warming. Includes primary and secondary sources from a variety of perspectives -- eyewitnesses, scientific journals, government officials and many others.","English",39.4,31.52,"363","120 pp.",{"$f":"Table1[[#This Row],['# of Books]]*Table1[[#This Row],[QTY]]","v":0},{"$f":"Table1[[#This Row],[QTY]]*Table1[[#This Row],[School & Library Price]]","v":0}]
[null,18,null,"Current Issues","At Issue","Can Glacier and Ice Melt Be Reversed?","978-0-7377-6827-5","Greenhaven Publishing","Paperback Book",1,2014,null,"Paperback","6.000 X 9.000","Author","Roman Espejo",null,null,null,null,null,null,"Years 15 - 17",null,"Grade 10 - 12","This title explores many issues related to the reversal of glaciers and ice melt, including: reducing soot as it relates to glaciers, media reporting of ice melt, the rate ice sheets are melting, Antarctica and melting, and permafrost warming. Includes primary and secondary sources from a variety of perspectives -- eyewitnesses, scientific journals, government officials and many others.","English",27.8,22.240000000000002,"363","114 pp.",{"$f":"Table1[[#This Row],['# of Books]]*Table1[[#This Row],[QTY]]","v":0},{"$f":"Table1[[#This Row],[QTY]]*Table1[[#This Row],[School & Library Price]]","v":0}]
[null,18,null,"Current Issues","At Issue","Can the War on Terrorism Be Won?","978-0-7377-1974-1","Greenhaven Publishing","Paperback Book",1,2007,null,"Paperback","6.000 X 9.000","Author","David M. Haugen",null,null,null,null,null,null,"Years 15 - 17",null,"Grade 10 - 12",null,"English",27.8,22.240000000000002,"973.931","109 pp.",{"$f":"Table1[[#This Row],['# of Books]]*Table1[[#This Row],[QTY]]","v":0},{"$f":"Table1[[#This Row],[QTY]]*Table1[[#This Row],[School & Library Price]]","v":0}]
[null,18,null,"Current Issues","At Issue","Cancer","978-0-7377-5558-9","Greenhaven Publishing","Library Bound Book",1,2012,null,"Library Bound","6.000 X 9.000","Author","Jacqueline Langwith",null,null,null,null,null,null,"Years 15 - 17",null,"Grade 10 - 12","This edition in the At Issue series includes a comprehensive look at current issues regarding cancer, including its treatment and prevention. The title explores the possible causes of cancer, including genetics and the environment, the use of vitamin D as a form of cancer prevention, the effectiveness of cancer screening efforts, such as mammograms, the impact of palliative care, and the possibility of a cancer cure.","English",39.4,31.52,"362","104 pp.",{"$f":"Table1[[#This Row],['# of Books]]*Table1[[#This Row],[QTY]]","v":0},{"$f":"Table1[[#This Row],[QTY]]*Table1[[#This Row],[School & Library Price]]","v":0}]
[null,18,null,"Current Issues","At Issue","Cancer","978-0-7377-5559-6","Greenhaven Publishing","Paperback Book",1,2012,null,"Paperback","6.000 X 9.000","Author","Jacqueline Langwith",null,null,null,null,null,null,"Years 15 - 17",null,"Grade 10 - 12","This edition in the At Issue series includes a comprehensive look at current issues regarding cancer, including its treatment and prevention. The title explores the possible causes of cancer, including genetics and the environment, the use of vitamin D as a form of cancer prevention, the effectiveness of cancer screening efforts, such as mammograms, the impact of palliative care, and the possibility of a cancer cure.","English",27.8,22.240000000000002,"362","97 pp.",{"$f":"Table1[[#This Row],['# of Books]]*Table1[[#This Row],[QTY]]","v":0},{"$f":"Table1[[#This Row],[QTY]]*Table1[[#This Row],[School & Library Price]]","v":0}]
[null,18,null,"Current Issues","At Issue","Casualties of War","978-0-7377-4880-2","Greenhaven Publishing","Library Bound Book",1,2011,null,"Library Bound","6.000 X 9.000","Author","Susan Hunnicutt",null,null,null,null,null,null,"Years 15 - 17",null,"Grade 10 - 12",null,"English",39.4,31.52,"301","128 pp.",{"$f":"Table1[[#This Row],['# of Books]]*Table1[[#This Row],[QTY]]","v":0},{"$f":"Table1[[#This Row],[QTY]]*Table1[[#This Row],[School & Library Price]]","v":0}]
[null,18,null,"Current Issues","At Issue","Casualties of War","978-0-7377-4881-9","Greenhaven Publishing","Paperback Book",1,2011,null,"Paperback","6.000 X 9.000","Author","Susan Hunnicutt",null,null,null,null,null,null,"Years 15 - 17",null,"Grade 10 - 12",null,"English",27.8,22.240000000000002,"301","128 pp.",{"$f":"Table1[[#This Row],['# of Books]]*Table1[[#This Row],[QTY]]","v":0},{"$f":"Table1[[#This Row],[QTY]]*Table1[[#This Row],[School & Library Price]]","v":0}]
[null,18,null,"Current Issues","At Issue","Cell Phones and Driving","978-0-7377-7155-8","Greenhaven Publishing","Library Bound Book",1,2015,null,"Library Bound","6.000 X 9.000","Author","Roman Espejo",null,null,null,null,null,null,"Years 15 - 17",null,"Grade 10 - 12","Explores cell phones and other driving distractions; policies/laws related to cell phone use while driving; new cell phone technology and driver distraction; and the impact of hands-free technology on driver safety.","English",39.4,31.52,"363","88 pp.",{"$f":"Table1[[#This Row],['# of Books]]*Table1[[#This Row],[QTY]]","v":0},{"$f":"Table1[[#This Row],[QTY]]*Table1[[#This Row],[School & Library Price]]","v":0}]
[null,18,null,"Current Issues","At Issue","Cell Phones and Driving","978-0-7377-7156-5","Greenhaven Publishing","Paperback Book",1,2015,null,"Paperback","6.000 X 9.000","Author","Roman Espejo",null,null,null,null,null,null,"Years 15 - 17",null,"Grade 10 - 12","Explores cell phones and other driving distractions; policies/laws related to cell phone use while driving; new cell phone technology and driver distraction; and the impact of hands-free technology on driver safety.","English",27.8,22.240000000000002,"363","81 pp.",{"$f":"Table1[[#This Row],['# of Books]]*Table1[[#This Row],[QTY]]","v":0},{"$f":"Table1[[#This Row],[QTY]]*Table1[[#This Row],[School & Library Price]]","v":0}]
[null,18,null,"Current Issues","At Issue","Cell Phones in Schools","978-0-7377-6155-9","Greenhaven Publishing","Library Bound Book",1,2014,null,"Library Bound","6.000 X 9.000","Author","Stefan Kiesbye",null,null,null,null,null,null,"Years 15 - 17",null,"Grade 10 - 12","This title explores many issues related to the use of cell phones in schools including: educational purposes; safety issues; sharing important information; allowing use, but with restrictions; distractions caused by using cell phones in schools.","English",39.4,31.52,"371","88 pp.",{"$f":"Table1[[#This Row],['# of Books]]*Table1[[#This Row],[QTY]]","v":0},{"$f":"Table1[[#This Row],[QTY]]*Table1[[#This Row],[School & Library Price]]","v":0}]
[null,18,null,"Current Issues","At Issue","Cell Phones in Schools","978-0-7377-6156-6","Greenhaven Publishing","Paperback Book",1,2014,null,"Paperback","6.000 X 9.000","Author","Stefan Kiesbye",null,null,null,null,null,null,"Years 15 - 17",null,"Grade 10 - 12","This title explores many issues related to the use of cell phones in schools including: educational purposes; safety issues; sharing important information; allowing use, but with restrictions; distractions caused by using cell phones in schools.","English",27.8,22.240000000000002,"371","85 pp.",{"$f":"Table1[[#This Row],['# of Books]]*Table1[[#This Row],[QTY]]","v":0},{"$f":"Table1[[#This Row],[QTY]]*Table1[[#This Row],[School & Library Price]]","v":0}]
[null,18,null,"Current Issues","At Issue","Charter Schools","978-0-7377-3915-2","Greenhaven Publishing","Paperback Book",1,2008,null,"Paperback","6.000 X 9.000","Author","Diane Andrews Henningfeld",null,null,null,null,null,null,"Years 15 - 17",null,"Grade 10 - 12",null,"English",27.8,22.240000000000002,"371","150 pp.",{"$f":"Table1[[#This Row],['# of Books]]*Table1[[#This Row],[QTY]]","v":0},{"$f":"Table1[[#This Row],[QTY]]*Table1[[#This Row],[School & Library Price]]","v":0}]
[null,18,null,"Current Issues","At Issue","Child Labor and Sweatshops","978-0-7377-4875-8","Greenhaven Publishing","Paperback Book",1,2011,null,"Paperback","6.000 X 9.000","Author","Christine Watkins",null,null,null,null,null,null,"Years 15 - 17",null,"Grade 10 - 12",null,"English",27.8,22.240000000000002,"331","128 pp.",{"$f":"Table1[[#This Row],['# of Books]]*Table1[[#This Row],[QTY]]","v":0},{"$f":"Table1[[#This Row],[QTY]]*Table1[[#This Row],[School & Library Price]]","v":0}]
[null,18,null,"Current Issues","At Issue","Child Pornography","978-0-7377-6157-3","Greenhaven Publishing","Library Bound Book",1,2013,null,"Library Bound","6.000 X 9.000","Author","Stefan Kiesbye",null,null,null,null,null,null,"Years 15 - 17",null,"Grade 10 - 12","This edition in the At Issue series examines issues related to child pornography. Includes primary and secondary sources from a variety of perspectives -- eyewitnesses, scientific journals, government officials and many others.","English",39.4,31.52,"364","104 pp.",{"$f":"Table1[[#This Row],['# of Books]]*Table1[[#This Row],[QTY]]","v":0},{"$f":"Table1[[#This Row],[QTY]]*Table1[[#This Row],[School & Library Price]]","v":0}]
[null,18,null,"Current Issues","At Issue","Child Pornography","978-0-7377-6158-0","Greenhaven Publishing","Paperback Book",1,2013,null,"Paperback","6.000 X 9.000","Author","Stefan Kiesbye",null,null,null,null,null,null,"Years 15 - 17",null,"Grade 10 - 12","This edition in the At Issue series examines issues related to child pornography. Includes primary and secondary sources from a variety of perspectives -- eyewitnesses, scientific journals, government officials and many others.","English",27.8,22.240000000000002,"364","99 pp.",{"$f":"Table1[[#This Row],['# of Books]]*Table1[[#This Row],[QTY]]","v":0},{"$f":"Table1[[#This Row],[QTY]]*Table1[[#This Row],[School & Library Price]]","v":0}]
[null,18,null,"Current Issues","At Issue","Childhood Obesity","978-0-7377-7404-7","Greenhaven Publishing","Library Bound Book",1,2016,null,"Library Bound","6.000 X 9.000","Author","Tamara Thompson",null,null,null,null,null,null,"Years 15 - 17",null,"Grade 10 - 12","This title explores the issues of childhood obesity. It examines the role of government, and the responsibilities of parents. It discusses the health care costs of childhood obesity. This title examines fast food, food marketing and physical activity as they relate to childhood obesity.","English",39.4,31.52,"618","115 pp.",{"$f":"Table1[[#This Row],['# of Books]]*Table1[[#This Row],[QTY]]","v":0},{"$f":"Table1[[#This Row],[QTY]]*Table1[[#This Row],[School & Library Price]]","v":0}]
[null,18,null,"Current Issues","At Issue","Childhood Obesity","978-0-7377-7405-4","Greenhaven Publishing","Paperback Book",1,2016,null,"Paperback","6.000 X 9.000","Author","Tamara Thompson",null,null,null,null,null,null,"Years 15 - 17",null,"Grade 10 - 12","This title explores the issues of childhood obesity. It examines the role of government, and the responsibilities of parents. It discusses the health care costs of childhood obesity. This title examines fast food, food marketing and physical activity as they relate to childhood obesity.","English",27.8,22.240000000000002,"618","115 pp.",{"$f":"Table1[[#This Row],['# of Books]]*Table1[[#This Row],[QTY]]","v":0},{"$f":"Table1[[#This Row],[QTY]]*Table1[[#This Row],[School & Library Price]]","v":0}]
[null,18,null,"Current Issues","At Issue","Childhood Obesity","978-0-7377-7627-0","Greenhaven Publishing","eBook",1,2016,null,"eBook",null,"Author","Tamara Thompson",null,null,null,null,null,null,"Years 15 - 17",null,"Grade 10 - 12",null,"English",39.4,39.4,"618.92","115 pp.",{"$f":"Table1[[#This Row],['# of Books]]*Table1[[#This Row],[QTY]]","v":0},{"$f":"Table1[[#This Row],[QTY]]*Table1[[#This Row],[School & Library Price]]","v":0}]
[null,18,null,"Current Issues","At Issue","Club Drugs","978-0-7377-6161-0","Greenhaven Publishing","Library Bound Book",1,2013,null,"Library Bound","6.000 X 9.000","Author","Christine Watkins",null,null,null,null,null,null,"Years 15 - 17",null,"Grade 10 - 12","This edition in the At Issue series examines issues related to club drugs. Includes primary and secondary sources from a variety of perspectives -- eyewitnesses, scientific journals, government officials and many others.","English",39.4,31.52,"362","120 pp.",{"$f":"Table1[[#This Row],['# of Books]]*Table1[[#This Row],[QTY]]","v":0},{"$f":"Table1[[#This Row],[QTY]]*Table1[[#This Row],[School & Library Price]]","v":0}]
[null,18,null,"Current Issues","At Issue","Club Drugs","978-0-7377-6162-7","Greenhaven Publishing","Paperback Book",1,2013,null,"Paperback","6.000 X 9.000","Author","Christine Watkins",null,null,null,null,null,null,"Years 15 - 17",null,"Grade 10 - 12","This edition in the At Issue series examines issues related to club drugs. Includes primary and secondary sources from a variety of perspectives -- eyewitnesses, scientific journals, government officials and many others.","English",27.8,22.240000000000002,"362","117 pp.",{"$f":"Table1[[#This Row],['# of Books]]*Table1[[#This Row],[QTY]]","v":0},{"$f":"Table1[[#This Row],[QTY]]*Table1[[#This Row],[School & Library Price]]","v":0}]
[null,18,null,"Current Issues","At Issue","Club Drugs","978-1-5345-0250-5","Greenhaven Publishing","eBook",1,2013,null,"eBook",null,"Author","Christine Watkins",null,null,null,null,null,null,"Years 15 - 17",null,"Grade 10 - 12","This edition in the At Issue series examines issues related to club drugs. Includes primary and secondary sources from a variety of perspectives -- eyewitnesses, scientific journals, government officials and many others.","English",39.4,31.52,"362","104 pp.",{"$f":"Table1[[#This Row],['# of Books]]*Table1[[#This Row],[QTY]]","v":0},{"$f":"Table1[[#This Row],[QTY]]*Table1[[#This Row],[School & Library Price]]","v":0}]
[null,18,null,"Current Issues","At Issue","Concealed Weapons","978-0-7377-5147-5","Greenhaven Publishing","Library Bound Book",1,2011,null,"Library Bound","6.000 X 9.000","Author","Kacy Lovelace",null,null,null,null,null,null,"Years 15 - 17",null,"Grade 10 - 12","This edition in the AT ISSUE series examines issues related to concealed weapons. Includes primary and secondary sources from a variety of perspectives -- eyewitnesses, scientific journals, government officials and many others.","English",39.4,31.52,"363","112 pp.",{"$f":"Table1[[#This Row],['# of Books]]*Table1[[#This Row],[QTY]]","v":0},{"$f":"Table1[[#This Row],[QTY]]*Table1[[#This Row],[School & Library Price]]","v":0}]
[null,18,null,"Current Issues","At Issue","Concealed Weapons","978-0-7377-5148-2","Greenhaven Publishing","Paperback Book",1,2011,null,"Paperback","6.000 X 9.000","Author","Kacy Lovelace",null,null,null,null,null,null,"Years 15 - 17",null,"Grade 10 - 12","This edition in the AT ISSUE series examines issues related to concealed weapons. Includes primary and secondary sources from a variety of perspectives -- eyewitnesses, scientific journals, government officials and many others.","English",27.8,22.240000000000002,"363","112 pp.",{"$f":"Table1[[#This Row],['# of Books]]*Table1[[#This Row],[QTY]]","v":0},{"$f":"Table1[[#This Row],[QTY]]*Table1[[#This Row],[School & Library Price]]","v":0}]
[null,18,null,"Current Issues","At Issue","Corporate Corruption","978-0-7377-7364-4","Greenhaven Publishing","Library Bound Book",1,2016,null,"Library Bound","6.000 X 9.000","Author","Sarah Armstrong",null,null,null,null,null,null,"Years 15 - 17",null,"Grade 10 - 12","As we move into a global economy corporations gain more and greater power. This can open to door to increased corruption. At Issue: Corporate Corruption explores some of the facets of the issue including rights of the individual versus the corporation, the need for more or less regulation, executive pay, and the increased impact on the environment.","English",39.4,31.52,"174","101 pp.",{"$f":"Table1[[#This Row],['# of Books]]*Table1[[#This Row],[QTY]]","v":0},{"$f":"Table1[[#This Row],[QTY]]*Table1[[#This Row],[School & Library Price]]","v":0}]
[null,18,null,"Current Issues","At Issue","Corporate Corruption","978-0-7377-7365-1","Greenhaven Publishing","Paperback Book",1,2016,null,"Paperback","6.000 X 9.000","Author","Sarah Armstrong",null,null,null,null,null,null,"Years 15 - 17",null,"Grade 10 - 12","As we move into a global economy corporations gain more and greater power. This can open to door to increased corruption. At Issue: Corporate Corruption explores some of the facets of the issue including rights of the individual versus the corporation, the need for more or less regulation, executive pay, and the increased impact on the environment.","English",27.8,22.240000000000002,"174","101 pp.",{"$f":"Table1[[#This Row],['# of Books]]*Table1[[#This Row],[QTY]]","v":0},{"$f":"Table1[[#This Row],[QTY]]*Table1[[#This Row],[School & Library Price]]","v":0}]
[null,18,null,"Current Issues","At Issue","Corporate Corruption","978-0-7377-7628-7","Greenhaven Publishing","eBook",1,2016,null,"eBook",null,"Author","Sarah Armstrong",null,null,null,null,null,null,"Years 15 - 17",null,"Grade 10 - 12",null,"English",39.4,39.4,"364.16","101 pp.",{"$f":"Table1[[#This Row],['# of Books]]*Table1[[#This Row],[QTY]]","v":0},{"$f":"Table1[[#This Row],[QTY]]*Table1[[#This Row],[School & Library Price]]","v":0}]
[null,18,null,"Current Issues","At Issue","Cyberbullying","978-0-7377-5563-3","Greenhaven Publishing","Paperback Book",1,2012,null,"Paperback","6.000 X 9.000","Author","Louise I. Gerdes",null,null,null,null,null,null,"Years 15 - 17",null,"Grade 10 - 12",null,"English",27.8,22.240000000000002,"302","110 pp.",{"$f":"Table1[[#This Row],['# of Books]]*Table1[[#This Row],[QTY]]","v":0},{"$f":"Table1[[#This Row],[QTY]]*Table1[[#This Row],[School & Library Price]]","v":0}]
[null,18,null,"Current Issues","At Issue","Cyberpredators","978-0-7377-5564-0","Greenhaven Publishing","Library Bound Book",1,2012,null,"Library Bound","6.000 X 9.000","Author","Stefan Kiesbye",null,null,null,null,null,null,"Years 15 - 17",null,"Grade 10 - 12","This new addition to the AT ISSUE series offers readers a variety of articles that address the topic of cyberpredators. The title explores the dangers of online sexual exploitation, privacy concerns and \"predator panic,\" the dangers of cyberbullying and cyberstalking, and concerns related to online dating sites.","English",39.4,31.52,"363","88 pp.",{"$f":"Table1[[#This Row],['# of Books]]*Table1[[#This Row],[QTY]]","v":0},{"$f":"Table1[[#This Row],[QTY]]*Table1[[#This Row],[School & Library Price]]","v":0}]
[null,18,null,"Current Issues","At Issue","Cyberpredators","978-0-7377-5565-7","Greenhaven Publishing","Paperback Book",1,2012,null,"Paperback","6.000 X 9.000","Author","Stefan Kiesbye",null,null,null,null,null,null,"Years 15 - 17",null,"Grade 10 - 12","This new addition to the At Issue series offers readers a variety of articles that address the topic of cyberpredators. The title explores the dangers of online sexual exploitation, privacy concerns and \"predator panic,\"  the dangers of cyberbullying and cyberstalking, and concerns related to online dating sites.","English",27.8,22.240000000000002,"363","88 pp.",{"$f":"Table1[[#This Row],['# of Books]]*Table1[[#This Row],[QTY]]","v":0},{"$f":"Table1[[#This Row],[QTY]]*Table1[[#This Row],[School & Library Price]]","v":0}]
[null,18,null,"Current Issues","At Issue","Date Rape","978-0-7377-3682-3","Greenhaven Publishing","Paperback Book",1,2007,null,"Paperback","6.000 X 9.000","Author","Christine Watkins",null,null,null,null,null,null,"Years 15 - 17",null,"Grade 10 - 12",null,"English",27.8,22.240000000000002,"362.292","109 pp.",{"$f":"Table1[[#This Row],['# of Books]]*Table1[[#This Row],[QTY]]","v":0},{"$f":"Table1[[#This Row],[QTY]]*Table1[[#This Row],[School & Library Price]]","v":0}]
[null,18,null,"Current Issues","At Issue","Designer Babies","978-0-7377-6163-4","Greenhaven Publishing","Library Bound Book",1,2013,null,"Library Bound","6.000 X 9.000","Author","Clayton Farris Naff",null,null,null,null,null,null,"Years 15 - 17",null,"Grade 10 - 12","This edition in the At Issue series examines issues related to designer babies. Includes primary and secondary sources from a variety of perspectives -- eyewitnesses, scientific journals, government officials and many others.","English",39.4,31.52,"176","112 pp.",{"$f":"Table1[[#This Row],['# of Books]]*Table1[[#This Row],[QTY]]","v":0},{"$f":"Table1[[#This Row],[QTY]]*Table1[[#This Row],[School & Library Price]]","v":0}]
[null,18,null,"Current Issues","At Issue","Designer Babies","978-0-7377-6164-1","Greenhaven Publishing","Paperback Book",1,2013,null,"Paperback","6.000 X 9.000","Author","Clayton Farris Naff",null,null,null,null,null,null,"Years 15 - 17",null,"Grade 10 - 12","This edition in the At Issue series examines issues related to designer babies. Includes primary and secondary sources from a variety of perspectives -- eyewitnesses, scientific journals, government officials and many others.","English",27.8,22.240000000000002,"176","109 pp.",{"$f":"Table1[[#This Row],['# of Books]]*Table1[[#This Row],[QTY]]","v":0},{"$f":"Table1[[#This Row],[QTY]]*Table1[[#This Row],[School & Library Price]]","v":0}]
[null,18,null,"Current Issues","At Issue","Disaster Planning","978-0-7377-4090-5","Greenhaven Publishing","Library Bound Book",1,2009,null,"Library Bound","6.000 X 9.000","Author","Janel D. Morris",null,null,null,null,null,null,"Years 15 - 17",null,"Grade 10 - 12",null,"English",39.4,31.52,"363","96 pp.",{"$f":"Table1[[#This Row],['# of Books]]*Table1[[#This Row],[QTY]]","v":0},{"$f":"Table1[[#This Row],[QTY]]*Table1[[#This Row],[School & Library Price]]","v":0}]
[null,18,null,"Current Issues","At Issue","Disaster Planning","978-0-7377-4091-2","Greenhaven Publishing","Paperback Book",1,2009,null,"Paperback","6.000 X 9.000","Author","Janel D. Morris",null,null,null,null,null,null,"Years 15 - 17",null,"Grade 10 - 12",null,"English",27.8,22.240000000000002,"363","96 pp.",{"$f":"Table1[[#This Row],['# of Books]]*Table1[[#This Row],[QTY]]","v":0},{"$f":"Table1[[#This Row],[QTY]]*Table1[[#This Row],[School & Library Price]]","v":0}]
[null,18,null,"Current Issues","At Issue","Disposal of the Dead","978-0-7377-4092-9","Greenhaven Publishing","Library Bound Book",1,2009,null,"Library Bound","6.000 X 9.000","Author","Diane Andrews Henningfeld",null,null,null,null,null,null,"Years 15 - 17",null,"Grade 10 - 12",null,"English",39.4,31.52,"614","120 pp.",{"$f":"Table1[[#This Row],['# of Books]]*Table1[[#This Row],[QTY]]","v":0},{"$f":"Table1[[#This Row],[QTY]]*Table1[[#This Row],[School & Library Price]]","v":0}]
[null,18,null,"Current Issues","At Issue","Disposal of the Dead","978-0-7377-4093-6","Greenhaven Publishing","Paperback Book",1,2009,null,"Paperback","6.000 X 9.000","Author","Diane Andrews Henningfeld",null,null,null,null,null,null,"Years 15 - 17",null,"Grade 10 - 12",null,"English",27.8,22.240000000000002,"614","120 pp.",{"$f":"Table1[[#This Row],['# of Books]]*Table1[[#This Row],[QTY]]","v":0},{"$f":"Table1[[#This Row],[QTY]]*Table1[[#This Row],[School & Library Price]]","v":0}]
[null,18,null,"Current Issues","At Issue","Distracted Driving","978-0-7377-5567-1","Greenhaven Publishing","Paperback Book",1,2012,null,"Paperback","6.000 X 9.000","Author","Stefan Kiesbye",null,null,null,null,null,null,"Years 15 - 17",null,"Grade 10 - 12","This edition in the At Issue series examines the topic of distracted driving. The title explores the seriousness of the distracted driving problem in the United States, the impact of cell phone use and texting on driving effectiveness, and other potential driving distractions, such as pets, children, navigation systems, and eating.","English",27.8,22.240000000000002,"363","92 pp.",{"$f":"Table1[[#This Row],['# of Books]]*Table1[[#This Row],[QTY]]","v":0},{"$f":"Table1[[#This Row],[QTY]]*Table1[[#This Row],[School & Library Price]]","v":0}]
[null,18,null,"Current Issues","At Issue","Divorce and Children","978-0-7377-7161-9","Greenhaven Publishing","Library Bound Book",1,2015,null,"Library Bound","6.000 X 9.000","Author","Roman Espejo",null,null,null,null,null,null,"Years 15 - 17",null,"Grade 10 - 12","This title in the AT ISSUE SERIES explores issues pertaining to divorce and children, including children's rights in divorce, custody and visitation decisions, and blended families.","English",39.4,31.52,"306","109 pp.",{"$f":"Table1[[#This Row],['# of Books]]*Table1[[#This Row],[QTY]]","v":0},{"$f":"Table1[[#This Row],[QTY]]*Table1[[#This Row],[School & Library Price]]","v":0}]
[null,18,null,"Current Issues","At Issue","Divorce and Children","978-0-7377-7162-6","Greenhaven Publishing","Paperback Book",1,2015,null,"Paperback","6.000 X 9.000","Author","Roman Espejo",null,null,null,null,null,null,"Years 15 - 17",null,"Grade 10 - 12","This title in the AT ISSUE SERIES explores issues pertaining to divorce and children, including children’s rights in divorce, custody and visitation decisions, and blended families.","English",27.8,22.240000000000002,"306","109 pp.",{"$f":"Table1[[#This Row],['# of Books]]*Table1[[#This Row],[QTY]]","v":0},{"$f":"Table1[[#This Row],[QTY]]*Table1[[#This Row],[School & Library Price]]","v":0}]
[null,18,null,"Current Issues","At Issue","Divorce and Children","978-0-7377-7629-4","Greenhaven Publishing","eBook",1,2015,null,"eBook",null,"Author","Roman Espejo",null,null,null,null,null,null,"Years 15 - 17",null,"Grade 10 - 12",null,"English",39.4,39.4,"306.89","109 pp.",{"$f":"Table1[[#This Row],['# of Books]]*Table1[[#This Row],[QTY]]","v":0},{"$f":"Table1[[#This Row],[QTY]]*Table1[[#This Row],[School & Library Price]]","v":0}]
[null,18,null,"Current Issues","At Issue","DNA Databases","978-0-7377-5890-0","Greenhaven Publishing","Library Bound Book",1,2012,null,"Library Bound","6.000 X 9.000","Author","Stefan Kiesbye",null,null,null,null,null,null,"Years 15 - 17",null,"Grade 10 - 12","This edition in the AT ISSUE series examines issues related to DNA databases. Includes primary and secondary sources from a variety of perspectives -- eyewitnesses, scientific journals, government officials and many others.","English",39.4,31.52,"363","104 pp.",{"$f":"Table1[[#This Row],['# of Books]]*Table1[[#This Row],[QTY]]","v":0},{"$f":"Table1[[#This Row],[QTY]]*Table1[[#This Row],[School & Library Price]]","v":0}]
[null,18,null,"Current Issues","At Issue","DNA Databases","978-0-7377-5891-7","Greenhaven Publishing","Paperback Book",1,2012,null,"Paperback","6.000 X 9.000","Author","Stefan Kiesbye",null,null,null,null,null,null,"Years 15 - 17",null,"Grade 10 - 12","This edition in the AT ISSUE series examines issues related to DNA databases. Includes primary and secondary sources from a variety of perspectives -- eyewitnesses, scientific journals, government officials and many others.","English",27.8,22.240000000000002,"363","100 pp.",{"$f":"Table1[[#This Row],['# of Books]]*Table1[[#This Row],[QTY]]","v":0},{"$f":"Table1[[#This Row],[QTY]]*Table1[[#This Row],[School & Library Price]]","v":0}]
[null,18,null,"Current Issues","At Issue","Do Abstinence Programs Work?","978-0-7377-6828-2","Greenhaven Publishing","Library Bound Book",1,2014,null,"Library Bound","6.000 X 9.000","Author","Christine Watkins",null,null,null,null,null,null,"Years 15 - 17",null,"Grade 10 - 12","This title explores whether abstinence programs are effective, It looks at the success rate of abstinence programs in preventing teen pregnancy, whether abstinence programs should be federally funded, and compares abstinence programs to other sex education programs.","English",39.4,31.52,"306","136 pp.",{"$f":"Table1[[#This Row],['# of Books]]*Table1[[#This Row],[QTY]]","v":0},{"$f":"Table1[[#This Row],[QTY]]*Table1[[#This Row],[School & Library Price]]","v":0}]
[null,18,null,"Current Issues","At Issue","Do Abstinence Programs Work?","978-0-7377-6829-9","Greenhaven Publishing","Paperback Book",1,2014,null,"Paperback","6.000 X 9.000","Author","Christine Watkins",null,null,null,null,null,null,"Years 15 - 17",null,"Grade 10 - 12","This title explores whether abstinence programs are effective, It looks at the success rate of abstinence programs in preventing teen pregnancy, whether abstinence programs should be federally funded, and compares abstinence programs to other sex education programs.","English",27.8,22.240000000000002,"306","128 pp.",{"$f":"Table1[[#This Row],['# of Books]]*Table1[[#This Row],[QTY]]","v":0},{"$f":"Table1[[#This Row],[QTY]]*Table1[[#This Row],[School & Library Price]]","v":0}]
[null,18,null,"Current Issues","At Issue","Do Abstinence Programs Work?","978-0-7377-7630-0","Greenhaven Publishing","eBook",1,2014,null,"eBook",null,"Author","Christine Watkins",null,null,null,null,null,null,"Years 15 - 17",null,"Grade 10 - 12",null,"English",39.4,39.4,"306.70835","136 pp.",{"$f":"Table1[[#This Row],['# of Books]]*Table1[[#This Row],[QTY]]","v":0},{"$f":"Table1[[#This Row],[QTY]]*Table1[[#This Row],[School & Library Price]]","v":0}]
[null,18,null,"Current Issues","At Issue","Do Cell Phones Cause Cancer?","978-0-7377-6167-2","Greenhaven Publishing","Library Bound Book",1,2013,null,"Library Bound","6.000 X 9.000","Author","Clay Farris Naff",null,null,null,null,null,null,"Years 15 - 17",null,"Grade 10 - 12","This title explores the question of a link between cell phone and cancer, focusing on controversies surrounding research findings to date. Includes primary and secondary sources from a variety of perspectives -- eyewitnesses, scientific journals, government officials and many others.","English",39.4,31.52,"363","102 pp.",{"$f":"Table1[[#This Row],['# of Books]]*Table1[[#This Row],[QTY]]","v":0},{"$f":"Table1[[#This Row],[QTY]]*Table1[[#This Row],[School & Library Price]]","v":0}]
[null,18,null,"Current Issues","At Issue","Do Cell Phones Cause Cancer?","978-0-7377-6168-9","Greenhaven Publishing","Paperback Book",1,2013,null,"Paperback","6.000 X 9.000","Author","Clay Farris Naff",null,null,null,null,null,null,"Years 15 - 17",null,"Grade 10 - 12","This title explores the question of a link between cell phone and cancer, focusing on controversies surrounding research findings to date. Includes primary and secondary sources from a variety of perspectives -- eyewitnesses, scientific journals, government officials and many others.","English",27.8,22.240000000000002,"363","102 pp.",{"$f":"Table1[[#This Row],['# of Books]]*Table1[[#This Row],[QTY]]","v":0},{"$f":"Table1[[#This Row],[QTY]]*Table1[[#This Row],[School & Library Price]]","v":0}]
[null,18,null,"Current Issues","At Issue","Do Children Have Rights?","978-0-7377-4877-2","Greenhaven Publishing","Paperback Book",1,2011,null,"Paperback","6.000 X 9.000","Author","Christine Watkins",null,null,null,null,null,null,"Years 15 - 17",null,"Grade 10 - 12",null,"English",27.8,22.240000000000002,"323","136 pp.",{"$f":"Table1[[#This Row],['# of Books]]*Table1[[#This Row],[QTY]]","v":0},{"$f":"Table1[[#This Row],[QTY]]*Table1[[#This Row],[School & Library Price]]","v":0}]
[null,18,null,"Current Issues","At Issue","Do Infectious Diseases Pose a Threat?","978-0-7377-6830-5","Greenhaven Publishing","Library Bound Book",1,2014,null,"Library Bound","6.000 X 9.000","Author","Roman Espejo",null,null,null,null,null,null,"Years 15 - 17",null,"Grade 10 - 12","This title explores the issue of infectious diseases, including the role of drug resistance and environmental destruction; whether infectious diseases threaten national security; whether fears of an influenza pandemic are overblown; and the role of vaccines.","English",39.4,31.52,"362.1969","104 pp.",{"$f":"Table1[[#This Row],['# of Books]]*Table1[[#This Row],[QTY]]","v":0},{"$f":"Table1[[#This Row],[QTY]]*Table1[[#This Row],[School & Library Price]]","v":0}]
[null,18,null,"Current Issues","At Issue","Do Infectious Diseases Pose a Threat?","978-0-7377-6831-2","Greenhaven Publishing","Paperback Book",1,2014,null,"Paperback","6.000 X 9.000","Author","Roman Espejo",null,null,null,null,null,null,"Years 15 - 17",null,"Grade 10 - 12","This title explores the issue of infectious diseases, including the role of drug resistance and environmental destruction; whether infectious diseases threaten national security; whether fears of an influenza pandemic are overblown; and the role of vaccines.","English",27.8,22.240000000000002,"362.1969","101 pp.",{"$f":"Table1[[#This Row],['# of Books]]*Table1[[#This Row],[QTY]]","v":0},{"$f":"Table1[[#This Row],[QTY]]*Table1[[#This Row],[School & Library Price]]","v":0}]
[null,18,null,"Current Issues","At Issue","Do Religious Groups in America Experience Discrimination?","978-0-7377-3400-3","Greenhaven Publishing","Paperback Book",1,2007,null,"Paperback","6.000 X 9.000","Author","Janel D. Ginn",null,null,null,null,null,null,"Years 15 - 17",null,"Grade 10 - 12",null,"English",27.8,22.240000000000002,"305.60973","136 pp.",{"$f":"Table1[[#This Row],['# of Books]]*Table1[[#This Row],[QTY]]","v":0},{"$f":"Table1[[#This Row],[QTY]]*Table1[[#This Row],[School & Library Price]]","v":0}]
[null,18,null,"Current Issues","At Issue","Do Schools Prepare Students for a Global Economy?","978-0-7377-4094-3","Greenhaven Publishing","Library Bound Book",1,2012,null,"Library Bound","6.000 X 9.000","Author","Judeen Bartos",null,null,null,null,null,null,"Years 15 - 17",null,"Grade 10 - 12","This title explores trends in US student achievement, comparisons of different educational models, differences in private and public schooling, and positive characteristics of US schooling other countries want to emulate.  Includes primary and secondary sources from a variety of perspectives -- eyewitnesses, scientific journals, government officials and many others.","English",39.4,31.52,"370","128 pp.",{"$f":"Table1[[#This Row],['# of Books]]*Table1[[#This Row],[QTY]]","v":0},{"$f":"Table1[[#This Row],[QTY]]*Table1[[#This Row],[School & Library Price]]","v":0}]
[null,18,null,"Current Issues","At Issue","Do Schools Prepare Students for a Global Economy?","978-0-7377-4095-0","Greenhaven Publishing","Paperback Book",1,2012,null,"Paperback","6.000 X 9.000","Author","Judeen Bartos",null,null,null,null,null,null,"Years 15 - 17",null,"Grade 10 - 12","This title explores trends in US student achievement, comparisons of different educational models, differences in private and public schooling, and positive characteristics of US schooling other countries want to emulate.  Includes primary and secondary sources from a variety of perspectives -- eyewitnesses, scientific journals, government officials and many others.","English",27.8,22.240000000000002,"370","121 pp.",{"$f":"Table1[[#This Row],['# of Books]]*Table1[[#This Row],[QTY]]","v":0},{"$f":"Table1[[#This Row],[QTY]]*Table1[[#This Row],[School & Library Price]]","v":0}]
[null,18,null,"Current Issues","At Issue","Do Students Have Too Much Homework?","978-0-7377-5892-4","Greenhaven Publishing","Library Bound Book",1,2012,null,"Library Bound","6.000 X 9.000","Author","Judeen Bartos",null,null,null,null,null,null,"Years 15 - 17",null,"Grade 10 - 12","This new addition to the At Issue series examines a variety of issues related to student homework. The title explores the impact of excessive homework on families, the relationship between academic pressure and student workload, and the impact of life lessons versus school lessons. A discussion of selected global homework practices is also included.","English",39.4,31.52,"371","112 pp.",{"$f":"Table1[[#This Row],['# of Books]]*Table1[[#This Row],[QTY]]","v":0},{"$f":"Table1[[#This Row],[QTY]]*Table1[[#This Row],[School & Library Price]]","v":0}]
[null,18,null,"Current Issues","At Issue","Do Students Have Too Much Homework?","978-0-7377-5893-1","Greenhaven Publishing","Paperback Book",1,2012,null,"Paperback","6.000 X 9.000","Author","Judeen Bartos",null,null,null,null,null,null,"Years 15 - 17",null,"Grade 10 - 12","This new addition to the At Issue series examines a variety of issues related to student homework. The title explores the impact of excessive homework on families, the relationship between academic pressure and student workload, and the impact of life lessons versus school lessons. A discussion of selected global homework practices is also included.","English",27.8,22.240000000000002,"371","112 pp.",{"$f":"Table1[[#This Row],['# of Books]]*Table1[[#This Row],[QTY]]","v":0},{"$f":"Table1[[#This Row],[QTY]]*Table1[[#This Row],[School & Library Price]]","v":0}]
[null,18,null,"Current Issues","At Issue","Do Tax Breaks Benefit the Economy?","978-0-7377-4298-5","Greenhaven Publishing","Library Bound Book",1,2009,null,"Library Bound","6.000 X 9.000","Author","Amanda Hiber",null,null,null,null,null,null,"Years 15 - 17",null,"Grade 10 - 12",null,"English",39.4,31.52,"338","120 pp.",{"$f":"Table1[[#This Row],['# of Books]]*Table1[[#This Row],[QTY]]","v":0},{"$f":"Table1[[#This Row],[QTY]]*Table1[[#This Row],[School & Library Price]]","v":0}]
[null,18,null,"Current Issues","At Issue","Do Tax Breaks Benefit the Economy?","978-0-7377-4297-8","Greenhaven Publishing","Paperback Book",1,2009,null,"Paperback","6.000 X 9.000","Author","Amanda Hiber",null,null,null,null,null,null,"Years 15 - 17",null,"Grade 10 - 12",null,"English",27.8,22.240000000000002,"338","120 pp.",{"$f":"Table1[[#This Row],['# of Books]]*Table1[[#This Row],[QTY]]","v":0},{"$f":"Table1[[#This Row],[QTY]]*Table1[[#This Row],[School & Library Price]]","v":0}]
[null,18,null,"Current Issues","At Issue","Do Veterans Receive Adequate Health Care?","978-0-7377-6169-6","Greenhaven Publishing","Library Bound Book",1,2012,null,"Library Bound","6.000 X 9.000","Author","Susan C. Hunnicutt",null,null,null,null,null,null,"Years 15 - 17",null,"Grade 10 - 12","This edition in the At Issue series examines issues related to veteran health care. Includes primary and secondary sources from a variety of perspectives -- eyewitnesses, scientific journals, government officials and many others. Extensive bibliographies and annotated lists of relevant organizations to contact offer a gateway to future research.","English",39.4,31.52,"362","104 pp.",{"$f":"Table1[[#This Row],['# of Books]]*Table1[[#This Row],[QTY]]","v":0},{"$f":"Table1[[#This Row],[QTY]]*Table1[[#This Row],[School & Library Price]]","v":0}]
[null,18,null,"Current Issues","At Issue","Do Veterans Receive Adequate Health Care?","978-0-7377-6170-2","Greenhaven Publishing","Paperback Book",1,2012,null,"Paperback","6.000 X 9.000","Author","Susan Hunnicutt",null,null,null,null,null,null,"Years 15 - 17",null,"Grade 10 - 12","This edition in the At Issue series examines issues related to veteran health care. Includes primary and secondary sources from a variety of perspectives -- eyewitnesses, scientific journals, government officials and many others. Extensive bibliographies and annotated lists of relevant organizations to contact offer a gateway to future research.","English",27.8,22.240000000000002,"362","103 pp.",{"$f":"Table1[[#This Row],['# of Books]]*Table1[[#This Row],[QTY]]","v":0},{"$f":"Table1[[#This Row],[QTY]]*Table1[[#This Row],[School & Library Price]]","v":0}]
[null,18,null,"Current Issues","At Issue","Does Capital Punishment Deter Crime?","978-0-7377-3676-2","Greenhaven Publishing","Paperback Book",1,2008,null,"Paperback","6.000 X 9.000","Author","Amy Marcaccio Keyzer",null,null,null,null,null,null,"Years 15 - 17",null,"Grade 10 - 12",null,"English",27.8,22.240000000000002,"362.292","112 pp.",{"$f":"Table1[[#This Row],['# of Books]]*Table1[[#This Row],[QTY]]","v":0},{"$f":"Table1[[#This Row],[QTY]]*Table1[[#This Row],[School & Library Price]]","v":0}]
[null,19,null,"Current Issues","At Issue","Does Outsourcing Harm America?","978-0-7377-4673-0","Greenhaven Publishing","Library Bound Book",1,2010,null,"Library Bound","6.000 X 9.000","Author","Lisa Krueger",null,null,null,null,null,null,"Years 15 - 17",null,"Grade 10 - 12",null,"English",39.4,31.52,"330","120 pp.",{"$f":"Table1[[#This Row],['# of Books]]*Table1[[#This Row],[QTY]]","v":0},{"$f":"Table1[[#This Row],[QTY]]*Table1[[#This Row],[School & Library Price]]","v":0}]
[null,19,null,"Current Issues","At Issue","Does Outsourcing Harm America?","978-0-7377-4674-7","Greenhaven Publishing","Paperback Book",1,2010,null,"Paperback","6.000 X 9.000","Author","Lisa Krueger",null,null,null,null,null,null,"Years 15 - 17",null,"Grade 10 - 12",null,"English",27.8,22.240000000000002,"330","120 pp.",{"$f":"Table1[[#This Row],['# of Books]]*Table1[[#This Row],[QTY]]","v":0},{"$f":"Table1[[#This Row],[QTY]]*Table1[[#This Row],[School & Library Price]]","v":0}]
[null,19,null,"Current Issues","At Issue","Does the Internet Increase Anxiety?","978-0-7377-7382-8","Greenhaven Publishing","Library Bound Book",1,2016,null,"Library Bound","6.000 X 9.000","Author","Tamara Thompson",null,null,null,null,null,null,"Years 15 - 17",null,"Grade 10 - 12","This title in the At Issue series explores the new phenomena of anxiety surrounding the Internet that has developed with the explosion of social media use. Mobile-devise separation anxiety, digital overload, and activity tracking are a selection of topics discussed.","English",39.4,31.52,"025","104 pp.",{"$f":"Table1[[#This Row],['# of Books]]*Table1[[#This Row],[QTY]]","v":0},{"$f":"Table1[[#This Row],[QTY]]*Table1[[#This Row],[School & Library Price]]","v":0}]
[null,19,null,"Current Issues","At Issue","Does the Internet Increase Anxiety?","978-0-7377-7383-5","Greenhaven Publishing","Paperback Book",1,2016,null,"Paperback","6.000 X 9.000","Author","Tamara Thompson",null,null,null,null,null,null,"Years 15 - 17",null,"Grade 10 - 12","This title in the At Issue series explores the new phenomena of anxiety surrounding the Internet that has developed with the explosion of social media use. Mobile-devise separation anxiety, digital overload, and activity tracking are a selection of topics discussed.","English",27.8,22.240000000000002,"025","104 pp.",{"$f":"Table1[[#This Row],['# of Books]]*Table1[[#This Row],[QTY]]","v":0},{"$f":"Table1[[#This Row],[QTY]]*Table1[[#This Row],[School & Library Price]]","v":0}]
[null,19,null,"Current Issues","At Issue","Does the Internet Increase Anxiety?","978-0-7377-7631-7","Greenhaven Publishing","eBook",1,2016,null,"eBook",null,"Author","Tamara Thompson",null,null,null,null,null,null,"Years 15 - 17",null,"Grade 10 - 12",null,"English",39.4,39.4,"303.48","104 pp.",{"$f":"Table1[[#This Row],['# of Books]]*Table1[[#This Row],[QTY]]","v":0},{"$f":"Table1[[#This Row],[QTY]]*Table1[[#This Row],[School & Library Price]]","v":0}]
[null,19,null,"Current Issues","At Issue","Does the Internet Increase Crime?","978-0-7377-4878-9","Greenhaven Publishing","Library Bound Book",1,2010,null,"Library Bound","6.000 X 9.000","Author","Stefan Kiesbye",null,null,null,null,null,null,"Years 15 - 17",null,"Grade 10 - 12",null,"English",39.4,31.52,"364","112 pp.",{"$f":"Table1[[#This Row],['# of Books]]*Table1[[#This Row],[QTY]]","v":0},{"$f":"Table1[[#This Row],[QTY]]*Table1[[#This Row],[School & Library Price]]","v":0}]
[null,19,null,"Current Issues","At Issue","Does the Internet Increase Crime?","978-0-7377-4879-6","Greenhaven Publishing","Paperback Book",1,2010,null,"Paperback","6.000 X 9.000","Author","Stefan Kiesbye",null,null,null,null,null,null,"Years 15 - 17",null,"Grade 10 - 12",null,"English",27.8,22.240000000000002,"364","112 pp.",{"$f":"Table1[[#This Row],['# of Books]]*Table1[[#This Row],[QTY]]","v":0},{"$f":"Table1[[#This Row],[QTY]]*Table1[[#This Row],[School & Library Price]]","v":0}]
[null,19,null,"Current Issues","At Issue","Does the U.S. Two-party System Still Work?","978-0-7377-4644-0","Greenhaven Publishing","Library Bound Book",1,2010,null,"Library Bound","6.000 X 9.000","Author","Noah Berlatsky",null,null,null,null,null,null,"Years 15 - 17",null,"Grade 10 - 12",null,"English",39.4,31.52,"324","104 pp.",{"$f":"Table1[[#This Row],['# of Books]]*Table1[[#This Row],[QTY]]","v":0},{"$f":"Table1[[#This Row],[QTY]]*Table1[[#This Row],[School & Library Price]]","v":0}]
[null,19,null,"Current Issues","At Issue","Does the U.S. Two-Party System Still Work?","978-0-7377-4645-7","Greenhaven Publishing","Paperback Book",1,2010,null,"Paperback","6.000 X 9.000","Author","Noah Berlatsky",null,null,null,null,null,null,"Years 15 - 17",null,"Grade 10 - 12",null,"English",27.8,22.240000000000002,"324","104 pp.",{"$f":"Table1[[#This Row],['# of Books]]*Table1[[#This Row],[QTY]]","v":0},{"$f":"Table1[[#This Row],[QTY]]*Table1[[#This Row],[School & Library Price]]","v":0}]
[null,19,null,"Current Issues","At Issue","Does the World Hate the U.S.?","978-0-7377-6171-9","Greenhaven Publishing","Library Bound Book",1,2013,null,"Library Bound","6.000 X 9.000","Author","Noah Berlatsky",null,null,null,null,null,null,"Years 15 - 17",null,"Grade 10 - 12","Explores views of the US from various religious, ethnic, geographic, and political perspectives, including the attitudes of the Islamic world toward the US, whether and why the Arab world hates the US, European views of the US, Latin American views of the US, attitudes of the political right and the political left toward the US, and the impact of American pop culture on anti-Americanism.","English",39.4,31.52,"973","104 pp.",{"$f":"Table1[[#This Row],['# of Books]]*Table1[[#This Row],[QTY]]","v":0},{"$f":"Table1[[#This Row],[QTY]]*Table1[[#This Row],[School & Library Price]]","v":0}]
[null,19,null,"Current Issues","At Issue","Does the World Hate the U.S.?","978-0-7377-6172-6","Greenhaven Publishing","Paperback Book",1,2013,null,"Paperback","6.000 X 9.000","Author","Noah Berlatsky",null,null,null,null,null,null,"Years 15 - 17",null,"Grade 10 - 12","Explores views of the US from various religious, ethnic, geographic, and political perspectives, including the attitudes of the Islamic world toward the US, whether and why the Arab world hates the US, European views of the US, Latin American views of the US, attitudes of the political right and the political left toward the US, and the impact of American pop culture on anti-Americanism.","English",27.8,22.240000000000002,"973","103 pp.",{"$f":"Table1[[#This Row],['# of Books]]*Table1[[#This Row],[QTY]]","v":0},{"$f":"Table1[[#This Row],[QTY]]*Table1[[#This Row],[School & Library Price]]","v":0}]
[null,19,null,"Current Issues","At Issue","Domestic Surveillance","978-0-7377-7163-3","Greenhaven Publishing","Library Bound Book",1,2015,null,"Library Bound","6.000 X 9.000","Author","Tamara Thompson",null,null,null,null,null,null,"Years 15 - 17",null,"Grade 10 - 12","AT ISSUE: DOMESTIC SURVEILLANCE explores the worth of domestic surveillance and how it impacts the country. This volume also looks at the ethics of the National Security Agency as well as whether or not domestic surveillance needs more oversight.","English",39.4,31.52,"345","136 pp.",{"$f":"Table1[[#This Row],['# of Books]]*Table1[[#This Row],[QTY]]","v":0},{"$f":"Table1[[#This Row],[QTY]]*Table1[[#This Row],[School & Library Price]]","v":0}]
[null,19,null,"Current Issues","At Issue","Domestic Surveillance","978-0-7377-7164-0","Greenhaven Publishing","Paperback Book",1,2015,null,"Paperback","6.000 X 9.000","Author","Tamara Thompson",null,null,null,null,null,null,"Years 15 - 17",null,"Grade 10 - 12","AT ISSUE: DOMESTIC SURVEILLANCE explores the worth of domestic surveillance and how it impacts the country. This volume also looks at the ethics of the National Security Agency as well as whether or not domestic surveillance needs more oversight.","English",27.8,22.240000000000002,"345","135 pp.",{"$f":"Table1[[#This Row],['# of Books]]*Table1[[#This Row],[QTY]]","v":0},{"$f":"Table1[[#This Row],[QTY]]*Table1[[#This Row],[School & Library Price]]","v":0}]
[null,19,null,"Current Issues","At Issue","Domestic Surveillance","978-0-7377-7632-4","Greenhaven Publishing","eBook",1,2015,null,"eBook",null,"Author","Tamara Thompson",null,null,null,null,null,null,"Years 15 - 17",null,"Grade 10 - 12",null,"English",39.4,39.4,"327.1273","136 pp.",{"$f":"Table1[[#This Row],['# of Books]]*Table1[[#This Row],[QTY]]","v":0},{"$f":"Table1[[#This Row],[QTY]]*Table1[[#This Row],[School & Library Price]]","v":0}]
[null,19,null,"Current Issues","At Issue","Drones","978-0-7377-6832-9","Greenhaven Publishing","Library Bound Book",1,2014,null,"Library Bound","6.000 X 9.000","Author","Louise I. Gerdes",null,null,null,null,null,null,"Years 15 - 17",null,"Grade 10 - 12","This title explores the use of drones in fighting terrorism, in conducting war in general, in assisting border security, and in carrying out domestic surveillance. Includes primary and secondary sources from a variety of perspectives -- eyewitnesses, scientific journals, government officials and many others.","English",39.4,31.52,"623","128 pp.",{"$f":"Table1[[#This Row],['# of Books]]*Table1[[#This Row],[QTY]]","v":0},{"$f":"Table1[[#This Row],[QTY]]*Table1[[#This Row],[School & Library Price]]","v":0}]
[null,19,null,"Current Issues","At Issue","Drones","978-0-7377-6833-6","Greenhaven Publishing","Paperback Book",1,2014,null,"Paperback","6.000 X 9.000","Author","Louise I. Gerdes",null,null,null,null,null,null,"Years 15 - 17",null,"Grade 10 - 12","This title explores the use of drones in fighting terrorism, in conducting war in general, in assisting border security, and in carrying out domestic surveillance. Includes primary and secondary sources from a variety of perspectives -- eyewitnesses, scientific journals, government officials and many others.","English",27.8,22.240000000000002,"623","127 pp.",{"$f":"Table1[[#This Row],['# of Books]]*Table1[[#This Row],[QTY]]","v":0},{"$f":"Table1[[#This Row],[QTY]]*Table1[[#This Row],[School & Library Price]]","v":0}]
[null,19,null,"Current Issues","At Issue","Drunk Driving","978-0-7377-5841-2","Greenhaven Publishing","Library Bound Book",1,2011,null,"Library Bound","6.000 X 9.000","Author","Stefan Kiesbye",null,null,null,null,null,null,"Years 15 - 17",null,"Grade 10 - 12","This edition in the AT ISSUE series examines issues related to drunk driving. Includes primary and secondary sources from a variety of perspectives -- eyewitnesses, scientific journals, government officials and many others.","English",39.4,31.52,"363.12","112 pp.",{"$f":"Table1[[#This Row],['# of Books]]*Table1[[#This Row],[QTY]]","v":0},{"$f":"Table1[[#This Row],[QTY]]*Table1[[#This Row],[School & Library Price]]","v":0}]
[null,19,null,"Current Issues","At Issue","Drunk Driving","978-0-7377-5842-9","Greenhaven Publishing","Paperback Book",1,2011,null,"Paperback","6.000 X 9.000","Author","Stefan Kiesbye",null,null,null,null,null,null,"Years 15 - 17",null,"Grade 10 - 12","This edition in the AT ISSUE series examines issues related to drunk driving. Includes primary and secondary sources from a variety of perspectives -- eyewitnesses, scientific journals, government officials and many others.","English",27.8,22.240000000000002,"363.12","105 pp.",{"$f":"Table1[[#This Row],['# of Books]]*Table1[[#This Row],[QTY]]","v":0},{"$f":"Table1[[#This Row],[QTY]]*Table1[[#This Row],[School & Library Price]]","v":0}]
[null,19,null,"Current Issues","At Issue","Embryonic and Adult Stem Cells","978-0-7377-6173-3","Greenhaven Publishing","Library Bound Book",1,2013,null,"Library Bound","6.000 X 9.000","Author","Susan Hunnicutt",null,null,null,null,null,null,"Years 15 - 17",null,"Grade 10 - 12","This edition in the At Issue series examines issues related to stem cells. Includes primary and secondary sources from a variety of perspectives -- eyewitnesses, scientific journals, government officials and many others.","English",39.4,31.52,"616","112 pp.",{"$f":"Table1[[#This Row],['# of Books]]*Table1[[#This Row],[QTY]]","v":0},{"$f":"Table1[[#This Row],[QTY]]*Table1[[#This Row],[School & Library Price]]","v":0}]
[null,19,null,"Current Issues","At Issue","Embryonic and Adult Stem Cells","978-0-7377-6174-0","Greenhaven Publishing","Paperback Book",1,2013,null,"Paperback","6.000 X 9.000","Author","Susan Hunnicutt",null,null,null,null,null,null,"Years 15 - 17",null,"Grade 10 - 12","This edition in the At Issue series examines issues related to stem cells. Includes primary and secondary sources from a variety of perspectives -- eyewitnesses, scientific journals, government officials and many others.","English",27.8,22.240000000000002,"616","111 pp.",{"$f":"Table1[[#This Row],['# of Books]]*Table1[[#This Row],[QTY]]","v":0},{"$f":"Table1[[#This Row],[QTY]]*Table1[[#This Row],[School & Library Price]]","v":0}]
[null,19,null,"Current Issues","At Issue","Ethanol","978-0-7377-4414-9","Greenhaven Publishing","Library Bound Book",1,2009,null,"Library Bound","6.000 X 9.000","Author","Suzanne Dewsbury",null,null,null,null,null,null,"Years 15 - 17",null,"Grade 10 - 12",null,"English",39.4,31.52,"333","128 pp.",{"$f":"Table1[[#This Row],['# of Books]]*Table1[[#This Row],[QTY]]","v":0},{"$f":"Table1[[#This Row],[QTY]]*Table1[[#This Row],[School & Library Price]]","v":0}]
[null,19,null,"Current Issues","At Issue","Ethanol","978-0-7377-4415-6","Greenhaven Publishing","Paperback Book",1,2009,null,"Paperback","6.000 X 9.000","Author","Suzanne Dewsbury",null,null,null,null,null,null,"Years 15 - 17",null,"Grade 10 - 12",null,"English",27.8,22.240000000000002,"333","128 pp.",{"$f":"Table1[[#This Row],['# of Books]]*Table1[[#This Row],[QTY]]","v":0},{"$f":"Table1[[#This Row],[QTY]]*Table1[[#This Row],[School & Library Price]]","v":0}]
[null,19,null,"Current Issues","At Issue","Extending the Human Lifespan","978-0-7377-6836-7","Greenhaven Publishing","Library Bound Book",1,2013,null,"Library Bound","6.000 X 9.000","Author","Tamara Thompson",null,null,null,null,null,null,"Years 15 - 17",null,"Grade 10 - 12","This title explores the social, ethical, scientific, and philosophical implications of extending the human lifespan, including discussions of whether a radical extension of the human lifespan is possible, safe, or desirable.","English",39.4,31.52,"613.2","128 pp.",{"$f":"Table1[[#This Row],['# of Books]]*Table1[[#This Row],[QTY]]","v":0},{"$f":"Table1[[#This Row],[QTY]]*Table1[[#This Row],[School & Library Price]]","v":0}]
[null,19,null,"Current Issues","At Issue","Extending the Human Lifespan","978-0-7377-6837-4","Greenhaven Publishing","Paperback Book",1,2013,null,"Paperback","6.000 X 9.000","Author","Tamara Thompson",null,null,null,null,null,null,"Years 15 - 17",null,"Grade 10 - 12","This title explores the social, ethical, scientific, and philosophical implications of extending the human lifespan, including discussions of whether a radical extension of the human lifespan is possible, safe, or desirable.","English",27.8,22.240000000000002,"613.2","124 pp.",{"$f":"Table1[[#This Row],['# of Books]]*Table1[[#This Row],[QTY]]","v":0},{"$f":"Table1[[#This Row],[QTY]]*Table1[[#This Row],[School & Library Price]]","v":0}]
[null,19,null,"Current Issues","At Issue","Extreme Sports","978-0-7377-2297-0","Greenhaven Publishing","Paperback Book",1,2008,null,"Paperback","6.000 X 9.000","Author","Janel D. Ginn",null,null,null,null,null,null,"Years 15 - 17",null,"Grade 10 - 12",null,"English",27.8,22.240000000000002,"796","95 pp.",{"$f":"Table1[[#This Row],['# of Books]]*Table1[[#This Row],[QTY]]","v":0},{"$f":"Table1[[#This Row],[QTY]]*Table1[[#This Row],[School & Library Price]]","v":0}]
[null,19,null,"Current Issues","At Issue","Fast Food","978-0-7377-7165-7","Greenhaven Publishing","Library Bound Book",1,2015,null,"Library Bound","6.000 X 9.000","Author","Tamara Thompson",null,null,null,null,null,null,"Years 15 - 17",null,"Grade 10 - 12","This volume of the AT ISSUE SERIES explores many aspects of fast food, including whether fast food is harmful, how fast food should be marketed, and whether governments should regulate the fast food industry.","English",39.4,31.52,"642","115 pp.",{"$f":"Table1[[#This Row],['# of Books]]*Table1[[#This Row],[QTY]]","v":0},{"$f":"Table1[[#This Row],[QTY]]*Table1[[#This Row],[School & Library Price]]","v":0}]
[null,19,null,"Current Issues","At Issue","Fast Food","978-0-7377-7166-4","Greenhaven Publishing","Paperback Book",1,2015,null,"Paperback","6.000 X 9.000","Author","Tamara Thompson",null,null,null,null,null,null,"Years 15 - 17",null,"Grade 10 - 12","This volume of the AT ISSUE SERIES explores many aspects of fast food, including whether fast food is harmful, how fast food should be marketed, and whether governments should regulate the fast food industry.","English",27.8,22.240000000000002,"642","115 pp.",{"$f":"Table1[[#This Row],['# of Books]]*Table1[[#This Row],[QTY]]","v":0},{"$f":"Table1[[#This Row],[QTY]]*Table1[[#This Row],[School & Library Price]]","v":0}]
[null,19,null,"Current Issues","At Issue","Fast Food","978-0-7377-7633-1","Greenhaven Publishing","eBook",1,2015,null,"eBook",null,"Author","Tamara Thompson",null,null,null,null,null,null,"Years 15 - 17",null,"Grade 10 - 12",null,"English",39.4,39.4,"642.10973","115 pp.",{"$f":"Table1[[#This Row],['# of Books]]*Table1[[#This Row],[QTY]]","v":0},{"$f":"Table1[[#This Row],[QTY]]*Table1[[#This Row],[School & Library Price]]","v":0}]
[null,19,null,"Current Issues","At Issue","Food Insecurity","978-0-7377-5570-1","Greenhaven Publishing","Library Bound Book",1,2012,null,"Library Bound","6.000 X 9.000","Author","Louise I. Gerdes",null,null,null,null,null,null,"Years 15 - 17",null,"Grade 10 - 12","This new title in the At Issue series explores issues related to concerns about food and its availability around the globe. Topics covered include food insecurity as a developmental risk for children, food insecurity as a source of conflict among nations, climate change and its impact on food security, overpopulation and its impact on the availability of food, and the role of biotechnology in addressing food security questions.","English",39.4,31.52,"641","152 pp.",{"$f":"Table1[[#This Row],['# of Books]]*Table1[[#This Row],[QTY]]","v":0},{"$f":"Table1[[#This Row],[QTY]]*Table1[[#This Row],[School & Library Price]]","v":0}]
[null,19,null,"Current Issues","At Issue","Food Insecurity","978-0-7377-5571-8","Greenhaven Publishing","Paperback Book",1,2012,null,"Paperback","6.000 X 9.000","Author","Louise I. Gerdes",null,null,null,null,null,null,"Years 15 - 17",null,"Grade 10 - 12","This new title in the At Issue series explores issues related to concerns about food and its availability around the globe. Topics covered include food insecurity as a developmental risk for children, food insecurity as a source of conflict among nations, climate change and its impact on food security, overpopulation and its impact on the availability of food, and the role of biotechnology in addressing food security questions.","English",27.8,22.240000000000002,"641","145 pp.",{"$f":"Table1[[#This Row],['# of Books]]*Table1[[#This Row],[QTY]]","v":0},{"$f":"Table1[[#This Row],[QTY]]*Table1[[#This Row],[School & Library Price]]","v":0}]
[null,19,null,"Current Issues","At Issue","Food Safety","978-0-7377-5150-5","Greenhaven Publishing","Paperback Book",1,2011,null,"Paperback","6.000 X 9.000","Author","Judeen Bartos",null,null,null,null,null,null,"Years 15 - 17",null,"Grade 10 - 12",null,"English",27.8,22.240000000000002,"363","99 pp.",{"$f":"Table1[[#This Row],['# of Books]]*Table1[[#This Row],[QTY]]","v":0},{"$f":"Table1[[#This Row],[QTY]]*Table1[[#This Row],[School & Library Price]]","v":0}]
[null,19,null,"Current Issues","At Issue","Foodborne Outbreaks","978-0-7377-7406-1","Greenhaven Publishing","Library Bound Book",1,2016,null,"Library Bound","6.000 X 9.000","Author","Amy Francis",null,null,null,null,null,null,"Years 15 - 17",null,"Grade 10 - 12","This title explores issues related to foodborne outbreaks. It covers the progress made toward reducing foodborne outbreaks. It examines funding for the Federal Food Safety Modernization Act. It examines foodborne outbreaks and the global food system, the risks of consuming imported food, and food suppliers and safety among other issues.","English",39.4,31.52,"363","97 pp.",{"$f":"Table1[[#This Row],['# of Books]]*Table1[[#This Row],[QTY]]","v":0},{"$f":"Table1[[#This Row],[QTY]]*Table1[[#This Row],[School & Library Price]]","v":0}]
[null,19,null,"Current Issues","At Issue","Foodborne Outbreaks","978-0-7377-7407-8","Greenhaven Publishing","Paperback Book",1,2016,null,"Paperback","6.000 X 9.000","Author","Amy Francis",null,null,null,null,null,null,"Years 15 - 17",null,"Grade 10 - 12","This title explores issues related to foodborne outbreaks. It covers the progress made toward reducing foodborne outbreaks. It examines funding for the Federal Food Safety Modernization Act. It examines foodborne outbreaks and the global food system, the risks of consuming imported food, and food suppliers and safety among other issues.","English",27.8,22.240000000000002,"363","97 pp.",{"$f":"Table1[[#This Row],['# of Books]]*Table1[[#This Row],[QTY]]","v":0},{"$f":"Table1[[#This Row],[QTY]]*Table1[[#This Row],[School & Library Price]]","v":0}]
[null,19,null,"Current Issues","At Issue","Foodborne Outbreaks","978-0-7377-7634-8","Greenhaven Publishing","eBook",1,2016,null,"eBook",null,"Author","Amy Francis",null,null,null,null,null,null,"Years 15 - 17",null,"Grade 10 - 12",null,"English",39.4,39.4,"615.9","97 pp.",{"$f":"Table1[[#This Row],['# of Books]]*Table1[[#This Row],[QTY]]","v":0},{"$f":"Table1[[#This Row],[QTY]]*Table1[[#This Row],[School & Library Price]]","v":0}]
[null,19,null,"Current Issues","At Issue","Foreign Oil Dependence","978-0-7377-7368-2","Greenhaven Publishing","Library Bound Book",1,2016,null,"Library Bound","6.000 X 9.000","Author","Noah Berlatsky",null,null,null,null,null,null,"Years 15 - 17",null,"Grade 10 - 12","This title in the At Issue series explores the issue of the United States' dependence on oil. Can the country attain energy dependence? Does the dependence on foreign oil weaken the economy? Is dependence on foreign oil a security threat? Where do fracking and the Keystone Pipeline fit in? At Issue: Foreign Oil Dependence gives evidence to both sides of these questions.","English",39.4,31.52,"333","88 pp.",{"$f":"Table1[[#This Row],['# of Books]]*Table1[[#This Row],[QTY]]","v":0},{"$f":"Table1[[#This Row],[QTY]]*Table1[[#This Row],[School & Library Price]]","v":0}]
[null,19,null,"Current Issues","At Issue","Foreign Oil Dependence","978-0-7377-7369-9","Greenhaven Publishing","Paperback Book",1,2016,null,"Paperback","6.000 X 9.000","Author","Noah Berlatsky",null,null,null,null,null,null,"Years 15 - 17",null,"Grade 10 - 12","This title in the At Issue series explores the issue of the United States' dependence on oil. Can the country attain energy dependence? Does the dependence on foreign oil weaken the economy? Is dependence on foreign oil a security threat? Where do fracking and the Keystone Pipeline fit in? At Issue: Foreign Oil Dependence gives evidence to both sides of these questions.","English",27.8,22.240000000000002,"333","88 pp.",{"$f":"Table1[[#This Row],['# of Books]]*Table1[[#This Row],[QTY]]","v":0},{"$f":"Table1[[#This Row],[QTY]]*Table1[[#This Row],[School & Library Price]]","v":0}]
[null,19,null,"Current Issues","At Issue","Foreign Oil Dependence","978-0-7377-7635-5","Greenhaven Publishing","eBook",1,2016,null,"eBook",null,"Author","Noah Berlatsky",null,null,null,null,null,null,"Years 15 - 17",null,"Grade 10 - 12",null,"English",39.4,39.4,"338.2","88 pp.",{"$f":"Table1[[#This Row],['# of Books]]*Table1[[#This Row],[QTY]]","v":0},{"$f":"Table1[[#This Row],[QTY]]*Table1[[#This Row],[School & Library Price]]","v":0}]
[null,19,null,"Current Issues","At Issue","Foster Care","978-0-7377-4514-6","Greenhaven Publishing","Library Bound Book",1,2010,null,"Library Bound","6.000 X 9.000","Author","Debra Bloom",null,null,null,null,null,null,"Years 15 - 17",null,"Grade 10 - 12",null,"English",39.4,31.52,"362","112 pp.",{"$f":"Table1[[#This Row],['# of Books]]*Table1[[#This Row],[QTY]]","v":0},{"$f":"Table1[[#This Row],[QTY]]*Table1[[#This Row],[School & Library Price]]","v":0}]
[null,19,null,"Current Issues","At Issue","Foster Care","978-0-7377-4515-3","Greenhaven Publishing","Paperback Book",1,2010,null,"Paperback","6.000 X 9.000","Author","Debra Bloom",null,null,null,null,null,null,"Years 15 - 17",null,"Grade 10 - 12",null,"English",27.8,22.240000000000002,"362","112 pp.",{"$f":"Table1[[#This Row],['# of Books]]*Table1[[#This Row],[QTY]]","v":0},{"$f":"Table1[[#This Row],[QTY]]*Table1[[#This Row],[School & Library Price]]","v":0}]
[null,19,null,"Current Issues","At Issue","Fracking","978-0-7377-6509-0","Greenhaven Publishing","Library Bound Book",1,2013,null,"Library Bound","6.000 X 9.000","Author","Tamara Thompson",null,null,null,null,null,null,"Years 15 - 17",null,"Grade 10 - 12","This edition in the At Issue series examines issues related to fracking. Includes primary and secondary sources from a variety of perspectives -- eyewitnesses, scientific journals, government officials and many others.","English",39.4,31.52,"363.738","112 pp.",{"$f":"Table1[[#This Row],['# of Books]]*Table1[[#This Row],[QTY]]","v":0},{"$f":"Table1[[#This Row],[QTY]]*Table1[[#This Row],[School & Library Price]]","v":0}]
[null,19,null,"Current Issues","At Issue","Fracking","978-0-7377-6510-6","Greenhaven Publishing","Paperback Book",1,2013,null,"Paperback","6.000 X 9.000","Author","Tamara Thompson",null,null,null,null,null,null,"Years 15 - 17",null,"Grade 10 - 12","This edition in the At Issue series examines issues related to fracking. Includes primary and secondary sources from a variety of perspectives -- eyewitnesses, scientific journals, government officials and many others.","English",27.8,22.240000000000002,"363.738","106 pp.",{"$f":"Table1[[#This Row],['# of Books]]*Table1[[#This Row],[QTY]]","v":0},{"$f":"Table1[[#This Row],[QTY]]*Table1[[#This Row],[School & Library Price]]","v":0}]
[null,19,null,"Current Issues","At Issue","Gay and Lesbian Families","978-0-7377-4301-2","Greenhaven Publishing","Paperback Book",1,2009,null,"Paperback","6.000 X 9.000","Author","Roman Espejo",null,null,null,null,null,null,"Years 15 - 17",null,"Grade 10 - 12",null,"English",27.8,22.240000000000002,"306","112 pp.",{"$f":"Table1[[#This Row],['# of Books]]*Table1[[#This Row],[QTY]]","v":0},{"$f":"Table1[[#This Row],[QTY]]*Table1[[#This Row],[School & Library Price]]","v":0}]
[null,19,null,"Current Issues","At Issue","Gay Marriage","978-0-7377-5894-8","Greenhaven Publishing","Library Bound Book",1,2012,null,"Library Bound","6.000 X 9.000","Author","Debra A. Miller",null,null,null,null,null,null,"Years 15 - 17",null,"Grade 10 - 12","This new title in the At Issue series explores issues related to gay marriage, including legalizing gay unions, gay marriage and moral concerns, religion’s role in gay marriage issues, the impact of the Defense of Marriage Act, and the impact of the proposed Federal Marriage Amendment.","English",39.4,31.52,"306","112 pp.",{"$f":"Table1[[#This Row],['# of Books]]*Table1[[#This Row],[QTY]]","v":0},{"$f":"Table1[[#This Row],[QTY]]*Table1[[#This Row],[School & Library Price]]","v":0}]
[null,19,null,"Current Issues","At Issue","Gay Marriage","978-0-7377-5895-5","Greenhaven Publishing","Paperback Book",1,2012,null,"Paperback","6.000 X 9.000","Author","Debra A. Miller",null,null,null,null,null,null,"Years 15 - 17",null,"Grade 10 - 12","This new title in the At Issue series explores issues related to gay marriage, including legalizing gay unions, gay marriage and moral concerns, religion’s role in gay marriage issues, the impact of the Defense of Marriage Act, and the impact of the proposed Federal Marriage Amendment.","English",27.8,22.240000000000002,"306","110 pp.",{"$f":"Table1[[#This Row],['# of Books]]*Table1[[#This Row],[QTY]]","v":0},{"$f":"Table1[[#This Row],[QTY]]*Table1[[#This Row],[School & Library Price]]","v":0}]
[null,19,null,"Current Issues","At Issue","Genetically Modified Food","978-0-7377-7169-5","Greenhaven Publishing","Library Bound Book",1,2015,null,"Library Bound","6.000 X 9.000","Author","Tamara Thompson",null,null,null,null,null,null,"Years 15 - 17",null,"Grade 10 - 12","AT ISSUE: GENETICALLY MODIFIED FOOD explores whether GM foods are safe to eat, how the environment is impacted by GM foods, and the effectiveness of government regulation around GM foods.","English",39.4,31.52,"363","144 pp.",{"$f":"Table1[[#This Row],['# of Books]]*Table1[[#This Row],[QTY]]","v":0},{"$f":"Table1[[#This Row],[QTY]]*Table1[[#This Row],[School & Library Price]]","v":0}]
[null,19,null,"Current Issues","At Issue","Genetically Modified Food","978-0-7377-7170-1","Greenhaven Publishing","Paperback Book",1,2015,null,"Paperback","6.000 X 9.000","Author","Tamara Thompson",null,null,null,null,null,null,"Years 15 - 17",null,"Grade 10 - 12","AT ISSUE: GENETICALLY MODIFIED FOOD explores whether GM foods are safe to eat, how the environment is impacted by GM foods, and the effectiveness of government regulation around GM foods.","English",27.8,22.240000000000002,"363","139 pp.",{"$f":"Table1[[#This Row],['# of Books]]*Table1[[#This Row],[QTY]]","v":0},{"$f":"Table1[[#This Row],[QTY]]*Table1[[#This Row],[School & Library Price]]","v":0}]
[null,19,null,"Current Issues","At Issue","Genetically Modified Food","978-0-7377-7636-2","Greenhaven Publishing","eBook",1,2015,null,"eBook",null,"Author","Tamara Thompson",null,null,null,null,null,null,"Years 15 - 17",null,"Grade 10 - 12",null,"English",39.4,39.4,"664","144 pp.",{"$f":"Table1[[#This Row],['# of Books]]*Table1[[#This Row],[QTY]]","v":0},{"$f":"Table1[[#This Row],[QTY]]*Table1[[#This Row],[School & Library Price]]","v":0}]
[null,19,null,"Current Issues","At Issue","Green Cities","978-0-7377-5151-2","Greenhaven Publishing","Library Bound Book",1,2011,null,"Library Bound","6.000 X 9.000","Author","Ronnie D. Lankford",null,null,null,null,null,null,"Years 15 - 17",null,"Grade 10 - 12",null,"English",39.4,31.52,"307","112 pp.",{"$f":"Table1[[#This Row],['# of Books]]*Table1[[#This Row],[QTY]]","v":0},{"$f":"Table1[[#This Row],[QTY]]*Table1[[#This Row],[School & Library Price]]","v":0}]
[null,19,null,"Current Issues","At Issue","Green Cities","978-0-7377-5152-9","Greenhaven Publishing","Paperback Book",1,2011,null,"Paperback","6.000 X 9.000","Author","Ronnie D. Lankford",null,null,null,null,null,null,"Years 15 - 17",null,"Grade 10 - 12",null,"English",27.8,22.240000000000002,"307","110 pp.",{"$f":"Table1[[#This Row],['# of Books]]*Table1[[#This Row],[QTY]]","v":0},{"$f":"Table1[[#This Row],[QTY]]*Table1[[#This Row],[School & Library Price]]","v":0}]
[null,19,null,"Current Issues","At Issue","Greenhouse Gases","978-0-7377-4100-1","Greenhaven Publishing","Library Bound Book",1,2009,null,"Library Bound","6.000 X 9.000","Author","Ronnie D. Lankford",null,null,null,null,null,null,"Years 15 - 17",null,"Grade 10 - 12",null,"English",39.4,31.52,"363","120 pp.",{"$f":"Table1[[#This Row],['# of Books]]*Table1[[#This Row],[QTY]]","v":0},{"$f":"Table1[[#This Row],[QTY]]*Table1[[#This Row],[School & Library Price]]","v":0}]
[null,19,null,"Current Issues","At Issue","Greenhouse Gases","978-0-7377-4101-8","Greenhaven Publishing","Paperback Book",1,2009,null,"Paperback","6.000 X 9.000","Author","Ronnie D. Lankford",null,null,null,null,null,null,"Years 15 - 17",null,"Grade 10 - 12",null,"English",27.8,22.240000000000002,"363","119 pp.",{"$f":"Table1[[#This Row],['# of Books]]*Table1[[#This Row],[QTY]]","v":0},{"$f":"Table1[[#This Row],[QTY]]*Table1[[#This Row],[School & Library Price]]","v":0}]
[null,19,null,"Current Issues","At Issue","Guns and Crime","978-0-7377-7171-8","Greenhaven Publishing","Library Bound Book",1,2015,null,"Library Bound","6.000 X 9.000","Author","Noël Merino",null,null,null,null,null,null,"Years 15 - 17",null,"Grade 10 - 12","AT ISSUE: GUNS AND CRIME examines the correlation between guns and violence across multiple viewpoints and topics. Topics covered in this volume include gun control, gun ownership, weapon bans, and ways to prevent gun violence. ","English",39.4,31.52,"364","112 pp.",{"$f":"Table1[[#This Row],['# of Books]]*Table1[[#This Row],[QTY]]","v":0},{"$f":"Table1[[#This Row],[QTY]]*Table1[[#This Row],[School & Library Price]]","v":0}]
[null,19,null,"Current Issues","At Issue","Guns and Crime","978-0-7377-7172-5","Greenhaven Publishing","Paperback Book",1,2015,null,"Paperback","6.000 X 9.000","Author","Noël Merino",null,null,null,null,null,null,"Years 15 - 17",null,"Grade 10 - 12","AT ISSUE: GUNS AND CRIME examines the correlation between guns and violence across multiple viewpoints and topics. Topics covered in this volume include gun control, gun ownership, weapon bans, and ways to prevent gun violence. ","English",27.8,22.240000000000002,"364","112 pp.",{"$f":"Table1[[#This Row],['# of Books]]*Table1[[#This Row],[QTY]]","v":0},{"$f":"Table1[[#This Row],[QTY]]*Table1[[#This Row],[School & Library Price]]","v":0}]
[null,19,null,"Current Issues","At Issue","Guns and Crime","978-0-7377-7637-9","Greenhaven Publishing","eBook",1,2015,null,"eBook",null,"Author","Noel Merino",null,null,null,null,null,null,"Years 15 - 17",null,"Grade 10 - 12",null,"English",39.4,39.4,"364.2","112 pp.",{"$f":"Table1[[#This Row],['# of Books]]*Table1[[#This Row],[QTY]]","v":0},{"$f":"Table1[[#This Row],[QTY]]*Table1[[#This Row],[School & Library Price]]","v":0}]
[null,19,null,"Current Issues","At Issue","Has Child Behavior Worsened?","978-0-7377-6834-3","Greenhaven Publishing","Library Bound Book",1,2014,null,"Library Bound","6.000 X 9.000","Author","Amy Francis",null,null,null,null,null,null,"Years 15 - 17",null,"Grade 10 - 12","This title explores whether childhood has worsened over time. The title delves into behavior in school, bullying, and feelings of entitlement, among other aspects. Includes primary and secondary sources from a variety of perspectives -- eyewitnesses, scientific journals, government officials and many others.","English",39.4,31.52,"302.5083","96 pp.",{"$f":"Table1[[#This Row],['# of Books]]*Table1[[#This Row],[QTY]]","v":0},{"$f":"Table1[[#This Row],[QTY]]*Table1[[#This Row],[School & Library Price]]","v":0}]
[null,19,null,"Current Issues","At Issue","Has Child Behavior Worsened?","978-0-7377-6835-0","Greenhaven Publishing","Paperback Book",1,2014,null,"Paperback","6.000 X 9.000","Author","Amy Francis",null,null,null,null,null,null,"Years 15 - 17",null,"Grade 10 - 12","This title explores whether childhood has worsened over time. The title delves into behavior in school, bullying, and feelings of entitlement, among other aspects. Includes primary and secondary sources from a variety of perspectives -- eyewitnesses, scientific journals, government officials and many others.","English",27.8,22.240000000000002,"302.5083","95 pp.",{"$f":"Table1[[#This Row],['# of Books]]*Table1[[#This Row],[QTY]]","v":0},{"$f":"Table1[[#This Row],[QTY]]*Table1[[#This Row],[School & Library Price]]","v":0}]
[null,19,null,"Current Issues","At Issue","Has No Child Left Behind Been Good for Education?","978-0-7377-3920-6","Greenhaven Publishing","Library Bound Book",1,2008,null,"Library Bound","6.000 X 9.000","Author","Christina Fisanick",null,null,null,null,null,null,"Years 15 - 17",null,"Grade 10 - 12",null,"English",39.4,31.52,"379","112 pp.",{"$f":"Table1[[#This Row],['# of Books]]*Table1[[#This Row],[QTY]]","v":0},{"$f":"Table1[[#This Row],[QTY]]*Table1[[#This Row],[School & Library Price]]","v":0}]
[null,19,null,"Current Issues","At Issue","Has No Child Left Behind Been Good for Education?","978-0-7377-3921-3","Greenhaven Publishing","Paperback Book",1,2008,null,"Paperback","6.000 X 9.000","Author","Christina Fisanick",null,null,null,null,null,null,"Years 15 - 17",null,"Grade 10 - 12",null,"English",27.8,22.240000000000002,"379","111 pp.",{"$f":"Table1[[#This Row],['# of Books]]*Table1[[#This Row],[QTY]]","v":0},{"$f":"Table1[[#This Row],[QTY]]*Table1[[#This Row],[School & Library Price]]","v":0}]
[null,19,null,"Current Issues","At Issue","Has Technology Increased Learning?","978-0-7377-4103-2","Greenhaven Publishing","Paperback Book",1,2009,null,"Paperback","6.000 X 9.000","Author","Roman Espejo",null,null,null,null,null,null,"Years 15 - 17",null,"Grade 10 - 12",null,"English",27.8,22.240000000000002,"371","131 pp.",{"$f":"Table1[[#This Row],['# of Books]]*Table1[[#This Row],[QTY]]","v":0},{"$f":"Table1[[#This Row],[QTY]]*Table1[[#This Row],[School & Library Price]]","v":0}]
[null,19,null,"Current Issues","At Issue","Health Care Legislation","978-0-7377-5576-3","Greenhaven Publishing","Library Bound Book",1,2012,null,"Library Bound","6.000 X 9.000","Author","David Haugen",null,null,null,null,null,null,"Years 15 - 17",null,"Grade 10 - 12","This edition in the At Issue series offers readers a variety of articles that address the controversies surrounding American health care legislation. The title explores the impact of the 2010 health care reform law and the Individual Mandate Clause, the role of the states in determining health care reform, the usefulness of an Independent Payment Advisory Board, and how health care legislation relates to job creation.","English",39.4,31.52,"344","120 pp.",{"$f":"Table1[[#This Row],['# of Books]]*Table1[[#This Row],[QTY]]","v":0},{"$f":"Table1[[#This Row],[QTY]]*Table1[[#This Row],[School & Library Price]]","v":0}]
[null,19,null,"Current Issues","At Issue","Health Care Legislation","978-0-7377-5577-0","Greenhaven Publishing","Paperback Book",1,2012,null,"Paperback","6.000 X 9.000","Author","David Haugen",null,null,null,null,null,null,"Years 15 - 17",null,"Grade 10 - 12","This edition in the At Issue series offers readers a variety of articles that address the controversies surrounding American health care legislation. The title explores the impact of the 2010 health care reform law and the Individual Mandate Clause, the role of the states in determining health care reform, the usefulness of an Independent Payment Advisory Board, and how health care legislation relates to job creation.","English",27.8,22.240000000000002,"344","119 pp.",{"$f":"Table1[[#This Row],['# of Books]]*Table1[[#This Row],[QTY]]","v":0},{"$f":"Table1[[#This Row],[QTY]]*Table1[[#This Row],[School & Library Price]]","v":0}]
[null,19,null,"Current Issues","At Issue","Heroin","978-0-7377-2716-6","Greenhaven Publishing","Paperback Book",1,2007,null,"Paperback","6.000 X 9.000","Author","Stuart A. Kallen",null,null,null,null,null,null,"Years 15 - 17",null,"Grade 10 - 12",null,"English",27.8,22.240000000000002,"362.29","108 pp.",{"$f":"Table1[[#This Row],['# of Books]]*Table1[[#This Row],[QTY]]","v":0},{"$f":"Table1[[#This Row],[QTY]]*Table1[[#This Row],[School & Library Price]]","v":0}]
[null,19,null,"Current Issues","At Issue","High School Dropouts","978-0-7377-6181-8","Greenhaven Publishing","Library Bound Book",1,2013,null,"Library Bound","6.000 X 9.000","Author","Judeen Bartos",null,null,null,null,null,null,"Years 15 - 17",null,"Grade 10 - 12","This edition in the At Issue series examines issues related to high school dropouts. Includes primary and secondary sources from a variety of perspectives -- eyewitnesses, scientific journals, government officials and many others.","English",39.4,31.52,"373","104 pp.",{"$f":"Table1[[#This Row],['# of Books]]*Table1[[#This Row],[QTY]]","v":0},{"$f":"Table1[[#This Row],[QTY]]*Table1[[#This Row],[School & Library Price]]","v":0}]
[null,19,null,"Current Issues","At Issue","High School Dropouts","978-0-7377-6182-5","Greenhaven Publishing","Paperback Book",1,2013,null,"Paperback","6.000 X 9.000","Author","Judeen Bartos",null,null,null,null,null,null,"Years 15 - 17",null,"Grade 10 - 12","This edition in the At Issue series examines issues related to high school dropouts. Includes primary and secondary sources from a variety of perspectives -- eyewitnesses, scientific journals, government officials and many others.","English",27.8,22.240000000000002,"373","104 pp.",{"$f":"Table1[[#This Row],['# of Books]]*Table1[[#This Row],[QTY]]","v":0},{"$f":"Table1[[#This Row],[QTY]]*Table1[[#This Row],[School & Library Price]]","v":0}]
[null,19,null,"Current Issues","At Issue","Home Schooling","978-0-7377-3686-1","Greenhaven Publishing","Paperback Book",1,2008,null,"Paperback","6.000 X 9.000","Author","Heidi Williams",null,null,null,null,null,null,"Years 15 - 17",null,"Grade 10 - 12",null,"English",27.8,22.240000000000002,"362.292","119 pp.",{"$f":"Table1[[#This Row],['# of Books]]*Table1[[#This Row],[QTY]]","v":0},{"$f":"Table1[[#This Row],[QTY]]*Table1[[#This Row],[School & Library Price]]","v":0}]
[null,19,null,"Current Issues","At Issue","Homeland Security","978-0-7377-4420-0","Greenhaven Publishing","Library Bound Book",1,2010,null,"Library Bound","6.000 X 9.000","Author","Myra Immell",null,null,null,null,null,null,"Years 15 - 17",null,"Grade 10 - 12",null,"English",39.4,31.52,"363","136 pp.",{"$f":"Table1[[#This Row],['# of Books]]*Table1[[#This Row],[QTY]]","v":0},{"$f":"Table1[[#This Row],[QTY]]*Table1[[#This Row],[School & Library Price]]","v":0}]
[null,19,null,"Current Issues","At Issue","Homeland Security","978-0-7377-4421-7","Greenhaven Publishing","Paperback Book",1,2010,null,"Paperback","6.000 X 9.000","Author","Myra Immell",null,null,null,null,null,null,"Years 15 - 17",null,"Grade 10 - 12",null,"English",27.8,22.240000000000002,"363","136 pp.",{"$f":"Table1[[#This Row],['# of Books]]*Table1[[#This Row],[QTY]]","v":0},{"$f":"Table1[[#This Row],[QTY]]*Table1[[#This Row],[School & Library Price]]","v":0}]
[null,20,null,"Current Issues","At Issue","How Can Gang Violence Be Prevented?","978-0-7377-2381-6","Greenhaven Publishing","Paperback Book",1,2007,null,"Paperback","6.000 X 9.000","Author","Christi Watkins",null,null,null,null,null,null,"Years 15 - 17",null,"Grade 10 - 12",null,"English",27.8,22.240000000000002,"364.4","97 pp.",{"$f":"Table1[[#This Row],['# of Books]]*Table1[[#This Row],[QTY]]","v":0},{"$f":"Table1[[#This Row],[QTY]]*Table1[[#This Row],[School & Library Price]]","v":0}]
[null,20,null,"Current Issues","At Issue","How Can the Poor Be Helped?","978-0-7377-5156-7","Greenhaven Publishing","Paperback Book",1,2011,null,"Paperback","6.000 X 9.000","Author","Jennifer Dorman",null,null,null,null,null,null,"Years 15 - 17",null,"Grade 10 - 12",null,"English",27.8,22.240000000000002,"362","107 pp.",{"$f":"Table1[[#This Row],['# of Books]]*Table1[[#This Row],[QTY]]","v":0},{"$f":"Table1[[#This Row],[QTY]]*Table1[[#This Row],[School & Library Price]]","v":0}]
[null,20,null,"Current Issues","At Issue","How Does Advertising Impact Teen Behavior?","978-0-7377-5578-7","Greenhaven Publishing","Library Bound Book",1,2012,null,"Library Bound","6.000 X 9.000","Author","Roman Espejo",null,null,null,null,null,null,"Years 15 - 17",null,"Grade 10 - 12",null,"English",39.4,31.52,"659","104 pp.",{"$f":"Table1[[#This Row],['# of Books]]*Table1[[#This Row],[QTY]]","v":0},{"$f":"Table1[[#This Row],[QTY]]*Table1[[#This Row],[School & Library Price]]","v":0}]
[null,20,null,"Current Issues","At Issue","How Does Advertising Impact Teen Behavior?","978-0-7377-5579-4","Greenhaven Publishing","Paperback Book",1,2012,null,"Paperback","6.000 X 9.000","Author","Roman Espejo",null,null,null,null,null,null,"Years 15 - 17",null,"Grade 10 - 12",null,"English",27.8,22.240000000000002,"659","102 pp.",{"$f":"Table1[[#This Row],['# of Books]]*Table1[[#This Row],[QTY]]","v":0},{"$f":"Table1[[#This Row],[QTY]]*Table1[[#This Row],[School & Library Price]]","v":0}]
[null,20,null,"Current Issues","At Issue","How Does Religion Influence Politics?","978-0-7377-4675-4","Greenhaven Publishing","Library Bound Book",1,2010,null,"Library Bound","6.000 X 9.000","Author","Stefan Kiesbye",null,null,null,null,null,null,"Years 15 - 17",null,"Grade 10 - 12",null,"English",39.4,31.52,"322","120 pp.",{"$f":"Table1[[#This Row],['# of Books]]*Table1[[#This Row],[QTY]]","v":0},{"$f":"Table1[[#This Row],[QTY]]*Table1[[#This Row],[School & Library Price]]","v":0}]
[null,20,null,"Current Issues","At Issue","How Does Religion Influence Politics?","978-0-7377-4676-1","Greenhaven Publishing","Paperback Book",1,2010,null,"Paperback","6.000 X 9.000","Author","Stefan Kiesbye",null,null,null,null,null,null,"Years 15 - 17",null,"Grade 10 - 12",null,"English",27.8,22.240000000000002,"322","120 pp.",{"$f":"Table1[[#This Row],['# of Books]]*Table1[[#This Row],[QTY]]","v":0},{"$f":"Table1[[#This Row],[QTY]]*Table1[[#This Row],[School & Library Price]]","v":0}]
[null,20,null,"Current Issues","At Issue","How Safe is America's Infrastructure?","978-0-7377-4104-9","Greenhaven Publishing","Library Bound Book",1,2009,null,"Library Bound","6.000 X 9.000","Author","Louise I. Gerdes",null,null,null,null,null,null,"Years 15 - 17",null,"Grade 10 - 12",null,"English",39.4,31.52,"363","120 pp.",{"$f":"Table1[[#This Row],['# of Books]]*Table1[[#This Row],[QTY]]","v":0},{"$f":"Table1[[#This Row],[QTY]]*Table1[[#This Row],[School & Library Price]]","v":0}]
[null,20,null,"Current Issues","At Issue","How Safe is America's Infrastructure?","978-0-7377-4105-6","Greenhaven Publishing","Paperback Book",1,2009,null,"Paperback","6.000 X 9.000","Author","Louise I. Gerdes",null,null,null,null,null,null,"Years 15 - 17",null,"Grade 10 - 12",null,"English",27.8,22.240000000000002,"363","120 pp.",{"$f":"Table1[[#This Row],['# of Books]]*Table1[[#This Row],[QTY]]","v":0},{"$f":"Table1[[#This Row],[QTY]]*Table1[[#This Row],[School & Library Price]]","v":0}]
[null,20,null,"Current Issues","At Issue","How Should Obesity Be Treated?","978-0-7377-4422-4","Greenhaven Publishing","Library Bound Book",1,2009,null,"Library Bound","6.000 X 9.000","Author","Stefan Kiesbye",null,null,null,null,null,null,"Years 15 - 17",null,"Grade 10 - 12",null,"English",39.4,31.52,"616","112 pp.",{"$f":"Table1[[#This Row],['# of Books]]*Table1[[#This Row],[QTY]]","v":0},{"$f":"Table1[[#This Row],[QTY]]*Table1[[#This Row],[School & Library Price]]","v":0}]
[null,20,null,"Current Issues","At Issue","How Should Obesity Be Treated?","978-0-7377-4423-1","Greenhaven Publishing","Paperback Book",1,2009,null,"Paperback","6.000 X 9.000","Author","Stefan Kiesbye",null,null,null,null,null,null,"Years 15 - 17",null,"Grade 10 - 12",null,"English",27.8,22.240000000000002,"616","112 pp.",{"$f":"Table1[[#This Row],['# of Books]]*Table1[[#This Row],[QTY]]","v":0},{"$f":"Table1[[#This Row],[QTY]]*Table1[[#This Row],[School & Library Price]]","v":0}]
[null,20,null,"Current Issues","At Issue","How Should One Cope with Death?","978-0-7377-2386-1","Greenhaven Publishing","Library Bound Book",1,2006,null,"Library Bound","6.000 X 9.000","Author","Elaine Minamide",null,null,null,null,null,null,"Years 15 - 17",null,"Grade 10 - 12","Though the mortality rate among human beings remains steady at 100%, death is still something that takes most people by surprise. Exploring the various issues related to death, dying, and bereavement is the focus of this collection of essays.","English",39.4,31.52,"155.9","112 pp.",{"$f":"Table1[[#This Row],['# of Books]]*Table1[[#This Row],[QTY]]","v":0},{"$f":"Table1[[#This Row],[QTY]]*Table1[[#This Row],[School & Library Price]]","v":0}]
[null,20,null,"Current Issues","At Issue","How Should One Cope with Death?","978-0-7377-2387-8","Greenhaven Publishing","Paperback Book",1,2006,null,"Paperback","6.000 X 9.000","Author","Elaine Minamide",null,null,null,null,null,null,"Years 15 - 17",null,"Grade 10 - 12","Though the mortality rate among human beings remains steady at 100%, death is still something that takes most people by surprise. Exploring the various issues related to death, dying, and bereavement is the focus of this collection of essays.","English",27.8,22.240000000000002,"155.9","112 pp.",{"$f":"Table1[[#This Row],['# of Books]]*Table1[[#This Row],[QTY]]","v":0},{"$f":"Table1[[#This Row],[QTY]]*Table1[[#This Row],[School & Library Price]]","v":0}]
[null,20,null,"Current Issues","At Issue","How Should the U.S. Proceed in Afghanistan?","978-0-7377-4424-8","Greenhaven Publishing","Library Bound Book",1,2009,null,"Library Bound","6.000 X 9.000","Author","Stefan Kiesbye",null,null,null,null,null,null,"Years 15 - 17",null,"Grade 10 - 12",null,"English",39.4,31.52,"958","96 pp.",{"$f":"Table1[[#This Row],['# of Books]]*Table1[[#This Row],[QTY]]","v":0},{"$f":"Table1[[#This Row],[QTY]]*Table1[[#This Row],[School & Library Price]]","v":0}]
[null,20,null,"Current Issues","At Issue","How Should the U.S. Proceed in Afghanistan?","978-0-7377-4425-5","Greenhaven Publishing","Paperback Book",1,2009,null,"Paperback","6.000 X 9.000","Author","Stefan Kiesbye",null,null,null,null,null,null,"Years 15 - 17",null,"Grade 10 - 12",null,"English",27.8,22.240000000000002,"958","96 pp.",{"$f":"Table1[[#This Row],['# of Books]]*Table1[[#This Row],[QTY]]","v":0},{"$f":"Table1[[#This Row],[QTY]]*Table1[[#This Row],[School & Library Price]]","v":0}]
[null,20,null,"Current Issues","At Issue","How Should the U.S. Proceed in Iraq?","978-0-7377-4056-1","Greenhaven Publishing","Library Bound Book",1,2008,null,"Library Bound","6.000 X 9.000","Author","William Dudley",null,null,null,null,null,null,"Years 15 - 17",null,"Grade 10 - 12",null,"English",39.4,31.52,"956","120 pp.",{"$f":"Table1[[#This Row],['# of Books]]*Table1[[#This Row],[QTY]]","v":0},{"$f":"Table1[[#This Row],[QTY]]*Table1[[#This Row],[School & Library Price]]","v":0}]
[null,20,null,"Current Issues","At Issue","How Should the U.S. Proceed in Iraq?","978-0-7377-4057-8","Greenhaven Publishing","Paperback Book",1,2008,null,"Paperback","6.000 X 9.000","Author","William Dudley",null,null,null,null,null,null,"Years 15 - 17",null,"Grade 10 - 12",null,"English",27.8,22.240000000000002,"956","113 pp.",{"$f":"Table1[[#This Row],['# of Books]]*Table1[[#This Row],[QTY]]","v":0},{"$f":"Table1[[#This Row],[QTY]]*Table1[[#This Row],[School & Library Price]]","v":0}]
[null,20,null,"Current Issues","At Issue","How Valuable is a College Degree?","978-0-7377-7384-2","Greenhaven Publishing","Library Bound Book",1,2016,null,"Library Bound","6.000 X 9.000","Author","Noël Merino",null,null,null,null,null,null,"Years 15 - 17",null,"Grade 10 - 12","This title explores issues related to the value of a college degree.  It covers topics such as a college degree as an investment. It examines college degrees and if having one prepares people for today's jobs. It looks at college degrees and the US economy, college education as a right, and alternatives to a college degree.","English",39.4,31.52,"378","103 pp.",{"$f":"Table1[[#This Row],['# of Books]]*Table1[[#This Row],[QTY]]","v":0},{"$f":"Table1[[#This Row],[QTY]]*Table1[[#This Row],[School & Library Price]]","v":0}]
[null,20,null,"Current Issues","At Issue","How Valuable is a College Degree?","978-0-7377-7385-9","Greenhaven Publishing","Paperback Book",1,2016,null,"Paperback","6.000 X 9.000","Author","Noël Merino",null,null,null,null,null,null,"Years 15 - 17",null,"Grade 10 - 12","This title explores issues related to the value of a college degree.  It covers topics such as a college degree as an investment. It examines college degrees and if having one prepares people for today's jobs. It looks at college degrees and the US economy, college education as a right, and alternatives to a college degree.","English",27.8,22.240000000000002,"378","103 pp.",{"$f":"Table1[[#This Row],['# of Books]]*Table1[[#This Row],[QTY]]","v":0},{"$f":"Table1[[#This Row],[QTY]]*Table1[[#This Row],[School & Library Price]]","v":0}]
[null,20,null,"Current Issues","At Issue","How Valuable is a College Degree?","978-0-7377-7638-6","Greenhaven Publishing","eBook",1,2016,null,"eBook",null,"Author","Noel Merino",null,null,null,null,null,null,"Years 15 - 17",null,"Grade 10 - 12",null,"English",39.4,39.4,"331.11","103 pp.",{"$f":"Table1[[#This Row],['# of Books]]*Table1[[#This Row],[QTY]]","v":0},{"$f":"Table1[[#This Row],[QTY]]*Table1[[#This Row],[School & Library Price]]","v":0}]
[null,20,null,"Current Issues","At Issue","Human Embryo Experimentation","978-0-7377-5580-0","Greenhaven Publishing","Library Bound Book",1,2011,null,"Library Bound","6.000 X 9.000","Author","Christine Watkins",null,null,null,null,null,null,"Years 15 - 17",null,"Grade 10 - 12","This edition in the AT ISSUE series examines issues related to human embryo experimentation. Includes primary and secondary sources from a variety of perspectives -- eyewitnesses, scientific journals, government officials and many others.","English",39.4,31.52,"174","120 pp.",{"$f":"Table1[[#This Row],['# of Books]]*Table1[[#This Row],[QTY]]","v":0},{"$f":"Table1[[#This Row],[QTY]]*Table1[[#This Row],[School & Library Price]]","v":0}]
[null,20,null,"Current Issues","At Issue","Human Embryo Experimentation","978-0-7377-5581-7","Greenhaven Publishing","Paperback Book",1,2011,null,"Paperback","6.000 X 9.000","Author","Christine Watkins",null,null,null,null,null,null,"Years 15 - 17",null,"Grade 10 - 12","This edition in the AT ISSUE series examines issues related to human embryo experimentation. Includes primary and secondary sources from a variety of perspectives -- eyewitnesses, scientific journals, government officials and many others.","English",27.8,22.240000000000002,"174","115 pp.",{"$f":"Table1[[#This Row],['# of Books]]*Table1[[#This Row],[QTY]]","v":0},{"$f":"Table1[[#This Row],[QTY]]*Table1[[#This Row],[School & Library Price]]","v":0}]
[null,20,null,"Current Issues","At Issue","Human Waste","978-0-7377-5896-2","Greenhaven Publishing","Library Bound Book",1,2012,null,"Library Bound","6.000 X 9.000","Author","Ronald D. Lankford",null,null,null,null,null,null,"Years 15 - 17",null,"Grade 10 - 12","This edition in the AT ISSUE series examines issues related to human waste. Includes primary and secondary sources from a variety of perspectives -- eyewitnesses, scientific journals, government officials and many others.","English",39.4,31.52,"363","96 pp.",{"$f":"Table1[[#This Row],['# of Books]]*Table1[[#This Row],[QTY]]","v":0},{"$f":"Table1[[#This Row],[QTY]]*Table1[[#This Row],[School & Library Price]]","v":0}]
[null,20,null,"Current Issues","At Issue","Human Waste","978-0-7377-5897-9","Greenhaven Publishing","Paperback Book",1,2012,null,"Paperback","6.000 X 9.000","Author","Ronald D. Lankford",null,null,null,null,null,null,"Years 15 - 17",null,"Grade 10 - 12","This edition in the AT ISSUE series examines issues related to human waste. Includes primary and secondary sources from a variety of perspectives -- eyewitnesses, scientific journals, government officials and many others.","English",27.8,22.240000000000002,"363","96 pp.",{"$f":"Table1[[#This Row],['# of Books]]*Table1[[#This Row],[QTY]]","v":0},{"$f":"Table1[[#This Row],[QTY]]*Table1[[#This Row],[School & Library Price]]","v":0}]
[null,20,null,"Current Issues","At Issue","Hurricane Katrina","978-0-7377-4882-6","Greenhaven Publishing","Library Bound Book",1,2010,null,"Library Bound","6.000 X 9.000","Author","Diane Andrews Henningfeld",null,null,null,null,null,null,"Years 15 - 17",null,"Grade 10 - 12",null,"English",39.4,31.52,"363","152 pp.",{"$f":"Table1[[#This Row],['# of Books]]*Table1[[#This Row],[QTY]]","v":0},{"$f":"Table1[[#This Row],[QTY]]*Table1[[#This Row],[School & Library Price]]","v":0}]
[null,20,null,"Current Issues","At Issue","Hurricane Katrina","978-0-7377-4883-3","Greenhaven Publishing","Paperback Book",1,2010,null,"Paperback","6.000 X 9.000","Author","Diane Andrews Henningfeld",null,null,null,null,null,null,"Years 15 - 17",null,"Grade 10 - 12",null,"English",27.8,22.240000000000002,"363","152 pp.",{"$f":"Table1[[#This Row],['# of Books]]*Table1[[#This Row],[QTY]]","v":0},{"$f":"Table1[[#This Row],[QTY]]*Table1[[#This Row],[School & Library Price]]","v":0}]
[null,20,null,"Current Issues","At Issue","Hybrid and Electric Cars","978-0-7377-6838-1","Greenhaven Publishing","Library Bound Book",1,2014,null,"Library Bound","6.000 X 9.000","Author","Louise I. Gerdes",null,null,null,null,null,null,"Years 15 - 17",null,"Grade 10 - 12","This title explores the impact of Hybrid and Electric Cars on the environment and society. Includes primary and secondary sources from a variety of perspectives -- eyewitnesses, scientific journals, government officials and many others.","English",39.4,31.52,"629","104 pp.",{"$f":"Table1[[#This Row],['# of Books]]*Table1[[#This Row],[QTY]]","v":0},{"$f":"Table1[[#This Row],[QTY]]*Table1[[#This Row],[School & Library Price]]","v":0}]
[null,20,null,"Current Issues","At Issue","Hybrid and Electric Cars","978-0-7377-6839-8","Greenhaven Publishing","Paperback Book",1,2014,null,"Paperback","6.000 X 9.000","Author","Louise I. Gerdes",null,null,null,null,null,null,"Years 15 - 17",null,"Grade 10 - 12","This title explores the impact of Hybrid and Electric Cars on the environment and society. Includes primary and secondary sources from a variety of perspectives -- eyewitnesses, scientific journals, government officials and many others.","English",27.8,22.240000000000002,"629","104 pp.",{"$f":"Table1[[#This Row],['# of Books]]*Table1[[#This Row],[QTY]]","v":0},{"$f":"Table1[[#This Row],[QTY]]*Table1[[#This Row],[School & Library Price]]","v":0}]
[null,20,null,"Current Issues","At Issue","Hybrid and Electric Cars","978-0-7377-7639-3","Greenhaven Publishing","eBook",1,2014,null,"eBook",null,"Author","Louise I. Gerdes",null,null,null,null,null,null,"Years 15 - 17",null,"Grade 10 - 12",null,"English",39.4,39.4,"629.22","104 pp.",{"$f":"Table1[[#This Row],['# of Books]]*Table1[[#This Row],[QTY]]","v":0},{"$f":"Table1[[#This Row],[QTY]]*Table1[[#This Row],[School & Library Price]]","v":0}]
[null,20,null,"Current Issues","At Issue","Identity Theft","978-0-7377-5582-4","Greenhaven Publishing","Library Bound Book",1,2012,null,"Library Bound","6.000 X 9.000","Author","Stefan Kiesbye",null,null,null,null,null,null,"Years 15 - 17",null,"Grade 10 - 12","This edition in the AT ISSUE series examines issues related to identity theft. Includes primary and secondary sources from a variety of perspectives -- eyewitnesses, scientific journals, government officials and many others.","English",39.4,31.52,"364","112 pp.",{"$f":"Table1[[#This Row],['# of Books]]*Table1[[#This Row],[QTY]]","v":0},{"$f":"Table1[[#This Row],[QTY]]*Table1[[#This Row],[School & Library Price]]","v":0}]
[null,20,null,"Current Issues","At Issue","Identity Theft","978-0-7377-5583-1","Greenhaven Publishing","Paperback Book",1,2012,null,"Paperback","6.000 X 9.000","Author","Stefan Kiesbye",null,null,null,null,null,null,"Years 15 - 17",null,"Grade 10 - 12","This edition in the AT ISSUE series examines issues related to identity theft. Includes primary and secondary sources from a variety of perspectives -- eyewitnesses, scientific journals, government officials and many others.","English",27.8,22.240000000000002,"364","110 pp.",{"$f":"Table1[[#This Row],['# of Books]]*Table1[[#This Row],[QTY]]","v":0},{"$f":"Table1[[#This Row],[QTY]]*Table1[[#This Row],[School & Library Price]]","v":0}]
[null,20,null,"Current Issues","At Issue","Immigration Reform","978-0-7377-7402-3","Greenhaven Publishing","Library Bound Book",1,2016,null,"Library Bound","6.000 X 9.000","Author","Noël Merino",null,null,null,null,null,null,"Years 15 - 17",null,"Grade 10 - 12","Despite the United States' history as a melting pot, debate has increased of late regarding people crossing the borders illegally into the country. At Issue: Immigration Reform explores all sides of this issue, including whether or not amnesty and a path to citizenship are viable aspects of immigration reform, and who should decide these issues.","English",39.4,31.52,"325","114 pp.",{"$f":"Table1[[#This Row],['# of Books]]*Table1[[#This Row],[QTY]]","v":0},{"$f":"Table1[[#This Row],[QTY]]*Table1[[#This Row],[School & Library Price]]","v":0}]
[null,20,null,"Current Issues","At Issue","Immigration Reform","978-0-7377-7403-0","Greenhaven Publishing","Paperback Book",1,2016,null,"Paperback","6.000 X 9.000","Author","Noël Merino",null,null,null,null,null,null,"Years 15 - 17",null,"Grade 10 - 12","Despite the United States' history as a melting pot, debate has increased of late regarding people crossing the borders illegally into the country. At Issue: Immigration Reform explores all sides of this issue, including whether or not amnesty and a path to citizenship are viable aspects of immigration reform, and who should decide these issues.","English",27.8,22.240000000000002,"325","114 pp.",{"$f":"Table1[[#This Row],['# of Books]]*Table1[[#This Row],[QTY]]","v":0},{"$f":"Table1[[#This Row],[QTY]]*Table1[[#This Row],[School & Library Price]]","v":0}]
[null,20,null,"Current Issues","At Issue","Immigration Reform","978-0-7377-7640-9","Greenhaven Publishing","eBook",1,2016,null,"eBook",null,"Author","Noel Merino",null,null,null,null,null,null,"Years 15 - 17",null,"Grade 10 - 12",null,"English",39.4,39.4,"325.73","114 pp.",{"$f":"Table1[[#This Row],['# of Books]]*Table1[[#This Row],[QTY]]","v":0},{"$f":"Table1[[#This Row],[QTY]]*Table1[[#This Row],[School & Library Price]]","v":0}]
[null,20,null,"Current Issues","At Issue","Intelligent Design Versus Evolution","978-0-7377-3680-9","Greenhaven Publishing","Paperback Book",1,2008,null,"Paperback","6.000 X 9.000","Author","Louise I. Gerdes",null,null,null,null,null,null,"Years 15 - 17",null,"Grade 10 - 12",null,"English",27.8,22.240000000000002,"362.292","126 pp.",{"$f":"Table1[[#This Row],['# of Books]]*Table1[[#This Row],[QTY]]","v":0},{"$f":"Table1[[#This Row],[QTY]]*Table1[[#This Row],[School & Library Price]]","v":0}]
[null,20,null,"Current Issues","At Issue","Interracial Relationships","978-0-7377-2390-8","Greenhaven Publishing","Library Bound Book",1,2007,null,"Library Bound","6.000 X 9.000","Author","David M. Haugen",null,null,null,null,null,null,"Years 15 - 17",null,"Grade 10 - 12",null,"English",39.4,31.52,"306.84","98 pp.",{"$f":"Table1[[#This Row],['# of Books]]*Table1[[#This Row],[QTY]]","v":0},{"$f":"Table1[[#This Row],[QTY]]*Table1[[#This Row],[School & Library Price]]","v":0}]
[null,20,null,"Current Issues","At Issue","Interracial Relationships","978-0-7377-2391-5","Greenhaven Publishing","Paperback Book",1,2007,null,"Paperback","6.000 X 9.000","Author","David M. Haugen",null,null,null,null,null,null,"Years 15 - 17",null,"Grade 10 - 12",null,"English",27.8,22.240000000000002,"306.84","98 pp.",{"$f":"Table1[[#This Row],['# of Books]]*Table1[[#This Row],[QTY]]","v":0},{"$f":"Table1[[#This Row],[QTY]]*Table1[[#This Row],[School & Library Price]]","v":0}]
[null,20,null,"Current Issues","At Issue","Invasive Species","978-0-7377-7386-6","Greenhaven Publishing","Library Bound Book",1,2016,null,"Library Bound","6.000 X 9.000","Author","Noah Berlatsky",null,null,null,null,null,null,"Years 15 - 17",null,"Grade 10 - 12","Zebra mussels, purple loosestrife, and killer bees--invasive species are infiltrating our water, land and skies, disrupting our delicate ecosystems. At Issue: Invasive Species examines ways these invaders harm--or help--the environment, and what to do about them (hint--Asian carp and feral pigs can be very tasty).","English",39.4,31.52,"578","90 pp.",{"$f":"Table1[[#This Row],['# of Books]]*Table1[[#This Row],[QTY]]","v":0},{"$f":"Table1[[#This Row],[QTY]]*Table1[[#This Row],[School & Library Price]]","v":0}]
[null,20,null,"Current Issues","At Issue","Invasive Species","978-0-7377-7387-3","Greenhaven Publishing","Paperback Book",1,2016,null,"Paperback","6.000 X 9.000","Author","Noah Berlatsky",null,null,null,null,null,null,"Years 15 - 17",null,"Grade 10 - 12","Zebra mussels, purple loosestrife, and killer bees--invasive species are infiltrating our water, land and skies, disrupting our delicate ecosystems. At Issue: Invasive Species examines ways these invaders harm--or help--the environment, and what to do about them (hint--Asian carp and feral pigs can be very tasty).","English",27.8,22.240000000000002,"578","90 pp.",{"$f":"Table1[[#This Row],['# of Books]]*Table1[[#This Row],[QTY]]","v":0},{"$f":"Table1[[#This Row],[QTY]]*Table1[[#This Row],[School & Library Price]]","v":0}]
[null,20,null,"Current Issues","At Issue","Invasive Species","978-0-7377-7641-6","Greenhaven Publishing","eBook",1,2016,null,"eBook",null,"Author","Noah Berlatsky",null,null,null,null,null,null,"Years 15 - 17",null,"Grade 10 - 12",null,"English",39.4,39.4,"344.04","90 pp.",{"$f":"Table1[[#This Row],['# of Books]]*Table1[[#This Row],[QTY]]","v":0},{"$f":"Table1[[#This Row],[QTY]]*Table1[[#This Row],[School & Library Price]]","v":0}]
[null,20,null,"Current Issues","At Issue","Is Childhood Becoming Too Sexualized?","978-0-7377-4884-0","Greenhaven Publishing","Library Bound Book",1,2010,null,"Library Bound","6.000 X 9.000","Author","Olivia Ferguson",null,null,null,null,null,null,"Years 15 - 17",null,"Grade 10 - 12",null,"English",39.4,31.52,"306","120 pp.",{"$f":"Table1[[#This Row],['# of Books]]*Table1[[#This Row],[QTY]]","v":0},{"$f":"Table1[[#This Row],[QTY]]*Table1[[#This Row],[School & Library Price]]","v":0}]
[null,20,null,"Current Issues","At Issue","Is Childhood Becoming Too Sexualized?","978-0-7377-4885-7","Greenhaven Publishing","Paperback Book",1,2010,null,"Paperback","6.000 X 9.000","Author","Olivia Ferguson",null,null,null,null,null,null,"Years 15 - 17",null,"Grade 10 - 12",null,"English",27.8,22.240000000000002,"306","114 pp.",{"$f":"Table1[[#This Row],['# of Books]]*Table1[[#This Row],[QTY]]","v":0},{"$f":"Table1[[#This Row],[QTY]]*Table1[[#This Row],[School & Library Price]]","v":0}]
[null,20,null,"Current Issues","At Issue","Is China's Economic Growth a Threat to America?","978-0-7377-6185-6","Greenhaven Publishing","Library Bound Book",1,2014,null,"Library Bound","6.000 X 9.000","Author","Ronald D. Lankford",null,null,null,null,null,null,"Years 15 - 17",null,"Grade 10 - 12","This title explores many aspects of the economic relationship between the United States and China, including the impact on the auto industry, agriculture, and manufacturing jobs.  Includes primary and secondary sources from a variety of perspectives -- eyewitnesses, scientific journals, government officials and many others.","English",39.4,31.52,"330","104 pp.",{"$f":"Table1[[#This Row],['# of Books]]*Table1[[#This Row],[QTY]]","v":0},{"$f":"Table1[[#This Row],[QTY]]*Table1[[#This Row],[School & Library Price]]","v":0}]
[null,20,null,"Current Issues","At Issue","Is China's Economic Growth a Threat to America?","978-0-7377-6186-3","Greenhaven Publishing","Paperback Book",1,2014,null,"Paperback","6.000 X 9.000","Author","Ronald D. Lankford",null,null,null,null,null,null,"Years 15 - 17",null,"Grade 10 - 12","This title explores many aspects of the economic relationship between the United States and China, including the impact on the auto industry, agriculture, and manufacturing jobs.  Includes primary and secondary sources from a variety of perspectives -- eyewitnesses, scientific journals, government officials and many others.","English",27.8,22.240000000000002,"330","103 pp.",{"$f":"Table1[[#This Row],['# of Books]]*Table1[[#This Row],[QTY]]","v":0},{"$f":"Table1[[#This Row],[QTY]]*Table1[[#This Row],[School & Library Price]]","v":0}]
[null,20,null,"Current Issues","At Issue","Is Foreign Aid Necessary?","978-0-7377-6187-0","Greenhaven Publishing","Library Bound Book",1,2013,null,"Library Bound","6.000 X 9.000","Author","David Haugen",null,null,null,null,null,null,"Years 15 - 17",null,"Grade 10 - 12","This title examines numerous facets of US foreign aid, including: whether foreign aid has benefitted or harmed developing nations; whether Congress should cut foreign aid; whether aid to Africa helps poor nations or supports corrupt regimes; the level of accountability that should be demanded from recipient nations; and whether do-it-yourself, amateur philanthropists help or harm developing nations.","English",39.4,31.52,"338","136 pp.",{"$f":"Table1[[#This Row],['# of Books]]*Table1[[#This Row],[QTY]]","v":0},{"$f":"Table1[[#This Row],[QTY]]*Table1[[#This Row],[School & Library Price]]","v":0}]
[null,20,null,"Current Issues","At Issue","Is Foreign Aid Necessary?","978-0-7377-6188-7","Greenhaven Publishing","Paperback Book",1,2013,null,"Paperback","6.000 X 9.000","Author","David Haugen",null,null,null,null,null,null,"Years 15 - 17",null,"Grade 10 - 12","This title examines numerous facets of US foreign aid, including: whether foreign aid has benefitted or harmed developing nations; whether Congress should cut foreign aid; whether aid to Africa helps poor nations or supports corrupt regimes; the level of accountability that should be demanded from recipient nations; and whether do-it-yourself, amateur philanthropists help or harm developing nations.","English",27.8,22.240000000000002,"338","134 pp.",{"$f":"Table1[[#This Row],['# of Books]]*Table1[[#This Row],[QTY]]","v":0},{"$f":"Table1[[#This Row],[QTY]]*Table1[[#This Row],[School & Library Price]]","v":0}]
[null,20,null,"Current Issues","At Issue","Is Global Warming a Threat?","978-0-7377-3688-5","Greenhaven Publishing","Paperback Book",1,2008,null,"Paperback","6.000 X 9.000","Author","David Haugen",null,null,null,null,null,null,"Years 15 - 17",null,"Grade 10 - 12",null,"English",27.8,22.240000000000002,"362.292","102 pp.",{"$f":"Table1[[#This Row],['# of Books]]*Table1[[#This Row],[QTY]]","v":0},{"$f":"Table1[[#This Row],[QTY]]*Table1[[#This Row],[School & Library Price]]","v":0}]
[null,20,null,"Current Issues","At Issue","Is Gun Ownership a Right?","978-0-7377-4428-6","Greenhaven Publishing","Library Bound Book",1,2010,null,"Library Bound","6.000 X 9.000","Author","Lea Sakora",null,null,null,null,null,null,"Years 15 - 17",null,"Grade 10 - 12",null,"English",39.4,31.52,"363","112 pp.",{"$f":"Table1[[#This Row],['# of Books]]*Table1[[#This Row],[QTY]]","v":0},{"$f":"Table1[[#This Row],[QTY]]*Table1[[#This Row],[School & Library Price]]","v":0}]
[null,20,null,"Current Issues","At Issue","Is Gun Ownership a Right?","978-0-7377-4429-3","Greenhaven Publishing","Paperback Book",1,2010,null,"Paperback","6.000 X 9.000","Author","Lea Sakora",null,null,null,null,null,null,"Years 15 - 17",null,"Grade 10 - 12",null,"English",27.8,22.240000000000002,"363","112 pp.",{"$f":"Table1[[#This Row],['# of Books]]*Table1[[#This Row],[QTY]]","v":0},{"$f":"Table1[[#This Row],[QTY]]*Table1[[#This Row],[School & Library Price]]","v":0}]
[null,20,null,"Current Issues","At Issue","Is Iran a Threat to Global Security?","978-0-7377-4667-9","Greenhaven Publishing","Library Bound Book",1,2010,null,"Library Bound","6.000 X 9.000","Author","Stefan Kiesbye",null,null,null,null,null,null,"Years 15 - 17",null,"Grade 10 - 12",null,"English",39.4,31.52,"355","128 pp.",{"$f":"Table1[[#This Row],['# of Books]]*Table1[[#This Row],[QTY]]","v":0},{"$f":"Table1[[#This Row],[QTY]]*Table1[[#This Row],[School & Library Price]]","v":0}]
[null,20,null,"Current Issues","At Issue","Is Iran a Threat to Global Security?","978-0-7377-4668-6","Greenhaven Publishing","Paperback Book",1,2010,null,"Paperback","6.000 X 9.000","Author","Stefan Kiesbye",null,null,null,null,null,null,"Years 15 - 17",null,"Grade 10 - 12",null,"English",27.8,22.240000000000002,"363","126 pp.",{"$f":"Table1[[#This Row],['# of Books]]*Table1[[#This Row],[QTY]]","v":0},{"$f":"Table1[[#This Row],[QTY]]*Table1[[#This Row],[School & Library Price]]","v":0}]
[null,20,null,"Current Issues","At Issue","Is Media Violence a Problem?","978-0-7377-4887-1","Greenhaven Publishing","Paperback Book",1,2010,null,"Paperback","6.000 X 9.000","Author","Stefan Kiesbye",null,null,null,null,null,null,"Years 15 - 17",null,"Grade 10 - 12",null,"English",27.8,22.240000000000002,"303","120 pp.",{"$f":"Table1[[#This Row],['# of Books]]*Table1[[#This Row],[QTY]]","v":0},{"$f":"Table1[[#This Row],[QTY]]*Table1[[#This Row],[School & Library Price]]","v":0}]
[null,20,null,"Current Issues","At Issue","Is Organic Food Better?","978-0-7377-5157-4","Greenhaven Publishing","Library Bound Book",1,2011,null,"Library Bound","6.000 X 9.000","Author","Ronald D. Lankford",null,null,null,null,null,null,"Years 15 - 17",null,"Grade 10 - 12",null,"English",39.4,31.52,"641","120 pp.",{"$f":"Table1[[#This Row],['# of Books]]*Table1[[#This Row],[QTY]]","v":0},{"$f":"Table1[[#This Row],[QTY]]*Table1[[#This Row],[School & Library Price]]","v":0}]
[null,20,null,"Current Issues","At Issue","Is Organic Food Better?","978-0-7377-5158-1","Greenhaven Publishing","Paperback Book",1,2011,null,"Paperback","6.000 X 9.000","Author","Ronnie D. Lankford",null,null,null,null,null,null,"Years 15 - 17",null,"Grade 10 - 12",null,"English",27.8,22.240000000000002,"641","120 pp.",{"$f":"Table1[[#This Row],['# of Books]]*Table1[[#This Row],[QTY]]","v":0},{"$f":"Table1[[#This Row],[QTY]]*Table1[[#This Row],[School & Library Price]]","v":0}]
[null,20,null,"Current Issues","At Issue","Is Parenthood a Right or a Privilege?","978-0-7377-4430-9","Greenhaven Publishing","Library Bound Book",1,2009,null,"Library Bound","6.000 X 9.000","Author","Stefan Kiesbye",null,null,null,null,null,null,"Years 15 - 17",null,"Grade 10 - 12",null,"English",39.4,31.52,"306","104 pp.",{"$f":"Table1[[#This Row],['# of Books]]*Table1[[#This Row],[QTY]]","v":0},{"$f":"Table1[[#This Row],[QTY]]*Table1[[#This Row],[School & Library Price]]","v":0}]
[null,20,null,"Current Issues","At Issue","Is Parenthood a Right or a Privilege?","978-0-7377-4431-6","Greenhaven Publishing","Paperback Book",1,2009,null,"Paperback","6.000 X 9.000","Author","Stefan Kiesbye",null,null,null,null,null,null,"Years 15 - 17",null,"Grade 10 - 12",null,"English",27.8,22.240000000000002,"306","104 pp.",{"$f":"Table1[[#This Row],['# of Books]]*Table1[[#This Row],[QTY]]","v":0},{"$f":"Table1[[#This Row],[QTY]]*Table1[[#This Row],[School & Library Price]]","v":0}]
[null,20,null,"Current Issues","At Issue","Is Poverty a Serious Threat?","978-0-7377-2725-8","Greenhaven Publishing","Library Bound Book",1,2006,null,"Library Bound","6.000 X 9.000","Author","Mercedes Munoz",null,null,null,null,null,null,"Years 15 - 17",null,"Grade 10 - 12","In both the United States and throughout the world, income inequality persists. The authors in this anthology debate the extent of domestic and global poverty and how best to define poverty.  Includes primary and secondary sources from a variety of perspectives - eyewitnesses, scientific journals, government officials and many others.","English",39.4,31.52,"362.5","117 pp.",{"$f":"Table1[[#This Row],['# of Books]]*Table1[[#This Row],[QTY]]","v":0},{"$f":"Table1[[#This Row],[QTY]]*Table1[[#This Row],[School & Library Price]]","v":0}]
[null,20,null,"Current Issues","At Issue","Is Poverty a Serious Threat?","978-0-7377-2726-5","Greenhaven Publishing","Paperback Book",1,2006,null,"Paperback","6.000 X 9.000","Author","Mercedes Munoz",null,null,null,null,null,null,"Years 15 - 17",null,"Grade 10 - 12","In both the United States and throughout the world, income inequality persists. The authors in this anthology debate the extent of domestic and global poverty and how best to define poverty.","English",27.8,22.240000000000002,"362.5","117 pp.",{"$f":"Table1[[#This Row],['# of Books]]*Table1[[#This Row],[QTY]]","v":0},{"$f":"Table1[[#This Row],[QTY]]*Table1[[#This Row],[School & Library Price]]","v":0}]
[null,20,null,"Current Issues","At Issue","Is Racism a Serious Problem?","978-0-7377-4416-3","Greenhaven Publishing","Library Bound Book",1,2009,null,"Library Bound","6.000 X 9.000","Author","Aarti D. Stephens",null,null,null,null,null,null,"Years 15 - 17",null,"Grade 10 - 12",null,"English",39.4,31.52,"361","128 pp.",{"$f":"Table1[[#This Row],['# of Books]]*Table1[[#This Row],[QTY]]","v":0},{"$f":"Table1[[#This Row],[QTY]]*Table1[[#This Row],[School & Library Price]]","v":0}]
[null,20,null,"Current Issues","At Issue","Is Racism a Serious Problem?","978-0-7377-4417-0","Greenhaven Publishing","Paperback Book",1,2009,null,"Paperback","6.000 X 9.000","Author","Aarti D. Stephens",null,null,null,null,null,null,"Years 15 - 17",null,"Grade 10 - 12",null,"English",27.8,22.240000000000002,"361","128 pp.",{"$f":"Table1[[#This Row],['# of Books]]*Table1[[#This Row],[QTY]]","v":0},{"$f":"Table1[[#This Row],[QTY]]*Table1[[#This Row],[School & Library Price]]","v":0}]
[null,20,null,"Current Issues","At Issue","Is Selling Body Parts Ethical?","978-0-7377-6189-4","Greenhaven Publishing","Library Bound Book",1,2013,null,"Library Bound","6.000 X 9.000","Author","Christine Watkins",null,null,null,null,null,null,"Years 15 - 17",null,"Grade 10 - 12","This title explores the ethics of selling body parts, whether selling body parts benefits or exploits the poor, and the state of organ trafficking in other countries.  Includes primary and secondary sources from a variety of perspectives -- eyewitnesses, scientific journals, government officials and many others.","English",39.4,31.52,"174","120 pp.",{"$f":"Table1[[#This Row],['# of Books]]*Table1[[#This Row],[QTY]]","v":0},{"$f":"Table1[[#This Row],[QTY]]*Table1[[#This Row],[School & Library Price]]","v":0}]
[null,20,null,"Current Issues","At Issue","Is Selling Body Parts Ethical?","978-0-7377-6190-0","Greenhaven Publishing","Paperback Book",1,2013,null,"Paperback","6.000 X 9.000","Author","Christine Watkins",null,null,null,null,null,null,"Years 15 - 17",null,"Grade 10 - 12","This title explores the ethics of selling body parts, whether selling body parts benefits or exploits the poor, and the state of organ trafficking in other countries.  Includes primary and secondary sources from a variety of perspectives -- eyewitnesses, scientific journals, government officials and many others.","English",27.8,22.240000000000002,"174","116 pp.",{"$f":"Table1[[#This Row],['# of Books]]*Table1[[#This Row],[QTY]]","v":0},{"$f":"Table1[[#This Row],[QTY]]*Table1[[#This Row],[School & Library Price]]","v":0}]
[null,20,null,"Current Issues","At Issue","Is Socialism Harmful?","978-0-7377-5584-8","Greenhaven Publishing","Library Bound Book",1,2011,null,"Library Bound","6.000 X 9.000","Author","Ronnie D. Lankford",null,null,null,null,null,null,"Years 15 - 17",null,"Grade 10 - 12","This edition in the AT ISSUE series examines issues related to socialism. Includes primary and secondary sources from a variety of perspectives -- eyewitnesses, scientific journals, government officials and many others.","English",39.4,31.52,"335","120 pp.",{"$f":"Table1[[#This Row],['# of Books]]*Table1[[#This Row],[QTY]]","v":0},{"$f":"Table1[[#This Row],[QTY]]*Table1[[#This Row],[School & Library Price]]","v":0}]
[null,20,null,"Current Issues","At Issue","Is Socialism Harmful?","978-0-7377-5585-5","Greenhaven Publishing","Paperback Book",1,2011,null,"Paperback","6.000 X 9.000","Author","Ronnie D. Lankford",null,null,null,null,null,null,"Years 15 - 17",null,"Grade 10 - 12","This edition in the AT ISSUE series examines issues related to socialism. Includes primary and secondary sources from a variety of perspectives -- eyewitnesses, scientific journals, government officials and many others.","English",27.8,22.240000000000002,"335","118 pp.",{"$f":"Table1[[#This Row],['# of Books]]*Table1[[#This Row],[QTY]]","v":0},{"$f":"Table1[[#This Row],[QTY]]*Table1[[#This Row],[School & Library Price]]","v":0}]
[null,21,null,"Current Issues","At Issue","Is Society Becoming Less Civilized?","978-0-7377-6840-4","Greenhaven Publishing","Library Bound Book",1,2015,null,"Library Bound","6.000 X 9.000","Author","Louise Gerdes",null,null,null,null,null,null,"Years 15 - 17",null,"Grade 10 - 12","AT ISSUE: IS SOCIETY BECOMING LESS CIVIL? explores whether certain aspects of society are becoming less civil, whether politics is becoming less civil and the media’s impact on civility.","English",39.4,31.52,"150","128 pp.",{"$f":"Table1[[#This Row],['# of Books]]*Table1[[#This Row],[QTY]]","v":0},{"$f":"Table1[[#This Row],[QTY]]*Table1[[#This Row],[School & Library Price]]","v":0}]
[null,21,null,"Current Issues","At Issue","Is Society Becoming Less Civilized?","978-0-7377-6841-1","Greenhaven Publishing","Paperback Book",1,2015,null,"Paperback","6.000 X 9.000","Author","Louise Gerdes",null,null,null,null,null,null,"Years 15 - 17",null,"Grade 10 - 12","AT ISSUE: IS SOCIETY BECOMING LESS CIVIL? explores whether certain aspects of society are becoming less civil, whether politics is becoming less civil and the media’s impact on civility.","English",27.8,22.240000000000002,"150","126 pp.",{"$f":"Table1[[#This Row],['# of Books]]*Table1[[#This Row],[QTY]]","v":0},{"$f":"Table1[[#This Row],[QTY]]*Table1[[#This Row],[School & Library Price]]","v":0}]
[null,21,null,"Current Issues","At Issue","Is the American Dream a Myth?","978-0-7377-3494-2","Greenhaven Publishing","Paperback Book",1,2006,null,"Paperback","6.000 X 9.000","Author","Kate Burns",null,null,null,null,null,null,"Years 15 - 17",null,"Grade 10 - 12",null,"English",27.8,22.240000000000002,"306.0973","100 pp.",{"$f":"Table1[[#This Row],['# of Books]]*Table1[[#This Row],[QTY]]","v":0},{"$f":"Table1[[#This Row],[QTY]]*Table1[[#This Row],[School & Library Price]]","v":0}]
[null,21,null,"Current Issues","At Issue","Is the Mafia Still a Force in America?","978-0-7377-2402-8","Greenhaven Publishing","Library Bound Book",1,2006,null,"Library Bound","6.000 X 9.000","Author","David M. Haugen",null,null,null,null,null,null,"Years 15 - 17",null,"Grade 10 - 12","Though stories of the Mafia's allure and power still pervade television and film, the criminal organization has shrunk considerably since the 1980s under a barrage of arrests and federal prosecutions.  This anthology examines whether the Mafia is still a potent criminal force in America.","English",39.4,31.52,"364.106","104 pp.",{"$f":"Table1[[#This Row],['# of Books]]*Table1[[#This Row],[QTY]]","v":0},{"$f":"Table1[[#This Row],[QTY]]*Table1[[#This Row],[School & Library Price]]","v":0}]
[null,21,null,"Current Issues","At Issue","Is the Mafia Still a Force in America?","978-0-7377-2403-5","Greenhaven Publishing","Paperback Book",1,2006,null,"Paperback","6.000 X 9.000","Author","David M. Haugen",null,null,null,null,null,null,"Years 15 - 17",null,"Grade 10 - 12","Though stories of the Mafia’s allure and power still pervade television and film, the criminal organization has shrunk considerably since the 1980s under a barrage of arrests and federal prosecutions.  This anthology examines whether the Mafia is still a potent criminal force in America.","English",27.8,22.240000000000002,"364.106","104 pp.",{"$f":"Table1[[#This Row],['# of Books]]*Table1[[#This Row],[QTY]]","v":0},{"$f":"Table1[[#This Row],[QTY]]*Table1[[#This Row],[School & Library Price]]","v":0}]
[null,21,null,"Current Issues","At Issue","Is the United States Ready for a Minority President?","978-0-7377-3878-0","Greenhaven Publishing","Library Bound Book",1,2008,null,"Library Bound","6.000 X 9.000","Author","Amanda Hiber",null,null,null,null,null,null,"Years 15 - 17",null,"Grade 10 - 12",null,"English",39.4,31.52,"306","112 pp.",{"$f":"Table1[[#This Row],['# of Books]]*Table1[[#This Row],[QTY]]","v":0},{"$f":"Table1[[#This Row],[QTY]]*Table1[[#This Row],[School & Library Price]]","v":0}]
[null,21,null,"Current Issues","At Issue","Is the United States Ready for a Minority President?","978-0-7377-3879-7","Greenhaven Publishing","Paperback Book",1,2008,null,"Paperback","6.000 X 9.000","Author","Amanda Hiber",null,null,null,null,null,null,"Years 15 - 17",null,"Grade 10 - 12",null,"English",27.8,22.240000000000002,"306","107 pp.",{"$f":"Table1[[#This Row],['# of Books]]*Table1[[#This Row],[QTY]]","v":0},{"$f":"Table1[[#This Row],[QTY]]*Table1[[#This Row],[School & Library Price]]","v":0}]
[null,21,null,"Current Issues","At Issue","Is the Western Diet Making the World Sick?","978-0-7377-6191-7","Greenhaven Publishing","Library Bound Book",1,2013,null,"Library Bound","6.000 X 9.000","Author","Susan Hunnicutt",null,null,null,null,null,null,"Years 15 - 17",null,"Grade 10 - 12","This edition in the At Issue series examines issues related to the Western diet. Includes primary and secondary sources from a variety of perspectives -- eyewitnesses, scientific journals, government officials and many others.","English",39.4,31.52,"363","104 pp.",{"$f":"Table1[[#This Row],['# of Books]]*Table1[[#This Row],[QTY]]","v":0},{"$f":"Table1[[#This Row],[QTY]]*Table1[[#This Row],[School & Library Price]]","v":0}]
[null,21,null,"Current Issues","At Issue","Is the Western Diet Making the World Sick?","978-0-7377-6192-4","Greenhaven Publishing","Paperback Book",1,2013,null,"Paperback","6.000 X 9.000","Author","Susan Hunnicutt",null,null,null,null,null,null,"Years 15 - 17",null,"Grade 10 - 12","This edition in the At Issue series examines issues related to the Western diet. Includes primary and secondary sources from a variety of perspectives -- eyewitnesses, scientific journals, government officials and many others.","English",27.8,22.240000000000002,"363","100 pp.",{"$f":"Table1[[#This Row],['# of Books]]*Table1[[#This Row],[QTY]]","v":0},{"$f":"Table1[[#This Row],[QTY]]*Table1[[#This Row],[School & Library Price]]","v":0}]
[null,21,null,"Current Issues","At Issue","Is There a New Cold War?","978-0-7377-4659-4","Greenhaven Publishing","Library Bound Book",1,2010,null,"Library Bound","6.000 X 9.000","Author","Stefan Kiesbye",null,null,null,null,null,null,"Years 15 - 17",null,"Grade 10 - 12",null,"English",39.4,31.52,"327","144 pp.",{"$f":"Table1[[#This Row],['# of Books]]*Table1[[#This Row],[QTY]]","v":0},{"$f":"Table1[[#This Row],[QTY]]*Table1[[#This Row],[School & Library Price]]","v":0}]
[null,21,null,"Current Issues","At Issue","Is There a New Cold War?","978-0-7377-4660-0","Greenhaven Publishing","Paperback Book",1,2010,null,"Paperback","6.000 X 9.000","Author","Stefan Kiesbye",null,null,null,null,null,null,"Years 15 - 17",null,"Grade 10 - 12",null,"English",27.8,22.240000000000002,"327","144 pp.",{"$f":"Table1[[#This Row],['# of Books]]*Table1[[#This Row],[QTY]]","v":0},{"$f":"Table1[[#This Row],[QTY]]*Table1[[#This Row],[School & Library Price]]","v":0}]
[null,21,null,"Current Issues","At Issue","Is Torture Ever Justified?","978-0-7377-5092-8","Greenhaven Publishing","Paperback Book",1,2011,null,"Paperback","6.000 X 9.000","Author","Tamara L. Roleff",null,null,null,null,null,null,"Years 15 - 17",null,"Grade 10 - 12",null,"English",27.8,22.240000000000002,"365","128 pp.",{"$f":"Table1[[#This Row],['# of Books]]*Table1[[#This Row],[QTY]]","v":0},{"$f":"Table1[[#This Row],[QTY]]*Table1[[#This Row],[School & Library Price]]","v":0}]
[null,21,null,"Current Issues","At Issue","Islam in America","978-0-7377-2728-9","Greenhaven Publishing","Paperback Book",1,2006,null,"Paperback","6.000 X 9.000","Author","Laura K. Egendorf",null,null,null,null,null,null,"Years 15 - 17",null,"Grade 10 - 12","Muslims have lived in the United States for more than a century. In the wake of the September 11, 2001, terrorist attacks and American foreign policy, a better understanding of Islam in America is needed. The contributors to this book analyze various issues concerning American Muslims, such as their political views and the prejudice they experience.","English",27.8,22.240000000000002,"297.0973","112 pp.",{"$f":"Table1[[#This Row],['# of Books]]*Table1[[#This Row],[QTY]]","v":0},{"$f":"Table1[[#This Row],[QTY]]*Table1[[#This Row],[School & Library Price]]","v":0}]
[null,21,null,"Current Issues","At Issue","Islamic Fundamentalism","978-0-7377-3690-8","Greenhaven Publishing","Paperback Book",1,2008,null,"Paperback","6.000 X 9.000","Author","David M. Haugen",null,null,null,null,null,null,"Years 15 - 17",null,"Grade 10 - 12",null,"English",27.8,22.240000000000002,"362.292","129 pp.",{"$f":"Table1[[#This Row],['# of Books]]*Table1[[#This Row],[QTY]]","v":0},{"$f":"Table1[[#This Row],[QTY]]*Table1[[#This Row],[School & Library Price]]","v":0}]
[null,21,null,"Current Issues","At Issue","Location Based Social Networking","978-0-7377-6842-8","Greenhaven Publishing","Library Bound Book",1,2014,null,"Library Bound","6.000 X 9.000","Author","Roman Espejo",null,null,null,null,null,null,"Years 15 - 17",null,"Grade 10 - 12","At Issue: Location-Based Social Networking and Services explores the popularity of location-based social networking; privacy issues concerning location-based social networking, services, and geofencing; the effectiveness of location-based services.","English",39.4,31.52,"006","96 pp.",{"$f":"Table1[[#This Row],['# of Books]]*Table1[[#This Row],[QTY]]","v":0},{"$f":"Table1[[#This Row],[QTY]]*Table1[[#This Row],[School & Library Price]]","v":0}]
[null,21,null,"Current Issues","At Issue","Location Based Social Networking","978-0-7377-6843-5","Greenhaven Publishing","Paperback Book",1,2014,null,"Paperback","6.000 X 9.000","Author","Roman Espejo",null,null,null,null,null,null,"Years 15 - 17",null,"Grade 10 - 12","At Issue: Location-Based Social Networking and Services explores the popularity of location-based social networking; privacy issues concerning location-based social networking, services, and geofencing; the effectiveness of location-based services.","English",27.8,22.240000000000002,"006","93 pp.",{"$f":"Table1[[#This Row],['# of Books]]*Table1[[#This Row],[QTY]]","v":0},{"$f":"Table1[[#This Row],[QTY]]*Table1[[#This Row],[School & Library Price]]","v":0}]
[null,21,null,"Current Issues","At Issue","Manufacturing Jobs in the U.S.","978-0-7377-7173-2","Greenhaven Publishing","Library Bound Book",1,2015,null,"Library Bound","6.000 X 9.000","Author","Noah Berlatsky",null,null,null,null,null,null,"Years 15 - 17",null,"Grade 10 - 12","AT ISSUE: MANUFACTURING JOBS IN THE US discusses whether there is a strong American workforce available for new manufacturing jobs, whether American youths are interested in manufacturing, and whether the United States can compete with overseas manufacturers.","English",39.4,31.52,"331","119 pp.",{"$f":"Table1[[#This Row],['# of Books]]*Table1[[#This Row],[QTY]]","v":0},{"$f":"Table1[[#This Row],[QTY]]*Table1[[#This Row],[School & Library Price]]","v":0}]
[null,21,null,"Current Issues","At Issue","Manufacturing Jobs in the U.S.","978-0-7377-7174-9","Greenhaven Publishing","Paperback Book",1,2015,null,"Paperback","6.000 X 9.000","Author","Noah Berlatsky",null,null,null,null,null,null,"Years 15 - 17",null,"Grade 10 - 12","AT ISSUE: MANUFACTURING JOBS IN THE US discusses whether there is a strong American workforce available for new manufacturing jobs, whether American youths are interested in manufacturing, and whether the United States can compete with overseas manufacturers.","English",27.8,22.240000000000002,"331","119 pp.",{"$f":"Table1[[#This Row],['# of Books]]*Table1[[#This Row],[QTY]]","v":0},{"$f":"Table1[[#This Row],[QTY]]*Table1[[#This Row],[School & Library Price]]","v":0}]
[null,21,null,"Current Issues","At Issue","Manufacturing Jobs in the U.S.","978-0-7377-7645-4","Greenhaven Publishing","eBook",1,2015,null,"eBook",null,"Author","Amy Francis",null,null,null,null,null,null,"Years 15 - 17",null,"Grade 10 - 12",null,"English",39.4,39.4,"331.7","119 pp.",{"$f":"Table1[[#This Row],['# of Books]]*Table1[[#This Row],[QTY]]","v":0},{"$f":"Table1[[#This Row],[QTY]]*Table1[[#This Row],[School & Library Price]]","v":0}]
[null,21,null,"Current Issues","At Issue","Marijuana","978-0-7377-4432-3","Greenhaven Publishing","Library Bound Book",1,2009,null,"Library Bound","6.000 X 9.000","Author","Arthur Gillard",null,null,null,null,null,null,"Years 15 - 17",null,"Grade 10 - 12",null,"English",39.4,31.52,"362","128 pp.",{"$f":"Table1[[#This Row],['# of Books]]*Table1[[#This Row],[QTY]]","v":0},{"$f":"Table1[[#This Row],[QTY]]*Table1[[#This Row],[School & Library Price]]","v":0}]
[null,21,null,"Current Issues","At Issue","Marijuana","978-0-7377-4433-0","Greenhaven Publishing","Paperback Book",1,2009,null,"Paperback","6.000 X 9.000","Author","Arthur Gillard",null,null,null,null,null,null,"Years 15 - 17",null,"Grade 10 - 12",null,"English",27.8,22.240000000000002,"362","128 pp.",{"$f":"Table1[[#This Row],['# of Books]]*Table1[[#This Row],[QTY]]","v":0},{"$f":"Table1[[#This Row],[QTY]]*Table1[[#This Row],[School & Library Price]]","v":0}]
[null,21,null,"Current Issues","At Issue","Media Bias","978-0-7377-5159-8","Greenhaven Publishing","Library Bound Book",1,2011,null,"Library Bound","6.000 X 9.000","Author","Susan Hunnicutt",null,null,null,null,null,null,"Years 15 - 17",null,"Grade 10 - 12",null,"English",39.4,31.52,"302","128 pp.",{"$f":"Table1[[#This Row],['# of Books]]*Table1[[#This Row],[QTY]]","v":0},{"$f":"Table1[[#This Row],[QTY]]*Table1[[#This Row],[School & Library Price]]","v":0}]
[null,21,null,"Current Issues","At Issue","Media Bias","978-0-7377-5160-4","Greenhaven Publishing","Paperback Book",1,2011,null,"Paperback","6.000 X 9.000","Author","Susan Hunnicutt",null,null,null,null,null,null,"Years 15 - 17",null,"Grade 10 - 12",null,"English",27.8,22.240000000000002,"302","121 pp.",{"$f":"Table1[[#This Row],['# of Books]]*Table1[[#This Row],[QTY]]","v":0},{"$f":"Table1[[#This Row],[QTY]]*Table1[[#This Row],[School & Library Price]]","v":0}]
[null,21,null,"Current Issues","At Issue","Medical Malpractice","978-0-7377-7175-6","Greenhaven Publishing","Library Bound Book",1,2015,null,"Library Bound","6.000 X 9.000","Author","Noah Berlatsky",null,null,null,null,null,null,"Years 15 - 17",null,"Grade 10 - 12","AT ISSUE: MEDICAL MALPRACTICE examines the views and fears physicians have over lawsuits and how those fears affect medical care. This volume studies malpractice caps and safe-harbor laws and how they impact patients and doctors. ","English",39.4,31.52,"344","128 pp.",{"$f":"Table1[[#This Row],['# of Books]]*Table1[[#This Row],[QTY]]","v":0},{"$f":"Table1[[#This Row],[QTY]]*Table1[[#This Row],[School & Library Price]]","v":0}]
[null,21,null,"Current Issues","At Issue","Medical Malpractice","978-0-7377-7176-3","Greenhaven Publishing","Paperback Book",1,2015,null,"Paperback","6.000 X 9.000","Author","Noah Berlatsky",null,null,null,null,null,null,"Years 15 - 17",null,"Grade 10 - 12","AT ISSUE: MEDICAL MALPRACTICE examines the views and fears physicians have over lawsuits and how those fears affect medical care. This volume studies malpractice caps and safe-harbor laws and how they impact patients and doctors. ","English",27.8,22.240000000000002,"344","121 pp.",{"$f":"Table1[[#This Row],['# of Books]]*Table1[[#This Row],[QTY]]","v":0},{"$f":"Table1[[#This Row],[QTY]]*Table1[[#This Row],[School & Library Price]]","v":0}]
[null,21,null,"Current Issues","At Issue","Medical Malpractice","978-0-7377-7642-3","Greenhaven Publishing","eBook",1,2015,null,"eBook",null,"Author","Noah Berlatsky",null,null,null,null,null,null,"Years 15 - 17",null,"Grade 10 - 12",null,"English",39.4,39.4,"344.7304","128 pp.",{"$f":"Table1[[#This Row],['# of Books]]*Table1[[#This Row],[QTY]]","v":0},{"$f":"Table1[[#This Row],[QTY]]*Table1[[#This Row],[School & Library Price]]","v":0}]
[null,21,null,"Current Issues","At Issue","Mental Illness and Criminal Behavior","978-0-7377-4434-7","Greenhaven Publishing","Library Bound Book",1,2009,null,"Library Bound","6.000 X 9.000","Author","Shannon Fiack",null,null,null,null,null,null,"Years 15 - 17",null,"Grade 10 - 12",null,"English",39.4,31.52,"364","104 pp.",{"$f":"Table1[[#This Row],['# of Books]]*Table1[[#This Row],[QTY]]","v":0},{"$f":"Table1[[#This Row],[QTY]]*Table1[[#This Row],[School & Library Price]]","v":0}]
[null,21,null,"Current Issues","At Issue","Mental Illness and Criminal Behavior","978-0-7377-4435-4","Greenhaven Publishing","Paperback Book",1,2009,null,"Paperback","6.000 X 9.000","Author","Shannon Fiack",null,null,null,null,null,null,"Years 15 - 17",null,"Grade 10 - 12",null,"English",27.8,22.240000000000002,"364","104 pp.",{"$f":"Table1[[#This Row],['# of Books]]*Table1[[#This Row],[QTY]]","v":0},{"$f":"Table1[[#This Row],[QTY]]*Table1[[#This Row],[School & Library Price]]","v":0}]
[null,21,null,"Current Issues","At Issue","Mexico's Drug War","978-0-7377-6844-2","Greenhaven Publishing","Library Bound Book",1,2014,null,"Library Bound","6.000 X 9.000","Author","Margaret Haerens",null,null,null,null,null,null,"Years 15 - 17",null,"Grade 10 - 12","This title examines Mexico’s drug war from many angles, exploring the causes, the government and military responses, and the impact of Central American and US drug policy on Mexico.  Includes primary and secondary sources from a variety of perspectives -- eyewitnesses, scientific journals, government officials and many others.","English",39.4,31.52,"363.45","120 pp.",{"$f":"Table1[[#This Row],['# of Books]]*Table1[[#This Row],[QTY]]","v":0},{"$f":"Table1[[#This Row],[QTY]]*Table1[[#This Row],[School & Library Price]]","v":0}]
[null,21,null,"Current Issues","At Issue","Mexico's Drug War","978-0-7377-6845-9","Greenhaven Publishing","Paperback Book",1,2014,null,"Paperback","6.000 X 9.000","Author","Margaret Haerens",null,null,null,null,null,null,"Years 15 - 17",null,"Grade 10 - 12","This title examines Mexico’s drug war from many angles, exploring the causes, the government and military responses, and the impact of Central American and US drug policy on Mexico.  Includes primary and secondary sources from a variety of perspectives -- eyewitnesses, scientific journals, government officials and many others.","English",27.8,22.240000000000002,"363.45","118 pp.",{"$f":"Table1[[#This Row],['# of Books]]*Table1[[#This Row],[QTY]]","v":0},{"$f":"Table1[[#This Row],[QTY]]*Table1[[#This Row],[School & Library Price]]","v":0}]
[null,21,null,"Current Issues","At Issue","Migrant Workers","978-0-7377-7177-0","Greenhaven Publishing","Library Bound Book",1,2015,null,"Library Bound","6.000 X 9.000","Author","Roman Espejo",null,null,null,null,null,null,"Years 15 - 17",null,"Grade 10 - 12","AT ISSUE: MIGRANT WORKERS looks at the impact of migrant workers on the low-skilled American workers. This volume examines the ethical use of migrant workers and how immigration reform will impact them. ","English",39.4,31.52,"331","121 pp.",{"$f":"Table1[[#This Row],['# of Books]]*Table1[[#This Row],[QTY]]","v":0},{"$f":"Table1[[#This Row],[QTY]]*Table1[[#This Row],[School & Library Price]]","v":0}]
[null,21,null,"Current Issues","At Issue","Migrant Workers","978-0-7377-7178-7","Greenhaven Publishing","Paperback Book",1,2015,null,"Paperback","6.000 X 9.000","Author","Roman Espejo",null,null,null,null,null,null,"Years 15 - 17",null,"Grade 10 - 12","AT ISSUE: MIGRANT WORKERS looks at the impact of migrant workers on the low-skilled American workers. This volume examines the ethical use of migrant workers and how immigration reform will impact them. ","English",27.8,22.240000000000002,"331","121 pp.",{"$f":"Table1[[#This Row],['# of Books]]*Table1[[#This Row],[QTY]]","v":0},{"$f":"Table1[[#This Row],[QTY]]*Table1[[#This Row],[School & Library Price]]","v":0}]
[null,21,null,"Current Issues","At Issue","Migrant Workers","978-0-7377-7643-0","Greenhaven Publishing","eBook",1,2015,null,"eBook",null,"Author","Roman Espejo",null,null,null,null,null,null,"Years 15 - 17",null,"Grade 10 - 12",null,"English",39.4,39.4,"331.5","121 pp.",{"$f":"Table1[[#This Row],['# of Books]]*Table1[[#This Row],[QTY]]","v":0},{"$f":"Table1[[#This Row],[QTY]]*Table1[[#This Row],[School & Library Price]]","v":0}]
[null,21,null,"Current Issues","At Issue","Military Recruiters","978-0-7377-3787-5","Greenhaven Publishing","Library Bound Book",1,2008,null,"Library Bound","6.000 X 9.000","Author","Lauri Harding",null,null,null,null,null,null,"Years 15 - 17",null,"Grade 10 - 12",null,"English",39.4,31.52,"355","120 pp.",{"$f":"Table1[[#This Row],['# of Books]]*Table1[[#This Row],[QTY]]","v":0},{"$f":"Table1[[#This Row],[QTY]]*Table1[[#This Row],[School & Library Price]]","v":0}]
[null,21,null,"Current Issues","At Issue","Military Recruiters","978-0-7377-3788-2","Greenhaven Publishing","Paperback Book",1,2008,null,"Paperback","6.000 X 9.000","Author","Lauri Harding",null,null,null,null,null,null,"Years 15 - 17",null,"Grade 10 - 12",null,"English",27.8,22.240000000000002,"362.292","120 pp.",{"$f":"Table1[[#This Row],['# of Books]]*Table1[[#This Row],[QTY]]","v":0},{"$f":"Table1[[#This Row],[QTY]]*Table1[[#This Row],[School & Library Price]]","v":0}]
[null,21,null,"Current Issues","At Issue","Minorities and the Law","978-0-7377-7179-4","Greenhaven Publishing","Library Bound Book",1,2015,null,"Library Bound","6.000 X 9.000","Author","Noël Merino",null,null,null,null,null,null,"Years 15 - 17",null,"Grade 10 - 12","This volume in the AT ISSUE SERIES examines issues surrounding minorities and the law, including affirmative action, voter ID laws, and racial profiling.","English",39.4,31.52,"323","115 pp.",{"$f":"Table1[[#This Row],['# of Books]]*Table1[[#This Row],[QTY]]","v":0},{"$f":"Table1[[#This Row],[QTY]]*Table1[[#This Row],[School & Library Price]]","v":0}]
[null,21,null,"Current Issues","At Issue","Minorities and the Law","978-0-7377-7180-0","Greenhaven Publishing","Paperback Book",1,2015,null,"Paperback","6.000 X 9.000","Author","Noël Merino",null,null,null,null,null,null,"Years 15 - 17",null,"Grade 10 - 12","This volume in the AT ISSUE SERIES examines issues surrounding minorities and the law, including affirmative action, voter ID laws, and racial profiling.","English",27.8,22.240000000000002,"323","115 pp.",{"$f":"Table1[[#This Row],['# of Books]]*Table1[[#This Row],[QTY]]","v":0},{"$f":"Table1[[#This Row],[QTY]]*Table1[[#This Row],[School & Library Price]]","v":0}]
[null,21,null,"Current Issues","At Issue","Minorities and the Law","978-0-7377-7644-7","Greenhaven Publishing","eBook",1,2015,null,"eBook",null,"Author","Noel Merino",null,null,null,null,null,null,"Years 15 - 17",null,"Grade 10 - 12",null,"English",39.4,39.4,"323.11","115 pp.",{"$f":"Table1[[#This Row],['# of Books]]*Table1[[#This Row],[QTY]]","v":0},{"$f":"Table1[[#This Row],[QTY]]*Table1[[#This Row],[School & Library Price]]","v":0}]
[null,21,null,"Current Issues","At Issue","National Security","978-0-7377-3924-4","Greenhaven Publishing","Library Bound Book",1,2008,null,"Library Bound","6.000 X 9.000","Author","David M. Haugen",null,null,null,null,null,null,"Years 15 - 17",null,"Grade 10 - 12",null,"English",39.4,31.52,"355","128 pp.",{"$f":"Table1[[#This Row],['# of Books]]*Table1[[#This Row],[QTY]]","v":0},{"$f":"Table1[[#This Row],[QTY]]*Table1[[#This Row],[School & Library Price]]","v":0}]
[null,21,null,"Current Issues","At Issue","National Security","978-0-7377-3925-1","Greenhaven Publishing","Paperback Book",1,2008,null,"Paperback","6.000 X 9.000","Author","David M. Haugen",null,null,null,null,null,null,"Years 15 - 17",null,"Grade 10 - 12",null,"English",27.8,22.240000000000002,"355","128 pp.",{"$f":"Table1[[#This Row],['# of Books]]*Table1[[#This Row],[QTY]]","v":0},{"$f":"Table1[[#This Row],[QTY]]*Table1[[#This Row],[School & Library Price]]","v":0}]
[null,21,null,"Current Issues","At Issue","Negative Campaigning","978-0-7377-6846-6","Greenhaven Publishing","Library Bound Book",1,2014,null,"Library Bound","6.000 X 9.000","Author","Margaret Haerens",null,null,null,null,null,null,"Years 15 - 17",null,"Grade 10 - 12","At Issue: Negative Campaigning explores the effectiveness of negative campaign ads, whether or not negative campaigning has value, the effectiveness of fact-checking, and what fuels negative campaigning.  Includes primary and secondary sources from a variety of perspectives -- eyewitnesses, scientific journals, government officials and many others.","English",39.4,31.52,"324","104 pp.",{"$f":"Table1[[#This Row],['# of Books]]*Table1[[#This Row],[QTY]]","v":0},{"$f":"Table1[[#This Row],[QTY]]*Table1[[#This Row],[School & Library Price]]","v":0}]
[null,21,null,"Current Issues","At Issue","Negative Campaigning","978-0-7377-6847-3","Greenhaven Publishing","Paperback Book",1,2014,null,"Paperback","6.000 X 9.000","Author","Margaret Haerens",null,null,null,null,null,null,"Years 15 - 17",null,"Grade 10 - 12","At Issue: Negative Campaigning explores the effectiveness of negative campaign ads, whether or not negative campaigning has value, the effectiveness of fact-checking, and what fuels negative campaigning.  Includes primary and secondary sources from a variety of perspectives -- eyewitnesses, scientific journals, government officials and many others.","English",27.8,22.240000000000002,"324","97 pp.",{"$f":"Table1[[#This Row],['# of Books]]*Table1[[#This Row],[QTY]]","v":0},{"$f":"Table1[[#This Row],[QTY]]*Table1[[#This Row],[School & Library Price]]","v":0}]
[null,21,null,"Current Issues","At Issue","Negative Campaigning","978-0-7377-7646-1","Greenhaven Publishing","eBook",1,2014,null,"eBook",null,"Author","Margaret Haerens",null,null,null,null,null,null,"Years 15 - 17",null,"Grade 10 - 12",null,"English",39.4,39.4,"324.7","104 pp.",{"$f":"Table1[[#This Row],['# of Books]]*Table1[[#This Row],[QTY]]","v":0},{"$f":"Table1[[#This Row],[QTY]]*Table1[[#This Row],[School & Library Price]]","v":0}]
[null,21,null,"Current Issues","At Issue","Nuclear and Toxic Waste","978-0-7377-4681-5","Greenhaven Publishing","Library Bound Book",1,2010,null,"Library Bound","6.000 X 9.000","Author","Stefan Kiesbye",null,null,null,null,null,null,"Years 15 - 17",null,"Grade 10 - 12",null,"English",39.4,31.52,"363","120 pp.",{"$f":"Table1[[#This Row],['# of Books]]*Table1[[#This Row],[QTY]]","v":0},{"$f":"Table1[[#This Row],[QTY]]*Table1[[#This Row],[School & Library Price]]","v":0}]
[null,21,null,"Current Issues","At Issue","Nuclear and Toxic Waste","978-0-7377-4682-2","Greenhaven Publishing","Paperback Book",1,2010,null,"Paperback","6.000 X 9.000","Author","Stefan Kiesbye",null,null,null,null,null,null,"Years 15 - 17",null,"Grade 10 - 12",null,"English",27.8,22.240000000000002,"363","120 pp.",{"$f":"Table1[[#This Row],['# of Books]]*Table1[[#This Row],[QTY]]","v":0},{"$f":"Table1[[#This Row],[QTY]]*Table1[[#This Row],[School & Library Price]]","v":0}]
[null,21,null,"Current Issues","At Issue","Nuclear Weapons","978-0-7377-4307-4","Greenhaven Publishing","Paperback Book",1,2009,null,"Paperback","6.000 X 9.000","Author","Louise I. Gerdes",null,null,null,null,null,null,"Years 15 - 17",null,"Grade 10 - 12",null,"English",27.8,22.240000000000002,"355","120 pp.",{"$f":"Table1[[#This Row],['# of Books]]*Table1[[#This Row],[QTY]]","v":0},{"$f":"Table1[[#This Row],[QTY]]*Table1[[#This Row],[School & Library Price]]","v":0}]
[null,21,null,"Current Issues","At Issue","Organ Transplants","978-0-7377-5586-2","Greenhaven Publishing","Library Bound Book",1,2012,null,"Library Bound","6.000 X 9.000","Author","Diane Andrews Henningfeld",null,null,null,null,null,null,"Years 15 - 17",null,"Grade 10 - 12","This edition in the At Issue series provides readers with a variety of articles discussing the issues surrounding organ transplants. The title explores ethical issues related to organ transplantation, global programs that encourage organ donation, issues related to “transplant tourists” and the illicit transplant organ trade, and how brain and cardiac death impact organ harvesting.","English",39.4,31.52,"174","128 pp.",{"$f":"Table1[[#This Row],['# of Books]]*Table1[[#This Row],[QTY]]","v":0},{"$f":"Table1[[#This Row],[QTY]]*Table1[[#This Row],[School & Library Price]]","v":0}]
[null,21,null,"Current Issues","At Issue","Organ Transplants","978-0-7377-5587-9","Greenhaven Publishing","Paperback Book",1,2012,null,"Paperback","6.000 X 9.000","Author","Diane Andrews Henningfeld",null,null,null,null,null,null,"Years 15 - 17",null,"Grade 10 - 12","This edition in the At Issue series provides readers with a variety of articles discussing the issues surrounding organ transplants. The title explores ethical issues related to organ transplantation, global programs that encourage organ donation, issues related to “transplant tourists” and the illicit transplant organ trade, and how brain and cardiac death impact organ harvesting.","English",27.8,22.240000000000002,"174","122 pp.",{"$f":"Table1[[#This Row],['# of Books]]*Table1[[#This Row],[QTY]]","v":0},{"$f":"Table1[[#This Row],[QTY]]*Table1[[#This Row],[School & Library Price]]","v":0}]
[null,21,null,"Current Issues","At Issue","Organic Food","978-0-7377-7181-7","Greenhaven Publishing","Library Bound Book",1,2015,null,"Library Bound","6.000 X 9.000","Author","Amy Francis",null,null,null,null,null,null,"Years 15 - 17",null,"Grade 10 - 12","This edition in the AT ISSUE SERIES explores the nutritional aspect, cost, and availability of organic food, along with questions about GMOs and the harmfulness of pesticides.","English",39.4,31.52,"641","118 pp.",{"$f":"Table1[[#This Row],['# of Books]]*Table1[[#This Row],[QTY]]","v":0},{"$f":"Table1[[#This Row],[QTY]]*Table1[[#This Row],[School & Library Price]]","v":0}]
[null,21,null,"Current Issues","At Issue","Organic Food","978-0-7377-7182-4","Greenhaven Publishing","Paperback Book",1,2015,null,"Paperback","6.000 X 9.000","Author","Amy Francis",null,null,null,null,null,null,"Years 15 - 17",null,"Grade 10 - 12","This edition in the AT ISSUE SERIES explores the nutritional aspect, cost, and availability of organic food, along with questions about GMOs and the harmfulness of pesticides.","English",27.8,22.240000000000002,"641","118 pp.",{"$f":"Table1[[#This Row],['# of Books]]*Table1[[#This Row],[QTY]]","v":0},{"$f":"Table1[[#This Row],[QTY]]*Table1[[#This Row],[School & Library Price]]","v":0}]
[null,21,null,"Current Issues","At Issue","Organic Food","978-0-7377-7647-8","Greenhaven Publishing","eBook",1,2015,null,"eBook",null,"Author","Amy Francis",null,null,null,null,null,null,"Years 15 - 17",null,"Grade 10 - 12",null,"English",39.4,39.4,"641.3","118 pp.",{"$f":"Table1[[#This Row],['# of Books]]*Table1[[#This Row],[QTY]]","v":0},{"$f":"Table1[[#This Row],[QTY]]*Table1[[#This Row],[School & Library Price]]","v":0}]
[null,21,null,"Current Issues","At Issue","Pandemics","978-0-7377-5588-6","Greenhaven Publishing","Library Bound Book",1,2012,null,"Library Bound","6.000 X 9.000","Author","Jacqueline Langwith",null,null,null,null,null,null,"Years 15 - 17",null,"Grade 10 - 12","This edition in the AT ISSUE series examines issues related to pandemics. Includes primary and secondary sources from a variety of perspectives -- eyewitnesses, scientific journals, government officials and many others.","English",39.4,31.52,"614","104 pp.",{"$f":"Table1[[#This Row],['# of Books]]*Table1[[#This Row],[QTY]]","v":0},{"$f":"Table1[[#This Row],[QTY]]*Table1[[#This Row],[School & Library Price]]","v":0}]
[null,21,null,"Current Issues","At Issue","Pandemics","978-0-7377-5589-3","Greenhaven Publishing","Paperback Book",1,2012,null,"Paperback","6.000 X 9.000","Author","Jacqueline Langwith",null,null,null,null,null,null,"Years 15 - 17",null,"Grade 10 - 12","This edition in the AT ISSUE series examines issues related to pandemics. Includes primary and secondary sources from a variety of perspectives -- eyewitnesses, scientific journals, government officials and many others.","English",27.8,22.240000000000002,"614","103 pp.",{"$f":"Table1[[#This Row],['# of Books]]*Table1[[#This Row],[QTY]]","v":0},{"$f":"Table1[[#This Row],[QTY]]*Table1[[#This Row],[School & Library Price]]","v":0}]
[null,21,null,"Current Issues","At Issue","Performance Enhancing Drugs","978-0-7377-3694-6","Greenhaven Publishing","Paperback Book",1,2008,null,"Paperback","6.000 X 9.000","Author","Louise I. Gerdes",null,null,null,null,null,null,"Years 15 - 17",null,"Grade 10 - 12",null,"English",27.8,22.240000000000002,"362.292","105 pp.",{"$f":"Table1[[#This Row],['# of Books]]*Table1[[#This Row],[QTY]]","v":0},{"$f":"Table1[[#This Row],[QTY]]*Table1[[#This Row],[School & Library Price]]","v":0}]
[null,21,null,"Current Issues","At Issue","Piracy on the High Seas","978-0-7377-6848-0","Greenhaven Publishing","Library Bound Book",1,2014,null,"Library Bound","6.000 X 9.000","Author","Debra A. Miller",null,null,null,null,null,null,"Years 15 - 17",null,"Grade 10 - 12","This title explores the ongoing problem of  modern-day piracy. Rising in prevalence at the turn of the 21st century, pirates attracted commercial ships in Southeast Asia and off the coast of Somalia.","English",39.4,31.52,"364","104 pp.",{"$f":"Table1[[#This Row],['# of Books]]*Table1[[#This Row],[QTY]]","v":0},{"$f":"Table1[[#This Row],[QTY]]*Table1[[#This Row],[School & Library Price]]","v":0}]
[null,21,null,"Current Issues","At Issue","Piracy on the High Seas","978-0-7377-6849-7","Greenhaven Publishing","Paperback Book",1,2014,null,"Paperback","6.000 X 9.000","Author","Debra A. Miller",null,null,null,null,null,null,"Years 15 - 17",null,"Grade 10 - 12","This title explores the ongoing problem of  modern-day piracy. Rising in prevalence at the turn of the 21st century, pirates attracted commercial ships in Southeast Asia and off the coast of Somalia.","English",27.8,22.240000000000002,"364","101 pp.",{"$f":"Table1[[#This Row],['# of Books]]*Table1[[#This Row],[QTY]]","v":0},{"$f":"Table1[[#This Row],[QTY]]*Table1[[#This Row],[School & Library Price]]","v":0}]
[null,21,null,"Current Issues","At Issue","Piracy on the High Seas","978-0-7377-7648-5","Greenhaven Publishing","eBook",1,2014,null,"eBook",null,"Author","Debra A. Miller",null,null,null,null,null,null,"Years 15 - 17",null,"Grade 10 - 12",null,"English",39.4,39.4,"364.16","104 pp.",{"$f":"Table1[[#This Row],['# of Books]]*Table1[[#This Row],[QTY]]","v":0},{"$f":"Table1[[#This Row],[QTY]]*Table1[[#This Row],[School & Library Price]]","v":0}]
[null,21,null,"Current Issues","At Issue","Policing the Internet","978-0-7377-5590-9","Greenhaven Publishing","Library Bound Book",1,2012,null,"Library Bound","6.000 X 9.000","Author","Roman Espejo",null,null,null,null,null,null,"Years 15 - 17",null,"Grade 10 - 12","This edition in the AT ISSUE series examines issues related to the policing of the Internet. The title explores whether or not the Internet requires special policing and/or regulation, the threats posed by cyberterrorism and identity theft, and the role--both positive and negative--of social networks.","English",39.4,31.52,"354","128 pp.",{"$f":"Table1[[#This Row],['# of Books]]*Table1[[#This Row],[QTY]]","v":0},{"$f":"Table1[[#This Row],[QTY]]*Table1[[#This Row],[School & Library Price]]","v":0}]
[null,21,null,"Current Issues","At Issue","Policing the Internet","978-0-7377-5591-6","Greenhaven Publishing","Paperback Book",1,2012,null,"Paperback","6.000 X 9.000","Author","Roman Espejo",null,null,null,null,null,null,"Years 15 - 17",null,"Grade 10 - 12","This edition in the At Issue series examines issues related to the policing of the Internet. The title explores whether or not the Internet requires special policing and/or regulation, the threats posed by cyberterrorism and identity theft, and the role—both positive and negative--of social networks.","English",27.8,22.240000000000002,"354","122 pp.",{"$f":"Table1[[#This Row],['# of Books]]*Table1[[#This Row],[QTY]]","v":0},{"$f":"Table1[[#This Row],[QTY]]*Table1[[#This Row],[School & Library Price]]","v":0}]
[null,21,null,"Current Issues","At Issue","Political Activism","978-0-7377-3880-3","Greenhaven Publishing","Library Bound Book",1,2008,null,"Library Bound","6.000 X 9.000","Author","Tom Lansford",null,null,null,null,null,null,"Years 15 - 17",null,"Grade 10 - 12",null,"English",39.4,31.52,"324","136 pp.",{"$f":"Table1[[#This Row],['# of Books]]*Table1[[#This Row],[QTY]]","v":0},{"$f":"Table1[[#This Row],[QTY]]*Table1[[#This Row],[School & Library Price]]","v":0}]
[null,21,null,"Current Issues","At Issue","Political Activism","978-0-7377-3881-0","Greenhaven Publishing","Paperback Book",1,2008,null,"Paperback","6.000 X 9.000","Author","Tom Lansford",null,null,null,null,null,null,"Years 15 - 17",null,"Grade 10 - 12",null,"English",27.8,22.240000000000002,"324","136 pp.",{"$f":"Table1[[#This Row],['# of Books]]*Table1[[#This Row],[QTY]]","v":0},{"$f":"Table1[[#This Row],[QTY]]*Table1[[#This Row],[School & Library Price]]","v":0}]
[null,21,null,"Current Issues","At Issue","Political Scandals","978-0-7377-3763-9","Greenhaven Publishing","Library Bound Book",1,2008,null,"Library Bound","6.000 X 9.000","Author","Randy Scherer",null,null,null,null,null,null,"Years 15 - 17",null,"Grade 10 - 12",null,"English",39.4,31.52,"305","112 pp.",{"$f":"Table1[[#This Row],['# of Books]]*Table1[[#This Row],[QTY]]","v":0},{"$f":"Table1[[#This Row],[QTY]]*Table1[[#This Row],[School & Library Price]]","v":0}]
[null,21,null,"Current Issues","At Issue","Political Scandals","978-0-7377-3764-6","Greenhaven Publishing","Paperback Book",1,2008,null,"Paperback","6.000 X 9.000","Author","Randy Scherer",null,null,null,null,null,null,"Years 15 - 17",null,"Grade 10 - 12",null,"English",27.8,22.240000000000002,"174","112 pp.",{"$f":"Table1[[#This Row],['# of Books]]*Table1[[#This Row],[QTY]]","v":0},{"$f":"Table1[[#This Row],[QTY]]*Table1[[#This Row],[School & Library Price]]","v":0}]
[null,21,null,"Current Issues","At Issue","Polygamy","978-0-7377-6193-1","Greenhaven Publishing","Library Bound Book",1,2013,null,"Library Bound","6.000 X 9.000","Author","Stefan Kiesbye",null,null,null,null,null,null,"Years 15 - 17",null,"Grade 10 - 12","This title explores whether polygamy is harmful to society, women, children, whether polygamy should be legalized, Mormon polygamous communities, and Muslim views on polygamy.","English",39.4,31.52,"306","96 pp.",{"$f":"Table1[[#This Row],['# of Books]]*Table1[[#This Row],[QTY]]","v":0},{"$f":"Table1[[#This Row],[QTY]]*Table1[[#This Row],[School & Library Price]]","v":0}]
[null,21,null,"Current Issues","At Issue","Polygamy","978-0-7377-6194-8","Greenhaven Publishing","Paperback Book",1,2013,null,"Paperback","6.000 X 9.000","Author","Stefan Kiesbye",null,null,null,null,null,null,"Years 15 - 17",null,"Grade 10 - 12","This title explores whether polygamy is harmful to society, women, children, whether polygamy should be legalized, Mormon polygamous communities, and Muslim views on polygamy.","English",27.8,22.240000000000002,"306","96 pp.",{"$f":"Table1[[#This Row],['# of Books]]*Table1[[#This Row],[QTY]]","v":0},{"$f":"Table1[[#This Row],[QTY]]*Table1[[#This Row],[School & Library Price]]","v":0}]
[null,21,null,"Current Issues","At Issue","Poverty in America","978-0-7377-7183-1","Greenhaven Publishing","Library Bound Book",1,2015,null,"Library Bound","6.000 X 9.000","Author","Tamara Thompson",null,null,null,null,null,null,"Years 15 - 17",null,"Grade 10 - 12","This title in the AT ISSUE SERIES explores issues related to poverty in America. Article topics include whether or not poverty is a growing problem in the United Sates, its causes, and ways to reduce poverty for Americans.","English",39.4,31.52,"362","142 pp.",{"$f":"Table1[[#This Row],['# of Books]]*Table1[[#This Row],[QTY]]","v":0},{"$f":"Table1[[#This Row],[QTY]]*Table1[[#This Row],[School & Library Price]]","v":0}]
[null,21,null,"Current Issues","At Issue","Poverty in America","978-0-7377-7184-8","Greenhaven Publishing","Paperback Book",1,2015,null,"Paperback","6.000 X 9.000","Author","Tamara Thompson",null,null,null,null,null,null,"Years 15 - 17",null,"Grade 10 - 12","This title in the AT ISSUE SERIES explores issues related to poverty in America. Article topics include whether or not poverty is a growing problem in the United Sates, its causes, and ways to reduce poverty for Americans.","English",27.8,22.240000000000002,"362","142 pp.",{"$f":"Table1[[#This Row],['# of Books]]*Table1[[#This Row],[QTY]]","v":0},{"$f":"Table1[[#This Row],[QTY]]*Table1[[#This Row],[School & Library Price]]","v":0}]
[null,21,null,"Current Issues","At Issue","Poverty in America","978-0-7377-7649-2","Greenhaven Publishing","eBook",1,2015,null,"eBook",null,"Author","Tamara Thompson",null,null,null,null,null,null,"Years 15 - 17",null,"Grade 10 - 12",null,"English",39.4,39.4,"362.50973","142 pp.",{"$f":"Table1[[#This Row],['# of Books]]*Table1[[#This Row],[QTY]]","v":0},{"$f":"Table1[[#This Row],[QTY]]*Table1[[#This Row],[School & Library Price]]","v":0}]
[null,21,null,"Current Issues","At Issue","Prescription Drugs","978-0-7377-3471-3","Greenhaven Publishing","Paperback Book",1,2006,null,"Paperback","6.000 X 9.000","Author","Christine Watkins",null,null,null,null,null,null,"Years 15 - 17",null,"Grade 10 - 12","While most Americans believe that prescription drugs play a valuable role in their health, they express concern about prescription drug safety, high costs, and abuse. The authors in At Issue: Prescription Drugs examine these concerns and many other topics of debate regarding the use of pharmaceuticals.","English",27.8,22.240000000000002,"615","108 pp.",{"$f":"Table1[[#This Row],['# of Books]]*Table1[[#This Row],[QTY]]","v":0},{"$f":"Table1[[#This Row],[QTY]]*Table1[[#This Row],[School & Library Price]]","v":0}]
[null,22,null,"Current Issues","At Issue","Private Character in the Public Eye","978-0-7377-2736-4","Greenhaven Publishing","Paperback Book",1,2007,null,"Paperback","6.000 X 9.000","Author","Allen Gaborro",null,null,null,null,null,null,"Years 15 - 17",null,"Grade 10 - 12",null,"English",27.8,22.240000000000002,"323.44","112 pp.",{"$f":"Table1[[#This Row],['# of Books]]*Table1[[#This Row],[QTY]]","v":0},{"$f":"Table1[[#This Row],[QTY]]*Table1[[#This Row],[School & Library Price]]","v":0}]
[null,22,null,"Current Issues","At Issue","Racial Profiling","978-0-7377-5094-2","Greenhaven Publishing","Paperback Book",1,2011,null,"Paperback","6.000 X 9.000","Author","Kathy L. Hahn",null,null,null,null,null,null,"Years 15 - 17",null,"Grade 10 - 12",null,"English",27.8,22.240000000000002,"363","96 pp.",{"$f":"Table1[[#This Row],['# of Books]]*Table1[[#This Row],[QTY]]","v":0},{"$f":"Table1[[#This Row],[QTY]]*Table1[[#This Row],[School & Library Price]]","v":0}]
[null,22,null,"Current Issues","At Issue","Reality TV","978-0-7377-6196-2","Greenhaven Publishing","Paperback Book",1,2013,null,"Paperback","6.000 X 9.000","Author","Thomas Riggs",null,null,null,null,null,null,"Years 15 - 17",null,"Grade 10 - 12","This title explores the place of reality television in society. Topics discussed include the impact of reality TV programming; issues of diversity/gender/stereotypes; and issues specific to children who appear on reality TV.  Includes primary and secondary sources from a variety of perspectives -- eyewitnesses, scientific journals, government officials and many others.","English",27.8,22.240000000000002,"791","106 pp.",{"$f":"Table1[[#This Row],['# of Books]]*Table1[[#This Row],[QTY]]","v":0},{"$f":"Table1[[#This Row],[QTY]]*Table1[[#This Row],[School & Library Price]]","v":0}]
[null,22,null,"Current Issues","At Issue","Rebuilding the World Trade Center Site","978-0-7377-5593-0","Greenhaven Publishing","Paperback Book",1,2012,null,"Paperback","6.000 X 9.000","Author","Margaret Haerens",null,null,null,null,null,null,"Years 15 - 17",null,"Grade 10 - 12","This edition in the AT ISSUE series examines issues related to the rebuilding of the World Trade Center . Each volume includes primary and secondary sources from a variety of perspectives -- eyewitnesses, scientific journals, government officials and many others.","English",27.8,22.240000000000002,"725","115 pp.",{"$f":"Table1[[#This Row],['# of Books]]*Table1[[#This Row],[QTY]]","v":0},{"$f":"Table1[[#This Row],[QTY]]*Table1[[#This Row],[School & Library Price]]","v":0}]
[null,22,null,"Current Issues","At Issue","Road Rage","978-0-7377-6197-9","Greenhaven Publishing","Library Bound Book",1,2014,null,"Library Bound","6.000 X 9.000","Author","Amy Francis",null,null,null,null,null,null,"Years 15 - 17",null,"Grade 10 - 12","With more cars on the road and an increase in distracted driving, road rage is growing in prevalence. This volume examines possible causes, such as left-lane laws, hypermiling, impaired driving, and even mental illness.","English",39.4,31.52,"363","104 pp.",{"$f":"Table1[[#This Row],['# of Books]]*Table1[[#This Row],[QTY]]","v":0},{"$f":"Table1[[#This Row],[QTY]]*Table1[[#This Row],[School & Library Price]]","v":0}]
[null,22,null,"Current Issues","At Issue","Self-Defense Laws","978-0-7377-6854-1","Greenhaven Publishing","Library Bound Book",1,2014,null,"Library Bound","6.000 X 9.000","Author","Tamara Thompson",null,null,null,null,null,null,"Years 15 - 17",null,"Grade 10 - 12","At Issue: Self-Defense Laws examines the legal and natural principals of self-defense, the validity of the Castle-Doctrine Laws, the validity of the Stand-Your-Ground Laws, and other forms of self-defense both lethal and non-lethal.  Includes primary and secondary sources from a variety of perspectives -- eyewitnesses, scientific journals, government officials and many others.","English",39.4,31.52,"345","104 pp.",{"$f":"Table1[[#This Row],['# of Books]]*Table1[[#This Row],[QTY]]","v":0},{"$f":"Table1[[#This Row],[QTY]]*Table1[[#This Row],[School & Library Price]]","v":0}]
[null,22,null,"Current Issues","At Issue","Senior Citizens and Driving","978-0-7377-4054-7","Greenhaven Publishing","Library Bound Book",1,2008,null,"Library Bound","6.000 X 9.000","Author","Tamara Thompson",null,null,null,null,null,null,"Years 15 - 17",null,"Grade 10 - 12",null,"English",39.4,31.52,"363","104 pp.",{"$f":"Table1[[#This Row],['# of Books]]*Table1[[#This Row],[QTY]]","v":0},{"$f":"Table1[[#This Row],[QTY]]*Table1[[#This Row],[School & Library Price]]","v":0}]
[null,22,null,"Current Issues","At Issue","Senior Citizens and Driving","978-0-7377-4055-4","Greenhaven Publishing","Paperback Book",1,2008,null,"Paperback","6.000 X 9.000","Author","Tamara Thompson",null,null,null,null,null,null,"Years 15 - 17",null,"Grade 10 - 12",null,"English",27.8,22.240000000000002,"363","101 pp.",{"$f":"Table1[[#This Row],['# of Books]]*Table1[[#This Row],[QTY]]","v":0},{"$f":"Table1[[#This Row],[QTY]]*Table1[[#This Row],[School & Library Price]]","v":0}]
[null,22,null,"Current Issues","At Issue","Sexual Assault and the Military","978-0-7377-7187-9","Greenhaven Publishing","Library Bound Book",1,2015,null,"Library Bound","6.000 X 9.000","Author","Noah Berlatsky",null,null,null,null,null,null,"Years 15 - 17",null,"Grade 10 - 12","This volume of the AT ISSUE SERIES explores the issue of sexual assault in the military, touching on topics such as if sexual assault in the military is a longstanding problem, or is the epidemic spurred by the inclusion of women in more areas of the military.","English",39.4,31.52,"355","122 pp.",{"$f":"Table1[[#This Row],['# of Books]]*Table1[[#This Row],[QTY]]","v":0},{"$f":"Table1[[#This Row],[QTY]]*Table1[[#This Row],[School & Library Price]]","v":0}]
[null,22,null,"Current Issues","At Issue","Sexual Assault and the Military","978-0-7377-7651-5","Greenhaven Publishing","eBook",1,2015,null,"eBook",null,"Author","Noah Berlatsky",null,null,null,null,null,null,"Years 15 - 17",null,"Grade 10 - 12",null,"English",39.4,39.4,"364.15","122 pp.",{"$f":"Table1[[#This Row],['# of Books]]*Table1[[#This Row],[QTY]]","v":0},{"$f":"Table1[[#This Row],[QTY]]*Table1[[#This Row],[School & Library Price]]","v":0}]
[null,22,null,"Current Issues","At Issue","Should Cameras Be Allowed in Courtrooms?","978-0-7377-3928-2","Greenhaven Publishing","Library Bound Book",1,2008,null,"Library Bound","6.000 X 9.000","Author","Amanda Hiber",null,null,null,null,null,null,"Years 15 - 17",null,"Grade 10 - 12",null,"English",39.4,31.52,"347","112 pp.",{"$f":"Table1[[#This Row],['# of Books]]*Table1[[#This Row],[QTY]]","v":0},{"$f":"Table1[[#This Row],[QTY]]*Table1[[#This Row],[School & Library Price]]","v":0}]
[null,22,null,"Current Issues","At Issue","Should College Athletes Be Paid?","978-0-7377-3790-5","Greenhaven Publishing","Paperback Book",1,2008,null,"Paperback","6.000 X 9.000","Author","Geoff Griffin",null,null,null,null,null,null,"Years 15 - 17",null,"Grade 10 - 12",null,"English",27.8,22.240000000000002,"362.292","99 pp.",{"$f":"Table1[[#This Row],['# of Books]]*Table1[[#This Row],[QTY]]","v":0},{"$f":"Table1[[#This Row],[QTY]]*Table1[[#This Row],[School & Library Price]]","v":0}]
[null,22,null,"Current Issues","At Issue","Should Drilling Be Permitted in the Arctic National Wildlife Refuge?","978-0-7377-6200-6","Greenhaven Publishing","Paperback Book",1,2013,null,"Paperback","6.000 X 9.000","Author","Tamara Thompson",null,null,null,null,null,null,"Years 15 - 17",null,"Grade 10 - 12","This edition in the At Issue series examines issues related to drilling in the Arctic National Wildlife Refuge . Includes primary and secondary sources from a variety of perspectives -- eyewitnesses, scientific journals, government officials and many others.","English",27.8,22.240000000000002,"333","112 pp.",{"$f":"Table1[[#This Row],['# of Books]]*Table1[[#This Row],[QTY]]","v":0},{"$f":"Table1[[#This Row],[QTY]]*Table1[[#This Row],[School & Library Price]]","v":0}]
[null,22,null,"Current Issues","At Issue","Should Junk Food Be Sold in Schools?","978-0-7377-7189-3","Greenhaven Publishing","Library Bound Book",1,2015,null,"Library Bound","6.000 X 9.000","Author","Roman Espejo",null,null,null,null,null,null,"Years 15 - 17",null,"Grade 10 - 12","AT ISSUE: SHOULD JUNK FOOD BE SOLD IN SCHOOL? explores the pros and cons of banning junk food in school as well as the impact junk food has on school funding. The book also investigates how student health is affected by junk food and suggests alternatives.","English",39.4,31.52,"641","112 pp.",{"$f":"Table1[[#This Row],['# of Books]]*Table1[[#This Row],[QTY]]","v":0},{"$f":"Table1[[#This Row],[QTY]]*Table1[[#This Row],[School & Library Price]]","v":0}]
[null,22,null,"Current Issues","At Issue","Should Junk Food Be Sold in Schools?","978-0-7377-7190-9","Greenhaven Publishing","Paperback Book",1,2015,null,"Paperback","6.000 X 9.000","Author","Roman Espejo",null,null,null,null,null,null,"Years 15 - 17",null,"Grade 10 - 12","AT ISSUE: SHOULD JUNK FOOD BE SOLD IN SCHOOL? explores the pros and cons of banning junk food in school as well as the impact junk food has on school funding. The book also investigates how student health is affected by junk food and suggests alternatives.","English",27.8,22.240000000000002,"641","105 pp.",{"$f":"Table1[[#This Row],['# of Books]]*Table1[[#This Row],[QTY]]","v":0},{"$f":"Table1[[#This Row],[QTY]]*Table1[[#This Row],[School & Library Price]]","v":0}]
[null,22,null,"Current Issues","At Issue","Should Juveniles Be Tried As Adults?","978-0-7377-4078-3","Greenhaven Publishing","Paperback Book",1,2008,null,"Paperback","6.000 X 9.000","Author","Christine Watkins",null,null,null,null,null,null,"Years 15 - 17",null,"Grade 10 - 12",null,"English",27.8,22.240000000000002,"345","130 pp.",{"$f":"Table1[[#This Row],['# of Books]]*Table1[[#This Row],[QTY]]","v":0},{"$f":"Table1[[#This Row],[QTY]]*Table1[[#This Row],[School & Library Price]]","v":0}]
[null,22,null,"Current Issues","At Issue","Should Parents Be Allowed to Choose the Gender of Their Children?","978-0-7377-5594-7","Greenhaven Publishing","Library Bound Book",1,2012,null,"Library Bound","6.000 X 9.000","Author","Tamara Thompson",null,null,null,null,null,null,"Years 15 - 17",null,"Grade 10 - 12","This new addition to the At Issue series explores the ethical issues related to sex selection. Selected articles are written from differing viewpoints and cover a variety of topics, including the potential for gender discrimination, the dangers posed by trait-based eugenics, reported occurrences of “gendercide” in China and India, and issues related to sex selective abortion.","English",39.4,31.52,"174","96 pp.",{"$f":"Table1[[#This Row],['# of Books]]*Table1[[#This Row],[QTY]]","v":0},{"$f":"Table1[[#This Row],[QTY]]*Table1[[#This Row],[School & Library Price]]","v":0}]
[null,22,null,"Current Issues","At Issue","Should Religious Symbols Be Allowed on Public Land?","978-0-7377-5168-0","Greenhaven Publishing","Paperback Book",1,2011,null,"Paperback","6.000 X 9.000","Author","Louise I. Gerdes",null,null,null,null,null,null,"Years 15 - 17",null,"Grade 10 - 12",null,"English",27.8,22.240000000000002,"261","128 pp.",{"$f":"Table1[[#This Row],['# of Books]]*Table1[[#This Row],[QTY]]","v":0},{"$f":"Table1[[#This Row],[QTY]]*Table1[[#This Row],[School & Library Price]]","v":0}]
[null,22,null,"Current Issues","At Issue","Should the Federal Government Bail Out Private Industry?","978-0-7377-4656-3","Greenhaven Publishing","Library Bound Book",1,2010,null,"Library Bound","6.000 X 9.000","Author","David Haugen",null,null,null,null,null,null,"Years 15 - 17",null,"Grade 10 - 12",null,"English",39.4,31.52,"330","120 pp.",{"$f":"Table1[[#This Row],['# of Books]]*Table1[[#This Row],[QTY]]","v":0},{"$f":"Table1[[#This Row],[QTY]]*Table1[[#This Row],[School & Library Price]]","v":0}]
[null,22,null,"Current Issues","At Issue","Should the Federal Income Tax Be Eliminated?","978-0-7377-6202-0","Greenhaven Publishing","Paperback Book",1,2014,null,"Paperback","6.000 X 9.000","Author","David Haugen",null,null,null,null,null,null,"Years 15 - 17",null,"Grade 10 - 12","Title explores issues related to eliminating the federal income tax including, the adoption of a flat tax; the adoption of a tax based on consumption; and corporate income taxes.  Includes primary and secondary sources from a variety of perspectives -- eyewitnesses, scientific journals, government officials and many others.","English",27.8,22.240000000000002,"336","89 pp.",{"$f":"Table1[[#This Row],['# of Books]]*Table1[[#This Row],[QTY]]","v":0},{"$f":"Table1[[#This Row],[QTY]]*Table1[[#This Row],[School & Library Price]]","v":0}]
[null,22,null,"Current Issues","At Issue","Should the Government Regulate What People Eat?","978-0-7377-6856-5","Greenhaven Publishing","Library Bound Book",1,2014,null,"Library Bound","6.000 X 9.000","Author","Ronald D. Lankford",null,null,null,null,null,null,"Years 15 - 17",null,"Grade 10 - 12","This title examines the issue of government regulation of food consumption in terms of combating obesity and controlling consumption of sugar, sodium, and fat, and how these relate to soda bans, school lunches, and labeling of food content.  Includes primary and secondary sources from a variety of perspectives -- eyewitnesses, scientific journals, government officials and many others.","English",39.4,31.52,"353","104 pp.",{"$f":"Table1[[#This Row],['# of Books]]*Table1[[#This Row],[QTY]]","v":0},{"$f":"Table1[[#This Row],[QTY]]*Table1[[#This Row],[School & Library Price]]","v":0}]
[null,22,null,"Current Issues","At Issue","Should the Government Regulate What People Eat?","978-0-7377-6857-2","Greenhaven Publishing","Paperback Book",1,2014,null,"Paperback","6.000 X 9.000","Author","Ronald D. Lankford",null,null,null,null,null,null,"Years 15 - 17",null,"Grade 10 - 12","This title examines the issue of government regulation of food consumption in terms of combating obesity and controlling consumption of sugar, sodium, and fat, and how these relate to soda bans, school lunches, and labeling of food content.  Includes primary and secondary sources from a variety of perspectives -- eyewitnesses, scientific journals, government officials and many others.","English",27.8,22.240000000000002,"353","99 pp.",{"$f":"Table1[[#This Row],['# of Books]]*Table1[[#This Row],[QTY]]","v":0},{"$f":"Table1[[#This Row],[QTY]]*Table1[[#This Row],[School & Library Price]]","v":0}]
[null,22,null,"Current Issues","At Issue","Should the Internet Be Free?","978-0-7377-4688-4","Greenhaven Publishing","Paperback Book",1,2010,null,"Paperback","6.000 X 9.000","Author","Roman Espejo",null,null,null,null,null,null,"Years 15 - 17",null,"Grade 10 - 12",null,"English",27.8,22.240000000000002,"025","128 pp.",{"$f":"Table1[[#This Row],['# of Books]]*Table1[[#This Row],[QTY]]","v":0},{"$f":"Table1[[#This Row],[QTY]]*Table1[[#This Row],[School & Library Price]]","v":0}]
[null,23,null,"Current Issues","At Issue","Should the Rich Pay Higher Taxes?","978-0-7377-6858-9","Greenhaven Publishing","Library Bound Book",1,2014,null,"Library Bound","6.000 X 9.000","Author","Ronald D. Lankford",null,null,null,null,null,null,"Years 15 - 17",null,"Grade 10 - 12","Americans are conflicted on the issue of whether the government should raise the taxes of the wealthiest Americans. This volume explores the debate and examines the issue from a variety of angles including tax loopholes, the federal deficit, and taxation.  Includes primary and secondary sources from a variety of perspectives -- eyewitnesses, scientific journals, government officials and many others.","English",39.4,31.52,"336","112 pp.",{"$f":"Table1[[#This Row],['# of Books]]*Table1[[#This Row],[QTY]]","v":0},{"$f":"Table1[[#This Row],[QTY]]*Table1[[#This Row],[School & Library Price]]","v":0}]
[null,23,null,"Current Issues","At Issue","Should the U.S. Reduce Its Consumption?","978-0-7377-4894-9","Greenhaven Publishing","Library Bound Book",1,2011,null,"Library Bound","6.000 X 9.000","Author","David Haugen",null,null,null,null,null,null,"Years 15 - 17",null,"Grade 10 - 12",null,"English",39.4,31.52,"339","120 pp.",{"$f":"Table1[[#This Row],['# of Books]]*Table1[[#This Row],[QTY]]","v":0},{"$f":"Table1[[#This Row],[QTY]]*Table1[[#This Row],[School & Library Price]]","v":0}]
[null,23,null,"Current Issues","At Issue","Should the United States Move to Electronic Voting?","978-0-7377-3883-4","Greenhaven Publishing","Paperback Book",1,2008,null,"Paperback","6.000 X 9.000","Author","Diane Andrews Henningfeld",null,null,null,null,null,null,"Years 15 - 17",null,"Grade 10 - 12",null,"English",27.8,22.240000000000002,"324","111 pp.",{"$f":"Table1[[#This Row],['# of Books]]*Table1[[#This Row],[QTY]]","v":0},{"$f":"Table1[[#This Row],[QTY]]*Table1[[#This Row],[School & Library Price]]","v":0}]
[null,23,null,"Current Issues","At Issue","Should the U.S. Close Its Borders?","978-1-5345-0252-9","Greenhaven Publishing","eBook",1,2014,null,"eBook",null,"Author","Louise I. Gerdes",null,null,null,null,null,null,"Years 15 - 17",null,"Grade 10 - 12","This title explores provides a wide range of opinions on whether or not the United States should close its Mexican and Canadian borders to immigrants. The impact and efficacy of increased border patrol and enforcement are debated.  Includes primary and secondary sources from a variety of perspectives -- eyewitnesses, scientific journals, government officials and many others.","English",39.4,31.52,"325","152 pp.",{"$f":"Table1[[#This Row],['# of Books]]*Table1[[#This Row],[QTY]]","v":0},{"$f":"Table1[[#This Row],[QTY]]*Table1[[#This Row],[School & Library Price]]","v":0}]
[null,23,null,"Current Issues","At Issue","Should There Be an International Climate Treaty?","978-0-7377-5169-7","Greenhaven Publishing","Library Bound Book",1,2011,null,"Library Bound","6.000 X 9.000","Author","Susan Hunnicutt",null,null,null,null,null,null,"Years 15 - 17",null,"Grade 10 - 12",null,"English",39.4,31.52,"363","112 pp.",{"$f":"Table1[[#This Row],['# of Books]]*Table1[[#This Row],[QTY]]","v":0},{"$f":"Table1[[#This Row],[QTY]]*Table1[[#This Row],[School & Library Price]]","v":0}]
[null,23,null,"Current Issues","At Issue","Should Vaccinations Be Mandatory?","978-0-7377-7653-9","Greenhaven Publishing","eBook",1,2014,null,"eBook",null,"Author","Roman Espejo",null,null,null,null,null,null,"Years 15 - 17",null,"Grade 10 - 12",null,"English",39.4,39.4,"614.4","128 pp.",{"$f":"Table1[[#This Row],['# of Books]]*Table1[[#This Row],[QTY]]","v":0},{"$f":"Table1[[#This Row],[QTY]]*Table1[[#This Row],[School & Library Price]]","v":0}]
[null,23,null,"Current Issues","At Issue","Should Women Be Allowed to Serve in Combat in the U.S. Armed Forces?","978-0-7377-3939-8","Greenhaven Publishing","Paperback Book",1,2008,null,"Paperback","6.000 X 9.000","Author","Diane Andrews Henningfeld",null,null,null,null,null,null,"Years 15 - 17",null,"Grade 10 - 12",null,"English",27.8,22.240000000000002,"355","116 pp.",{"$f":"Table1[[#This Row],['# of Books]]*Table1[[#This Row],[QTY]]","v":0},{"$f":"Table1[[#This Row],[QTY]]*Table1[[#This Row],[School & Library Price]]","v":0}]
[null,23,null,"Current Issues","At Issue","Solar Storms","978-0-7377-6206-8","Greenhaven Publishing","Paperback Book",1,2013,null,"Paperback","6.000 X 9.000","Author","Tamara Thompson",null,null,null,null,null,null,"Years 15 - 17",null,"Grade 10 - 12","When solar storms take place, charged particles are sent hurtling through space, and if they collide with Earth, large-scale geomagnetic storms can result. This title presents a range of views about the extent and type of damage that could result from solar storms. Some scientists and commentators assert that solar storms could wreak socioeconomic havoc on a global scale, cause nuclear meltdowns, affect global warming, and alter human health. Others suggest that the dire warnings are overstated. Proposed warning systems and other protective measures are also addressed.","English",27.8,22.240000000000002,"629","101 pp.",{"$f":"Table1[[#This Row],['# of Books]]*Table1[[#This Row],[QTY]]","v":0},{"$f":"Table1[[#This Row],[QTY]]*Table1[[#This Row],[School & Library Price]]","v":0}]
[null,23,null,"Current Issues","At Issue","Space Exploration","978-0-7377-5596-1","Greenhaven Publishing","Library Bound Book",1,2011,null,"Library Bound","6.000 X 9.000","Author","David Haugen",null,null,null,null,null,null,"Years 15 - 17",null,"Grade 10 - 12","This edition in the AT ISSUE series examines issues related to space exploration. Includes primary and secondary sources from a variety of perspectives -- eyewitnesses, scientific journals, government officials and many others.","English",39.4,31.52,"333","120 pp.",{"$f":"Table1[[#This Row],['# of Books]]*Table1[[#This Row],[QTY]]","v":0},{"$f":"Table1[[#This Row],[QTY]]*Table1[[#This Row],[School & Library Price]]","v":0}]
[null,23,null,"Current Issues","At Issue","Steroids","978-0-7377-2182-9","Greenhaven Publishing","Library Bound Book",1,2006,null,"Library Bound","6.000 X 9.000","Author","Laura K. Egendorf",null,null,null,null,null,null,"Years 15 - 17",null,"Grade 10 - 12","Performance-enhancing drugs have cast a cloud over many of the world's most popular sports, from baseball to swimming to track and field. The contributors to this anthology examine why some athletes use drugs and how sports and society can respond to the problem.","English",39.4,31.52,"362.29","96 pp.",{"$f":"Table1[[#This Row],['# of Books]]*Table1[[#This Row],[QTY]]","v":0},{"$f":"Table1[[#This Row],[QTY]]*Table1[[#This Row],[School & Library Price]]","v":0}]
[null,23,null,"Current Issues","At Issue","Student Loans","978-0-7377-7411-5","Greenhaven Publishing","Paperback Book",1,2016,null,"Paperback","6.000 X 9.000","Author","Noël Merino",null,null,null,null,null,null,"Years 15 - 17",null,"Grade 10 - 12","This title in the At Issue series investigates student loans--how increasing loan debt has gotten out of hand and what students should do about it. Government and private loans, repayment solutions, and the economic impact of the student loan bubble are discussed.","English",27.8,22.240000000000002,"371","82 pp.",{"$f":"Table1[[#This Row],['# of Books]]*Table1[[#This Row],[QTY]]","v":0},{"$f":"Table1[[#This Row],[QTY]]*Table1[[#This Row],[School & Library Price]]","v":0}]
[null,23,null,"Current Issues","At Issue","Super PACs","978-0-7377-6865-7","Greenhaven Publishing","Paperback Book",1,2014,null,"Paperback","6.000 X 9.000","Author","Louise Gerdes",null,null,null,null,null,null,"Years 15 - 17",null,"Grade 10 - 12",null,"English",27.8,22.240000000000002,"328","111 pp.",{"$f":"Table1[[#This Row],['# of Books]]*Table1[[#This Row],[QTY]]","v":0},{"$f":"Table1[[#This Row],[QTY]]*Table1[[#This Row],[School & Library Price]]","v":0}]
[null,23,null,"Current Issues","At Issue","Superbugs","978-0-7377-7656-0","Greenhaven Publishing","eBook",1,2016,null,"eBook",null,"Author","Tamara Thompson",null,null,null,null,null,null,"Years 15 - 17",null,"Grade 10 - 12",null,"English",39.4,39.4,"616.9","127 pp.",{"$f":"Table1[[#This Row],['# of Books]]*Table1[[#This Row],[QTY]]","v":0},{"$f":"Table1[[#This Row],[QTY]]*Table1[[#This Row],[School & Library Price]]","v":0}]
[null,23,null,"Current Issues","At Issue","Superfoods","978-0-7377-7413-9","Greenhaven Publishing","Paperback Book",1,2016,null,"Paperback","6.000 X 9.000","Author","Roman Espejo",null,null,null,null,null,null,"Years 15 - 17",null,"Grade 10 - 12","This title explores the health benefits of superfoods. It also examines various superfoods like kale and quinoa. It discusses the impact that superfoods may have on the environment. It examines juicing and health.","English",27.8,22.240000000000002,"613","104 pp.",{"$f":"Table1[[#This Row],['# of Books]]*Table1[[#This Row],[QTY]]","v":0},{"$f":"Table1[[#This Row],[QTY]]*Table1[[#This Row],[School & Library Price]]","v":0}]
[null,23,null,"Current Issues","At Issue","Superfoods","978-0-7377-7657-7","Greenhaven Publishing","eBook",1,2016,null,"eBook",null,"Author","Roman Espejo",null,null,null,null,null,null,"Years 15 - 17",null,"Grade 10 - 12",null,"English",39.4,39.4,"613.2","104 pp.",{"$f":"Table1[[#This Row],['# of Books]]*Table1[[#This Row],[QTY]]","v":0},{"$f":"Table1[[#This Row],[QTY]]*Table1[[#This Row],[School & Library Price]]","v":0}]
[null,23,null,"Current Issues","At Issue","Teen Driving","978-0-7377-6418-5","Greenhaven Publishing","Library Bound Book",1,2013,null,"Library Bound","6.000 X 9.000","Author","Michele Siuda Jacques",null,null,null,null,null,null,"Years 15 - 17",null,"Grade 10 - 12","This title explores the pros and cons of graduated driver licensing, the influence of peers on teen driving, and cell phones and teen driving.","English",39.4,31.52,"363","88 pp.",{"$f":"Table1[[#This Row],['# of Books]]*Table1[[#This Row],[QTY]]","v":0},{"$f":"Table1[[#This Row],[QTY]]*Table1[[#This Row],[School & Library Price]]","v":0}]
[null,23,null,"Current Issues","At Issue","Teen Residential Treatment Programs","978-0-7377-6150-4","Greenhaven Publishing","Paperback Book",1,2013,null,"Paperback","6.000 X 9.000","Author","Judeen Bartos",null,null,null,null,null,null,"Years 15 - 17",null,"Grade 10 - 12","This edition in the At Issue series examines issues related to teen residential treatment programs. Includes primary and secondary sources from a variety of perspectives -- eyewitnesses, scientific journals, government officials and many others.","English",27.8,22.240000000000002,"364","98 pp.",{"$f":"Table1[[#This Row],['# of Books]]*Table1[[#This Row],[QTY]]","v":0},{"$f":"Table1[[#This Row],[QTY]]*Table1[[#This Row],[School & Library Price]]","v":0}]
[null,23,null,"Current Issues","At Issue","Teen Smoking","978-0-7377-6867-1","Greenhaven Publishing","Paperback Book",1,2014,null,"Paperback","6.000 X 9.000","Author","Roman Espejo",null,null,null,null,null,null,"Years 15 - 17",null,"Grade 10 - 12","This volume presents the latest findings in the ongoing smoking debate. Questions such as is smoking on the decline among teens, should the legal smoking age be raised, and are antismoking campaigns effective are discussed. ","English",27.8,22.240000000000002,"362","103 pp.",{"$f":"Table1[[#This Row],['# of Books]]*Table1[[#This Row],[QTY]]","v":0},{"$f":"Table1[[#This Row],[QTY]]*Table1[[#This Row],[School & Library Price]]","v":0}]
[null,23,null,"Current Issues","At Issue","Teens and Credit","978-0-7377-4443-9","Greenhaven Publishing","Paperback Book",1,2010,null,"Paperback","6.000 X 9.000","Author","Roman Espejo",null,null,null,null,null,null,"Years 15 - 17",null,"Grade 10 - 12",null,"English",27.8,22.240000000000002,"332","88 pp.",{"$f":"Table1[[#This Row],['# of Books]]*Table1[[#This Row],[QTY]]","v":0},{"$f":"Table1[[#This Row],[QTY]]*Table1[[#This Row],[School & Library Price]]","v":0}]
[null,23,null,"Current Issues","At Issue","The Affordable Care Act","978-0-7377-7619-5","Greenhaven Publishing","eBook",1,2015,null,"eBook",null,"Author","Tamara Thompson",null,null,null,null,null,null,"Years 15 - 17",null,"Grade 10 - 12",null,"English",39.4,39.4,"346.73","128 pp.",{"$f":"Table1[[#This Row],['# of Books]]*Table1[[#This Row],[QTY]]","v":0},{"$f":"Table1[[#This Row],[QTY]]*Table1[[#This Row],[School & Library Price]]","v":0}]
[null,23,null,"Current Issues","At Issue","The American Housing Crisis","978-0-7377-6819-0","Greenhaven Publishing","Paperback Book",1,2014,null,"Paperback","6.000 X 9.000","Author","Louise I. Gerdes",null,null,null,null,null,null,"Years 15 - 17",null,"Grade 10 - 12","This title explores the seriousness of the American housing crisis, the impacts, causes and solutions, including: the threat to families and neighborhoods, homeownership as a wealth-building strategy, lending reform, and mortgage interest deduction.  Includes primary and secondary sources from a variety of perspectives -- eyewitnesses, scientific journals, government officials and many others.","English",27.8,22.240000000000002,"332","100 pp.",{"$f":"Table1[[#This Row],['# of Books]]*Table1[[#This Row],[QTY]]","v":0},{"$f":"Table1[[#This Row],[QTY]]*Table1[[#This Row],[School & Library Price]]","v":0}]
[null,23,null,"Current Issues","At Issue","The Children of Undocumented Immigrants","978-0-7377-6159-7","Greenhaven Publishing","Library Bound Book",1,2013,null,"Library Bound","6.000 X 9.000","Author","David Haugen",null,null,null,null,null,null,"Years 15 - 17",null,"Grade 10 - 12","Explores the controversies related to the children of undocumented immigrants. Addresses topics including the DREAM Act, educational opportunities and allowing in-state tuition, citizenship for these children, and issues surrounding deportation. Includes primary and secondary sources from a variety of perspectives - eyewitnesses, scientific journals, government officials and many others.","English",39.4,31.52,"305","104 pp.",{"$f":"Table1[[#This Row],['# of Books]]*Table1[[#This Row],[QTY]]","v":0},{"$f":"Table1[[#This Row],[QTY]]*Table1[[#This Row],[School & Library Price]]","v":0}]
[null,23,null,"Current Issues","At Issue","The Children of Undocumented Immigrants","978-0-7377-6160-3","Greenhaven Publishing","Paperback Book",1,2013,null,"Paperback","6.000 X 9.000","Author","David Haugen",null,null,null,null,null,null,"Years 15 - 17",null,"Grade 10 - 12","Explores the controversies related to the children of undocumented immigrants. Addresses topics including the DREAM Act, educational opportunities and allowing in-state tuition, citizenship for these children, and issues surrounding deportation.","English",27.8,22.240000000000002,"305","98 pp.",{"$f":"Table1[[#This Row],['# of Books]]*Table1[[#This Row],[QTY]]","v":0},{"$f":"Table1[[#This Row],[QTY]]*Table1[[#This Row],[School & Library Price]]","v":0}]
[null,23,null,"Current Issues","At Issue","The CIA","978-0-7377-3678-6","Greenhaven Publishing","Paperback Book",1,2008,null,"Paperback","6.000 X 9.000","Author","Julia Bauder",null,null,null,null,null,null,"Years 15 - 17",null,"Grade 10 - 12",null,"English",27.8,22.240000000000002,"362.292","144 pp.",{"$f":"Table1[[#This Row],['# of Books]]*Table1[[#This Row],[QTY]]","v":0},{"$f":"Table1[[#This Row],[QTY]]*Table1[[#This Row],[School & Library Price]]","v":0}]
[null,23,null,"Current Issues","At Issue","The Ethics of Capital Punishment","978-0-7377-5172-7","Greenhaven Publishing","Paperback Book",1,2011,null,"Paperback","6.000 X 9.000","Author","Christine Watkins",null,null,null,null,null,null,"Years 15 - 17",null,"Grade 10 - 12",null,"English",27.8,22.240000000000002,"179","127 pp.",{"$f":"Table1[[#This Row],['# of Books]]*Table1[[#This Row],[QTY]]","v":0},{"$f":"Table1[[#This Row],[QTY]]*Table1[[#This Row],[School & Library Price]]","v":0}]
[null,23,null,"Current Issues","At Issue","The Federal Budget Deficit","978-0-7377-4685-3","Greenhaven Publishing","Library Bound Book",1,2010,null,"Library Bound","6.000 X 9.000","Author","Susan Hunnicutt",null,null,null,null,null,null,"Years 15 - 17",null,"Grade 10 - 12",null,"English",39.4,31.52,"336","104 pp.",{"$f":"Table1[[#This Row],['# of Books]]*Table1[[#This Row],[QTY]]","v":0},{"$f":"Table1[[#This Row],[QTY]]*Table1[[#This Row],[School & Library Price]]","v":0}]
[null,23,null,"Current Issues","At Issue","The H1N1 Flu","978-0-7377-5089-8","Greenhaven Publishing","Library Bound Book",1,2010,null,"Library Bound","6.000 X 9.000","Author","Noah Berlatsky",null,null,null,null,null,null,"Years 15 - 17",null,"Grade 10 - 12",null,"English",39.4,31.52,"616","112 pp.",{"$f":"Table1[[#This Row],['# of Books]]*Table1[[#This Row],[QTY]]","v":0},{"$f":"Table1[[#This Row],[QTY]]*Table1[[#This Row],[School & Library Price]]","v":0}]
[null,23,null,"Current Issues","At Issue","The Occupy Movement","978-0-7377-6486-4","Greenhaven Publishing","Library Bound Book",1,2013,null,"Library Bound","6.000 X 9.000","Author","Stefan Kiesbye",null,null,null,null,null,null,"Years 15 - 17",null,"Grade 10 - 12","This title explores the origins of the Occupy Movement, the goals of the Occupy Movement, and how and whether the movement can succeed.","English",39.4,31.52,"339.20973","128 pp.",{"$f":"Table1[[#This Row],['# of Books]]*Table1[[#This Row],[QTY]]","v":0},{"$f":"Table1[[#This Row],[QTY]]*Table1[[#This Row],[School & Library Price]]","v":0}]
[null,23,null,"Current Issues","At Issue","The Occupy Movement","978-0-7377-6487-1","Greenhaven Publishing","Paperback Book",1,2013,null,"Paperback","6.000 X 9.000","Author","Stefan Kiesbye",null,null,null,null,null,null,"Years 15 - 17",null,"Grade 10 - 12","This title explores the origins of the Occupy Movement, the goals of the Occupy Movement, and how and whether the movement can succeed.","English",27.8,22.240000000000002,"339.20973","128 pp.",{"$f":"Table1[[#This Row],['# of Books]]*Table1[[#This Row],[QTY]]","v":0},{"$f":"Table1[[#This Row],[QTY]]*Table1[[#This Row],[School & Library Price]]","v":0}]
[null,24,null,"Current Issues","At Issue","The Right to Die","978-0-7377-6850-3","Greenhaven Publishing","Library Bound Book",1,2014,null,"Library Bound","6.000 X 9.000","Author","Tamara Thompson",null,null,null,null,null,null,"Years 15 - 17",null,"Grade 10 - 12","This title addresses the issue of the right to die. The ethics of  physician-assisted suicide and the Death with Dignity movement are discussed, along with further implications of  these issues, such as legal euthanasia and suicide assistance.","English",39.4,31.52,"179","104 pp.",{"$f":"Table1[[#This Row],['# of Books]]*Table1[[#This Row],[QTY]]","v":0},{"$f":"Table1[[#This Row],[QTY]]*Table1[[#This Row],[School & Library Price]]","v":0}]
[null,24,null,"Current Issues","At Issue","The Right to Die","978-0-7377-6851-0","Greenhaven Publishing","Paperback Book",1,2014,null,"Paperback","6.000 X 9.000","Author","Tamara Thompson",null,null,null,null,null,null,"Years 15 - 17",null,"Grade 10 - 12","This title addresses the issue of the right to die. The ethics of  physician-assisted suicide and the Death with Dignity movement are discussed, along with further implications of  these issues, such as legal euthanasia and suicide assistance.","English",27.8,22.240000000000002,"179","103 pp.",{"$f":"Table1[[#This Row],['# of Books]]*Table1[[#This Row],[QTY]]","v":0},{"$f":"Table1[[#This Row],[QTY]]*Table1[[#This Row],[School & Library Price]]","v":0}]
[null,24,null,"Current Issues","At Issue","The United Nations","978-0-7377-3696-0","Greenhaven Publishing","Paperback Book",1,2007,null,"Paperback","6.000 X 9.000","Author","Susan C. Hunnicutt",null,null,null,null,null,null,"Years 15 - 17",null,"Grade 10 - 12",null,"English",27.8,22.240000000000002,"362.292","112 pp.",{"$f":"Table1[[#This Row],['# of Books]]*Table1[[#This Row],[QTY]]","v":0},{"$f":"Table1[[#This Row],[QTY]]*Table1[[#This Row],[School & Library Price]]","v":0}]
[null,24,null,"Current Issues","At Issue","The U.S. Energy Grid","978-0-7377-5603-6","Greenhaven Publishing","Paperback Book",1,2012,null,"Paperback","6.000 X 9.000","Author","David Haugen",null,null,null,null,null,null,"Years 15 - 17",null,"Grade 10 - 12","This edition in the At Issues series provides readers with a variety of articles examining issues related to the U.S. energy grid. The title explores the impact of a U.S. smart energy grid, the relationship between new energy transmission lines and renewable energy, the presence of smart grid security concerns, the feasibility of a remote energy management system, and the potential benefits of \"living off the grid.\"","English",27.8,22.240000000000002,"333","115 pp.",{"$f":"Table1[[#This Row],['# of Books]]*Table1[[#This Row],[QTY]]","v":0},{"$f":"Table1[[#This Row],[QTY]]*Table1[[#This Row],[School & Library Price]]","v":0}]
[null,24,null,"Current Issues","At Issue","The Wealth Divide","978-0-7377-7197-8","Greenhaven Publishing","Library Bound Book",1,2015,null,"Library Bound","6.000 X 9.000","Author","Noël Merino",null,null,null,null,null,null,"Years 15 - 17",null,"Grade 10 - 12","AT ISSUE: THE WEALTH DIVIDE explores the wealth divide between the rich and the poor. It examines the causes of income inequity, and whether it is fair and needs to be reduced.","English",39.4,31.52,"339","104 pp.",{"$f":"Table1[[#This Row],['# of Books]]*Table1[[#This Row],[QTY]]","v":0},{"$f":"Table1[[#This Row],[QTY]]*Table1[[#This Row],[School & Library Price]]","v":0}]
[null,24,null,"Current Issues","At Issue","The Wealth Divide","978-0-7377-7660-7","Greenhaven Publishing","eBook",1,2015,null,"eBook",null,"Author","Noel Merino",null,null,null,null,null,null,"Years 15 - 17",null,"Grade 10 - 12",null,"English",39.4,39.4,"339.2","104 pp.",{"$f":"Table1[[#This Row],['# of Books]]*Table1[[#This Row],[QTY]]","v":0},{"$f":"Table1[[#This Row],[QTY]]*Table1[[#This Row],[School & Library Price]]","v":0}]
[null,24,null,"Current Issues","At Issue","Transgender People","978-0-7377-7661-4","Greenhaven Publishing","eBook",1,2015,null,"eBook",null,"Author","Tamara Thompson",null,null,null,null,null,null,"Years 15 - 17",null,"Grade 10 - 12",null,"English",39.4,39.4,"306.76","152 pp.",{"$f":"Table1[[#This Row],['# of Books]]*Table1[[#This Row],[QTY]]","v":0},{"$f":"Table1[[#This Row],[QTY]]*Table1[[#This Row],[School & Library Price]]","v":0}]
[null,24,null,"Current Issues","At Issue","Uranium Mining","978-0-7377-4898-7","Greenhaven Publishing","Library Bound Book",1,2010,null,"Library Bound","6.000 X 9.000","Author","Tamara Thompson",null,null,null,null,null,null,"Years 15 - 17",null,"Grade 10 - 12",null,"English",39.4,31.52,"622","112 pp.",{"$f":"Table1[[#This Row],['# of Books]]*Table1[[#This Row],[QTY]]","v":0},{"$f":"Table1[[#This Row],[QTY]]*Table1[[#This Row],[School & Library Price]]","v":0}]
[null,24,null,"Current Issues","At Issue","Urban Farming","978-0-7377-6868-8","Greenhaven Publishing","Library Bound Book",1,2014,null,"Library Bound","6.000 X 9.000","Author","Tamara Thompson",null,null,null,null,null,null,"Years 15 - 17",null,"Grade 10 - 12","This new edition in the AT ISSUE series includes a variety of articles on urban agriculture. Articles included in this text discuss urban agriculture as a viable solution to food insecurities; the economic sustainability of urban agriculture; the impact of urban agriculture on specific groups, such as women in developing countries; and the future of urban farming.  Includes primary and secondary sources from a variety of perspectives -- eyewitnesses, scientific journals, government officials and many others.","English",39.4,31.52,"630","120 pp.",{"$f":"Table1[[#This Row],['# of Books]]*Table1[[#This Row],[QTY]]","v":0},{"$f":"Table1[[#This Row],[QTY]]*Table1[[#This Row],[School & Library Price]]","v":0}]
[null,24,null,"Current Issues","At Issue","Urban Farming","978-0-7377-6869-5","Greenhaven Publishing","Paperback Book",1,2014,null,"Paperback","6.000 X 9.000","Author","Tamara Thompson",null,null,null,null,null,null,"Years 15 - 17",null,"Grade 10 - 12","This new edition in the AT ISSUE series includes a variety of articles on urban agriculture. Articles included in this text discuss urban agriculture as a viable solution to food insecurities; the economic sustainability of urban agriculture; the impact of urban agriculture on specific groups, such as women in developing countries; and the future of urban farming.  Includes primary and secondary sources from a variety of perspectives -- eyewitnesses, scientific journals, government officials and many others.","English",27.8,22.240000000000002,"630","120 pp.",{"$f":"Table1[[#This Row],['# of Books]]*Table1[[#This Row],[QTY]]","v":0},{"$f":"Table1[[#This Row],[QTY]]*Table1[[#This Row],[School & Library Price]]","v":0}]
[null,24,null,"Current Issues","At Issue","U.S. Military Deployment","978-0-7377-5411-7","Greenhaven Publishing","Paperback Book",1,2010,null,"Paperback","6.000 X 9.000","Author","Noël Merino",null,null,null,null,null,null,"Years 15 - 17",null,"Grade 10 - 12","The At Issue series includes a wide range of opinion on a single controversial subject. Each volume includes primary and secondary sources from a variety of perspectives -- eyewitnesses, scientific journals, government officials and many others. Extensive bibliographies and annotated lists of relevant organizations to contact offer a gateway to future research.","English",27.8,22.240000000000002,"355","136 pp.",{"$f":"Table1[[#This Row],['# of Books]]*Table1[[#This Row],[QTY]]","v":0},{"$f":"Table1[[#This Row],[QTY]]*Table1[[#This Row],[School & Library Price]]","v":0}]
[null,24,null,"Current Issues","At Issue","Vaccines","978-0-7377-7193-0","Greenhaven Publishing","Library Bound Book",1,2015,null,"Library Bound","6.000 X 9.000","Author","Noël Merino",null,null,null,null,null,null,"Years 15 - 17",null,"Grade 10 - 12","This title examines the current issues surrounding vaccinations, such as the benefits and risks of vaccinations, the growing anti-vaccination movement, and the efficacy of vaccines for HPV and HIV.","English",39.4,31.52,"615","120 pp.",{"$f":"Table1[[#This Row],['# of Books]]*Table1[[#This Row],[QTY]]","v":0},{"$f":"Table1[[#This Row],[QTY]]*Table1[[#This Row],[School & Library Price]]","v":0}]
[null,24,null,"Current Issues","At Issue","Video Games","978-0-7377-3698-4","Greenhaven Publishing","Paperback Book",1,2008,null,"Paperback","6.000 X 9.000","Author","David M. Haugen",null,null,null,null,null,null,"Years 15 - 17",null,"Grade 10 - 12",null,"English",27.8,22.240000000000002,"362.292","104 pp.",{"$f":"Table1[[#This Row],['# of Books]]*Table1[[#This Row],[QTY]]","v":0},{"$f":"Table1[[#This Row],[QTY]]*Table1[[#This Row],[School & Library Price]]","v":0}]
[null,24,null,"Current Issues","At Issue","Violent Video Games","978-0-7377-7195-4","Greenhaven Publishing","Library Bound Book",1,2015,null,"Library Bound","6.000 X 9.000","Author","Roman Espejo",null,null,null,null,null,null,"Years 15 - 17",null,"Grade 10 - 12","Explores the pros and cons of playing violent video games; the link between violent video games and anti-social behavior; violent video games and free speech; and the effectiveness of the video game rating system.","English",39.4,31.52,"302","104 pp.",{"$f":"Table1[[#This Row],['# of Books]]*Table1[[#This Row],[QTY]]","v":0},{"$f":"Table1[[#This Row],[QTY]]*Table1[[#This Row],[School & Library Price]]","v":0}]
[null,24,null,"Current Issues","At Issue","Volunteerism","978-0-7377-3889-6","Greenhaven Publishing","Paperback Book",1,2008,null,"Paperback","6.000 X 9.000","Author","Gary Wiener",null,null,null,null,null,null,"Years 15 - 17",null,"Grade 10 - 12",null,"English",27.8,22.240000000000002,"361","118 pp.",{"$f":"Table1[[#This Row],['# of Books]]*Table1[[#This Row],[QTY]]","v":0},{"$f":"Table1[[#This Row],[QTY]]*Table1[[#This Row],[School & Library Price]]","v":0}]
[null,24,null,"Current Issues","At Issue","Voter Fraud","978-0-7377-7664-5","Greenhaven Publishing","eBook",1,2016,null,"eBook",null,"Author","Sarah Armstrong",null,null,null,null,null,null,"Years 15 - 17",null,"Grade 10 - 12",null,"English",39.4,39.4,"324.6","120 pp.",{"$f":"Table1[[#This Row],['# of Books]]*Table1[[#This Row],[QTY]]","v":0},{"$f":"Table1[[#This Row],[QTY]]*Table1[[#This Row],[School & Library Price]]","v":0}]
[null,24,null,"Current Issues","At Issue","Weapons of War","978-0-7377-5604-3","Greenhaven Publishing","Library Bound Book",1,2011,null,"Library Bound","6.000 X 9.000","Author","Diane Andrews Henningfeld",null,null,null,null,null,null,"Years 15 - 17",null,"Grade 10 - 12","This edition in the AT ISSUE series examines issues related to weapons of war. Includes primary and secondary sources from a variety of perspectives -- eyewitnesses, scientific journals, government officials and many others.","English",39.4,31.52,"355","128 pp.",{"$f":"Table1[[#This Row],['# of Books]]*Table1[[#This Row],[QTY]]","v":0},{"$f":"Table1[[#This Row],[QTY]]*Table1[[#This Row],[School & Library Price]]","v":0}]
[null,24,null,"Current Issues","At Issue","Weapons of War","978-0-7377-5605-0","Greenhaven Publishing","Paperback Book",1,2011,null,"Paperback","6.000 X 9.000","Author","Diane Andrews Henningfeld",null,null,null,null,null,null,"Years 15 - 17",null,"Grade 10 - 12","This edition in the AT ISSUE series examines issues related to weapons of war. Includes primary and secondary sources from a variety of perspectives -- eyewitnesses, scientific journals, government officials and many others.","English",27.8,22.240000000000002,"355","128 pp.",{"$f":"Table1[[#This Row],['# of Books]]*Table1[[#This Row],[QTY]]","v":0},{"$f":"Table1[[#This Row],[QTY]]*Table1[[#This Row],[School & Library Price]]","v":0}]
[null,24,null,"Current Issues","At Issue","What Are the Jobs of the Future?","978-0-7377-7199-2","Greenhaven Publishing","Library Bound Book",1,2015,null,"Library Bound","6.000 X 9.000","Author","Roman Espejo",null,null,null,null,null,null,"Years 15 - 17",null,"Grade 10 - 12","This title in the AT ISSUE SERIES explores what will be the jobs of the future in this rapidly changing economy. The role of technology, what skills will be needed, the continuing importance of a college degree, as well as co-working, freelancing and flexing hours.","English",39.4,31.52,"331","111 pp.",{"$f":"Table1[[#This Row],['# of Books]]*Table1[[#This Row],[QTY]]","v":0},{"$f":"Table1[[#This Row],[QTY]]*Table1[[#This Row],[School & Library Price]]","v":0}]
[null,24,null,"Current Issues","At Issue","What is a Hate Crime?","978-0-7377-2437-0","Greenhaven Publishing","Paperback Book",1,2007,null,"Paperback","6.000 X 9.000","Author","Robert Winters",null,null,null,null,null,null,"Years 15 - 17",null,"Grade 10 - 12",null,"English",27.8,22.240000000000002,"364.15","121 pp.",{"$f":"Table1[[#This Row],['# of Books]]*Table1[[#This Row],[QTY]]","v":0},{"$f":"Table1[[#This Row],[QTY]]*Table1[[#This Row],[School & Library Price]]","v":0}]
[null,25,null,"Current Issues","At Issue","What is the Future of Higher Education?","978-0-7377-7201-2","Greenhaven Publishing","Library Bound Book",1,2015,null,"Library Bound","6.000 X 9.000","Author","Roman Espejo",null,null,null,null,null,null,"Years 15 - 17",null,"Grade 10 - 12","AT ISSUE: WHAT IS THE FUTURE OF HIGHER EDUCATION? explores a range of topics including what role online education will play and how private and community colleges will function in the future.","English",39.4,31.52,"378","131 pp.",{"$f":"Table1[[#This Row],['# of Books]]*Table1[[#This Row],[QTY]]","v":0},{"$f":"Table1[[#This Row],[QTY]]*Table1[[#This Row],[School & Library Price]]","v":0}]
[null,25,null,"Current Issues","At Issue","What is the Future of Higher Education?","978-0-7377-7665-2","Greenhaven Publishing","eBook",1,2015,null,"eBook",null,"Author","Roman Espejo",null,null,null,null,null,null,"Years 15 - 17",null,"Grade 10 - 12",null,"English",39.4,39.4,"378.00973","131 pp.",{"$f":"Table1[[#This Row],['# of Books]]*Table1[[#This Row],[QTY]]","v":0},{"$f":"Table1[[#This Row],[QTY]]*Table1[[#This Row],[School & Library Price]]","v":0}]
[null,25,null,"Current Issues","At Issue","What is the Future of the U.S. Economy?","978-0-7377-6214-3","Greenhaven Publishing","Paperback Book",1,2013,null,"Paperback","6.000 X 9.000","Author","Ronnie D. Lankford",null,null,null,null,null,null,"Years 15 - 17",null,"Grade 10 - 12","This edition in the At Issue series examines issues related to the future of the US economy. Includes primary and secondary sources from a variety of perspectives -- eyewitnesses, scientific journals, government officials and many others.","English",27.8,22.240000000000002,"330","145 pp.",{"$f":"Table1[[#This Row],['# of Books]]*Table1[[#This Row],[QTY]]","v":0},{"$f":"Table1[[#This Row],[QTY]]*Table1[[#This Row],[School & Library Price]]","v":0}]
[null,25,null,"Current Issues","At Issue","What is the Impact of Automation?","978-0-7377-3945-9","Greenhaven Publishing","Paperback Book",1,2008,null,"Paperback","6.000 X 9.000","Author","Roman Espejo",null,null,null,null,null,null,"Years 15 - 17",null,"Grade 10 - 12",null,"English",27.8,22.240000000000002,"658","116 pp.",{"$f":"Table1[[#This Row],['# of Books]]*Table1[[#This Row],[QTY]]","v":0},{"$f":"Table1[[#This Row],[QTY]]*Table1[[#This Row],[School & Library Price]]","v":0}]
[null,25,null,"Current Issues","At Issue","What is the Impact of Digitizing Books?","978-0-7377-6165-8","Greenhaven Publishing","Library Bound Book",1,2013,null,"Library Bound","6.000 X 9.000","Author","Louise I. Gerdes",null,null,null,null,null,null,"Years 15 - 17",null,"Grade 10 - 12","This edition in the At Issue series examines issues related to book digitization. Includes primary and secondary sources from a variety of perspectives -- eyewitnesses, scientific journals, government officials and many others.","English",39.4,31.52,"371","120 pp.",{"$f":"Table1[[#This Row],['# of Books]]*Table1[[#This Row],[QTY]]","v":0},{"$f":"Table1[[#This Row],[QTY]]*Table1[[#This Row],[School & Library Price]]","v":0}]
[null,25,null,"Current Issues","At Issue","What is the Impact of Emigration?","978-0-7377-4696-9","Greenhaven Publishing","Paperback Book",1,2011,null,"Paperback","6.000 X 9.000","Author","Olivia Ferguson",null,null,null,null,null,null,"Years 15 - 17",null,"Grade 10 - 12",null,"English",27.8,22.240000000000002,"325","104 pp.",{"$f":"Table1[[#This Row],['# of Books]]*Table1[[#This Row],[QTY]]","v":0},{"$f":"Table1[[#This Row],[QTY]]*Table1[[#This Row],[School & Library Price]]","v":0}]
[null,25,null,"Current Issues","At Issue","What is the Impact of Green Practices?","978-0-7377-7415-3","Greenhaven Publishing","Paperback Book",1,2016,null,"Paperback","6.000 X 9.000","Author","Tamara Thompson",null,null,null,null,null,null,"Years 15 - 17",null,"Grade 10 - 12","Consumers have long been encouraged to reduce, reuse, and recycle, but environmental awareness has come a long way since the first Earth Day in 1970. This title in the Greenhaven series, What Is the Impact of Green Practices?, examines what effect, if any, practicing the \"three R's\" has had on the planet.","English",27.8,22.240000000000002,"333","108 pp.",{"$f":"Table1[[#This Row],['# of Books]]*Table1[[#This Row],[QTY]]","v":0},{"$f":"Table1[[#This Row],[QTY]]*Table1[[#This Row],[School & Library Price]]","v":0}]
[null,25,null,"Current Issues","At Issue","What is the Impact of Tourism?","978-0-7377-4120-9","Greenhaven Publishing","Library Bound Book",1,2009,null,"Library Bound","6.000 X 9.000","Author","Roman Espejo",null,null,null,null,null,null,"Years 15 - 17",null,"Grade 10 - 12",null,"English",39.4,31.52,"910","112 pp.",{"$f":"Table1[[#This Row],['# of Books]]*Table1[[#This Row],[QTY]]","v":0},{"$f":"Table1[[#This Row],[QTY]]*Table1[[#This Row],[School & Library Price]]","v":0}]
[null,25,null,"Current Issues","At Issue","What is the Impact of Twitter?","978-0-7377-6216-7","Greenhaven Publishing","Paperback Book",1,2013,null,"Paperback","6.000 X 9.000","Author","Roman Espejo",null,null,null,null,null,null,"Years 15 - 17",null,"Grade 10 - 12","Explores how Twitter is transforming social relationships, if Twitter can become profitable and the impact of Twitter on the English language.  Includes primary and secondary sources from a variety of perspectives - eyewitnesses, scientific journals, government officials and many others.","English",27.8,22.240000000000002,"303","99 pp.",{"$f":"Table1[[#This Row],['# of Books]]*Table1[[#This Row],[QTY]]","v":0},{"$f":"Table1[[#This Row],[QTY]]*Table1[[#This Row],[School & Library Price]]","v":0}]
[null,25,null,"Current Issues","At Issue","What is the Role of Technology in Education?","978-0-7377-6217-4","Greenhaven Publishing","Library Bound Book",1,2013,null,"Library Bound","6.000 X 9.000","Author","Judeen Bartos",null,null,null,null,null,null,"Years 15 - 17",null,"Grade 10 - 12","This title explores technology’s role in education and in enhancing education for people with disabilities, e-texts’ impact on traditional publishing, and Internet/online based education.","English",39.4,31.52,"371","120 pp.",{"$f":"Table1[[#This Row],['# of Books]]*Table1[[#This Row],[QTY]]","v":0},{"$f":"Table1[[#This Row],[QTY]]*Table1[[#This Row],[School & Library Price]]","v":0}]
[null,25,null,"Current Issues","At Issue","What Motivates Suicide Bombers?","978-0-7377-4449-1","Greenhaven Publishing","Paperback Book",1,2010,null,"Paperback","6.000 X 9.000","Author","Roman Espejo",null,null,null,null,null,null,"Years 15 - 17",null,"Grade 10 - 12",null,"English",27.8,22.240000000000002,"364","118 pp.",{"$f":"Table1[[#This Row],['# of Books]]*Table1[[#This Row],[QTY]]","v":0},{"$f":"Table1[[#This Row],[QTY]]*Table1[[#This Row],[School & Library Price]]","v":0}]
[null,25,null,"Current Issues","At Issue","What Role Should the U.S. Play in the Middle East?","978-0-7377-4450-7","Greenhaven Publishing","Library Bound Book",1,2009,null,"Library Bound","6.000 X 9.000","Author","Noah Berlatsky",null,null,null,null,null,null,"Years 15 - 17",null,"Grade 10 - 12",null,"English",39.4,31.52,"361","120 pp.",{"$f":"Table1[[#This Row],['# of Books]]*Table1[[#This Row],[QTY]]","v":0},{"$f":"Table1[[#This Row],[QTY]]*Table1[[#This Row],[School & Library Price]]","v":0}]
[null,25,null,"Current Issues","At Issue","What Should We Eat?","978-0-7377-7390-3","Greenhaven Publishing","Library Bound Book",1,2016,null,"Library Bound","6.000 X 9.000","Author","Roman Espejo",null,null,null,null,null,null,"Years 15 - 17",null,"Grade 10 - 12","Gluten, red meat, fish, insects--all things we do or don't eat, but could. But should we? This title in the At Issue series, What Should We Eat?, explores how best to sustain ourselves, from organic food to fast food.","English",39.4,31.52,"613","102 pp.",{"$f":"Table1[[#This Row],['# of Books]]*Table1[[#This Row],[QTY]]","v":0},{"$f":"Table1[[#This Row],[QTY]]*Table1[[#This Row],[School & Library Price]]","v":0}]
[null,25,null,"Current Issues","At Issue","What Should We Eat?","978-0-7377-7391-0","Greenhaven Publishing","Paperback Book",1,2016,null,"Paperback","6.000 X 9.000","Author","Roman Espejo",null,null,null,null,null,null,"Years 15 - 17",null,"Grade 10 - 12","Gluten, red meat, fish, insects--all things we do or don't eat, but could. But should we? This title in the At Issue series, What Should We Eat?, explores how best to sustain ourselves, from organic food to fast food.","English",27.8,22.240000000000002,"613","102 pp.",{"$f":"Table1[[#This Row],['# of Books]]*Table1[[#This Row],[QTY]]","v":0},{"$f":"Table1[[#This Row],[QTY]]*Table1[[#This Row],[School & Library Price]]","v":0}]
[null,25,null,"Current Issues","At Issue","Why is Autism on Rise?","978-0-7377-6870-1","Greenhaven Publishing","Library Bound Book",1,2014,null,"Library Bound","6.000 X 9.000","Author","Clayton Naff",null,null,null,null,null,null,"Years 15 - 17",null,"Grade 10 - 12","This title explores possible causes for the recent rise in autism. It looks at improved diagnostics of autism, vitamin deficiencies, and different environmental and behavioral reasons that could lead to autism.  Includes primary and secondary sources from a variety of perspectives -- eyewitnesses, scientific journals, government officials and many others.","English",39.4,31.52,"616","104 pp.",{"$f":"Table1[[#This Row],['# of Books]]*Table1[[#This Row],[QTY]]","v":0},{"$f":"Table1[[#This Row],[QTY]]*Table1[[#This Row],[School & Library Price]]","v":0}]
[null,25,null,"Current Issues","At Issue","Wikileaks","978-0-7377-6219-8","Greenhaven Publishing","Library Bound Book",1,2013,null,"Library Bound","6.000 X 9.000","Author","Tamara Thompson",null,null,null,null,null,null,"Years 15 - 17",null,"Grade 10 - 12","This title explores many issues related to WikiLeaks including internet freedom, ethics of journalism, and issues of national security.","English",39.4,31.52,"353","120 pp.",{"$f":"Table1[[#This Row],['# of Books]]*Table1[[#This Row],[QTY]]","v":0},{"$f":"Table1[[#This Row],[QTY]]*Table1[[#This Row],[School & Library Price]]","v":0}]
[null,25,null,"Current Issues","At Issue","Will the World Run Out of Fresh Water?","978-0-7377-5609-8","Greenhaven Publishing","Paperback Book",1,2012,null,"Paperback","6.000 X 9.000","Author","David Haugen",null,null,null,null,null,null,"Years 15 - 17",null,"Grade 10 - 12","This addition to the At Issue series discusses issues related to the world’s water supply. The title explores whether or not there is a looming global fresh water shortage, how desalination could be an answer to fresh water issues, how fresh water is seen as both a commodity and a human right, and how fresh water access remains a contentious issue in the Middle East.","English",27.8,22.240000000000002,"363","120 pp.",{"$f":"Table1[[#This Row],['# of Books]]*Table1[[#This Row],[QTY]]","v":0},{"$f":"Table1[[#This Row],[QTY]]*Table1[[#This Row],[School & Library Price]]","v":0}]
[null,25,null,"Current Issues","At Issue","Wind Farms","978-0-7377-7669-0","Greenhaven Publishing","eBook",1,2015,null,"eBook",null,"Author","Amy Francis",null,null,null,null,null,null,"Years 15 - 17",null,"Grade 10 - 12",null,"English",39.4,39.4,"333.9","96 pp.",{"$f":"Table1[[#This Row],['# of Books]]*Table1[[#This Row],[QTY]]","v":0},{"$f":"Table1[[#This Row],[QTY]]*Table1[[#This Row],[School & Library Price]]","v":0}]
[null,25,null,"Current Issues","At Issue","Year-Round Schools","978-0-7377-3792-9","Greenhaven Publishing","Paperback Book",1,2008,null,"Paperback","6.000 X 9.000","Author","Adriane Ruggiero",null,null,null,null,null,null,"Years 15 - 17",null,"Grade 10 - 12",null,"English",27.8,22.240000000000002,"362.292","109 pp.",{"$f":"Table1[[#This Row],['# of Books]]*Table1[[#This Row],[QTY]]","v":0},{"$f":"Table1[[#This Row],[QTY]]*Table1[[#This Row],[School & Library Price]]","v":0}]
[null,26,null,"Current Issues","Current Controversies","Are There Two Americas?","978-1-5345-0233-8","Greenhaven Publishing","Library Bound Book",1,2018,"January 2018","Library","6.000 X 9.000","Edited by","Caleb Bissinger",null,null,null,null,"Z",null,"Years 14 - 17","Grade 10 - 12","Grade 9 - 12","The haves and the have-nots, \"coastal elites\" versus \"real America,\" big cities or fly-over country, people play fast and loose with the terms, but who falls into these groups and are they really so different? Media and politicians alike constantly push the narrative of \"us\" versus \" them,\" instead of one nation indivisible. But are they correct to do so or woefully misguided? This insightful anthology unpacks the concept of a divided nation and looks at the conflicts that come from economic disparity, geography, social status, and more.","English",46.4,37.119999999999997,null,"192 pp.",{"$f":"Table1[[#This Row],['# of Books]]*Table1[[#This Row],[QTY]]","v":0},{"$f":"Table1[[#This Row],[QTY]]*Table1[[#This Row],[School & Library Price]]","v":0}]
[null,26,null,"Current Issues","Current Controversies","Are There Two Americas?","978-1-5345-0228-4","Greenhaven Publishing","eBook",1,2018,"January 2018",null,null,"Edited by","Caleb Bissinger",null,null,null,null,"Z",null,"Years 14 - 17","Grade 10 - 12","Grade 9 - 12","The haves and the have-nots, \"coastal elites\" versus \"real America,\" big cities or fly-over country, people play fast and loose with the terms, but who falls into these groups and are they really so different? Media and politicians alike constantly push the narrative of \"us\" versus \" them,\" instead of one nation indivisible. But are they correct to do so or woefully misguided? This insightful anthology unpacks the concept of a divided nation and looks at the conflicts that come from economic disparity, geography, social status, and more.","English",46.4,37.119999999999997,null,"192 pp.",{"$f":"Table1[[#This Row],['# of Books]]*Table1[[#This Row],[QTY]]","v":0},{"$f":"Table1[[#This Row],[QTY]]*Table1[[#This Row],[School & Library Price]]","v":0}]
[null,26,null,"Current Issues","Current Controversies","Deporting Immigrants","978-1-5345-0227-7","Greenhaven Publishing","eBook",1,2018,"January 2018",null,null,"Edited by","Anne Cunningham",null,null,null,null,"Z",null,"Years 14 - 17","Grade 10 - 12","Grade 9 - 12","As immigration and naturalization processes continue to dominate U.S. news headlines and political rhetoric, the tangible fear of having one's family torn apart is only growing greater for those who flock to the United States for work, education, or refuge. This book looks at both legal and undocumented immigration and explores the challenges faced by local and federal government officials, by different types of workers, and by the children of green card or visa holders. This is a balanced overview of deportation, those it may involve, and how it works.","English",46.4,37.119999999999997,null,"192 pp.",{"$f":"Table1[[#This Row],['# of Books]]*Table1[[#This Row],[QTY]]","v":0},{"$f":"Table1[[#This Row],[QTY]]*Table1[[#This Row],[School & Library Price]]","v":0}]
[null,26,null,"Current Issues","Current Controversies","Enhanced Interrogation and Torture","978-1-5345-0235-2","Greenhaven Publishing","Library Bound Book",1,2018,"January 2018","Library","6.000 X 9.000","Edited by","Gary Wiener",null,null,null,null,"Z",null,"Years 14 - 17","Grade 10 - 12","Grade 9 - 12","You hear about \"waterboarding,\" but what exactly does it mean? This informative, and at times unflinching, collection of essays explores the radical tactics used by government-sanctioned agencies, and those used by terror groups, to ferret out key intelligence from detainees. Topics range from the Geneva Convention to the conditions at Iraq's Abu Ghraib prison to the impact of the viral execution videos released by ISIS. A frank look at a difficult subject, this book is recommended for older readers who may already be studying the effects of war or current events.","English",46.4,37.119999999999997,null,"192 pp.",{"$f":"Table1[[#This Row],['# of Books]]*Table1[[#This Row],[QTY]]","v":0},{"$f":"Table1[[#This Row],[QTY]]*Table1[[#This Row],[School & Library Price]]","v":0}]
[null,26,null,"Current Issues","Current Controversies","Microaggressions, Safe Spaces, and Trigger Warnings","978-1-5345-0231-4","Greenhaven Publishing","eBook",1,2018,"January 2018",null,null,"Edited by","Gary Wiener",null,null,null,null,"Z",null,"Years 14 - 17","Grade 10 - 12","Grade 9 - 12","Despite the name, trigger warnings have nothing to do with gun control, and safe spaces don't necessarily mean state-of-the-art panic rooms. Instead, these terms and the phrase \"microaggressions\" relate to preserving and protecting one's emotional safety. In this volume, readers will learn about the increased demand for sensitivity in social settings, in literature and media, and on the Internet. They will also encounter the opposing view, that we, as a society, are becoming too fragile and don't need figurative bulletproof vests for every occasion.","English",46.4,37.119999999999997,null,"192 pp.",{"$f":"Table1[[#This Row],['# of Books]]*Table1[[#This Row],[QTY]]","v":0},{"$f":"Table1[[#This Row],[QTY]]*Table1[[#This Row],[School & Library Price]]","v":0}]
[null,26,null,"Current Issues","Current Controversies","Police Training and Excessive Force","978-1-5345-0229-1","Greenhaven Publishing","eBook",1,2018,"January 2018",null,null,"Edited by","Pete Schauer",null,null,null,null,"Z",null,"Years 14 - 17","Grade 10 - 12","Grade 9 - 12","How rough is too rough? Rodney King is an unfamiliar name for those growing up today, but the ongoing conversation concerning police brutality is one they know all-too well. This collection deep-dives into police training procedure, what constitutes excessive force, and what happens when the community disagrees with the police and the justice system. Relevant topics covered in this balanced anthology include the 1992 L.A. riots and the 2014 outcry in Ferguson, MO, as well as the choking death of Eric Garner in Staten Island, NY.","English",46.4,37.119999999999997,null,"192 pp.",{"$f":"Table1[[#This Row],['# of Books]]*Table1[[#This Row],[QTY]]","v":0},{"$f":"Table1[[#This Row],[QTY]]*Table1[[#This Row],[School & Library Price]]","v":0}]
[null,26,null,"Current Issues","Current Controversies","The Confederate Flag","978-1-5345-0232-1","Greenhaven Publishing","eBook",1,2018,"January 2018",null,null,"Edited by","Anne Cunningham",null,null,null,null,"Z",null,"Years 14 - 17","Grade 10 - 12","Grade 9 - 12","Is it a symbol of pride in one's heritage or an ugly reminder of slavery and the fruits of racism? The issue of whether the Confederate flag belongs in front of government buildings, or even on Southern pride paraphernalia, has been a hot button for more than a century, long after the Civil War was fought and won. This book takes a close look at the flag's origins, its controversial history, what meaning it has for Americans living today, and the ongoing debate on its use and display.","English",46.4,37.119999999999997,null,"192 pp.",{"$f":"Table1[[#This Row],['# of Books]]*Table1[[#This Row],[QTY]]","v":0},{"$f":"Table1[[#This Row],[QTY]]*Table1[[#This Row],[School & Library Price]]","v":0}]
[null,26,null,"Current Issues","Current Controversies (Aug '17 Set)","Current Controversies (Aug '17 Set)","978-1-5345-0148-5","Greenhaven Publishing","Single Copy Set",6,"2018","August 2017","Paperback","6.000 X 9.000"," "," ",null,null,null,null,null,null,"Years 14 - 17","Grade 10 - 12","Grade 9 - 12","Each anthology in the Current Controversies series presents a diverse array of views from a wide spectrum of sources. Views are organized in a question-and-response format to encourage readers to view complex issues from multiple angles. This approach provides students with a concise view of divergent opinions on each topic.","English",192,153.6,null,"224 pp.",{"$f":"Table1[[#This Row],['# of Books]]*Table1[[#This Row],[QTY]]","v":0},{"$f":"Table1[[#This Row],[QTY]]*Table1[[#This Row],[School & Library Price]]","v":0}]
[null,26,null,"Current Issues","Current Controversies","The Border Wall with Mexico","978-1-5345-0085-3","Greenhaven Publishing","Library Bound Book",1,"2018","August 2017","Library","6.000 X 9.000","Edited by","Martin Gitlin",null,null,null,null,"Z",null,"Years 14 - 17","Grade 10 - 12","Grade 9 - 12","To some, the idea of a border wall with Mexico represents a necessary and practical barrier to illegal immigration and the perceived host of ills that are associated with it. To others, it is both an unrealistic and inhumane effort that demonizes desperate individuals and families who are only seeking a better life. The debate is fierce and is bound up with competing notions of crime, ethnicity, opportunity, fairness, justice, and what America promises, offers, stands for, and represents. All sides of the debate are presented here, and each is given a fair and respectful hearing, allowing readers to sift through fact and opinion, evaluate the strength of arguments, and form an educated opinion on the issue.","English",46.4,37.119999999999997,"972'.1--dc23","224 pp.",{"$f":"Table1[[#This Row],['# of Books]]*Table1[[#This Row],[QTY]]","v":0},{"$f":"Table1[[#This Row],[QTY]]*Table1[[#This Row],[School & Library Price]]","v":0}]
[null,26,null,"Current Issues","Current Controversies","The Border Wall with Mexico","978-1-5345-0090-7","Greenhaven Publishing","Paperback Book",1,"2018","August 2017","Paperback","6.000 X 9.000","Edited by","Martin Gitlin",null,null,null,null,"Z",null,"Years 14 - 17","Grade 10 - 12","Grade 9 - 12","To some, the idea of a border wall with Mexico represents a necessary and practical barrier to illegal immigration and the perceived host of ills that are associated with it. To others, it is both an unrealistic and inhumane effort that demonizes desperate individuals and families who are only seeking a better life. The debate is fierce and is bound up with competing notions of crime, ethnicity, opportunity, fairness, justice, and what America promises, offers, stands for, and represents. All sides of the debate are presented here, and each is given a fair and respectful hearing, allowing readers to sift through fact and opinion, evaluate the strength of arguments, and form an educated opinion on the issue.","English",32,25.6,"972'.1--dc23","224 pp.",{"$f":"Table1[[#This Row],['# of Books]]*Table1[[#This Row],[QTY]]","v":0},{"$f":"Table1[[#This Row],[QTY]]*Table1[[#This Row],[School & Library Price]]","v":0}]
[null,26,null,"Current Issues","Current Controversies","Fracking","978-1-5345-0101-0","Greenhaven Publishing","Paperback Book",1,"2018","August 2017","Paperback","6.000 X 9.000","Edited by","Anne C. Cunningham",null,null,null,null,"Z",null,"Years 14 - 17","Grade 10 - 12","Grade 9 - 12","On the surface, fracking, or hydraulic fracturing, seems like a perfect solution to the country’s energy crises. It is a relatively easy and independent way to supply natural gas. But controversies surround the practice. The process involved in fracking has been shown to be harmful to the environment and a threat to our public health. Do the benefits of fracking outweigh the costs? Can improvements be made to the process that would eliminate its dangers? Should the government get more involved in regulating fracking, or should it be up to the people?","English",32,25.6,"622/.3381--dc23","184 pp.",{"$f":"Table1[[#This Row],['# of Books]]*Table1[[#This Row],[QTY]]","v":0},{"$f":"Table1[[#This Row],[QTY]]*Table1[[#This Row],[School & Library Price]]","v":0}]
[null,26,null,"Current Issues","Current Controversies","Political Correctness","978-1-5345-0099-0","Greenhaven Publishing","Library Bound Book",1,"2018","August 2017","Library","6.000 X 9.000","Edited by","Rachel Bozek",null,null,null,null,"Z",null,"Years 14 - 17","Grade 10 - 12","Grade 9 - 12","Political correctness, better known as “PC,” flourished in institutions of higher learning in the 1990s. With the rise of social media, a second wave of PC culture has emerged that is more aggressive than the first. It seems to many that nearly everyone is a target, at risk of being labeled a racist or misogynist based on one short tweet. The movement, though intended to be inclusive and pluralistic, has its detractors. Is political correctness protective or is it an attack on freedom? Do knee-jerk reactions cancel out the opportunity for thoughtful discourse? And what does this culture mean for our future?","English",46.4,37.119999999999997,"306--dc23","160 pp.",{"$f":"Table1[[#This Row],['# of Books]]*Table1[[#This Row],[QTY]]","v":0},{"$f":"Table1[[#This Row],[QTY]]*Table1[[#This Row],[School & Library Price]]","v":0}]
[null,26,null,"Current Issues","Current Controversies","Political Correctness","978-1-5345-0097-6","Greenhaven Publishing","Paperback Book",1,"2018","August 2017","Paperback","6.000 X 9.000","Edited by","Rachel Bozek",null,null,null,null,"Z",null,"Years 14 - 17","Grade 10 - 12","Grade 9 - 12","Political correctness, better known as “PC,” flourished in institutions of higher learning in the 1990s. With the rise of social media, a second wave of PC culture has emerged that is more aggressive than the first. It seems to many that nearly everyone is a target, at risk of being labeled a racist or misogynist based on one short tweet. The movement, though intended to be inclusive and pluralistic, has its detractors. Is political correctness protective or is it an attack on freedom? Do knee-jerk reactions cancel out the opportunity for thoughtful discourse? And what does this culture mean for our future?","English",32,25.6,"306--dc23","160 pp.",{"$f":"Table1[[#This Row],['# of Books]]*Table1[[#This Row],[QTY]]","v":0},{"$f":"Table1[[#This Row],[QTY]]*Table1[[#This Row],[School & Library Price]]","v":0}]
[null,26,null,"Current Issues","Current Controversies","The Political Elite and Special Interests","978-1-5345-0105-8","Greenhaven Publishing","Paperback Book",1,"2018","August 2017","Paperback","6.000 X 9.000","Edited by","Rachel Bozek",null,null,null,null,"Z",null,"Years 14 - 17","Grade 10 - 12","Grade 9 - 12","There is a growing sense that government is no longer of the people, by the people, and for the people. Many believe that society is manipulated by a handful of political elites and special interests. But why does each party feel that it is the elites and special interests of the other party who are in control of things? Does “one person one vote” still hold sway? Is this still a citizen democracy, or has it evolved into an oligarchy? Whose voice and vote really count? These and other questions and debates concerning power, influence, and who wields it are at the center of this fascinating collection of articles drawn from across the political spectrum.","English",32,25.6,"322.4--dc23","224 pp.",{"$f":"Table1[[#This Row],['# of Books]]*Table1[[#This Row],[QTY]]","v":0},{"$f":"Table1[[#This Row],[QTY]]*Table1[[#This Row],[School & Library Price]]","v":0}]
[null,26,null,"Current Issues","Current Controversies","Returning Soldiers and PTSD","978-1-5345-0092-1","Greenhaven Publishing","eBook",1,"2018","August 2017",null,null,"Edited by","Barbara Krasner",null,null,null,null,"Z",null,"Years 14 - 17","Grade 10 - 12","Grade 9 - 12","One of the most painful and tragic legacies of the wars in Iraq and Afghanistan has been the trauma suffered by those who served and the far-reaching consequences and after-effects of their scarring combat experiences. This very important volume looks at the issue of returning soldiers PTSD from multiple angles, examining skyrocketing suicide rates; the debates surrounding the quality and accessibility of health care; the nature of and stigmas associated with a PTSD diagnosis; the responsibility that government and society have to care for returning soldiers; how welcoming, protective, and supportive the environment is to which soldiers return; and the steep cost of war to the individual, families, and society at large.","English",46.4,37.119999999999997,"616.85/21--dc23","296 pp.",{"$f":"Table1[[#This Row],['# of Books]]*Table1[[#This Row],[QTY]]","v":0},{"$f":"Table1[[#This Row],[QTY]]*Table1[[#This Row],[School & Library Price]]","v":0}]
[null,26,null,"Current Issues","Current Controversies","Drones, Surveillance, and Targeted Killings","978-1-5345-0020-4","Greenhaven Publishing","Library Bound Book",1,2017,"January 2017","Library Bound","6.000 X 9.000","Editor","Anne Cunningham",null,null,null,null,"Z",null,"Years 14 - 17",null,"Grade 9 - 12","This timely anthology examines the use of drones by the military, law enforcement, border patrol, and civilians. Articles condoning the use of drones in military engagements abroad are balanced with reportage of civilian deaths and resulting creation of more terrorists. Pieces touting the effectiveness of drones in domestic surveillance are countered by assertions that they violate Americans’ civil liberties. Opinions about the pros and cons of drone use in securing our borders, as well as the potential benefits and dangers of their commercial use, will add to readers’ deep understanding of this complex issue.","English",46.4,37.119999999999997,null,"224 pp.",{"$f":"Table1[[#This Row],['# of Books]]*Table1[[#This Row],[QTY]]","v":0},{"$f":"Table1[[#This Row],[QTY]]*Table1[[#This Row],[School & Library Price]]","v":0}]
[null,26,null,"Current Issues","Current Controversies","Genetic Engineering","978-1-5345-0017-4","Greenhaven Publishing","Library Bound Book",1,2017,"January 2017","Library Bound","6.000 X 9.000","Editor","Susan Henneberg",null,null,null,null,"Z",null,"Years 14 - 17",null,"Grade 9 - 12","As scientists continue to make genetic breakthroughs, society inches ever closer to confronting the stuff horror movies are made of. Cloning a mourned pet is simply strange, but the thought of human cloning is terrifying. Manipulating genes to reduce genetic disease is encouraging only until we consider the ethical implications of potentially creating a master race. Genetically engineering crops and animals can address many problems like disease, climate change, and world hunger, but altering the environment could have catastrophic results for Earth. Articles presenting these issues from persuasive points of view help readers understanding the controversies surrounding genetic engineering today.","English",46.4,37.119999999999997,null,"224 pp.",{"$f":"Table1[[#This Row],['# of Books]]*Table1[[#This Row],[QTY]]","v":0},{"$f":"Table1[[#This Row],[QTY]]*Table1[[#This Row],[School & Library Price]]","v":0}]
[null,26,null,"Current Issues","Current Controversies","Genetic Engineering","978-1-5345-0038-9","Greenhaven Publishing","Paperback Book",1,2017,"January 2017","Paperback","6.000 X 9.000","Editor","Susan Henneberg",null,null,null,null,"Z",null,"Years 14 - 17",null,"Grade 9 - 12","As scientists continue to make genetic breakthroughs, society inches ever closer to confronting the stuff horror movies are made of. Cloning a mourned pet is simply strange, but the thought of human cloning is terrifying. Manipulating genes to reduce genetic disease is encouraging only until we consider the ethical implications of potentially creating a master race. Genetically engineering crops and animals can address many problems like disease, climate change, and world hunger, but altering the environment could have catastrophic results for Earth. Articles presenting these issues from persuasive points of view help readers understanding the controversies surrounding genetic engineering today.","English",32,25.6,null,"224 pp.",{"$f":"Table1[[#This Row],['# of Books]]*Table1[[#This Row],[QTY]]","v":0},{"$f":"Table1[[#This Row],[QTY]]*Table1[[#This Row],[School & Library Price]]","v":0}]
[null,26,null,"Current Issues","Current Controversies","LGBT Rights","978-1-5345-0019-8","Greenhaven Publishing","Library Bound Book",1,2017,"January 2017","Library Bound","6.000 X 9.000","Editor","Susan Henneberg",null,null,null,null,"Z",null,"Years 14 - 17",null,"Grade 9 - 12","Great strides have been made in securing rights for the LGBT community in recent years. Although statistics prove that acceptance of LGBT individuals has grown substantially in the past decade, there are still many people who ignore the laws in favor of their own beliefs. This anthology brings together writings from diverse sources to construct a well-balanced examination of LGBT rights in the United States and around the world. Readers will be exposed to both sides of the same-sex marriage debate, the controversy over restroom access for transgender individuals, and the reasons why the LGBT community continues to fight for its rights.","English",46.4,37.119999999999997,null,"224 pp.",{"$f":"Table1[[#This Row],['# of Books]]*Table1[[#This Row],[QTY]]","v":0},{"$f":"Table1[[#This Row],[QTY]]*Table1[[#This Row],[School & Library Price]]","v":0}]
[null,26,null,"Current Issues","Current Controversies","Privacy and Security in the Digital Age","978-1-5345-0006-8","Greenhaven Publishing","eBook",1,2017,"January 2017","eBook",null,"Edited by","Anne Cunningham",null,null,null,null,"Z",null,null,null,"Grade 9 - 12","The digital age has enhanced our lives in such profound ways that it’s difficult to imagine how we ever coped without computers, the internet, and smartphone cameras. But along with the obvious improvements that technology offers come threats to our personal freedoms. Readers of this enlightening anthology will be faced with complicated dilemmas from a variety of informed viewpoints: Does the government have the right to monitor its citizens? Should consumers have expectations of privacy? Does video surveillance make us safer in our communities? Is security more important than liberty?","English",46.4,37.119999999999997,null,"224 pp.",{"$f":"Table1[[#This Row],['# of Books]]*Table1[[#This Row],[QTY]]","v":0},{"$f":"Table1[[#This Row],[QTY]]*Table1[[#This Row],[School & Library Price]]","v":0}]
[null,26,null,"Current Issues","Current Controversies","Abortion","978-0-7377-7205-0","Greenhaven Publishing","Library Bound Book",1,2015,null,"Library Bound","6.000 X 9.000","Author","Tamara Thompson",null,null,null,null,null,null,"Years 15 - 17",null,"Grade 10 - 12",null,"English",46.4,37.119999999999997,"363","227 pp.",{"$f":"Table1[[#This Row],['# of Books]]*Table1[[#This Row],[QTY]]","v":0},{"$f":"Table1[[#This Row],[QTY]]*Table1[[#This Row],[School & Library Price]]","v":0}]
[null,26,null,"Current Issues","Current Controversies","Afghanistan","978-0-7377-4642-6","Greenhaven Publishing","Library Bound Book",1,2010,null,"Library Bound","6.000 X 9.000","Author","Debra A. Miller",null,null,null,null,null,null,"Years 15 - 17",null,"Grade 10 - 12","Explores key questions about U.S.-led military involvement in Afghanistan. Have the operations benefited or hurt the region? Should they continue? Is it possible for Afghans to have a democratic government, with free and fair elections, that would prevent warlords and religious leaders from dominating the country? And how - with the Taliban, terror cells, the drug trade, and a fledgling government and military - can Afghanistan be stabilized for the long term?","English",46.4,37.119999999999997,"958","256 pp.",{"$f":"Table1[[#This Row],['# of Books]]*Table1[[#This Row],[QTY]]","v":0},{"$f":"Table1[[#This Row],[QTY]]*Table1[[#This Row],[School & Library Price]]","v":0}]
[null,26,null,"Current Issues","Current Controversies","Alternative Therapies","978-0-7377-5610-4","Greenhaven Publishing","Library Bound Book",1,2012,null,"Library Bound","6.000 X 9.000","Author","Sylvia Engdahl",null,null,null,null,null,null,"Years 15 - 17",null,"Grade 10 - 12",null,"English",46.4,37.119999999999997,"615","232 pp.",{"$f":"Table1[[#This Row],['# of Books]]*Table1[[#This Row],[QTY]]","v":0},{"$f":"Table1[[#This Row],[QTY]]*Table1[[#This Row],[School & Library Price]]","v":0}]
[null,27,null,"Current Issues","Current Controversies","Anger Management","978-0-7377-4130-8","Greenhaven Publishing","Library Bound Book",1,2009,null,"Library Bound","6.000 X 9.000","Author","Lisa Krueger",null,null,null,null,null,null,"Years 15 - 17",null,"Grade 10 - 12",null,"English",46.4,37.119999999999997,"152","176 pp.",{"$f":"Table1[[#This Row],['# of Books]]*Table1[[#This Row],[QTY]]","v":0},{"$f":"Table1[[#This Row],[QTY]]*Table1[[#This Row],[School & Library Price]]","v":0}]
[null,27,null,"Current Issues","Current Controversies","Animal Rights","978-0-7377-7208-1","Greenhaven Publishing","Paperback Book",1,2015,null,"Paperback","6.000 X 9.000","Author","Noah Berlatsky",null,null,null,null,null,null,"Years 15 - 17",null,"Grade 10 - 12",null,"English",32,25.6,"179","182 pp.",{"$f":"Table1[[#This Row],['# of Books]]*Table1[[#This Row],[QTY]]","v":0},{"$f":"Table1[[#This Row],[QTY]]*Table1[[#This Row],[School & Library Price]]","v":0}]
[null,27,null,"Current Issues","Current Controversies","Animal Rights","978-0-7377-7671-3","Greenhaven Publishing","eBook",1,2015,null,"eBook",null,"Author","Noah Berlatsky",null,null,null,null,null,null,"Years 15 - 17",null,"Grade 10 - 12",null,"English",46.4,46.4,"179.3","182 pp.",{"$f":"Table1[[#This Row],['# of Books]]*Table1[[#This Row],[QTY]]","v":0},{"$f":"Table1[[#This Row],[QTY]]*Table1[[#This Row],[School & Library Price]]","v":0}]
[null,27,null,"Current Issues","Current Controversies","Biodiversity","978-0-7377-6221-1","Greenhaven Publishing","Library Bound Book",1,2013,null,"Library Bound","6.000 X 9.000","Author","Debra A. Miller",null,null,null,null,null,null,"Years 15 - 17",null,"Grade 10 - 12","This title explores issues related to Biodiversity, including whether biodiversity loss is a serious problem, what plant and animal species are threatened with extinction, how food production processes impact biodiversity, and ways biodiversity can be protected.","English",46.4,37.119999999999997,"333","208 pp.",{"$f":"Table1[[#This Row],['# of Books]]*Table1[[#This Row],[QTY]]","v":0},{"$f":"Table1[[#This Row],[QTY]]*Table1[[#This Row],[School & Library Price]]","v":0}]
[null,27,null,"Current Issues","Current Controversies","Blogs","978-0-7377-3955-8","Greenhaven Publishing","Paperback Book",1,2008,null,"Paperback","6.000 X 9.000","Author","Sylvia Engdahl",null,null,null,null,null,null,"Years 15 - 17",null,"Grade 10 - 12",null,"English",32,25.6,"006","219 pp.",{"$f":"Table1[[#This Row],['# of Books]]*Table1[[#This Row],[QTY]]","v":0},{"$f":"Table1[[#This Row],[QTY]]*Table1[[#This Row],[School & Library Price]]","v":0}]
[null,27,null,"Current Issues","Current Controversies","Bullying","978-0-7377-7672-0","Greenhaven Publishing","eBook",1,2015,null,"eBook",null,"Author","Noah Berlatsky",null,null,null,null,null,null,"Years 15 - 17",null,"Grade 10 - 12",null,"English",46.4,46.4,"302.34","175 pp.",{"$f":"Table1[[#This Row],['# of Books]]*Table1[[#This Row],[QTY]]","v":0},{"$f":"Table1[[#This Row],[QTY]]*Table1[[#This Row],[School & Library Price]]","v":0}]
[null,27,null,"Current Issues","Current Controversies","Capitalism","978-0-7377-4700-3","Greenhaven Publishing","Paperback Book",1,2010,null,"Paperback","6.000 X 9.000","Author","Noël Merino",null,null,null,null,null,null,"Years 15 - 17",null,"Grade 10 - 12","Examines whether capitalism is a good, practical, moral, and sustainable economic system. Explores concerns about the relationships between capitalism and democracy, poverty, and personal freedom, and looks at the role of capitalism in the global economic crisis. Also provides perspectives on the question of whether and when the public good warrants intervention by the government in a capitalist system.","English",32,25.6,"330","232 pp.",{"$f":"Table1[[#This Row],['# of Books]]*Table1[[#This Row],[QTY]]","v":0},{"$f":"Table1[[#This Row],[QTY]]*Table1[[#This Row],[School & Library Price]]","v":0}]
[null,27,null,"Current Issues","Current Controversies","College Admissions","978-0-7377-7002-5","Greenhaven Publishing","Library Bound Book",1,2015,null,"Library Bound","6.000 X 9.000","Author","Dedria Bryfonski",null,null,null,null,null,null,"Years 15 - 17",null,"Grade 10 - 12",null,"English",46.4,37.119999999999997,"378","200 pp.",{"$f":"Table1[[#This Row],['# of Books]]*Table1[[#This Row],[QTY]]","v":0},{"$f":"Table1[[#This Row],[QTY]]*Table1[[#This Row],[School & Library Price]]","v":0}]
[null,27,null,"Current Issues","Current Controversies","Conserving the Environment","978-0-7377-4662-4","Greenhaven Publishing","Paperback Book",1,2010,null,"Paperback","6.000 X 9.000","Author","Debra A. Miller",null,null,null,null,null,null,"Years 15 - 17",null,"Grade 10 - 12","Explores the gravity of the global environmental problem with respect to climate, air pollution, overpopulation, water supply, and the health of the oceans. Examines the threat of global warming and the long-term impacts of biodiversity loss and extinction. Discusses potential steps to protect the environment, such as reducing emissions and supporting renewable energy sources, and the role of governments and markets in shaping a sustainable global economy.","English",32,25.6,"333","211 pp.",{"$f":"Table1[[#This Row],['# of Books]]*Table1[[#This Row],[QTY]]","v":0},{"$f":"Table1[[#This Row],[QTY]]*Table1[[#This Row],[School & Library Price]]","v":0}]
[null,27,null,"Current Issues","Current Controversies","Consumer Debt","978-0-7377-4701-0","Greenhaven Publishing","Library Bound Book",1,2010,null,"Library Bound","6.000 X 9.000","Author","Joseph Tardiff",null,null,null,null,null,null,"Years 15 - 17",null,"Grade 10 - 12","Explores the relationship between consumer debt and the economy, and the positive and negative impacts of credit card use on consumers. Do credit cards provide for convenient, secure financial transactions, or entrap low-to-middle income consumers with high interest rates and fees? Looks at the practices of predatory lenders and debt collection agencies - do they treat consumers fairly? - and assesses bankruptcy as an option for handling too much personal debt.","English",46.4,37.119999999999997,"332","264 pp.",{"$f":"Table1[[#This Row],['# of Books]]*Table1[[#This Row],[QTY]]","v":0},{"$f":"Table1[[#This Row],[QTY]]*Table1[[#This Row],[School & Library Price]]","v":0}]
[null,27,null,"Current Issues","Current Controversies","Cybercrime","978-0-7377-7420-7","Greenhaven Publishing","Library Bound Book",1,2016,null,"Library Bound","6.000 X 9.000","Author","Noël Merino",null,null,null,null,null,null,"Years 15 - 17",null,"Grade 10 - 12","This title addresses controversies related to Cybercrime including: Does cybercrime pose a serious problem for US Security? Is cybercrime against individuals a serious problem? How should US cybersecurity be improved? What should be done to protect internet users from cybercrime?","English",46.4,37.119999999999997,"364","173 pp.",{"$f":"Table1[[#This Row],['# of Books]]*Table1[[#This Row],[QTY]]","v":0},{"$f":"Table1[[#This Row],[QTY]]*Table1[[#This Row],[School & Library Price]]","v":0}]
[null,27,null,"Current Issues","Current Controversies","Darfur","978-0-7377-4456-9","Greenhaven Publishing","Library Bound Book",1,2009,null,"Library Bound","6.000 X 9.000","Author","Debra A. Miller",null,null,null,null,null,null,"Years 15 - 17",null,"Grade 10 - 12",null,"English",46.4,37.119999999999997,"962","216 pp.",{"$f":"Table1[[#This Row],['# of Books]]*Table1[[#This Row],[QTY]]","v":0},{"$f":"Table1[[#This Row],[QTY]]*Table1[[#This Row],[School & Library Price]]","v":0}]
[null,27,null,"Current Issues","Current Controversies","Death Penalty","978-0-7377-7213-5","Greenhaven Publishing","Library Bound Book",1,2015,null,"Library Bound","6.000 X 9.000","Author","Noël Merino",null,null,null,null,null,null,"Years 15 - 17",null,"Grade 10 - 12","CURRENT CONTROVERSIES: DEATH PENALTY takes a look at whether the death penalty is just and ethical, if it serves a public good, if it is applied fairly, and how the US death penalty practices should be reformed.","English",46.4,37.119999999999997,"364","157 pp.",{"$f":"Table1[[#This Row],['# of Books]]*Table1[[#This Row],[QTY]]","v":0},{"$f":"Table1[[#This Row],[QTY]]*Table1[[#This Row],[School & Library Price]]","v":0}]
[null,27,null,"Current Issues","Current Controversies","Developing Nations","978-0-7377-5614-2","Greenhaven Publishing","Library Bound Book",1,2012,null,"Library Bound","6.000 X 9.000","Author","Debra A. Miller",null,null,null,null,null,null,"Years 15 - 17",null,"Grade 10 - 12","This edition in the Current Controversies series discusses the many issues related to the world’s developing nations. The title explores the problems facing developing nations, such as hunger, disease, and environmental damage, the impact of the global financial crisis on developing nations, the question of whether or not democracy can be successful in developing areas, and what can be done to help struggling developing countries.","English",46.4,37.119999999999997,"330","192 pp.",{"$f":"Table1[[#This Row],['# of Books]]*Table1[[#This Row],[QTY]]","v":0},{"$f":"Table1[[#This Row],[QTY]]*Table1[[#This Row],[School & Library Price]]","v":0}]
[null,27,null,"Current Issues","Current Controversies","Disaster Response","978-0-7377-4135-3","Greenhaven Publishing","Paperback Book",1,2009,null,"Paperback","6.000 X 9.000","Author","Debra A. Miller",null,null,null,null,null,null,"Years 15 - 17",null,"Grade 10 - 12",null,"English",32,25.6,"363","200 pp.",{"$f":"Table1[[#This Row],['# of Books]]*Table1[[#This Row],[QTY]]","v":0},{"$f":"Table1[[#This Row],[QTY]]*Table1[[#This Row],[School & Library Price]]","v":0}]
[null,27,null,"Current Issues","Current Controversies","Domestic Surveillance","978-0-7377-7435-1","Greenhaven Publishing","Paperback Book",1,2016,null,"Paperback","6.000 X 9.000","Author","Noël Merino",null,null,null,null,null,null,"Years 15 - 17",null,"Grade 10 - 12",null,"English",32,25.6,"345","176 pp.",{"$f":"Table1[[#This Row],['# of Books]]*Table1[[#This Row],[QTY]]","v":0},{"$f":"Table1[[#This Row],[QTY]]*Table1[[#This Row],[School & Library Price]]","v":0}]
[null,27,null,"Current Issues","Current Controversies","Drones","978-0-7377-7423-8","Greenhaven Publishing","Paperback Book",1,2016,null,"Paperback","6.000 X 9.000","Author","Tamara Thompson",null,null,null,null,null,null,"Years 15 - 17",null,"Grade 10 - 12","This title in the Current Controversies series explores the issues surrounding drones, including why drones are controversial, how drone technology has outpaced regulation, whether or not domestic law enforcement agencies should be allowed to use drones, and if commercial drone use should be allowed.","English",32,25.6,"623","205 pp.",{"$f":"Table1[[#This Row],['# of Books]]*Table1[[#This Row],[QTY]]","v":0},{"$f":"Table1[[#This Row],[QTY]]*Table1[[#This Row],[School & Library Price]]","v":0}]
[null,27,null,"Current Issues","Current Controversies","Drones","978-0-7377-7675-1","Greenhaven Publishing","eBook",1,2016,null,"eBook",null,"Author","Tamara Thompson",null,null,null,null,null,null,"Years 15 - 17",null,"Grade 10 - 12",null,"English",46.4,46.4,"358.4","205 pp.",{"$f":"Table1[[#This Row],['# of Books]]*Table1[[#This Row],[QTY]]","v":0},{"$f":"Table1[[#This Row],[QTY]]*Table1[[#This Row],[School & Library Price]]","v":0}]
[null,27,null,"Current Issues","Current Controversies","Drug Trafficking","978-0-7377-3282-5","Greenhaven Publishing","Paperback Book",1,2008,null,"Paperback","6.000 X 9.000","Author","Julia Bauder",null,null,null,null,null,null,"Years 15 - 17",null,"Grade 10 - 12",null,"English",32,25.6,"363","258 pp.",{"$f":"Table1[[#This Row],['# of Books]]*Table1[[#This Row],[QTY]]","v":0},{"$f":"Table1[[#This Row],[QTY]]*Table1[[#This Row],[School & Library Price]]","v":0}]
[null,27,null,"Current Issues","Current Controversies","E-Books","978-0-7377-6223-5","Greenhaven Publishing","Library Bound Book",1,2013,null,"Library Bound","6.000 X 9.000","Author","Debra A. Miller",null,null,null,null,null,null,"Years 15 - 17",null,"Grade 10 - 12","This addition to the Current Controversies series explores issues related to e-books. Each anthology is composed of a wide spectrum of primary sources written by many of the foremost authorities in their respective fields. This unique approach provides students with a concise view of divergent opinions on each topic.","English",46.4,37.119999999999997,"070","160 pp.",{"$f":"Table1[[#This Row],['# of Books]]*Table1[[#This Row],[QTY]]","v":0},{"$f":"Table1[[#This Row],[QTY]]*Table1[[#This Row],[School & Library Price]]","v":0}]
[null,27,null,"Current Issues","Current Controversies","Factory Farming","978-0-7377-6872-5","Greenhaven Publishing","Library Bound Book",1,2013,null,"Library Bound","6.000 X 9.000","Author","Debra A. Miller",null,null,null,null,null,null,"Years 15 - 17",null,"Grade 10 - 12","This title debates various facets of factory farming including, the necessity of large scale farming; the ethics of factory farming; the impact of factory farming on human health and the environment; and the future of factory farming. Each anthology is composed of a wide spectrum of primary sources written by many of the foremost authorities in their respective fields. This unique approach provides students with a concise view of divergent opinions on each topic.","English",46.4,37.119999999999997,"636","152 pp.",{"$f":"Table1[[#This Row],['# of Books]]*Table1[[#This Row],[QTY]]","v":0},{"$f":"Table1[[#This Row],[QTY]]*Table1[[#This Row],[School & Library Price]]","v":0}]
[null,27,null,"Current Issues","Current Controversies","Fair Trade","978-0-7377-4703-4","Greenhaven Publishing","Library Bound Book",1,2010,null,"Library Bound","6.000 X 9.000","Author","Debra A. Miller",null,null,null,null,null,null,"Years 15 - 17",null,"Grade 10 - 12","Explores the growing fair trade movement, which attempts to help small farmers in developing countries secure better prices and promote sustainability. Offers varying perspectives on how beneficial fair trade is for developing countries, its potential impact on global warming, and if fair trade certification should be expanded to large corporations. Examines the relative benefits of fair trade and free trade, and discusses how the limitations of fair trade can be improved.","English",46.4,37.119999999999997,"382","208 pp.",{"$f":"Table1[[#This Row],['# of Books]]*Table1[[#This Row],[QTY]]","v":0},{"$f":"Table1[[#This Row],[QTY]]*Table1[[#This Row],[School & Library Price]]","v":0}]
[null,27,null,"Current Issues","Current Controversies","Family Violence","978-0-7377-6226-6","Greenhaven Publishing","Paperback Book",1,2013,null,"Paperback","6.000 X 9.000","Author","Dedria Bryfonski",null,null,null,null,null,null,"Years 15 - 17",null,"Grade 10 - 12","This title explores issues related to family violence, including what contributes to family violence, is family violence a gender issue, are efforts to reduce family violence effective, and what are the consequences of family violence.","English",32,25.6,"362","221 pp.",{"$f":"Table1[[#This Row],['# of Books]]*Table1[[#This Row],[QTY]]","v":0},{"$f":"Table1[[#This Row],[QTY]]*Table1[[#This Row],[School & Library Price]]","v":0}]
[null,27,null,"Current Issues","Current Controversies","Forensic Technology","978-0-7377-4912-0","Greenhaven Publishing","Paperback Book",1,2011,null,"Paperback","6.000 X 9.000","Author","Sylvia Engdahl",null,null,null,null,null,null,"Years 15 - 17",null,"Grade 10 - 12",null,"English",32,25.6,"363","264 pp.",{"$f":"Table1[[#This Row],['# of Books]]*Table1[[#This Row],[QTY]]","v":0},{"$f":"Table1[[#This Row],[QTY]]*Table1[[#This Row],[School & Library Price]]","v":0}]
[null,27,null,"Current Issues","Current Controversies","Gangs","978-0-7377-7218-0","Greenhaven Publishing","Paperback Book",1,2015,null,"Paperback","6.000 X 9.000","Author","Noah Berlatsky",null,null,null,null,null,null,"Years 15 - 17",null,"Grade 10 - 12","This title in the CURRENT CONTROVERSIES SERIES explores the causes of gang formation and gang violence, whether the number of gangs and gang violence is increasing in the United States.","English",32,25.6,"364","238 pp.",{"$f":"Table1[[#This Row],['# of Books]]*Table1[[#This Row],[QTY]]","v":0},{"$f":"Table1[[#This Row],[QTY]]*Table1[[#This Row],[School & Library Price]]","v":0}]
[null,27,null,"Current Issues","Current Controversies","Gangs","978-0-7377-7677-5","Greenhaven Publishing","eBook",1,2015,null,"eBook",null,"Author","Noah Berlatsky",null,null,null,null,null,null,"Years 15 - 17",null,"Grade 10 - 12",null,"English",46.4,46.4,"364.106","240 pp.",{"$f":"Table1[[#This Row],['# of Books]]*Table1[[#This Row],[QTY]]","v":0},{"$f":"Table1[[#This Row],[QTY]]*Table1[[#This Row],[School & Library Price]]","v":0}]
[null,27,null,"Current Issues","Current Controversies","Gays in the Military","978-0-7377-5618-0","Greenhaven Publishing","Library Bound Book",1,2012,null,"Library Bound","6.000 X 9.000","Author","Debra A. Miller",null,null,null,null,null,null,"Years 15 - 17",null,"Grade 10 - 12","This new addition to the Current Controversies series examines issues related to gay members of the armed forces. The title explores the question of whether or not gays should be permitted to serve openly in the U.S. military, the impact of Congress’s repeal of the \"Don’t Ask, Don’t Tell\" policy, the support or resistance to the policy repeal from those within the military, and the effect of gays openly serving in the military.","English",46.4,37.119999999999997,"355","168 pp.",{"$f":"Table1[[#This Row],['# of Books]]*Table1[[#This Row],[QTY]]","v":0},{"$f":"Table1[[#This Row],[QTY]]*Table1[[#This Row],[School & Library Price]]","v":0}]
[null,27,null,"Current Issues","Current Controversies","Global Warming","978-0-7377-6230-3","Greenhaven Publishing","Paperback Book",1,2013,null,"Paperback","6.000 X 9.000","Author","Debra A. Miller",null,null,null,null,null,null,"Years 15 - 17",null,"Grade 10 - 12","This addition to the Current Controversies series examines issues related to global warming. It is composed of a wide spectrum of primary sources written by many of the foremost authorities in their respective fields. This unique approach provides students with a concise view of divergent opinions on each topic.","English",32,25.6,"363","225 pp.",{"$f":"Table1[[#This Row],['# of Books]]*Table1[[#This Row],[QTY]]","v":0},{"$f":"Table1[[#This Row],[QTY]]*Table1[[#This Row],[School & Library Price]]","v":0}]
[null,28,null,"Current Issues","Current Controversies","Health Care","978-0-7377-5099-7","Greenhaven Publishing","Library Bound Book",1,2011,null,"Library Bound","6.000 X 9.000","Author","Noël Merino",null,null,null,null,null,null,"Years 15 - 17",null,"Grade 10 - 12",null,"English",46.4,37.119999999999997,"362","200 pp.",{"$f":"Table1[[#This Row],['# of Books]]*Table1[[#This Row],[QTY]]","v":0},{"$f":"Table1[[#This Row],[QTY]]*Table1[[#This Row],[School & Library Price]]","v":0}]
[null,28,null,"Current Issues","Current Controversies","Homeschooling","978-0-7377-4140-7","Greenhaven Publishing","Library Bound Book",1,2009,null,"Library Bound","6.000 X 9.000","Author","Myra Immell",null,null,null,null,null,null,"Years 15 - 17",null,"Grade 10 - 12",null,"English",46.4,37.119999999999997,"371","176 pp.",{"$f":"Table1[[#This Row],['# of Books]]*Table1[[#This Row],[QTY]]","v":0},{"$f":"Table1[[#This Row],[QTY]]*Table1[[#This Row],[School & Library Price]]","v":0}]
[null,28,null,"Current Issues","Current Controversies","Human Genetics","978-0-7377-4707-2","Greenhaven Publishing","Library Bound Book",1,2010,null,"Library Bound","6.000 X 9.000","Author","Noël Merino",null,null,null,null,null,null,"Years 15 - 17",null,"Grade 10 - 12","Explores concerns about genetic technology and research, including the potential ethical issues, the need for oversight and control, and the pros, cons and unintended consequences of genetic testing. Offers perspectives on whether or not people should be free to explore genetic enhancements, and if the patenting of genes should be allowed.","English",46.4,37.119999999999997,"611","208 pp.",{"$f":"Table1[[#This Row],['# of Books]]*Table1[[#This Row],[QTY]]","v":0},{"$f":"Table1[[#This Row],[QTY]]*Table1[[#This Row],[School & Library Price]]","v":0}]
[null,28,null,"Current Issues","Current Controversies","Human Trafficking","978-0-7377-6232-7","Greenhaven Publishing","Paperback Book",1,2013,null,"Paperback","6.000 X 9.000","Author","Dedria Bryfonski",null,null,null,null,null,null,"Years 15 - 17",null,"Grade 10 - 12","This title explores issues related to human trafficking, including what factors contribute to human trafficking, if internet sites used for sex trafficking should be shut down, if globalization promotes human trafficking, and how human trafficking can be eliminated.","English",32,25.6,"306","165 pp.",{"$f":"Table1[[#This Row],['# of Books]]*Table1[[#This Row],[QTY]]","v":0},{"$f":"Table1[[#This Row],[QTY]]*Table1[[#This Row],[School & Library Price]]","v":0}]
[null,28,null,"Current Issues","Current Controversies","Immigration","978-0-7377-6874-9","Greenhaven Publishing","Library Bound Book",1,2014,null,"Library Bound","6.000 X 9.000","Author","Debra A. Miller",null,null,null,null,null,null,"Years 15 - 17",null,"Grade 10 - 12","This title explores the most recent issues related to immigration, including: immigration as a serious problem in the US; the US Government and immigration law enforcement; illegal immigrants and a path to citizenship; and proposed immigration reform.","English",46.4,37.119999999999997,"325","184 pp.",{"$f":"Table1[[#This Row],['# of Books]]*Table1[[#This Row],[QTY]]","v":0},{"$f":"Table1[[#This Row],[QTY]]*Table1[[#This Row],[School & Library Price]]","v":0}]
[null,28,null,"Current Issues","Current Controversies","Immigration","978-0-7377-6875-6","Greenhaven Publishing","Paperback Book",1,2014,null,"Paperback","6.000 X 9.000","Author","Debra A. Miller",null,null,null,null,null,null,"Years 15 - 17",null,"Grade 10 - 12","This title explores the most recent issues related to immigration, including: immigration as a serious problem in the US; the US Government and immigration law enforcement; illegal immigrants and a path to citizenship; and proposed immigration reform.","English",32,25.6,"325","182 pp.",{"$f":"Table1[[#This Row],['# of Books]]*Table1[[#This Row],[QTY]]","v":0},{"$f":"Table1[[#This Row],[QTY]]*Table1[[#This Row],[School & Library Price]]","v":0}]
[null,28,null,"Current Issues","Current Controversies","Importing from China","978-0-7377-6233-4","Greenhaven Publishing","Library Bound Book",1,2012,null,"Library Bound","6.000 X 9.000","Author","Debra A. Miller",null,null,null,null,null,null,"Years 15 - 17",null,"Grade 10 - 12","This title explores issues related to importing from China, including whether trade with China benefits the United States, whether imports from China are safe, whether the US/China trade deficit threatens the US economy, and whether the US should toughen trade policies with China.","English",46.4,37.119999999999997,"382","208 pp.",{"$f":"Table1[[#This Row],['# of Books]]*Table1[[#This Row],[QTY]]","v":0},{"$f":"Table1[[#This Row],[QTY]]*Table1[[#This Row],[School & Library Price]]","v":0}]
[null,28,null,"Current Issues","Current Controversies","Internet Activism","978-0-7377-6877-0","Greenhaven Publishing","Paperback Book",1,2013,null,"Paperback","6.000 X 9.000","Author","Sylvia Engdahl",null,null,null,null,null,null,"Years 15 - 17",null,"Grade 10 - 12",null,"English",32,25.6,"302.23","184 pp.",{"$f":"Table1[[#This Row],['# of Books]]*Table1[[#This Row],[QTY]]","v":0},{"$f":"Table1[[#This Row],[QTY]]*Table1[[#This Row],[School & Library Price]]","v":0}]
[null,28,null,"Current Issues","Current Controversies","Islamophobia","978-0-7377-6236-5","Greenhaven Publishing","Paperback Book",1,2013,null,"Paperback","6.000 X 9.000","Author","Dedria Bryfonski",null,null,null,null,null,null,"Years 15 - 17",null,"Grade 10 - 12","This title explores issues related to Islamophobia, including what factors contribute to a fear of Islamists (the media, terrorism, economic factors), whether America is Islamophobic, whether suspicion of Islam is rational, and whether Sharia law poses a threat to America.","English",32,25.6,"305","225 pp.",{"$f":"Table1[[#This Row],['# of Books]]*Table1[[#This Row],[QTY]]","v":0},{"$f":"Table1[[#This Row],[QTY]]*Table1[[#This Row],[School & Library Price]]","v":0}]
[null,28,null,"Current Issues","Current Controversies","Jobs in America","978-0-7377-5184-0","Greenhaven Publishing","Paperback Book",1,2011,null,"Paperback","6.000 X 9.000","Author","Debra A. Miller",null,null,null,null,null,null,"Years 15 - 17",null,"Grade 10 - 12",null,"English",32,25.6,"331","200 pp.",{"$f":"Table1[[#This Row],['# of Books]]*Table1[[#This Row],[QTY]]","v":0},{"$f":"Table1[[#This Row],[QTY]]*Table1[[#This Row],[School & Library Price]]","v":0}]
[null,28,null,"Current Issues","Current Controversies","Medical Ethics","978-0-7377-7222-7","Greenhaven Publishing","Paperback Book",1,2015,null,"Paperback","6.000 X 9.000","Author","Noël Merino",null,null,null,null,null,null,"Years 15 - 17",null,"Grade 10 - 12","This title in the CURRENT CONTROVERSIES SERIES examines topics that pertain to medical ethics, including the establishment of medical ethics, medical research, and end-of-life decisions.","English",32,25.6,"174","208 pp.",{"$f":"Table1[[#This Row],['# of Books]]*Table1[[#This Row],[QTY]]","v":0},{"$f":"Table1[[#This Row],[QTY]]*Table1[[#This Row],[School & Library Price]]","v":0}]
[null,28,null,"Current Issues","Current Controversies","Medical Marijuana","978-0-7377-5424-7","Greenhaven Publishing","Library Bound Book",1,2011,null,"Library Bound","6.000 X 9.000","Author","Noël Merino",null,null,null,null,null,null,"Years 15 - 17",null,"Grade 10 - 12",null,"English",46.4,37.119999999999997,"615","184 pp.",{"$f":"Table1[[#This Row],['# of Books]]*Table1[[#This Row],[QTY]]","v":0},{"$f":"Table1[[#This Row],[QTY]]*Table1[[#This Row],[School & Library Price]]","v":0}]
[null,28,null,"Current Issues","Current Controversies","Military Families","978-0-7377-6878-7","Greenhaven Publishing","Library Bound Book",1,2014,null,"Library Bound","6.000 X 9.000","Author","Sylvia Engdahl",null,null,null,null,null,null,"Years 15 - 17",null,"Grade 10 - 12","This title explores issues related to military families, including: do rising costs justify reducing benefits; personal and social problems facing military families; is being part of a military family detrimental to children; and what the government is doing for them.","English",46.4,37.119999999999997,"306","216 pp.",{"$f":"Table1[[#This Row],['# of Books]]*Table1[[#This Row],[QTY]]","v":0},{"$f":"Table1[[#This Row],[QTY]]*Table1[[#This Row],[School & Library Price]]","v":0}]
[null,28,null,"Current Issues","Current Controversies","Military Families","978-0-7377-6879-4","Greenhaven Publishing","Paperback Book",1,2014,null,"Paperback","6.000 X 9.000","Author","Sylvia Engdahl",null,null,null,null,null,null,"Years 15 - 17",null,"Grade 10 - 12","This title explores issues related to military families, including: do rising costs justify reducing benefits; personal and social problems facing military families; is being part of a military family detrimental to children; and what the government is doing for them.","English",32,25.6,"306","213 pp.",{"$f":"Table1[[#This Row],['# of Books]]*Table1[[#This Row],[QTY]]","v":0},{"$f":"Table1[[#This Row],[QTY]]*Table1[[#This Row],[School & Library Price]]","v":0}]
[null,28,null,"Current Issues","Current Controversies","Modern-Day Piracy","978-0-7377-6029-3","Greenhaven Publishing","Paperback Book",1,2012,null,"Paperback","6.000 X 9.000","Author","Debra A. Miller",null,null,null,null,null,null,"Years 15 - 17",null,"Grade 10 - 12","This title in the Current Controversies series examines the topic of modern piracy. Included articles explore the state of current maritime piracy, the connections between piracy and terrorism, the practice of paying ransom to pirates, and ways the United States and the international community can combat pirate attacks.","English",32,25.6,"364","219 pp.",{"$f":"Table1[[#This Row],['# of Books]]*Table1[[#This Row],[QTY]]","v":0},{"$f":"Table1[[#This Row],[QTY]]*Table1[[#This Row],[School & Library Price]]","v":0}]
[null,28,null,"Current Issues","Current Controversies","Nuclear Armament","978-0-7377-6113-9","Greenhaven Publishing","Library Bound Book",1,2011,null,"Library Bound","6.000 X 9.000","Author","Debra A. Miller",null,null,null,null,null,null,"Years 15 - 17",null,"Grade 10 - 12",null,"English",46.4,37.119999999999997,"327","192 pp.",{"$f":"Table1[[#This Row],['# of Books]]*Table1[[#This Row],[QTY]]","v":0},{"$f":"Table1[[#This Row],[QTY]]*Table1[[#This Row],[School & Library Price]]","v":0}]
[null,28,null,"Current Issues","Current Controversies","Oil","978-0-7377-4919-9","Greenhaven Publishing","Library Bound Book",1,2010,null,"Library Bound","6.000 X 9.000","Author","Debra A. Miller",null,null,null,null,null,null,"Years 15 - 17",null,"Grade 10 - 12",null,"English",46.4,37.119999999999997,"333","224 pp.",{"$f":"Table1[[#This Row],['# of Books]]*Table1[[#This Row],[QTY]]","v":0},{"$f":"Table1[[#This Row],[QTY]]*Table1[[#This Row],[School & Library Price]]","v":0}]
[null,28,null,"Current Issues","Current Controversies","Oil Spills","978-0-7377-6880-0","Greenhaven Publishing","Library Bound Book",1,2014,null,"Library Bound","6.000 X 9.000","Author","Tamara Thompson",null,null,null,null,null,null,"Years 15 - 17",null,"Grade 10 - 12","Title explores issues related to Oil Spills, including, how spills happen, the risks of oil drilling, if the oil industry is prepared to handle oil spills, if the oil industry needs more oversight and regulation. Each anthology is composed of a wide spectrum of primary sources written by many of the foremost authorities in their respective fields. This unique approach provides students with a concise view of divergent opinions on each topic.","English",46.4,37.119999999999997,"628","168 pp.",{"$f":"Table1[[#This Row],['# of Books]]*Table1[[#This Row],[QTY]]","v":0},{"$f":"Table1[[#This Row],[QTY]]*Table1[[#This Row],[School & Library Price]]","v":0}]
[null,28,null,"Current Issues","Current Controversies","Pakistan","978-0-7377-6242-6","Greenhaven Publishing","Paperback Book",1,2013,null,"Paperback","6.000 X 9.000","Author","Debra A. Miller",null,null,null,null,null,null,"Years 15 - 17",null,"Grade 10 - 12","This addition to the Current Controversies series examines issues related to Pakistan. It is composed of a wide spectrum of primary sources written by many of the foremost authorities in their respective fields. This unique approach provides students with a concise view of divergent opinions on each topic.","English",32,25.6,"954","180 pp.",{"$f":"Table1[[#This Row],['# of Books]]*Table1[[#This Row],[QTY]]","v":0},{"$f":"Table1[[#This Row],[QTY]]*Table1[[#This Row],[School & Library Price]]","v":0}]
[null,28,null,"Current Issues","Current Controversies","Pesticides","978-0-7377-6882-4","Greenhaven Publishing","Library Bound Book",1,2014,null,"Library Bound","6.000 X 9.000","Author","Debra A. Miller",null,null,null,null,null,null,"Years 15 - 17",null,"Grade 10 - 12","This title explores  a variety of issues related to pesticides, including whether they are negatively affecting human health, how they are interacting with the environment, whether they are needed to feed the world, and what is the future of pesticides.","English",46.4,37.119999999999997,"632","200 pp.",{"$f":"Table1[[#This Row],['# of Books]]*Table1[[#This Row],[QTY]]","v":0},{"$f":"Table1[[#This Row],[QTY]]*Table1[[#This Row],[School & Library Price]]","v":0}]
[null,28,null,"Current Issues","Current Controversies","Pesticides","978-0-7377-7679-9","Greenhaven Publishing","eBook",1,2014,null,"eBook",null,"Author","Debra A. Miller",null,null,null,null,null,null,"Years 15 - 17",null,"Grade 10 - 12",null,"English",46.4,46.4,"363.738","200 pp.",{"$f":"Table1[[#This Row],['# of Books]]*Table1[[#This Row],[QTY]]","v":0},{"$f":"Table1[[#This Row],[QTY]]*Table1[[#This Row],[School & Library Price]]","v":0}]
[null,28,null,"Current Issues","Current Controversies","Politics and Media","978-0-7377-5632-6","Greenhaven Publishing","Library Bound Book",1,2012,null,"Library Bound","6.000 X 9.000","Author","Debra A. Miller",null,null,null,null,null,null,"Years 15 - 17",null,"Grade 10 - 12","This new addition to the Current Controversies series examines issues related to politics and the media. The title explores the question of whether or not media bias influences politics, the relationship between the Internet and democracy, the impact of social media in global revolution, and the evolving nature of the media’s role in politics.","English",46.4,37.119999999999997,"302","192 pp.",{"$f":"Table1[[#This Row],['# of Books]]*Table1[[#This Row],[QTY]]","v":0},{"$f":"Table1[[#This Row],[QTY]]*Table1[[#This Row],[School & Library Price]]","v":0}]
[null,28,null,"Current Issues","Current Controversies","Politics and Religion","978-0-7377-6885-5","Greenhaven Publishing","Paperback Book",1,2013,null,"Paperback","6.000 X 9.000","Author","Debra A. Miller",null,null,null,null,null,null,"Years 15 - 17",null,"Grade 10 - 12",null,"English",32,25.6,"322","170 pp.",{"$f":"Table1[[#This Row],['# of Books]]*Table1[[#This Row],[QTY]]","v":0},{"$f":"Table1[[#This Row],[QTY]]*Table1[[#This Row],[School & Library Price]]","v":0}]
[null,28,null,"Current Issues","Current Controversies","Poverty and Homelessness","978-0-7377-6886-2","Greenhaven Publishing","Library Bound Book",1,2014,null,"Library Bound","6.000 X 9.000","Author","Noël Merino",null,null,null,null,null,null,"Years 15 - 17",null,"Grade 10 - 12",null,"English",46.4,37.119999999999997,"362","216 pp.",{"$f":"Table1[[#This Row],['# of Books]]*Table1[[#This Row],[QTY]]","v":0},{"$f":"Table1[[#This Row],[QTY]]*Table1[[#This Row],[School & Library Price]]","v":0}]
[null,28,null,"Current Issues","Current Controversies","Prescription Drugs","978-0-7377-6889-3","Greenhaven Publishing","Paperback Book",1,2014,null,"Paperback","6.000 X 9.000","Author","Sylvia Engdahl",null,null,null,null,null,null,"Years 15 - 17",null,"Grade 10 - 12","Title explores issues related to Prescription Drugs, including whether people are taking too many prescription drugs, prescription drug prices, prescription drug abuse, other problems related to prescription drugs. Each anthology is composed of a wide spectrum of primary sources written by many of the foremost authorities in their respective fields. This unique approach provides students with a concise view of divergent opinions on each topic.","English",32,25.6,"338","198 pp.",{"$f":"Table1[[#This Row],['# of Books]]*Table1[[#This Row],[QTY]]","v":0},{"$f":"Table1[[#This Row],[QTY]]*Table1[[#This Row],[School & Library Price]]","v":0}]
[null,28,null,"Current Issues","Current Controversies","Professional Football","978-0-7377-7424-5","Greenhaven Publishing","Library Bound Book",1,2016,null,"Library Bound","6.000 X 9.000","Author","Tamara Thompson",null,null,null,null,null,null,"Years 15 - 17",null,"Grade 10 - 12","This title addresses controversies related to professional football including: Why has professional football been in the news? Does professional football perpetuate violence? Is drug use a serious problem in professional football? What are some other key issues with professional football?","English",46.4,37.119999999999997,"796","185 pp.",{"$f":"Table1[[#This Row],['# of Books]]*Table1[[#This Row],[QTY]]","v":0},{"$f":"Table1[[#This Row],[QTY]]*Table1[[#This Row],[School & Library Price]]","v":0}]
[null,28,null,"Current Issues","Current Controversies","Racial Profiling","978-0-7377-7224-1","Greenhaven Publishing","Paperback Book",1,2015,null,"Paperback","6.000 X 9.000","Author","Noël Merino",null,null,null,null,null,null,"Years 15 - 17",null,"Grade 10 - 12",null,"English",32,25.6,"363","181 pp.",{"$f":"Table1[[#This Row],['# of Books]]*Table1[[#This Row],[QTY]]","v":0},{"$f":"Table1[[#This Row],[QTY]]*Table1[[#This Row],[School & Library Price]]","v":0}]
[null,28,null,"Current Issues","Current Controversies","Racism","978-0-7377-4463-7","Greenhaven Publishing","Paperback Book",1,2009,null,"Paperback","6.000 X 9.000","Author","Noël Merino",null,null,null,null,null,null,"Years 15 - 17",null,"Grade 10 - 12",null,"English",32,25.6,"305","224 pp.",{"$f":"Table1[[#This Row],['# of Books]]*Table1[[#This Row],[QTY]]","v":0},{"$f":"Table1[[#This Row],[QTY]]*Table1[[#This Row],[School & Library Price]]","v":0}]
[null,28,null,"Current Issues","Current Controversies","Rap Music and Culture","978-0-7377-3964-0","Greenhaven Publishing","Library Bound Book",1,2008,null,"Library Bound","6.000 X 9.000","Author","Kate Burns",null,null,null,null,null,null,"Years 15 - 17",null,"Grade 10 - 12",null,"English",46.4,37.119999999999997,"782","192 pp.",{"$f":"Table1[[#This Row],['# of Books]]*Table1[[#This Row],[QTY]]","v":0},{"$f":"Table1[[#This Row],[QTY]]*Table1[[#This Row],[School & Library Price]]","v":0}]
[null,28,null,"Current Issues","Current Controversies","Rap Music and Culture","978-0-7377-3965-7","Greenhaven Publishing","Paperback Book",1,2008,null,"Paperback","6.000 X 9.000","Author","Kate Burns",null,null,null,null,null,null,"Years 15 - 17",null,"Grade 10 - 12",null,"English",32,25.6,"782","192 pp.",{"$f":"Table1[[#This Row],['# of Books]]*Table1[[#This Row],[QTY]]","v":0},{"$f":"Table1[[#This Row],[QTY]]*Table1[[#This Row],[School & Library Price]]","v":0}]
[null,28,null,"Current Issues","Current Controversies","Resistant Infections","978-0-7377-4465-1","Greenhaven Publishing","Paperback Book",1,2009,null,"Paperback","6.000 X 9.000","Author","Debra A. Miller",null,null,null,null,null,null,"Years 15 - 17",null,"Grade 10 - 12",null,"English",32,25.6,"616","200 pp.",{"$f":"Table1[[#This Row],['# of Books]]*Table1[[#This Row],[QTY]]","v":0},{"$f":"Table1[[#This Row],[QTY]]*Table1[[#This Row],[School & Library Price]]","v":0}]
[null,29,null,"Current Issues","Current Controversies","School Violence","978-0-7377-3796-7","Greenhaven Publishing","Paperback Book",1,2008,null,"Paperback","6.000 X 9.000","Author","Lucinda Almond",null,null,null,null,null,null,"Years 15 - 17",null,"Grade 10 - 12",null,"English",32,25.6,"371","224 pp.",{"$f":"Table1[[#This Row],['# of Books]]*Table1[[#This Row],[QTY]]","v":0},{"$f":"Table1[[#This Row],[QTY]]*Table1[[#This Row],[School & Library Price]]","v":0}]
[null,29,null,"Current Issues","Current Controversies","Social Security","978-0-7377-6246-4","Greenhaven Publishing","Paperback Book",1,2013,null,"Paperback","6.000 X 9.000","Author","Debra A. Miller",null,null,null,null,null,null,"Years 15 - 17",null,"Grade 10 - 12",null,"English",32,25.6,"368","170 pp.",{"$f":"Table1[[#This Row],['# of Books]]*Table1[[#This Row],[QTY]]","v":0},{"$f":"Table1[[#This Row],[QTY]]*Table1[[#This Row],[School & Library Price]]","v":0}]
[null,29,null,"Current Issues","Current Controversies","Teens and Privacy","978-0-7377-5133-8","Greenhaven Publishing","Library Bound Book",1,2011,null,"Library Bound","6.000 X 9.000","Author","Noël Merino",null,null,null,null,null,null,"Years 15 - 17",null,"Grade 10 - 12",null,"English",46.4,37.119999999999997,"323","192 pp.",{"$f":"Table1[[#This Row],['# of Books]]*Table1[[#This Row],[QTY]]","v":0},{"$f":"Table1[[#This Row],[QTY]]*Table1[[#This Row],[School & Library Price]]","v":0}]
[null,29,null,"Current Issues","Current Controversies","The Elderly","978-0-7377-5180-2","Greenhaven Publishing","Paperback Book",1,2011,null,"Paperback","6.000 X 9.000","Author","Sylvia Engdahl",null,null,null,null,null,null,"Years 15 - 17",null,"Grade 10 - 12",null,"English",32,25.6,"305","200 pp.",{"$f":"Table1[[#This Row],['# of Books]]*Table1[[#This Row],[QTY]]","v":0},{"$f":"Table1[[#This Row],[QTY]]*Table1[[#This Row],[School & Library Price]]","v":0}]
[null,29,null,"Current Issues","Current Controversies","The Global Food Crisis","978-0-7377-4613-6","Greenhaven Publishing","Library Bound Book",1,2009,null,"Library Bound","6.000 X 9.000","Author","Uma Kukathas",null,null,null,null,null,null,"Years 15 - 17",null,"Grade 10 - 12",null,"English",46.4,37.119999999999997,"363","224 pp.",{"$f":"Table1[[#This Row],['# of Books]]*Table1[[#This Row],[QTY]]","v":0},{"$f":"Table1[[#This Row],[QTY]]*Table1[[#This Row],[School & Library Price]]","v":0}]
[null,29,null,"Current Issues","Current Controversies","The Green Movement","978-0-7377-4913-7","Greenhaven Publishing","Library Bound Book",1,2010,null,"Library Bound","6.000 X 9.000","Author","Debra A. Miller",null,null,null,null,null,null,"Years 15 - 17",null,"Grade 10 - 12",null,"English",46.4,37.119999999999997,"333","224 pp.",{"$f":"Table1[[#This Row],['# of Books]]*Table1[[#This Row],[QTY]]","v":0},{"$f":"Table1[[#This Row],[QTY]]*Table1[[#This Row],[School & Library Price]]","v":0}]
[null,29,null,"Current Issues","Current Controversies","The Green Movement","978-0-7377-4914-4","Greenhaven Publishing","Paperback Book",1,2010,null,"Paperback","6.000 X 9.000","Author","Debra A. Miller",null,null,null,null,null,null,"Years 15 - 17",null,"Grade 10 - 12",null,"English",32,25.6,"333","219 pp.",{"$f":"Table1[[#This Row],['# of Books]]*Table1[[#This Row],[QTY]]","v":0},{"$f":"Table1[[#This Row],[QTY]]*Table1[[#This Row],[School & Library Price]]","v":0}]
[null,29,null,"Current Issues","Current Controversies","The Middle East","978-0-7377-5629-6","Greenhaven Publishing","Paperback Book",1,2012,null,"Paperback","6.000 X 9.000","Author","Noël Merino",null,null,null,null,null,null,"Years 15 - 17",null,"Grade 10 - 12",null,"English",32,25.6,"956","216 pp.",{"$f":"Table1[[#This Row],['# of Books]]*Table1[[#This Row],[QTY]]","v":0},{"$f":"Table1[[#This Row],[QTY]]*Table1[[#This Row],[School & Library Price]]","v":0}]
[null,29,null,"Current Issues","Current Controversies","The Tea Party Movement","978-0-7377-5637-1","Greenhaven Publishing","Paperback Book",1,2012,null,"Paperback","6.000 X 9.000","Author","Debra A. Miller",null,null,null,null,null,null,"Years 15 - 17",null,"Grade 10 - 12",null,"English",32,25.6,"322","192 pp.",{"$f":"Table1[[#This Row],['# of Books]]*Table1[[#This Row],[QTY]]","v":0},{"$f":"Table1[[#This Row],[QTY]]*Table1[[#This Row],[School & Library Price]]","v":0}]
[null,29,null,"Current Issues","Current Controversies","The Uninsured","978-0-7377-5638-8","Greenhaven Publishing","Library Bound Book",1,2011,null,"Library Bound","6.000 X 9.000","Author","Debra A. Miller",null,null,null,null,null,null,"Years 15 - 17",null,"Grade 10 - 12",null,"English",46.4,37.119999999999997,"362","192 pp.",{"$f":"Table1[[#This Row],['# of Books]]*Table1[[#This Row],[QTY]]","v":0},{"$f":"Table1[[#This Row],[QTY]]*Table1[[#This Row],[School & Library Price]]","v":0}]
[null,29,null,"Current Issues","Current Controversies","The Wage Gap","978-0-7377-6892-3","Greenhaven Publishing","Library Bound Book",1,2014,null,"Library Bound","6.000 X 9.000","Author","Noël Merino",null,null,null,null,null,null,"Years 15 - 17",null,"Grade 10 - 12","This title explores issues related to the wage gap, including: problems with the wage gap between men and women; the wage gap as a rich and poor problem; the wage gap among races; is education key to reducing the wage gap. Each anthology is composed of a wide spectrum of primary sources written by many of the foremost authorities in their respective fields. This unique approach provides students with a concise view of divergent opinions on each topic.","English",46.4,37.119999999999997,"331","224 pp.",{"$f":"Table1[[#This Row],['# of Books]]*Table1[[#This Row],[QTY]]","v":0},{"$f":"Table1[[#This Row],[QTY]]*Table1[[#This Row],[School & Library Price]]","v":0}]
[null,29,null,"Current Issues","Current Controversies","The World Economy","978-0-7377-4714-0","Greenhaven Publishing","Paperback Book",1,2010,null,"Paperback","6.000 X 9.000","Author","Noël Merino",null,null,null,null,null,null,"Years 15 - 17",null,"Grade 10 - 12","Explores the factors that might have contributed to the current global financial crisis, discussing financial deregulation, government policies, and increased income inequality. Looks at possible ways to address the issue, and the roles of the United States, the G-20, and the International Monetary Fund in doing so. Also examines whether or not global economics is good for the world and good for the United States.","English",32,25.6,"330","200 pp.",{"$f":"Table1[[#This Row],['# of Books]]*Table1[[#This Row],[QTY]]","v":0},{"$f":"Table1[[#This Row],[QTY]]*Table1[[#This Row],[School & Library Price]]","v":0}]
[null,29,null,"Current Issues","Current Controversies","Urban Sprawl","978-0-7377-6247-1","Greenhaven Publishing","Library Bound Book",1,2014,null,"Library Bound","6.000 X 9.000","Author","Noël Merino",null,null,null,null,null,null,"Years 15 - 17",null,"Grade 10 - 12","Title explores current issues related to urban sprawl including, whether  urban sprawl is a problem in the US; the impact of sprawl on the environment; the impact of sprawl on the economy; and how sprawl should be managed.","English",46.4,37.119999999999997,"307","224 pp.",{"$f":"Table1[[#This Row],['# of Books]]*Table1[[#This Row],[QTY]]","v":0},{"$f":"Table1[[#This Row],[QTY]]*Table1[[#This Row],[School & Library Price]]","v":0}]
[null,29,null,"Current Issues","Current Controversies","US Government Corruption","978-0-7377-5622-7","Greenhaven Publishing","Library Bound Book",1,2011,null,"Library Bound","6.000 X 9.000","Author","Debra A. Miller",null,null,null,null,null,null,"Years 15 - 17",null,"Grade 10 - 12",null,"English",46.4,37.119999999999997,"364","208 pp.",{"$f":"Table1[[#This Row],['# of Books]]*Table1[[#This Row],[QTY]]","v":0},{"$f":"Table1[[#This Row],[QTY]]*Table1[[#This Row],[School & Library Price]]","v":0}]
[null,29,null,"Current Issues","Current Controversies","US Government Corruption","978-0-7377-5623-4","Greenhaven Publishing","Paperback Book",1,2011,null,"Paperback","6.000 X 9.000","Author","Debra A. Miller",null,null,null,null,null,null,"Years 15 - 17",null,"Grade 10 - 12",null,"English",32,25.6,"364","208 pp.",{"$f":"Table1[[#This Row],['# of Books]]*Table1[[#This Row],[QTY]]","v":0},{"$f":"Table1[[#This Row],[QTY]]*Table1[[#This Row],[School & Library Price]]","v":0}]
[null,29,null,"Current Issues","Current Controversies","Vegetarianism","978-0-7377-7227-2","Greenhaven Publishing","Library Bound Book",1,2015,null,"Library Bound","6.000 X 9.000","Author","Amy Francis",null,null,null,null,null,null,"Years 15 - 17",null,"Grade 10 - 12","This edition in the CURRENT CONTROVERSIES SERIES explores such questions surrounding eating a plant-based diet including if meat-based diets are necessarily bad for the planet, the moral and spiritual implications of vegetarianism.","English",46.4,37.119999999999997,"613","232 pp.",{"$f":"Table1[[#This Row],['# of Books]]*Table1[[#This Row],[QTY]]","v":0},{"$f":"Table1[[#This Row],[QTY]]*Table1[[#This Row],[School & Library Price]]","v":0}]
[null,29,null,"Current Issues","Current Controversies","Violence Against Women","978-0-7377-7426-9","Greenhaven Publishing","Library Bound Book",1,2016,null,"Library Bound","6.000 X 9.000","Author","Noël Merino",null,null,null,null,null,null,"Years 15 - 17",null,"Grade 10 - 12","This title in the Current Controversies series shines a light on the topic of violence against women, asking the questions: Is violence against women in the US a serious problem?; What causes  violence against women?; Has legislation aimed at reducing violence against women been effective?; and What is the extent of violence against women worldwide?","English",46.4,37.119999999999997,"362","191 pp.",{"$f":"Table1[[#This Row],['# of Books]]*Table1[[#This Row],[QTY]]","v":0},{"$f":"Table1[[#This Row],[QTY]]*Table1[[#This Row],[School & Library Price]]","v":0}]
[null,29,null,"Current Issues","Current Controversies","Violence in the Media","978-0-7377-3300-6","Greenhaven Publishing","Paperback Book",1,2014,null,"Paperback","6.000 X 9.000","Author","Dedria Bryfonski",null,null,null,null,null,null,"Years 15 - 17",null,"Grade 10 - 12","Title explores issues related to Violence in the Media including violence in music and videos, exposure to violence in television and movies, violent video games, how society should respond to violence in the media. Each anthology is composed of a wide spectrum of primary sources written by many of the foremost authorities in their respective fields. This unique approach provides students with a concise view of divergent opinions on each topic.","English",32,25.6,"303","178 pp.",{"$f":"Table1[[#This Row],['# of Books]]*Table1[[#This Row],[QTY]]","v":0},{"$f":"Table1[[#This Row],[QTY]]*Table1[[#This Row],[School & Library Price]]","v":0}]
[null,30,null,"Current Issues","Global Viewpoints (Aug '17 Set)","Global Viewpoints (Aug '17 Set)","978-1-5345-0149-2","Greenhaven Publishing","Library Set",6,"2018","August 2017","Library","6.000 X 9.000"," "," ",null,null,null,null,null,null,"Years 14 - 17","Grade 10 - 12","Grade 9 - 12","As technology makes the world more accessible, students need exposure to social, political, environmental, and health issues of global significance. Each anthology in the Global Viewpoints series delivers contemporary views on the featured issue with much of the material reflecting stances of countries other than the United States. Primary sources, including speeches and government documents, join essays from international magazines and news sources for a truly panoramic view.","English",277.2,221.76,null,"224 pp.",{"$f":"Table1[[#This Row],['# of Books]]*Table1[[#This Row],[QTY]]","v":0},{"$f":"Table1[[#This Row],[QTY]]*Table1[[#This Row],[School & Library Price]]","v":0}]
[null,30,null,"Current Issues","Global Viewpoints","Extreme Weather Events","978-1-5345-0122-5","Greenhaven Publishing","eBook",1,"2018","August 2017",null,null,"Edited by","Marcia Amidon Lusted",null,null,null,null,"Z",null,"Years 14 - 17","Grade 10 - 12","Grade 9 - 12","In the wake of every killer hurricane, devastating wild fire, severe drought, or once-in-a-century flooding event, it has become commonplace for scientists, politicians, and ordinary citizens to debate whether or not these severe weather events can be tied directly to climate change and global warming. The scientific consensus generally indicates that we are beginning to see upticks in extreme weather due to warming and the resulting shift in weather patterns. Certain politicians, business interests, and energy executives, however, forcefully reject such connections as unproven and speculative. Where does the truth lie? This anthology collects the strongest viewpoints from across the ideological spectrum and the globe and allows readers to evaluate the arguments and evidence for themselves before forming an educated opinion.","English",46.2,36.96,"551.55--dc23","224 pp.",{"$f":"Table1[[#This Row],['# of Books]]*Table1[[#This Row],[QTY]]","v":0},{"$f":"Table1[[#This Row],[QTY]]*Table1[[#This Row],[School & Library Price]]","v":0}]
[null,30,null,"Current Issues","Global Viewpoints","Hate Crimes","978-1-5345-0111-9","Greenhaven Publishing","eBook",1,"2018","August 2017",null,null,"Edited by","Barbara Krasner",null,null,null,null,"Z",null,"Years 14 - 17","Grade 10 - 12","Grade 9 - 12","Few would argue that a violent attack motivated by negative feelings towards the victim’s race, ethnicity, religion, or sexual orientation is a hate crime. But should a hate-motivated crime be punished differently than the same crime committed for a different motive? And what if the crime is verbal—a slur or a ranting blog post or a graffiti scrawl? These may be hateful, but are they hate crimes? And how should they be punished? Are hate crimes on the rise, or are media attention and greater sensitivity to the issue making it appear so? These and other questions are at the center of this thought-provoking collection of articles drawn from across the political spectrum and the globe.","English",46.2,36.96,"364.15--dc23","240 pp.",{"$f":"Table1[[#This Row],['# of Books]]*Table1[[#This Row],[QTY]]","v":0},{"$f":"Table1[[#This Row],[QTY]]*Table1[[#This Row],[School & Library Price]]","v":0}]
[null,30,null,"Current Issues","Global Viewpoints","Hate Crimes","978-1-5345-0108-9","Greenhaven Publishing","Paperback Book",1,"2018","August 2017","Paperback","6.000 X 9.000","Edited by","Barbara Krasner",null,null,null,null,"Z",null,"Years 14 - 17","Grade 10 - 12","Grade 9 - 12","Few would argue that a violent attack motivated by negative feelings towards the victim’s race, ethnicity, religion, or sexual orientation is a hate crime. But should a hate-motivated crime be punished differently than the same crime committed for a different motive? And what if the crime is verbal—a slur or a ranting blog post or a graffiti scrawl? These may be hateful, but are they hate crimes? And how should they be punished? Are hate crimes on the rise, or are media attention and greater sensitivity to the issue making it appear so? These and other questions are at the center of this thought-provoking collection of articles drawn from across the political spectrum and the globe.","English",31.7,25.36,"364.15--dc23","240 pp.",{"$f":"Table1[[#This Row],['# of Books]]*Table1[[#This Row],[QTY]]","v":0},{"$f":"Table1[[#This Row],[QTY]]*Table1[[#This Row],[School & Library Price]]","v":0}]
[null,30,null,"Current Issues","Global Viewpoints","Honor Killings","978-1-5345-0131-7","Greenhaven Publishing","Paperback Book",1,"2018","August 2017","Paperback","6.000 X 9.000","Edited by","Lisa Idzikowski",null,null,null,null,"Z",null,"Years 14 - 17","Grade 10 - 12","Grade 9 - 12","Honor killings are acts of vengeance committed by male relatives against female relatives who have brought “dishonor” upon the family. This “dishonor” can include refusal to enter into an arranged marriage, being the victim of sexual assault, seeking a divorce, or having social or professional interactions outside the community. These crimes often go unpunished or lightly punished in cultures in which the practice is enshrined and are often reported as suicides or accidents. Honor killings occur worldwide, including among immigrant communities within Western democracies. The articles in this volume provide multiple perspectives on how best to prevent, prosecute, and punish such crimes, how to safeguard women’s safety and freedom, and how to balance tradition, religion, and community standards against the protection of universal human rights.","English",31.7,25.36,"306.87--dc23","224 pp.",{"$f":"Table1[[#This Row],['# of Books]]*Table1[[#This Row],[QTY]]","v":0},{"$f":"Table1[[#This Row],[QTY]]*Table1[[#This Row],[School & Library Price]]","v":0}]
[null,30,null,"Current Issues","Global Viewpoints","Migrants and Refugees","978-1-5345-0119-5","Greenhaven Publishing","eBook",1,"2018","August 2017",null,null,"Edited by","M. M. Eboch",null,null,null,null,"Z",null,"Years 14 - 17","Grade 10 - 12","Grade 9 - 12","The images are shocking and upsetting: drowned children washing up on beaches, dozens of dead bodies being pulled out of tractor trailers, a mass of humanity penned up in detention camps and tent cities, anti-immigrant rallies characterized by fearful and hate-filled invective. Yet there are also images of refugees being embraced by ordinary citizens and welcomed into their countries, their communities, even their homes. What to do about a growing and endemic refugee crisis and migrant labor population in an age of globalization, terrorism, and income inequality is a question with no simple answers. This volume presents the widest possible range of opinions from reputable sources across the political spectrum and encouragers readers to consider all viewpoints before formulating their own reasoned and informed perspective.","English",46.2,36.96,"305.9/0691--dc23","272 pp.",{"$f":"Table1[[#This Row],['# of Books]]*Table1[[#This Row],[QTY]]","v":0},{"$f":"Table1[[#This Row],[QTY]]*Table1[[#This Row],[School & Library Price]]","v":0}]
[null,30,null,"Current Issues","Global Viewpoints","Revisiting Nuclear Power","978-1-5345-0127-0","Greenhaven Publishing","Paperback Book",1,"2018","August 2017","Paperback","6.000 X 9.000","Edited by","Anne C. Cunningham",null,null,null,null,"Z",null,"Years 14 - 17","Grade 10 - 12","Grade 9 - 12","In an era defined by anxiety over global warming and the search for alternative fuel sources, nuclear power is rarely part of the conversation. It promises limitless power and a drastic reduction in greenhouse gas emissions worldwide. Yet, it is by no means perfectly safe or “clean,” as Three Mile Island, Chernobyl, and Fukushima remind us. Even so, thirty countries are operating 444 reactors, accounting for almost 11 percent of the world’s electricity production. The debate over nuclear energy is a fierce and emotional one, and arguments, agendas, assumptions, and factual information must be scrutinized meticulously and carefully. This volume allows readers to do just that as they begin to form their own opinions on the viability of nuclear power.","English",31.7,25.36,"333.792'4--dc23","256 pp.",{"$f":"Table1[[#This Row],['# of Books]]*Table1[[#This Row],[QTY]]","v":0},{"$f":"Table1[[#This Row],[QTY]]*Table1[[#This Row],[School & Library Price]]","v":0}]
[null,30,null,"Current Issues","Global Viewpoints","Tech Giants and Digital Domination","978-1-5345-0123-2","Greenhaven Publishing","Paperback Book",1,"2018","August 2017","Paperback","6.000 X 9.000","Edited by","Caleb Bissinger",null,null,null,null,"Z",null,"Years 14 - 17","Grade 10 - 12","Grade 9 - 12","Are tech giants the new robber barons of the digital age? Many governments and ordinary people are increasingly uncomfortable with the monopolistic might a small number of tech companies are amassing, the taxes they are avoiding, the data they are collecting, the privacy they are undermining, and the way they are functioning as “extraterritorial” powers beholden to no state and to no citizen or consumer. All sides of this super-charged debate are represented here—from those of the chieftains of Silicon Valley and EU regulators to FBI counterintelligence agents, scrappy open-source programmers, and ordinary computer users and digital consumers—in an effort to illuminate the digital world we currently inhabit, the limits of its freedoms, and who owns and controls its future.","English",31.7,25.36,"338'.064--dc23","224 pp.",{"$f":"Table1[[#This Row],['# of Books]]*Table1[[#This Row],[QTY]]","v":0},{"$f":"Table1[[#This Row],[QTY]]*Table1[[#This Row],[School & Library Price]]","v":0}]
[null,30,null,"Current Issues","Global Viewpoints","Abortion","978-0-7377-5467-4","Greenhaven Publishing","eBook",1,2010,null,"eBook",null,"Author","Noah Berlatsky",null,null,null,null,null,null,"Years 15 - 17",null,"Grade 10 - 12",null,"English",50.82,50.82,"362.19","256 pp.",{"$f":"Table1[[#This Row],['# of Books]]*Table1[[#This Row],[QTY]]","v":0},{"$f":"Table1[[#This Row],[QTY]]*Table1[[#This Row],[School & Library Price]]","v":0}]
[null,30,null,"Current Issues","Global Viewpoints","Adoption","978-0-7377-6759-9","Greenhaven Publishing","eBook",1,2013,null,"eBook",null,"Author","Diane Andrews Henningfeld",null,null,null,null,null,null,"Years 15 - 17",null,"Grade 10 - 12","This title explores global trends in adoption, addressing such topics as transnational adoption; celebrity adoption; corruption; legal and social issues faced by same-sex adoptive parents; the role of gender, race, and ethnicity in adoption; and the rights of adoptive parents, birth parents, and adoptees. Primary sources, including speeches and government documents, join essays from international magazines and news sources for a truly panoramic view. Helpful features include an annotated table of contents, a world map and country index, a bibliography and a subject index.","English",50.82,50.82,"362.734","241 pp.",{"$f":"Table1[[#This Row],['# of Books]]*Table1[[#This Row],[QTY]]","v":0},{"$f":"Table1[[#This Row],[QTY]]*Table1[[#This Row],[School & Library Price]]","v":0}]
[null,30,null,"Current Issues","Global Viewpoints","Aging","978-0-7377-6902-9","Greenhaven Publishing","Library Bound Book",1,2014,null,"Library Bound","6.000 X 9.000","Author","Noah Berlatsky",null,null,null,null,null,null,"Years 15 - 17",null,"Grade 10 - 12","GLOBAL VIEWPOINTS: AGING examines the effect of aging populations on society, policy solutions to aging populations, attitudes towards the elderly, and health issues and aging.","English",46.2,36.96,"571","208 pp.",{"$f":"Table1[[#This Row],['# of Books]]*Table1[[#This Row],[QTY]]","v":0},{"$f":"Table1[[#This Row],[QTY]]*Table1[[#This Row],[School & Library Price]]","v":0}]
[null,30,null,"Current Issues","Global Viewpoints","Aging","978-0-7377-7019-3","Greenhaven Publishing","eBook",1,2014,null,"eBook",null,"Author","Noah Berlatsky",null,null,null,null,null,null,"Years 15 - 17",null,"Grade 10 - 12","GLOBAL VIEWPOINTS: AGING examines the effect of aging populations on society, policy solutions to aging populations, attitudes towards the elderly, and health issues and aging. Primary sources, including speeches and government documents, join essays from international magazines and news sources for a truly panoramic view. Helpful features include an annotated table of contents, a world map and country index, a bibliography and a subject index.","English",50.82,50.82,"305.26","208 pp.",{"$f":"Table1[[#This Row],['# of Books]]*Table1[[#This Row],[QTY]]","v":0},{"$f":"Table1[[#This Row],[QTY]]*Table1[[#This Row],[School & Library Price]]","v":0}]
[null,30,null,"Current Issues","Global Viewpoints","Alcohol","978-0-7377-5642-5","Greenhaven Publishing","Library Bound Book",1,2012,null,"Library Bound","6.000 X 9.000","Author","Margaret Haerens",null,null,null,null,null,null,"Years 15 - 17",null,"Grade 10 - 12","This edition of the Global Viewpoints series explores trends in alcohol use and abuse around the world. Topics covered include global trends in alcohol consumption, abuse issues in various countries, including Australia, Yemen, Kenya and Russia, strategies to curb alcohol abuse, the relationship between religion and alcohol around the globe, and alcohol culture and tradition (for example, Korean corporate drinking and Britain's campaign for \"Real Ale\").","English",46.2,36.96,"362","200 pp.",{"$f":"Table1[[#This Row],['# of Books]]*Table1[[#This Row],[QTY]]","v":0},{"$f":"Table1[[#This Row],[QTY]]*Table1[[#This Row],[School & Library Price]]","v":0}]
[null,30,null,"Current Issues","Global Viewpoints","Animal Welfare","978-0-7377-6009-5","Greenhaven Publishing","eBook",1,2011,null,"eBook",null,"Author","Christina Fisanick",null,null,null,null,null,null,"Years 15 - 17",null,"Grade 10 - 12",null,"English",50.82,50.82,"179.3","232 pp.",{"$f":"Table1[[#This Row],['# of Books]]*Table1[[#This Row],[QTY]]","v":0},{"$f":"Table1[[#This Row],[QTY]]*Table1[[#This Row],[School & Library Price]]","v":0}]
[null,30,null,"Current Issues","Global Viewpoints","Biodiversity","978-0-7377-6905-0","Greenhaven Publishing","Paperback Book",1,2014,null,"Paperback","6.000 X 9.000","Author","Noah Berlatsky",null,null,null,null,null,null,"Years 15 - 17",null,"Grade 10 - 12","Global Viewpoints: Biodiversity examines the relationship between biodiversity and economic development, wildlife, agriculture, and climate change.","English",31.7,25.36,"333.95","169 pp.",{"$f":"Table1[[#This Row],['# of Books]]*Table1[[#This Row],[QTY]]","v":0},{"$f":"Table1[[#This Row],[QTY]]*Table1[[#This Row],[School & Library Price]]","v":0}]
[null,31,null,"Current Issues","Global Viewpoints","Birth Control","978-0-7377-6436-9","Greenhaven Publishing","Paperback Book",1,2014,null,"Paperback","6.000 X 9.000","Author","Margaret Haerens",null,null,null,null,null,null,"Years 15 - 17",null,"Grade 10 - 12","Global Viewpoints: Birth Control examines issues of birth control and population growth; politics and birth control; social and religious factors affecting access to birth control; and the economics of birth control access.","English",31.7,25.36,"363","215 pp.",{"$f":"Table1[[#This Row],['# of Books]]*Table1[[#This Row],[QTY]]","v":0},{"$f":"Table1[[#This Row],[QTY]]*Table1[[#This Row],[School & Library Price]]","v":0}]
[null,31,null,"Current Issues","Global Viewpoints","Capital Punishment","978-0-7377-4663-1","Greenhaven Publishing","Library Bound Book",1,2010,null,"Library Bound","6.000 X 9.000","Author","Noah Berlatsky",null,null,null,null,null,null,"Years 15 - 17",null,"Grade 10 - 12","Explores capital punishment in the context of morality, justice, public opinion and international relations. Is Europe hypocritical in abolishing the death penalty and not abortion? Is Iran justified in executing people under age 18? Is Japan’s death penalty process too shrouded in secrecy to be fair? Discusses cultures in which capital punishment has popular support, and the impact of extradition treaties and international pressure on the use of the death penalty.","English",46.2,36.96,"364","240 pp.",{"$f":"Table1[[#This Row],['# of Books]]*Table1[[#This Row],[QTY]]","v":0},{"$f":"Table1[[#This Row],[QTY]]*Table1[[#This Row],[School & Library Price]]","v":0}]
[null,31,null,"Current Issues","Global Viewpoints","Capitalism","978-0-7377-6515-1","Greenhaven Publishing","eBook",1,2012,null,"eBook",null,"Author","Noel Merino",null,null,null,null,null,null,"Years 15 - 17",null,"Grade 10 - 12","This edition of the Global Viewpoints series explores international attitudes and issues related to capitalism. The title explores the presence of capitalism around the world, with coverage including France, Germany, Russia, China, India, and Africa. Included articles examine capitalism and the global financial crisis, capitalism and its impact on worldwide democracy, and capitalism and social welfare spending.","English",50.82,50.82,"330.12","252 pp.",{"$f":"Table1[[#This Row],['# of Books]]*Table1[[#This Row],[QTY]]","v":0},{"$f":"Table1[[#This Row],[QTY]]*Table1[[#This Row],[School & Library Price]]","v":0}]
[null,31,null,"Current Issues","Global Viewpoints","Child Soldiers","978-0-7377-4840-6","Greenhaven Publishing","Paperback Book",1,2010,null,"Paperback","6.000 X 9.000","Author","Candice Mancini",null,null,null,null,null,null,"Years 15 - 17",null,"Grade 10 - 12","Explores the manipulation and exploitation of children as soldiers throughout the world, including Uganda, Mozambique and Colombia. Examines the threats and enticements used to recruit children and the long-term impact on their lives, with personal accounts of several former child soldiers. Also discusses efforts on the part of several international organizations to eliminate the practice and provide help and healing to victimized children.","English",31.7,25.36,"355","216 pp.",{"$f":"Table1[[#This Row],['# of Books]]*Table1[[#This Row],[QTY]]","v":0},{"$f":"Table1[[#This Row],[QTY]]*Table1[[#This Row],[School & Library Price]]","v":0}]
[null,31,null,"Current Issues","Global Viewpoints","Civil Liberties","978-0-7377-6437-6","Greenhaven Publishing","Paperback Book",1,2013,null,"Paperback","6.000 X 9.000","Author","Noël Merino",null,null,null,null,null,null,"Years 15 - 17",null,"Grade 10 - 12","This title explores free speech and freedom of expression, media freedom and freedom of the press, the right to due process,  and the right to privacy.","English",31.7,25.36,"363","218 pp.",{"$f":"Table1[[#This Row],['# of Books]]*Table1[[#This Row],[QTY]]","v":0},{"$f":"Table1[[#This Row],[QTY]]*Table1[[#This Row],[School & Library Price]]","v":0}]
[null,31,null,"Current Issues","Global Viewpoints","Civil Liberties","978-0-7377-6760-5","Greenhaven Publishing","eBook",1,2013,null,"eBook",null,"Author","Noel Merino",null,null,null,null,null,null,"Years 15 - 17",null,"Grade 10 - 12","This title explores free speech and freedom of expression, media freedom and freedom of the press, the right to due process,  and the right to privacy.","English",50.82,50.82,"323","224 pp.",{"$f":"Table1[[#This Row],['# of Books]]*Table1[[#This Row],[QTY]]","v":0},{"$f":"Table1[[#This Row],[QTY]]*Table1[[#This Row],[School & Library Price]]","v":0}]
[null,31,null,"Current Issues","Global Viewpoints","Cybercrime","978-0-7377-6906-7","Greenhaven Publishing","Library Bound Book",1,2014,null,"Library Bound","6.000 X 9.000","Author","Noah Berlatsky",null,null,null,null,null,null,"Years 15 - 17",null,"Grade 10 - 12","Global Viewpoints: Cybercrime explores the vulnerability of countries and people to cybercrime; cybercrime law worldwide; the role of organized crime in cybercrime; and cyber espionage and cyber terrorism.","English",46.2,36.96,"364.16","209 pp.",{"$f":"Table1[[#This Row],['# of Books]]*Table1[[#This Row],[QTY]]","v":0},{"$f":"Table1[[#This Row],[QTY]]*Table1[[#This Row],[School & Library Price]]","v":0}]
[null,31,null,"Current Issues","Global Viewpoints","Death and Dying","978-0-7377-4931-1","Greenhaven Publishing","Library Bound Book",1,2010,null,"Library Bound","6.000 X 9.000","Author","Diane Andrews Henningfeld",null,null,null,null,null,null,"Years 15 - 17",null,"Grade 10 - 12","This title explores current issues surrounding death and dying worldwide. Causes of death are examined, including increases in mortality due to AIDS in Africa, drug abuse in Scotland, and suicide in Ireland. Chapters discuss access to palliative end-of-life care and assisted suicide; influences of the world's major religions and their beliefs, traditions and rituals surrounding death; and funeral practices around the world.","English",46.2,36.96,"306","248 pp.",{"$f":"Table1[[#This Row],['# of Books]]*Table1[[#This Row],[QTY]]","v":0},{"$f":"Table1[[#This Row],[QTY]]*Table1[[#This Row],[School & Library Price]]","v":0}]
[null,31,null,"Current Issues","Global Viewpoints","Democracy","978-0-7377-4715-7","Greenhaven Publishing","Library Bound Book",1,2011,null,"Library Bound","6.000 X 9.000","Author","Tom Lansford",null,null,null,null,null,null,"Years 15 - 17",null,"Grade 10 - 12",null,"English",46.2,36.96,"321","240 pp.",{"$f":"Table1[[#This Row],['# of Books]]*Table1[[#This Row],[QTY]]","v":0},{"$f":"Table1[[#This Row],[QTY]]*Table1[[#This Row],[School & Library Price]]","v":0}]
[null,31,null,"Current Issues","Global Viewpoints","Disasters","978-0-7377-6438-3","Greenhaven Publishing","Paperback Book",1,2014,null,"Paperback","6.000 X 9.000","Author","Diane Andrews Henningfeld",null,null,null,null,null,null,"Years 15 - 17",null,"Grade 10 - 12","Global Viewpoints: Disasters examines the causes of disasters; the relationship between disasters, social issues, and politics; disaster preparedness; and responses to and aftermath of disasters.","English",31.7,25.36,"363","258 pp.",{"$f":"Table1[[#This Row],['# of Books]]*Table1[[#This Row],[QTY]]","v":0},{"$f":"Table1[[#This Row],[QTY]]*Table1[[#This Row],[School & Library Price]]","v":0}]
[null,31,null,"Current Issues","Global Viewpoints","Discrimination","978-0-7377-5189-5","Greenhaven Publishing","Library Bound Book",1,2011,null,"Library Bound","6.000 X 9.000","Author","Christina Fisanick",null,null,null,null,null,null,"Years 15 - 17",null,"Grade 10 - 12",null,"English",46.2,36.96,"305","264 pp.",{"$f":"Table1[[#This Row],['# of Books]]*Table1[[#This Row],[QTY]]","v":0},{"$f":"Table1[[#This Row],[QTY]]*Table1[[#This Row],[School & Library Price]]","v":0}]
[null,31,null,"Current Issues","Global Viewpoints","Drugs","978-0-7377-4152-0","Greenhaven Publishing","Library Bound Book",1,2009,null,"Library Bound","6.000 X 9.000","Author","Maria Tenaglia-Webster",null,null,null,null,null,null,"Years 15 - 17",null,"Grade 10 - 12",null,"English",46.2,36.96,"362","264 pp.",{"$f":"Table1[[#This Row],['# of Books]]*Table1[[#This Row],[QTY]]","v":0},{"$f":"Table1[[#This Row],[QTY]]*Table1[[#This Row],[School & Library Price]]","v":0}]
[null,31,null,"Current Issues","Global Viewpoints","Drugs","978-0-7377-4153-7","Greenhaven Publishing","Paperback Book",1,2009,null,"Paperback","6.000 X 9.000","Author","Maria Tenaglia-Webster",null,null,null,null,null,null,"Years 15 - 17",null,"Grade 10 - 12",null,"English",31.7,25.36,"362","259 pp.",{"$f":"Table1[[#This Row],['# of Books]]*Table1[[#This Row],[QTY]]","v":0},{"$f":"Table1[[#This Row],[QTY]]*Table1[[#This Row],[School & Library Price]]","v":0}]
[null,31,null,"Current Issues","Global Viewpoints","Eating Disorders","978-0-7377-6439-0","Greenhaven Publishing","Paperback Book",1,2012,null,"Paperback","6.000 X 9.000","Author","Margaret Haerens",null,null,null,null,null,null,"Years 15 - 17",null,"Grade 10 - 12","This title explores eating disorders trends, body image and eating disorders, the relationship between the media and eating disorders, and strategies to curb eating disorders.","English",31.7,25.36,"616","228 pp.",{"$f":"Table1[[#This Row],['# of Books]]*Table1[[#This Row],[QTY]]","v":0},{"$f":"Table1[[#This Row],[QTY]]*Table1[[#This Row],[School & Library Price]]","v":0}]
[null,31,null,"Current Issues","Global Viewpoints","Education","978-0-7377-5649-4","Greenhaven Publishing","Paperback Book",1,2012,null,"Paperback","6.000 X 9.000","Author","Diane Andrews Henningfeld",null,null,null,null,null,null,"Years 15 - 17",null,"Grade 10 - 12","Articles included in this new addition to the Global Viewpoints series explore issues related to education around the world. Topics covered include barriers to education, such as armed conflict and gender identification, education reform, the relationship between technology, such as laptops and computers, and education, and the impact of religion on education.","English",31.7,25.36,"371","243 pp.",{"$f":"Table1[[#This Row],['# of Books]]*Table1[[#This Row],[QTY]]","v":0},{"$f":"Table1[[#This Row],[QTY]]*Table1[[#This Row],[School & Library Price]]","v":0}]
[null,31,null,"Current Issues","Global Viewpoints","Energy Alternatives","978-0-7377-6440-6","Greenhaven Publishing","Paperback Book",1,2013,null,"Paperback","6.000 X 9.000","Author","Margaret Haerens",null,null,null,null,null,null,"Years 15 - 17",null,"Grade 10 - 12","This title explores global developments in energy alternatives, focusing on nuclear energy---particularly the impact of the Fukushima nuclear crisis---as well as the politics and economics of energy alternatives.","English",31.7,25.36,"333","203 pp.",{"$f":"Table1[[#This Row],['# of Books]]*Table1[[#This Row],[QTY]]","v":0},{"$f":"Table1[[#This Row],[QTY]]*Table1[[#This Row],[School & Library Price]]","v":0}]
[null,31,null,"Current Issues","Global Viewpoints","Extremism","978-0-7377-6909-8","Greenhaven Publishing","Paperback Book",1,2014,null,"Paperback","6.000 X 9.000","Author","Noël Merino",null,null,null,null,null,null,"Years 15 - 17",null,"Grade 10 - 12","This title explores extremism around the world, the causes of extremism, extremism and religion, and dealing with extremism.","English",31.7,25.36,"303","235 pp.",{"$f":"Table1[[#This Row],['# of Books]]*Table1[[#This Row],[QTY]]","v":0},{"$f":"Table1[[#This Row],[QTY]]*Table1[[#This Row],[School & Library Price]]","v":0}]
[null,31,null,"Current Issues","Global Viewpoints","Family Violence","978-0-7377-5651-7","Greenhaven Publishing","Paperback Book",1,2012,null,"Paperback","6.000 X 9.000","Author","Diane Andrews Henningfeld",null,null,null,null,null,null,"Years 15 - 17",null,"Grade 10 - 12",null,"English",31.7,25.36,"362","242 pp.",{"$f":"Table1[[#This Row],['# of Books]]*Table1[[#This Row],[QTY]]","v":0},{"$f":"Table1[[#This Row],[QTY]]*Table1[[#This Row],[School & Library Price]]","v":0}]
[null,31,null,"Current Issues","Global Viewpoints","Famine","978-0-7377-4331-9","Greenhaven Publishing","Paperback Book",1,2009,null,"Paperback","6.000 X 9.000","Author","Diane Andrews Henningfeld",null,null,null,null,null,null,"Years 15 - 17",null,"Grade 10 - 12",null,"English",31.7,25.36,"363","240 pp.",{"$f":"Table1[[#This Row],['# of Books]]*Table1[[#This Row],[QTY]]","v":0},{"$f":"Table1[[#This Row],[QTY]]*Table1[[#This Row],[School & Library Price]]","v":0}]
[null,31,null,"Current Issues","Global Viewpoints","Famine","978-0-7377-4908-3","Greenhaven Publishing","eBook",1,2009,null,"eBook",null,"Author","Diane Andrews Henningfeld",null,null,null,null,null,null,"Years 15 - 17",null,"Grade 10 - 12",null,"English",50.82,50.82,"363.8","240 pp.",{"$f":"Table1[[#This Row],['# of Books]]*Table1[[#This Row],[QTY]]","v":0},{"$f":"Table1[[#This Row],[QTY]]*Table1[[#This Row],[School & Library Price]]","v":0}]
[null,31,null,"Current Issues","Global Viewpoints","Food","978-0-7377-4724-9","Greenhaven Publishing","Paperback Book",1,2010,null,"Paperback","6.000 X 9.000","Author","Christina Fisanick",null,null,null,null,null,null,"Years 15 - 17",null,"Grade 10 - 12","This volume focuses on food around the world: its safety, scarcity, security, and significance in the world economy. Chapters address the need for international food safety standards and current efforts and vulnerabilities; dependence on fossil fuels to produce and ship food; concerns for the world’s fisheries; threats of food shortages in Africa and Asia; and the economic impact of free trade, fair trade, and the local food movement.","English",31.7,25.36,"363","249 pp.",{"$f":"Table1[[#This Row],['# of Books]]*Table1[[#This Row],[QTY]]","v":0},{"$f":"Table1[[#This Row],[QTY]]*Table1[[#This Row],[School & Library Price]]","v":0}]
[null,31,null,"Current Issues","Global Viewpoints","Garbage and Recycling","978-0-7377-5081-2","Greenhaven Publishing","Library Bound Book",1,2011,null,"Library Bound","6.000 X 9.000","Author","Candice Mancini",null,null,null,null,null,null,"Years 15 - 17",null,"Grade 10 - 12",null,"English",46.2,36.96,"363","232 pp.",{"$f":"Table1[[#This Row],['# of Books]]*Table1[[#This Row],[QTY]]","v":0},{"$f":"Table1[[#This Row],[QTY]]*Table1[[#This Row],[School & Library Price]]","v":0}]
[null,31,null,"Current Issues","Global Viewpoints","Genetic Engineering","978-0-7377-6441-3","Greenhaven Publishing","Paperback Book",1,2013,null,"Paperback","6.000 X 9.000","Author","Noah Berlatsky",null,null,null,null,null,null,"Years 15 - 17",null,"Grade 10 - 12","This title explores issues related to genetic engineering in various countries, including the United States, Canada, China, Japan, Kenya, Australia, etc., genetic engineering and crops, genetic engineering and disease,  genetic engineering and animals, and genetic engineering in humans.","English",31.7,25.36,"174","231 pp.",{"$f":"Table1[[#This Row],['# of Books]]*Table1[[#This Row],[QTY]]","v":0},{"$f":"Table1[[#This Row],[QTY]]*Table1[[#This Row],[School & Library Price]]","v":0}]
[null,31,null,"Current Issues","Global Viewpoints","Genetically Modified Food","978-0-7377-6910-4","Greenhaven Publishing","Library Bound Book",1,2014,null,"Library Bound","6.000 X 9.000","Author","Noël Merino Witschi",null,null,null,null,null,null,"Years 15 - 17",null,"Grade 10 - 12","GLOBAL VIEWPOINTS: GENETICALLY MODIFIED FOOD explores the following issues related to genetically modified food: attitudes toward genetically modified food around the world, the impact of genetically modified crops on agriculture.","English",46.2,36.96,"641","217 pp.",{"$f":"Table1[[#This Row],['# of Books]]*Table1[[#This Row],[QTY]]","v":0},{"$f":"Table1[[#This Row],[QTY]]*Table1[[#This Row],[School & Library Price]]","v":0}]
[null,31,null,"Current Issues","Global Viewpoints","Genocide","978-0-7377-5652-4","Greenhaven Publishing","Library Bound Book",1,2012,null,"Library Bound","6.000 X 9.000","Author","Margaret Haerens",null,null,null,null,null,null,"Years 15 - 17",null,"Grade 10 - 12","Articles included in this new addition to the Global Viewpoints series explore issues related to recognizing, analyzing, and defining global genocide. Topics covered include differing international views of what constitutes genocide, contemporary examples of genocide from countries such as the Congo, Sri Lanka, North Korea, and the Sudan, preventing and prosecuting genocide, and the legacy of genocide.","English",46.2,36.96,"304","223 pp.",{"$f":"Table1[[#This Row],['# of Books]]*Table1[[#This Row],[QTY]]","v":0},{"$f":"Table1[[#This Row],[QTY]]*Table1[[#This Row],[School & Library Price]]","v":0}]
[null,31,null,"Current Issues","Global Viewpoints","Genocide","978-0-7377-6612-7","Greenhaven Publishing","eBook",1,2012,null,"eBook",null,"Author","Margaret Haerens",null,null,null,null,null,null,"Years 15 - 17",null,"Grade 10 - 12","Articles included in this new addition to the Global Viewpoints series explore issues related to recognizing, analyzing, and defining global genocide. Topics covered include differing international views of what constitutes genocide, contemporary examples of genocide from countries such as the Congo, Sri Lanka, North Korea, and the Sudan, preventing and prosecuting genocide, and the legacy of genocide.","English",50.82,50.82,"364.151","223 pp.",{"$f":"Table1[[#This Row],['# of Books]]*Table1[[#This Row],[QTY]]","v":0},{"$f":"Table1[[#This Row],[QTY]]*Table1[[#This Row],[School & Library Price]]","v":0}]
[null,31,null,"Current Issues","Global Viewpoints","Health Care","978-0-7377-5655-5","Greenhaven Publishing","Paperback Book",1,2012,null,"Paperback","6.000 X 9.000","Author","Noël Merino",null,null,null,null,null,null,"Years 15 - 17",null,"Grade 10 - 12","This edition of the Global Viewpoints series discusses international health care topics. Included articles explore how health care quality and access to health care services vary from country to country, including the United States, France, Cuba, and Germany. The text also examines the costs of health care and how diseases challenge health care globally.","English",31.7,25.36,"362","230 pp.",{"$f":"Table1[[#This Row],['# of Books]]*Table1[[#This Row],[QTY]]","v":0},{"$f":"Table1[[#This Row],[QTY]]*Table1[[#This Row],[School & Library Price]]","v":0}]
[null,31,null,"Current Issues","Global Viewpoints","Homosexuality","978-0-7377-5191-8","Greenhaven Publishing","Library Bound Book",1,2011,null,"Library Bound","6.000 X 9.000","Author","Noah Berlatsky",null,null,null,null,null,null,"Years 15 - 17",null,"Grade 10 - 12",null,"English",46.2,36.96,"306","224 pp.",{"$f":"Table1[[#This Row],['# of Books]]*Table1[[#This Row],[QTY]]","v":0},{"$f":"Table1[[#This Row],[QTY]]*Table1[[#This Row],[School & Library Price]]","v":0}]
[null,31,null,"Current Issues","Global Viewpoints","Homosexuality","978-0-7377-5935-8","Greenhaven Publishing","eBook",1,2011,null,"eBook",null,"Author","Noah Berlatsky",null,null,null,null,null,null,"Years 15 - 17",null,"Grade 10 - 12",null,"English",50.82,50.82,"306.76","224 pp.",{"$f":"Table1[[#This Row],['# of Books]]*Table1[[#This Row],[QTY]]","v":0},{"$f":"Table1[[#This Row],[QTY]]*Table1[[#This Row],[School & Library Price]]","v":0}]
[null,31,null,"Current Issues","Global Viewpoints","Human Rights","978-0-7377-5193-2","Greenhaven Publishing","Library Bound Book",1,2011,null,"Library Bound","6.000 X 9.000","Author","Margaret Haerens",null,null,null,null,null,null,"Years 15 - 17",null,"Grade 10 - 12",null,"English",46.2,36.96,"323","248 pp.",{"$f":"Table1[[#This Row],['# of Books]]*Table1[[#This Row],[QTY]]","v":0},{"$f":"Table1[[#This Row],[QTY]]*Table1[[#This Row],[School & Library Price]]","v":0}]
[null,31,null,"Current Issues","Global Viewpoints","Human Trafficking","978-0-7377-5659-3","Greenhaven Publishing","Paperback Book",1,2012,null,"Paperback","6.000 X 9.000","Author","Margaret Haerens",null,null,null,null,null,null,"Years 15 - 17",null,"Grade 10 - 12",null,"English",31.7,25.36,"364","211 pp.",{"$f":"Table1[[#This Row],['# of Books]]*Table1[[#This Row],[QTY]]","v":0},{"$f":"Table1[[#This Row],[QTY]]*Table1[[#This Row],[School & Library Price]]","v":0}]
[null,31,null,"Current Issues","Global Viewpoints","Immigration","978-0-7377-4158-2","Greenhaven Publishing","Library Bound Book",1,2009,null,"Library Bound","6.000 X 9.000","Author","Tom Lansford",null,null,null,null,null,null,"Years 15 - 17",null,"Grade 10 - 12",null,"English",46.2,36.96,"325","208 pp.",{"$f":"Table1[[#This Row],['# of Books]]*Table1[[#This Row],[QTY]]","v":0},{"$f":"Table1[[#This Row],[QTY]]*Table1[[#This Row],[School & Library Price]]","v":0}]
[null,32,null,"Current Issues","Global Viewpoints","Imprisonment","978-0-7377-4718-8","Greenhaven Publishing","Paperback Book",1,2010,null,"Paperback","6.000 X 9.000","Author","Noah Berlatsky",null,null,null,null,null,null,"Years 15 - 17",null,"Grade 10 - 12","Explores the main purposes of imprisonment around the world, including punishment, deterrence, rehabilitation, and public safety. Looks at the role of sentencing: Do life sentences violate human rights? How are juvenile offenders treated? Are mandatory sentences effective? Examines the treatment of prisoners and prison conditions like overcrowding, gang activity, sexual abuse and disease, as well as the unique plight of political and religious prisoners.","English",31.7,25.36,"365","240 pp.",{"$f":"Table1[[#This Row],['# of Books]]*Table1[[#This Row],[QTY]]","v":0},{"$f":"Table1[[#This Row],[QTY]]*Table1[[#This Row],[School & Library Price]]","v":0}]
[null,32,null,"Current Issues","Global Viewpoints","Indigenous Peoples","978-0-7377-5029-4","Greenhaven Publishing","eBook",1,2009,null,"eBook",null,"Author","Diane Andrews Henningfeld",null,null,null,null,null,null,"Years 15 - 17",null,"Grade 10 - 12",null,"English",50.82,50.82,"305.8","272 pp.",{"$f":"Table1[[#This Row],['# of Books]]*Table1[[#This Row],[QTY]]","v":0},{"$f":"Table1[[#This Row],[QTY]]*Table1[[#This Row],[School & Library Price]]","v":0}]
[null,32,null,"Current Issues","Global Viewpoints","Juvenile Crime","978-0-7377-6443-7","Greenhaven Publishing","Paperback Book",1,2013,null,"Paperback","6.000 X 9.000","Author","Margaret Haerens",null,null,null,null,null,null,"Years 15 - 17",null,"Grade 10 - 12","This title explores trends in juvenile crime in countries worldwide, including causes and risk factors associated with youth crime. Also addressed are the differences among nations’ juvenile justice systems and the varying ways reform is handled around the world.","English",31.7,25.36,"364","243 pp.",{"$f":"Table1[[#This Row],['# of Books]]*Table1[[#This Row],[QTY]]","v":0},{"$f":"Table1[[#This Row],[QTY]]*Table1[[#This Row],[School & Library Price]]","v":0}]
[null,32,null,"Current Issues","Global Viewpoints","Juvenile Crime","978-0-7377-6762-9","Greenhaven Publishing","eBook",1,2013,null,"eBook",null,"Author","Margaret Haerens",null,null,null,null,null,null,"Years 15 - 17",null,"Grade 10 - 12","This title explores trends in juvenile crime in countries worldwide, including causes and risk factors associated with youth crime. Also addressed are the differences among nations’ juvenile justice systems and the varying ways reform is handled around the world. Primary sources, including speeches and government documents, join essays from international magazines and news sources for a truly panoramic view.","English",50.82,50.82,"364.36","243 pp.",{"$f":"Table1[[#This Row],['# of Books]]*Table1[[#This Row],[QTY]]","v":0},{"$f":"Table1[[#This Row],[QTY]]*Table1[[#This Row],[School & Library Price]]","v":0}]
[null,32,null,"Current Issues","Global Viewpoints","Marriage","978-0-7377-5030-0","Greenhaven Publishing","eBook",1,2009,null,"eBook",null,"Author","Alicia Cafferty Lerner",null,null,null,null,null,null,"Years 15 - 17",null,"Grade 10 - 12",null,"English",50.82,50.82,"306.81","224 pp.",{"$f":"Table1[[#This Row],['# of Books]]*Table1[[#This Row],[QTY]]","v":0},{"$f":"Table1[[#This Row],[QTY]]*Table1[[#This Row],[School & Library Price]]","v":0}]
[null,32,null,"Current Issues","Global Viewpoints","Medical Ethics","978-0-7377-6016-3","Greenhaven Publishing","eBook",1,2011,null,"eBook",null,"Author","Diane Andrews Henningfeld",null,null,null,null,null,null,"Years 15 - 17",null,"Grade 10 - 12",null,"English",50.82,50.82,"174.2","248 pp.",{"$f":"Table1[[#This Row],['# of Books]]*Table1[[#This Row],[QTY]]","v":0},{"$f":"Table1[[#This Row],[QTY]]*Table1[[#This Row],[School & Library Price]]","v":0}]
[null,32,null,"Current Issues","Global Viewpoints","Mental Illness","978-0-7377-6763-6","Greenhaven Publishing","eBook",1,2013,null,"eBook",null,"Author","Noah Berlatsky",null,null,null,null,null,null,"Years 15 - 17",null,"Grade 10 - 12","This book explores mental illness and trauma; mental illness and human rights; mental illness and substance abuse; and mental illness and treatment. Primary sources, including speeches and government documents, join essays from international magazines and news sources for a truly panoramic view. Helpful features include an annotated table of contents, a world map and country index, a bibliography and a subject index.","English",50.82,50.82,"616.89","256 pp.",{"$f":"Table1[[#This Row],['# of Books]]*Table1[[#This Row],[QTY]]","v":0},{"$f":"Table1[[#This Row],[QTY]]*Table1[[#This Row],[School & Library Price]]","v":0}]
[null,32,null,"Current Issues","Global Viewpoints","Mixed Marriage","978-0-7377-7023-0","Greenhaven Publishing","eBook",1,2014,null,"eBook",null,"Author","Margaret Haerens",null,null,null,null,null,null,"Years 15 - 17",null,"Grade 10 - 12","GLOBAL VIEWPOINTS: MIXED MARRIAGE explores the trends of mixed marriage, the factors that influence the prevalence of mixed marriage, barriers to mixed marriage, and some consequences of mixed marriage. Primary sources, including speeches and government documents, join essays from international magazines and news sources for a truly panoramic view. Helpful features include an annotated table of contents, a world map and country index, a bibliography and a subject index.","English",50.82,50.82,"306.84","227 pp.",{"$f":"Table1[[#This Row],['# of Books]]*Table1[[#This Row],[QTY]]","v":0},{"$f":"Table1[[#This Row],[QTY]]*Table1[[#This Row],[School & Library Price]]","v":0}]
[null,32,null,"Current Issues","Global Viewpoints","Obesity","978-0-7377-6460-4","Greenhaven Publishing","eBook",1,2012,null,"eBook",null,"Author","Margaret Haerens",null,null,null,null,null,null,"Years 15 - 17",null,"Grade 10 - 12","This edition of the Global Viewpoints series delivers contemporary perspectives on obesity -- with the majority of the material reflecting stances of countries other than the United States. Primary sources, including speeches and government documents, join essays from international magazines and news sources for a truly panoramic view.","English",50.82,50.82,"616.3","232 pp.",{"$f":"Table1[[#This Row],['# of Books]]*Table1[[#This Row],[QTY]]","v":0},{"$f":"Table1[[#This Row],[QTY]]*Table1[[#This Row],[School & Library Price]]","v":0}]
[null,32,null,"Current Issues","Global Viewpoints","Organ Donation","978-0-7377-6269-3","Greenhaven Publishing","Library Bound Book",1,2013,null,"Library Bound","6.000 X 9.000","Author","Margaret Haerens",null,null,null,null,null,null,"Years 15 - 17",null,"Grade 10 - 12","This title explores issues related to organ donation in various countries, including the United States, Spain, Australia, India, and Pakistan, poverty and organ donation, presumed consent/opt-in/opt-out laws, compensation for donation, and illegal trafficking of organs.","English",46.2,36.96,"362","232 pp.",{"$f":"Table1[[#This Row],['# of Books]]*Table1[[#This Row],[QTY]]","v":0},{"$f":"Table1[[#This Row],[QTY]]*Table1[[#This Row],[School & Library Price]]","v":0}]
[null,32,null,"Current Issues","Global Viewpoints","Popular Culture","978-0-7377-5118-5","Greenhaven Publishing","Library Bound Book",1,2011,null,"Library Bound","6.000 X 9.000","Author","Noah Berlatsky",null,null,null,null,null,null,"Years 15 - 17",null,"Grade 10 - 12",null,"English",46.2,36.96,"306","224 pp.",{"$f":"Table1[[#This Row],['# of Books]]*Table1[[#This Row],[QTY]]","v":0},{"$f":"Table1[[#This Row],[QTY]]*Table1[[#This Row],[School & Library Price]]","v":0}]
[null,32,null,"Current Issues","Global Viewpoints","Popular Culture","978-0-7377-5119-2","Greenhaven Publishing","Paperback Book",1,2011,null,"Paperback","6.000 X 9.000","Author","Noah Berlatsky",null,null,null,null,null,null,"Years 15 - 17",null,"Grade 10 - 12",null,"English",31.7,25.36,"306","220 pp.",{"$f":"Table1[[#This Row],['# of Books]]*Table1[[#This Row],[QTY]]","v":0},{"$f":"Table1[[#This Row],[QTY]]*Table1[[#This Row],[School & Library Price]]","v":0}]
[null,32,null,"Current Issues","Global Viewpoints","Population Growth","978-0-7377-4470-5","Greenhaven Publishing","Library Bound Book",1,2009,null,"Library Bound","6.000 X 9.000","Author","Noah Berlatsky",null,null,null,null,null,null,"Years 15 - 17",null,"Grade 10 - 12",null,"English",46.2,36.96,"363","256 pp.",{"$f":"Table1[[#This Row],['# of Books]]*Table1[[#This Row],[QTY]]","v":0},{"$f":"Table1[[#This Row],[QTY]]*Table1[[#This Row],[School & Library Price]]","v":0}]
[null,32,null,"Current Issues","Global Viewpoints","Poverty","978-0-7377-5662-3","Greenhaven Publishing","Library Bound Book",1,2012,null,"Library Bound","6.000 X 9.000","Author","Noël Merino",null,null,null,null,null,null,"Years 15 - 17",null,"Grade 10 - 12","Articles included in this new addition to the Global Viewpoints series explore the issue of poverty around the world, as well as the impact of the global recession on poverty-related issues. Topics covered include poverty's rise and decline in specific countries, such as China, South Asia, Latin America, and the United States, the causes of poverty around the world, and the efforts to end poverty, from foreign aid to rapid growth.","English",46.2,36.96,"362","256 pp.",{"$f":"Table1[[#This Row],['# of Books]]*Table1[[#This Row],[QTY]]","v":0},{"$f":"Table1[[#This Row],[QTY]]*Table1[[#This Row],[School & Library Price]]","v":0}]
[null,32,null,"Current Issues","Global Viewpoints","Privacy","978-0-7377-6913-5","Greenhaven Publishing","Paperback Book",1,2014,null,"Paperback","6.000 X 9.000","Author","Noël Merino",null,null,null,null,null,null,"Years 15 - 17",null,"Grade 10 - 12","This title examines privacy around the issues of privacy and security, privacy and technology, privacy and sexuality and reproduction, privacy and the public interest.","English",31.7,25.36,"323","200 pp.",{"$f":"Table1[[#This Row],['# of Books]]*Table1[[#This Row],[QTY]]","v":0},{"$f":"Table1[[#This Row],[QTY]]*Table1[[#This Row],[School & Library Price]]","v":0}]
[null,32,null,"Current Issues","Global Viewpoints","Religion","978-0-7377-4721-8","Greenhaven Publishing","Library Bound Book",1,2010,null,"Library Bound","6.000 X 9.000","Author","Diane Andrews Henningfeld",null,null,null,null,null,null,"Years 15 - 17",null,"Grade 10 - 12","Explores current trends in religion around the world, like the spread of Pentecostal Christianity, a religious revival in China, growth of Buddhism in New Zealand, and efforts toward Jewish-Muslim understanding in the U.S. Looks at religion in relation to science, education and politics. Also discusses violence and religious practice, including China's oppression of Tibetan Buddhists, religious strife in Northern Ireland, and oppression of the Bah&#225;'&#237; in Iran.","English",46.2,36.96,"200","248 pp.",{"$f":"Table1[[#This Row],['# of Books]]*Table1[[#This Row],[QTY]]","v":0},{"$f":"Table1[[#This Row],[QTY]]*Table1[[#This Row],[School & Library Price]]","v":0}]
[null,32,null,"Current Issues","Global Viewpoints","Sexual Violence","978-0-7377-6915-9","Greenhaven Publishing","Paperback Book",1,2014,null,"Paperback","6.000 X 9.000","Author","Noah Berlatsky",null,null,null,null,null,null,"Years 15 - 17",null,"Grade 10 - 12","This title examines the topic under the categories of Sexual Violence and Women, Sexual Violence and Children, Sexual Violence and Migration, and Sexual Violence and Political Violence.","English",31.7,25.36,"364","205 pp.",{"$f":"Table1[[#This Row],['# of Books]]*Table1[[#This Row],[QTY]]","v":0},{"$f":"Table1[[#This Row],[QTY]]*Table1[[#This Row],[School & Library Price]]","v":0}]
[null,32,null,"Current Issues","Global Viewpoints","Sexual Violence","978-0-7377-7025-4","Greenhaven Publishing","eBook",1,2014,null,"eBook",null,"Author","Noah Berlatsky",null,null,null,null,null,null,"Years 15 - 17",null,"Grade 10 - 12","This title examines the topic under the categories of Sexual Violence and Women, Sexual Violence and Children, Sexual Violence and Migration, and Sexual Violence and Political Violence. Primary sources, including speeches and government documents, join essays from international magazines and news sources for a truly panoramic view.","English",50.82,50.82,"364.15","205 pp.",{"$f":"Table1[[#This Row],['# of Books]]*Table1[[#This Row],[QTY]]","v":0},{"$f":"Table1[[#This Row],[QTY]]*Table1[[#This Row],[School & Library Price]]","v":0}]
[null,32,null,"Current Issues","Global Viewpoints","Social Justice","978-0-7377-6420-8","Greenhaven Publishing","Library Bound Book",1,2014,null,"Library Bound","6.000 X 9.000","Author","Noël Merino",null,null,null,null,null,null,"Years 15 - 17",null,"Grade 10 - 12","This title examines the topic around the issues of social justice and economic inequality, social justice and minorities, social justice and gender, and global social justice.","English",46.2,36.96,"303","222 pp.",{"$f":"Table1[[#This Row],['# of Books]]*Table1[[#This Row],[QTY]]","v":0},{"$f":"Table1[[#This Row],[QTY]]*Table1[[#This Row],[School & Library Price]]","v":0}]
[null,32,null,"Current Issues","Global Viewpoints","Social Justice","978-0-7377-6421-5","Greenhaven Publishing","Paperback Book",1,2014,null,"Paperback","6.000 X 9.000","Author","Noël Merino",null,null,null,null,null,null,"Years 15 - 17",null,"Grade 10 - 12","This title examines the topic around the issues of social justice and economic inequality, social justice and minorities, social justice and gender, and global social justice.","English",31.7,25.36,"303","222 pp.",{"$f":"Table1[[#This Row],['# of Books]]*Table1[[#This Row],[QTY]]","v":0},{"$f":"Table1[[#This Row],[QTY]]*Table1[[#This Row],[School & Library Price]]","v":0}]
[null,32,null,"Current Issues","Global Viewpoints","Social Networking","978-0-7377-6764-3","Greenhaven Publishing","eBook",1,2013,null,"eBook",null,"Author","Noah Berlatsky",null,null,null,null,null,null,"Years 15 - 17",null,"Grade 10 - 12","This book explores the popularity and use of social networking worldwide; how social networking is used in different cultures; whether social networking has an impact on democratic movements and what that impact may be; and social networking and access to information/censorship. Primary sources, including speeches and government documents, join essays from international magazines and news sources for a truly panoramic view. Helpful features include an annotated table of contents, a world map and country index, a bibliography and a subject index.","English",50.82,50.82,"302.3","177 pp.",{"$f":"Table1[[#This Row],['# of Books]]*Table1[[#This Row],[QTY]]","v":0},{"$f":"Table1[[#This Row],[QTY]]*Table1[[#This Row],[School & Library Price]]","v":0}]
[null,32,null,"Current Issues","Global Viewpoints","Suicide","978-0-7377-5664-7","Greenhaven Publishing","Library Bound Book",1,2012,null,"Library Bound","6.000 X 9.000","Author","Margaret Haerens",null,null,null,null,null,null,"Years 15 - 17",null,"Grade 10 - 12",null,"English",46.2,36.96,"362","232 pp.",{"$f":"Table1[[#This Row],['# of Books]]*Table1[[#This Row],[QTY]]","v":0},{"$f":"Table1[[#This Row],[QTY]]*Table1[[#This Row],[School & Library Price]]","v":0}]
[null,32,null,"Current Issues","Global Viewpoints","The Arab-Israeli Conflict","978-0-7377-5645-6","Greenhaven Publishing","Paperback Book",1,2012,null,"Paperback","6.000 X 9.000","Author","Noah Berlatsky",null,null,null,null,null,null,"Years 15 - 17",null,"Grade 10 - 12","This edition of the Global Viewpoints series explores the Arab-Israeli conflict. Articles included explore the regional issues impacting the conflict, Israel’s history with the Gaza Strip, various issues related to settlements on the West Bank, including whether Israel’s settlement efforts should cease and whether the Fayyad Plan is feasible, and the role of the international community.","English",31.7,25.36,"956","226 pp.",{"$f":"Table1[[#This Row],['# of Books]]*Table1[[#This Row],[QTY]]","v":0},{"$f":"Table1[[#This Row],[QTY]]*Table1[[#This Row],[School & Library Price]]","v":0}]
[null,32,null,"Current Issues","Global Viewpoints","The Culture of Beauty","978-0-7377-4930-4","Greenhaven Publishing","Paperback Book",1,2011,null,"Paperback","6.000 X 9.000","Author","Laurie Willis",null,null,null,null,null,null,"Years 15 - 17",null,"Grade 10 - 12","Explores ideals of beauty, body type and shape around the world, including body enhancements such as make-up, cosmetic surgery, skin lightening, piercing, tattooing and body painting. Examines the social value - and costs - of beauty, the media’s influence on body image, and the impact of cultural norms on fashion and dress standards.","English",31.7,25.36,"391","214 pp.",{"$f":"Table1[[#This Row],['# of Books]]*Table1[[#This Row],[QTY]]","v":0},{"$f":"Table1[[#This Row],[QTY]]*Table1[[#This Row],[School & Library Price]]","v":0}]
[null,32,null,"Current Issues","Global Viewpoints","The Internet","978-0-7377-4935-9","Greenhaven Publishing","Library Bound Book",1,2010,null,"Library Bound","6.000 X 9.000","Author","Gary Wiener",null,null,null,null,null,null,"Years 15 - 17",null,"Grade 10 - 12",null,"English",46.2,36.96,"303","272 pp.",{"$f":"Table1[[#This Row],['# of Books]]*Table1[[#This Row],[QTY]]","v":0},{"$f":"Table1[[#This Row],[QTY]]*Table1[[#This Row],[School & Library Price]]","v":0}]
[null,32,null,"Current Issues","Global Viewpoints","The War in Iraq","978-0-7377-4163-6","Greenhaven Publishing","Paperback Book",1,2009,null,"Paperback","6.000 X 9.000","Author","Tom Lansford",null,null,null,null,null,null,"Years 15 - 17",null,"Grade 10 - 12",null,"English",31.7,25.36,"956","248 pp.",{"$f":"Table1[[#This Row],['# of Books]]*Table1[[#This Row],[QTY]]","v":0},{"$f":"Table1[[#This Row],[QTY]]*Table1[[#This Row],[School & Library Price]]","v":0}]
[null,32,null,"Current Issues","Global Viewpoints","The War on Terror","978-0-7377-6271-6","Greenhaven Publishing","Library Bound Book",1,2012,null,"Library Bound","6.000 X 9.000","Author","Noah Berlatsky",null,null,null,null,null,null,"Years 15 - 17",null,"Grade 10 - 12","This title explores issues related to the war on terror in various countries, including the United States, Israel, Pakistan, Somalia, Afghanistan, European nations, etc., causes of terrorism, issues of human rights, governments' responses to terrorism, and the future of the war on terror.","English",46.2,36.96,"973","194 pp.",{"$f":"Table1[[#This Row],['# of Books]]*Table1[[#This Row],[QTY]]","v":0},{"$f":"Table1[[#This Row],[QTY]]*Table1[[#This Row],[School & Library Price]]","v":0}]
[null,32,null,"Current Issues","Global Viewpoints","The War on Terror","978-0-7377-6447-5","Greenhaven Publishing","Paperback Book",1,2012,null,"Paperback","6.000 X 9.000","Author","Noah Berlatsky",null,null,null,null,null,null,"Years 15 - 17",null,"Grade 10 - 12","This title explores issues related to the war on terror in various countries, including the United States, Israel, Pakistan, Somalia, Afghanistan, European nations, etc., causes of terrorism, issues of human rights, governments' responses to terrorism, and the future of the war on terror.","English",31.7,25.36,"973","194 pp.",{"$f":"Table1[[#This Row],['# of Books]]*Table1[[#This Row],[QTY]]","v":0},{"$f":"Table1[[#This Row],[QTY]]*Table1[[#This Row],[School & Library Price]]","v":0}]
[null,32,null,"Current Issues","Global Viewpoints","Unemployment","978-0-7377-6917-3","Greenhaven Publishing","Paperback Book",1,2014,null,"Paperback","6.000 X 9.000","Author","Noël Merino",null,null,null,null,null,null,"Years 15 - 17",null,"Grade 10 - 12","This title examines the topic around the issues of the global problem of unemployment, the victims of unemployment, the causes of unemployment, and the solutions to unemployment.","English",31.7,25.36,"331","220 pp.",{"$f":"Table1[[#This Row],['# of Books]]*Table1[[#This Row],[QTY]]","v":0},{"$f":"Table1[[#This Row],[QTY]]*Table1[[#This Row],[School & Library Price]]","v":0}]
[null,32,null,"Current Issues","Global Viewpoints","Water","978-0-7377-5667-8","Greenhaven Publishing","Paperback Book",1,2012,null,"Paperback","6.000 X 9.000","Author","Noah Berlatsky",null,null,null,null,null,null,"Years 15 - 17",null,"Grade 10 - 12",null,"English",31.7,25.36,"363","218 pp.",{"$f":"Table1[[#This Row],['# of Books]]*Table1[[#This Row],[QTY]]","v":0},{"$f":"Table1[[#This Row],[QTY]]*Table1[[#This Row],[School & Library Price]]","v":0}]
[null,32,null,"Current Issues","Global Viewpoints","Worker's Rights","978-0-7377-5669-2","Greenhaven Publishing","Paperback Book",1,2012,null,"Paperback","6.000 X 9.000","Author","Noah Berlatsky",null,null,null,null,null,null,"Years 15 - 17",null,"Grade 10 - 12","This new addition to the Global Viewpoints series examines labor regulations worldwide, in countries such as Brazil, India, Greece, and the United States. Topics covered include unions and collective bargaining, issues related to workplace discrimination  in selected countries and regions (such as Asia and Nigeria), and the use of migrant and slave labor.","English",31.7,25.36,"331","234 pp.",{"$f":"Table1[[#This Row],['# of Books]]*Table1[[#This Row],[QTY]]","v":0},{"$f":"Table1[[#This Row],[QTY]]*Table1[[#This Row],[School & Library Price]]","v":0}]
[null,33,null,"Current Issues","Introducing Issues with Opposing Viewpoints (Jan '18 Set)","Introducing Issues with Opposing Viewpoints (Jan '18 Set)","978-1-5345-0286-4","Greenhaven Publishing","Single Copy Set",6,2018,"January 2018","Paperback","6.500 X 9.500"," "," ",null,null,null,null,null,null,"Years 12 - 17","Grade 8 - 10","Grade 7 - 12","Inspired by the highly acclaimed Opposing Viewpoints series, this series promotes issue awareness as well as critical thinking. Extremely user-friendly and accessible, it offers a wealth of information at a lower reading level in a bright, engaging package. This appealing combination helps more students grasp the controversies of our increasingly complex world.\r\n\"The titles in this series will be useful for students studying debate topics or researching for papers. It also teaches the valuable lesson that there are two (or more) sides to every issue.\" AMERICAN REFERENCE BOOKS ANNUAL","English",169.8,135.84,null,"160 pp.",{"$f":"Table1[[#This Row],['# of Books]]*Table1[[#This Row],[QTY]]","v":0},{"$f":"Table1[[#This Row],[QTY]]*Table1[[#This Row],[School & Library Price]]","v":0}]
[null,33,null,"Current Issues","Introducing Issues with Opposing Viewpoints","Globalization and Free Trade","978-1-5345-0191-1","Greenhaven Publishing","Library Bound Book",1,2018,"January 2018","Library","6.500 X 9.500","Edited by","Lisa Idzikowski",null,null,null,null,"Z",null,"Years 12 - 17","Grade 8 - 10","Grade 7 - 12","Where does the United States fit in the global marketplace? Just how much are we exporting to, and importing from, other nations, and shouldn't those goods and services be regulated? The viewpoints in this anthology introduce readers to the pros and cons of globalization and the pitfalls involved with free trade. Readers will learn about trade restrictions, taxes, and tariffs, as well as topics like foreign investments, outsourcing, and why it may be better to keep business interests and industry within U.S. borders.","English",42,33.6,null,"160 pp.",{"$f":"Table1[[#This Row],['# of Books]]*Table1[[#This Row],[QTY]]","v":0},{"$f":"Table1[[#This Row],[QTY]]*Table1[[#This Row],[School & Library Price]]","v":0}]
[null,33,null,"Current Issues","Introducing Issues with Opposing Viewpoints","Internet Journalism and Fake News","978-1-5345-0275-8","Greenhaven Publishing","Paperback Book",1,2018,"January 2018","Paperback","6.500 X 9.500","Edited by","Kathryn Roberts",null,null,null,null,"Z",null,"Years 12 - 17","Grade 8 - 10","Grade 7 - 12","Blogs, Twitter, Facebook, Tumblr, Wikipedia...there are endless sources for information on the Internet. But who can you trust to give you the truth? The catch-all of \"fake news\" has journalists, politicians, and information junkies alike worried about integrity, veracity, and legitimate sourcing. This collection of authoritative but diverse viewpoints tackles what constitutes fake news, where the term originated, and how it is often used to further politicize the media. Readers will also find discussions of propaganda and whether information disseminated by the American government is the only \"real\" news.","English",28.3,22.64,null,"160 pp.",{"$f":"Table1[[#This Row],['# of Books]]*Table1[[#This Row],[QTY]]","v":0},{"$f":"Table1[[#This Row],[QTY]]*Table1[[#This Row],[School & Library Price]]","v":0}]
[null,33,null,"Current Issues","Introducing Issues with Opposing Viewpoints","The Electoral College and the Popular Vote","978-1-5345-0193-5","Greenhaven Publishing","Library Bound Book",1,2018,"January 2018","Library","6.500 X 9.500","Edited by","Lisa Idzikowski",null,null,null,null,"Z",null,"Years 12 - 17","Grade 8 - 10","Grade 7 - 12","What is the Electoral College, and do the American people really need it? Should the popular vote determine the winner in any given presidential election? This anthology examines the origin and purpose of the Electoral College and offers balanced arguments for and against its use in the general election process. Readers will see how the Electoral College and popular vote can function harmoniously together, as well as examples supporting the viewpoint that the system has broken down and doesn't reflect the popular will.","English",42,33.6,null,"160 pp.",{"$f":"Table1[[#This Row],['# of Books]]*Table1[[#This Row],[QTY]]","v":0},{"$f":"Table1[[#This Row],[QTY]]*Table1[[#This Row],[School & Library Price]]","v":0}]
[null,33,null,"Current Issues","Introducing Issues with Opposing Viewpoints","The Electoral College and the Popular Vote","978-1-5345-0274-1","Greenhaven Publishing","Paperback Book",1,2018,"January 2018","Paperback","6.500 X 9.500","Edited by","Lisa Idzikowski",null,null,null,null,"Z",null,"Years 12 - 17","Grade 8 - 10","Grade 7 - 12","What is the Electoral College, and do the American people really need it? Should the popular vote determine the winner in any given presidential election? This anthology examines the origin and purpose of the Electoral College and offers balanced arguments for and against its use in the general election process. Readers will see how the Electoral College and popular vote can function harmoniously together, as well as examples supporting the viewpoint that the system has broken down and doesn't reflect the popular will.","English",28.3,22.64,null,"160 pp.",{"$f":"Table1[[#This Row],['# of Books]]*Table1[[#This Row],[QTY]]","v":0},{"$f":"Table1[[#This Row],[QTY]]*Table1[[#This Row],[School & Library Price]]","v":0}]
[null,33,null,"Current Issues","Introducing Issues with Opposing Viewpoints","The Next Mass Extinction","978-1-5345-0278-9","Greenhaven Publishing","Paperback Book",1,2018,"January 2018","Paperback","6.500 X 9.500","Edited by","M. M. Eboch",null,null,null,null,"Z",null,"Years 12 - 17","Grade 8 - 10","Grade 7 - 12","According to scientists, an asteroid wiped out the last of the dinosaurs approximately 66 million years ago. This is just the most recent major extinction event our planet has experienced. There have been at least five, along with numerous minor events, and more could be on the way. The voices in this balanced anthology discuss whether claims of mass extinction can really be substantiated, the impact of these events, when another large-scale extinction may occur, and whether humans would survive a cataclysmic event designed to reboot the Earth.","English",28.3,22.64,null,"160 pp.",{"$f":"Table1[[#This Row],['# of Books]]*Table1[[#This Row],[QTY]]","v":0},{"$f":"Table1[[#This Row],[QTY]]*Table1[[#This Row],[School & Library Price]]","v":0}]
[null,33,null,"Current Issues","Introducing Issues with Opposing Viewpoints","Afghanistan","978-0-7377-4729-4","Greenhaven Publishing","Library Bound Book",1,2010,null,"Library Bound","6.500 X 9.500","Author","Lauri S. Friedman",null,null,null,null,null,null,"Years 12 - 15",null,"Grade 7 - 10","This title explores the current progress of the war in Afghanistan, addressing challenges like the presence of the Taliban, the likelihood of democracy succeeding in the region, the status of women, and corruption. Also discussed are future choices for the United States’ involvement, including stay or leave, draw down or send more troops, and focus on the military or the humanitarian mission.","English",42,33.6,"958","144 pp.",{"$f":"Table1[[#This Row],['# of Books]]*Table1[[#This Row],[QTY]]","v":0},{"$f":"Table1[[#This Row],[QTY]]*Table1[[#This Row],[School & Library Price]]","v":0}]
[null,33,null,"Current Issues","Introducing Issues with Opposing Viewpoints","Alternative Medicine","978-0-7377-4333-3","Greenhaven Publishing","Library Bound Book",1,2009,null,"Library Bound","6.500 X 9.500","Author","Jacqueline Langwith",null,null,null,null,null,null,"Years 12 - 15",null,"Grade 7 - 10",null,"English",42,33.6,"610","184 pp.",{"$f":"Table1[[#This Row],['# of Books]]*Table1[[#This Row],[QTY]]","v":0},{"$f":"Table1[[#This Row],[QTY]]*Table1[[#This Row],[School & Library Price]]","v":0}]
[null,33,null,"Current Issues","Introducing Issues with Opposing Viewpoints","Antibiotics","978-0-7377-6919-7","Greenhaven Publishing","Library Bound Book",1,2014,null,"Library Bound","6.500 X 9.500","Author","Mary E. Williams",null,null,null,null,null,null,"Years 12 - 15",null,"Grade 7 - 10","The issues surrounding antibiotics continue to be debated. This title looks at whether antibiotics are harmful, how antibiotics should be used, and what should be done to stop the spread of drug-resistant bacteria.","English",42,33.6,"615","136 pp.",{"$f":"Table1[[#This Row],['# of Books]]*Table1[[#This Row],[QTY]]","v":0},{"$f":"Table1[[#This Row],[QTY]]*Table1[[#This Row],[School & Library Price]]","v":0}]
[null,34,null,"Current Issues","Introducing Issues with Opposing Viewpoints","Banned Books","978-0-7377-5671-5","Greenhaven Publishing","Library Bound Book",1,2012,null,"Library Bound","6.500 X 9.500","Author","Cynthia A. Bily",null,null,null,null,null,null,"Years 12 - 15",null,"Grade 7 - 10","This new title in the INTRODUCING ISSUES WITH OPPOSING VIEWPOINTS series discusses the topic of banned books. The text explores whether or not children should be protected from controversial books and whether or not certain topics or kinds of materials should be restricted. Included articles also examine alternatives to banning controversial books, such as editing or flagging potentially offensive content.","English",42,33.6,"098","128 pp.",{"$f":"Table1[[#This Row],['# of Books]]*Table1[[#This Row],[QTY]]","v":0},{"$f":"Table1[[#This Row],[QTY]]*Table1[[#This Row],[School & Library Price]]","v":0}]
[null,34,null,"Current Issues","Introducing Issues with Opposing Viewpoints","Birth Control","978-0-7377-4334-0","Greenhaven Publishing","Library Bound Book",1,2009,null,"Library Bound","6.500 X 9.500","Author","Lauri S. Friedman",null,null,null,null,null,null,"Years 12 - 15",null,"Grade 7 - 10",null,"English",42,33.6,"363","128 pp.",{"$f":"Table1[[#This Row],['# of Books]]*Table1[[#This Row],[QTY]]","v":0},{"$f":"Table1[[#This Row],[QTY]]*Table1[[#This Row],[School & Library Price]]","v":0}]
[null,34,null,"Current Issues","Introducing Issues with Opposing Viewpoints","Cheating","978-0-7377-3802-5","Greenhaven Publishing","Library Bound Book",1,2008,null,"Library Bound","6.500 X 9.500","Author","Patty Jo Sawvel",null,null,null,null,null,null,"Years 12 - 15",null,"Grade 7 - 10",null,"English",42,33.6,"371","144 pp.",{"$f":"Table1[[#This Row],['# of Books]]*Table1[[#This Row],[QTY]]","v":0},{"$f":"Table1[[#This Row],[QTY]]*Table1[[#This Row],[School & Library Price]]","v":0}]
[null,34,null,"Current Issues","Introducing Issues with Opposing Viewpoints","Child Abuse","978-0-7377-5672-2","Greenhaven Publishing","Library Bound Book",1,2011,null,"Library Bound","6.500 X 9.500","Author","Jacqueline Langwith",null,null,null,null,null,null,"Years 12 - 15",null,"Grade 7 - 10",null,"English",42,33.6,"362","152 pp.",{"$f":"Table1[[#This Row],['# of Books]]*Table1[[#This Row],[QTY]]","v":0},{"$f":"Table1[[#This Row],[QTY]]*Table1[[#This Row],[School & Library Price]]","v":0}]
[null,34,null,"Current Issues","Introducing Issues with Opposing Viewpoints","College","978-0-7377-4336-4","Greenhaven Publishing","Library Bound Book",1,2009,null,"Library Bound","6.500 X 9.500","Author","Jacqueline Langwith",null,null,null,null,null,null,"Years 12 - 15",null,"Grade 7 - 10",null,"English",42,33.6,"378","152 pp.",{"$f":"Table1[[#This Row],['# of Books]]*Table1[[#This Row],[QTY]]","v":0},{"$f":"Table1[[#This Row],[QTY]]*Table1[[#This Row],[School & Library Price]]","v":0}]
[null,34,null,"Current Issues","Introducing Issues with Opposing Viewpoints","Crime","978-0-7377-4167-4","Greenhaven Publishing","Library Bound Book",1,2008,null,"Library Bound","6.500 X 9.500","Author","Lauri S. Friedman",null,null,null,null,null,null,"Years 12 - 15",null,"Grade 7 - 10",null,"English",42,33.6,"364","128 pp.",{"$f":"Table1[[#This Row],['# of Books]]*Table1[[#This Row],[QTY]]","v":0},{"$f":"Table1[[#This Row],[QTY]]*Table1[[#This Row],[School & Library Price]]","v":0}]
[null,34,null,"Current Issues","Introducing Issues with Opposing Viewpoints","Debt","978-0-7377-5673-9","Greenhaven Publishing","Library Bound Book",1,2013,null,"Library Bound","6.500 X 9.500","Author","Christina Fisanick",null,null,null,null,null,null,"Years 12 - 15",null,"Grade 7 - 10","IIOVP: DEBT explores how teens should manage debt, including whether they should have access to credit cards; debates the best methods for managing consumer debt; and who should be responsible for paying off debt (government bailouts, parents bailing kids out, etc.).","English",42,33.6,"332","136 pp.",{"$f":"Table1[[#This Row],['# of Books]]*Table1[[#This Row],[QTY]]","v":0},{"$f":"Table1[[#This Row],[QTY]]*Table1[[#This Row],[School & Library Price]]","v":0}]
[null,34,null,"Current Issues","Introducing Issues with Opposing Viewpoints","Divorce","978-0-7377-5674-6","Greenhaven Publishing","Library Bound Book",1,2012,null,"Library Bound","6.500 X 9.500","Author","Jacqueline Langwith",null,null,null,null,null,null,"Years 12 - 15",null,"Grade 7 - 10","This new entry into the INTRODUCING ISSUES WITH OPPOSING VIEWPOINTS series examines issues related to divorce. Included articles address whether there is an epidemic of divorce in America; the effects of divorce, such as how well the collaborative divorce process works, if shared custody is always in a child's best interest, and the impact of divorce on fathers and men; and which laws should govern divorce proceedings.","English",42,33.6,"306","136 pp.",{"$f":"Table1[[#This Row],['# of Books]]*Table1[[#This Row],[QTY]]","v":0},{"$f":"Table1[[#This Row],[QTY]]*Table1[[#This Row],[School & Library Price]]","v":0}]
[null,34,null,"Current Issues","Introducing Issues with Opposing Viewpoints","Endangered Species","978-0-7377-5676-0","Greenhaven Publishing","Library Bound Book",1,2012,null,"Library Bound","6.500 X 9.500","Author","Lauri S. Friedman",null,null,null,null,null,null,"Years 12 - 15",null,"Grade 7 - 10",null,"English",42,33.6,"333","136 pp.",{"$f":"Table1[[#This Row],['# of Books]]*Table1[[#This Row],[QTY]]","v":0},{"$f":"Table1[[#This Row],[QTY]]*Table1[[#This Row],[School & Library Price]]","v":0}]
[null,34,null,"Current Issues","Introducing Issues with Opposing Viewpoints","Factory Farming","978-0-7377-7235-7","Greenhaven Publishing","Library Bound Book",1,2015,null,"Library Bound","6.500 X 9.500","Author","Lauri S. Scherer",null,null,null,null,null,null,"Years 12 - 15",null,"Grade 7 - 10","Introducing Issues with OPPOSING VIEWPOINTS: FACTORY FARMING examines the efficiency of factory farming and whether or not it can meet the world's demand for food. ","English",42,33.6,"179","128 pp.",{"$f":"Table1[[#This Row],['# of Books]]*Table1[[#This Row],[QTY]]","v":0},{"$f":"Table1[[#This Row],[QTY]]*Table1[[#This Row],[School & Library Price]]","v":0}]
[null,34,null,"Current Issues","Introducing Issues with Opposing Viewpoints","Food Safety","978-0-7377-5678-4","Greenhaven Publishing","Library Bound Book",1,2012,null,"Library Bound","6.500 X 9.500","Author","Noël Merino",null,null,null,null,null,null,"Years 12 - 15",null,"Grade 7 - 10",null,"English",42,33.6,"363","144 pp.",{"$f":"Table1[[#This Row],['# of Books]]*Table1[[#This Row],[QTY]]","v":0},{"$f":"Table1[[#This Row],[QTY]]*Table1[[#This Row],[School & Library Price]]","v":0}]
[null,34,null,"Current Issues","Introducing Issues with Opposing Viewpoints","Gangs","978-0-7377-5679-1","Greenhaven Publishing","Library Bound Book",1,2012,null,"Library Bound","6.500 X 9.500","Author","Mary E. Williams",null,null,null,null,null,null,"Years 12 - 15",null,"Grade 7 - 10","Gang activity continues to make headlines on both the local and the international levels. This new title explores why people join gangs, what factors contribute to the emergence of gangs, what causes gang violence, and what strategies are most effective at reducing gang activity.","English",42,33.6,"364","144 pp.",{"$f":"Table1[[#This Row],['# of Books]]*Table1[[#This Row],[QTY]]","v":0},{"$f":"Table1[[#This Row],[QTY]]*Table1[[#This Row],[School & Library Price]]","v":0}]
[null,34,null,"Current Issues","Introducing Issues with Opposing Viewpoints","Genetic Engineering","978-0-7377-5680-7","Greenhaven Publishing","Library Bound Book",1,2012,null,"Library Bound","6.500 X 9.500","Author","Lauri S. Friedman",null,null,null,null,null,null,"Years 12 - 15",null,"Grade 7 - 10",null,"English",42,33.6,"174","152 pp.",{"$f":"Table1[[#This Row],['# of Books]]*Table1[[#This Row],[QTY]]","v":0},{"$f":"Table1[[#This Row],[QTY]]*Table1[[#This Row],[School & Library Price]]","v":0}]
[null,34,null,"Current Issues","Introducing Issues with Opposing Viewpoints","Hate Crimes","978-0-7377-4169-8","Greenhaven Publishing","Library Bound Book",1,2009,null,"Library Bound","6.500 X 9.500","Author","Noël Merino",null,null,null,null,null,null,"Years 12 - 15",null,"Grade 7 - 10",null,"English",42,33.6,"305","136 pp.",{"$f":"Table1[[#This Row],['# of Books]]*Table1[[#This Row],[QTY]]","v":0},{"$f":"Table1[[#This Row],[QTY]]*Table1[[#This Row],[School & Library Price]]","v":0}]
[null,34,null,"Current Issues","Introducing Issues with Opposing Viewpoints","Human Rights","978-0-7377-6924-1","Greenhaven Publishing","Library Bound Book",1,2014,null,"Library Bound","6.500 X 9.500","Author","Lauri S. Scherer",null,null,null,null,null,null,"Years 12 - 15",null,"Grade 7 - 10","Introducing Issues with Opposing Viewpoints: Human Rights examines what constitutes a human right, what constitutes a human rights violation, and how the United States should protect human rights.","English",42,33.6,"323","144 pp.",{"$f":"Table1[[#This Row],['# of Books]]*Table1[[#This Row],[QTY]]","v":0},{"$f":"Table1[[#This Row],[QTY]]*Table1[[#This Row],[School & Library Price]]","v":0}]
[null,34,null,"Current Issues","Introducing Issues with Opposing Viewpoints","Judaism","978-0-7377-3976-3","Greenhaven Publishing","Library Bound Book",1,2008,null,"Library Bound","6.500 X 9.500","Author","Emma Carlson Berne",null,null,null,null,null,null,"Years 12 - 15",null,"Grade 7 - 10",null,"English",42,33.6,"296","120 pp.",{"$f":"Table1[[#This Row],['# of Books]]*Table1[[#This Row],[QTY]]","v":0},{"$f":"Table1[[#This Row],[QTY]]*Table1[[#This Row],[School & Library Price]]","v":0}]
[null,34,null,"Current Issues","Introducing Issues with Opposing Viewpoints","Media Bias","978-0-7377-7236-4","Greenhaven Publishing","Library Bound Book",1,2015,null,"Library Bound","6.500 X 9.500","Author","Ebonie Ledbetter",null,null,null,null,null,null,"Years 12 - 15",null,"Grade 7 - 10","The title in the Introducing Issues with OPPOSING VIEWPOINTS SERIES examines the facets of media bias: is it real; does it matter; is it polarized into liberal and conservative issues; does big business play a part; and how does it affect society.","English",42,33.6,"302","160 pp.",{"$f":"Table1[[#This Row],['# of Books]]*Table1[[#This Row],[QTY]]","v":0},{"$f":"Table1[[#This Row],[QTY]]*Table1[[#This Row],[School & Library Price]]","v":0}]
[null,35,null,"Current Issues","Introducing Issues with Opposing Viewpoints","Native Americans","978-0-7377-3977-0","Greenhaven Publishing","Library Bound Book",1,2008,null,"Library Bound","6.500 X 9.500","Author","Noël Merino",null,null,null,null,null,null,"Years 12 - 15",null,"Grade 7 - 10",null,"English",42,33.6,"305","120 pp.",{"$f":"Table1[[#This Row],['# of Books]]*Table1[[#This Row],[QTY]]","v":0},{"$f":"Table1[[#This Row],[QTY]]*Table1[[#This Row],[School & Library Price]]","v":0}]
[null,35,null,"Current Issues","Introducing Issues with Opposing Viewpoints","Nuclear Power","978-0-7377-4482-8","Greenhaven Publishing","Library Bound Book",1,2010,null,"Library Bound","6.500 X 9.500","Author","Lauri S. Friedman",null,null,null,null,null,null,"Years 12 - 15",null,"Grade 7 - 10",null,"English",42,33.6,"333","144 pp.",{"$f":"Table1[[#This Row],['# of Books]]*Table1[[#This Row],[QTY]]","v":0},{"$f":"Table1[[#This Row],[QTY]]*Table1[[#This Row],[School & Library Price]]","v":0}]
[null,35,null,"Current Issues","Introducing Issues with Opposing Viewpoints","Oil","978-0-7377-6279-2","Greenhaven Publishing","Library Bound Book",1,2013,null,"Library Bound","6.500 X 9.500","Author","Lauri S. Scherer",null,null,null,null,null,null,"Years 12 - 15",null,"Grade 7 - 10","IIOVP: Oil addresses whether oil is running out; what problems accompany oil use; and energy sources that might replace oil.","English",42,33.6,"333","144 pp.",{"$f":"Table1[[#This Row],['# of Books]]*Table1[[#This Row],[QTY]]","v":0},{"$f":"Table1[[#This Row],[QTY]]*Table1[[#This Row],[School & Library Price]]","v":0}]
[null,35,null,"Current Issues","Introducing Issues with Opposing Viewpoints","Paranormal Phenomena","978-0-7377-5684-5","Greenhaven Publishing","Library Bound Book",1,2012,null,"Library Bound","6.500 X 9.500","Author","Norah Piehl",null,null,null,null,null,null,"Years 12 - 15",null,"Grade 7 - 10",null,"English",42,33.6,"130","136 pp.",{"$f":"Table1[[#This Row],['# of Books]]*Table1[[#This Row],[QTY]]","v":0},{"$f":"Table1[[#This Row],[QTY]]*Table1[[#This Row],[School & Library Price]]","v":0}]
[null,35,null,"Current Issues","Introducing Issues with Opposing Viewpoints","Religion in Schools","978-0-7377-5685-2","Greenhaven Publishing","Library Bound Book",1,2012,null,"Library Bound","6.500 X 9.500","Author","Noël Merino",null,null,null,null,null,null,"Years 12 - 15",null,"Grade 7 - 10","The edition of the INTRODUCING ISSUES WITH OPPOSING VIEWPOINTS series examines the role of religion in schools. Topics include whether or not religion should be allowed in public schools; teaching alternatives to evolution theory; and religious activities—such as prayer, moments of silence, and certain holiday-related events—in public schools.","English",42,33.6,"379","128 pp.",{"$f":"Table1[[#This Row],['# of Books]]*Table1[[#This Row],[QTY]]","v":0},{"$f":"Table1[[#This Row],[QTY]]*Table1[[#This Row],[School & Library Price]]","v":0}]
[null,35,null,"Current Issues","Introducing Issues with Opposing Viewpoints","Self-Injury","978-0-7377-6280-8","Greenhaven Publishing","Library Bound Book",1,2013,null,"Library Bound","6.500 X 9.500","Author","Mary E. Williams",null,null,null,null,null,null,"Years 12 - 15",null,"Grade 7 - 10","IIOVP: Self-Injury examines those who are affected by self-injury, the reasons people self-injure, and ways that self-injurers can be helped.","English",42,33.6,"616","128 pp.",{"$f":"Table1[[#This Row],['# of Books]]*Table1[[#This Row],[QTY]]","v":0},{"$f":"Table1[[#This Row],[QTY]]*Table1[[#This Row],[School & Library Price]]","v":0}]
[null,35,null,"Current Issues","Introducing Issues with Opposing Viewpoints","Sexually Transmitted Diseases","978-0-7377-6928-9","Greenhaven Publishing","Library Bound Book",1,2014,null,"Library Bound","6.500 X 9.500","Author","David M. Haugen",null,null,null,null,null,null,"Years 12 - 15",null,"Grade 7 - 10","This title explores many aspects of sexually transmitted diseases, including what contributes to the spread of sexually transmitted diseases, what education programs address the spread of STDs, and whether government regulation would reduce STD infections.","English",42,33.6,"616","136 pp.",{"$f":"Table1[[#This Row],['# of Books]]*Table1[[#This Row],[QTY]]","v":0},{"$f":"Table1[[#This Row],[QTY]]*Table1[[#This Row],[School & Library Price]]","v":0}]
[null,35,null,"Current Issues","Introducing Issues with Opposing Viewpoints","Students' Rights","978-0-7377-4341-8","Greenhaven Publishing","Library Bound Book",1,2009,null,"Library Bound","6.500 X 9.500","Author","Cynthia A. Bily",null,null,null,null,null,null,"Years 12 - 15",null,"Grade 7 - 10",null,"English",42,33.6,"344","168 pp.",{"$f":"Table1[[#This Row],['# of Books]]*Table1[[#This Row],[QTY]]","v":0},{"$f":"Table1[[#This Row],[QTY]]*Table1[[#This Row],[School & Library Price]]","v":0}]
[null,35,null,"Current Issues","Introducing Issues with Opposing Viewpoints","Synthetic Drugs","978-0-7377-6929-6","Greenhaven Publishing","Library Bound Book",1,2014,null,"Library Bound","6.500 X 9.500","Author","Mary E. Williams",null,null,null,null,null,null,"Years 12 - 15",null,"Grade 7 - 10","This title explores many aspects of synthetic drugs, including whether synthetic drug abuse is a serious problem, what the best way to prevent synthetic drug abuse is, and whether some synthetic drugs should be used therapeutically.","English",42,33.6,"363","136 pp.",{"$f":"Table1[[#This Row],['# of Books]]*Table1[[#This Row],[QTY]]","v":0},{"$f":"Table1[[#This Row],[QTY]]*Table1[[#This Row],[School & Library Price]]","v":0}]
[null,35,null,"Current Issues","Introducing Issues with Opposing Viewpoints","Teen Sex","978-0-7377-5687-6","Greenhaven Publishing","Library Bound Book",1,2012,null,"Library Bound","6.500 X 9.500","Author","Lauri S. Scherer",null,null,null,null,null,null,"Years 12 - 15",null,"Grade 7 - 10","This title in the INTRODUCING ISSUES WITH OPPOSING VIEWPOINTS series examines controversial issues surrounding the topic of teenage sexual behavior. ","English",42,33.6,"306","136 pp.",{"$f":"Table1[[#This Row],['# of Books]]*Table1[[#This Row],[QTY]]","v":0},{"$f":"Table1[[#This Row],[QTY]]*Table1[[#This Row],[School & Library Price]]","v":0}]
[null,35,null,"Current Issues","Introducing Issues with Opposing Viewpoints","The Death Penalty","978-0-7377-4938-0","Greenhaven Publishing","Library Bound Book",1,2011,null,"Library Bound","6.500 X 9.500","Author","Lauri S. Friedman",null,null,null,null,null,null,"Years 12 - 15",null,"Grade 7 - 10",null,"English",42,33.6,"364","144 pp.",{"$f":"Table1[[#This Row],['# of Books]]*Table1[[#This Row],[QTY]]","v":0},{"$f":"Table1[[#This Row],[QTY]]*Table1[[#This Row],[School & Library Price]]","v":0}]
[null,35,null,"Current Issues","Introducing Issues with Opposing Viewpoints","The Patriot Act","978-0-7377-4172-8","Greenhaven Publishing","Library Bound Book",1,2009,null,"Library Bound","6.500 X 9.500","Author","Lauri S. Friedman",null,null,null,null,null,null,"Years 12 - 15",null,"Grade 7 - 10",null,"English",42,33.6,"345","144 pp.",{"$f":"Table1[[#This Row],['# of Books]]*Table1[[#This Row],[QTY]]","v":0},{"$f":"Table1[[#This Row],[QTY]]*Table1[[#This Row],[School & Library Price]]","v":0}]
[null,35,null,"Current Issues","Introducing Issues with Opposing Viewpoints","The U.S. Economy","978-0-7377-4945-8","Greenhaven Publishing","Library Bound Book",1,2011,null,"Library Bound","6.500 X 9.500","Author","Jill Hamilton",null,null,null,null,null,null,"Years 12 - 15",null,"Grade 7 - 10",null,"English",42,33.6,"330","144 pp.",{"$f":"Table1[[#This Row],['# of Books]]*Table1[[#This Row],[QTY]]","v":0},{"$f":"Table1[[#This Row],[QTY]]*Table1[[#This Row],[School & Library Price]]","v":0}]
[null,35,null,"Current Issues","Introducing Issues with Opposing Viewpoints","Vaccines","978-0-7377-6112-2","Greenhaven Publishing","Library Bound Book",1,2011,null,"Library Bound","6.500 X 9.500","Author","Noël Merino",null,null,null,null,null,null,"Years 12 - 15",null,"Grade 7 - 10",null,"English",42,33.6,"615","128 pp.",{"$f":"Table1[[#This Row],['# of Books]]*Table1[[#This Row],[QTY]]","v":0},{"$f":"Table1[[#This Row],[QTY]]*Table1[[#This Row],[School & Library Price]]","v":0}]
[null,35,null,"Current Issues","Introducing Issues with Opposing Viewpoints","Violence","978-0-7377-4736-2","Greenhaven Publishing","Library Bound Book",1,2010,null,"Library Bound","6.500 X 9.500","Author","Jacqueline Langwith",null,null,null,null,null,null,"Years 12 - 15",null,"Grade 7 - 10",null,"English",42,33.6,"303","144 pp.",{"$f":"Table1[[#This Row],['# of Books]]*Table1[[#This Row],[QTY]]","v":0},{"$f":"Table1[[#This Row],[QTY]]*Table1[[#This Row],[School & Library Price]]","v":0}]
[null,35,null,"Current Issues","Introducing Issues with Opposing Viewpoints","Women's Rights","978-0-7377-4486-6","Greenhaven Publishing","Library Bound Book",1,2010,null,"Library Bound","6.500 X 9.500","Author","Lauri S. Friedman",null,null,null,null,null,null,"Years 12 - 15",null,"Grade 7 - 10",null,"English",42,33.6,"305","144 pp.",{"$f":"Table1[[#This Row],['# of Books]]*Table1[[#This Row],[QTY]]","v":0},{"$f":"Table1[[#This Row],[QTY]]*Table1[[#This Row],[School & Library Price]]","v":0}]
[null,37,null,"Current Issues","Confronting Global Warming","Extreme Weather","978-0-7377-4859-8","Greenhaven Publishing","Library Bound Book",1,2011,null,"Library Bound","6.000 X 9.000","Author","Tom Streissguth",null,null,null,null,null,null,"Years 15 - 17",null,"Grade 10 - 12","Explores the relationship between global climate change and extreme weather, including air and water chemistry; solar radiation; hurricanes and tropical cyclones; heat waves and other potential future warming; drought, from the Dust Bowl of the 1930s to the current water crisis in California; and the impacts of rainfall, flooding, and El Ni&#241;o.","English",44.3,35.44,"363","128 pp.",{"$f":"Table1[[#This Row],['# of Books]]*Table1[[#This Row],[QTY]]","v":0},{"$f":"Table1[[#This Row],[QTY]]*Table1[[#This Row],[School & Library Price]]","v":0}]
[null,37,null,"Current Issues","Confronting Global Warming","Farming and the Food Supply","978-0-7377-5173-4","Greenhaven Publishing","Library Bound Book",1,2011,null,"Library Bound","6.000 X 9.000","Author","Debra A. Miller",null,null,null,null,null,null,"Years 15 - 17",null,"Grade 10 - 12",null,"English",44.3,35.44,"338","144 pp.",{"$f":"Table1[[#This Row],['# of Books]]*Table1[[#This Row],[QTY]]","v":0},{"$f":"Table1[[#This Row],[QTY]]*Table1[[#This Row],[School & Library Price]]","v":0}]
[null,37,null,"Current Issues","Confronting Global Warming","Farming and the Food Supply","978-0-7377-5474-2","Greenhaven Publishing","eBook",1,2011,null,"eBook",null,"Author","Debra A. Miller",null,null,null,null,null,null,"Years 15 - 17",null,"Grade 10 - 12","Explores in detail the range of current and impending challenges the planet faces as a result of global warming. Examines these issues from a variety of expert perspectives, highlights key future challenges, and addresses the pros and cons of potential solutions. This volume focuses on farming and the food supply.","English",48.73,48.73,"338.19","144 pp.",{"$f":"Table1[[#This Row],['# of Books]]*Table1[[#This Row],[QTY]]","v":0},{"$f":"Table1[[#This Row],[QTY]]*Table1[[#This Row],[School & Library Price]]","v":0}]
[null,37,null,"Current Issues","Confronting Global Warming","Nature and Wildlife","978-0-7377-5174-1","Greenhaven Publishing","Library Bound Book",1,2011,null,"Library Bound","6.000 X 9.000","Author","Diane Andrews Henningfeld",null,null,null,null,null,null,"Years 15 - 17",null,"Grade 10 - 12",null,"English",44.3,35.44,"363","144 pp.",{"$f":"Table1[[#This Row],['# of Books]]*Table1[[#This Row],[QTY]]","v":0},{"$f":"Table1[[#This Row],[QTY]]*Table1[[#This Row],[School & Library Price]]","v":0}]
[null,37,null,"Current Issues","Confronting Global Warming","Population, Resources, and Conflict","978-0-7377-5476-6","Greenhaven Publishing","eBook",1,2011,null,"eBook",null,"Author","Jacqueline Langwith",null,null,null,null,null,null,"Years 15 - 17",null,"Grade 10 - 12","Explores in detail the range of current and impending challenges the planet faces as a result of global warming. Examines these issues from a variety of expert perspectives, highlights key future challenges, and addresses the pros and cons of potential solutions. This volume focuses on farming and the population, resources and conflict.","English",48.73,48.73,"363.73874","136 pp.",{"$f":"Table1[[#This Row],['# of Books]]*Table1[[#This Row],[QTY]]","v":0},{"$f":"Table1[[#This Row],[QTY]]*Table1[[#This Row],[School & Library Price]]","v":0}]
[null,37,null,"Current Issues","Confronting Global Warming","The Role of The Government","978-0-7377-5478-0","Greenhaven Publishing","eBook",1,2011,null,"eBook",null,"Author","Jacqueline Langwith",null,null,null,null,null,null,"Years 15 - 17",null,"Grade 10 - 12","Explores government’s role in addressing climate change on both a national and international level. Discusses official recognition of climate change such as the Kyoto Protocols. Looks at the United States’ historical responses to climate change; efforts to regulate carbon dioxide and reduce emissions through a carbon tax and renewable fuel standard; energy-efficient building; land use policies; and efforts to maintain biological diversity.","English",48.73,48.73,"363.738740","192 pp.",{"$f":"Table1[[#This Row],['# of Books]]*Table1[[#This Row],[QTY]]","v":0},{"$f":"Table1[[#This Row],[QTY]]*Table1[[#This Row],[School & Library Price]]","v":0}]
[null,37,null,"Current Issues","Confronting Global Warming","Water and Ice","978-0-7377-5518-3","Greenhaven Publishing","eBook",1,2011,null,"eBook",null,"Author","Noah Berlatsky",null,null,null,null,null,null,"Years 15 - 17",null,"Grade 10 - 12","Explores in detail the range of current and impending challenges the planet faces as a result of global warming. Examines these issues from a variety of expert perspectives, highlights key future challenges, and addresses the pros and cons of potential solutions. This volume focuses on water and ice.","English",48.73,48.73,"551.458","128 pp.",{"$f":"Table1[[#This Row],['# of Books]]*Table1[[#This Row],[QTY]]","v":0},{"$f":"Table1[[#This Row],[QTY]]*Table1[[#This Row],[School & Library Price]]","v":0}]
[null,38,null,"Current Issues","Issues on Trial","Adoption","978-0-7377-4342-5","Greenhaven Publishing","Library Bound Book",1,2009,null,"Library Bound","6.000 X 9.000","Author","Tracey Biscontini",null,null,null,null,null,null,"Years 15 - 17",null,"Grade 10 - 12",null,"English",48.3,38.64,"362","176 pp.",{"$f":"Table1[[#This Row],['# of Books]]*Table1[[#This Row],[QTY]]","v":0},{"$f":"Table1[[#This Row],[QTY]]*Table1[[#This Row],[School & Library Price]]","v":0}]
[null,38,null,"Current Issues","Issues on Trial","Education","978-0-7377-3805-6","Greenhaven Publishing","Library Bound Book",1,2008,null,"Library Bound","6.000 X 9.000","Author","Robert Winters",null,null,null,null,null,null,"Years 15 - 17",null,"Grade 10 - 12",null,"English",48.3,38.64,"371","184 pp.",{"$f":"Table1[[#This Row],['# of Books]]*Table1[[#This Row],[QTY]]","v":0},{"$f":"Table1[[#This Row],[QTY]]*Table1[[#This Row],[School & Library Price]]","v":0}]
[null,38,null,"Current Issues","Issues on Trial","Gun Control","978-0-7377-3806-3","Greenhaven Publishing","Library Bound Book",1,2008,null,"Library Bound","6.000 X 9.000","Author","Justin Karr",null,null,null,null,null,null,"Years 15 - 17",null,"Grade 10 - 12",null,"English",48.3,38.64,"363","232 pp.",{"$f":"Table1[[#This Row],['# of Books]]*Table1[[#This Row],[QTY]]","v":0},{"$f":"Table1[[#This Row],[QTY]]*Table1[[#This Row],[School & Library Price]]","v":0}]
[null,38,null,"Current Issues","Issues on Trial","Marriage","978-0-7377-4490-3","Greenhaven Publishing","Library Bound Book",1,2009,null,"Library Bound","6.000 X 9.000","Author","Noël Merino",null,null,null,null,null,null,"Years 15 - 17",null,"Grade 10 - 12",null,"English",48.3,38.64,"306","200 pp.",{"$f":"Table1[[#This Row],['# of Books]]*Table1[[#This Row],[QTY]]","v":0},{"$f":"Table1[[#This Row],[QTY]]*Table1[[#This Row],[School & Library Price]]","v":0}]
[null,38,null,"Current Issues","Issues on Trial","Mental Health","978-0-7377-4738-6","Greenhaven Publishing","Library Bound Book",1,2010,null,"Library Bound","6.000 X 9.000","Author","Sylvia Engdahl",null,null,null,null,null,null,"Years 15 - 17",null,"Grade 10 - 12",null,"English",48.3,38.64,"344","200 pp.",{"$f":"Table1[[#This Row],['# of Books]]*Table1[[#This Row],[QTY]]","v":0},{"$f":"Table1[[#This Row],[QTY]]*Table1[[#This Row],[School & Library Price]]","v":0}]
[null,38,null,"Current Issues","Issues on Trial","Right to Private Property","978-0-7377-4345-6","Greenhaven Publishing","Library Bound Book",1,2009,null,"Library Bound","6.000 X 9.000","Author","Sylvia Engdahl",null,null,null,null,null,null,"Years 15 - 17",null,"Grade 10 - 12",null,"English",48.3,38.64,"323","208 pp.",{"$f":"Table1[[#This Row],['# of Books]]*Table1[[#This Row],[QTY]]","v":0},{"$f":"Table1[[#This Row],[QTY]]*Table1[[#This Row],[School & Library Price]]","v":0}]
[null,38,null,"Current Issues","Issues on Trial","Terrorism","978-0-7377-3982-4","Greenhaven Publishing","Library Bound Book",1,2008,null,"Library Bound","6.000 X 9.000","Author","David M. Haugen",null,null,null,null,null,null,"Years 15 - 17",null,"Grade 10 - 12",null,"English",48.3,38.64,"363","224 pp.",{"$f":"Table1[[#This Row],['# of Books]]*Table1[[#This Row],[QTY]]","v":0},{"$f":"Table1[[#This Row],[QTY]]*Table1[[#This Row],[School & Library Price]]","v":0}]
[null,38,null,"Current Issues","Issues on Trial","Welfare","978-0-7377-5110-9","Greenhaven Publishing","Library Bound Book",1,2011,null,"Library Bound","6.000 X 9.000","Author","Sylvia Engdahl",null,null,null,null,null,null,"Years 15 - 17",null,"Grade 10 - 12",null,"English",48.3,38.64,"344","200 pp.",{"$f":"Table1[[#This Row],['# of Books]]*Table1[[#This Row],[QTY]]","v":0},{"$f":"Table1[[#This Row],[QTY]]*Table1[[#This Row],[School & Library Price]]","v":0}]
[null,39,null,"Current Issues","Issues that Concern You (Jan '18 Set)","Issues that Concern You (Jan '18 Set)","978-1-5345-0287-1","Greenhaven Publishing","Single Copy Set",6,2018,"January 2018","Paperback","7.000 X 9.000"," "," ",null,null,null,null,null,null,"Years 12 - 17","Grade 8 - 10","Grade 7 - 12","This series discusses an issue that either is part of students' lives or is likely affecting someone they know. Presenting multiple sides to current issues, each book distinguishes itself through its dedicated focus on concerns that today's middle and high school students deal with regularly, such as underage drinking and body image.\r\n\"These are valuable to the middle school and high school libraries where students need brief yet scholarly information on issues of concern to them.\" AMERICAN REFERENCE BOOKS ANNUAL","English",169.8,135.84,null,"160 pp.",{"$f":"Table1[[#This Row],['# of Books]]*Table1[[#This Row],[QTY]]","v":0},{"$f":"Table1[[#This Row],[QTY]]*Table1[[#This Row],[School & Library Price]]","v":0}]
[null,39,null,"Current Issues","Issues that Concern You","Our Climate Future","978-1-5345-0224-6","Greenhaven Publishing","Library Bound Book",1,2018,"January 2018","Library","7.000 X 9.000","Edited by","Martin Gitlin",null,null,null,null,"Z",null,"Years 12 - 17","Grade 8 - 10","Grade 7 - 12","Climate change is real...depending on who you ask. Scientists and environmentalists have been going head-to-head and toe-to-toe with CEOs and politicians over our global resources, insisting that a large-scale climate crisis is upon us. This collection of diverse perspectives looks at all sides of this fraught debate, discusses the pros and cons of global action to curtail climate change, and offers ideas and solutions for what readers can do about climate change on the home front while the experts keep duking it in political arenas.","English",42,33.6,null,"160 pp.",{"$f":"Table1[[#This Row],['# of Books]]*Table1[[#This Row],[QTY]]","v":0},{"$f":"Table1[[#This Row],[QTY]]*Table1[[#This Row],[School & Library Price]]","v":0}]
[null,39,null,"Current Issues","Issues that Concern You","Our Climate Future","978-1-5345-0284-0","Greenhaven Publishing","Paperback Book",1,2018,"January 2018","Paperback","7.000 X 9.000","Edited by","Martin Gitlin",null,null,null,null,"Z",null,"Years 12 - 17","Grade 8 - 10","Grade 7 - 12","Climate change is real...depending on who you ask. Scientists and environmentalists have been going head-to-head and toe-to-toe with CEOs and politicians over our global resources, insisting that a large-scale climate crisis is upon us. This collection of diverse perspectives looks at all sides of this fraught debate, discusses the pros and cons of global action to curtail climate change, and offers ideas and solutions for what readers can do about climate change on the home front while the experts keep duking it in political arenas.","English",28.3,22.64,null,"160 pp.",{"$f":"Table1[[#This Row],['# of Books]]*Table1[[#This Row],[QTY]]","v":0},{"$f":"Table1[[#This Row],[QTY]]*Table1[[#This Row],[School & Library Price]]","v":0}]
[null,39,null,"Current Issues","Issues that Concern You","Student Loans and the Cost of College","978-1-5345-0282-6","Greenhaven Publishing","Paperback Book",1,2018,"January 2018","Paperback","7.000 X 9.000","Edited by","Paula Johanson",null,null,null,null,"Z",null,"Years 12 - 17","Grade 8 - 10","Grade 7 - 12","Getting into college is one giant hurdle to clear, and paying for it is quite another. This book breaks down the expenses associated with higher education, the various payment options available for students, including student loans, need-based scholarships, and merit-based scholarships, and what other avenues may exist for families to ensure that costs associated with tuition, room, and board stay reasonable. Concerns about \"paying off\" student loans, interest rates, and timelines are also addressed in this informative collection.","English",28.3,22.64,null,"160 pp.",{"$f":"Table1[[#This Row],['# of Books]]*Table1[[#This Row],[QTY]]","v":0},{"$f":"Table1[[#This Row],[QTY]]*Table1[[#This Row],[School & Library Price]]","v":0}]
[null,39,null,"Current Issues","Issues that Concern You","Teen Homelessness","978-1-5345-0226-0","Greenhaven Publishing","Library Bound Book",1,2018,"January 2018","Library","7.000 X 9.000","Edited by","H. Craig Erskine III",null,null,null,null,"Z",null,"Years 12 - 17","Grade 8 - 10","Grade 7 - 12","More than two million kids in the U.S. face homelessness each year, with 57 percent going without food for at least one day a month. Teens represent a shocking 7 percent of the country's total homeless population. Whether they're crashing on someone's couch, living in cars, staying in shelters, or literally sleeping on the street, studies show that the plight of homeless youths is only growing worse. The viewpoints in this book tackle the economic and societal factors that contribute to teen homelessness, the stark situations faced by young transients today, and what can be done to curb this alarming trend.","English",42,33.6,null,"160 pp.",{"$f":"Table1[[#This Row],['# of Books]]*Table1[[#This Row],[QTY]]","v":0},{"$f":"Table1[[#This Row],[QTY]]*Table1[[#This Row],[School & Library Price]]","v":0}]
[null,39,null,"Current Issues","Issues that Concern You","Teen Homelessness","978-1-5345-0279-6","Greenhaven Publishing","Paperback Book",1,2018,"January 2018","Paperback","7.000 X 9.000","Edited by","H. Craig Erskine III",null,null,null,null,"Z",null,"Years 12 - 17","Grade 8 - 10","Grade 7 - 12","More than two million kids in the U.S. face homelessness each year, with 57 percent going without food for at least one day a month. Teens represent a shocking 7 percent of the country's total homeless population. Whether they're crashing on someone's couch, living in cars, staying in shelters, or literally sleeping on the street, studies show that the plight of homeless youths is only growing worse. The viewpoints in this book tackle the economic and societal factors that contribute to teen homelessness, the stark situations faced by young transients today, and what can be done to curb this alarming trend.","English",28.3,22.64,null,"160 pp.",{"$f":"Table1[[#This Row],['# of Books]]*Table1[[#This Row],[QTY]]","v":0},{"$f":"Table1[[#This Row],[QTY]]*Table1[[#This Row],[School & Library Price]]","v":0}]
[null,39,null,"Current Issues","Issues that Concern You","The College Admissions Process","978-1-5345-0281-9","Greenhaven Publishing","Paperback Book",1,2018,"January 2018","Paperback","7.000 X 9.000","Edited by","Marcia Amidon Lusted",null,null,null,null,"Z",null,"Years 12 - 17","Grade 8 - 10","Grade 7 - 12","Applications, personal essays, campus visits, and those dreaded SATs and ACTs, the process of applying to, and getting into, college is almost as complicated as higher education itself. In this anthology, readers will get an in-depth look at the admission process, including viewpoints about the fairness and relevance of standardized test scores, the importance of volunteer and extracurricular activities, and how to market oneself as an ideal candidate for admission. Choosing a college is one of life's most important decisions, and readers of this resource will be presented with valuable information.","English",28.3,22.64,null,"160 pp.",{"$f":"Table1[[#This Row],['# of Books]]*Table1[[#This Row],[QTY]]","v":0},{"$f":"Table1[[#This Row],[QTY]]*Table1[[#This Row],[School & Library Price]]","v":0}]
[null,39,null,"Current Issues","Issues that Concern You","Transgender Rights","978-1-5345-0217-8","Greenhaven Publishing","eBook",1,2018,"January 2018",null,null,"Edited by","Martin Gitlin",null,null,null,null,"Z",null,"Years 12 - 17","Grade 8 - 10","Grade 7 - 12","Transgender rights are not just limited to bathroom bills, though the controversial issue has dominated news headlines for the past few years. What basic human rights are afforded to transgender and nonbinary U.S. citizens is a mystery to many. The viewpoints in this resource lay out the issues in a concise and informative way, offering measured arguments as to why trans Americans are a protected class, as well as arguments for why they don't need special treatment. Workplace discrimination, marriage equality, and adoption, as they relate to transgender identities, are also touched upon.","English",42,33.6,"323.3/270973--dc23","160 pp.",{"$f":"Table1[[#This Row],['# of Books]]*Table1[[#This Row],[QTY]]","v":0},{"$f":"Table1[[#This Row],[QTY]]*Table1[[#This Row],[School & Library Price]]","v":0}]
[null,39,null,"Current Issues","Issues That Concern You","Adoption","978-0-7377-6571-7","Greenhaven Publishing","eBook",1,2012,null,"eBook",null,"Author","Laurie Willis",null,null,null,null,null,null,"Years 12 - 15",null,"Grade 7 - 10","This title in the ISSUES THAT CONCERN YOU series explores the topic of adoption. The included articles address open adoption; issues specific to adopted children, such as discussing one’s adopted status and searching for birth parents; transracial adoptions and diversity; challenges faced by gay and lesbian adoptive parents; and challenges faced by adopted children from other countries and cultures.","English",46.2,46.2,"362.734097","104 pp.",{"$f":"Table1[[#This Row],['# of Books]]*Table1[[#This Row],[QTY]]","v":0},{"$f":"Table1[[#This Row],[QTY]]*Table1[[#This Row],[School & Library Price]]","v":0}]
[null,39,null,"Current Issues","Issues That Concern You","Alcoholism","978-0-7377-4742-3","Greenhaven Publishing","Library Bound Book",1,2010,null,"Library Bound","7.000 X 9.000","Author","Tamara L. Roleff",null,null,null,null,null,null,"Years 12 - 15",null,"Grade 7 - 10","This volume explores challenging questions about alcoholism, providing several perspectives on alcoholism as a disease, its impact on teens, the dangers of binge drinking, and the appropriate legal drinking age. Also discussed are the existence of a genetic predisposition or a natural tolerance among alcoholics, and the effectiveness of Alcoholics Anonymous in treating alcoholism.","English",42,33.6,"362","136 pp.",{"$f":"Table1[[#This Row],['# of Books]]*Table1[[#This Row],[QTY]]","v":0},{"$f":"Table1[[#This Row],[QTY]]*Table1[[#This Row],[School & Library Price]]","v":0}]
[null,39,null,"Current Issues","Issues That Concern You","Anxiety Disorders","978-0-7377-5127-7","Greenhaven Publishing","eBook",1,2010,null,"eBook",null,"Author","Brian Kennedy",null,null,null,null,null,null,"Years 12 - 15",null,"Grade 7 - 10","This volume provides an overview of anxiety disorders and their impact on teens. Chapters examine test anxiety, separation anxiety, social anxiety, post-traumatic stress and obsessive-compulsive disorder, and discuss the importance of teen mental health checkups, current treatment opinions, and related controversies.","English",46.2,46.2,"616.8522","112 pp.",{"$f":"Table1[[#This Row],['# of Books]]*Table1[[#This Row],[QTY]]","v":0},{"$f":"Table1[[#This Row],[QTY]]*Table1[[#This Row],[School & Library Price]]","v":0}]
[null,39,null,"Current Issues","Issues That Concern You","Artificial Ingredients","978-0-7377-6776-6","Greenhaven Publishing","eBook",1,2013,null,"eBook",null,"Author","Lauri S. Scherer",null,null,null,null,null,null,"Years 12 - 15",null,"Grade 7 - 10","The ingredients found in food are increasingly on the minds of consumers. ITCY: Artificial Ingredients covers the contentious nature of the following: artificial sweetners, food colorings, BPA, and the link between artificial ingredients and behavioral problems in kids.","English",46.2,46.2,"641.3","120 pp.",{"$f":"Table1[[#This Row],['# of Books]]*Table1[[#This Row],[QTY]]","v":0},{"$f":"Table1[[#This Row],[QTY]]*Table1[[#This Row],[School & Library Price]]","v":0}]
[null,39,null,"Current Issues","Issues That Concern You","Body Image","978-0-7377-4815-4","Greenhaven Publishing","eBook",1,2009,null,"eBook",null,"Author","Heidi Williams",null,null,null,null,null,null,"Years 12 - 15",null,"Grade 7 - 10",null,"English",46.2,46.2,"306.4613","112 pp.",{"$f":"Table1[[#This Row],['# of Books]]*Table1[[#This Row],[QTY]]","v":0},{"$f":"Table1[[#This Row],[QTY]]*Table1[[#This Row],[School & Library Price]]","v":0}]
[null,39,null,"Current Issues","Issues That Concern You","Body Piercing and Tattoos","978-0-7377-7238-8","Greenhaven Publishing","Library Bound Book",1,2015,null,"Library Bound","7.000 X 9.000","Author","Hester Furey",null,null,null,null,null,null,"Years 12 - 15",null,"Grade 7 - 10","ISSUES THAT CONCERN YOU: BODY PIERCING AND TATTOOS examines why people get tattoos, including communicating something about oneself, mainstream culture, and representing a struggle to survive.","English",42,33.6,"391","104 pp.",{"$f":"Table1[[#This Row],['# of Books]]*Table1[[#This Row],[QTY]]","v":0},{"$f":"Table1[[#This Row],[QTY]]*Table1[[#This Row],[School & Library Price]]","v":0}]
[null,39,null,"Current Issues","Issues That Concern You","Censorship","978-0-7377-5275-5","Greenhaven Publishing","eBook",1,2010,null,"eBook",null,"Author","Ronald D. Lankford",null,null,null,null,null,null,"Years 12 - 15",null,"Grade 7 - 10","This Issues That Concern You title deals with the subject of censorship. Recognizing the intimate relationship between subject and reader, the series weaves together different points of view to make these complex issues less intimidating and more accessible.","English",46.2,46.2,"363.310973","128 pp.",{"$f":"Table1[[#This Row],['# of Books]]*Table1[[#This Row],[QTY]]","v":0},{"$f":"Table1[[#This Row],[QTY]]*Table1[[#This Row],[School & Library Price]]","v":0}]
[null,39,null,"Current Issues","Issues That Concern You","Choosing a Career","978-0-7377-4819-2","Greenhaven Publishing","eBook",1,2009,null,"eBook",null,"Author","Linda Aksomitis",null,null,null,null,null,null,"Years 12 - 15",null,"Grade 7 - 10",null,"English",46.2,46.2,"650.14","120 pp.",{"$f":"Table1[[#This Row],['# of Books]]*Table1[[#This Row],[QTY]]","v":0},{"$f":"Table1[[#This Row],[QTY]]*Table1[[#This Row],[School & Library Price]]","v":0}]
[null,39,null,"Current Issues","Issues That Concern You","Choosing a College","978-0-7377-6557-1","Greenhaven Publishing","eBook",1,2012,null,"eBook",null,"Author","Norah Peihl",null,null,null,null,null,null,"Years 12 - 15",null,"Grade 7 - 10","This title introduces some of the factors young people consider as they evaluate their college options. Through articles from a variety of sources, the book provides an overview of practical considerations such as hiring an admissions adviser and making a college visit. It also examines some of the special issues of interest to women, students of color, athletes, and students with special needs. Finally, it offers students alternatives to the traditional college path, including community colleges, gap years, or opting out of college altogether.","English",46.2,46.2,"378.1","128 pp.",{"$f":"Table1[[#This Row],['# of Books]]*Table1[[#This Row],[QTY]]","v":0},{"$f":"Table1[[#This Row],[QTY]]*Table1[[#This Row],[School & Library Price]]","v":0}]
[null,39,null,"Current Issues","Issues That Concern You","Choosing a College","978-0-7377-5691-3","Greenhaven Publishing","Library Bound Book",1,2012,null,"Library Bound","7.000 X 9.000","Author","Norah Peihl",null,null,null,null,null,null,"Years 12 - 15",null,"Grade 7 - 10","This title introduces some of the factors young people consider as they evaluate their college options. Through articles from a variety of sources, the book provides an overview of practical considerations such as hiring an admissions adviser and making a college visit. It also examines some of the special issues of interest to women, students of color, athletes, and students with special needs. Finally, it offers students alternatives to the traditional college path, including community colleges, gap years, or opting out of college altogether.","English",42,33.6,"378","128 pp.",{"$f":"Table1[[#This Row],['# of Books]]*Table1[[#This Row],[QTY]]","v":0},{"$f":"Table1[[#This Row],[QTY]]*Table1[[#This Row],[School & Library Price]]","v":0}]
[null,39,null,"Current Issues","Issues That Concern You","Consumer Culture","978-0-7377-5923-5","Greenhaven Publishing","eBook",1,2011,null,"eBook",null,"Author","Heidi Watkins",null,null,null,null,null,null,"Years 12 - 15",null,"Grade 7 - 10","Consumer Culture examines the various aspects and influence of consumerism on teens today. From the potential harm posed to children and teens, to the relationship between high socio-economic status and depression; from the benefits -- and drawbacks -- of rejecting consumerism, to the relationship between advertising and overconsumption, this volume provides up-to-date information and insight on changing teen and American spending habits.","English",46.2,46.2,"306.30973","104 pp.",{"$f":"Table1[[#This Row],['# of Books]]*Table1[[#This Row],[QTY]]","v":0},{"$f":"Table1[[#This Row],[QTY]]*Table1[[#This Row],[School & Library Price]]","v":0}]
[null,40,null,"Current Issues","Issues That Concern You","Cults","978-0-7377-6286-0","Greenhaven Publishing","Library Bound Book",1,2013,null,"Library Bound","7.000 X 9.000","Author","Norah Piehl",null,null,null,null,null,null,"Years 12 - 15",null,"Grade 7 - 10","This title explores issues related to cults, including the differences between new religious movements and cults, how ordinary activities and organizations can become cult-like, and whether or not the government should interfere with cults.","English",42,33.6,"291","128 pp.",{"$f":"Table1[[#This Row],['# of Books]]*Table1[[#This Row],[QTY]]","v":0},{"$f":"Table1[[#This Row],[QTY]]*Table1[[#This Row],[School & Library Price]]","v":0}]
[null,40,null,"Current Issues","Issues That Concern You","Date Rape","978-0-7377-6677-6","Greenhaven Publishing","eBook",1,2013,null,"eBook",null,"Author","Norah Piehl",null,null,null,null,null,null,"Years 12 - 15",null,"Grade 7 - 10","This title explores issues related to date rape, including: how date rape is defined, the consequences of date rape, how date rape can be prevented.","English",46.2,46.2,"364.15","112 pp.",{"$f":"Table1[[#This Row],['# of Books]]*Table1[[#This Row],[QTY]]","v":0},{"$f":"Table1[[#This Row],[QTY]]*Table1[[#This Row],[School & Library Price]]","v":0}]
[null,40,null,"Current Issues","Issues That Concern You","Dating","978-0-7377-6288-4","Greenhaven Publishing","Library Bound Book",1,2014,null,"Library Bound","7.000 X 9.000","Author","Lauri S. Scherer",null,null,null,null,null,null,"Years 12 - 15",null,"Grade 7 - 10","This title explores issues related to dating including why dating is a dying practice; dating websites; online dating; teens and dating violence; date rape; student-teacher dating; and couples living together before marriage.","English",42,33.6,"392","128 pp.",{"$f":"Table1[[#This Row],['# of Books]]*Table1[[#This Row],[QTY]]","v":0},{"$f":"Table1[[#This Row],[QTY]]*Table1[[#This Row],[School & Library Price]]","v":0}]
[null,40,null,"Current Issues","Issues That Concern You","Dieting","978-0-7377-7047-6","Greenhaven Publishing","eBook",1,2014,null,"eBook",null,"Author","Arthur Gillard",null,null,null,null,null,null,"Years 12 - 15",null,"Grade 7 - 10","Title explores issues related to dieting, including: effectiveness of dieting, effectiveness of willpower; yo-yo dieitng; eating mindfully; healthy at any weight; government’s role in combating obesity; obesity epidemic.","English",46.2,46.2,"613.2","112 pp.",{"$f":"Table1[[#This Row],['# of Books]]*Table1[[#This Row],[QTY]]","v":0},{"$f":"Table1[[#This Row],[QTY]]*Table1[[#This Row],[School & Library Price]]","v":0}]
[null,40,null,"Current Issues","Issues That Concern You","Disaster Relief","978-0-7377-4494-1","Greenhaven Publishing","Library Bound Book",1,2010,null,"Library Bound","7.000 X 9.000","Author","Hayley Mitchell Haugen",null,null,null,null,null,null,"Years 12 - 15",null,"Grade 7 - 10",null,"English",42,33.6,"363","104 pp.",{"$f":"Table1[[#This Row],['# of Books]]*Table1[[#This Row],[QTY]]","v":0},{"$f":"Table1[[#This Row],[QTY]]*Table1[[#This Row],[School & Library Price]]","v":0}]
[null,40,null,"Current Issues","Issues That Concern You","Downloading Music","978-0-7377-4821-5","Greenhaven Publishing","eBook",1,2008,null,"eBook",null,"Author","Linda Aksomitis",null,null,null,null,null,null,"Years 12 - 15",null,"Grade 7 - 10",null,"English",46.2,46.2,"346.0482","112 pp.",{"$f":"Table1[[#This Row],['# of Books]]*Table1[[#This Row],[QTY]]","v":0},{"$f":"Table1[[#This Row],[QTY]]*Table1[[#This Row],[School & Library Price]]","v":0}]
[null,40,null,"Current Issues","Issues That Concern You","Dress Codes in Schools","978-0-7377-7048-3","Greenhaven Publishing","eBook",1,2014,null,"eBook",null,"Author","Cynthia A. Bily",null,null,null,null,null,null,"Years 12 - 15",null,"Grade 7 - 10","This title addresses the issue of dress codes in schools, including: dress codes help students learn; dress codes set the proper tone; safety and dress codes; accessories and students’ individuality; conastitution and dress codes.","English",46.2,46.2,"371.51","104 pp.",{"$f":"Table1[[#This Row],['# of Books]]*Table1[[#This Row],[QTY]]","v":0},{"$f":"Table1[[#This Row],[QTY]]*Table1[[#This Row],[School & Library Price]]","v":0}]
[null,40,null,"Current Issues","Issues That Concern You","Dropping Out of School","978-0-7377-6778-0","Greenhaven Publishing","eBook",1,2013,null,"eBook",null,"Author","Heidi Watkins",null,null,null,null,null,null,"Years 12 - 15",null,"Grade 7 - 10","Title explores issues related to dropping out of school, including reasons for dropping out of school, the economic impact of dropping out of school, and new strategies to decrease dropout rates.","English",46.2,46.2,"371.2913","112 pp.",{"$f":"Table1[[#This Row],['# of Books]]*Table1[[#This Row],[QTY]]","v":0},{"$f":"Table1[[#This Row],[QTY]]*Table1[[#This Row],[School & Library Price]]","v":0}]
[null,40,null,"Current Issues","Issues That Concern You","Drug Abuse","978-0-7377-6290-7","Greenhaven Publishing","Library Bound Book",1,2013,null,"Library Bound","7.000 X 9.000","Author","Arthur Gillard",null,null,null,null,null,null,"Years 12 - 15",null,"Grade 7 - 10","This title addresses the problem of drug abuse, including possible causes; the impact of the war on drugs; the effectiveness of rehabilitation programs; whether drugs should be legalized; and varying methods of preventing drug abuse.","English",42,33.6,"362","208 pp.",{"$f":"Table1[[#This Row],['# of Books]]*Table1[[#This Row],[QTY]]","v":0},{"$f":"Table1[[#This Row],[QTY]]*Table1[[#This Row],[School & Library Price]]","v":0}]
[null,40,null,"Current Issues","Issues That Concern You","Drunk Driving","978-0-7377-6291-4","Greenhaven Publishing","Library Bound Book",1,2013,null,"Library Bound","7.000 X 9.000","Author","Amanda Hiber",null,null,null,null,null,null,"Years 12 - 15",null,"Grade 7 - 10","Title explores issues related to drunk driving, including: the effectiveness of drunk driving laws; use of anonymous tips; undocumented immigrants; sobriety check points; ignition interlock devices; the minimum legal drinking age.","English",42,33.6,"363","120 pp.",{"$f":"Table1[[#This Row],['# of Books]]*Table1[[#This Row],[QTY]]","v":0},{"$f":"Table1[[#This Row],[QTY]]*Table1[[#This Row],[School & Library Price]]","v":0}]
[null,40,null,"Current Issues","Issues That Concern You","Eating Disorders","978-0-7377-7239-5","Greenhaven Publishing","Library Bound Book",1,2015,null,"Library Bound","7.000 X 9.000","Author","Julia Garbus",null,null,null,null,null,null,"Years 12 - 15",null,"Grade 7 - 10","This title explores issues related to eating disorders, including factors that do or do not contribute to eating disorders, and treatment and recovery of eating disorders.","English",42,33.6,"616","108 pp.",{"$f":"Table1[[#This Row],['# of Books]]*Table1[[#This Row],[QTY]]","v":0},{"$f":"Table1[[#This Row],[QTY]]*Table1[[#This Row],[School & Library Price]]","v":0}]
[null,40,null,"Current Issues","Issues That Concern You","Endangered Species","978-0-7377-5427-8","Greenhaven Publishing","eBook",1,2010,null,"eBook",null,"Author","Cynthia A. Bily",null,null,null,null,null,null,"Years 12 - 15",null,"Grade 7 - 10",null,"English",46.2,46.2,"333.95","128 pp.",{"$f":"Table1[[#This Row],['# of Books]]*Table1[[#This Row],[QTY]]","v":0},{"$f":"Table1[[#This Row],[QTY]]*Table1[[#This Row],[School & Library Price]]","v":0}]
[null,40,null,"Current Issues","Issues That Concern You","English Language Learners","978-0-7377-4598-6","Greenhaven Publishing","eBook",1,2009,null,"eBook",null,"Author","Tamara L. Roleff",null,null,null,null,null,null,"Years 12 - 15",null,"Grade 7 - 10",null,"English",46.2,46.2,"306.44","144 pp.",{"$f":"Table1[[#This Row],['# of Books]]*Table1[[#This Row],[QTY]]","v":0},{"$f":"Table1[[#This Row],[QTY]]*Table1[[#This Row],[School & Library Price]]","v":0}]
[null,40,null,"Current Issues","Issues That Concern You","Foster Care","978-0-7377-4825-3","Greenhaven Publishing","eBook",1,2008,null,"eBook",null,"Author","Jill Hamilton",null,null,null,null,null,null,"Years 12 - 15",null,"Grade 7 - 10",null,"English",46.2,46.2,"362.733097","104 pp.",{"$f":"Table1[[#This Row],['# of Books]]*Table1[[#This Row],[QTY]]","v":0},{"$f":"Table1[[#This Row],[QTY]]*Table1[[#This Row],[School & Library Price]]","v":0}]
[null,40,null,"Current Issues","Issues That Concern You","Foster Care","978-0-7377-2711-1","Greenhaven Publishing","Library Bound Book",1,2008,null,"Library Bound","7.000 X 9.000","Author","Jill Hamilton",null,null,null,null,null,null,"Years 12 - 15",null,"Grade 7 - 10",null,"English",42,33.6,"362","104 pp.",{"$f":"Table1[[#This Row],['# of Books]]*Table1[[#This Row],[QTY]]","v":0},{"$f":"Table1[[#This Row],[QTY]]*Table1[[#This Row],[School & Library Price]]","v":0}]
[null,40,null,"Current Issues","Issues That Concern You","Girls and Sports","978-0-7377-5693-7","Greenhaven Publishing","Library Bound Book",1,2012,null,"Library Bound","7.000 X 9.000","Author","Laura K. Egendorf",null,null,null,null,null,null,"Years 12 - 15",null,"Grade 7 - 10","This title in the ISSUES THAT CONCERN YOU series explores issues related to girls and sports. Through articles from a variety of sources, the book explores whether or not sports are good for girls' health, how girls are coached differently than boys, the impact of Title IX, cheerleading as a sport, and the effect of sex segregation in boys and girls sports.","English",42,33.6,"796","120 pp.",{"$f":"Table1[[#This Row],['# of Books]]*Table1[[#This Row],[QTY]]","v":0},{"$f":"Table1[[#This Row],[QTY]]*Table1[[#This Row],[School & Library Price]]","v":0}]
[null,40,null,"Current Issues","Issues That Concern You","Going Green","978-0-7377-5519-0","Greenhaven Publishing","eBook",1,2011,null,"eBook",null,"Author","Peggy Daniels Becker",null,null,null,null,null,null,"Years 12 - 15",null,"Grade 7 - 10",null,"English",46.2,46.2,"640","112 pp.",{"$f":"Table1[[#This Row],['# of Books]]*Table1[[#This Row],[QTY]]","v":0},{"$f":"Table1[[#This Row],[QTY]]*Table1[[#This Row],[School & Library Price]]","v":0}]
[null,40,null,"Current Issues","Issues That Concern You","Health Care","978-0-7377-6103-0","Greenhaven Publishing","eBook",1,2011,null,"eBook",null,"Author","Olivia Ferguson",null,null,null,null,null,null,"Years 12 - 15",null,"Grade 7 - 10",null,"English",46.2,46.2,"362.10973","112 pp.",{"$f":"Table1[[#This Row],['# of Books]]*Table1[[#This Row],[QTY]]","v":0},{"$f":"Table1[[#This Row],[QTY]]*Table1[[#This Row],[School & Library Price]]","v":0}]
[null,40,null,"Current Issues","Issues That Concern You","Homelessness","978-0-7377-6525-0","Greenhaven Publishing","eBook",1,2012,null,"eBook",null,"Author","Arthur Gillard",null,null,null,null,null,null,"Years 12 - 15",null,"Grade 7 - 10","This title in the ISSUES THAT CONCERN YOU series explores issues related to homelessness. Through articles from a variety of sources, the book explores topics like tent cities as a temporary answer to long-term housing problem; the impact of “housing first” approaches; whether or not giving money to panhandlers helps the chronically homeless; the long-term effect of homelessness on families; and ways to speak out about homelessness.","English",46.2,46.2,"362.50973","128 pp.",{"$f":"Table1[[#This Row],['# of Books]]*Table1[[#This Row],[QTY]]","v":0},{"$f":"Table1[[#This Row],[QTY]]*Table1[[#This Row],[School & Library Price]]","v":0}]
[null,40,null,"Current Issues","Issues That Concern You","Homosexuality","978-0-7377-6410-9","Greenhaven Publishing","eBook",1,2012,null,"eBook",null,"Author","Tamara L. Roleff",null,null,null,null,null,null,"Years 12 - 15",null,"Grade 7 - 10",null,"English",46.2,46.2,"306.76","112 pp.",{"$f":"Table1[[#This Row],['# of Books]]*Table1[[#This Row],[QTY]]","v":0},{"$f":"Table1[[#This Row],[QTY]]*Table1[[#This Row],[School & Library Price]]","v":0}]
[null,40,null,"Current Issues","Issues That Concern You","Internet Safety","978-0-7377-3986-2","Greenhaven Publishing","Library Bound Book",1,2008,null,"Library Bound","7.000 X 9.000","Author","Hayley Mitchell Haugen",null,null,null,null,null,null,"Years 12 - 15",null,"Grade 7 - 10",null,"English",42,33.6,"004","120 pp.",{"$f":"Table1[[#This Row],['# of Books]]*Table1[[#This Row],[QTY]]","v":0},{"$f":"Table1[[#This Row],[QTY]]*Table1[[#This Row],[School & Library Price]]","v":0}]
[null,41,null,"Current Issues","Issues That Concern You","Juvenile Crime","978-0-7377-5465-0","Greenhaven Publishing","eBook",1,2010,null,"eBook",null,"Author","Heidi Watkins",null,null,null,null,null,null,"Years 12 - 15",null,"Grade 7 - 10","This Issues That Concern You title deals with the subject of juvenile crime. Recognizing the intimate relationship between subject and reader, the series weaves together different points of view to make these complex issues less intimidating and more accessible.","English",46.2,46.2,"364.36","136 pp.",{"$f":"Table1[[#This Row],['# of Books]]*Table1[[#This Row],[QTY]]","v":0},{"$f":"Table1[[#This Row],[QTY]]*Table1[[#This Row],[School & Library Price]]","v":0}]
[null,41,null,"Current Issues","Issues That Concern You","Learning Disabilities","978-0-7377-6104-7","Greenhaven Publishing","eBook",1,2011,null,"eBook",null,"Author","Arthur Gillard",null,null,null,null,null,null,"Years 12 - 15",null,"Grade 7 - 10",null,"English",46.2,46.2,"371.9","136 pp.",{"$f":"Table1[[#This Row],['# of Books]]*Table1[[#This Row],[QTY]]","v":0},{"$f":"Table1[[#This Row],[QTY]]*Table1[[#This Row],[School & Library Price]]","v":0}]
[null,41,null,"Current Issues","Issues That Concern You","Medical Marijuana","978-0-7377-6297-6","Greenhaven Publishing","Library Bound Book",1,2014,null,"Library Bound","7.000 X 9.000","Author","Arthur Gillard",null,null,null,null,null,null,"Years 12 - 15",null,"Grade 7 - 10","Medical marijuana is a popular topic for debate. ITCY: Medical Marijuana covers the contentious nature of the following: the medicinal nature of marijuana; teenage use of medical marijuana; and federal regulation of medical marijuana.","English",42,33.6,"362","104 pp.",{"$f":"Table1[[#This Row],['# of Books]]*Table1[[#This Row],[QTY]]","v":0},{"$f":"Table1[[#This Row],[QTY]]*Table1[[#This Row],[School & Library Price]]","v":0}]
[null,41,null,"Current Issues","Issues That Concern You","Money Management","978-0-7377-4496-5","Greenhaven Publishing","Library Bound Book",1,2009,null,"Library Bound","7.000 X 9.000","Author","Jill Hamilton",null,null,null,null,null,null,"Years 12 - 15",null,"Grade 7 - 10",null,"English",42,33.6,"332","112 pp.",{"$f":"Table1[[#This Row],['# of Books]]*Table1[[#This Row],[QTY]]","v":0},{"$f":"Table1[[#This Row],[QTY]]*Table1[[#This Row],[School & Library Price]]","v":0}]
[null,41,null,"Current Issues","Issues That Concern You","Obesity","978-0-7377-6298-3","Greenhaven Publishing","Library Bound Book",1,2013,null,"Library Bound","7.000 X 9.000","Author","Lauri S. Scherer",null,null,null,null,null,null,"Years 12 - 15",null,"Grade 7 - 10","Title explores issues related to obesity, including: how widespread obesity is; what causes obesity; if junk food and soda should be taxed to reduce obesity; and if healthier school lunches can reduce obesity.","English",42,33.6,"616","120 pp.",{"$f":"Table1[[#This Row],['# of Books]]*Table1[[#This Row],[QTY]]","v":0},{"$f":"Table1[[#This Row],[QTY]]*Table1[[#This Row],[School & Library Price]]","v":0}]
[null,41,null,"Current Issues","Issues That Concern You","Performance-enhancing Drugs","978-0-7377-4745-4","Greenhaven Publishing","Library Bound Book",1,2010,null,"Library Bound","7.000 X 9.000","Author","Tamara L. Roleff",null,null,null,null,null,null,"Years 12 - 15",null,"Grade 7 - 10",null,"English",42,33.6,"362","112 pp.",{"$f":"Table1[[#This Row],['# of Books]]*Table1[[#This Row],[QTY]]","v":0},{"$f":"Table1[[#This Row],[QTY]]*Table1[[#This Row],[School & Library Price]]","v":0}]
[null,41,null,"Current Issues","Issues That Concern You","Pollution","978-0-7377-4746-1","Greenhaven Publishing","Library Bound Book",1,2010,null,"Library Bound","7.000 X 9.000","Author","Cynthia A. Bily",null,null,null,null,null,null,"Years 12 - 15",null,"Grade 7 - 10",null,"English",42,33.6,"363","120 pp.",{"$f":"Table1[[#This Row],['# of Books]]*Table1[[#This Row],[QTY]]","v":0},{"$f":"Table1[[#This Row],[QTY]]*Table1[[#This Row],[School & Library Price]]","v":0}]
[null,41,null,"Current Issues","Issues That Concern You","Privacy","978-0-7377-6118-4","Greenhaven Publishing","eBook",1,2011,null,"eBook",null,"Author","Tamara L. Roleff",null,null,null,null,null,null,"Years 12 - 15",null,"Grade 7 - 10","This title considers the importance of privacy in the digital and post-9/11 era. Viewpoints debate the extent to which privacy is necessary, which measures most effectively protect privacy, and how best to balance privacy with national security and other critical issues.","English",46.2,46.2,"323.44","112 pp.",{"$f":"Table1[[#This Row],['# of Books]]*Table1[[#This Row],[QTY]]","v":0},{"$f":"Table1[[#This Row],[QTY]]*Table1[[#This Row],[School & Library Price]]","v":0}]
[null,41,null,"Current Issues","Issues That Concern You","Recycling","978-0-7377-6932-6","Greenhaven Publishing","Library Bound Book",1,2014,null,"Library Bound","7.000 X 9.000","Author","Lauri S. Scherer",null,null,null,null,null,null,"Years 12 - 15",null,"Grade 7 - 10","This title explores issues related to recycling, including: effectiveness and necessity of recycling; mandatory recycling; recycling and resources; recycling generates money; recycling wastes money; recycling and jobs; recycling and nuclear waste.","English",42,33.6,"363","96 pp.",{"$f":"Table1[[#This Row],['# of Books]]*Table1[[#This Row],[QTY]]","v":0},{"$f":"Table1[[#This Row],[QTY]]*Table1[[#This Row],[School & Library Price]]","v":0}]
[null,41,null,"Current Issues","Issues That Concern You","Risky Teen Behavior","978-0-7377-6498-7","Greenhaven Publishing","eBook",1,2012,null,"eBook",null,"Author","Heidi Watkins",null,null,null,null,null,null,"Years 12 - 15",null,"Grade 7 - 10","This title in the Issues That Concern You series explores issues related to a variety of risky teen behaviors, as well as a discussion of whether or not risky teen behavior is a growing, serious problem. Topics covered include whether texting is a sign of risky behavior, why teens take risks, the impact of legislation on risky activities, and the role of parents in curbing risky behavior.","English",46.2,46.2,"155.5","136 pp.",{"$f":"Table1[[#This Row],['# of Books]]*Table1[[#This Row],[QTY]]","v":0},{"$f":"Table1[[#This Row],[QTY]]*Table1[[#This Row],[School & Library Price]]","v":0}]
[null,41,null,"Current Issues","Issues That Concern You","School Violence","978-0-7377-4594-8","Greenhaven Publishing","eBook",1,2009,null,"eBook",null,"Author","Peggy Daniels",null,null,null,null,null,null,"Years 12 - 15",null,"Grade 7 - 10",null,"English",46.2,46.2,"371.782","128 pp.",{"$f":"Table1[[#This Row],['# of Books]]*Table1[[#This Row],[QTY]]","v":0},{"$f":"Table1[[#This Row],[QTY]]*Table1[[#This Row],[School & Library Price]]","v":0}]
[null,41,null,"Current Issues","Issues That Concern You","Sexual Harassment","978-0-7377-7051-3","Greenhaven Publishing","eBook",1,2014,null,"eBook",null,"Author","Arthur Gillard",null,null,null,null,null,null,"Years 12 - 15",null,"Grade 7 - 10","This title explores issues related to sexual harassment, including: sexual harassment and staring; sexual harassment and power; the  problem in shools; online sexual harassment; street harassment and legal regulation; confronting sexual harasssers.","English",46.2,46.2,"305.3","120 pp.",{"$f":"Table1[[#This Row],['# of Books]]*Table1[[#This Row],[QTY]]","v":0},{"$f":"Table1[[#This Row],[QTY]]*Table1[[#This Row],[School & Library Price]]","v":0}]
[null,41,null,"Current Issues","Issues That Concern You","Sexually Transmitted Infections","978-0-7377-5699-9","Greenhaven Publishing","Library Bound Book",1,2012,null,"Library Bound","7.000 X 9.000","Author","Heidi Watkins",null,null,null,null,null,null,"Years 12 - 15",null,"Grade 7 - 10",null,"English",42,33.6,"616","120 pp.",{"$f":"Table1[[#This Row],['# of Books]]*Table1[[#This Row],[QTY]]","v":0},{"$f":"Table1[[#This Row],[QTY]]*Table1[[#This Row],[School & Library Price]]","v":0}]
[null,41,null,"Current Issues","Issues That Concern You","Smoking","978-0-7377-2420-2","Greenhaven Publishing","Library Bound Book",1,2008,null,"Library Bound","7.000 X 9.000","Author","Laura K. Egendorf",null,null,null,null,null,null,"Years 12 - 15",null,"Grade 7 - 10",null,"English",42,33.6,"362","136 pp.",{"$f":"Table1[[#This Row],['# of Books]]*Table1[[#This Row],[QTY]]","v":0},{"$f":"Table1[[#This Row],[QTY]]*Table1[[#This Row],[School & Library Price]]","v":0}]
[null,41,null,"Current Issues","Issues That Concern You","Social Protest","978-0-7377-6934-0","Greenhaven Publishing","Library Bound Book",1,2014,null,"Library Bound","7.000 X 9.000","Author","Lauri S. Scherer",null,null,null,null,null,null,"Years 12 - 15",null,"Grade 7 - 10","Title explores issues and trends related to social protest, including: protest movements; nonviolent protests; social protest and direct action; comedy and street theater as protest tactics; civil disobedience; the Occupy Movement; economic inequality.","English",42,33.6,"303","136 pp.",{"$f":"Table1[[#This Row],['# of Books]]*Table1[[#This Row],[QTY]]","v":0},{"$f":"Table1[[#This Row],[QTY]]*Table1[[#This Row],[School & Library Price]]","v":0}]
[null,41,null,"Current Issues","Issues That Concern You","Student Drug Testing","978-0-7377-4834-5","Greenhaven Publishing","eBook",1,2007,null,"eBook",null,"Author","Patty Jo Sawvel",null,null,null,null,null,null,"Years 12 - 15",null,"Grade 7 - 10","President Bush’s 2006 budget has earmarked $25.4 million dollars for increased drug testing of public school students.  Proponents claim that drug testing reduces illegal drug use among students and gives students an alibi for not using.  Opponents claim that drug testing is ineffective at best and possibly even harmful.  Testing can foster distrust, push students toward drugs that aren’t screened for, and inhibit student participation in extracurricular activities.","English",46.2,46.2,"371.7","136 pp.",{"$f":"Table1[[#This Row],['# of Books]]*Table1[[#This Row],[QTY]]","v":0},{"$f":"Table1[[#This Row],[QTY]]*Table1[[#This Row],[School & Library Price]]","v":0}]
[null,41,null,"Current Issues","Issues That Concern You","Teen Pregnancy","978-0-7377-5045-4","Greenhaven Publishing","eBook",1,2010,null,"eBook",null,"Author","Heidi Williams",null,null,null,null,null,null,"Years 12 - 15",null,"Grade 7 - 10",null,"English",46.2,46.2,"306.8743","144 pp.",{"$f":"Table1[[#This Row],['# of Books]]*Table1[[#This Row],[QTY]]","v":0},{"$f":"Table1[[#This Row],[QTY]]*Table1[[#This Row],[School & Library Price]]","v":0}]
[null,41,null,"Current Issues","Issues That Concern You","Teen Pregnancy","978-0-7377-4498-9","Greenhaven Publishing","Library Bound Book",1,2010,null,"Library Bound","7.000 X 9.000","Author","Heidi Williams",null,null,null,null,null,null,"Years 12 - 15",null,"Grade 7 - 10",null,"English",42,33.6,"306","144 pp.",{"$f":"Table1[[#This Row],['# of Books]]*Table1[[#This Row],[QTY]]","v":0},{"$f":"Table1[[#This Row],[QTY]]*Table1[[#This Row],[School & Library Price]]","v":0}]
[null,42,null,"Current Issues","Issues That Concern You","Teens and Employment","978-0-7377-7241-8","Greenhaven Publishing","Library Bound Book",1,2015,null,"Library Bound","7.000 X 9.000","Author","Julia Garbus",null,null,null,null,null,null,"Years 12 - 15",null,"Grade 7 - 10","ISSUES THAT CONCERN YOU: TEENS AND EMPLOYMENT examines the positive and negative effects of teens and jobs. It explores wages, the benefits of job experience, and time management.","English",42,33.6,"331","96 pp.",{"$f":"Table1[[#This Row],['# of Books]]*Table1[[#This Row],[QTY]]","v":0},{"$f":"Table1[[#This Row],[QTY]]*Table1[[#This Row],[School & Library Price]]","v":0}]
[null,42,null,"Current Issues","Issues That Concern You","The War in Afghanistan","978-0-7377-6301-0","Greenhaven Publishing","Library Bound Book",1,2013,null,"Library Bound","7.000 X 9.000","Author","Arthur Gillard",null,null,null,null,null,null,"Years 12 - 15",null,"Grade 7 - 10","Title addresses the complexities and controversies surrounding the war in Afghanistan, including whether the US can succeed there and whether the war should continue. Commentators also discuss issues such as corruption, the rights of women, and the behavior of US soldiers in Afghanistan.","English",42,33.6,"958","104 pp.",{"$f":"Table1[[#This Row],['# of Books]]*Table1[[#This Row],[QTY]]","v":0},{"$f":"Table1[[#This Row],[QTY]]*Table1[[#This Row],[School & Library Price]]","v":0}]
[null,42,null,"Current Issues","Issues That Concern You","Vegetarianism","978-0-7377-7052-0","Greenhaven Publishing","eBook",1,2014,null,"eBook",null,"Author","Arthur Gillard",null,null,null,null,null,null,"Years 12 - 15",null,"Grade 7 - 10","Title explores issues related to vegetarianism, including: humans as natural vegetarians; vegetarianism as a healthy diet;  moral justification and diet;  animal suffering; vegetarianism and the environment; flexitarianism; eating disorders; vegan and vegetarianism.","English",46.2,46.2,"613.262","104 pp.",{"$f":"Table1[[#This Row],['# of Books]]*Table1[[#This Row],[QTY]]","v":0},{"$f":"Table1[[#This Row],[QTY]]*Table1[[#This Row],[School & Library Price]]","v":0}]
[null,42,null,"Current Issues","Issues That Concern You","War","978-0-7377-6573-1","Greenhaven Publishing","eBook",1,2012,null,"eBook",null,"Author","Arthur Gillard",null,null,null,null,null,null,"Years 12 - 15",null,"Grade 7 - 10","This addition to the ISSUES THAT CONCERN YOU series explores issues related to war. Topics covered include the nature and costs of war, remote-control and cyberwarfare, climate change impact as a catalyst for war, the toll that post-traumatic stress takes on soldiers, the War on Terror, and the war in Afghanistan.","English",46.2,46.2,"355.02","128 pp.",{"$f":"Table1[[#This Row],['# of Books]]*Table1[[#This Row],[QTY]]","v":0},{"$f":"Table1[[#This Row],[QTY]]*Table1[[#This Row],[School & Library Price]]","v":0}]
[null,42,null,"Current Issues","Issues That Concern You","Zero Tolerance Policies in Schools","978-0-7377-4816-1","Greenhaven Publishing","eBook",1,2009,null,"eBook",null,"Author","Peggy Daniels",null,null,null,null,null,null,"Years 12 - 15",null,"Grade 7 - 10",null,"English",46.2,46.2,"371.50973","160 pp.",{"$f":"Table1[[#This Row],['# of Books]]*Table1[[#This Row],[QTY]]","v":0},{"$f":"Table1[[#This Row],[QTY]]*Table1[[#This Row],[School & Library Price]]","v":0}]
[null,43,null,"Current Issues","Social Issues Firsthand","Addiction","978-0-7377-2494-3","Greenhaven Publishing","Library Bound Book",1,2008,null,"Library Bound","6.000 X 9.000","Author","Wyatt Schaefer",null,null,null,null,null,null,"Years 15 - 17",null,"Grade 10 - 12",null,"English",38.299999999999898,30.639999999999919,"362","128 pp.",{"$f":"Table1[[#This Row],['# of Books]]*Table1[[#This Row],[QTY]]","v":0},{"$f":"Table1[[#This Row],[QTY]]*Table1[[#This Row],[School & Library Price]]","v":0}]
[null,43,null,"Current Issues","Social Issues Firsthand","Alcoholism","978-0-7377-3832-2","Greenhaven Publishing","Library Bound Book",1,2008,null,"Library Bound","6.000 X 9.000","Author","Justin Karr",null,null,null,null,null,null,"Years 15 - 17",null,"Grade 10 - 12",null,"English",38.299999999999898,30.639999999999919,"362","144 pp.",{"$f":"Table1[[#This Row],['# of Books]]*Table1[[#This Row],[QTY]]","v":0},{"$f":"Table1[[#This Row],[QTY]]*Table1[[#This Row],[School & Library Price]]","v":0}]
[null,43,null,"Current Issues","Social Issues Firsthand","Bipolar Disorder","978-0-7377-4658-7","Greenhaven Publishing","Library Bound Book",1,2010,null,"Library Bound","6.000 X 9.000","Author","Stefan Kiesbye",null,null,null,null,null,null,"Years 15 - 17",null,"Grade 10 - 12","Provides a collection of personal narratives on living with bipolar disorder. Includes the perspectives of those who are diagnosed as well as those who are coping with a loved one’s bipolar disorder, illuminating the impact on relationships and family dynamics. Also looks at current treatment options and their effectiveness.","English",38.299999999999898,30.639999999999919,"616","144 pp.",{"$f":"Table1[[#This Row],['# of Books]]*Table1[[#This Row],[QTY]]","v":0},{"$f":"Table1[[#This Row],[QTY]]*Table1[[#This Row],[School & Library Price]]","v":0}]
[null,43,null,"Current Issues","Social Issues Firsthand","Cancer","978-0-7377-3834-6","Greenhaven Publishing","Library Bound Book",1,2008,null,"Library Bound","6.000 X 9.000","Author","Norah Piehl",null,null,null,null,null,null,"Years 15 - 17",null,"Grade 10 - 12",null,"English",38.299999999999898,30.639999999999919,"616","152 pp.",{"$f":"Table1[[#This Row],['# of Books]]*Table1[[#This Row],[QTY]]","v":0},{"$f":"Table1[[#This Row],[QTY]]*Table1[[#This Row],[School & Library Price]]","v":0}]
[null,43,null,"Current Issues","Social Issues Firsthand","Cults","978-0-7377-4030-1","Greenhaven Publishing","Library Bound Book",1,2008,null,"Library Bound","6.000 X 9.000","Author","Doreen Piano",null,null,null,null,null,null,"Years 15 - 17",null,"Grade 10 - 12",null,"English",38.299999999999898,30.639999999999919,"306","184 pp.",{"$f":"Table1[[#This Row],['# of Books]]*Table1[[#This Row],[QTY]]","v":0},{"$f":"Table1[[#This Row],[QTY]]*Table1[[#This Row],[School & Library Price]]","v":0}]
[null,43,null,"Current Issues","Social Issues Firsthand","Divorce","978-0-7377-3837-7","Greenhaven Publishing","Library Bound Book",1,2008,null,"Library Bound","6.000 X 9.000","Author","Laurie Willis",null,null,null,null,null,null,"Years 15 - 17",null,"Grade 10 - 12",null,"English",38.299999999999898,30.639999999999919,"306","160 pp.",{"$f":"Table1[[#This Row],['# of Books]]*Table1[[#This Row],[QTY]]","v":0},{"$f":"Table1[[#This Row],[QTY]]*Table1[[#This Row],[School & Library Price]]","v":0}]
[null,43,null,"Current Issues","Social Issues Firsthand","Eating Disorders","978-0-7377-4252-7","Greenhaven Publishing","Library Bound Book",1,2009,null,"Library Bound","6.000 X 9.000","Author","Norah Piehl",null,null,null,null,null,null,"Years 15 - 17",null,"Grade 10 - 12",null,"English",38.299999999999898,30.639999999999919,"616","104 pp.",{"$f":"Table1[[#This Row],['# of Books]]*Table1[[#This Row],[QTY]]","v":0},{"$f":"Table1[[#This Row],[QTY]]*Table1[[#This Row],[School & Library Price]]","v":0}]
[null,43,null,"Current Issues","Social Issues Firsthand","Infertility","978-0-7377-3839-1","Greenhaven Publishing","Library Bound Book",1,2008,null,"Library Bound","6.000 X 9.000","Author","Norah Piehl",null,null,null,null,null,null,"Years 15 - 17",null,"Grade 10 - 12",null,"English",38.299999999999898,30.639999999999919,"616","120 pp.",{"$f":"Table1[[#This Row],['# of Books]]*Table1[[#This Row],[QTY]]","v":0},{"$f":"Table1[[#This Row],[QTY]]*Table1[[#This Row],[School & Library Price]]","v":0}]
[null,44,null,"Current Issues","Social Issues Firsthand","Mixed Heritage","978-0-7377-4560-3","Greenhaven Publishing","Library Bound Book",1,2009,null,"Library Bound","6.000 X 9.000","Author","Stefan Kiesbye",null,null,null,null,null,null,"Years 15 - 17",null,"Grade 10 - 12",null,"English",38.299999999999898,30.639999999999919,"305","120 pp.",{"$f":"Table1[[#This Row],['# of Books]]*Table1[[#This Row],[QTY]]","v":0},{"$f":"Table1[[#This Row],[QTY]]*Table1[[#This Row],[School & Library Price]]","v":0}]
[null,44,null,"Current Issues","Social Issues Firsthand","Prostitution","978-0-7377-4136-0","Greenhaven Publishing","Library Bound Book",1,2008,null,"Library Bound","6.000 X 9.000","Author","Ronnie D. Lankford",null,null,null,null,null,null,"Years 15 - 17",null,"Grade 10 - 12",null,"English",38.299999999999898,30.639999999999919,"306","144 pp.",{"$f":"Table1[[#This Row],['# of Books]]*Table1[[#This Row],[QTY]]","v":0},{"$f":"Table1[[#This Row],[QTY]]*Table1[[#This Row],[School & Library Price]]","v":0}]
[null,44,null,"Current Issues","Social Issues Firsthand","Street and Runaway Teens","978-0-7377-4033-2","Greenhaven Publishing","Library Bound Book",1,2008,null,"Library Bound","6.000 X 9.000","Author","Cynthia A. Bily",null,null,null,null,null,null,"Years 15 - 17",null,"Grade 10 - 12",null,"English",38.299999999999898,30.639999999999919,"362","136 pp.",{"$f":"Table1[[#This Row],['# of Books]]*Table1[[#This Row],[QTY]]","v":0},{"$f":"Table1[[#This Row],[QTY]]*Table1[[#This Row],[School & Library Price]]","v":0}]
[null,44,null,"Current Issues","Social Issues Firsthand","The Iraq War","978-0-7377-5010-2","Greenhaven Publishing","Library Bound Book",1,2010,null,"Library Bound","6.000 X 9.000","Author","Ronnie D. Lankford",null,null,null,null,null,null,"Years 15 - 17",null,"Grade 10 - 12",null,"English",38.299999999999898,30.639999999999919,"956","144 pp.",{"$f":"Table1[[#This Row],['# of Books]]*Table1[[#This Row],[QTY]]","v":0},{"$f":"Table1[[#This Row],[QTY]]*Table1[[#This Row],[School & Library Price]]","v":0}]
[null,44,null,"Current Issues","Social Issues Firsthand","Welfare","978-0-7377-4079-0","Greenhaven Publishing","Library Bound Book",1,2008,null,"Library Bound","6.000 X 9.000","Author","Katherine Swarts",null,null,null,null,null,null,"Years 15 - 17",null,"Grade 10 - 12",null,"English",38.299999999999898,30.639999999999919,"361","128 pp.",{"$f":"Table1[[#This Row],['# of Books]]*Table1[[#This Row],[QTY]]","v":0},{"$f":"Table1[[#This Row],[QTY]]*Table1[[#This Row],[School & Library Price]]","v":0}]
[null,45,null,"Current Issues","Teen Rights and Freedoms","Alcohol","978-0-7377-6811-4","Greenhaven Publishing","eBook",1,2013,null,"eBook",null,"Author","Roman Espejo",null,null,null,null,null,null,"Years 15 - 17",null,"Grade 10 - 12","This book explores real or perceived teen rights related to alcohol, including the national minimum drinking age, the liability of adult hosts of social gatherings where minors are served alcohol, the prospect of a graduated alcohol licensing system that would loosen restrictions for people aged 18 to 20, and the growing trend of mandatory alcohol testing at high school dances.","English",46.2,46.2,"362.292083","168 pp.",{"$f":"Table1[[#This Row],['# of Books]]*Table1[[#This Row],[QTY]]","v":0},{"$f":"Table1[[#This Row],[QTY]]*Table1[[#This Row],[School & Library Price]]","v":0}]
[null,45,null,"Current Issues","Teen Rights and Freedoms","Birth Control","978-0-7377-7071-1","Greenhaven Publishing","eBook",1,2014,null,"eBook",null,"Author","Noël Merino",null,null,null,null,null,null,"Years 15 - 17",null,"Grade 10 - 12","This book explores real or perceived teen rights related to birth control, including laws regulating contraception, abortion, the right to privacy, and parental involvement. The role of schools teaching abstinence versus sex education is also discussed.","English",46.2,46.2,"363.9","160 pp.",{"$f":"Table1[[#This Row],['# of Books]]*Table1[[#This Row],[QTY]]","v":0},{"$f":"Table1[[#This Row],[QTY]]*Table1[[#This Row],[School & Library Price]]","v":0}]
[null,46,null,"Current Issues","Teen Rights and Freedoms","Custody and Divorce","978-0-7377-6812-1","Greenhaven Publishing","eBook",1,2013,null,"eBook",null,"Author","Roman Espejo",null,null,null,null,null,null,"Years 15 - 17",null,"Grade 10 - 12","This title explores real or perceived teen rights related to custody and divorce, including, rights related to religious affiliation post-divorce; influence on custody/visitation decisions; and teens’ rights in addressing the court on their own behalf.","English",46.2,46.2,"346.01","144 pp.",{"$f":"Table1[[#This Row],['# of Books]]*Table1[[#This Row],[QTY]]","v":0},{"$f":"Table1[[#This Row],[QTY]]*Table1[[#This Row],[School & Library Price]]","v":0}]
[null,46,null,"Current Issues","Teen Rights and Freedoms","Custody and Divorce","978-0-7377-6400-0","Greenhaven Publishing","Library Bound Book",1,2013,null,"Library Bound","6.000 X 9.000","Author","Roman Espejo",null,null,null,null,null,null,"Years 15 - 17",null,"Grade 10 - 12","This title explores real or perceived teen rights related to custody and divorce, including, rights related to religious affiliation post-divorce; influence on custody/visitation decisions; and teens' rights in addressing the court on their own behalf.","English",42,33.6,"306","144 pp.",{"$f":"Table1[[#This Row],['# of Books]]*Table1[[#This Row],[QTY]]","v":0},{"$f":"Table1[[#This Row],[QTY]]*Table1[[#This Row],[School & Library Price]]","v":0}]
[null,46,null,"Current Issues","Teen Rights and Freedoms","Disabilities","978-0-7377-6995-1","Greenhaven Publishing","Library Bound Book",1,2014,null,"Library Bound","6.000 X 9.000","Author","David M. Haugen",null,null,null,null,null,null,"Years 15 - 17",null,"Grade 10 - 12","This title explores real or perceived teen rights related to disabilities, including the impact of the Individuals with Disabilities Education Act (IDEA), the Americans with Disabilities Act (ADA), and other legislation covering students and adults with disabilities. The definitions of the minimum levels of care, rights regarding community versus institution-based living, and students' rights to education regardless of disability are discussed.","English",42,33.6,"346","200 pp.",{"$f":"Table1[[#This Row],['# of Books]]*Table1[[#This Row],[QTY]]","v":0},{"$f":"Table1[[#This Row],[QTY]]*Table1[[#This Row],[School & Library Price]]","v":0}]
[null,46,null,"Current Issues","Teen Rights and Freedoms","Discrimination","978-0-7377-7074-2","Greenhaven Publishing","eBook",1,2014,null,"eBook",null,"Author","David Haugen",null,null,null,null,null,null,"Years 15 - 17",null,"Grade 10 - 12","Volume explores real or perceived teen rights related to discrimination based on race, gender, and sexual orientation. The impact of Brown v. Board of Education is examined, along with issues that have arisen in recent years including affirmative action and the racial quota systems that some universites currently employ. The growing issue of gender-based discrimination in the military is discussed, along with the continuing fight for equal rights for the LGBT community.","English",46.2,46.2,"323.0973","184 pp.",{"$f":"Table1[[#This Row],['# of Books]]*Table1[[#This Row],[QTY]]","v":0},{"$f":"Table1[[#This Row],[QTY]]*Table1[[#This Row],[School & Library Price]]","v":0}]
[null,46,null,"Current Issues","Teen Rights and Freedoms","Driving","978-0-7377-7318-7","Greenhaven Publishing","eBook",1,2015,null,"eBook",null,null,"Sylvia Engdahl",null,null,null,null,null,null,"Years 15 - 17",null,"Grade 10 - 12",null,"English",46.2,46.2,"363.12","120 pp.",{"$f":"Table1[[#This Row],['# of Books]]*Table1[[#This Row],[QTY]]","v":0},{"$f":"Table1[[#This Row],[QTY]]*Table1[[#This Row],[School & Library Price]]","v":0}]
[null,46,null,"Current Issues","Teen Rights and Freedoms","Drugs","978-0-7377-7325-5","Greenhaven Publishing","eBook",1,2015,null,"eBook",null,null,"Noël Merino",null,null,null,null,null,null,"Years 15 - 17",null,"Grade 10 - 12",null,"English",46.2,46.2,"344.73","160 pp.",{"$f":"Table1[[#This Row],['# of Books]]*Table1[[#This Row],[QTY]]","v":0},{"$f":"Table1[[#This Row],[QTY]]*Table1[[#This Row],[School & Library Price]]","v":0}]
[null,46,null,"Current Issues","Teen Rights and Freedoms","Education","978-0-7377-5824-5","Greenhaven Publishing","Library Bound Book",1,2012,null,"Library Bound","6.000 X 9.000","Author","Christina Fisanick",null,null,null,null,null,null,"Years 15 - 17",null,"Grade 10 - 12",null,"English",42,33.6,"346","168 pp.",{"$f":"Table1[[#This Row],['# of Books]]*Table1[[#This Row],[QTY]]","v":0},{"$f":"Table1[[#This Row],[QTY]]*Table1[[#This Row],[School & Library Price]]","v":0}]
[null,46,null,"Current Issues","Teen Rights and Freedoms","Electronic Devices","978-0-7377-5825-2","Greenhaven Publishing","Library Bound Book",1,2012,null,"Library Bound","6.000 X 9.000","Author","Sylvia Engdahl",null,null,null,null,null,null,"Years 15 - 17",null,"Grade 10 - 12","This volume in the new TEEN RIGHTS AND FREEDOMS series explores real or perceived teen rights related to electronic devices, such as whether or not wireless devices improve teen lives; the impact of excessive video gaming; the use of cell phones in school; dangers related to texting; tracking teens via parental GPS devices; and digital music piracy.","English",42,33.6,"346","160 pp.",{"$f":"Table1[[#This Row],['# of Books]]*Table1[[#This Row],[QTY]]","v":0},{"$f":"Table1[[#This Row],[QTY]]*Table1[[#This Row],[School & Library Price]]","v":0}]
[null,46,null,"Current Issues","Teen Rights and Freedoms","Free Press","978-0-7377-5827-6","Greenhaven Publishing","Library Bound Book",1,2012,null,"Library Bound","6.000 X 9.000","Author","Sylvia Engdahl",null,null,null,null,null,null,"Years 15 - 17",null,"Grade 10 - 12",null,"English",42,33.6,"346","184 pp.",{"$f":"Table1[[#This Row],['# of Books]]*Table1[[#This Row],[QTY]]","v":0},{"$f":"Table1[[#This Row],[QTY]]*Table1[[#This Row],[School & Library Price]]","v":0}]
[null,46,null,"Current Issues","Teen Rights and Freedoms","Freedom of Assembly and Association","978-0-7377-6608-0","Greenhaven Publishing","eBook",1,2012,null,"eBook",null,"Author","Noël Merino",null,null,null,null,null,null,"Years 15 - 17",null,"Grade 10 - 12","This volume in the new TEEN RIGHTS AND FREEDOMS series explores issues related to the freedom of assembly. The text features court cases involving juvenile curfew laws, the recognition of political organizations, and fraternity membership. The book also discusses the relationship between freedom of assembly and association, and the issue of limiting free association to avoid discrimination. Personal narratives of participants in selected court trials are also included.","English",46.2,46.2,"342.7308","184 pp.",{"$f":"Table1[[#This Row],['# of Books]]*Table1[[#This Row],[QTY]]","v":0},{"$f":"Table1[[#This Row],[QTY]]*Table1[[#This Row],[School & Library Price]]","v":0}]
[null,46,null,"Current Issues","Teen Rights and Freedoms","Health Care","978-0-7377-7326-2","Greenhaven Publishing","eBook",1,2015,null,"eBook",null,null,"Noël Merino",null,null,null,null,null,null,"Years 15 - 17",null,"Grade 10 - 12",null,"English",46.2,46.2,"344.7304","144 pp.",{"$f":"Table1[[#This Row],['# of Books]]*Table1[[#This Row],[QTY]]","v":0},{"$f":"Table1[[#This Row],[QTY]]*Table1[[#This Row],[School & Library Price]]","v":0}]
[null,46,null,"Current Issues","Teen Rights and Freedoms","Health Care","978-0-7377-7000-1","Greenhaven Publishing","Library Bound Book",1,2015,null,"Library Bound","6.000 X 9.000","Author","Noël Merino",null,null,null,null,null,null,"Years 15 - 17",null,"Grade 10 - 12","Explores real or perceived teen rights related to health care such as the level at which minors should be involved in their own health-care decisions, abortion rights, and the role religion plays in health care.","English",42,33.6,"344","144 pp.",{"$f":"Table1[[#This Row],['# of Books]]*Table1[[#This Row],[QTY]]","v":0},{"$f":"Table1[[#This Row],[QTY]]*Table1[[#This Row],[School & Library Price]]","v":0}]
[null,46,null,"Current Issues","Teen Rights and Freedoms","Labor and Employment","978-0-7377-6681-3","Greenhaven Publishing","eBook",1,2013,null,"eBook",null,"Author","David Haugen",null,null,null,null,null,null,"Years 15 - 17",null,"Grade 10 - 12","Explores real or perceived teen rights related to labor and employment including:  child labor regulations, work as it relates to school, lowering/increasing the minimum wage, and rights as they relate to reality TV.","English",46.2,46.2,"344.7301","152 pp.",{"$f":"Table1[[#This Row],['# of Books]]*Table1[[#This Row],[QTY]]","v":0},{"$f":"Table1[[#This Row],[QTY]]*Table1[[#This Row],[School & Library Price]]","v":0}]
[null,46,null,"Current Issues","Teen Rights and Freedoms","Parenting","978-0-7377-7001-8","Greenhaven Publishing","Library Bound Book",1,2014,null,"Library Bound","6.000 X 9.000","Author","David M. Haugen",null,null,null,null,null,null,"Years 15 - 17",null,"Grade 10 - 12","This title explores real or perceived teen rights related to becoming parents at a young age. Issues such as the options for continuing education during pregnancy and afterwards and the rights of teen fathers are discussed.","English",42,33.6,"346","168 pp.",{"$f":"Table1[[#This Row],['# of Books]]*Table1[[#This Row],[QTY]]","v":0},{"$f":"Table1[[#This Row],[QTY]]*Table1[[#This Row],[School & Library Price]]","v":0}]
[null,46,null,"Current Issues","Teen Rights and Freedoms","Religion","978-0-7377-6514-4","Greenhaven Publishing","eBook",1,2012,null,"eBook",null,"Author","Noël Merino",null,null,null,null,null,null,"Years 15 - 17",null,"Grade 10 - 12",null,"English",46.2,46.2,"344.73","168 pp.",{"$f":"Table1[[#This Row],['# of Books]]*Table1[[#This Row],[QTY]]","v":0},{"$f":"Table1[[#This Row],[QTY]]*Table1[[#This Row],[School & Library Price]]","v":0}]
[null,46,null,"Current Issues","Teen Rights and Freedoms","Self-Incrimination","978-0-7377-7076-6","Greenhaven Publishing","eBook",1,2014,null,"eBook",null,"Author","Noël Merino",null,null,null,null,null,null,"Years 15 - 17",null,"Grade 10 - 12","The Fifth Amendment to the Constitution guarantees due process of law and protects against self-incrimination. The volume discusses to what extent these guarantees extend to juveniles. Perceived or real teen rights related to In re Gault, and the imact of the Miranda ruling are explored.  Material is drawn from a diverse selection of primary and secondary sources -- journals, magazines, newspapers, nonfiction books, newsletters, position papers, speeches and government documents, with particular emphasis on Supreme Court and other court decisions.","English",46.2,46.2,"345.73","128 pp.",{"$f":"Table1[[#This Row],['# of Books]]*Table1[[#This Row],[QTY]]","v":0},{"$f":"Table1[[#This Row],[QTY]]*Table1[[#This Row],[School & Library Price]]","v":0}]
[null,46,null,"Current Issues","Teen Rights and Freedoms","Sex","978-0-7377-6815-2","Greenhaven Publishing","eBook",1,2013,null,"eBook",null,"Author","David Haugen",null,null,null,null,null,null,"Years 15 - 17",null,"Grade 10 - 12","This volume explores real or perceived teen rights related to sex, including laws related to parental consent for abortion; the rights of minors to obtain contraceptives; age of consent laws; and sexting.  Material is drawn from a diverse selection of primary and secondary sources -- journals, magazines, newspapers, nonfiction books, newsletters, position papers, speeches and government documents, with particular emphasis on Supreme Court and other court decisions.","English",46.2,46.2,"342.7308","160 pp.",{"$f":"Table1[[#This Row],['# of Books]]*Table1[[#This Row],[QTY]]","v":0},{"$f":"Table1[[#This Row],[QTY]]*Table1[[#This Row],[School & Library Price]]","v":0}]
[null,46,null,"Current Issues","Teen Rights and Freedoms","Social Networking","978-0-7377-5832-0","Greenhaven Publishing","Library Bound Book",1,2012,null,"Library Bound","6.000 X 9.000","Author","Roman Espejo",null,null,null,null,null,null,"Years 15 - 17",null,"Grade 10 - 12",null,"English",42,33.6,"346","168 pp.",{"$f":"Table1[[#This Row],['# of Books]]*Table1[[#This Row],[QTY]]","v":0},{"$f":"Table1[[#This Row],[QTY]]*Table1[[#This Row],[School & Library Price]]","v":0}]
[null,46,null,"Current Issues","Teen Rights and Freedoms","The Internet","978-0-7377-6610-3","Greenhaven Publishing","eBook",1,2012,null,"eBook",null,"Author","Cynthia A. Bily",null,null,null,null,null,null,"Years 15 - 17",null,"Grade 10 - 12","This volume in the new TEEN RIGHTS AND FREEDOMS series explores real or perceived teen rights related to the Internet. The text covers a variety of topics, including the legal issues of teen internet use; balancing First Amendment rights with safety; court cases related to the Communications Decency Act of 1996; the role of schools in off-campus internet activity; downloading music illegally; and cyberbullying.","English",46.2,46.2,"343.7309","168 pp.",{"$f":"Table1[[#This Row],['# of Books]]*Table1[[#This Row],[QTY]]","v":0},{"$f":"Table1[[#This Row],[QTY]]*Table1[[#This Row],[School & Library Price]]","v":0}]
[null,46,null,"Current Issues","Teen Rights and Freedoms","Tobacco and Smoking","978-0-7377-6405-5","Greenhaven Publishing","Library Bound Book",1,2014,null,"Library Bound","6.000 X 9.000","Author","Roman Espejo",null,null,null,null,null,null,"Years 15 - 17",null,"Grade 10 - 12","Explores real or perceived teen rights related to tobacco and smoking, including whether or not smoking is a right for teens, the question of whether or not tobacco companies are targeting teens, and the impact of tobacco advertising on teens.","English",42,33.6,"362","168 pp.",{"$f":"Table1[[#This Row],['# of Books]]*Table1[[#This Row],[QTY]]","v":0},{"$f":"Table1[[#This Row],[QTY]]*Table1[[#This Row],[School & Library Price]]","v":0}]
[null,47,null,"Arts and Humanities","Social Issues in Literature","Bioethics in Aldous Huxley's Brave New World","978-0-7377-4807-9","Greenhaven Publishing","Library Bound Book",1,2010,null,"Library Bound","6.000 X 9.000","Author","Dedria Bryfonski",null,null,null,null,null,null,"Years 15 - 17",null,"Grade 10 - 12","This title offers an in-depth examination of bioethics as presented in Aldous Huxley’s novel Brave New World, as well as contemporary perspectives on this issue.  Discussions include the misuse of science for power gains, the balance of good and evil inherent in certain scientific endeavors, the dangers of overpopulation, the idea of trading freedom for happiness, and the relationship between genetic science and civil liberties.","English",46.4,37.119999999999997,"823","168 pp.",{"$f":"Table1[[#This Row],['# of Books]]*Table1[[#This Row],[QTY]]","v":0},{"$f":"Table1[[#This Row],[QTY]]*Table1[[#This Row],[School & Library Price]]","v":0}]
[null,47,null,"Arts and Humanities","Social Issues in Literature","Censorship in Ray Bradbury's Fahrenheit 451","978-0-7377-5288-5","Greenhaven Publishing","Library Bound Book",1,2011,null,"Library Bound","6.000 X 9.000","Author","Candice Mancini",null,null,null,null,null,null,"Years 15 - 17",null,"Grade 10 - 12",null,"English",46.4,37.119999999999997,"813","160 pp.",{"$f":"Table1[[#This Row],['# of Books]]*Table1[[#This Row],[QTY]]","v":0},{"$f":"Table1[[#This Row],[QTY]]*Table1[[#This Row],[School & Library Price]]","v":0}]
[null,47,null,"Arts and Humanities","Social Issues in Literature","Civil Rights in Richard Wright's Native Son","978-0-7377-4391-3","Greenhaven Publishing","Paperback Book",1,2009,null,"Paperback","6.000 X 9.000","Author","Candice L. Mancini",null,null,null,null,null,null,"Years 15 - 17",null,"Grade 10 - 12",null,"English",32,25.6,"813","176 pp.",{"$f":"Table1[[#This Row],['# of Books]]*Table1[[#This Row],[QTY]]","v":0},{"$f":"Table1[[#This Row],[QTY]]*Table1[[#This Row],[School & Library Price]]","v":0}]
[null,47,null,"Arts and Humanities","Social Issues in Literature","Class Conflict in Charles Dickens' A Tale of Two Cities","978-0-7377-6975-3","Greenhaven Publishing","Paperback Book",1,2014,null,"Paperback","6.000 X 9.000","Author","Dedria Bryfonski",null,null,null,null,null,null,"Years 15 - 17",null,"Grade 10 - 12","This volume explores the life and work of Charles Dickens, focusing particularly on the theme of class conflict in the novel A Tale of Two Cities, and includes viewpoints on class conflict and income inequality in the present day.","English",32,25.6,"823","202 pp.",{"$f":"Table1[[#This Row],['# of Books]]*Table1[[#This Row],[QTY]]","v":0},{"$f":"Table1[[#This Row],[QTY]]*Table1[[#This Row],[School & Library Price]]","v":0}]
[null,47,null,"Arts and Humanities","Social Issues in Literature","Class Conflict in Emily Bronte's Wuthering Heights","978-0-7377-5802-3","Greenhaven Publishing","Paperback Book",1,2011,null,"Paperback","6.000 X 9.000","Author","Dedria Bryfonski",null,null,null,null,null,null,"Years 15 - 17",null,"Grade 10 - 12",null,"English",32,25.6,"823","175 pp.",{"$f":"Table1[[#This Row],['# of Books]]*Table1[[#This Row],[QTY]]","v":0},{"$f":"Table1[[#This Row],[QTY]]*Table1[[#This Row],[School & Library Price]]","v":0}]
[null,47,null,"Arts and Humanities","Social Issues in Literature","Class Conflict in F. Scott Fitzgerald's the Great Gatsby","978-0-7377-3903-9","Greenhaven Publishing","Paperback Book",1,2008,null,"Paperback","6.000 X 9.000","Author","Claudia Johnson",null,null,null,null,null,null,"Years 15 - 17",null,"Grade 10 - 12",null,"English",32,25.6,"813","153 pp.",{"$f":"Table1[[#This Row],['# of Books]]*Table1[[#This Row],[QTY]]","v":0},{"$f":"Table1[[#This Row],[QTY]]*Table1[[#This Row],[School & Library Price]]","v":0}]
[null,47,null,"Arts and Humanities","Social Issues in Literature","Colonialism in Chinua Achebe's Things Fall Apart","978-0-7377-4651-8","Greenhaven Publishing","Paperback Book",1,2010,null,"Paperback","6.000 X 9.000","Author","Louise Hawker",null,null,null,null,null,null,"Years 15 - 17",null,"Grade 10 - 12","This title offers an in-depth examination of colonialism as presented in Chinua Achebe's novel Things Fall Apart, as well as contemporary perspectives on this issue. Discussions include the use of language to convey status and power, the clash of Igbo and European cultures, the loss of personal identity, and the different faces of neo-colonialism.","English",32,25.6,"823","168 pp.",{"$f":"Table1[[#This Row],['# of Books]]*Table1[[#This Row],[QTY]]","v":0},{"$f":"Table1[[#This Row],[QTY]]*Table1[[#This Row],[School & Library Price]]","v":0}]
[null,47,null,"Arts and Humanities","Social Issues in Literature","Colonialism in Joseph Conrad's Heart of Darkness","978-0-7377-5804-7","Greenhaven Publishing","Paperback Book",1,2012,null,"Paperback","6.000 X 9.000","Author","Claudia Durst Johnson",null,null,null,null,null,null,"Years 15 - 17",null,"Grade 10 - 12","This volume of SOCIAL ISSUES IN LITERATURE examines Joseph Conrad’s life and writings, with a specific look at key ideas related to Heart of Darkness. The text discusses a variety of topics, including the evil pettiness behind colonial bureaucracy; facing colonialism’s racial divide; the relationship between Victorian ethics, new science, and colonialism; and modern views of colonialism, including colonialism in North African countries and multinational corporate abuse in India.","English",32,25.6,"823","161 pp.",{"$f":"Table1[[#This Row],['# of Books]]*Table1[[#This Row],[QTY]]","v":0},{"$f":"Table1[[#This Row],[QTY]]*Table1[[#This Row],[School & Library Price]]","v":0}]
[null,48,null,"Arts and Humanities","Social Issues in Literature","Coming of Age in William Shakespeare's Romeo and Juliet","978-0-7377-4614-3","Greenhaven Publishing","Library Bound Book",1,2009,null,"Library Bound","6.000 X 9.000","Author","Vernon Elso Johnson",null,null,null,null,null,null,"Years 15 - 17",null,"Grade 10 - 12",null,"English",46.4,37.119999999999997,"822","160 pp.",{"$f":"Table1[[#This Row],['# of Books]]*Table1[[#This Row],[QTY]]","v":0},{"$f":"Table1[[#This Row],[QTY]]*Table1[[#This Row],[School & Library Price]]","v":0}]
[null,48,null,"Arts and Humanities","Social Issues in Literature","Corruption in William Shakespeare's Hamlet","978-0-7377-4810-9","Greenhaven Publishing","Paperback Book",1,2010,null,"Paperback","6.000 X 9.000","Author","Vernon Elso Johnson",null,null,null,null,null,null,"Years 15 - 17",null,"Grade 10 - 12","This title offers an in-depth examination of corruption as presented in William Shakespeare’s play Hamlet, as well as contemporary perspectives on this issue. Discussions include the symbolic role of sickness and disease, parallels between the politics in the play and Elizabethan England, how Claudius created generational disorder, and the relationship between corruption and inequality.","English",32,25.6,"822","172 pp.",{"$f":"Table1[[#This Row],['# of Books]]*Table1[[#This Row],[QTY]]","v":0},{"$f":"Table1[[#This Row],[QTY]]*Table1[[#This Row],[School & Library Price]]","v":0}]
[null,48,null,"Arts and Humanities","Social Issues in Literature","Death in Ernest Hemingway's the Old Man and the Sea","978-0-7377-7062-9","Greenhaven Publishing","eBook",1,2014,null,"eBook",null,"Author","Dedria Bryfonski",null,null,null,null,null,null,"Years 15 - 17",null,"Grade 10 - 12","Volume explores Ernest Hemingway’s The Old Man and the Sea through the lens of death. Coverage includes an examination of Hemingway’s life and influences; a look at key ideas related to death in the novel, including notions of the killing, hunting, and aging; and contemporary perspectives on death.","English",51.04,51.04,"813.52","170 pp.",{"$f":"Table1[[#This Row],['# of Books]]*Table1[[#This Row],[QTY]]","v":0},{"$f":"Table1[[#This Row],[QTY]]*Table1[[#This Row],[School & Library Price]]","v":0}]
[null,48,null,"Arts and Humanities","Social Issues in Literature","Death in Ernest Hemingway's the Old Man and the Sea","978-0-7377-6979-1","Greenhaven Publishing","Paperback Book",1,2014,null,"Paperback","6.000 X 9.000","Author","Dedria Bryfonski",null,null,null,null,null,null,"Years 15 - 17",null,"Grade 10 - 12","Volume explores Ernest Hemingway’s The Old Man and the Sea through the lens of death. Coverage includes an examination of Hemingway’s life and influences; a look at key ideas related to death in the novel, including notions of the killing, hunting, and aging; and contemporary perspectives on death.","English",32,25.6,"813","170 pp.",{"$f":"Table1[[#This Row],['# of Books]]*Table1[[#This Row],[QTY]]","v":0},{"$f":"Table1[[#This Row],[QTY]]*Table1[[#This Row],[School & Library Price]]","v":0}]
[null,48,null,"Arts and Humanities","Social Issues in Literature","Depression in J.d. Salinger's the Catcher in the Rye","978-0-7377-4257-2","Greenhaven Publishing","Paperback Book",1,2009,null,"Paperback","6.000 X 9.000","Author","Dedria Bryfonski",null,null,null,null,null,null,"Years 15 - 17",null,"Grade 10 - 12",null,"English",32,25.6,"813","218 pp.",{"$f":"Table1[[#This Row],['# of Books]]*Table1[[#This Row],[QTY]]","v":0},{"$f":"Table1[[#This Row],[QTY]]*Table1[[#This Row],[School & Library Price]]","v":0}]
[null,48,null,"Arts and Humanities","Social Issues in Literature","Depression in Sylvia Plath's the Bell Jar","978-0-7377-5806-1","Greenhaven Publishing","Paperback Book",1,2012,null,"Paperback","6.000 X 9.000","Author","Dedria Bryfonski",null,null,null,null,null,null,"Years 15 - 17",null,"Grade 10 - 12","This volume of SOCIAL ISSUES IN LITERATURE examines Sylvia Plath’s life and writings, with a specific look at key ideas related to The Bell Jar. The text discusses a variety of topics, including the pervasive impact of illness in the story, the novel as a search for personal identity, and the autobiographical nature of the work. The book also examines contemporary perspectives on depression, such as the sometimes deadly pressure of perfectionism on gifted teens, and the idea that depression and risk of suicide run in families.","English",32,25.6,"813","164 pp.",{"$f":"Table1[[#This Row],['# of Books]]*Table1[[#This Row],[QTY]]","v":0},{"$f":"Table1[[#This Row],[QTY]]*Table1[[#This Row],[School & Library Price]]","v":0}]
[null,48,null,"Arts and Humanities","Social Issues in Literature","Family Dysfunction in Tennessee Williams's the Glass Menagerie","978-0-7377-6380-5","Greenhaven Publishing","Paperback Book",1,2013,null,"Paperback","6.000 X 9.000","Author","Dedria Bryfonski",null,null,null,null,null,null,"Years 15 - 17",null,"Grade 10 - 12","This volume explores Tennessee Williams’s The Glass Menagerie through the lens of family dysfunction. Coverage includes an examination of Williams’s life and influences; a look at key ideas related to family dysfunction and The Glass Menagerie–for example, the role of guilt in family relationships and the breakdown of the American family and the American dream; and contemporary perspectives on family dysfunction, such as the damage inflicted by toxic or overbearing parents and the effects of alcoholism on families.","English",32,25.6,"812","174 pp.",{"$f":"Table1[[#This Row],['# of Books]]*Table1[[#This Row],[QTY]]","v":0},{"$f":"Table1[[#This Row],[QTY]]*Table1[[#This Row],[School & Library Price]]","v":0}]
[null,48,null,"Arts and Humanities","Social Issues in Literature","Family Dysfunction in Tennessee Williams's the Glass Menagerie","978-0-7377-6804-6","Greenhaven Publishing","eBook",1,2013,null,"eBook",null,"Author","Dedria Bryfonski",null,null,null,null,null,null,"Years 15 - 17",null,"Grade 10 - 12","This volume explores Tennessee Williams’s The Glass Menagerie through the lens of family dysfunction. Coverage includes an examination of Williams’s life and influences; a look at key ideas related to family dysfunction and The Glass Menagerie–for example, the role of guilt in family relationships and the breakdown of the American family and the American dream; and contemporary perspectives on family dysfunction, such as the damage inflicted by toxic or overbearing parents and the effects of alcoholism on families.","English",51.04,51.04,"812.54","174 pp.",{"$f":"Table1[[#This Row],['# of Books]]*Table1[[#This Row],[QTY]]","v":0},{"$f":"Table1[[#This Row],[QTY]]*Table1[[#This Row],[School & Library Price]]","v":0}]
[null,48,null,"Arts and Humanities","Social Issues in Literature","Freedom of Thought in Jerome Lawrence and Robert Edwin Lee's Inherit the Wind","978-0-7377-5014-0","Greenhaven Publishing","Library Bound Book",1,2010,null,"Library Bound","6.000 X 9.000","Author","Candice Mancini",null,null,null,null,null,null,"Years 15 - 17",null,"Grade 10 - 12","This title offers an in-depth examination of freedom of thought as presented in Jerome Lawrence & Robert Edwin Lee's play Inherit the Wind, as well as contemporary perspectives on the issue. Written during the McCarthy era, the play dramatized the infamous Scopes trial, at times shifting the focus from freedom of thought to the theory of evolution. In the twenty-first century, the play brings renewed attention to religion in politics and education, and issues of individual freedom.","English",46.4,37.119999999999997,"813","192 pp.",{"$f":"Table1[[#This Row],['# of Books]]*Table1[[#This Row],[QTY]]","v":0},{"$f":"Table1[[#This Row],[QTY]]*Table1[[#This Row],[School & Library Price]]","v":0}]
[null,48,null,"Arts and Humanities","Social Issues in Literature","Gender in Lorraine Hansberry's A Raisin in the Sun","978-0-7377-5927-3","Greenhaven Publishing","eBook",1,2011,null,"eBook",null,"Author","Gary Wiener",null,null,null,null,null,null,"Years 15 - 17",null,"Grade 10 - 12",null,"English",51.04,51.04,"812.54","200 pp.",{"$f":"Table1[[#This Row],['# of Books]]*Table1[[#This Row],[QTY]]","v":0},{"$f":"Table1[[#This Row],[QTY]]*Table1[[#This Row],[School & Library Price]]","v":0}]
[null,48,null,"Arts and Humanities","Social Issues in Literature","Genocide in Anne Frank's the Diary of a Young Girl","978-0-7377-6115-3","Greenhaven Publishing","eBook",1,2012,null,"eBook",null,"Author","Louise Hawker",null,null,null,null,null,null,"Years 15 - 17",null,"Grade 10 - 12",null,"English",51.04,51.04,"940.53","160 pp.",{"$f":"Table1[[#This Row],['# of Books]]*Table1[[#This Row],[QTY]]","v":0},{"$f":"Table1[[#This Row],[QTY]]*Table1[[#This Row],[School & Library Price]]","v":0}]
[null,48,null,"Arts and Humanities","Social Issues in Literature","Industrialism in John Steinbeck's the Grapes of Wrath","978-0-7377-4034-9","Greenhaven Publishing","Library Bound Book",1,2008,null,"Library Bound","6.000 X 9.000","Author","Louise Hawker",null,null,null,null,null,null,"Years 15 - 17",null,"Grade 10 - 12",null,"English",46.4,37.119999999999997,"813","184 pp.",{"$f":"Table1[[#This Row],['# of Books]]*Table1[[#This Row],[QTY]]","v":0},{"$f":"Table1[[#This Row],[QTY]]*Table1[[#This Row],[School & Library Price]]","v":0}]
[null,48,null,"Arts and Humanities","Social Issues in Literature","Issues of Class in Jane Austen's Pride and Prejudice","978-0-7377-4258-9","Greenhaven Publishing","Library Bound Book",1,2009,null,"Library Bound","6.000 X 9.000","Author","Claudia Durst Johnson",null,null,null,null,null,null,"Years 15 - 17",null,"Grade 10 - 12",null,"English",46.4,37.119999999999997,"823","184 pp.",{"$f":"Table1[[#This Row],['# of Books]]*Table1[[#This Row],[QTY]]","v":0},{"$f":"Table1[[#This Row],[QTY]]*Table1[[#This Row],[School & Library Price]]","v":0}]
[null,48,null,"Arts and Humanities","Social Issues in Literature","Male and Female Roles in Ernest Hemingway's the Sun Also Rises","978-0-7377-4020-2","Greenhaven Publishing","Library Bound Book",1,2008,null,"Library Bound","6.000 X 9.000","Author","Dedria Bryfonski",null,null,null,null,null,null,"Years 15 - 17",null,"Grade 10 - 12",null,"English",46.4,37.119999999999997,"813","224 pp.",{"$f":"Table1[[#This Row],['# of Books]]*Table1[[#This Row],[QTY]]","v":0},{"$f":"Table1[[#This Row],[QTY]]*Table1[[#This Row],[School & Library Price]]","v":0}]
[null,48,null,"Arts and Humanities","Social Issues in Literature","Male and Female Roles in Ernest Hemingway's the Sun Also Rises","978-0-7377-4021-9","Greenhaven Publishing","Paperback Book",1,2008,null,"Paperback","6.000 X 9.000","Author","Dedria Bryfonski",null,null,null,null,null,null,"Years 15 - 17",null,"Grade 10 - 12",null,"English",32,25.6,"813","219 pp.",{"$f":"Table1[[#This Row],['# of Books]]*Table1[[#This Row],[QTY]]","v":0},{"$f":"Table1[[#This Row],[QTY]]*Table1[[#This Row],[School & Library Price]]","v":0}]
[null,48,null,"Arts and Humanities","Social Issues in Literature","Patriarchy in Sandra Cisneros' the House on Mango Street","978-0-7377-4800-0","Greenhaven Publishing","Library Bound Book",1,2010,null,"Library Bound","6.000 X 9.000","Author","Claudia Durst Johnson",null,null,null,null,null,null,"Years 15 - 17",null,"Grade 10 - 12","This title offers an in-depth examination of patriarchy as presented in Sandra Cisneros’s novel The House on Mango Street, as well as contemporary perspectives on this issue.  Discussions include how the protagonist’s female gender affects reaction to the book’s coming-of-age message, how themes of oppression and marginalization play out among the characters, and what Esperanza’s personality says about her relationships to males in the novel.","English",46.4,37.119999999999997,"813","184 pp.",{"$f":"Table1[[#This Row],['# of Books]]*Table1[[#This Row],[QTY]]","v":0},{"$f":"Table1[[#This Row],[QTY]]*Table1[[#This Row],[School & Library Price]]","v":0}]
[null,48,null,"Arts and Humanities","Social Issues in Literature","Peer Pressure in Robert Cormier's the Chocolate War","978-0-7377-4621-1","Greenhaven Publishing","Paperback Book",1,2009,null,"Paperback","6.000 X 9.000","Author","Dedria Bryfonski",null,null,null,null,null,null,"Years 15 - 17",null,"Grade 10 - 12",null,"English",32,25.6,"813","184 pp.",{"$f":"Table1[[#This Row],['# of Books]]*Table1[[#This Row],[QTY]]","v":0},{"$f":"Table1[[#This Row],[QTY]]*Table1[[#This Row],[School & Library Price]]","v":0}]
[null,48,null,"Arts and Humanities","Social Issues in Literature","Politics in George Orwell's Animal Farm","978-0-7377-5021-8","Greenhaven Publishing","Paperback Book",1,2011,null,"Paperback","6.000 X 9.000","Author","Dedria Bryfonski",null,null,null,null,null,null,"Years 15 - 17",null,"Grade 10 - 12",null,"English",32,25.6,"823","189 pp.",{"$f":"Table1[[#This Row],['# of Books]]*Table1[[#This Row],[QTY]]","v":0},{"$f":"Table1[[#This Row],[QTY]]*Table1[[#This Row],[School & Library Price]]","v":0}]
[null,48,null,"Arts and Humanities","Social Issues in Literature","Poverty in John Steinbeck's the Pearl","978-0-7377-5808-5","Greenhaven Publishing","Paperback Book",1,2012,null,"Paperback","6.000 X 9.000","Author","Louise Hawker",null,null,null,null,null,null,"Years 15 - 17",null,"Grade 10 - 12","This volume of SOCIAL ISSUES IN LITERATURE examines John Steinbeck's life and work, with a specific look at key ideas related to The Pearl. The text discusses a variety of topics, including whether Kino chooses enslavement to wealth in order to escape poverty, and whether the townspeople have a parasitic relationship with the poor. The book also explores contemporary perspectives on poverty, such as the changing views of the term \"culture of poverty\" and the relationship between western materialism and spiritual depression.","English",32,25.6,"813","141 pp.",{"$f":"Table1[[#This Row],['# of Books]]*Table1[[#This Row],[QTY]]","v":0},{"$f":"Table1[[#This Row],[QTY]]*Table1[[#This Row],[School & Library Price]]","v":0}]
[null,48,null,"Arts and Humanities","Social Issues in Literature","Race in John Howard Griffin's Black Like Me","978-0-7377-6373-7","Greenhaven Publishing","Library Bound Book",1,2013,null,"Library Bound","6.000 X 9.000","Author","David Nelson",null,null,null,null,null,null,"Years 15 - 17",null,"Grade 10 - 12","This title explores the life of John Howard Griffin as well as the issue of race as explored in his most famous work, Black Like Me, which details Griffin's experiment darkening his skin to pass as a black man during the Jim Crow era. This volume also explores race in twenty-first-century America, with commentators asserting that while progress has been made, racism is still a significant issue.","English",46.4,37.119999999999997,"301","143 pp.",{"$f":"Table1[[#This Row],['# of Books]]*Table1[[#This Row],[QTY]]","v":0},{"$f":"Table1[[#This Row],[QTY]]*Table1[[#This Row],[School & Library Price]]","v":0}]
[null,49,null,"Arts and Humanities","Social Issues in Literature","Race in Ralph Ellison's Invisible Man","978-0-7377-6463-5","Greenhaven Publishing","eBook",1,2012,null,"eBook",null,"Author","Hayley Mitchell Haugen",null,null,null,null,null,null,"Years 15 - 17",null,"Grade 10 - 12",null,"English",51.04,51.04,"305.800973","168 pp.",{"$f":"Table1[[#This Row],['# of Books]]*Table1[[#This Row],[QTY]]","v":0},{"$f":"Table1[[#This Row],[QTY]]*Table1[[#This Row],[School & Library Price]]","v":0}]
[null,49,null,"Arts and Humanities","Social Issues in Literature","Race in Ralph Ellison's Invisible Man","978-0-7377-5811-5","Greenhaven Publishing","Library Bound Book",1,2012,null,"Library Bound","6.000 X 9.000","Author","Hayley Mitchell Haugen",null,null,null,null,null,null,"Years 15 - 17",null,"Grade 10 - 12",null,"English",46.4,37.119999999999997,"813","168 pp.",{"$f":"Table1[[#This Row],['# of Books]]*Table1[[#This Row],[QTY]]","v":0},{"$f":"Table1[[#This Row],[QTY]]*Table1[[#This Row],[School & Library Price]]","v":0}]
[null,49,null,"Arts and Humanities","Social Issues in Literature","Race in the Poetry of Langston Hughes","978-0-7377-7063-6","Greenhaven Publishing","eBook",1,2014,null,"eBook",null,"Author","Claudia Durst Johnson",null,null,null,null,null,null,"Years 15 - 17",null,"Grade 10 - 12","Volume explores the poetry of Langston Hughes through the lens of race. Coverage includes an examination of Hughes’s life and influences; a look at key ideas related to race in Hughes’s poetry, including the influence of African-American music, the use of poetry to address racial problems, and the politics of Hughes’s anti-lynching poems; and contemporary perspectives on race, such as the decline of civil rights reform and the role of hip-hop as the new black music.","English",51.04,51.04,"818.5209","168 pp.",{"$f":"Table1[[#This Row],['# of Books]]*Table1[[#This Row],[QTY]]","v":0},{"$f":"Table1[[#This Row],[QTY]]*Table1[[#This Row],[School & Library Price]]","v":0}]
[null,49,null,"Arts and Humanities","Social Issues in Literature","Race in William Shakespeare's Othello","978-0-7377-6477-2","Greenhaven Publishing","eBook",1,2012,null,"eBook",null,"Author","Vernon Elso Johnson",null,null,null,null,null,null,"Years 15 - 17",null,"Grade 10 - 12",null,"English",51.04,51.04,"822.3","157 pp.",{"$f":"Table1[[#This Row],['# of Books]]*Table1[[#This Row],[QTY]]","v":0},{"$f":"Table1[[#This Row],[QTY]]*Table1[[#This Row],[School & Library Price]]","v":0}]
[null,49,null,"Arts and Humanities","Social Issues in Literature","Racism in Harper Lee's to Kill a Mockingbird","978-0-7377-3900-8","Greenhaven Publishing","Library Bound Book",1,2008,null,"Library Bound","6.000 X 9.000","Author","Candice Mancini",null,null,null,null,null,null,"Years 15 - 17",null,"Grade 10 - 12",null,"English",46.4,37.119999999999997,"813","216 pp.",{"$f":"Table1[[#This Row],['# of Books]]*Table1[[#This Row],[QTY]]","v":0},{"$f":"Table1[[#This Row],[QTY]]*Table1[[#This Row],[School & Library Price]]","v":0}]
[null,49,null,"Arts and Humanities","Social Issues in Literature","Racism in Maya Angelou's I Know Why the Caged Bird Sings","978-0-7377-3901-5","Greenhaven Publishing","Library Bound Book",1,2008,null,"Library Bound","6.000 X 9.000","Author","Claudia Johnson",null,null,null,null,null,null,"Years 15 - 17",null,"Grade 10 - 12",null,"English",46.4,37.119999999999997,"818","152 pp.",{"$f":"Table1[[#This Row],['# of Books]]*Table1[[#This Row],[QTY]]","v":0},{"$f":"Table1[[#This Row],[QTY]]*Table1[[#This Row],[School & Library Price]]","v":0}]
[null,49,null,"Arts and Humanities","Social Issues in Literature","Racism in The Autobiography of Malcolm X","978-0-7377-4261-9","Greenhaven Publishing","Paperback Book",1,2009,null,"Paperback","6.000 X 9.000","Author","Candice Mancini",null,null,null,null,null,null,"Years 15 - 17",null,"Grade 10 - 12",null,"English",32,25.6,"305","175 pp.",{"$f":"Table1[[#This Row],['# of Books]]*Table1[[#This Row],[QTY]]","v":0},{"$f":"Table1[[#This Row],[QTY]]*Table1[[#This Row],[School & Library Price]]","v":0}]
[null,49,null,"Arts and Humanities","Social Issues in Literature","Sexuality in the Comedies of William Shakespeare","978-0-7377-6982-1","Greenhaven Publishing","Library Bound Book",1,2014,null,"Library Bound","6.000 X 9.000","Author","Stephen P. Thompson",null,null,null,null,null,null,"Years 15 - 17",null,"Grade 10 - 12","Social Issues in Literature: Sexuality in the Comedies of William Shakespeare examines the background of William Shakespeare, explores themes of sexuality in the comedies of Shakespeare, and takes a look at sexuality in the twenty-first century.","English",46.4,37.119999999999997,"822","159 pp.",{"$f":"Table1[[#This Row],['# of Books]]*Table1[[#This Row],[QTY]]","v":0},{"$f":"Table1[[#This Row],[QTY]]*Table1[[#This Row],[School & Library Price]]","v":0}]
[null,49,null,"Arts and Humanities","Social Issues in Literature","Sexuality in William Shakespeare's A Midsummer Night's Dream","978-0-7377-6388-1","Greenhaven Publishing","Paperback Book",1,2014,null,"Paperback","6.000 X 9.000","Author","Gary Wiener",null,null,null,null,null,null,"Years 15 - 17",null,"Grade 10 - 12","Volume explores William Shakespeare’s A Midsummer Night’s Dream through the lens of sexuality. Coverage includes an examination of Shakespeare’s life and influences; a look at key ideas related to sexuality in Midsummer, including notions of the war between the sexes, taboo sexuality, and the marginalization of women’s sexuality; and contemporary perspectives on sexuality, such as adolescent sexuality, the categorizing of people into sexual classifications, and sex education.","English",32,25.6,"822","199 pp.",{"$f":"Table1[[#This Row],['# of Books]]*Table1[[#This Row],[QTY]]","v":0},{"$f":"Table1[[#This Row],[QTY]]*Table1[[#This Row],[School & Library Price]]","v":0}]
[null,49,null,"Arts and Humanities","Social Issues in Literature","Slavery in Narrative of the Life of Frederick Douglass","978-0-7377-6986-9","Greenhaven Publishing","Library Bound Book",1,2014,null,"Library Bound","6.000 X 9.000","Author","Claudia Durst Johnson",null,null,null,null,null,null,"Years 15 - 17",null,"Grade 10 - 12","Volume explores the autobiography Narrative of the Life of Frederick Douglass through the lens of slavery. Coverage includes an examination of Frederick Douglass' life and influences; a look at the portrayal of slavery in the Narrative; including slavery and religion, slavery's impact on the family, slavery and identity; and contemporary perspectives on slavery, such as agricultural slavery, labor exploitation, and sex slaves.","English",46.4,37.119999999999997,"973","134 pp.",{"$f":"Table1[[#This Row],['# of Books]]*Table1[[#This Row],[QTY]]","v":0},{"$f":"Table1[[#This Row],[QTY]]*Table1[[#This Row],[School & Library Price]]","v":0}]
[null,49,null,"Arts and Humanities","Social Issues in Literature","Slavery in Toni Morrison's Beloved","978-0-7377-6389-8","Greenhaven Publishing","Library Bound Book",1,2012,null,"Library Bound","6.000 X 9.000","Author","Dedria Bryfonski",null,null,null,null,null,null,"Years 15 - 17",null,"Grade 10 - 12","Volume explores Toni Morrison's classic novel through the lens of slavery. Coverage includes: an examination of Morrison's life and influences, a look at key ideas related to slavery in Beloved–for example, the role of slavery in both the forging and destruction of an African-American identity, the impact of slavery on family relationships, and the psychological trauma caused by slavery, contemporary perspectives on slavery, such as the global problem of human trafficking and the role of multinational corporations in modern day slavery.","English",46.4,37.119999999999997,"813","189 pp.",{"$f":"Table1[[#This Row],['# of Books]]*Table1[[#This Row],[QTY]]","v":0},{"$f":"Table1[[#This Row],[QTY]]*Table1[[#This Row],[School & Library Price]]","v":0}]
[null,49,null,"Arts and Humanities","Social Issues in Literature","Slavery in Toni Morrison's Beloved","978-0-7377-6390-4","Greenhaven Publishing","Paperback Book",1,2012,null,"Paperback","6.000 X 9.000","Author","Dedria Bryfonski",null,null,null,null,null,null,"Years 15 - 17",null,"Grade 10 - 12","Volume explores Toni Morrison's classic novel through the lens of slavery. Coverage includes: an examination of Morrison's life and influences, a look at key ideas related to slavery in Beloved–for example, the role of slavery in both the forging and destruction of an African-American identity, the impact of slavery on family relationships, and the psychological trauma caused by slavery, contemporary perspectives on slavery, such as the global problem of human trafficking and the role of multinational corporations in modern day slavery.","English",32,25.6,"813","189 pp.",{"$f":"Table1[[#This Row],['# of Books]]*Table1[[#This Row],[QTY]]","v":0},{"$f":"Table1[[#This Row],[QTY]]*Table1[[#This Row],[School & Library Price]]","v":0}]
[null,49,null,"Arts and Humanities","Social Issues in Literature","Teen Issues in S.E. Hinton's the Outsiders","978-0-7377-5809-2","Greenhaven Publishing","Library Bound Book",1,2012,null,"Library Bound","6.000 X 9.000","Author","David E. Nelson",null,null,null,null,null,null,"Years 15 - 17",null,"Grade 10 - 12","This volume of SOCIAL ISSUES IN LITERATURE explores S.E. Hinton's classic novel The Outsiders through the lens of teen issues. The text discusses a variety of topics, including Hinton's life and influences, whether the novel offers an overly romanticized view of teen life, and whether social bonds are important for economically disadvantaged teens. The book also explores contemporary perspectives on teen issues, such as a look at modern teen class divisions and the relationship between parenting, masculinity, and teen violence.","English",46.4,37.119999999999997,"813","160 pp.",{"$f":"Table1[[#This Row],['# of Books]]*Table1[[#This Row],[QTY]]","v":0},{"$f":"Table1[[#This Row],[QTY]]*Table1[[#This Row],[School & Library Price]]","v":0}]
[null,49,null,"Arts and Humanities","Social Issues in Literature","The American Dream in John Steinbeck's of Mice and Men","978-0-7377-4848-2","Greenhaven Publishing","Library Bound Book",1,2010,null,"Library Bound","6.000 X 9.000","Author","Hayley Mitchell Haugen",null,null,null,null,null,null,"Years 15 - 17",null,"Grade 10 - 12","This title offers an in-depth examination of the American Dream as presented in John Steinbeck’s novel Of Mice and Men, as well as contemporary perspectives on this issue. Is Steinbeck’s American Dream out of reach, or simply an illusion? Discussions include the dangerous and addictive side of seeking personal wealth, immigration and the American Dream, and whether  what constitutes the American Dream has changed over time.","English",46.4,37.119999999999997,"813","160 pp.",{"$f":"Table1[[#This Row],['# of Books]]*Table1[[#This Row],[QTY]]","v":0},{"$f":"Table1[[#This Row],[QTY]]*Table1[[#This Row],[School & Library Price]]","v":0}]
[null,49,null,"Arts and Humanities","Social Issues in Literature","The Environment in Henry David Thoreau's Walden","978-0-7377-4655-6","Greenhaven Publishing","Paperback Book",1,2010,null,"Paperback","6.000 X 9.000","Author","Gary Wiener",null,null,null,null,null,null,"Years 15 - 17",null,"Grade 10 - 12","This title offers an in-depth examination of the environment as presented in Henry David Thoreau’s novel Walden, as well as contemporary perspectives on this issue.  Discussions include the author’s language as a bond between humans and nature, Thoreau’s methodology as a guide for today’s environmentalists, the distortion of Thoreau’s message over time, and environmentalism as the new religion of \"urban atheists.\"","English",32,25.6,"818","219 pp.",{"$f":"Table1[[#This Row],['# of Books]]*Table1[[#This Row],[QTY]]","v":0},{"$f":"Table1[[#This Row],[QTY]]*Table1[[#This Row],[School & Library Price]]","v":0}]
[null,49,null,"Arts and Humanities","Social Issues in Literature","The Food Industry in Eric Schlosser's Fast Food Nation","978-0-7377-6807-7","Greenhaven Publishing","eBook",1,2013,null,"eBook",null,"Author","David Haugen",null,null,null,null,null,null,"Years 15 - 17",null,"Grade 10 - 12","Volume explores Eric Schlosser’s Fast Food Nation through the lens of the food industry. Coverage includes: an examination of Schlosser’s life as an investigative journalist, Schlosser’s view of the food industry as demonstrated in his book; how investigative journalism can be viewed as literature; how Fast Food Nation has changed people’s perspectives and actions; criticisms of Fast Food Nation and its message, contemporary perspectives on the food industry, such as commentary on various food \"movements\" including the global food movement and the local food movement, and commentary on food regulations.","English",51.04,51.04,"642.50973","168 pp.",{"$f":"Table1[[#This Row],['# of Books]]*Table1[[#This Row],[QTY]]","v":0},{"$f":"Table1[[#This Row],[QTY]]*Table1[[#This Row],[School & Library Price]]","v":0}]
[null,49,null,"Arts and Humanities","Social Issues in Literature","The Food Industry in Eric Schlosser's Fast Food Nation","978-0-7377-6382-9","Greenhaven Publishing","Paperback Book",1,2013,null,"Paperback","6.000 X 9.000","Author","David Haugen",null,null,null,null,null,null,"Years 15 - 17",null,"Grade 10 - 12","Volume explores Eric Schlosser's Fast Food Nation through the lens of the food industry. Coverage includes: an examination of Schlosser's life as an investigative journalist, Schlosser's view of the food industry as demonstrated in his book; how investigative journalism can be viewed as literature; how Fast Food Nation has changed people's perspectives and actions; criticisms of Fast Food Nation and its message, contemporary perspectives on the food industry, such as commentary on various food \"movements\" including the global food movement and the local food movement, and commentary on food regulations.","English",32,25.6,"394","167 pp.",{"$f":"Table1[[#This Row],['# of Books]]*Table1[[#This Row],[QTY]]","v":0},{"$f":"Table1[[#This Row],[QTY]]*Table1[[#This Row],[School & Library Price]]","v":0}]
[null,49,null,"Arts and Humanities","Social Issues in Literature","Tyranny in William Shakespeare's Julius Caesar","978-0-7377-5262-5","Greenhaven Publishing","Library Bound Book",1,2011,null,"Library Bound","6.000 X 9.000","Author","Vernon Johnson",null,null,null,null,null,null,"Years 15 - 17",null,"Grade 10 - 12",null,"English",46.4,37.119999999999997,"822","184 pp.",{"$f":"Table1[[#This Row],['# of Books]]*Table1[[#This Row],[QTY]]","v":0},{"$f":"Table1[[#This Row],[QTY]]*Table1[[#This Row],[School & Library Price]]","v":0}]
[null,49,null,"Arts and Humanities","Social Issues in Literature","Violence in Anthony Burgess's A Clockwork Orange","978-0-7377-6988-3","Greenhaven Publishing","Library Bound Book",1,2014,null,"Library Bound","6.000 X 9.000","Author","Dedria Bryfonski",null,null,null,null,null,null,"Years 15 - 17",null,"Grade 10 - 12","This volume explores the life and work of Anthony Burgess, focusing on themes of human nature, violence, and freedom of choice. Contemporary issues including gang violence and violence against women are also discussed.","English",46.4,37.119999999999997,"823","195 pp.",{"$f":"Table1[[#This Row],['# of Books]]*Table1[[#This Row],[QTY]]","v":0},{"$f":"Table1[[#This Row],[QTY]]*Table1[[#This Row],[School & Library Price]]","v":0}]
[null,49,null,"Arts and Humanities","Social Issues in Literature","Violence in Suzanne Collins's The Hunger Games Trilogy","978-0-7377-6990-6","Greenhaven Publishing","Library Bound Book",1,2014,null,"Library Bound","6.000 X 9.000","Author","Gary Wiener",null,null,null,null,null,null,"Years 15 - 17",null,"Grade 10 - 12","This title provides biographical information about Suzanne Collins and offers a perspective on her influences. Other pieces discuss aspects of the novel, focusing on Katniss, her struggles, and the meaning and impact of violence.","English",46.4,37.119999999999997,"813","200 pp.",{"$f":"Table1[[#This Row],['# of Books]]*Table1[[#This Row],[QTY]]","v":0},{"$f":"Table1[[#This Row],[QTY]]*Table1[[#This Row],[School & Library Price]]","v":0}]
[null,49,null,"Arts and Humanities","Social Issues in Literature","War in Erich Maria Remarque's All Quiet on the Western Front","978-0-7377-6808-4","Greenhaven Publishing","eBook",1,2013,null,"eBook",null,"Author","Noah Berlatsky",null,null,null,null,null,null,"Years 15 - 17",null,"Grade 10 - 12","This volume explores the life and work of Erich Maria Remarque; the treatment of war in his World War I classic All Quiet on the Western Front, including debates about its effectiveness as an antiwar novel and whether it was intended as a pacificist work; and current perspectives on war and peace worldwide.","English",51.04,51.04,"833.912","135 pp.",{"$f":"Table1[[#This Row],['# of Books]]*Table1[[#This Row],[QTY]]","v":0},{"$f":"Table1[[#This Row],[QTY]]*Table1[[#This Row],[School & Library Price]]","v":0}]
[null,49,null,"Arts and Humanities","Social Issues in Literature","War in Ernest Hemingway's A Farewell to Arms","978-0-7377-7069-8","Greenhaven Publishing","eBook",1,2014,null,"eBook",null,"Author","David Haugen",null,null,null,null,null,null,"Years 15 - 17",null,"Grade 10 - 12","This volume explores the life and work of Ernest Hemingway, focusing particularly on the themes of war and the nobility of soldiers in his novel A Farewell to Arms, and includes viewpoints on the reasons for, and the aftereffects of, war of  in the present day.","English",51.04,51.04,"813.52","205 pp.",{"$f":"Table1[[#This Row],['# of Books]]*Table1[[#This Row],[QTY]]","v":0},{"$f":"Table1[[#This Row],[QTY]]*Table1[[#This Row],[School & Library Price]]","v":0}]
[null,50,null,"Arts and Humanities","Social Issues in Literature","War in Ernest Hemingway's For Whom the Bell Tolls","978-0-7377-6809-1","Greenhaven Publishing","eBook",1,2013,null,"eBook",null,"Author","Gary Wiener",null,null,null,null,null,null,"Years 15 - 17",null,"Grade 10 - 12",null,"English",51.04,51.04,"813.52","181 pp.",{"$f":"Table1[[#This Row],['# of Books]]*Table1[[#This Row],[QTY]]","v":0},{"$f":"Table1[[#This Row],[QTY]]*Table1[[#This Row],[School & Library Price]]","v":0}]
[null,50,null,"Arts and Humanities","Social Issues in Literature","War in John Knowles's A Separate Peace","978-0-7377-5915-0","Greenhaven Publishing","eBook",1,2011,null,"eBook",null,"Author","Dedria Bryfonski",null,null,null,null,null,null,"Years 15 - 17",null,"Grade 10 - 12",null,"English",51.04,51.04,"813.54","176 pp.",{"$f":"Table1[[#This Row],['# of Books]]*Table1[[#This Row],[QTY]]","v":0},{"$f":"Table1[[#This Row],[QTY]]*Table1[[#This Row],[School & Library Price]]","v":0}]
[null,50,null,"Arts and Humanities","Social Issues in Literature","War in Joseph Heller's Catch-22","978-0-7377-4399-9","Greenhaven Publishing","Paperback Book",1,2009,null,"Paperback","6.000 X 9.000","Author","Dedria Bryfonski",null,null,null,null,null,null,"Years 15 - 17",null,"Grade 10 - 12",null,"English",32,25.6,"813","200 pp.",{"$f":"Table1[[#This Row],['# of Books]]*Table1[[#This Row],[QTY]]","v":0},{"$f":"Table1[[#This Row],[QTY]]*Table1[[#This Row],[School & Library Price]]","v":0}]
[null,50,null,"Arts and Humanities","Social Issues in Literature","War in Kurt Vonnegut's Slaughterhouse-Five","978-0-7377-5817-7","Greenhaven Publishing","Library Bound Book",1,2011,null,"Library Bound","6.000 X 9.000","Author","Claudia Durst Johnson",null,null,null,null,null,null,"Years 15 - 17",null,"Grade 10 - 12",null,"English",46.4,37.119999999999997,"813","168 pp.",{"$f":"Table1[[#This Row],['# of Books]]*Table1[[#This Row],[QTY]]","v":0},{"$f":"Table1[[#This Row],[QTY]]*Table1[[#This Row],[School & Library Price]]","v":0}]
[null,50,null,"Arts and Humanities","Social Issues in Literature","War in Stephen Crane's the Red Badge of Courage","978-0-7377-4850-5","Greenhaven Publishing","Library Bound Book",1,2010,null,"Library Bound","6.000 X 9.000","Author","David Haugen",null,null,null,null,null,null,"Years 15 - 17",null,"Grade 10 - 12","This title offers an in-depth examination of war as presented in Stephen Crane’s novel The Red Badge of Courage, as well as contemporary perspectives on this issue. Discussions include the impact of combat trauma during the Civil War, the relationship between the Industrial Age and army combatants, the main character’s motivations in going to war, and war as both a cultural construct and as part of human nature.","English",46.4,37.119999999999997,"813","184 pp.",{"$f":"Table1[[#This Row],['# of Books]]*Table1[[#This Row],[QTY]]","v":0},{"$f":"Table1[[#This Row],[QTY]]*Table1[[#This Row],[School & Library Price]]","v":0}]
[null,50,null,"Arts and Humanities","Social Issues in Literature","War in Tim O'Brien's the Things They Carried","978-0-7377-5459-9","Greenhaven Publishing","Library Bound Book",1,2011,null,"Library Bound","6.000 X 9.000","Author","Gary Wiener",null,null,null,null,null,null,"Years 15 - 17",null,"Grade 10 - 12",null,"English",46.4,37.119999999999997,"813","224 pp.",{"$f":"Table1[[#This Row],['# of Books]]*Table1[[#This Row],[QTY]]","v":0},{"$f":"Table1[[#This Row],[QTY]]*Table1[[#This Row],[School & Library Price]]","v":0}]
[null,48,null,"Arts and Humanities","Social Issues in Literature","Wilderness Adventure in Jon Krakaueræs into the Wild","978-0-7377-7324-8","Greenhaven Publishing","eBook",1,2015,null,"eBook",null,null,"Noël Merino",null,null,null,null,null,null,"Years 15 - 17",null,"Grade 10 - 12",null,"English",51.04,51.04,"814.54","150 pp.",{"$f":"Table1[[#This Row],['# of Books]]*Table1[[#This Row],[QTY]]","v":0},{"$f":"Table1[[#This Row],[QTY]]*Table1[[#This Row],[School & Library Price]]","v":0}]
[null,50,null,"Arts and Humanities","Social Issues in Literature","Wildness in Jack London's the Call of the Wild","978-0-7377-6992-0","Greenhaven Publishing","Library Bound Book",1,2014,null,"Library Bound","6.000 X 9.000","Author","Noah Berlatsky",null,null,null,null,null,null,"Years 15 - 17",null,"Grade 10 - 12","This volume explores the life and work of Jack London, exploring the nature-based themes of pastoralism and wildness, and the role of the adventurer. It also includes viewpoints on the plight of wolves and coyotes in an increasingly disappearing habitat.","English",46.4,37.119999999999997,"813","207 pp.",{"$f":"Table1[[#This Row],['# of Books]]*Table1[[#This Row],[QTY]]","v":0},{"$f":"Table1[[#This Row],[QTY]]*Table1[[#This Row],[School & Library Price]]","v":0}]
[null,50,null,"Arts and Humanities","Social Issues in Literature","Women's Issues in Alice Walker's the Color Purple","978-0-7377-5271-7","Greenhaven Publishing","Paperback Book",1,2011,null,"Paperback","6.000 X 9.000","Author","Claudia Durst Johnson",null,null,null,null,null,null,"Years 15 - 17",null,"Grade 10 - 12",null,"English",32,25.6,"813","163 pp.",{"$f":"Table1[[#This Row],['# of Books]]*Table1[[#This Row],[QTY]]","v":0},{"$f":"Table1[[#This Row],[QTY]]*Table1[[#This Row],[School & Library Price]]","v":0}]
[null,50,null,"Arts and Humanities","Social Issues in Literature","Women's Issues in Amy Tan's the Joy Luck Club","978-0-7377-3902-2","Greenhaven Publishing","Paperback Book",1,2008,null,"Paperback","6.000 X 9.000","Author","Gary Wiener",null,null,null,null,null,null,"Years 15 - 17",null,"Grade 10 - 12",null,"English",32,25.6,"813","191 pp.",{"$f":"Table1[[#This Row],['# of Books]]*Table1[[#This Row],[QTY]]","v":0},{"$f":"Table1[[#This Row],[QTY]]*Table1[[#This Row],[School & Library Price]]","v":0}]
[null,50,null,"Arts and Humanities","Social Issues in Literature","Women's Issues in Margaret Atwood's the Handmaid's Tale","978-0-7377-6448-2","Greenhaven Publishing","eBook",1,2012,null,"eBook",null,"Author","David E. Nelson",null,null,null,null,null,null,"Years 15 - 17",null,"Grade 10 - 12",null,"English",51.04,51.04,"813.54","158 pp.",{"$f":"Table1[[#This Row],['# of Books]]*Table1[[#This Row],[QTY]]","v":0},{"$f":"Table1[[#This Row],[QTY]]*Table1[[#This Row],[School & Library Price]]","v":0}]
[null,50,null,"Arts and Humanities","Social Issues in Literature","Women's Issues in Margaret Atwood's the Handmaid's Tale","978-0-7377-5799-6","Greenhaven Publishing","Library Bound Book",1,2012,null,"Library Bound","6.000 X 9.000","Author","David Nelson",null,null,null,null,null,null,"Years 15 - 17",null,"Grade 10 - 12",null,"English",46.4,37.119999999999997,"813","158 pp.",{"$f":"Table1[[#This Row],['# of Books]]*Table1[[#This Row],[QTY]]","v":0},{"$f":"Table1[[#This Row],[QTY]]*Table1[[#This Row],[School & Library Price]]","v":0}]
[null,50,null,"Arts and Humanities","Social Issues in Literature","Women's Issues in Zora Neale Hurston's Their Eyes Were Watching God","978-0-7377-6627-1","Greenhaven Publishing","Paperback Book",1,2012,null,"Paperback","6.000 X 9.000","Author","Gary Wiener",null,null,null,null,null,null,"Years 15 - 17",null,"Grade 10 - 12","This volume of SOCIAL ISSUES IN LITERATURE examines Zora Neale Hurston’s life and writings, with a specific look at key ideas related to Their Eyes Were Watching God. The text discusses a variety of topics, including whether the novel can be viewed as an example for all women, whether it still relevant today, and whether it proves that romantic fantasies cannot last. The book also explores contemporary views of women’s issues, such as the idea of women creating their own model of a female hero and the impact of white stereotypes on modern black women.","English",32,25.6,"813","199 pp.",{"$f":"Table1[[#This Row],['# of Books]]*Table1[[#This Row],[QTY]]","v":0},{"$f":"Table1[[#This Row],[QTY]]*Table1[[#This Row],[School & Library Price]]","v":0}]
[null,50,null,"Arts and Humanities","Social Issues in Literature","Women's Search for Independence in Charlotte Bronte's Jane Eyre","978-0-7377-5450-6","Greenhaven Publishing","Library Bound Book",1,2011,null,"Library Bound","6.000 X 9.000","Author","Claudia Johnson",null,null,null,null,null,null,"Years 15 - 17",null,"Grade 10 - 12",null,"English",46.4,37.119999999999997,"823","168 pp.",{"$f":"Table1[[#This Row],['# of Books]]*Table1[[#This Row],[QTY]]","v":0},{"$f":"Table1[[#This Row],[QTY]]*Table1[[#This Row],[School & Library Price]]","v":0}]
[null,51,null,"Health & Medicine","Perspectives on Diseases and Disorders","ADHD","978-0-7377-5047-8","Greenhaven Publishing","eBook",1,2009,null,"eBook",null,"Author","Jacqueline Langwith",null,null,null,null,null,null,"Years 15 - 17",null,"Grade 10 - 12",null,"English",48.73,48.73,"618.92","160 pp.",{"$f":"Table1[[#This Row],['# of Books]]*Table1[[#This Row],[QTY]]","v":0},{"$f":"Table1[[#This Row],[QTY]]*Table1[[#This Row],[School & Library Price]]","v":0}]
[null,51,null,"Health & Medicine","Perspectives on Diseases and Disorders","Allergies","978-0-7377-5046-1","Greenhaven Publishing","eBook",1,2009,null,"eBook",null,"Author","Clay Farris Naff",null,null,null,null,null,null,"Years 15 - 17",null,"Grade 10 - 12",null,"English",48.73,48.73,"616.97","152 pp.",{"$f":"Table1[[#This Row],['# of Books]]*Table1[[#This Row],[QTY]]","v":0},{"$f":"Table1[[#This Row],[QTY]]*Table1[[#This Row],[School & Library Price]]","v":0}]
[null,51,null,"Health & Medicine","Perspectives on Diseases and Disorders","Anxiety Disorders","978-0-7377-5456-8","Greenhaven Publishing","eBook",1,2010,null,"eBook",null,"Author","Sarah Hina",null,null,null,null,null,null,"Years 15 - 17",null,"Grade 10 - 12","This volume offers a greater understanding of the symptoms and treatment of anxiety disorders, including their connection with depression and obsessive-compulsive disorder (OCD). Chapters offer perspectives on if and why diseases like social anxiety and post-traumatic stress are being over-, under-, or mis-diagnosed. Personal accounts are presented by people living with agoraphobia, OCD and panic disorder.","English",48.73,48.73,"616.85","136 pp.",{"$f":"Table1[[#This Row],['# of Books]]*Table1[[#This Row],[QTY]]","v":0},{"$f":"Table1[[#This Row],[QTY]]*Table1[[#This Row],[School & Library Price]]","v":0}]
[null,51,null,"Health & Medicine","Perspectives on Diseases and Disorders","Asperger Syndrome","978-0-7377-5771-2","Greenhaven Publishing","Library Bound Book",1,2011,null,"Library Bound","7.000 X 9.000","Author","Arthur Gillard",null,null,null,null,null,null,"Years 15 - 17",null,"Grade 10 - 12",null,"English",44.3,35.44,"616","136 pp.",{"$f":"Table1[[#This Row],['# of Books]]*Table1[[#This Row],[QTY]]","v":0},{"$f":"Table1[[#This Row],[QTY]]*Table1[[#This Row],[School & Library Price]]","v":0}]
[null,51,null,"Health & Medicine","Perspectives on Diseases and Disorders","Autism","978-0-7377-3869-8","Greenhaven Publishing","Library Bound Book",1,2008,null,"Library Bound","7.000 X 9.000","Author","Carrie Fredericks",null,null,null,null,null,null,"Years 15 - 17",null,"Grade 10 - 12","Explores the symptoms, causes and treatment of this lifelong disease that profoundly affects social functioning, language and behavior.","English",44.3,35.44,"616","136 pp.",{"$f":"Table1[[#This Row],['# of Books]]*Table1[[#This Row],[QTY]]","v":0},{"$f":"Table1[[#This Row],[QTY]]*Table1[[#This Row],[School & Library Price]]","v":0}]
[null,51,null,"Health & Medicine","Perspectives on Diseases and Disorders","Autoimmune Diseases","978-0-7377-5251-9","Greenhaven Publishing","Library Bound Book",1,2011,null,"Library Bound","7.000 X 9.000","Author","Jacqueline Langwith",null,null,null,null,null,null,"Years 15 - 17",null,"Grade 10 - 12",null,"English",44.3,35.44,"616","152 pp.",{"$f":"Table1[[#This Row],['# of Books]]*Table1[[#This Row],[QTY]]","v":0},{"$f":"Table1[[#This Row],[QTY]]*Table1[[#This Row],[School & Library Price]]","v":0}]
[null,51,null,"Health & Medicine","Perspectives on Diseases and Disorders","Celiac Disease","978-0-7377-6614-1","Greenhaven Publishing","eBook",1,2012,null,"eBook",null,"Author","Jacqueline Langwith",null,null,null,null,null,null,"Years 15 - 17",null,"Grade 10 - 12","This new volume in the PERSPECTIVES ON DISEASES & DISORDERS series provides an overview of celiac disease, a genetic disorder of the digestive system. Coverage includes a look at diagnosis, prevention, and current research. Controversies surrounding celiac disease, such as the impact of screening and the role of gluten-free diets in CD care, are also discussed. Several personal stories of people affected by celiac disease are included.","English",48.73,48.73,"616.3","168 pp.",{"$f":"Table1[[#This Row],['# of Books]]*Table1[[#This Row],[QTY]]","v":0},{"$f":"Table1[[#This Row],[QTY]]*Table1[[#This Row],[School & Library Price]]","v":0}]
[null,51,null,"Health & Medicine","Perspectives on Diseases and Disorders","Cerebral Palsy","978-0-7377-4998-4","Greenhaven Publishing","Library Bound Book",1,2011,null,"Library Bound","7.000 X 9.000","Author","Jacqueline Langwith",null,null,null,null,null,null,"Years 15 - 17",null,"Grade 10 - 12",null,"English",44.3,35.44,"616","144 pp.",{"$f":"Table1[[#This Row],['# of Books]]*Table1[[#This Row],[QTY]]","v":0},{"$f":"Table1[[#This Row],[QTY]]*Table1[[#This Row],[School & Library Price]]","v":0}]
[null,52,null,"Health & Medicine","Perspectives on Diseases and Disorders","Chronic Fatigue Syndrome","978-0-7377-6408-6","Greenhaven Publishing","eBook",1,2012,null,"eBook",null,"Author","Sylvia Engdahl",null,null,null,null,null,null,"Years 15 - 17",null,"Grade 10 - 12",null,"English",48.73,48.73,"616.0478","128 pp.",{"$f":"Table1[[#This Row],['# of Books]]*Table1[[#This Row],[QTY]]","v":0},{"$f":"Table1[[#This Row],[QTY]]*Table1[[#This Row],[School & Library Price]]","v":0}]
[null,52,null,"Health & Medicine","Perspectives on Diseases and Disorders","Deafness and Hearing Impairment","978-0-7377-4788-1","Greenhaven Publishing","Library Bound Book",1,2010,null,"Library Bound","7.000 X 9.000","Author","Clay Farris Naff",null,null,null,null,null,null,"Years 15 - 17",null,"Grade 10 - 12","Provides an overview of deafness and hearing impairment, including its causes, diagnostic and treatment options, and impact on balance. Looks at deafness as a separate culture versus deafness as a disability; and the controversy surrounding cochlear implants. Also offers personal stories from people living with hearing impairment.","English",44.3,35.44,"617","144 pp.",{"$f":"Table1[[#This Row],['# of Books]]*Table1[[#This Row],[QTY]]","v":0},{"$f":"Table1[[#This Row],[QTY]]*Table1[[#This Row],[School & Library Price]]","v":0}]
[null,52,null,"Health & Medicine","Perspectives on Diseases and Disorders","Depression","978-0-7377-4246-6","Greenhaven Publishing","Library Bound Book",1,2009,null,"Library Bound","7.000 X 9.000","Author","Jacqueline Langwith",null,null,null,null,null,null,"Years 15 - 17",null,"Grade 10 - 12",null,"English",44.3,35.44,"616","168 pp.",{"$f":"Table1[[#This Row],['# of Books]]*Table1[[#This Row],[QTY]]","v":0},{"$f":"Table1[[#This Row],[QTY]]*Table1[[#This Row],[School & Library Price]]","v":0}]
[null,52,null,"Health & Medicine","Perspectives on Diseases and Disorders","Down Syndrome","978-0-7377-4025-7","Greenhaven Publishing","Library Bound Book",1,2008,null,"Library Bound","7.000 X 9.000","Author","Dawn Laney",null,null,null,null,null,null,"Years 15 - 17",null,"Grade 10 - 12",null,"English",44.3,35.44,"616","128 pp.",{"$f":"Table1[[#This Row],['# of Books]]*Table1[[#This Row],[QTY]]","v":0},{"$f":"Table1[[#This Row],[QTY]]*Table1[[#This Row],[School & Library Price]]","v":0}]
[null,52,null,"Health & Medicine","Perspectives on Diseases and Disorders","Epilepsy","978-0-7377-4552-8","Greenhaven Publishing","Library Bound Book",1,2010,null,"Library Bound","7.000 X 9.000","Author","Mary E. Williams",null,null,null,null,null,null,"Years 15 - 17",null,"Grade 10 - 12",null,"English",44.3,35.44,"616","168 pp.",{"$f":"Table1[[#This Row],['# of Books]]*Table1[[#This Row],[QTY]]","v":0},{"$f":"Table1[[#This Row],[QTY]]*Table1[[#This Row],[School & Library Price]]","v":0}]
[null,52,null,"Health & Medicine","Perspectives on Diseases and Disorders","Fetal Alcohol Syndrome","978-0-7377-5541-1","Greenhaven Publishing","eBook",1,2011,null,"eBook",null,"Author","Jacqueline Langwith",null,null,null,null,null,null,"Years 15 - 17",null,"Grade 10 - 12","This volume in the PERSPECTIVES ON DISEASES & DISORDERS series provides essential information on Fetal Alcohol Syndrome; presents the controversies surrounding causes, alternative treatments, and other issues; and offers first-person narratives from people coping with the disease -- either as patients, family members or caregivers. Essays are carefully edited and introduced to make them easily accessible to student researchers as well as general readers. By focusing on the controversies surrounding diseases and disorders, this series supports debate assignments and helps develop critical thinking skills, and also helps patients and family members learn about and deal with a disease or disorder.","English",48.73,48.73,"618.3","136 pp.",{"$f":"Table1[[#This Row],['# of Books]]*Table1[[#This Row],[QTY]]","v":0},{"$f":"Table1[[#This Row],[QTY]]*Table1[[#This Row],[School & Library Price]]","v":0}]
[null,52,null,"Health & Medicine","Perspectives on Diseases and Disorders","Food Allergies","978-0-7377-6354-6","Greenhaven Publishing","Library Bound Book",1,2014,null,"Library Bound","7.000 X 9.000","Author","Arthur Gillard",null,null,null,null,null,null,"Years 15 - 17",null,"Grade 10 - 12","This volume provides background information on food allergies, including diagnosis, management, and treatment; addresses controversies such as the true extent of food allergies, the efficacy of certain tests, and school policies for managing food allergies; and presents personal narratives of people affected by food allergies.","English",44.3,35.44,"616","120 pp.",{"$f":"Table1[[#This Row],['# of Books]]*Table1[[#This Row],[QTY]]","v":0},{"$f":"Table1[[#This Row],[QTY]]*Table1[[#This Row],[School & Library Price]]","v":0}]
[null,52,null,"Health & Medicine","Perspectives on Diseases and Disorders","Growth Disorders","978-0-7377-5774-3","Greenhaven Publishing","Library Bound Book",1,2012,null,"Library Bound","7.000 X 9.000","Author","Mary E. Williams",null,null,null,null,null,null,"Years 15 - 17",null,"Grade 10 - 12",null,"English",44.3,35.44,"616","168 pp.",{"$f":"Table1[[#This Row],['# of Books]]*Table1[[#This Row],[QTY]]","v":0},{"$f":"Table1[[#This Row],[QTY]]*Table1[[#This Row],[School & Library Price]]","v":0}]
[null,52,null,"Health & Medicine","Perspectives on Diseases and Disorders","Hepatitis","978-0-7377-4553-5","Greenhaven Publishing","Library Bound Book",1,2010,null,"Library Bound","7.000 X 9.000","Author","Jacqueline Langwith",null,null,null,null,null,null,"Years 15 - 17",null,"Grade 10 - 12","Provides an overview of hepatitis, including characteristics, risk factors, diagnostic and treatment options, and myths and facts. Looks at controversies surrounding the disease, such as testing health care workers for hepatitis C, possible hepatitis vaccine interactions, and the use of chimpanzees in hepatitis test studies. Also offers personal stories from people living with hepatitis.","English",44.3,35.44,"616","168 pp.",{"$f":"Table1[[#This Row],['# of Books]]*Table1[[#This Row],[QTY]]","v":0},{"$f":"Table1[[#This Row],[QTY]]*Table1[[#This Row],[School & Library Price]]","v":0}]
[null,52,null,"Health & Medicine","Perspectives on Diseases and Disorders","HPV","978-0-7377-6355-3","Greenhaven Publishing","Library Bound Book",1,2013,null,"Library Bound","7.000 X 9.000","Author","Jacqueline Langwith",null,null,null,null,null,null,"Years 15 - 17",null,"Grade 10 - 12","This volume examines the human papillomavirus (HPV), the primary cause of cervical cancer, including overview information; an examination of controversies about the HPV vaccine and the best way to prevent HPV; and personal narratives from those affected by HPV and cervical cancer.","English",44.3,35.44,"616","144 pp.",{"$f":"Table1[[#This Row],['# of Books]]*Table1[[#This Row],[QTY]]","v":0},{"$f":"Table1[[#This Row],[QTY]]*Table1[[#This Row],[School & Library Price]]","v":0}]
[null,52,null,"Health & Medicine","Perspectives on Diseases and Disorders","Influenza","978-0-7377-5253-3","Greenhaven Publishing","Library Bound Book",1,2011,null,"Library Bound","7.000 X 9.000","Author","Clay Farris Naff",null,null,null,null,null,null,"Years 15 - 17",null,"Grade 10 - 12",null,"English",44.3,35.44,"616","128 pp.",{"$f":"Table1[[#This Row],['# of Books]]*Table1[[#This Row],[QTY]]","v":0},{"$f":"Table1[[#This Row],[QTY]]*Table1[[#This Row],[School & Library Price]]","v":0}]
[null,52,null,"Health & Medicine","Perspectives on Diseases and Disorders","Learning Disabilities","978-0-7377-5001-0","Greenhaven Publishing","Library Bound Book",1,2010,null,"Library Bound","7.000 X 9.000","Author","Clay Farris Naff",null,null,null,null,null,null,"Years 15 - 17",null,"Grade 10 - 12",null,"English",44.3,35.44,"616","136 pp.",{"$f":"Table1[[#This Row],['# of Books]]*Table1[[#This Row],[QTY]]","v":0},{"$f":"Table1[[#This Row],[QTY]]*Table1[[#This Row],[School & Library Price]]","v":0}]
[null,52,null,"Health & Medicine","Perspectives on Diseases and Disorders","Leukemia","978-0-7377-4247-3","Greenhaven Publishing","Library Bound Book",1,2009,null,"Library Bound","7.000 X 9.000","Author","Adrienne Wilmoth Lerner",null,null,null,null,null,null,"Years 15 - 17",null,"Grade 10 - 12",null,"English",44.3,35.44,"616","160 pp.",{"$f":"Table1[[#This Row],['# of Books]]*Table1[[#This Row],[QTY]]","v":0},{"$f":"Table1[[#This Row],[QTY]]*Table1[[#This Row],[School & Library Price]]","v":0}]
[null,52,null,"Health & Medicine","Perspectives on Diseases and Disorders","Lung Cancer","978-0-7377-5872-6","Greenhaven Publishing","eBook",1,2011,null,"eBook",null,"Author","Jacqueline Langwith",null,null,null,null,null,null,"Years 15 - 17",null,"Grade 10 - 12",null,"English",48.73,48.73,"616.99","136 pp.",{"$f":"Table1[[#This Row],['# of Books]]*Table1[[#This Row],[QTY]]","v":0},{"$f":"Table1[[#This Row],[QTY]]*Table1[[#This Row],[School & Library Price]]","v":0}]
[null,52,null,"Health & Medicine","Perspectives on Diseases and Disorders","Lyme Disease","978-0-7377-6478-9","Greenhaven Publishing","eBook",1,2012,null,"eBook",null,"Author","Mary E. Williams",null,null,null,null,null,null,"Years 15 - 17",null,"Grade 10 - 12",null,"English",48.73,48.73,"616.9","152 pp.",{"$f":"Table1[[#This Row],['# of Books]]*Table1[[#This Row],[QTY]]","v":0},{"$f":"Table1[[#This Row],[QTY]]*Table1[[#This Row],[School & Library Price]]","v":0}]
[null,52,null,"Health & Medicine","Perspectives on Diseases and Disorders","Lymphoma","978-0-7377-6559-5","Greenhaven Publishing","eBook",1,2012,null,"eBook",null,"Author","Arthur Gillard",null,null,null,null,null,null,"Years 15 - 17",null,"Grade 10 - 12","This new volume in the PERSPECTIVES ON DISEASES & DISORDERS series provides an overview of lymphoma, including diagnosis, prevention, and current research. Controversies surrounding lymphoma, including the impact and effectiveness of chemotherapy and the use of marijuana as a potential treatment, are discussed, as is the role of a healthy lifestyle in beating and avoiding cancer. The text also features personal stories of people impacted by lymphoma, including a father and son, and a woman reacting to her lymphoma diagnosis.","English",48.73,48.73,"616.99","152 pp.",{"$f":"Table1[[#This Row],['# of Books]]*Table1[[#This Row],[QTY]]","v":0},{"$f":"Table1[[#This Row],[QTY]]*Table1[[#This Row],[School & Library Price]]","v":0}]
[null,52,null,"Health & Medicine","Perspectives on Diseases and Disorders","Malaria","978-0-7377-4379-1","Greenhaven Publishing","Library Bound Book",1,2010,null,"Library Bound","7.000 X 9.000","Author","Nancy Dziedzic",null,null,null,null,null,null,"Years 15 - 17",null,"Grade 10 - 12",null,"English",44.3,35.44,"616","152 pp.",{"$f":"Table1[[#This Row],['# of Books]]*Table1[[#This Row],[QTY]]","v":0},{"$f":"Table1[[#This Row],[QTY]]*Table1[[#This Row],[School & Library Price]]","v":0}]
[null,52,null,"Health & Medicine","Perspectives on Diseases and Disorders","Meningitis","978-0-7377-4790-4","Greenhaven Publishing","Library Bound Book",1,2010,null,"Library Bound","7.000 X 9.000","Author","Sylvia Engdahl",null,null,null,null,null,null,"Years 15 - 17",null,"Grade 10 - 12",null,"English",44.3,35.44,"616","144 pp.",{"$f":"Table1[[#This Row],['# of Books]]*Table1[[#This Row],[QTY]]","v":0},{"$f":"Table1[[#This Row],[QTY]]*Table1[[#This Row],[School & Library Price]]","v":0}]
[null,52,null,"Health & Medicine","Perspectives on Diseases and Disorders","MRSA","978-0-7377-6625-7","Greenhaven Publishing","eBook",1,2012,null,"eBook",null,"Author","Mary E. Williams",null,null,null,null,null,null,"Years 15 - 17",null,"Grade 10 - 12","This volume in the PERSPECTIVES ON DISEASES & DISORDERS series provides essential information on MRSA; presents the controversies surrounding causes, alternative treatments, and other issues; and offers first-person narratives from people coping with the disease -- either as patients, family members or caregivers. Essays are carefully edited and introduced to make them easily accessible to student researchers as well as general readers. By focusing on the controversies surrounding diseases and disorders, this series supports debate assignments and helps develop critical thinking skills, and also helps patients and family members learn about and deal with a disease or disorder.","English",48.73,48.73,"579.3","128 pp.",{"$f":"Table1[[#This Row],['# of Books]]*Table1[[#This Row],[QTY]]","v":0},{"$f":"Table1[[#This Row],[QTY]]*Table1[[#This Row],[School & Library Price]]","v":0}]
[null,52,null,"Health & Medicine","Perspectives on Diseases and Disorders","Muscular Dystrophy","978-0-7377-6462-8","Greenhaven Publishing","eBook",1,2012,null,"eBook",null,"Author","Clay Farris Naff",null,null,null,null,null,null,"Years 15 - 17",null,"Grade 10 - 12","This volume in the PERSPECTIVES ON DISEASES & DISORDERS series provides essential information on Muscular Dystrophy; presents the controversies surrounding causes, alternative treatments, and other issues; and offers first-person narratives from people coping with the disease -- either as patients, family members or caregivers. Essays are carefully edited and introduced to make them easily accessible to student researchers as well as general readers. By focusing on the controversies surrounding diseases and disorders, this series supports debate assignments and helps develop critical thinking skills, and also helps patients and family members learn about and deal with a disease or disorder.","English",48.73,48.73,"616.7","128 pp.",{"$f":"Table1[[#This Row],['# of Books]]*Table1[[#This Row],[QTY]]","v":0},{"$f":"Table1[[#This Row],[QTY]]*Table1[[#This Row],[School & Library Price]]","v":0}]
[null,52,null,"Health & Medicine","Perspectives on Diseases and Disorders","Neurodegenerative Disorders","978-0-7377-6794-0","Greenhaven Publishing","eBook",1,2013,null,"eBook",null,"Author","Sylvia Engdahl",null,null,null,null,null,null,"Years 15 - 17",null,"Grade 10 - 12","This title addresses the causes, symptoms, diagnoses, treatments, and controversies associated with such neurodegenerative diseases as Alzheimer’s, Parkinson’s, ALS, Huntington’s, and multiple sclerosis. Also included are personal narratives relating the challenges of living with these diseases or caring for someone who has been afflicted.  Includes numerous color photos, charts, graphs and tables as well as a glossary of key terms, a chronology of developments relating to the disease or disorder, a bibliography to assist with further research, a list of organizations to contact and an index.","English",48.73,48.73,"616.8","160 pp.",{"$f":"Table1[[#This Row],['# of Books]]*Table1[[#This Row],[QTY]]","v":0},{"$f":"Table1[[#This Row],[QTY]]*Table1[[#This Row],[School & Library Price]]","v":0}]
[null,52,null,"Health & Medicine","Perspectives on Diseases and Disorders","Neurodegenerative Disorders","978-0-7377-6357-7","Greenhaven Publishing","Library Bound Book",1,2013,null,"Library Bound","7.000 X 9.000","Author","Sylvia Engdahl",null,null,null,null,null,null,"Years 15 - 17",null,"Grade 10 - 12","This title addresses the causes, symptoms, diagnoses, treatments, and controversies associated with such neurodegenerative diseases as Alzheimer's, Parkinson's, ALS, Huntington's, and multiple sclerosis. Also included are personal narratives relating the challenges of living with these diseases or caring for someone who has been afflicted.","English",44.3,35.44,"616","160 pp.",{"$f":"Table1[[#This Row],['# of Books]]*Table1[[#This Row],[QTY]]","v":0},{"$f":"Table1[[#This Row],[QTY]]*Table1[[#This Row],[School & Library Price]]","v":0}]
[null,53,null,"Health & Medicine","Perspectives on Diseases and Disorders","Ovarian Cancer","978-0-7377-6634-9","Greenhaven Publishing","eBook",1,2012,null,"eBook",null,"Author","Christina Fisanick",null,null,null,null,null,null,"Years 15 - 17",null,"Grade 10 - 12","This volume includes an overview of ovarian cancer, including risk factors, types and stages of ovarian cancer, and conventional as well as alternative treatments, a look at controversies surrounding ovarian cancer, focusing on the impact of fertility drugs, hormone treatments,  and oral contraceptives on this type of cancer; whether symptoms can be relied upon to detect ovarian cancer early; and the role of preventative surgery and chemotherapy in treatment of ovarian cancer, and personal stories of people dealing with ovarian cancer, including a young woman determined to preserve her fertility even while being treated for ovarian cancer.","English",48.73,48.73,"616.99","128 pp.",{"$f":"Table1[[#This Row],['# of Books]]*Table1[[#This Row],[QTY]]","v":0},{"$f":"Table1[[#This Row],[QTY]]*Table1[[#This Row],[School & Library Price]]","v":0}]
[null,53,null,"Health & Medicine","Perspectives on Diseases and Disorders","Phobias","978-0-7377-4027-1","Greenhaven Publishing","Library Bound Book",1,2008,null,"Library Bound","7.000 X 9.000","Author","Tom Metcalf",null,null,null,null,null,null,"Years 15 - 17",null,"Grade 10 - 12",null,"English",44.3,35.44,"616","136 pp.",{"$f":"Table1[[#This Row],['# of Books]]*Table1[[#This Row],[QTY]]","v":0},{"$f":"Table1[[#This Row],[QTY]]*Table1[[#This Row],[School & Library Price]]","v":0}]
[null,53,null,"Health & Medicine","Perspectives on Diseases and Disorders","Schizophrenia","978-0-7377-5520-6","Greenhaven Publishing","eBook",1,2010,null,"eBook",null,"Author","Jacqueline Langwith",null,null,null,null,null,null,"Years 15 - 17",null,"Grade 10 - 12",null,"English",48.73,48.73,"616.89","144 pp.",{"$f":"Table1[[#This Row],['# of Books]]*Table1[[#This Row],[QTY]]","v":0},{"$f":"Table1[[#This Row],[QTY]]*Table1[[#This Row],[School & Library Price]]","v":0}]
[null,53,null,"Health & Medicine","Perspectives on Diseases and Disorders","Sleep Disorders","978-0-7377-5255-7","Greenhaven Publishing","Library Bound Book",1,2011,null,"Library Bound","7.000 X 9.000","Author","Sylvia Engdahl",null,null,null,null,null,null,"Years 15 - 17",null,"Grade 10 - 12",null,"English",44.3,35.44,"616","152 pp.",{"$f":"Table1[[#This Row],['# of Books]]*Table1[[#This Row],[QTY]]","v":0},{"$f":"Table1[[#This Row],[QTY]]*Table1[[#This Row],[School & Library Price]]","v":0}]
[null,53,null,"Health & Medicine","Perspectives on Diseases and Disorders","Speech Disorders","978-0-7377-5783-5","Greenhaven Publishing","Library Bound Book",1,2012,null,"Library Bound","7.000 X 9.000","Author","Mary E. Williams",null,null,null,null,null,null,"Years 15 - 17",null,"Grade 10 - 12","This new volume in the PERSPECTIVES ON DISEASES & DISORDERS series provides an overview of speech disorders, including diagnosis, prevention, and current research. Controversies surrounding speech disorders -- including the prevalence of discrimination against stutters, the role of brain function and speech therapy in treating speech disorders, and the role of anxiety and family dysfunction in selective mutism -- are discussed. Personal stories of people impacted by speech disorders, such as a women who tried for years to hide her stuttering and the mother of a young boy with selective mutism, are also included.","English",44.3,35.44,"616","160 pp.",{"$f":"Table1[[#This Row],['# of Books]]*Table1[[#This Row],[QTY]]","v":0},{"$f":"Table1[[#This Row],[QTY]]*Table1[[#This Row],[School & Library Price]]","v":0}]
[null,53,null,"Health & Medicine","Perspectives on Diseases and Disorders","Stroke","978-0-7377-6795-7","Greenhaven Publishing","eBook",1,2013,null,"eBook",null,"Author","Arthur Gillard",null,null,null,null,null,null,"Years 15 - 17",null,"Grade 10 - 12","This volume includes an overview of stroke, including diagnosis; symptoms; and treatment, a look at controversies surrounding stroke, focusing on the use of stem cell therapy to treat the effects of stroke, the alarming increase of stroke among young people, and whether chiropractic adjustment does or does not cause stroke, and personal stories of people living with stroke such a young mother who suffered a stroke, a man who survived a stroke at age 10, and a brain scientist who suffered and learned from a stroke.","English",48.73,48.73,"616.8","144 pp.",{"$f":"Table1[[#This Row],['# of Books]]*Table1[[#This Row],[QTY]]","v":0},{"$f":"Table1[[#This Row],[QTY]]*Table1[[#This Row],[School & Library Price]]","v":0}]
[null,53,null,"Health & Medicine","Perspectives on Diseases and Disorders","Stroke","978-0-7377-6359-1","Greenhaven Publishing","Library Bound Book",1,2013,null,"Library Bound","7.000 X 9.000","Author","Arthur Gillard",null,null,null,null,null,null,"Years 15 - 17",null,"Grade 10 - 12","This volume includes an overview of stroke, including diagnosis; symptoms; and treatment, a look at controversies surrounding stroke, focusing on the use of stem cell therapy to treat the effects of stroke, the alarming increase of stroke among young people, and whether chiropractic adjustment does or does not cause stroke, and personal stories of people living with stroke such a young mother who suffered a stroke, a man who survived a stroke at age 10, and a brain scientist who suffered and learned from a stroke.","English",44.3,35.44,"616","144 pp.",{"$f":"Table1[[#This Row],['# of Books]]*Table1[[#This Row],[QTY]]","v":0},{"$f":"Table1[[#This Row],[QTY]]*Table1[[#This Row],[School & Library Price]]","v":0}]
[null,53,null,"Health & Medicine","Perspectives on Diseases and Disorders","Tourette Syndrome","978-0-7377-6360-7","Greenhaven Publishing","Library Bound Book",1,2013,null,"Library Bound","7.000 X 9.000","Author","Mary E. Williams",null,null,null,null,null,null,"Years 15 - 17",null,"Grade 10 - 12","This volume includes an overview of tourette syndrome, including diagnosis; symptoms; and treatment, a look at controversies surrounding tourette syndrome, focusing on effectiveness of various treatment including diet, environmental factors, and deep brain stimulation, and personal stories of people living with tourette syndrome such a student that faces bullies, a woman who describes in detail the \"anatomy of a tic\", and a concert pianist living with tourette syndrome.","English",44.3,35.44,"616","136 pp.",{"$f":"Table1[[#This Row],['# of Books]]*Table1[[#This Row],[QTY]]","v":0},{"$f":"Table1[[#This Row],[QTY]]*Table1[[#This Row],[School & Library Price]]","v":0}]
[null,53,null,"Health & Medicine","Perspectives on Diseases and Disorders","Traumatic Brain Injury","978-0-7377-7311-8","Greenhaven Publishing","Library Bound Book",1,2013,null,"Library Bound","7.000 X 9.000","Author","Arthur Gillard",null,null,null,null,null,null,"Years 15 - 17",null,"Grade 10 - 12",null,"English",44.3,35.44,"617",null,{"$f":"Table1[[#This Row],['# of Books]]*Table1[[#This Row],[QTY]]","v":0},{"$f":"Table1[[#This Row],[QTY]]*Table1[[#This Row],[School & Library Price]]","v":0}]
[null,54,null,"U.S. History","Constitutional Amendments: Beyond the Bill of Rights","Amendment XIII: Abolishing Slavery","978-0-7377-5057-7","Greenhaven Publishing","Paperback Book",1,2009,null,"Paperback","6.000 X 9.000","Author","Tracey Vasil Biscontini",null,null,null,null,null,null,null,null,"",null,"English",20.100000000000001,16.080000000000002,"342","197 pp.",{"$f":"Table1[[#This Row],['# of Books]]*Table1[[#This Row],[QTY]]","v":0},{"$f":"Table1[[#This Row],[QTY]]*Table1[[#This Row],[School & Library Price]]","v":0}]
[null,54,null,"U.S. History","Constitutional Amendments: Beyond the Bill of Rights","Amendment XIV: Citizenship for All","978-0-7377-4630-3","Greenhaven Publishing","eBook",1,2009,null,"eBook",null,"Author","Jeff Hay",null,null,null,null,null,null,"Years 12 - 17",null,"Grade 7 - 12",null,"English",47.52,47.52,"342.73085","176 pp.",{"$f":"Table1[[#This Row],['# of Books]]*Table1[[#This Row],[QTY]]","v":0},{"$f":"Table1[[#This Row],[QTY]]*Table1[[#This Row],[School & Library Price]]","v":0}]
[null,54,null,"U.S. History","Constitutional Amendments: Beyond the Bill of Rights","Amendment XIV: Equal Protection","978-0-7377-5060-7","Greenhaven Publishing","Paperback Book",1,2009,null,"Paperback","6.000 X 9.000","Author","Sylvia Engdahl",null,null,null,null,null,null,null,null,"",null,"English",20.100000000000001,16.080000000000002,"342","222 pp.",{"$f":"Table1[[#This Row],['# of Books]]*Table1[[#This Row],[QTY]]","v":0},{"$f":"Table1[[#This Row],[QTY]]*Table1[[#This Row],[School & Library Price]]","v":0}]
[null,54,null,"U.S. History","Constitutional Amendments: Beyond the Bill of Rights","Amendment XIX: Granting Women the Right to Vote","978-0-7377-4587-0","Greenhaven Publishing","eBook",1,2009,null,"eBook",null,"Author","Carrie Fredericks",null,null,null,null,null,null,"Years 12 - 17",null,"Grade 7 - 12","This title presents the Nineteenth Amendment in a historical context, examining how it has been tested in the courts and present current controversies and debates. Focuses on women’s voting rights..A well-rounded social studies education is grounded in an understanding of how the Constitution -- the blueprint for a democratic society -- works. Each volume begins with the amendment text (accompanied by a student-friendly translation). Chapters put the amendment in historical context, examine how it has been tested in the courts and presents current controversies and debates. Reflecting provisions in both the national and state curriculum standards, these volumes provide primary and secondary sources that examine the roots of constitutional democracy as well as how the interpretation of the Constitution has evolved throughout American history. The series also explores the meaning of citizenship as well as its rights and responsibilities. ","English",47.52,47.52,"342.73072","168 pp.",{"$f":"Table1[[#This Row],['# of Books]]*Table1[[#This Row],[QTY]]","v":0},{"$f":"Table1[[#This Row],[QTY]]*Table1[[#This Row],[School & Library Price]]","v":0}]
[null,54,null,"U.S. History","Constitutional Amendments: Beyond the Bill of Rights","Amendment XV: Race and the Right to Vote","978-0-7377-4327-2","Greenhaven Publishing","Library Bound Book",1,2009,null,"Library Bound","6.000 X 9.000","Author","Jeff Hay",null,null,null,null,null,null,"Years 12 - 17",null,"Grade 7 - 12",null,"English",43.2,34.56,"342","160 pp.",{"$f":"Table1[[#This Row],['# of Books]]*Table1[[#This Row],[QTY]]","v":0},{"$f":"Table1[[#This Row],[QTY]]*Table1[[#This Row],[School & Library Price]]","v":0}]
[null,54,null,"U.S. History","Constitutional Amendments: Beyond the Bill of Rights","Amendment XV: Race and the Right to Vote","978-0-7377-4590-0","Greenhaven Publishing","eBook",1,2009,null,"eBook",null,"Author","Jeff Hay",null,null,null,null,null,null,"Years 12 - 17",null,"Grade 7 - 12","A well-rounded social studies education is grounded in an understanding of how the Constitution -- the blueprint for a democratic society -- works. This title presents the Fifteenth Amendment in a historical context, examining how it has been tested in the courts and present current controversies and debates. Focuses on race and the right to vote. Each volume begins with the amendment text (accompanied by a student-friendly translation). Chapters put the amendment in historical context, examine how it has been tested in the courts and presents current controversies and debates. Reflecting provisions in both the national and state curriculum standards, these volumes provide primary and secondary sources that examine the roots of constitutional democracy as well as how the interpretation of the Constitution has evolved throughout American history. The series also explores the meaning of citizenship as well as its rights and responsibilities. ","English",47.52,47.52,"342.73072","160 pp.",{"$f":"Table1[[#This Row],['# of Books]]*Table1[[#This Row],[QTY]]","v":0},{"$f":"Table1[[#This Row],[QTY]]*Table1[[#This Row],[School & Library Price]]","v":0}]
[null,54,null,"U.S. History","Constitutional Amendments: Beyond the Bill of Rights","Amendment XVII: Establishing Election to the U.S. Senate","978-0-7377-5341-7","Greenhaven Publishing","eBook",1,2010,null,"eBook",null,"Author","Jeff Hay",null,null,null,null,null,null,"Years 12 - 17",null,"Grade 7 - 12","A good social studies education is grounded in an understanding of how the Constitution - the blueprint for a democratic society - works. Each volume in this series opens with the text of an amendment accompanied by a student-friendly translation. Chapters then use diverse primary and secondary sources to put the amendment in historical context, examine how it has been tested, and present current controversies and debates. This title covers the seventeenth amendment, which established election to the U.S. Senate by popular vote and empowered states’ executives to fill vacancies with temporary appointments. A variety of sources explore the reasons the amendment was proposed and if it accomplished what was intended; calls to repeal or change it; and contemporary issues such as the seats vacated by the 2008 election and the death of Senator Edward Kennedy.","English",47.52,47.52,"342.73055","144 pp.",{"$f":"Table1[[#This Row],['# of Books]]*Table1[[#This Row],[QTY]]","v":0},{"$f":"Table1[[#This Row],[QTY]]*Table1[[#This Row],[School & Library Price]]","v":0}]
[null,54,null,"U.S. History","Constitutional Amendments: Beyond the Bill of Rights","Amendment XXV : Presidential Disability and Succession","978-0-7377-4698-3","Greenhaven Publishing","Library Bound Book",1,2010,null,"Library Bound","6.000 X 9.000","Author","Sylvia Engdahl",null,null,null,null,null,null,"Years 12 - 17",null,"Grade 7 - 12","A good social studies education is grounded in an understanding of how the Constitution - the blueprint for a democratic society - works. Each volume in this series opens with the text of an amendment accompanied by a student-friendly translation. Chapters then use diverse primary and secondary sources to put the amendment in historical context, examine how it has been tested, and present current controversies and debates.\n\nThis title covers the twenty-fifth amendment, which established the line of succession in the event of the president’s death as well as what to do in the case of the president’s disability. A variety of sources explore why the amendment was proposed less than two years after the assassination of John F. Kennedy, the situations in which it was and was not invoked after ratification, and calls to clarify or change it.","English",43.2,34.56,"342","208 pp.",{"$f":"Table1[[#This Row],['# of Books]]*Table1[[#This Row],[QTY]]","v":0},{"$f":"Table1[[#This Row],[QTY]]*Table1[[#This Row],[School & Library Price]]","v":0}]
[null,54,null,"U.S. History","Constitutional Amendments: Beyond the Bill of Rights","Amendment XXVI: Lowering the Voting Age","978-0-7377-5065-2","Greenhaven Publishing","Paperback Book",1,2009,null,"Paperback","6.000 X 9.000","Author","Sylvia Engdahl",null,null,null,null,null,null,null,null,"",null,"English",20.100000000000001,16.080000000000002,"342","223 pp.",{"$f":"Table1[[#This Row],['# of Books]]*Table1[[#This Row],[QTY]]","v":0},{"$f":"Table1[[#This Row],[QTY]]*Table1[[#This Row],[School & Library Price]]","v":0}]
[null,54,null,"U.S. History","Constitutional Amendments: Beyond the Bill of Rights","Amendments XVIII and XXI: Prohibition and Repeal","978-0-7377-4589-4","Greenhaven Publishing","eBook",1,2009,null,"eBook",null,"Author","Sylvia Engdahl",null,null,null,null,null,null,"Years 12 - 17",null,"Grade 7 - 12","A well-rounded social studies education is grounded in an understanding of how the Constitution -- the blueprint for a democratic society -- works. This title presents the Eighteenth and Twenty-first Amendments in a historical context, examining how they have been tested in the courts and present current controversies and debates. Each volume begins with the amendment text (accompanied by a student-friendly translation). Chapters put the amendment in historical context, examine how it has been tested in the courts and presents current controversies and debates. Reflecting provisions in both the national and state curriculum standards, these volumes provide primary and secondary sources that examine the roots of constitutional democracy as well as how the interpretation of the Constitution has evolved throughout American history. The series also explores the meaning of citizenship as well as its rights and responsibilities. ","English",47.52,47.52,"344.730541","224 pp.",{"$f":"Table1[[#This Row],['# of Books]]*Table1[[#This Row],[QTY]]","v":0},{"$f":"Table1[[#This Row],[QTY]]*Table1[[#This Row],[School & Library Price]]","v":0}]
[null,55,null,"U.S. History","The Bill of Rights","Freedom from Unfair Searches and Seizures","978-0-7377-1927-7","Greenhaven Publishing","Library Bound Book",1,2006,null,"Library Bound","6.000 X 9.000","Author","Robert Winters",null,null,null,null,null,null,"Years 15 - 17",null,"Grade 10 - 12","Outraged by royal officials' ability to search homes and even individuals at will, and seize whatever they considered \"contraband,\" Americans were determined to limit the search and seizure powers of the new federal government.  Since then, the Fourth Amendment has become the basis for numerous rules limiting the gathering and use of evidence by police and prosecutors.","English",43.2,34.56,"345.73","144 pp.",{"$f":"Table1[[#This Row],['# of Books]]*Table1[[#This Row],[QTY]]","v":0},{"$f":"Table1[[#This Row],[QTY]]*Table1[[#This Row],[School & Library Price]]","v":0}]
[null,55,null,"U.S. History","The Bill of Rights","Property Rights","978-0-7377-3543-7","Greenhaven Publishing","Library Bound Book",1,2007,null,"Library Bound","6.000 X 9.000","Author","Kimberly Troisi-Paton",null,null,null,null,null,null,"Years 15 - 17",null,"Grade 10 - 12","This book provides an analysis of the Fifth Amendment's \"takings\" clause, from its origin in British theories of property rights to the United States Supreme Court's interpretation of the clause over the years.","English",43.2,34.56,"346.7304","131 pp.",{"$f":"Table1[[#This Row],['# of Books]]*Table1[[#This Row],[QTY]]","v":0},{"$f":"Table1[[#This Row],[QTY]]*Table1[[#This Row],[School & Library Price]]","v":0}]
[null,55,null,"U.S. History","The Bill of Rights","The Right to Bear Arms","978-0-7377-1933-8","Greenhaven Publishing","Library Bound Book",1,2005,null,"Library Bound","6.000 X 9.000","Author","Robert Winters",null,null,null,null,null,null,"Years 15 - 17",null,"Grade 10 - 12","It is not clear whether the Second Amendment supports an individual right to own guns or a collective right of states to raise and regulate militias.  For decades, constitutional scholars and political activists have fervently debated the meaning of the amendment and its implications for gun control.","English",43.2,34.56,"344.73","128 pp.",{"$f":"Table1[[#This Row],['# of Books]]*Table1[[#This Row],[QTY]]","v":0},{"$f":"Table1[[#This Row],[QTY]]*Table1[[#This Row],[School & Library Price]]","v":0}]
[null,56,null,"World History","Genocide and Persecution","Afghanistan","978-0-7377-6251-8","Greenhaven Publishing","Library Bound Book",1,2013,null,"Library Bound","6.000 X 9.000","Author","David Nelson",null,null,null,null,null,null,"Years 15 - 17",null,"Grade 10 - 12","Title explores decades of occupation and civil war in Afghanistan, from the Soviet occupation until the present day, addressing: atrocities committed both by the Soviet military and the Afghan mujahedeen fighters; the effect of US involvement in Afghanistan from 1979 on; the rise of the Taliban; and systemic abuse of women under the Taliban and other ruling parties in Afghanistan.","English",42,33.6,"958","224 pp.",{"$f":"Table1[[#This Row],['# of Books]]*Table1[[#This Row],[QTY]]","v":0},{"$f":"Table1[[#This Row],[QTY]]*Table1[[#This Row],[School & Library Price]]","v":0}]
[null,56,null,"World History","Genocide and Persecution","Afghanistan","978-0-7377-6755-1","Greenhaven Publishing","eBook",1,2013,null,"eBook",null,"Author","David E. Nelson",null,null,null,null,null,null,"Years 15 - 17",null,"Grade 10 - 12","Title explores decades of occupation and civil war in Afghanistan, from the Soviet occupation until the present day, addressing: atrocities committed both by the Soviet military and the Afghan mujahedeen fighters; the effect of US involvement in Afghanistan from 1979 on; the rise of the Taliban; and systemic abuse of women under the Taliban and other ruling parties in Afghanistan.","English",46.2,46.2,"958.104","224 pp.",{"$f":"Table1[[#This Row],['# of Books]]*Table1[[#This Row],[QTY]]","v":0},{"$f":"Table1[[#This Row],[QTY]]*Table1[[#This Row],[School & Library Price]]","v":0}]
[null,56,null,"World History","Genocide and Persecution","Burma","978-0-7377-7331-6","Greenhaven Publishing","eBook",1,2015,null,"eBook",null,"Author","Noah Berlatsky",null,null,null,null,null,null,"Years 15 - 17",null,"Grade 10 - 12","GENOCIDE AND PERSECUTION: BURMA examines the historical background on the violence against the Rohingya in Burma.  This volume covers controversies surrounding the Rohingya, including Burma's democratic transformation, the world ignoring the violence against the Rohingya.","English",46.2,46.2,"364.15","184 pp.",{"$f":"Table1[[#This Row],['# of Books]]*Table1[[#This Row],[QTY]]","v":0},{"$f":"Table1[[#This Row],[QTY]]*Table1[[#This Row],[School & Library Price]]","v":0}]
[null,56,null,"World History","Genocide and Persecution","Cambodia","978-0-7377-6756-8","Greenhaven Publishing","eBook",1,2013,null,"eBook",null,"Author","Jeff Hay",null,null,null,null,null,null,"Years 15 - 17",null,"Grade 10 - 12","Title explores genocide and persecution in Cambodia, including the historical/cultural background of the Cambodian genocide, including the rise of the Khmer Rouge; issues surrounding events such as US involvement in Vietnam and Cambodia and attempts to bring Khmer Rouge perpetrators to justice; and personal narratives from people touched by the events including Cambodian survivors of the genocide and American and British journalists who fled the country as the genocide began.","English",46.2,46.2,"959.604","208 pp.",{"$f":"Table1[[#This Row],['# of Books]]*Table1[[#This Row],[QTY]]","v":0},{"$f":"Table1[[#This Row],[QTY]]*Table1[[#This Row],[School & Library Price]]","v":0}]
[null,56,null,"World History","Genocide and Persecution","Darfur","978-0-7377-7231-9","Greenhaven Publishing","Library Bound Book",1,2015,null,"Library Bound","6.000 X 9.000","Author","Noah Berlatsky",null,null,null,null,null,null,"Years 15 - 17",null,"Grade 10 - 12","GENOCIDE AND PERSECUTION: DARFUR examines war crimes in Darfur and the ongoing efforts at resolution of the violence. It reports on war and human rights abuses, including labeling the violence as genocide. ","English",42,33.6,"962","164 pp.",{"$f":"Table1[[#This Row],['# of Books]]*Table1[[#This Row],[QTY]]","v":0},{"$f":"Table1[[#This Row],[QTY]]*Table1[[#This Row],[School & Library Price]]","v":0}]
[null,56,null,"World History","Genocide and Persecution","El Salvador and Guatemala","978-0-7377-6254-9","Greenhaven Publishing","Library Bound Book",1,2013,null,"Library Bound","6.000 X 9.000","Author","Alex Cruden",null,null,null,null,null,null,"Years 15 - 17",null,"Grade 10 - 12","Title explores genocide and persecution in El Salvador and Guatemala including, historical background on the repression that began in 1979 in El Salvador and continued into the early 1990s; historical background on the repression that took place in the 1970s and 1980s in Guatemala; controversies surrounding the repression in El Salvador and Guatemala; and personal narratives by those impacted either directly or indirectly by the repression in El Salvador Guatemala.","English",42,33.6,"972","272 pp.",{"$f":"Table1[[#This Row],['# of Books]]*Table1[[#This Row],[QTY]]","v":0},{"$f":"Table1[[#This Row],[QTY]]*Table1[[#This Row],[School & Library Price]]","v":0}]
[null,57,null,"World History","Genocide and Persecution","Indonesia","978-0-7377-6898-5","Greenhaven Publishing","Library Bound Book",1,2014,null,"Library Bound","6.000 X 9.000","Author","Noah Berlatsky",null,null,null,null,null,null,"Years 15 - 17",null,"Grade 10 - 12","Title explores genocide and persecution in Indonesia, including historical background on the Indonesian Genocide of 1965; the controversies surrounding the Indonesian Genocide of 1965; including the Communist PKI; personal narratives of an Indonesian Catholic; and Chinese-Indonesian politician and educator; and a journalist reports on interviews with participants of the 1965 purges in Indonesia.","English",42,33.6,"959","200 pp.",{"$f":"Table1[[#This Row],['# of Books]]*Table1[[#This Row],[QTY]]","v":0},{"$f":"Table1[[#This Row],[QTY]]*Table1[[#This Row],[School & Library Price]]","v":0}]
[null,57,null,"World History","Genocide and Persecution","Kosovo","978-0-7377-6671-4","Greenhaven Publishing","eBook",1,2013,null,"eBook",null,"Author","Noah Berlatsky",null,null,null,null,null,null,"Years 15 - 17",null,"Grade 10 - 12","This title explores genocide and persecution in Kosovo, including the historical/cultural background of long-running disputes between Kosovo and Serbia and other territories in the former Yugoslavia, particularly focusing on the 1999 war in Kosovo and the mass killings of Kosovo Albanians by Serbs, issues surrounding the 1999 war in Kosovo and the aftermath, including whether the atrocities committed by Serbs against Kosovo Albanians rose to the level of genocide; whether NATO was right to intervene by bombing Serbia; and whether the post-war trial of Slobodan Milosevic was a success or an embarrassing spectacle, personal narratives from people touched by the events in Kosovo, including the story of a 10-year-old Albanian boy who lost his family to Serb violence, and a Roma woman who experienced persecution at the hands of Kosovo Albanians.","English",46.2,46.2,"949.7103","224 pp.",{"$f":"Table1[[#This Row],['# of Books]]*Table1[[#This Row],[QTY]]","v":0},{"$f":"Table1[[#This Row],[QTY]]*Table1[[#This Row],[School & Library Price]]","v":0}]
[null,57,null,"World History","Genocide and Persecution","Liberia","978-0-7377-6899-2","Greenhaven Publishing","Library Bound Book",1,2014,null,"Library Bound","6.000 X 9.000","Author","David Nelson",null,null,null,null,null,null,"Years 15 - 17",null,"Grade 10 - 12","This title explores years of conflict and violence in Liberia during the First and Second Liberian Civil Wars and the acts of genocide and crimes against humanity that have resulted, offering: Historical background on the years of conflict; an examination of the controversies surrounding this conflict, including the ethnic tensions between the Krahn, favored by the original government, and the Gio and the Mano, favored by rebel forces, and personal narratives of those affected by the conflict.","English",42,33.6,"966","216 pp.",{"$f":"Table1[[#This Row],['# of Books]]*Table1[[#This Row],[QTY]]","v":0},{"$f":"Table1[[#This Row],[QTY]]*Table1[[#This Row],[School & Library Price]]","v":0}]
[null,57,null,"World History","Genocide and Persecution","Rwanda","978-0-7377-7333-0","Greenhaven Publishing","eBook",1,2015,null,"eBook",null,"Author","Noah Berlatsky",null,null,null,null,null,null,"Years 15 - 17",null,"Grade 10 - 12","GENOCIDE AND PERSECUTION: RWANDA examines the historical background on the violence in Rwanda. The title covers controversies surrounding Rwanda. The last chapter includes personal narratives by those impacted directly or indirectly.","English",46.2,46.2,"967.57104","232 pp.",{"$f":"Table1[[#This Row],['# of Books]]*Table1[[#This Row],[QTY]]","v":0},{"$f":"Table1[[#This Row],[QTY]]*Table1[[#This Row],[School & Library Price]]","v":0}]
[null,57,null,"World History","Genocide and Persecution","Sri Lanka","978-0-7377-6900-5","Greenhaven Publishing","Library Bound Book",1,2014,null,"Library Bound","6.000 X 9.000","Author","Noah Berlatsky",null,null,null,null,null,null,"Years 15 - 17",null,"Grade 10 - 12","This title explores decades of conflict and violence in Sri Lanka and the acts of genocide and crimes against humanity that have resulted, offering: Historical background on the years of conflict; an examination of the controversies surrounding this conflict, including the roots of the violence, assertions that genocide was committed by both sides, and the state of the postwar peace process; and personal narratives of those affected by the conflict.","English",42,33.6,"954","240 pp.",{"$f":"Table1[[#This Row],['# of Books]]*Table1[[#This Row],[QTY]]","v":0},{"$f":"Table1[[#This Row],[QTY]]*Table1[[#This Row],[School & Library Price]]","v":0}]
[null,57,null,"World History","Genocide and Persecution","The Armenian Genocide","978-0-7377-7319-4","Greenhaven Publishing","eBook",1,2015,null,"eBook",null,"Author","Noah Berlatsky",null,null,null,null,null,null,"Years 15 - 17",null,"Grade 10 - 12","GENOCIDE AND PERSECUTION: ARMENIA examines the historical background on the violence in Armenia. The title covers the systematic extermination and deportation of Armenians from their homeland. ","English",46.2,46.2,"956.6","208 pp.",{"$f":"Table1[[#This Row],['# of Books]]*Table1[[#This Row],[QTY]]","v":0},{"$f":"Table1[[#This Row],[QTY]]*Table1[[#This Row],[School & Library Price]]","v":0}]
[null,57,null,"World History","Genocide and Persecution","The Kurds","978-0-7377-6257-0","Greenhaven Publishing","Library Bound Book",1,2013,null,"Library Bound","6.000 X 9.000","Author","Noah Berlatsky",null,null,null,null,null,null,"Years 15 - 17",null,"Grade 10 - 12","Title explores genocide and persecution of the Kurds, including the historical/cultural background of Kurdish persecution in Turkey and Iraq events from the rise of the communist People's Republic of China in 1949 to the present; issues surrounding events such as Saddam Hussein's persecution of the Kurds in Iraq; Turkey's treatment of the Kurdish people; and the pros and cons of establishing an independent state for the Kurds; and includes personal narratives from people touched by the events including Kurdish survivors of Saddam Hussein's poison gas attacks and a Turkish Kurd who laments the denial of his cultural identity.","English",42,33.6,"305","216 pp.",{"$f":"Table1[[#This Row],['# of Books]]*Table1[[#This Row],[QTY]]","v":0},{"$f":"Table1[[#This Row],[QTY]]*Table1[[#This Row],[School & Library Price]]","v":0}]
[null,57,null,"World History","Genocide and Persecution","The People's Republic of China","978-0-7377-6672-1","Greenhaven Publishing","eBook",1,2013,null,"eBook",null,"Author","Jeff Hay",null,null,null,null,null,null,"Years 15 - 17",null,"Grade 10 - 12","This title explores genocide and persecution in the People’s Republic of China, including the historical/cultural background of events from the rise of the communist People’s Republic of China in 1949 to the present. Issues surrounding events such as China’s Great Leap Forward, the Cultural Revolution, the Tiananmen Square crackdown, and the treatment of minority groups and political dissidents in China. Personal narratives from people touched by the events in China, including childhood memories of growing up during the Great Leap Forward and the Cultural Revolution and the recent experiences of a Uighur activist.","English",46.2,46.2,"323.4","216 pp.",{"$f":"Table1[[#This Row],['# of Books]]*Table1[[#This Row],[QTY]]","v":0},{"$f":"Table1[[#This Row],[QTY]]*Table1[[#This Row],[School & Library Price]]","v":0}]
[null,58,null,"World History","Perspectives on Modern World History","9/11","978-0-7377-4793-5","Greenhaven Publishing","Library Bound Book",1,2010,null,"Library Bound","7.000 X 9.000","Author","Louise I. Gerdes",null,null,null,null,null,null,"Years 15 - 17",null,"Grade 10 - 12","Examines from multiple perspectives the historical events leading up to and following the 9/11 attacks. Explores related controversies, including intelligence failures, the impact of globalization, racial profiling, and conspiracy theories. Offers personal narratives from a reporter who witnessed the towers falling, two first responders and a search-and-rescue worker, as well as a document outlining the terrorists’ preparation for the attack.","English",47.8,38.24,"973","240 pp.",{"$f":"Table1[[#This Row],['# of Books]]*Table1[[#This Row],[QTY]]","v":0},{"$f":"Table1[[#This Row],[QTY]]*Table1[[#This Row],[School & Library Price]]","v":0}]
[null,58,null,"World History","Perspectives on Modern World History","Brown v. the Board of Education Trial","978-0-7377-7342-2","Greenhaven Publishing","eBook",1,2015,null,"eBook",null,"Author","Julia Garbus",null,null,null,null,null,null,"Years 15 - 17",null,"Grade 10 - 12","PERSPECTIVES ON MODERN WORLD HISTORY: THE BROWN V. BOARD OF EDUCATION TRIAL explores the historical background on the Brown v. Board of Education Trial, examines the controversies surrounding the trial, and offers personal narratives from those who were involved in the case.","English",52.58,52.58,"344.73","208 pp.",{"$f":"Table1[[#This Row],['# of Books]]*Table1[[#This Row],[QTY]]","v":0},{"$f":"Table1[[#This Row],[QTY]]*Table1[[#This Row],[School & Library Price]]","v":0}]
[null,58,null,"World History","Perspectives on Modern World History","Building the Panama Canal","978-0-7377-6635-6","Greenhaven Publishing","eBook",1,2012,null,"eBook",null,"Author","Sylvia Engdahl",null,null,null,null,null,null,"Years 15 - 17",null,"Grade 10 - 12","This title explores the historical/cultural events leading up to and following the building of the Panama Canal, issues surrounding ownership of the canal and related treaties, and personal narratives from people who visited the canal during construction and those that worked on the canal.","English",52.58,52.58,"972.87","224 pp.",{"$f":"Table1[[#This Row],['# of Books]]*Table1[[#This Row],[QTY]]","v":0},{"$f":"Table1[[#This Row],[QTY]]*Table1[[#This Row],[School & Library Price]]","v":0}]
[null,59,null,"World History","Perspectives on Modern World History","D-Day","978-0-7377-6499-4","Greenhaven Publishing","eBook",1,2012,null,"eBook",null,"Author","Myra Immell",null,null,null,null,null,null,"Years 15 - 17",null,"Grade 10 - 12","This new addition to the PERSPECTIVES ON MODERN WORLD HISTORY series explores the historical and cultural events leading up to and following the June 1944 Allied invasion of Normandy. The text also addresses several issues surrounding the invasion, such as whether the invasion was necessary, whether D-Day marked the beginning of the end for Nazi Germany, and whether Winston Churchill was pressured into backing D-Day by American demands. Personal narratives from people impacted by D-Day -- including reflections by both Allied and German soldiers, and a Normandy teen remembering the invasion firsthand -- are featured.","English",52.58,52.58,"940.54","216 pp.",{"$f":"Table1[[#This Row],['# of Books]]*Table1[[#This Row],[QTY]]","v":0},{"$f":"Table1[[#This Row],[QTY]]*Table1[[#This Row],[School & Library Price]]","v":0}]
[null,59,null,"World History","Perspectives on Modern World History","Japan's 2011 Natural Disaster and Nuclear Meltdown","978-0-7377-7056-8","Greenhaven Publishing","eBook",1,2014,null,"eBook",null,"Author","Myra Immell",null,null,null,null,null,null,"Years 15 - 17",null,"Grade 10 - 12","PERSPECTIVE ON MODERN WORLD HISTORY: JAPAN’S 2011 NATURAL DISASTERS AND NUCLEAR MELTDOWN explores the events surrounding Japan’s 2011 natural disasters and nuclear meltdown, providing background information on the events, examining related controversies, and offering personal narratives from those who witnessed the disasters.","English",52.58,52.58,"952.0512","216 pp.",{"$f":"Table1[[#This Row],['# of Books]]*Table1[[#This Row],[QTY]]","v":0},{"$f":"Table1[[#This Row],[QTY]]*Table1[[#This Row],[School & Library Price]]","v":0}]
[null,59,null,"World History","Perspectives on Modern World History","Little Rock Nine","978-0-7377-7058-2","Greenhaven Publishing","eBook",1,2014,null,"eBook",null,"Author","Diane Andrews Henningfeld",null,null,null,null,null,null,"Years 15 - 17",null,"Grade 10 - 12","PERSPECTIVES ON MODERN WORLD HISTORY: LITTLE ROCK NINE explores the events surrounding the Little Rock Nine crises, providing background information on the Little Rock Nine, examining related controversies, and offering personal narratives from those who witnessed or were involved.","English",52.58,52.58,"379.263097","208 pp.",{"$f":"Table1[[#This Row],['# of Books]]*Table1[[#This Row],[QTY]]","v":0},{"$f":"Table1[[#This Row],[QTY]]*Table1[[#This Row],[School & Library Price]]","v":0}]
[null,59,null,"World History","Perspectives on Modern World History","Prohibition","978-0-7377-6370-6","Greenhaven Publishing","Library Bound Book",1,2013,null,"Library Bound","7.000 X 9.000","Author","Sylvia Engdahl",null,null,null,null,null,null,"Years 15 - 17",null,"Grade 10 - 12","This title explores the events that lead to the passage of the 18th Amendment, descriptions of life during prohibition, and the events that led to its repeal, debates during the prohibition era as to whether the law was necessary and effective or an overreaction that caused more harm than good; whether it violated personal liberty; and whether the prohibition law should be modified or repealed, and personal narratives from those who experienced prohibition firsthand, including a man's recollection of going to speakeasies as a teen; another's recounting of his career as a bootlegger; and a prohibition agent's tales of enforcing the law.","English",47.8,38.24,"363","216 pp.",{"$f":"Table1[[#This Row],['# of Books]]*Table1[[#This Row],[QTY]]","v":0},{"$f":"Table1[[#This Row],[QTY]]*Table1[[#This Row],[School & Library Price]]","v":0}]
[null,59,null,"World History","Perspectives on Modern World History","Stalin's Great Purge","978-0-7377-6371-3","Greenhaven Publishing","Library Bound Book",1,2013,null,"Library Bound","7.000 X 9.000","Author","Noah Berlatsky",null,null,null,null,null,null,"Years 15 - 17",null,"Grade 10 - 12","This title provides historical background on Stalin's purges and explores controversies surrounding the purges. It offers first hand accounts from those who experienced the effects of Stalin's purges.","English",47.8,38.24,"947","200 pp.",{"$f":"Table1[[#This Row],['# of Books]]*Table1[[#This Row],[QTY]]","v":0},{"$f":"Table1[[#This Row],[QTY]]*Table1[[#This Row],[School & Library Price]]","v":0}]
[null,59,null,"World History","Perspectives on Modern World History","The 1967 Detroit Riots","978-0-7377-6362-1","Greenhaven Publishing","Library Bound Book",1,2013,null,"Library Bound","7.000 X 9.000","Author","Noah Berlatsky",null,null,null,null,null,null,"Years 15 - 17",null,"Grade 10 - 12","Provides historical background and primary source material on the 1967 Detroit riots and explores the reasons the riots occurred and the consequences of the riots. Also presents a chapter with personal narratives from people that lived through the riots.","English",47.8,38.24,"977","184 pp.",{"$f":"Table1[[#This Row],['# of Books]]*Table1[[#This Row],[QTY]]","v":0},{"$f":"Table1[[#This Row],[QTY]]*Table1[[#This Row],[School & Library Price]]","v":0}]
[null,59,null,"World History","Perspectives on Modern World History","The 1992 Los Angeles Riots","978-0-7377-7055-1","Greenhaven Publishing","eBook",1,2014,null,"eBook",null,"Author","Louise I. Gerdes",null,null,null,null,null,null,"Years 15 - 17",null,"Grade 10 - 12","PERSPECTIVE ON MODERN WORLD HISTORY: THE 1992 LOS ANGELES RIOTS examine the historical background on the riots, the controversies surrounding the riots, and personal narratives.","English",52.58,52.58,"979.494053","200 pp.",{"$f":"Table1[[#This Row],['# of Books]]*Table1[[#This Row],[QTY]]","v":0},{"$f":"Table1[[#This Row],[QTY]]*Table1[[#This Row],[School & Library Price]]","v":0}]
[null,59,null,"World History","Perspectives on Modern World History","The Arab-Israeli Six-Day War","978-0-7377-6799-5","Greenhaven Publishing","eBook",1,2013,null,"eBook",null,"Author","Jeff Hay",null,null,null,null,null,null,"Years 15 - 17",null,"Grade 10 - 12","This title explores the 1967 Six-Day War between Israel and several neighboring Arab nations, offering background information on the events leading up and during the war; varying views on the controversies surrounding the war and its aftermath, including whether Israel should hold on to the post-1967 borders and the impact of the postwar occupations; and personal narratives from Israeli, Palestinian, and other perspectives.","English",52.58,52.58,"956.04","208 pp.",{"$f":"Table1[[#This Row],['# of Books]]*Table1[[#This Row],[QTY]]","v":0},{"$f":"Table1[[#This Row],[QTY]]*Table1[[#This Row],[School & Library Price]]","v":0}]
[null,59,null,"World History","Perspectives on Modern World History","The Arab-Israeli Six-Day War","978-0-7377-6361-4","Greenhaven Publishing","Library Bound Book",1,2013,null,"Library Bound","7.000 X 9.000","Author","Jeff Hay",null,null,null,null,null,null,"Years 15 - 17",null,"Grade 10 - 12","This title explores the 1967 Six-Day War between Israel and several neighboring Arab nations, offering background information on the events leading up and during the war; varying views on the controversies surrounding the war and its aftermath, including whether Israel should hold on to the post-1967 borders and the impact of the postwar occupations; and personal narratives from Israeli, Palestinian, and other perspectives.","English",47.8,38.24,"956","208 pp.",{"$f":"Table1[[#This Row],['# of Books]]*Table1[[#This Row],[QTY]]","v":0},{"$f":"Table1[[#This Row],[QTY]]*Table1[[#This Row],[School & Library Price]]","v":0}]
[null,59,null,"World History","Perspectives on Modern World History","The Atomic Bombings of Hiroshima and Nagasaki","978-0-7377-6409-3","Greenhaven Publishing","eBook",1,2011,null,"eBook",null,"Author","Sylvia Engdahl",null,null,null,null,null,null,"Years 15 - 17",null,"Grade 10 - 12","Each volume of PERSPECTIVES ON MODERN WORLD HISTORY offers a fresh look - from multiple perspectives - at momentous events in world history. This volume introduces and provides a brief overview of the major factors that contributed to the dropping of atomic bombs on the Japanese cities of Hiroshima and Nagasaki. Each volume opens with background information - including primary source material - covering the periods leading up to, during and after the event. Then, each volume offers an in-depth, multinational perspective on the controversies surrounding the event and the current implications or long-lasting effects. Each volume concludes with first-person narratives from people who lived through or were directly impacted by the event. Essays are compiled from a variety of sources and are carefully edited and introduced to provide context for readers unfamiliar with the historical event.","English",52.58,52.58,"940.54","240 pp.",{"$f":"Table1[[#This Row],['# of Books]]*Table1[[#This Row],[QTY]]","v":0},{"$f":"Table1[[#This Row],[QTY]]*Table1[[#This Row],[School & Library Price]]","v":0}]
[null,59,null,"World History","Perspectives on Modern World History","The Bolshevik Revolution","978-0-7377-7057-5","Greenhaven Publishing","eBook",1,2014,null,"eBook",null,"Author","Sylvia Engdahl",null,null,null,null,null,null,"Years 15 - 17",null,"Grade 10 - 12","This title explores the events of the Bolshevik Revolution, issues surrounding Bolshevik support or oppression of the working class, and the impact of Bolshevism on Russia and the world. Personal narratives from people who experienced the revolution are included.","English",52.58,52.58,"947.084","232 pp.",{"$f":"Table1[[#This Row],['# of Books]]*Table1[[#This Row],[QTY]]","v":0},{"$f":"Table1[[#This Row],[QTY]]*Table1[[#This Row],[School & Library Price]]","v":0}]
[null,59,null,"World History","Perspectives on Modern World History","The Bosnian Conflict","978-0-7377-5786-6","Greenhaven Publishing","Library Bound Book",1,2012,null,"Library Bound","7.000 X 9.000","Author","Alex Cruden",null,null,null,null,null,null,"Years 15 - 17",null,"Grade 10 - 12",null,"English",47.8,38.24,"949","325 pp.",{"$f":"Table1[[#This Row],['# of Books]]*Table1[[#This Row],[QTY]]","v":0},{"$f":"Table1[[#This Row],[QTY]]*Table1[[#This Row],[School & Library Price]]","v":0}]
[null,59,null,"World History","Perspectives on Modern World History","The Columbine School Shooting","978-0-7377-6605-9","Greenhaven Publishing","eBook",1,2012,null,"eBook",null,"Author","Louise I. Gerdes",null,null,null,null,null,null,"Years 15 - 17",null,"Grade 10 - 12","This new addition to the PERSPECTIVES ON MODERN WORLD HISTORY series explores many aspects of the Columbine school shootings in April, 1999. Topics covered include the historical and cultural background leading up to and following the event; the issues surrounding Columbine, such as the role of bullying at the high school; the shootings as a symbol of a greater culture of violence; and the impact of gun laws on the accessibility of weapons for senior students Eric Harris and Dylan Klebold.  Personal narratives from people touched by the Columbine shootings, including Columbine high school seniors writing about the impact of the event on their lives and a journalist looking back at the event he covered ten years earlier, are featured in the text.","English",52.58,52.58,"371.7","208 pp.",{"$f":"Table1[[#This Row],['# of Books]]*Table1[[#This Row],[QTY]]","v":0},{"$f":"Table1[[#This Row],[QTY]]*Table1[[#This Row],[School & Library Price]]","v":0}]
[null,59,null,"World History","Perspectives on Modern World History","The Creation of the State of Israel","978-0-7377-5070-6","Greenhaven Publishing","eBook",1,2010,null,"eBook",null,"Author","Myra Immell",null,null,null,null,null,null,"Years 15 - 17",null,"Grade 10 - 12",null,"English",52.58,52.58,"956.9404","224 pp.",{"$f":"Table1[[#This Row],['# of Books]]*Table1[[#This Row],[QTY]]","v":0},{"$f":"Table1[[#This Row],[QTY]]*Table1[[#This Row],[School & Library Price]]","v":0}]
[null,59,null,"World History","Perspectives on Modern World History","The Creation of the State of Israel","978-0-7377-4556-6","Greenhaven Publishing","Library Bound Book",1,2010,null,"Library Bound","7.000 X 9.000","Author","Myra Immell",null,null,null,null,null,null,"Years 15 - 17",null,"Grade 10 - 12",null,"English",47.8,38.24,"956","224 pp.",{"$f":"Table1[[#This Row],['# of Books]]*Table1[[#This Row],[QTY]]","v":0},{"$f":"Table1[[#This Row],[QTY]]*Table1[[#This Row],[School & Library Price]]","v":0}]
[null,59,null,"World History","Perspectives on Modern World History","The Cuban Missile Crisis","978-0-7377-5005-8","Greenhaven Publishing","Library Bound Book",1,2011,null,"Library Bound","7.000 X 9.000","Author","Myra Immell",null,null,null,null,null,null,"Years 15 - 17",null,"Grade 10 - 12",null,"English",47.8,38.24,"972","184 pp.",{"$f":"Table1[[#This Row],['# of Books]]*Table1[[#This Row],[QTY]]","v":0},{"$f":"Table1[[#This Row],[QTY]]*Table1[[#This Row],[School & Library Price]]","v":0}]
[null,59,null,"World History","Perspectives on Modern World History","The Dissolution of the Soviet Union","978-0-7377-4794-2","Greenhaven Publishing","Library Bound Book",1,2010,null,"Library Bound","7.000 X 9.000","Author","Myra Immell",null,null,null,null,null,null,"Years 15 - 17",null,"Grade 10 - 12","Explores the historical events leading up to and following the fall of the Soviet Union. Looks at controversies surrounding the event such as the perceived failure of perestroika, the coup of 1991, the vote of the Soviet people to preserve the Soviet Union, and the outside world’s contribution. Also offers personal narratives of life before and after the collapse.","English",47.8,38.24,"947","216 pp.",{"$f":"Table1[[#This Row],['# of Books]]*Table1[[#This Row],[QTY]]","v":0},{"$f":"Table1[[#This Row],[QTY]]*Table1[[#This Row],[School & Library Price]]","v":0}]
[null,59,null,"World History","Perspectives on Modern World History","The Great Depression","978-0-7377-4795-9","Greenhaven Publishing","Library Bound Book",1,2010,null,"Library Bound","7.000 X 9.000","Author","David Haugen",null,null,null,null,null,null,"Years 15 - 17",null,"Grade 10 - 12","Examines from multiple perspectives the historical events leading up to and following the Great Depression. Explores related controversies, including presidential policies that may have exacerbated the Depression, the impact of mortgage laws, and lessons applicable to the current economic climate. Offers personal narratives by author John Steinbeck, a young man in the Civilian Conservation Corps, an African-American, and deported Mexican immigrants.","English",47.8,38.24,"909","240 pp.",{"$f":"Table1[[#This Row],['# of Books]]*Table1[[#This Row],[QTY]]","v":0},{"$f":"Table1[[#This Row],[QTY]]*Table1[[#This Row],[School & Library Price]]","v":0}]
[null,59,null,"World History","Perspectives on Modern World History","The Haiti Earthquake","978-0-7377-6679-0","Greenhaven Publishing","eBook",1,2013,null,"eBook",null,"Author","Diane Andrews Henningfeld",null,null,null,null,null,null,"Years 15 - 17",null,"Grade 10 - 12","This title explores the events of the 2010 Haiti earthquake, issues surrounding US aid and military efforts; inconsistencies of the death tolls; and controversies surrounding the  adoptions of Haitian orphans, and personal narratives from people who experienced the earthquake.","English",52.58,52.58,"363.34","184 pp.",{"$f":"Table1[[#This Row],['# of Books]]*Table1[[#This Row],[QTY]]","v":0},{"$f":"Table1[[#This Row],[QTY]]*Table1[[#This Row],[School & Library Price]]","v":0}]
[null,59,null,"World History","Perspectives on Modern World History","The Holocaust","978-0-7377-5258-8","Greenhaven Publishing","Library Bound Book",1,2011,null,"Library Bound","7.000 X 9.000","Author","David Haugen",null,null,null,null,null,null,"Years 15 - 17",null,"Grade 10 - 12",null,"English",47.8,38.24,"940","264 pp.",{"$f":"Table1[[#This Row],['# of Books]]*Table1[[#This Row],[QTY]]","v":0},{"$f":"Table1[[#This Row],[QTY]]*Table1[[#This Row],[School & Library Price]]","v":0}]
[null,59,null,"World History","Perspectives on Modern World History","The Iranian Revolution","978-0-7377-5793-4","Greenhaven Publishing","Library Bound Book",1,2012,null,"Library Bound","7.000 X 9.000","Author","Noah Berlatsky",null,null,null,null,null,null,"Years 15 - 17",null,"Grade 10 - 12","This new addition to the PERSPECTIVES ON MODERN WORLD HISTORY series explores the historical and cultural events leading up to and following the Iranian uprising of 1978-1979. The text addresses issues surrounding the Iranian Revolution, such as the role of United States policy in fueling the unrest, the impact of the western press on anti-Khomeini sentiment, and parallels to the Green Revolution of 2009-2010. Personal narratives from people impacted by the Revolution, including a British diplomat eyewitness and an arrested Iranian feminist, are featured.","English",47.8,38.24,"955","208 pp.",{"$f":"Table1[[#This Row],['# of Books]]*Table1[[#This Row],[QTY]]","v":0},{"$f":"Table1[[#This Row],[QTY]]*Table1[[#This Row],[School & Library Price]]","v":0}]
[null,59,null,"World History","Perspectives on Modern World History","The Korean War","978-0-7377-5794-1","Greenhaven Publishing","Library Bound Book",1,2011,null,"Library Bound","7.000 X 9.000","Author","Myra Immell",null,null,null,null,null,null,"Years 15 - 17",null,"Grade 10 - 12",null,"English",47.8,38.24,"951","208 pp.",{"$f":"Table1[[#This Row],['# of Books]]*Table1[[#This Row],[QTY]]","v":0},{"$f":"Table1[[#This Row],[QTY]]*Table1[[#This Row],[School & Library Price]]","v":0}]
[null,60,null,"World History","Perspectives on Modern World History","The Mccarthy Era","978-0-7377-5260-1","Greenhaven Publishing","Library Bound Book",1,2011,null,"Library Bound","7.000 X 9.000","Author","Myra Immell",null,null,null,null,null,null,"Years 15 - 17",null,"Grade 10 - 12",null,"English",47.8,38.24,"973","184 pp.",{"$f":"Table1[[#This Row],['# of Books]]*Table1[[#This Row],[QTY]]","v":0},{"$f":"Table1[[#This Row],[QTY]]*Table1[[#This Row],[School & Library Price]]","v":0}]
[null,60,null,"World History","Perspectives on Modern World History","The Munich Olympics Massacre","978-0-7377-7059-9","Greenhaven Publishing","eBook",1,2014,null,"eBook",null,"Author","Jeff Hay",null,null,null,null,null,null,"Years 15 - 17",null,"Grade 10 - 12","PERSPECTIVES ON MODERN WORLD HISTORY: THE MUNICH OLYMPICS MASSACRE examines the historical background of the Munich Olympics Massacre as well as the controversies surrounding the event and personal narratives from the people who were there.","English",52.58,52.58,"364.152","160 pp.",{"$f":"Table1[[#This Row],['# of Books]]*Table1[[#This Row],[QTY]]","v":0},{"$f":"Table1[[#This Row],[QTY]]*Table1[[#This Row],[School & Library Price]]","v":0}]
[null,60,null,"World History","Perspectives on Modern World History","The Oklahoma City Bombing","978-0-7377-5796-5","Greenhaven Publishing","Library Bound Book",1,2012,null,"Library Bound","7.000 X 9.000","Author","Diane Andrews Henningfeld",null,null,null,null,null,null,"Years 15 - 17",null,"Grade 10 - 12","This new addition to the PERSPECTIVES ON MODERN WORLD HISTORY series explores the historical and cultural events leading up to and following the bombing of the Alfred P. Murrah Federal Building on April 19, 1995. The text addresses issues surrounding the bombing, such as the identity of \"John Doe No. 2,\" the media's possible misrepresentation of the militia movement's involvement, and whether Timothy McVeigh's confession was voluntary. Personal narratives from people impacted by the bombing -- including a secretary trapped in the wreckage, a search-and-rescue worker, and a high school student who lost her father -- are featured.","English",47.8,38.24,"976","224 pp.",{"$f":"Table1[[#This Row],['# of Books]]*Table1[[#This Row],[QTY]]","v":0},{"$f":"Table1[[#This Row],[QTY]]*Table1[[#This Row],[School & Library Price]]","v":0}]
[null,60,null,"World History","Perspectives on Modern World History","The Titanic","978-0-7377-7310-1","Greenhaven Publishing","Library Bound Book",1,2015,null,"Library Bound","7.000 X 9.000","Author","Daniel Gaetan-Beltran",null,null,null,null,null,null,"Years 15 - 17",null,"Grade 10 - 12","This volume of the PERSPECTIVES ON MODERN WORLD HISTORY SERIES explores the tragic sinking of the Titanic in 1912, covering historical background, controversies surrounding the disaster, and personal narratives from survivors.","English",47.8,38.24,"910","200 pp.",{"$f":"Table1[[#This Row],['# of Books]]*Table1[[#This Row],[QTY]]","v":0},{"$f":"Table1[[#This Row],[QTY]]*Table1[[#This Row],[School & Library Price]]","v":0}]
[null,60,null,"World History","Perspectives on Modern World History","The Vietnam War","978-0-7377-5008-9","Greenhaven Publishing","Library Bound Book",1,2011,null,"Library Bound","7.000 X 9.000","Author","David Haugen",null,null,null,null,null,null,"Years 15 - 17",null,"Grade 10 - 12",null,"English",47.8,38.24,"959","264 pp.",{"$f":"Table1[[#This Row],['# of Books]]*Table1[[#This Row],[QTY]]","v":0},{"$f":"Table1[[#This Row],[QTY]]*Table1[[#This Row],[School & Library Price]]","v":0}]
[null,60,null,"World History","Perspectives on Modern World History","Watergate","978-0-7377-6563-2","Greenhaven Publishing","eBook",1,2012,null,"eBook",null,"Author","Alexander Cruden",null,null,null,null,null,null,"Years 15 - 17",null,"Grade 10 - 12","This new addition to the PERSPECTIVES ON MODERN WORLD HISTORY series explores the historical and cultural events leading up to and following the Watergate scandal, from the 1972 break-in through Nixon’s resignation. The text addresses several issues surrounding Watergate, such as controversies related to the presidential impeachment, the media’s role in both exposing the scandal and impacting the aftermath, and problems with the idea of presidential privilege. Personal narratives from people impacted by Watergate, including remembrances by Julie Nixon Eisenhower and John Dean, are also featured.","English",52.58,52.58,"973.924","208 pp.",{"$f":"Table1[[#This Row],['# of Books]]*Table1[[#This Row],[QTY]]","v":0},{"$f":"Table1[[#This Row],[QTY]]*Table1[[#This Row],[School & Library Price]]","v":0}]
[null,60,null,"World History","Perspectives on Modern World History","Watergate","978-0-7377-5797-2","Greenhaven Publishing","Library Bound Book",1,2012,null,"Library Bound","7.000 X 9.000","Author","Alexander Cruden",null,null,null,null,null,null,"Years 15 - 17",null,"Grade 10 - 12","This new addition to the PERSPECTIVES ON MODERN WORLD HISTORY series explores the historical and cultural events leading up to and following the Watergate scandal, from the 1972 break-in through Nixon's resignation. The text addresses several issues surrounding Watergate, such as controversies related to the presidential impeachment, the media's role in both exposing the scandal and impacting the aftermath, and problems with the idea of presidential privilege. Personal narratives from people impacted by Watergate, including remembrances by Julie Nixon Eisenhower and John Dean, are also featured.","English",47.8,38.24,"973","208 pp.",{"$f":"Table1[[#This Row],['# of Books]]*Table1[[#This Row],[QTY]]","v":0},{"$f":"Table1[[#This Row],[QTY]]*Table1[[#This Row],[School & Library Price]]","v":0}]
[null,61,null,"Reference","The Greenhaven Encyclopedia of…","Ancient Mesopotamia","978-0-7377-4625-9","Greenhaven Publishing","eBook",1,2007,null,"eBook",null,"Author","Don Nardo",null,null,null,null,null,null,"Years 15 - 17",null,"Grade 10 - 12",null,"English",108.79,108.79,"935.003","392 pp.",{"$f":"Table1[[#This Row],['# of Books]]*Table1[[#This Row],[QTY]]","v":0},{"$f":"Table1[[#This Row],[QTY]]*Table1[[#This Row],[School & Library Price]]","v":0}]
[null,61,null,"Reference","The Greenhaven Encyclopedia of…","Ancient Rome","978-0-7377-4639-6","Greenhaven Publishing","eBook",1,2002,null,"eBook",null,"Author","Don Nardo",null,null,null,null,null,null,"Years 15 - 17",null,"Grade 10 - 12","This volume in The Greenhaven Encyclopedia Of series provides an abundance of information on Ancient Rome. Compelling entries present definitions of important terms, biographies of central figures, and brief narratives of pivotal events that transformed civilizations and nations. Students will find quick and easily accessible answers to the difficult questions that arise while researching events, personalities, and issues of the past.","English",108.79,108.79,"937.003","304 pp.",{"$f":"Table1[[#This Row],['# of Books]]*Table1[[#This Row],[QTY]]","v":0},{"$f":"Table1[[#This Row],[QTY]]*Table1[[#This Row],[School & Library Price]]","v":0}]
[null,61,null,"Reference","The Greenhaven Encyclopedia of…","Terrorism","978-0-7377-4622-8","Greenhaven Publishing","eBook",1,2007,null,"eBook",null,"Author","Patricia D. Netzley",null,null,null,null,null,null,"Years 15 - 17",null,"Grade 10 - 12",null,"English",108.79,108.79,"363.32503","368 pp.",{"$f":"Table1[[#This Row],['# of Books]]*Table1[[#This Row],[QTY]]","v":0},{"$f":"Table1[[#This Row],[QTY]]*Table1[[#This Row],[School & Library Price]]","v":0}]
[null,61,null,"Reference","The Greenhaven Encyclopedia of…","The Civil War","978-0-7377-4635-8","Greenhaven Publishing","eBook",1,2004,null,"eBook",null,"Author","Patricia D. Netzley",null,null,null,null,null,null,"Years 15 - 17",null,"Grade 10 - 12","Lasting from 1861 to 1865, the Civil War pitted brother against brother and resulted in the deaths of well over 600,000 soldiers. This reference book provides information about a variety of topics related to the war and its aftermath, including political issues, generals, battles and campaigns, armies, weapons and ammunition, naval vessels, medical treatments, and aspects of daily life in the military and on the homefront.","English",108.79,108.79,"973.703","300 pp.",{"$f":"Table1[[#This Row],['# of Books]]*Table1[[#This Row],[QTY]]","v":0},{"$f":"Table1[[#This Row],[QTY]]*Table1[[#This Row],[School & Library Price]]","v":0}]
[null,61,null,"Reference","The Greenhaven Encyclopedia of…","Witchcraft","978-0-7377-4638-9","Greenhaven Publishing","eBook",1,2002,null,"eBook",null,"Author","Patricia D. Netzley",null,null,null,null,null,null,"Years 15 - 17",null,"Grade 10 - 12","This volume in The Greenhaven Encyclopedia Of series provides an abundance of information on Witchcraft. Explores all aspects of witchcraft: magical tools, rituals, concepts, and traditions as well as witchcraft-related deities and historical events. Offers information about important figures in the field of witchcraft, from witch-trial judges and other persecutors to people at the forefront of the modern witchcraft movement. Compelling entries present definitions of important terms, biographies of central figures, and brief narratives of pivotal events that transformed civilizations and nations. Students will find quick and easily accessible answers to the difficult questions that arise while researching events, personalities, and issues of the past.","English",108.79,108.79,"133.4303","304 pp.",{"$f":"Table1[[#This Row],['# of Books]]*Table1[[#This Row],[QTY]]","v":0},{"$f":"Table1[[#This Row],[QTY]]*Table1[[#This Row],[School & Library Price]]","v":0}]
[null,62,null,"Science & Technology","Fueling the Future","Biomass: Energy from Plants and Animals","978-0-7377-3586-4","Greenhaven Publishing","Library Bound Book",1,2007,null,"Library Bound","7.000 X 9.000","Author","Amanda de la Garza",null,null,null,null,null,null,"Years 15 - 17",null,"Grade 10 - 12","Although it is perhaps the oldest known source of fuel, biomass is now on the cutting edge of humankind’s search for more sustainable energy. This book outlines the history of biomass use, details modern efforts to use biomass as a cost-effective, clean replacement for fossil fuels, and explores the potential of biomass-based energy as a major fuel source for the future.","English",44.6,35.68,"333.95","112 pp.",{"$f":"Table1[[#This Row],['# of Books]]*Table1[[#This Row],[QTY]]","v":0},{"$f":"Table1[[#This Row],[QTY]]*Table1[[#This Row],[School & Library Price]]","v":0}]
[null,62,null,"Science & Technology","Fueling the Future","Oil","978-0-7377-3588-8","Greenhaven Publishing","Library Bound Book",1,2007,null,"Library Bound","7.000 X 9.000","Author","Crystal McCage",null,null,null,null,null,null,"Years 15 - 17",null,"Grade 10 - 12",null,"English",44.6,35.68,"553.2","144 pp.",{"$f":"Table1[[#This Row],['# of Books]]*Table1[[#This Row],[QTY]]","v":0},{"$f":"Table1[[#This Row],[QTY]]*Table1[[#This Row],[School & Library Price]]","v":0}]
[null,62,null,"Science & Technology","Fueling the Future","Wind","978-0-7377-3580-2","Greenhaven Publishing","Library Bound Book",1,2007,null,"Library Bound","7.000 X 9.000","Author","Clay Farris Naff",null,null,null,null,null,null,"Years 15 - 17",null,"Grade 10 - 12",null,"English",44.6,35.68,"333.9","128 pp.",{"$f":"Table1[[#This Row],['# of Books]]*Table1[[#This Row],[QTY]]","v":0},{"$f":"Table1[[#This Row],[QTY]]*Table1[[#This Row],[School & Library Price]]","v":0}]
[null,63,null,"Arts and Humanities","Eye on Art (Aug '17 Set)","Eye on Art (Aug '17 Set)","978-1-5345-6163-2","Lucent Press","eBook Set",6,"2018","August 2017",null,null," "," ",null,null,null,null,null,null,"Years 12 - 15","Grade 7","Grade 7 - 10","Artists can express themselves in an astonishing variety of ways, including planning skyscrapers, laying out magazines, designing clothes, and even painting graffiti on walls. Readers explore these and other forms of artistic expression as they learn about the evolution of some of the world’s most popular kinds of art. Through accessible text that is enhanced by detailed sidebars and annotated quotes, readers gain a strong understanding of artistic techniques and the history of popular kinds of art. Vibrant photographs and examples of each kind of art are sure to captivate budding artists.","English",236.4,189.12,null,"104 pp.",{"$f":"Table1[[#This Row],['# of Books]]*Table1[[#This Row],[QTY]]","v":0},{"$f":"Table1[[#This Row],[QTY]]*Table1[[#This Row],[School & Library Price]]","v":0}]
[null,63,null,"Arts and Humanities","Eye on Art","Anime: Japanese Animation Comes to America","978-1-5345-6102-1","Lucent Press","Library Bound Book",1,"2018","August 2017","Library","7.000 X 9.000","Author","Kenneth L. Bartolotta",null,null,null,null,"Z",null,"Years 12 - 15","Grade 7","Grade 7 - 10","In recent years, anime—a Japanese style of animation—has become extremely popular in Western culture. Although in the West its audience previously consisted mainly of young children, it has increasingly become accepted as an art form that can be appreciated by all ages. Readers discover the controversy that has historically surrounded anime’s status in the West and its fans struggle to promote it as a serious art form. Anime’s leap from Eastern to Western culture is highlighted with full-color photographs and fact-filled sidebars.","English",39.4,31.52,"791.43'340952--dc23","104 pp.",{"$f":"Table1[[#This Row],['# of Books]]*Table1[[#This Row],[QTY]]","v":0},{"$f":"Table1[[#This Row],[QTY]]*Table1[[#This Row],[School & Library Price]]","v":0}]
[null,63,null,"Arts and Humanities","Eye on Art","Computer Animation: Telling Stories with Digital Art","978-1-5345-6098-7","Lucent Press","eBook",1,"2018","August 2017",null,null,"Author","Tanya Dellaccio",null,null,null,null,"Z",null,"Years 12 - 15","Grade 7","Grade 7 - 10","As technology has become more advanced, artists have increasingly been able to use computers to create beautifully lifelike works. Animated movies and video games today are often so detailed that individual strands of hair can be distinguished on characters’ heads. Readers explore the methods animators use to bring images to life and learn about the history of computer animation. Informative sidebars and detailed photographs provide an in-depth look at the effort and care that go into creating a visually stunning storytelling experience.","English",39.4,31.52,"006.6'96'023--dc23","104 pp.",{"$f":"Table1[[#This Row],['# of Books]]*Table1[[#This Row],[QTY]]","v":0},{"$f":"Table1[[#This Row],[QTY]]*Table1[[#This Row],[School & Library Price]]","v":0}]
[null,63,null,"Arts and Humanities","Eye on Art","Graffiti: Vandalism or Art?","978-1-5345-6112-0","Lucent Press","Library Bound Book",1,"2018","August 2017","Library","7.000 X 9.000","Author","Anna Collins",null,null,null,null,"Z",null,"Years 12 - 15","Grade 7","Grade 7 - 10","Debate has long raged over whether graffiti can be considered an art form. Its illegal nature has caused many people to denounce it, while others contend that a work does not have to be legal to be art. The heart of the question is, what defines art? Informative text discusses competing views on the issue, presenting all sides of the debate to help readers form their own opinions. Engaging sidebars spotlight graffiti artists such as the famous Banksy, while eye-catching photographs provide examples of some of the most original graffiti designs.","English",39.4,31.52,"751.7/3--dc23","112 pp.",{"$f":"Table1[[#This Row],['# of Books]]*Table1[[#This Row],[QTY]]","v":0},{"$f":"Table1[[#This Row],[QTY]]*Table1[[#This Row],[School & Library Price]]","v":0}]
[null,63,null,"Arts and Humanities","Eye on Art","Graphic Design: Putting Art and Words Together","978-1-5345-6100-7","Lucent Press","eBook",1,"2018","August 2017",null,null,"Author","Donna Reynolds",null,null,null,null,"Z",null,"Years 12 - 15","Grade 7","Grade 7 - 10","Although graphic design is all around us, we rarely take time to notice and appreciate it. Advertisements, logos, websites, and more all rely on graphic design to create eye-catching content. This volume explores the skills artists need to produce aesthetically pleasing designs and the development of this field into the major industry it is today. Information is included for readers who are interested in pursuing graphic design as a career, and striking photographs display some of the most innovative examples of this prominent medium.","English",39.4,31.52,"740--dc23","112 pp.",{"$f":"Table1[[#This Row],['# of Books]]*Table1[[#This Row],[QTY]]","v":0},{"$f":"Table1[[#This Row],[QTY]]*Table1[[#This Row],[School & Library Price]]","v":0}]
[null,63,null,"Arts and Humanities","Eye on Art","Ancient Egyptian Art and Architecture","978-1-4205-0674-7","Lucent Press","Library Bound Book",1,2012,null,"Library Bound","7.000 X 9.000","Author","Don Nardo",null,null,null,null,null,null,"Years 12 - 15",null,"Grade 7 - 10",null,"English",39.4,31.52,"709","112 pp.",{"$f":"Table1[[#This Row],['# of Books]]*Table1[[#This Row],[QTY]]","v":0},{"$f":"Table1[[#This Row],[QTY]]*Table1[[#This Row],[School & Library Price]]","v":0}]
[null,63,null,"Arts and Humanities","Eye on Art","Art in Glass","978-1-5901-8983-2","Lucent Press","Library Bound Book",1,2007,null,"Library Bound","7.000 X 9.000","Author","Phyllis Raybin Emert",null,null,null,null,null,null,"Years 12 - 15",null,"Grade 7 - 10",null,"English",39.4,31.52,"748","112 pp.",{"$f":"Table1[[#This Row],['# of Books]]*Table1[[#This Row],[QTY]]","v":0},{"$f":"Table1[[#This Row],[QTY]]*Table1[[#This Row],[School & Library Price]]","v":0}]
[null,64,null,"Arts and Humanities","Eye on Art","Frank Lloyd Wright","978-1-4205-0813-0","Lucent Press","Library Bound Book",1,2012,null,"Library Bound","7.000 X 9.000","Author","Don Nardo",null,null,null,null,null,null,"Years 12 - 15",null,"Grade 7 - 10","In this new Eye on Art title, author Don Nardo explores the life and work of American architect Frank Lloyd Wright, who is widely viewed as one of the most innovative and influential architects of the late 1800s and early 1900s. Nardo includes fascinating details of Lloyd’s life, including his childhood in a large family in Wisconsin, his ambition as a young man, his move to Chicago to become a great architect, his vision for a new \"American\" architecture, and his marriages and love affairs. Wright’s work is described in vivid detail and full color images of his homes and buildings help bring the descriptions to life.","English",39.4,31.52,"720","112 pp.",{"$f":"Table1[[#This Row],['# of Books]]*Table1[[#This Row],[QTY]]","v":0},{"$f":"Table1[[#This Row],[QTY]]*Table1[[#This Row],[School & Library Price]]","v":0}]
[null,64,null,"Arts and Humanities","Eye on Art","Leonardo Da Vinci","978-1-4205-0735-5","Lucent Press","Library Bound Book",1,2012,null,"Library Bound","7.000 X 9.000","Author","Don Nardo",null,null,null,null,null,null,"Years 12 - 15",null,"Grade 7 - 10","This biography of Renaissance man Leonardo da Vinci provides details of his personal life along with a close examination of his contributions to the world of fine art.","English",39.4,31.52,"709","112 pp.",{"$f":"Table1[[#This Row],['# of Books]]*Table1[[#This Row],[QTY]]","v":0},{"$f":"Table1[[#This Row],[QTY]]*Table1[[#This Row],[School & Library Price]]","v":0}]
[null,64,null,"Arts and Humanities","Eye on Art","Marc Chagall","978-1-4205-0916-8","Lucent Press","Library Bound Book",1,2015,null,"Library Bound","7.000 X 9.000","Author","Phyllis Raybin Emert",null,null,null,null,null,null,"Years 12 - 15",null,"Grade 7 - 10","This new title in Lucent’s Eye on Art series explores the life and works of Marc Chagall influenced by his Jewish heritage and living through several wars. He is considered a pioneer in modernist twentieth-century painting and maintained a whimsical style in the thousands of art works he produced during his long life.","English",39.4,31.52,"709","120 pp.",{"$f":"Table1[[#This Row],['# of Books]]*Table1[[#This Row],[QTY]]","v":0},{"$f":"Table1[[#This Row],[QTY]]*Table1[[#This Row],[School & Library Price]]","v":0}]
[null,64,null,"Arts and Humanities","Eye on Art","Michelangelo","978-1-4205-0696-9","Lucent Press","Library Bound Book",1,2012,null,"Library Bound","7.000 X 9.000","Author","Phyllis Raybin Emert",null,null,null,null,null,null,"Years 12 - 15",null,"Grade 7 - 10","In this new Eye on Art title, author Phyllis Raybin Emert explores the life and work of Michelangelo Buonarroti. Considered one of the greatest artists of all time, Michelangelo gave the world some of the most magnificent Christian artwork ever created, including his famous painting on the ceiling of the Sistene Chapel and his sculptures David and Pietà. Michelangelo’s works are described in vivid detail and the text includes numerous color photographs of the artist’s work. The author provides interesting personal details about Michelangelo’s life, his friendships, his family, and the political connections that sometimes caused him strife. Finally, Michelangelo’s legacy to the art world is summarized.","English",39.4,31.52,"709","120 pp.",{"$f":"Table1[[#This Row],['# of Books]]*Table1[[#This Row],[QTY]]","v":0},{"$f":"Table1[[#This Row],[QTY]]*Table1[[#This Row],[School & Library Price]]","v":0}]
[null,64,null,"Arts and Humanities","Eye on Art","Postmodern Art","978-1-4205-0075-2","Lucent Press","Library Bound Book",1,2009,null,"Library Bound","7.000 X 9.000","Author","Stuart A. Kallen",null,null,null,null,null,null,"Years 12 - 15",null,"Grade 7 - 10",null,"English",39.4,31.52,"700","112 pp.",{"$f":"Table1[[#This Row],['# of Books]]*Table1[[#This Row],[QTY]]","v":0},{"$f":"Table1[[#This Row],[QTY]]*Table1[[#This Row],[School & Library Price]]","v":0}]
[null,64,null,"Arts and Humanities","Eye on Art","Sculpture","978-1-5901-8966-5","Lucent Press","Library Bound Book",1,2007,null,"Library Bound","7.000 X 9.000","Author","Don Nardo",null,null,null,null,null,null,"Years 12 - 15",null,"Grade 7 - 10",null,"English",39.4,31.52,"730.9","104 pp.",{"$f":"Table1[[#This Row],['# of Books]]*Table1[[#This Row],[QTY]]","v":0},{"$f":"Table1[[#This Row],[QTY]]*Table1[[#This Row],[School & Library Price]]","v":0}]
[null,64,null,"Arts and Humanities","Eye on Art","The Jeweler's Art","978-1-5901-8984-9","Lucent Press","Library Bound Book",1,2007,null,"Library Bound","7.000 X 9.000","Author","Katherine MacFarlane",null,null,null,null,null,null,"Years 12 - 15",null,"Grade 7 - 10",null,"English",39.4,31.52,"739.2709","112 pp.",{"$f":"Table1[[#This Row],['# of Books]]*Table1[[#This Row],[QTY]]","v":0},{"$f":"Table1[[#This Row],[QTY]]*Table1[[#This Row],[School & Library Price]]","v":0}]
[null,65,null,"Biography","People in the News","Elon Musk: Space Entrepreneur","978-1-5345-6035-2","Lucent Press","Library Bound Book",1,2017,"January 2017","Library Bound","6.000 X 9.000","Author","Ryan Nagelhout",null,null,null,null,"Z",null,"Years 12 - 15",null,"Grade 7 - 10","Elon Musk has created plans for many futuristic enterprises, including a high-speed transportation system in California, solar power for private residences, and a human colony on Mars! He aims to change the way we live on Earth as well as make it possible to sustain life on other planets. Readers will learn about this influential figure in today’s economy—including his early life and the projects he has had a hand in—through accessible text and a biographical timeline. Full-color photographs and inspirational quotes from Musk create an engaging reading experience for fans of technology and business.","English",39.4,31.52,null,"104 pp.",{"$f":"Table1[[#This Row],['# of Books]]*Table1[[#This Row],[QTY]]","v":0},{"$f":"Table1[[#This Row],[QTY]]*Table1[[#This Row],[School & Library Price]]","v":0}]
[null,65,null,"Biography","People in the News","Elon Musk: Space Entrepreneur","978-1-5345-6036-9","Lucent Press","eBook",1,2017,"January 2017","eBook",null,"Author","Ryan Nagelhout",null,null,null,null,"Z",null,null,null,"Grade 7 - 10","Elon Musk has created plans for many futuristic enterprises, including a high-speed transportation system in California, solar power for private residences, and a human colony on Mars! He aims to change the way we live on Earth as well as make it possible to sustain life on other planets. Readers will learn about this influential figure in today’s economy—including his early life and the projects he has had a hand in—through accessible text and a biographical timeline. Full-color photographs and inspirational quotes from Musk create an engaging reading experience for fans of technology and business.","English",39.4,31.52,null,"104 pp.",{"$f":"Table1[[#This Row],['# of Books]]*Table1[[#This Row],[QTY]]","v":0},{"$f":"Table1[[#This Row],[QTY]]*Table1[[#This Row],[School & Library Price]]","v":0}]
[null,65,null,"Biography","People in the News","Serena Williams: Tennis Ace","978-1-5345-6028-4","Lucent Press","eBook",1,2017,"January 2017","eBook",null,"Author","Andrew Pina",null,null,null,null,"Z",null,null,null,"Grade 7 - 10","Many people know that Serena Williams has triumphed on the tennis court, challenging racist and sexist attitudes as she rose to the top of her sport. However, it may surprise readers to discover that she is also a humanitarian, an actress, and a fashion icon. With motivational quotes from Williams and a timeline of her milestones thus far, readers will enjoy learning more about this inspiring woman who is more than just a sports star.","English",39.4,31.52,null,"104 pp.",{"$f":"Table1[[#This Row],['# of Books]]*Table1[[#This Row],[QTY]]","v":0},{"$f":"Table1[[#This Row],[QTY]]*Table1[[#This Row],[School & Library Price]]","v":0}]
[null,65,null,"Biography","People in the News","Steve Jobs: Computer Visionary","978-1-5345-6031-4","Lucent Press","Library Bound Book",1,2017,"January 2017","Library Bound","6.000 X 9.000","Author","Sophie Washburne",null,null,null,null,"Z",null,"Years 12 - 15",null,"Grade 7 - 10","Steve Jobs is a controversial figure who is regarded with awe by some and disgust by others, but he inarguably changed the faces of technology and entertainment with his involvement in Apple and Pixar. This volume presents both sides of the debate, citing Jobs’s proponents and detractors, allowing readers to come to their own conclusions about his actions. Detailed sidebars, a fact-filled timeline, and full-color photographs augment the engaging discussion.","English",39.4,31.52,null,"104 pp.",{"$f":"Table1[[#This Row],['# of Books]]*Table1[[#This Row],[QTY]]","v":0},{"$f":"Table1[[#This Row],[QTY]]*Table1[[#This Row],[School & Library Price]]","v":0}]
[null,65,null,"Biography","People in the News","Tina Fey: Queen of Comedy","978-1-5345-6033-8","Lucent Press","Library Bound Book",1,2017,"January 2017","Library Bound","6.000 X 9.000","Author","Melissa Raé Shofner",null,null,null,null,"Z",null,"Years 12 - 15",null,"Grade 7 - 10","Tina Fey, one of the most prominent women in comedy, is well known for her work on shows such as Saturday Night Live and 30 Rock. As a writer and actress, she has changed the way people see female comedians and altered the “boys club” mentality that characterized the working environment of Saturday Night Live. Readers are presented with fascinating details about Fey’s life, from the childhood experiences that inspired Mean Girls to her rise to stardom. This engaging text is enhanced with full-color photographs, detailed sidebars, and a comprehensive timeline.","English",39.4,31.52,null,"104 pp.",{"$f":"Table1[[#This Row],['# of Books]]*Table1[[#This Row],[QTY]]","v":0},{"$f":"Table1[[#This Row],[QTY]]*Table1[[#This Row],[School & Library Price]]","v":0}]
[null,65,null,"Biography","People in the News","Adele","978-1-4205-1111-6","Lucent Press","eBook",1,2013,null,"eBook",null,"Author","Katherine E. Krohn",null,null,null,null,null,null,"Years 12 - 15",null,"Grade 7 - 10","In this latest biography for the People in the News series, author Katherine Krohn traces the life and career of music sensation Adele. Adele’s talent as a singer and songwriter has earned her six Grammys, and she has also won the hearts of fans all over the world. As much as people love Adele’s singing, they also like her sense of humor, thick Cockney accent, and truthful personality. Though she is a pop star, she does not have the typical trappings of one. She does not wear skimpy, outrageous costumes or use high-tech special effects during her concerts. Adele just sings, and her phenomenal voice is as awe-inspiring as any flashy stage show. Though she is famous, she seems grounded and real. For all of these reasons, Adele is one of the most popular and wealthy young singers of her generation.","English",43.34,43.34,"782.421640","104 pp.",{"$f":"Table1[[#This Row],['# of Books]]*Table1[[#This Row],[QTY]]","v":0},{"$f":"Table1[[#This Row],[QTY]]*Table1[[#This Row],[School & Library Price]]","v":0}]
[null,65,null,"Biography","People in the News","Alex Rodriguez","978-1-4205-0648-8","Lucent Press","eBook",1,2011,null,"eBook",null,"Author","Michael V. Uschan",null,null,null,null,null,null,"Years 12 - 15",null,"Grade 7 - 10","This installation of the People in the News series follows the spectacular and often controversial career of baseball player Alex Rodriguez, or A-Rod. Beginning with a brief account of Rodriguez’s difficult childhood and early athletic achievements, the book then focuses on his major league positions with the Seattle Mariners, Texas Rangers, and New York Yankees. It covers his multiple record-breaking seasons as well as the controversies surrounding his steroid use and romantic life.","English",43.34,43.34,"796.357092","104 pp.",{"$f":"Table1[[#This Row],['# of Books]]*Table1[[#This Row],[QTY]]","v":0},{"$f":"Table1[[#This Row],[QTY]]*Table1[[#This Row],[School & Library Price]]","v":0}]
[null,65,null,"Biography","People in the News","Alicia Keys","978-1-4205-0965-6","Lucent Press","eBook",1,2012,null,"eBook",null,"Author","Leanne K. Currie-McGhee",null,null,null,null,null,null,"Years 12 - 15",null,"Grade 7 - 10","This volume of Lucent’s PEOPLE IN THE NEWS series provides a balanced biographical overview of singer/songwriter Alicia Keys. Chapters discuss her childhood and early career, her extremely successful debut album, her subsequent follow-up albums, and the singer’s acting career and charity work.","English",43.34,43.34,"782.421640","96 pp.",{"$f":"Table1[[#This Row],['# of Books]]*Table1[[#This Row],[QTY]]","v":0},{"$f":"Table1[[#This Row],[QTY]]*Table1[[#This Row],[School & Library Price]]","v":0}]
[null,65,null,"Biography","People in the News","Angelina Jolie","978-1-4205-1173-4","Lucent Press","eBook",1,2014,null,"eBook",null,"Author","Bonnie Szumski",null,null,null,null,null,null,"Years 12 - 15",null,"Grade 7 - 10","This title covers the life of actress, director, and philanthropist Angelina Jolie. The book delves into her childhood, her difficulty with her parents’ divorce, and her evolution as an award-winning actress. The title also describes her work as a humanitarian, her family, and her work as a director.","English",43.34,43.34,"B","96 pp.",{"$f":"Table1[[#This Row],['# of Books]]*Table1[[#This Row],[QTY]]","v":0},{"$f":"Table1[[#This Row],[QTY]]*Table1[[#This Row],[School & Library Price]]","v":0}]
[null,65,null,"Biography","People in the News","Anne Hathaway","978-1-4205-0751-5","Lucent Press","Library Bound Book",1,2013,null,"Library Bound","6.000 X 9.000","Author","Cherese Cartlidge",null,null,null,null,null,null,"Years 12 - 15",null,"Grade 7 - 10","This volume of Lucent's PEOPLE IN THE NEWS series provides a balanced biographical overview of the life and career of actress Anne Hathaway.","English",39.4,31.52,"791","104 pp.",{"$f":"Table1[[#This Row],['# of Books]]*Table1[[#This Row],[QTY]]","v":0},{"$f":"Table1[[#This Row],[QTY]]*Table1[[#This Row],[School & Library Price]]","v":0}]
[null,65,null,"Biography","People in the News","Apolo Anton Ohno","978-1-4205-0603-7","Lucent Press","Library Bound Book",1,2011,null,"Library Bound","6.000 X 9.000","Author","Michael V. Uschan",null,null,null,null,null,null,"Years 12 - 15",null,"Grade 7 - 10",null,"English",39.4,31.52,"796","104 pp.",{"$f":"Table1[[#This Row],['# of Books]]*Table1[[#This Row],[QTY]]","v":0},{"$f":"Table1[[#This Row],[QTY]]*Table1[[#This Row],[School & Library Price]]","v":0}]
[null,65,null,"Biography","People in the News","Barack Obama","978-1-4205-0276-3","Lucent Press","eBook",1,2009,null,"eBook",null,"Author","Michael V. Uschan",null,null,null,null,null,null,"Years 12 - 15",null,"Grade 7 - 10",null,"English",43.34,43.34,"973.932092","104 pp.",{"$f":"Table1[[#This Row],['# of Books]]*Table1[[#This Row],[QTY]]","v":0},{"$f":"Table1[[#This Row],[QTY]]*Table1[[#This Row],[School & Library Price]]","v":0}]
[null,65,null,"Biography","People in the News","Beyonce","978-1-4205-0966-3","Lucent Press","eBook",1,2012,null,"eBook",null,"Author","Cherese Cartlidge",null,null,null,null,null,null,"Years 12 - 15",null,"Grade 7 - 10","This volume of Lucent’s PEOPLE IN THE NEWS series provides a balanced biographical overview of singer Beyoncé Knowles. Chapters discuss her childhood and early career, her work in the bestselling girl group Destiny’s Child, her subsequent solo albums, and the singer’s work as an actress and fashion designer.","English",43.34,43.34,"782.421640","112 pp.",{"$f":"Table1[[#This Row],['# of Books]]*Table1[[#This Row],[QTY]]","v":0},{"$f":"Table1[[#This Row],[QTY]]*Table1[[#This Row],[School & Library Price]]","v":0}]
[null,66,null,"Biography","People in the News","Blake Shelton","978-1-4205-1225-0","Lucent Press","Library Bound Book",1,2015,null,"Library Bound","6.000 X 9.000","Author","Adam Woog",null,null,null,null,null,null,"Years 12 - 15",null,"Grade 7 - 10","This new title in Lucent's PEOPLE IN THE NEWS SERIES focuses on the life and work of country singer Blake Shelton. The title details Shelton's childhood, his struggle as a musician, and his rise to international fame.","English",39.4,31.52,"782","104 pp.",{"$f":"Table1[[#This Row],['# of Books]]*Table1[[#This Row],[QTY]]","v":0},{"$f":"Table1[[#This Row],[QTY]]*Table1[[#This Row],[School & Library Price]]","v":0}]
[null,66,null,"Biography","People in the News","Cesar Milan","978-1-4205-0345-6","Lucent Press","eBook",1,2010,null,"eBook",null,"Author","Gail B. Stewart",null,null,null,null,null,null,"Years 12 - 15",null,"Grade 7 - 10","Lucent’s contemporary biography series profiles the lives and careers of some of today’s most prominent newsmakers. Whether covering contributions and achievements or notorious deeds, books in this series examine why these well-known personages garnered public attention.  This title profiles \"Dog Whisperer\" Cesar Milan.","English",43.34,43.34,"636.70092","96 pp.",{"$f":"Table1[[#This Row],['# of Books]]*Table1[[#This Row],[QTY]]","v":0},{"$f":"Table1[[#This Row],[QTY]]*Table1[[#This Row],[School & Library Price]]","v":0}]
[null,66,null,"Biography","People in the News","Cristiano Ronaldo","978-1-4205-1329-5","Lucent Press","eBook",1,2015,null,"eBook",null,"Author","Gail B. Stewart",null,null,null,null,null,null,"Years 12 - 15",null,"Grade 7 - 10",null,"English",43.34,43.34,"796.334092","104 pp.",{"$f":"Table1[[#This Row],['# of Books]]*Table1[[#This Row],[QTY]]","v":0},{"$f":"Table1[[#This Row],[QTY]]*Table1[[#This Row],[School & Library Price]]","v":0}]
[null,66,null,"Biography","People in the News","Dale Earnhardt Jr.","978-1-4205-0088-2","Lucent Press","Library Bound Book",1,2009,null,"Library Bound","6.000 X 9.000","Author","Laurie Collier Hillstrom",null,null,null,null,null,null,"Years 12 - 15",null,"Grade 7 - 10",null,"English",39.4,31.52,"796","104 pp.",{"$f":"Table1[[#This Row],['# of Books]]*Table1[[#This Row],[QTY]]","v":0},{"$f":"Table1[[#This Row],[QTY]]*Table1[[#This Row],[School & Library Price]]","v":0}]
[null,66,null,"Biography","People in the News","Daniel Radcliffe","978-1-4205-0275-6","Lucent Press","eBook",1,2009,null,"eBook",null,"Author","Terri Dougherty",null,null,null,null,null,null,"Years 12 - 15",null,"Grade 7 - 10",null,"English",43.34,43.34,"791.4302","104 pp.",{"$f":"Table1[[#This Row],['# of Books]]*Table1[[#This Row],[QTY]]","v":0},{"$f":"Table1[[#This Row],[QTY]]*Table1[[#This Row],[School & Library Price]]","v":0}]
[null,66,null,"Biography","People in the News","Daniel Radcliffe","978-1-4205-0156-8","Lucent Press","Library Bound Book",1,2009,null,"Library Bound","6.000 X 9.000","Author","Terri Dougherty",null,null,null,null,null,null,"Years 12 - 15",null,"Grade 7 - 10",null,"English",39.4,31.52,"791","104 pp.",{"$f":"Table1[[#This Row],['# of Books]]*Table1[[#This Row],[QTY]]","v":0},{"$f":"Table1[[#This Row],[QTY]]*Table1[[#This Row],[School & Library Price]]","v":0}]
[null,66,null,"Biography","People in the News","David Petraeus","978-1-4205-0677-8","Lucent Press","Library Bound Book",1,2012,null,"Library Bound","6.000 X 9.000","Author","Leanne K. Currie-McGhee",null,null,null,null,null,null,"Years 12 - 15",null,"Grade 7 - 10",null,"English",39.4,31.52,"355","96 pp.",{"$f":"Table1[[#This Row],['# of Books]]*Table1[[#This Row],[QTY]]","v":0},{"$f":"Table1[[#This Row],[QTY]]*Table1[[#This Row],[School & Library Price]]","v":0}]
[null,66,null,"Biography","People in the News","Denzel Washington","978-1-4205-0157-5","Lucent Press","Library Bound Book",1,2010,null,"Library Bound","6.000 X 9.000","Author","Dwayne Epstein",null,null,null,null,null,null,"Years 12 - 15",null,"Grade 7 - 10",null,"English",39.4,31.52,"791","104 pp.",{"$f":"Table1[[#This Row],['# of Books]]*Table1[[#This Row],[QTY]]","v":0},{"$f":"Table1[[#This Row],[QTY]]*Table1[[#This Row],[School & Library Price]]","v":0}]
[null,66,null,"Biography","People in the News","Elena Kagan","978-1-4205-0864-2","Lucent Press","eBook",1,2012,null,"eBook",null,"Author","Viqi Wagner",null,null,null,null,null,null,"Years 12 - 15",null,"Grade 7 - 10","The nomination and appointment of Elena Kagan to the U.S. Supreme Court in 2010 offered few clues to her likely role within the Court. There was no judicial record of previous decisions on controversial issues because Kagan had no judicial experience, making her the only member of the current Court who had never been a judge. There was also very little indication of her personal views because Kagan prefers to keep her private life private. A closer look at Kagan’s life and career, however, reveals a very smart, likeable, hard-working and accomplished woman with a reasoned approach to legal questions and a remarkable ability to bring together people with deeply held, conflicting views -- an especially important skill on the closely-divided Supreme Court.  This book chronicles the life of Elena Kagan, including a number of key events: her childhood, schooling, public service, years as a professor, positions as Dean of Harvard Law School and Solicitor General, appointment to the Supreme Court, her role in important court decisions, and other related topics. Special care is taken to explain the purpose and daily activities of SCOTUS and Kagan’s responsibilities as its newest judge.","English",43.34,43.34,"347.73","104 pp.",{"$f":"Table1[[#This Row],['# of Books]]*Table1[[#This Row],[QTY]]","v":0},{"$f":"Table1[[#This Row],[QTY]]*Table1[[#This Row],[School & Library Price]]","v":0}]
[null,66,null,"Biography","People in the News","Ellen DeGeneres","978-1-4205-0314-2","Lucent Press","eBook",1,2010,null,"eBook",null,"Author","Katie Sharp",null,null,null,null,null,null,"Years 12 - 15",null,"Grade 7 - 10","Ellen DeGeneres is a stand-up comedian, actor, author, and TV host whose daytime talk show won an unprecedented fifteen Emmy Awards just in its first three seasons. She made television history in 1986 as the first female comedian to be invited by Johnny Carson to the famed \"couch\" after her first performance on his show, and in 1997 when she (followed shortly by her sitcom character on Ellen) revealed her homosexuality to Oprah Winfrey on the air. This profile offers insight into Ellen DeGeneres’ life and the career ups and downs that led to her success.","English",43.34,43.34,"792.702809","96 pp.",{"$f":"Table1[[#This Row],['# of Books]]*Table1[[#This Row],[QTY]]","v":0},{"$f":"Table1[[#This Row],[QTY]]*Table1[[#This Row],[School & Library Price]]","v":0}]
[null,66,null,"Biography","People in the News","George Clooney","978-1-4205-1112-3","Lucent Press","eBook",1,2013,null,"eBook",null,"Author","John F. Wukovits",null,null,null,null,null,null,"Years 12 - 15",null,"Grade 7 - 10","This biography provides a up-to-date look at the life of Oscar winning actor George Clooney, including coverage of his childhood, his experiences breaking into acting, and his more recent activities with acting, directing, and producing.","English",43.34,43.34,"791.4302","112 pp.",{"$f":"Table1[[#This Row],['# of Books]]*Table1[[#This Row],[QTY]]","v":0},{"$f":"Table1[[#This Row],[QTY]]*Table1[[#This Row],[School & Library Price]]","v":0}]
[null,66,null,"Biography","People in the News","George Lopez","978-1-4205-0424-8","Lucent Press","Library Bound Book",1,2011,null,"Library Bound","6.000 X 9.000","Author","Terri Dougherty",null,null,null,null,null,null,"Years 12 - 15",null,"Grade 7 - 10",null,"English",39.4,31.52,"792","104 pp.",{"$f":"Table1[[#This Row],['# of Books]]*Table1[[#This Row],[QTY]]","v":0},{"$f":"Table1[[#This Row],[QTY]]*Table1[[#This Row],[School & Library Price]]","v":0}]
[null,66,null,"Biography","People in the News","Glenn Beck","978-1-4205-0779-9","Lucent Press","eBook",1,2011,null,"eBook",null,"Author","Amy Novak",null,null,null,null,null,null,"Years 12 - 15",null,"Grade 7 - 10",null,"English",43.34,43.34,"320.52092","112 pp.",{"$f":"Table1[[#This Row],['# of Books]]*Table1[[#This Row],[QTY]]","v":0},{"$f":"Table1[[#This Row],[QTY]]*Table1[[#This Row],[School & Library Price]]","v":0}]
[null,66,null,"Biography","People in the News","Gwen Stefani","978-1-4205-0197-1","Lucent Press","eBook",1,2009,null,"eBook",null,"Author","Anne K. Brown",null,null,null,null,null,null,"Years 12 - 15",null,"Grade 7 - 10",null,"English",43.34,43.34,"782.421640","104 pp.",{"$f":"Table1[[#This Row],['# of Books]]*Table1[[#This Row],[QTY]]","v":0},{"$f":"Table1[[#This Row],[QTY]]*Table1[[#This Row],[School & Library Price]]","v":0}]
[null,66,null,"Biography","People in the News","Hamid Karzai","978-1-4205-0698-3","Lucent Press","eBook",1,2011,null,"eBook",null,"Author","Viqi Wagner",null,null,null,null,null,null,"Years 12 - 15",null,"Grade 7 - 10",null,"English",43.34,43.34,"958.104","112 pp.",{"$f":"Table1[[#This Row],['# of Books]]*Table1[[#This Row],[QTY]]","v":0},{"$f":"Table1[[#This Row],[QTY]]*Table1[[#This Row],[School & Library Price]]","v":0}]
[null,66,null,"Biography","People in the News","J.J. Abrams","978-1-4205-1250-2","Lucent Press","eBook",1,2015,null,"eBook",null,"Author","Barbara Sheen",null,null,null,null,null,null,"Years 12 - 15",null,"Grade 7 - 10",null,"English",43.34,43.34,"791.4302","104 pp.",{"$f":"Table1[[#This Row],['# of Books]]*Table1[[#This Row],[QTY]]","v":0},{"$f":"Table1[[#This Row],[QTY]]*Table1[[#This Row],[School & Library Price]]","v":0}]
[null,66,null,"Biography","People in the News","James Cameron","978-1-4205-1174-1","Lucent Press","eBook",1,2014,null,"eBook",null,"Author","Jenny Mackay",null,null,null,null,null,null,"Years 12 - 15",null,"Grade 7 - 10","This book covers the life and career of filmmaker and explorer James Cameron. The title examines his early life and career, as well as his making of the successful films Terminator, Titanic, and Avatar. The book also delves into Cameron’s ocean expeditions.","English",43.34,43.34,"791.4302","96 pp.",{"$f":"Table1[[#This Row],['# of Books]]*Table1[[#This Row],[QTY]]","v":0},{"$f":"Table1[[#This Row],[QTY]]*Table1[[#This Row],[School & Library Price]]","v":0}]
[null,66,null,"Biography","People in the News","James Franco","978-1-4205-0754-6","Lucent Press","Library Bound Book",1,2013,null,"Library Bound","6.000 X 9.000","Author","Christie Brewer Boyd",null,null,null,null,null,null,"Years 12 - 15",null,"Grade 7 - 10","This biography profiles that life and work of actor James Franco. Franco got his acting start on the cult, television show Freeks and Geeks and became a Hollywood A-lister when he was cast opposite Tobey McGuire as Spidey's best friend in Spiderman. Yet Franco found himself in the unusual position of not enjoying his status as an A-list actor. Looking around for something more brought him back to college, where he found deep satisfaction and inspiration. In addition to being an actor and a student, he has sought to become a director, an independent filmmaker, a writer, a photographer, and a conceptual artist.","English",39.4,31.52,"791","96 pp.",{"$f":"Table1[[#This Row],['# of Books]]*Table1[[#This Row],[QTY]]","v":0},{"$f":"Table1[[#This Row],[QTY]]*Table1[[#This Row],[School & Library Price]]","v":0}]
[null,66,null,"Biography","People in the News","Jamie Oliver","978-1-4205-0886-4","Lucent Press","Library Bound Book",1,2014,null,"Library Bound","6.000 X 9.000","Author","Stephanie Watson",null,null,null,null,null,null,"Years 12 - 15",null,"Grade 7 - 10","This book covers the life and career of celebrity chef Jamie Oliver. The book traces Oliver's childhood in Essex, England, where he dropped out of school due to dyslexia and went on to culinary school. The title then details Oliver's rise to fame as a television host, author, and activist.","English",39.4,31.52,"641","96 pp.",{"$f":"Table1[[#This Row],['# of Books]]*Table1[[#This Row],[QTY]]","v":0},{"$f":"Table1[[#This Row],[QTY]]*Table1[[#This Row],[School & Library Price]]","v":0}]
[null,66,null,"Biography","People in the News","Jeff Gordon","978-1-4205-0740-9","Lucent Press","eBook",1,2011,null,"eBook",null,"Author","Laurie Collier Hillstrom",null,null,null,null,null,null,"Years 12 - 15",null,"Grade 7 - 10",null,"English",43.34,43.34,"796.72092","96 pp.",{"$f":"Table1[[#This Row],['# of Books]]*Table1[[#This Row],[QTY]]","v":0},{"$f":"Table1[[#This Row],[QTY]]*Table1[[#This Row],[School & Library Price]]","v":0}]
[null,66,null,"Biography","People in the News","Jennifer Aniston","978-1-4205-0235-0","Lucent Press","Library Bound Book",1,2010,null,"Library Bound","6.000 X 9.000","Author","Rachel Lynette",null,null,null,null,null,null,"Years 12 - 15",null,"Grade 7 - 10",null,"English",39.4,31.52,"791","96 pp.",{"$f":"Table1[[#This Row],['# of Books]]*Table1[[#This Row],[QTY]]","v":0},{"$f":"Table1[[#This Row],[QTY]]*Table1[[#This Row],[School & Library Price]]","v":0}]
[null,66,null,"Biography","People in the News","Jennifer Hudson","978-1-4205-0607-5","Lucent Press","Library Bound Book",1,2011,null,"Library Bound","6.000 X 9.000","Author","Cherese Cartlidge",null,null,null,null,null,null,"Years 12 - 15",null,"Grade 7 - 10",null,"English",39.4,31.52,"782","96 pp.",{"$f":"Table1[[#This Row],['# of Books]]*Table1[[#This Row],[QTY]]","v":0},{"$f":"Table1[[#This Row],[QTY]]*Table1[[#This Row],[School & Library Price]]","v":0}]
[null,66,null,"Biography","People in the News","Jennifer Lawrence","978-1-4205-1224-3","Lucent Press","eBook",1,2015,null,"eBook",null,"Author","Gail B. Stewart",null,null,null,null,null,null,"Years 12 - 15",null,"Grade 7 - 10","This new title in Lucent’s PEOPLE IN THE NEWS SERIES focuses on the life and career of Oscar-winning actress Jennifer Lawrence. The title discusses Lawrence’s down-to-earth childhood, her early roles as a young actress.","English",43.34,43.34,"791.4302","112 pp.",{"$f":"Table1[[#This Row],['# of Books]]*Table1[[#This Row],[QTY]]","v":0},{"$f":"Table1[[#This Row],[QTY]]*Table1[[#This Row],[School & Library Price]]","v":0}]
[null,66,null,"Biography","People in the News","Jennifer Lopez","978-1-4205-0755-3","Lucent Press","Library Bound Book",1,2013,null,"Library Bound","6.000 X 9.000","Author","Cherese Cartlidge",null,null,null,null,null,null,"Years 12 - 15",null,"Grade 7 - 10","This book details the life of superstar Jennifer Lopez. Lopez was the first Latin actress to be paid $1 million for a motion picture, and she went on to become the highest-paid Latin actress in Hollywood history -- as well as one of the highest-paid actresses of any ethnicity. In 2012 Lopez received a star on the Hollywood Walk of Fame, often regarded as one of the highest honors an entertainer can receive. Readers will learn about Lopez's childhood in the Bronx, her evolution from talented dancer turned movie actress, then singer, and now American Idol judge.","English",39.4,31.52,"791","112 pp.",{"$f":"Table1[[#This Row],['# of Books]]*Table1[[#This Row],[QTY]]","v":0},{"$f":"Table1[[#This Row],[QTY]]*Table1[[#This Row],[School & Library Price]]","v":0}]
[null,67,null,"Biography","People in the News","Joe Biden","978-1-4205-0346-3","Lucent Press","eBook",1,2010,null,"eBook",null,"Author","Michael V. Uschan",null,null,null,null,null,null,"Years 12 - 15",null,"Grade 7 - 10",null,"English",43.34,43.34,"352.23","104 pp.",{"$f":"Table1[[#This Row],['# of Books]]*Table1[[#This Row],[QTY]]","v":0},{"$f":"Table1[[#This Row],[QTY]]*Table1[[#This Row],[School & Library Price]]","v":0}]
[null,67,null,"Biography","People in the News","Jon Stewart","978-1-4205-0835-2","Lucent Press","eBook",1,2012,null,"eBook",null,"Author","Randy Scherer",null,null,null,null,null,null,"Years 12 - 15",null,"Grade 7 - 10",null,"English",43.34,43.34,"792.702","112 pp.",{"$f":"Table1[[#This Row],['# of Books]]*Table1[[#This Row],[QTY]]","v":0},{"$f":"Table1[[#This Row],[QTY]]*Table1[[#This Row],[School & Library Price]]","v":0}]
[null,67,null,"Biography","People in the News","Justin Bieber","978-1-4205-0756-0","Lucent Press","Library Bound Book",1,2013,null,"Library Bound","6.000 X 9.000","Author","Christine Wilcox",null,null,null,null,null,null,"Years 12 - 15",null,"Grade 7 - 10","In this new biography for the People in the News series, author Christine Wilcox traces the childhood and career of teen idol Justin Bieber and provides special insight on his popularity, powerful fan base, and how his rise to fame changed the music industry.  Bieber is undeniably talented—by the age of twelve, he had taught himself to play four instruments and had performed with a professional jazz band. He sings about idealized, romantic love, a preoccupation of tween and teen girls. He has charisma and star presence but is not so practiced that his \"cool\" seems fake; even after being in the spotlight for three years, Justin can sound a little awkward in an interview. And he has an inspiring story: born into poverty to an unwed teen mother, young Justin had no real aspirations to be famous until a promoter stumbled across a video of him singing in a local talent show.","English",39.4,31.52,"782","96 pp.",{"$f":"Table1[[#This Row],['# of Books]]*Table1[[#This Row],[QTY]]","v":0},{"$f":"Table1[[#This Row],[QTY]]*Table1[[#This Row],[School & Library Price]]","v":0}]
[null,67,null,"Biography","People in the News","Kanye West","978-1-4205-0285-5","Lucent Press","eBook",1,2010,null,"eBook",null,"Author","Barbara Sheen",null,null,null,null,null,null,"Years 12 - 15",null,"Grade 7 - 10",null,"English",43.34,43.34,"782.421649","96 pp.",{"$f":"Table1[[#This Row],['# of Books]]*Table1[[#This Row],[QTY]]","v":0},{"$f":"Table1[[#This Row],[QTY]]*Table1[[#This Row],[School & Library Price]]","v":0}]
[null,67,null,"Biography","People in the News","Katy Perry","978-1-4205-0609-9","Lucent Press","Library Bound Book",1,2011,null,"Library Bound","6.000 X 9.000","Author","Anne K. Brown",null,null,null,null,null,null,"Years 12 - 15",null,"Grade 7 - 10",null,"English",39.4,31.52,"782","112 pp.",{"$f":"Table1[[#This Row],['# of Books]]*Table1[[#This Row],[QTY]]","v":0},{"$f":"Table1[[#This Row],[QTY]]*Table1[[#This Row],[School & Library Price]]","v":0}]
[null,67,null,"Biography","People in the News","Kelly Clarkson","978-1-4205-0013-4","Lucent Press","Library Bound Book",1,2008,null,"Library Bound","6.000 X 9.000","Author","Laurie Collier Hillstrom",null,null,null,null,null,null,"Years 12 - 15",null,"Grade 7 - 10",null,"English",39.4,31.52,"782","104 pp.",{"$f":"Table1[[#This Row],['# of Books]]*Table1[[#This Row],[QTY]]","v":0},{"$f":"Table1[[#This Row],[QTY]]*Table1[[#This Row],[School & Library Price]]","v":0}]
[null,67,null,"Biography","People in the News","Kim Jong II","978-1-4205-0194-0","Lucent Press","eBook",1,2009,null,"eBook",null,"Author","Sheila Wyborny",null,null,null,null,null,null,"Years 12 - 15",null,"Grade 7 - 10",null,"English",43.34,43.34,"951.930430","104 pp.",{"$f":"Table1[[#This Row],['# of Books]]*Table1[[#This Row],[QTY]]","v":0},{"$f":"Table1[[#This Row],[QTY]]*Table1[[#This Row],[School & Library Price]]","v":0}]
[null,67,null,"Biography","People in the News","Lady Gaga","978-1-4205-0700-3","Lucent Press","eBook",1,2011,null,"eBook",null,"Author","Claire Kreger Boaz",null,null,null,null,null,null,"Years 12 - 15",null,"Grade 7 - 10",null,"English",43.34,43.34,"782.421640","104 pp.",{"$f":"Table1[[#This Row],['# of Books]]*Table1[[#This Row],[QTY]]","v":0},{"$f":"Table1[[#This Row],[QTY]]*Table1[[#This Row],[School & Library Price]]","v":0}]
[null,67,null,"Biography","People in the News","Leonardo DiCaprio","978-1-4205-0427-9","Lucent Press","Library Bound Book",1,2011,null,"Library Bound","6.000 X 9.000","Author","Cherese Cartlidge",null,null,null,null,null,null,"Years 12 - 15",null,"Grade 7 - 10",null,"English",39.4,31.52,"792","96 pp.",{"$f":"Table1[[#This Row],['# of Books]]*Table1[[#This Row],[QTY]]","v":0},{"$f":"Table1[[#This Row],[QTY]]*Table1[[#This Row],[School & Library Price]]","v":0}]
[null,67,null,"Biography","People in the News","Mark Zuckerberg","978-1-4205-1115-4","Lucent Press","eBook",1,2013,null,"eBook",null,"Author","Mary E. Williams",null,null,null,null,null,null,"Years 12 - 15",null,"Grade 7 - 10","This biography provides a balanced look at the life and career of Facebook creator Mark Zuckerberg. Zuckerberg, currently the wealthiest person on the planet under the age of thirty, says that never set out to run a company and become immensely wealthy. He maintains that he simply loves writing computer code and making technological tools that help people learn, share, and connect more with each other. However, not everyone agrees that Zuckerberg simply wants to build bridges between people. Former colleagues accused him of stealing the idea for Facebook from their social network. Privacy advocates questioned Zuckerberg’s motives when Facebook began tracking users’ web-surfing habits, sharing that information with advertisers. Moreover, a popular 2010 movie depicting the founding of Facebook painted Zuckerberg as an envious nerd driven by the need to prove himself to the cool crowd. Despite the media buzz and extraordinary wealth, Zuckerberg lives a fairly modest life. In many ways Zuckerberg himself is a study in contrasts: a billionaire who lives frugally, a dropout who donates to educational causes, a hacker aiming to set new rules, and a private person who wants to make the world a more open place.","English",43.34,43.34,"302.302850","104 pp.",{"$f":"Table1[[#This Row],['# of Books]]*Table1[[#This Row],[QTY]]","v":0},{"$f":"Table1[[#This Row],[QTY]]*Table1[[#This Row],[School & Library Price]]","v":0}]
[null,67,null,"Biography","People in the News","Michael Phelps","978-1-4205-0545-0","Lucent Press","eBook",1,2010,null,"eBook",null,"Author","Barbara Sheen",null,null,null,null,null,null,"Years 12 - 15",null,"Grade 7 - 10",null,"English",43.34,43.34,"797.2","96 pp.",{"$f":"Table1[[#This Row],['# of Books]]*Table1[[#This Row],[QTY]]","v":0},{"$f":"Table1[[#This Row],[QTY]]*Table1[[#This Row],[School & Library Price]]","v":0}]
[null,67,null,"Biography","People in the News","Michelle Obama","978-1-4205-0209-1","Lucent Press","Library Bound Book",1,2010,null,"Library Bound","6.000 X 9.000","Author","Michael V. Uschan",null,null,null,null,null,null,"Years 12 - 15",null,"Grade 7 - 10",null,"English",39.4,31.52,"973","112 pp.",{"$f":"Table1[[#This Row],['# of Books]]*Table1[[#This Row],[QTY]]","v":0},{"$f":"Table1[[#This Row],[QTY]]*Table1[[#This Row],[School & Library Price]]","v":0}]
[null,67,null,"Biography","People in the News","Michelle Wie","978-1-4205-0798-0","Lucent Press","eBook",1,2011,null,"eBook",null,"Author","Lauri S. Scherer",null,null,null,null,null,null,"Years 12 - 15",null,"Grade 7 - 10",null,"English",43.34,43.34,"796.352092","104 pp.",{"$f":"Table1[[#This Row],['# of Books]]*Table1[[#This Row],[QTY]]","v":0},{"$f":"Table1[[#This Row],[QTY]]*Table1[[#This Row],[School & Library Price]]","v":0}]
[null,67,null,"Biography","People in the News","Miley Cyrus","978-1-4205-0198-8","Lucent Press","eBook",1,2009,null,"eBook",null,"Author","Leanne K. Currie-McGhee",null,null,null,null,null,null,"Years 12 - 15",null,"Grade 7 - 10",null,"English",43.34,43.34,"782.421640","96 pp.",{"$f":"Table1[[#This Row],['# of Books]]*Table1[[#This Row],[QTY]]","v":0},{"$f":"Table1[[#This Row],[QTY]]*Table1[[#This Row],[School & Library Price]]","v":0}]
[null,67,null,"Biography","People in the News","Muammar Qaddafi","978-1-4205-0759-1","Lucent Press","Library Bound Book",1,2013,null,"Library Bound","6.000 X 9.000","Author","Sheila Wyborny",null,null,null,null,null,null,"Years 12 - 15",null,"Grade 7 - 10","This book covers the life and political actions of Muammar Qaddafi, the former dictator of Libya (1969-2011). Qaddafi was one of the most famous, and famously bizarre, political leaders of the modern age. Throughout 2011, he was frequently in the news during the uprising of the Libyan people against his dictatorship. This book discusses Qaddafi's quest for power and influence in world politics, his desire to earn a place in history as a great man, as well as his aptitude for reinventing himself again and again. Particular attention is given to explaining the impact that Qaddafi's political experiments had on the people of Libya. Readers will learn about Qaddafi's childhood, rise to power, and merciless downfall as well as some of Libya's cultural and political history.","English",39.4,31.52,"961","112 pp.",{"$f":"Table1[[#This Row],['# of Books]]*Table1[[#This Row],[QTY]]","v":0},{"$f":"Table1[[#This Row],[QTY]]*Table1[[#This Row],[School & Library Price]]","v":0}]
[null,67,null,"Biography","People in the News","Neil Patrick Harris","978-1-4205-0878-9","Lucent Press","eBook",1,2012,null,"eBook",null,"Author","Cherese Cartlidge",null,null,null,null,null,null,"Years 12 - 15",null,"Grade 7 - 10","Former teen idol Neil Patrick Harris can be described as something of a Renaissance man -- someone who is intelligent and accomplished in a variety of areas, and can act, sing, dance, play music, and perform live. Harris’s career has spanned more than twenty years. During that time, he has gone from playing the baby-faced do-gooder Doogie Howser in the late 1980s and early 1990s to playing the phenomenal cad Barney Stinson today. He has found enormous popularity in both of these roles. Neil Patrick Harris is widely admired not just for his many talents, but also for his openness and honesty about his own life and his willingness to be open and frank about his homosexuality. This has made him a role model to others who have struggled with their own sexual identity. Above all, Harris’s ability to integrate his identity and skills into his many projects has made him one of Hollywood’s most versatile stars.","English",43.34,43.34,"792.02","104 pp.",{"$f":"Table1[[#This Row],['# of Books]]*Table1[[#This Row],[QTY]]","v":0},{"$f":"Table1[[#This Row],[QTY]]*Table1[[#This Row],[School & Library Price]]","v":0}]
[null,67,null,"Biography","People in the News","Nicki Minaj","978-1-4205-1118-5","Lucent Press","eBook",1,2013,null,"eBook",null,"Author","Christie Brewer Boyd",null,null,null,null,null,null,"Years 12 - 15",null,"Grade 7 - 10","This book covers the life and career of rapper Nicki Minaj. Minaj is a slew of personalities and musical styles crammed into a small package. On the one hand she is a foul-mouthed, fast-spitting rapper prone to switching accents and dropping creative, funny lyrics. On the other hand, she is a megawatt pop star, topping the mainstream charts with danceable songs. By being a female emcee with street credibility and an artist with an image and crossover sound that appeals to all of America, Minaj has opened doors that have been closed to other leading ladies of hip-hop. She has charted successes not only on the rap and hip-hop charts, where her songs are constantly found, but also on the charts measuring the most popular among all songs.","English",43.34,43.34,"782.42164","96 pp.",{"$f":"Table1[[#This Row],['# of Books]]*Table1[[#This Row],[QTY]]","v":0},{"$f":"Table1[[#This Row],[QTY]]*Table1[[#This Row],[School & Library Price]]","v":0}]
[null,67,null,"Biography","People in the News","Oscar Pistorius","978-1-4205-1176-5","Lucent Press","eBook",1,2014,null,"eBook",null,"Author","Christine Wilcox",null,null,null,null,null,null,"Years 12 - 15",null,"Grade 7 - 10","This book covers the life and career of South African sprinter and Olympian Oscar Pistorius. Born with a rare deformity, it details his life as an infant undergoing lower leg amputation and his upbringing and involvement in sports. The book also digs into the controversy surrounding the death of his girlfriend, some say by Pistorius’s own hand.","English",43.34,43.34,"796.42092","104 pp.",{"$f":"Table1[[#This Row],['# of Books]]*Table1[[#This Row],[QTY]]","v":0},{"$f":"Table1[[#This Row],[QTY]]*Table1[[#This Row],[School & Library Price]]","v":0}]
[null,67,null,"Biography","People in the News","Pope Benedict XVI","978-1-4205-0093-6","Lucent Press","Library Bound Book",1,2009,null,"Library Bound","6.000 X 9.000","Author","Barbara Sheen",null,null,null,null,null,null,"Years 12 - 15",null,"Grade 7 - 10",null,"English",39.4,31.52,"282","104 pp.",{"$f":"Table1[[#This Row],['# of Books]]*Table1[[#This Row],[QTY]]","v":0},{"$f":"Table1[[#This Row],[QTY]]*Table1[[#This Row],[School & Library Price]]","v":0}]
[null,67,null,"Biography","People in the News","Prince Harry","978-1-4205-0760-7","Lucent Press","Library Bound Book",1,2013,null,"Library Bound","6.000 X 9.000","Author","Cherese Cartlidge",null,null,null,null,null,null,"Years 12 - 15",null,"Grade 7 - 10","This biography provides a balanced look at the life of Prince Harry including coverage of his turbulent teen years and his growing into a mature, responsible, but fun-loving representative of Britain's royal family.","English",39.4,31.52,"941","104 pp.",{"$f":"Table1[[#This Row],['# of Books]]*Table1[[#This Row],[QTY]]","v":0},{"$f":"Table1[[#This Row],[QTY]]*Table1[[#This Row],[School & Library Price]]","v":0}]
[null,67,null,"Biography","People in the News","Prince William and Duchess Kate","978-1-4205-1238-0","Lucent Press","eBook",1,2015,null,"eBook",null,"Author","Jenny Mackay",null,null,null,null,null,null,"Years 12 - 15",null,"Grade 7 - 10","This PEOPLE IN THE NEWS title focuses on the life of Prince William and Duchess Kate. The book begins by delving into both Will and Kate's childhoods. It then moves into their college years where they met and became a couple and eventually engaged. ","English",43.34,43.34,"941.086","104 pp.",{"$f":"Table1[[#This Row],['# of Books]]*Table1[[#This Row],[QTY]]","v":0},{"$f":"Table1[[#This Row],[QTY]]*Table1[[#This Row],[School & Library Price]]","v":0}]
[null,67,null,"Biography","People in the News","Robert Downey Jr.","978-1-4205-0664-8","Lucent Press","eBook",1,2011,null,"eBook",null,"Author","Laurie Collier Hillstrom",null,null,null,null,null,null,"Years 12 - 15",null,"Grade 7 - 10",null,"English",43.34,43.34,"791.430","96 pp.",{"$f":"Table1[[#This Row],['# of Books]]*Table1[[#This Row],[QTY]]","v":0},{"$f":"Table1[[#This Row],[QTY]]*Table1[[#This Row],[School & Library Price]]","v":0}]
[null,67,null,"Biography","People in the News","Robert Downey Jr.","978-1-4205-0569-6","Lucent Press","Library Bound Book",1,2011,null,"Library Bound","6.000 X 9.000","Author","Laurie Collier Hillstrom",null,null,null,null,null,null,"Years 12 - 15",null,"Grade 7 - 10",null,"English",39.4,31.52,"791","96 pp.",{"$f":"Table1[[#This Row],['# of Books]]*Table1[[#This Row],[QTY]]","v":0},{"$f":"Table1[[#This Row],[QTY]]*Table1[[#This Row],[School & Library Price]]","v":0}]
[null,67,null,"Biography","People in the News","Roger Federer","978-1-4205-0611-2","Lucent Press","Library Bound Book",1,2012,null,"Library Bound","6.000 X 9.000","Author","Anne K. Brown",null,null,null,null,null,null,"Years 12 - 15",null,"Grade 7 - 10","Admired for his perfect form, style, and finesse, tennis star Roger Federer has been ranked as the number one player in the world, and is arguably the greatest player in the history of tennis. He holds the record for the most wins in Grand Slam tournaments and has spent the most consecutive weeks as the number-one ranked player in professional tennis. This volume charts Federer's rise to fame from his early start as an impulsive, but talented, youth to the tournament wins that established him as a world-class athlete. The author also explains how Federer earned a reputation as a fair player, a polite and considerate sports hero, a humanitarian, and true gentleman both on and off the tennis court.","English",39.4,31.52,"796","112 pp.",{"$f":"Table1[[#This Row],['# of Books]]*Table1[[#This Row],[QTY]]","v":0},{"$f":"Table1[[#This Row],[QTY]]*Table1[[#This Row],[School & Library Price]]","v":0}]
[null,68,null,"Biography","People in the News","Ryan Gosling","978-1-4205-0890-1","Lucent Press","Library Bound Book",1,2014,null,"Library Bound","6.000 X 9.000","Author","Cherese Cartlidge",null,null,null,null,null,null,"Years 12 - 15",null,"Grade 7 - 10","This book covers the life and career of celebrity Ryan Gosling; from his start on The New Mickey Mouse Club to his starring role in the film Gangster Squad. The book traces Gosling's childhood in Canada to his rise as a Hollywood leading man. It also talks about how Gosling transitioned from actor, to producer, director, and social activist.","English",39.4,31.52,"791","96 pp.",{"$f":"Table1[[#This Row],['# of Books]]*Table1[[#This Row],[QTY]]","v":0},{"$f":"Table1[[#This Row],[QTY]]*Table1[[#This Row],[School & Library Price]]","v":0}]
[null,68,null,"Biography","People in the News","Sandra Bullock","978-1-4205-0428-6","Lucent Press","Library Bound Book",1,2011,null,"Library Bound","6.000 X 9.000","Author","Sandy Gage Algra",null,null,null,null,null,null,"Years 12 - 15",null,"Grade 7 - 10",null,"English",39.4,31.52,"792","96 pp.",{"$f":"Table1[[#This Row],['# of Books]]*Table1[[#This Row],[QTY]]","v":0},{"$f":"Table1[[#This Row],[QTY]]*Table1[[#This Row],[School & Library Price]]","v":0}]
[null,68,null,"Biography","People in the News","Sean Combs","978-1-4205-0237-4","Lucent Press","Library Bound Book",1,2010,null,"Library Bound","6.000 X 9.000","Author","Susan M. Traugh",null,null,null,null,null,null,"Years 12 - 15",null,"Grade 7 - 10",null,"English",39.4,31.52,"782","104 pp.",{"$f":"Table1[[#This Row],['# of Books]]*Table1[[#This Row],[QTY]]","v":0},{"$f":"Table1[[#This Row],[QTY]]*Table1[[#This Row],[School & Library Price]]","v":0}]
[null,68,null,"Biography","People in the News","Selena Gomez","978-1-4205-1213-7","Lucent Press","Library Bound Book",1,2015,null,"Library Bound","6.000 X 9.000","Author","Michael V. Uschan",null,null,null,null,null,null,"Years 12 - 15",null,"Grade 7 - 10","This new title in Lucent's PEOPLE IN THE NEWS SERIES discusses the life and career of Selena Gomez. It details her difficult childhood as the only child of a single mother, becoming a Disney star, and her evolution into an international celebrity.","English",39.4,31.52,"791","104 pp.",{"$f":"Table1[[#This Row],['# of Books]]*Table1[[#This Row],[QTY]]","v":0},{"$f":"Table1[[#This Row],[QTY]]*Table1[[#This Row],[School & Library Price]]","v":0}]
[null,68,null,"Biography","People in the News","Seth Rogen","978-1-4205-0838-3","Lucent Press","eBook",1,2012,null,"eBook",null,"Author","Andy Koopmans",null,null,null,null,null,null,"Years 12 - 15",null,"Grade 7 - 10","At twenty-nine years old, Canadian-born Rogen has an accomplished sixteen-year career that outpaces many twice his age, with more than thirty-five acting credits, four produced screenplays, more than a dozen short film and TV show scripts, and seven producing credits Rogen is anything but the slacker character he has played in his most popular, and often R-rated films. The author addresses the more controversial aspects of Rogen’s movies and explains how the content and comedic style of these productions have sometimes put Rogen at the center of battles over censorship and ratings, as well as stirred controversy among critics, the media, and parental watch groups.","English",43.34,43.34,"792.702","104 pp.",{"$f":"Table1[[#This Row],['# of Books]]*Table1[[#This Row],[QTY]]","v":0},{"$f":"Table1[[#This Row],[QTY]]*Table1[[#This Row],[School & Library Price]]","v":0}]
[null,68,null,"Biography","People in the News","Shaun White","978-1-4205-0891-8","Lucent Press","Library Bound Book",1,2013,null,"Library Bound","6.000 X 9.000","Author","Christine Wilcox",null,null,null,null,null,null,"Years 12 - 15",null,"Grade 7 - 10","This new addition to Lucent's PEOPLE IN THE NEWS series provides a biographical overview of the life of two-time Olympic gold medalist snowboarder, Shaun White.","English",39.4,31.52,"796","104 pp.",{"$f":"Table1[[#This Row],['# of Books]]*Table1[[#This Row],[QTY]]","v":0},{"$f":"Table1[[#This Row],[QTY]]*Table1[[#This Row],[School & Library Price]]","v":0}]
[null,68,null,"Biography","People in the News","Spike Lee","978-1-4205-0626-6","Lucent Press","eBook",1,2011,null,"eBook",null,"Author","Laurie Lanzen Harris",null,null,null,null,null,null,"Years 12 - 15",null,"Grade 7 - 10","Lucent’s contemporary biography series profiles the lives and careers of some of today’s most prominent newsmakers. Whether covering contributions and achievements or notorious deeds, books in this series examine why these well-known personages garnered public attention. This biography profiles Spike Lee.","English",43.34,43.34,"791.430","104 pp.",{"$f":"Table1[[#This Row],['# of Books]]*Table1[[#This Row],[QTY]]","v":0},{"$f":"Table1[[#This Row],[QTY]]*Table1[[#This Row],[School & Library Price]]","v":0}]
[null,68,null,"Biography","People in the News","Stephen Colbert","978-1-4205-0617-4","Lucent Press","Library Bound Book",1,2012,null,"Library Bound","6.000 X 9.000","Author","Bonnie Szumski",null,null,null,null,null,null,"Years 12 - 15",null,"Grade 7 - 10","Lucent's new addition to their PEOPLE IN THE NEWS series is a biography of the life and career of comedian Stephen Colbert. On his television show The Colbert Report, Colbert plays the nation's fool. By good-naturedly mocking (and exposing the hypocrisy of) the mainstream media, politicians, and others, he makes pointed commentary on how those in power attempt to both manipulate and win the trust of the American public. The popularity of his show and his character has proven that Americans love and need their fool. His accolades have been serious and prestigious: Colbert has been named one of Time magazine's 100 Most Influential People for three years, from 2006 - 2008. He has also received Emmy awards, Peabody awards, and an honorary doctorate degree from Knox College. Special attention is paid to explaining the philosophy behind Colbert's show, reasons for his popularity, and examples of his cultural influence.","English",39.4,31.52,"791","104 pp.",{"$f":"Table1[[#This Row],['# of Books]]*Table1[[#This Row],[QTY]]","v":0},{"$f":"Table1[[#This Row],[QTY]]*Table1[[#This Row],[School & Library Price]]","v":0}]
[null,68,null,"Biography","People in the News","Suzanne Collins","978-1-4205-0969-4","Lucent Press","eBook",1,2012,null,"eBook",null,"Author","Elizabeth Hoover",null,null,null,null,null,null,"Years 12 - 15",null,"Grade 7 - 10","Writer Suzanne Collins was forty-six when she published The Hunger Games, a novel for young adults set in a dark future where North America has been obliterated by war and climate change. The residents of Collins’s dystopia are forced to send their children to fight to the death in a sadistic game created by the government. The book wrestles with meaty themes: the effect of war, the dangers of voyeurism in popular culture, and how governments use hunger and threats of violence to control populations. This new edition in Lucent’s PEOPLE IN THE NEWS series details Collins’s life before The Hunger Games - the first eighteen years of her writing career in television, and her well-received children’s book series called The Underland Chronicles - as well as the phenomenal and unexpected success of the Hunger Games series. So far 8.2 million copies of Collins’s Hunger Games books have sold and, after the release of a movie in 2012, sales figures are only expected to climb.","English",43.34,43.34,"813.6","104 pp.",{"$f":"Table1[[#This Row],['# of Books]]*Table1[[#This Row],[QTY]]","v":0},{"$f":"Table1[[#This Row],[QTY]]*Table1[[#This Row],[School & Library Price]]","v":0}]
[null,68,null,"Biography","People in the News","The Creators and Cast of Glee","978-1-4205-0970-0","Lucent Press","eBook",1,2012,null,"eBook",null,"Author","Carla Mooney",null,null,null,null,null,null,"Years 12 - 15",null,"Grade 7 - 10","This PEOPLE IN THE NEWS title provides a biographical overview of the creators and the stars of the hit TV show Glee. PEOPLE IN THE NEWS profiles the lives and careers of some of today’s most prominent newsmakers. Whether covering contributions and achievements or notorious deeds, books in this series examine why these well-known individuals garnered public attention.","English",43.34,43.34,"791.4502","104 pp.",{"$f":"Table1[[#This Row],['# of Books]]*Table1[[#This Row],[QTY]]","v":0},{"$f":"Table1[[#This Row],[QTY]]*Table1[[#This Row],[School & Library Price]]","v":0}]
[null,68,null,"Biography","People in the News","Tim Tebow","978-1-4205-0893-2","Lucent Press","Library Bound Book",1,2013,null,"Library Bound","6.000 X 9.000","Author","Jenny Mackay",null,null,null,null,null,null,"Years 12 - 15",null,"Grade 7 - 10","This addition to Lucent's PEOPLE IN THE NEWS series profiles the life and career of professional football player Tim Tebow.","English",39.4,31.52,"796","96 pp.",{"$f":"Table1[[#This Row],['# of Books]]*Table1[[#This Row],[QTY]]","v":0},{"$f":"Table1[[#This Row],[QTY]]*Table1[[#This Row],[School & Library Price]]","v":0}]
[null,68,null,"Biography","People in the News","Tyra Banks","978-1-4205-0315-9","Lucent Press","eBook",1,2010,null,"eBook",null,"Author","Terri Dougherty",null,null,null,null,null,null,"Years 12 - 15",null,"Grade 7 - 10",null,"English",43.34,43.34,"746.92092","112 pp.",{"$f":"Table1[[#This Row],['# of Books]]*Table1[[#This Row],[QTY]]","v":0},{"$f":"Table1[[#This Row],[QTY]]*Table1[[#This Row],[School & Library Price]]","v":0}]
[null,68,null,"Biography","People in the News","Tyra Banks","978-1-4205-0161-2","Lucent Press","Library Bound Book",1,2010,null,"Library Bound","6.000 X 9.000","Author","Terri Dougherty",null,null,null,null,null,null,"Years 12 - 15",null,"Grade 7 - 10",null,"English",39.4,31.52,"746","112 pp.",{"$f":"Table1[[#This Row],['# of Books]]*Table1[[#This Row],[QTY]]","v":0},{"$f":"Table1[[#This Row],[QTY]]*Table1[[#This Row],[School & Library Price]]","v":0}]
[null,68,null,"Biography","People in the News","Walter Dean Myers","978-1-4205-1177-2","Lucent Press","eBook",1,2014,null,"eBook",null,"Author","Elizabeth Hoover",null,null,null,null,null,null,"Years 12 - 15",null,"Grade 7 - 10","This title covers the life of children’s and young adult author Walter Dean Myers. The book spans Myers’ troubled childhood in Harlem, through his rise as an editor at a publishing house, and finally delves into his work as an author. The title shows how Myers overcame racism and learning disabilities to make an award-winning author.","English",43.34,43.34,"813.54","96 pp.",{"$f":"Table1[[#This Row],['# of Books]]*Table1[[#This Row],[QTY]]","v":0},{"$f":"Table1[[#This Row],[QTY]]*Table1[[#This Row],[School & Library Price]]","v":0}]
[null,68,null,"Biography","People in the News","Will Smith","978-1-4205-0130-8","Lucent Press","Library Bound Book",1,2009,null,"Library Bound","6.000 X 9.000","Author","Michael V. Uschan",null,null,null,null,null,null,"Years 12 - 15",null,"Grade 7 - 10",null,"English",39.4,31.52,"791","104 pp.",{"$f":"Table1[[#This Row],['# of Books]]*Table1[[#This Row],[QTY]]","v":0},{"$f":"Table1[[#This Row],[QTY]]*Table1[[#This Row],[School & Library Price]]","v":0}]
[null,69,null,"Current Issues","Hot Topics (Jan '18 Set)","Hot Topics (Jan '18 Set)","978-1-5345-6265-3","Lucent Press","eBook Set",6,2018,"January 2018",null,null," "," ",null,null,null,null,null,null,"Years 12 - 15","Grade 7","Grade 7 - 10","Complex topics such as abortion, media bias, and the death penalty are often debated and discussed in short segments on the news or angry comment threads on the Internet. This method of presenting important issues that impact society as a whole does not allow people to understand different perspectives and gather all the facts. What is needed is a comprehensive approach to controversial issues, which is what readers find when they explore these carefully chosen topics, which are presented through fact-filled text, diligently researched sidebars, annotated quotes, helpful charts and graphs, and full-color photographs.\r\nFeatures include: Balanced, informative text encourages readers to think critically and independently about important issues in the world around them. Discussion questions are included to foster open communication and deeper thinking about each issue. Detailed text provides essential information on topics readers might hear or read about without being given a clear picture of what they mean and why they are important, including fake news and rape culture.","English",236.4,189.12,null,"104 pp.",{"$f":"Table1[[#This Row],['# of Books]]*Table1[[#This Row],[QTY]]","v":0},{"$f":"Table1[[#This Row],[QTY]]*Table1[[#This Row],[School & Library Price]]","v":0}]
[null,69,null,"Current Issues","Hot Topics","Abortion: A Continuing Debate","978-1-5345-6198-4","Lucent Press","eBook",1,2018,"January 2018",null,null,"Author","Meghan Green",null,null,null,null,"Z",null,"Years 12 - 15","Grade 7","Grade 7 - 10","Should abortion be legal? How late in a pregnancy should a woman be allowed to have an abortion? What impact would outlawing abortion have on women, especially those who live in poverty? Readers learn about these and other abortion concerns; all sides of the debate are discussed to help them form their own opinions. Informative charts and in-depth sidebars highlight important facts about this controversial topic, and a list of discussion questions is included to give them a starting point for further debate and guided thinking about this complex issue.","English",39.4,31.52,null,"104 pp.",{"$f":"Table1[[#This Row],['# of Books]]*Table1[[#This Row],[QTY]]","v":0},{"$f":"Table1[[#This Row],[QTY]]*Table1[[#This Row],[School & Library Price]]","v":0}]
[null,69,null,"Current Issues","Hot Topics","Child Abuse: Tragedy and Trauma","978-1-5345-6204-2","Lucent Press","eBook",1,2018,"January 2018",null,null,"Author","Allison Krumsiek",null,null,null,null,"Z",null,"Years 12 - 15","Grade 7","Grade 7 - 10","Child abuse does not always leave visible marks; sometimes the abuse is emotional or sexual. Often, a child is abused in more than one way. Although abuse is never the victim’s fault, they may feel too guilty or ashamed to tell anyone about it. Therefore, it is important for others to recognize the signs. Through informative text, full-color photographs, discussion questions, and detailed infographics, this volume teaches young adults what abuse looks like and how to get help for themselves or for others if they recognize signs of an abusive situation.","English",39.4,31.52,null,"104 pp.",{"$f":"Table1[[#This Row],['# of Books]]*Table1[[#This Row],[QTY]]","v":0},{"$f":"Table1[[#This Row],[QTY]]*Table1[[#This Row],[School & Library Price]]","v":0}]
[null,69,null,"Current Issues","Hot Topics","Fake News and Media Bias","978-1-5345-6199-1","Lucent Press","Library Bound Book",1,2018,"January 2018","Library","7.000 X 9.000","Author","Lucian Vance",null,null,null,null,"Z",null,"Years 12 - 15","Grade 7","Grade 7 - 10","Although news outlets are meant to be impartial, they have never been perfectly unbiased. Another layer was added to the ongoing debate over the role of news media after the 2016 U.S. presidential election, when allegations of fake news surfaced. How can people know which news sources to trust? This volume explores the fake news phenomenon and offers readers tips on how to be critical of what they see reported. Full-color photographs, engaging sidebars, and discussion questions enhance the compelling text as it explores this crucial aspect of a democratic society.","English",39.4,31.52,null,"112 pp.",{"$f":"Table1[[#This Row],['# of Books]]*Table1[[#This Row],[QTY]]","v":0},{"$f":"Table1[[#This Row],[QTY]]*Table1[[#This Row],[School & Library Price]]","v":0}]
[null,69,null,"Current Issues","Hot Topics","The Death Penalty: Just Punishment or Cruel Practice?","978-1-5345-6205-9","Lucent Press","Library Bound Book",1,2018,"January 2018","Library","7.000 X 9.000","Author","Allison Krumsiek",null,null,null,null,"Z",null,"Years 12 - 15","Grade 7","Grade 7 - 10","When a violent crime is committed, some people believe the only fair punishment is for the perpetrator to be put to death. Others feel that this practice is inhumane and that no one should be deliberately killed, regardless of what he or she may have done. This volume examines the history of the death penalty, the ways it is administered, and the arguments for and against it. Chapter questions encourage discussion among readers, and detailed charts and compelling sidebars enhance readers’ understanding of this hotly debated topic.","English",39.4,31.52,null,"104 pp.",{"$f":"Table1[[#This Row],['# of Books]]*Table1[[#This Row],[QTY]]","v":0},{"$f":"Table1[[#This Row],[QTY]]*Table1[[#This Row],[School & Library Price]]","v":0}]
[null,69,null,"Current Issues","Hot Topics","The Death Penalty: Just Punishment or Cruel Practice?","978-1-5345-6206-6","Lucent Press","eBook",1,2018,"January 2018",null,null,"Author","Allison Krumsiek",null,null,null,null,"Z",null,"Years 12 - 15","Grade 7","Grade 7 - 10","When a violent crime is committed, some people believe the only fair punishment is for the perpetrator to be put to death. Others feel that this practice is inhumane and that no one should be deliberately killed, regardless of what he or she may have done. This volume examines the history of the death penalty, the ways it is administered, and the arguments for and against it. Chapter questions encourage discussion among readers, and detailed charts and compelling sidebars enhance readers’ understanding of this hotly debated topic.","English",39.4,31.52,null,"104 pp.",{"$f":"Table1[[#This Row],['# of Books]]*Table1[[#This Row],[QTY]]","v":0},{"$f":"Table1[[#This Row],[QTY]]*Table1[[#This Row],[School & Library Price]]","v":0}]
[null,69,null,"Current Issues","Hot Topics","Civil Liberties: The Fight for Personal Freedom","978-1-5345-6146-5","Lucent Press","eBook",1,"2018","August 2017",null,null,"Author","Allison Krumsiek",null,null,null,null,"Z",null,"Years 12 - 15","Grade 7","Grade 7 - 10","Although the civil liberties of American citizens are protected under the Constitution, these rights are often violated by both individuals and the government, and obtaining justice can be a difficult process. Students, in particular, struggle for their legal rights; many people incorrectly assume that these rights can be dictated by school authorities. Through enlightening infographics, sidebars, discussion questions, and quote boxes featuring comments by experts, this volume explores the rights all Americans are entitled to and the fight to protect those rights.","English",39.4,31.52,"342.7308'5--dc23","112 pp.",{"$f":"Table1[[#This Row],['# of Books]]*Table1[[#This Row],[QTY]]","v":0},{"$f":"Table1[[#This Row],[QTY]]*Table1[[#This Row],[School & Library Price]]","v":0}]
[null,69,null,"Current Issues","Hot Topics","Cyber Mobs: Destructive Online Communities","978-1-5345-6153-3","Lucent Press","Library Bound Book",1,"2018","August 2017","Library","7.000 X 9.000","Author","Allison Krumsiek",null,null,null,null,"Z",null,"Years 12 - 15","Grade 7","Grade 7 - 10","The Internet has made it easier than ever for people to connect, but their interactions are not always friendly. Any perceived fault can cause someone to be attacked by a cyber mob—a group of people intent on humiliating someone online. Relatable text addresses this relatively new phenomenon, giving readers information about the rise of cyber mobs, the social and psychological effects on their victims, and ways to combat them. Engaging sidebars provide examples of cyber mob attacks, and a list of resources is provided for anyone who may be experiencing online bullying.","English",39.4,31.52,"302.34'302854678--dc23","104 pp.",{"$f":"Table1[[#This Row],['# of Books]]*Table1[[#This Row],[QTY]]","v":0},{"$f":"Table1[[#This Row],[QTY]]*Table1[[#This Row],[School & Library Price]]","v":0}]
[null,69,null,"Current Issues","Hot Topics","Immigration Issues in America","978-1-5345-6151-9","Lucent Press","Library Bound Book",1,"2018","August 2017","Library","7.000 X 9.000","Author","Michelle Denton",null,null,null,null,"Z",null,"Years 12 - 15","Grade 7","Grade 7 - 10","Every wave of immigrants entering the United States has faced prejudice. As each group gradually assimilates into the dominant culture, it becomes easy to forget the anger that was previously directed at them. People always believe that the next group of immigrants poses a more severe threat than the ones that came before them, but readers discover that these fears often prove to be unfounded. Detailed infographics and full-color photographs supplement the informative text’s analysis of the history of immigration, its economic implications, and what immigration policies should be implemented in the future.","English",39.4,31.52,"343.7308'2--dc23","112 pp.",{"$f":"Table1[[#This Row],['# of Books]]*Table1[[#This Row],[QTY]]","v":0},{"$f":"Table1[[#This Row],[QTY]]*Table1[[#This Row],[School & Library Price]]","v":0}]
[null,69,null,"Current Issues","Hot Topics","Obesity: An American Epidemic","978-1-5345-6147-2","Lucent Press","Library Bound Book",1,"2018","August 2017","Library","7.000 X 9.000","Author","Emily Mahoney",null,null,null,null,"Z",null,"Years 12 - 15","Grade 7","Grade 7 - 10","Due to economic factors, larger portion sizes in restaurants, and sedentary lifestyles caused by an increase in our use of technology, obesity rates have risen steadily in the last decade. This, in turn, has created a multimillion-dollar diet industry that often preys on people’s desire to lose weight quickly and easily. Through full-color photographs and engaging sidebars, readers will learn about the complex causes of obesity, as well as ways to live a healthier lifestyle. What can be done to reverse this trend? Discussion questions such as this one are waiting for readers to debate.","English",39.4,31.52,"616.3'98--dc23","104 pp.",{"$f":"Table1[[#This Row],['# of Books]]*Table1[[#This Row],[QTY]]","v":0},{"$f":"Table1[[#This Row],[QTY]]*Table1[[#This Row],[School & Library Price]]","v":0}]
[null,69,null,"Current Issues","Hot Topics (Jan '17 Set)","Hot Topics (Jan '17 Set)","978-1-5345-6065-9","Lucent Press","Library Set",6,2017,"January 2017","Library Bound","7.000 X 9.000"," "," ",null,null,null,null,null,null,"Years 12 - 15",null,"Grade 7 - 10","The relevance of hot topics such as racism, poverty, and gangs makes this series an appealing source that is accessible for student research. Each title provides a thorough, balanced presentation of the many issues surrounding the topic to foster critical thinking skills. Meaning is fleshed out through a clear presentation of context, and the narrative offers compelling examples and pertinent quotes from age-appropriate sources.","English",236.4,189.12,null,"104-120 pp.",{"$f":"Table1[[#This Row],['# of Books]]*Table1[[#This Row],[QTY]]","v":0},{"$f":"Table1[[#This Row],[QTY]]*Table1[[#This Row],[School & Library Price]]","v":0}]
[null,69,null,"Current Issues","Hot Topics","Body Image and Body Shaming","978-1-5345-6013-0","Lucent Press","eBook",1,2017,"January 2017","eBook",null,"Author","Meghan Green",null,null,null,null,"Z",null,null,null,"Grade 7 - 10","Puberty is a critical time for young adults in forming a positive self-image. They are constantly bombarded with images and comments regarding ideal body types from the media, friends, and family. Through charts and full-color photographs, readers gain information about the subjectivity of beauty standards and the importance of being healthy regardless of body type. The material engages readers and allows them to think critically about the stereotypes they are subjected to. A list of websites is included to offer them assistance in dealing with the pressure of conforming to expectations.","English",39.4,31.52,null,"112 pp.",{"$f":"Table1[[#This Row],['# of Books]]*Table1[[#This Row],[QTY]]","v":0},{"$f":"Table1[[#This Row],[QTY]]*Table1[[#This Row],[School & Library Price]]","v":0}]
[null,69,null,"Current Issues","Hot Topics","Dealing with Teen Pregnancy","978-1-5345-6020-8","Lucent Press","eBook",1,2017,"January 2017","eBook",null,"Author","Emily Mahoney",null,null,null,null,"Z",null,null,null,"Grade 7 - 10","How big of a concern is teen pregnancy in today’s society? What options do teens have once they get pregnant? This controversial issue is examined in depth, presenting young adults with information from all sides of the debate. Graphs and full-color photographs highlight the discussion of the underlying social factors that are the root causes of teen pregnancy to make readers better informed about these issues. A list of websites gives pregnant teens resources to turn to for support and advice.","English",39.4,31.52,null,"112 pp.",{"$f":"Table1[[#This Row],['# of Books]]*Table1[[#This Row],[QTY]]","v":0},{"$f":"Table1[[#This Row],[QTY]]*Table1[[#This Row],[School & Library Price]]","v":0}]
[null,69,null,"Current Issues","Hot Topics","Eating Disorders: When Food Is an Obsession","978-1-5345-6014-7","Lucent Press","Library Bound Book",1,2017,"January 2017","Library Bound","7.000 X 9.000","Author","Kristen Rajczak Nelson",null,null,null,null,"Z",null,"Years 12 - 15",null,"Grade 7 - 10","Eating disorders are mental illnesses that have dangerous physical consequences. Young adults are most at risk for developing these disorders. This volume aims to educate readers about the causes and effects of disorders such as anorexia, bulimia, and compulsive eating. Fact boxes highlight the stories of celebrities who struggle with these issues, and full-color photographs show the unglamorous reality of living with an eating disorder. Websites are provided to promote healthy lifestyles as well as give help to readers who are already battling these serious conditions.","English",39.4,31.52,null,"112 pp.",{"$f":"Table1[[#This Row],['# of Books]]*Table1[[#This Row],[QTY]]","v":0},{"$f":"Table1[[#This Row],[QTY]]*Table1[[#This Row],[School & Library Price]]","v":0}]
[null,69,null,"Current Issues","Hot Topics","Gender Identity: The Search for Self","978-1-5345-6024-6","Lucent Press","eBook",1,2017,"January 2017","eBook",null,"Author","Kate Light",null,null,null,null,"Z",null,null,null,"Grade 7 - 10","As acceptance for the LGBT community grows, our society is coming to understand that many gender identities are not binary. Young adulthood is a critical time for exploring and coming to terms with gender identity. Readers learn about non-binary identities and the issues the community still faces despite the progress that has been made in the 21st century. Fact boxes highlight transgender and non-binary role models in the media, and contact information for LGBT organizations is provided. This volume is an important resource for young adults of all genders and their allied friends and family.","English",39.4,31.52,null,"104 pp.",{"$f":"Table1[[#This Row],['# of Books]]*Table1[[#This Row],[QTY]]","v":0},{"$f":"Table1[[#This Row],[QTY]]*Table1[[#This Row],[School & Library Price]]","v":0}]
[null,69,null,"Current Issues","Hot Topics","Social Networking: Staying Safe in the Online World","978-1-5345-6021-5","Lucent Press","Library Bound Book",1,2017,"January 2017","Library Bound","7.000 X 9.000","Author","Jennifer Lombardo",null,null,null,null,"Z",null,"Years 12 - 15",null,"Grade 7 - 10","Social networking has become an integral part of our lives in this modern society. Nearly every young adult has one or more types of social accounts, making it imperative to inform them about the best ways to protect themselves and their private information. Discussions about online predators and the rights students have on the Internet are highlighted by fact boxes, and a list of dialogue questions encourages conversations among young adults about how to be proactive in protecting themselves online.","English",39.4,31.52,null,"120 pp.",{"$f":"Table1[[#This Row],['# of Books]]*Table1[[#This Row],[QTY]]","v":0},{"$f":"Table1[[#This Row],[QTY]]*Table1[[#This Row],[School & Library Price]]","v":0}]
[null,69,null,"Current Issues","Hot Topics","Abortion","978-1-4205-0189-6","Lucent Press","eBook",1,2009,null,"eBook",null,"Author","Wendy Lanier",null,null,null,null,null,null,"Years 12 - 15",null,"Grade 7 - 10",null,"English",43.34,43.34,"363.46","104 pp.",{"$f":"Table1[[#This Row],['# of Books]]*Table1[[#This Row],[QTY]]","v":0},{"$f":"Table1[[#This Row],[QTY]]*Table1[[#This Row],[School & Library Price]]","v":0}]
[null,69,null,"Current Issues","Hot Topics","Bias in the Media","978-1-4205-0356-2","Lucent Press","eBook",1,2010,null,"eBook",null,"Author","Hal Marcovitz",null,null,null,null,null,null,"Years 12 - 15",null,"Grade 7 - 10",null,"English",43.34,43.34,"302.230973","112 pp.",{"$f":"Table1[[#This Row],['# of Books]]*Table1[[#This Row],[QTY]]","v":0},{"$f":"Table1[[#This Row],[QTY]]*Table1[[#This Row],[School & Library Price]]","v":0}]
[null,69,null,"Current Issues","Hot Topics","Biological Warfare","978-1-5901-8775-3","Lucent Press","Library Bound Book",1,2007,null,"Library Bound","7.000 X 9.000","Author","Don Nardo",null,null,null,null,null,null,"Years 12 - 15",null,"Grade 7 - 10",null,"English",39.4,31.52,"358","104 pp.",{"$f":"Table1[[#This Row],['# of Books]]*Table1[[#This Row],[QTY]]","v":0},{"$f":"Table1[[#This Row],[QTY]]*Table1[[#This Row],[School & Library Price]]","v":0}]
[null,69,null,"Current Issues","Hot Topics","Bullying","978-1-4205-1098-0","Lucent Press","eBook",1,2013,null,"eBook",null,"Author","Jenny Mackay",null,null,null,null,null,null,"Years 12 - 15",null,"Grade 7 - 10","This title in the Hot Topic series explores the complex issue of Bullying. During the past two decades, bullying has become a frequent media topic. Recent high-profile cases that resulted in tragic ends have galvanized parents, educators, and public policy leaders to further investigate bullying and lessen its hold on social institutions throughout America. This book explores the characteristics of those who bully and why, those who often fall victim to such abuse and why, the causes of bullying, the physical and psychological impact of bullying, and how bullying can be prevented.","English",43.34,43.34,"302.34","112 pp.",{"$f":"Table1[[#This Row],['# of Books]]*Table1[[#This Row],[QTY]]","v":0},{"$f":"Table1[[#This Row],[QTY]]*Table1[[#This Row],[School & Library Price]]","v":0}]
[null,70,null,"Current Issues","Hot Topics","Cliques","978-1-4205-0557-3","Lucent Press","eBook",1,2011,null,"eBook",null,"Author","Toney Allman",null,null,null,null,null,null,"Years 12 - 15",null,"Grade 7 - 10","This title in the Hot Topic series explores the complex issue of cliques. The Hot Topics series adds depth to student analysis of the most current issues of the day. Each title provides thorough and balanced information on an important political, social, cultural, or moral topic. Visually appealing presentations and compelling examples provide context and inspire critical thought about issues that affect students, their peers, and their community.","English",43.34,43.34,"303.3","112 pp.",{"$f":"Table1[[#This Row],['# of Books]]*Table1[[#This Row],[QTY]]","v":0},{"$f":"Table1[[#This Row],[QTY]]*Table1[[#This Row],[School & Library Price]]","v":0}]
[null,70,null,"Current Issues","Hot Topics","Death Penalty","978-1-4205-0048-6","Lucent Press","Library Bound Book",1,2009,null,"Library Bound","7.000 X 9.000","Author","Syd Golston",null,null,null,null,null,null,"Years 12 - 15",null,"Grade 7 - 10",null,"English",39.4,31.52,"364","104 pp.",{"$f":"Table1[[#This Row],['# of Books]]*Table1[[#This Row],[QTY]]","v":0},{"$f":"Table1[[#This Row],[QTY]]*Table1[[#This Row],[School & Library Price]]","v":0}]
[null,70,null,"Current Issues","Hot Topics","Distracted Driving","978-1-4205-1233-5","Lucent Press","Library Bound Book",1,2015,null,"Library Bound","7.000 X 9.000","Author","Toney Allman",null,null,null,null,null,null,"Years 12 - 15",null,"Grade 7 - 10","This new title in Lucent's HOT TOPIC SERIES focuses on the issue of distracted driving. The book describes exactly what distracted driving is and how to prevent it. The title provides several anecdotes describing various distracted driving behavior.","English",39.4,31.52,"363","104 pp.",{"$f":"Table1[[#This Row],['# of Books]]*Table1[[#This Row],[QTY]]","v":0},{"$f":"Table1[[#This Row],[QTY]]*Table1[[#This Row],[School & Library Price]]","v":0}]
[null,70,null,"Current Issues","Hot Topics","Drug Abuse","978-1-4205-0081-3","Lucent Press","Library Bound Book",1,2008,null,"Library Bound","7.000 X 9.000","Author","Hal Marcovitz",null,null,null,null,null,null,"Years 12 - 15",null,"Grade 7 - 10",null,"English",39.4,31.52,"362","112 pp.",{"$f":"Table1[[#This Row],['# of Books]]*Table1[[#This Row],[QTY]]","v":0},{"$f":"Table1[[#This Row],[QTY]]*Table1[[#This Row],[School & Library Price]]","v":0}]
[null,70,null,"Current Issues","Hot Topics","Energy","978-1-4205-0357-9","Lucent Press","eBook",1,2010,null,"eBook",null,"Author","Diane Marczely Gimpel",null,null,null,null,null,null,"Years 12 - 15",null,"Grade 7 - 10","This volume explores the issues of energy use, policy, and possible new sources. Chapters address the current status of the world’s energy use and the role of governments in addressing energy concerns; the impact of voluntary conservation and the transition to energy efficient technology; the current use of alternative energy sources; and the future of energy from where we stand.","English",43.34,43.34,"333.79","112 pp.",{"$f":"Table1[[#This Row],['# of Books]]*Table1[[#This Row],[QTY]]","v":0},{"$f":"Table1[[#This Row],[QTY]]*Table1[[#This Row],[School & Library Price]]","v":0}]
[null,70,null,"Current Issues","Hot Topics","Fracking","978-1-4205-1099-7","Lucent Press","eBook",1,2013,null,"eBook",null,"Author","Kevin Hillstrom",null,null,null,null,null,null,"Years 12 - 15",null,"Grade 7 - 10","This title in the HOT TOPICS series explains what Fracking is, how the process works, and describes benefits and the drawbacks of this new energy technology. Provides thorough and balanced information on an important political, social, cultural, or moral topic. Visually appealing presentations and compelling examples provide context and inspire critical thought about issues that affect students, their peers, and their community.","English",43.34,43.34,"622.3381","96 pp.",{"$f":"Table1[[#This Row],['# of Books]]*Table1[[#This Row],[QTY]]","v":0},{"$f":"Table1[[#This Row],[QTY]]*Table1[[#This Row],[School & Library Price]]","v":0}]
[null,70,null,"Current Issues","Hot Topics","Gangs","978-1-4205-0600-6","Lucent Press","eBook",1,2011,null,"eBook",null,"Author","Jenny Mackay",null,null,null,null,null,null,"Years 12 - 15",null,"Grade 7 - 10","This title in the Hot Topic series explores the complex issue of gangs. The Hot Topics series adds depth to student analysis of the most current issues of the day. Each title provides thorough and balanced information on an important political, social, cultural, or moral topic. Visually appealing presentations and compelling examples provide context and inspire critical thought about issues that affect students, their peers, and their community.","English",43.34,43.34,"364.1","112 pp.",{"$f":"Table1[[#This Row],['# of Books]]*Table1[[#This Row],[QTY]]","v":0},{"$f":"Table1[[#This Row],[QTY]]*Table1[[#This Row],[School & Library Price]]","v":0}]
[null,70,null,"Current Issues","Hot Topics","Garbage and Recycling","978-1-4205-0288-6","Lucent Press","eBook",1,2010,null,"eBook",null,"Author","Debra A. Miller",null,null,null,null,null,null,"Years 12 - 15",null,"Grade 7 - 10",null,"English",43.34,43.34,"363.728","112 pp.",{"$f":"Table1[[#This Row],['# of Books]]*Table1[[#This Row],[QTY]]","v":0},{"$f":"Table1[[#This Row],[QTY]]*Table1[[#This Row],[School & Library Price]]","v":0}]
[null,70,null,"Current Issues","Hot Topics","Gay Rights","978-1-4205-0256-5","Lucent Press","eBook",1,2006,null,"eBook",null,"Author","Tina Kafka",null,null,null,null,null,null,"Years 12 - 15",null,"Grade 7 - 10",null,"English",43.34,43.34,"323.326409","104 pp.",{"$f":"Table1[[#This Row],['# of Books]]*Table1[[#This Row],[QTY]]","v":0},{"$f":"Table1[[#This Row],[QTY]]*Table1[[#This Row],[School & Library Price]]","v":0}]
[null,70,null,"Current Issues","Hot Topics","Genetic Engineering","978-1-4205-0148-3","Lucent Press","Library Bound Book",1,2009,null,"Library Bound","7.000 X 9.000","Author","Tina Kafka",null,null,null,null,null,null,"Years 12 - 15",null,"Grade 7 - 10",null,"English",39.4,31.52,"174","112 pp.",{"$f":"Table1[[#This Row],['# of Books]]*Table1[[#This Row],[QTY]]","v":0},{"$f":"Table1[[#This Row],[QTY]]*Table1[[#This Row],[School & Library Price]]","v":0}]
[null,70,null,"Current Issues","Hot Topics","Gun Control","978-1-4205-0815-4","Lucent Press","Library Bound Book",1,2013,null,"Library Bound","7.000 X 9.000","Author","Jenny Mackay",null,null,null,null,null,null,"Years 12 - 15",null,"Grade 7 - 10","This book explores one of the most contested issues in American government and society today, that is, how much regulation the government should place on possession and use of firearms. Individual chapters will cover the history of gun control in the United States, the spectrum of opinions on firearms regulation, the meaning of the Second Amendment, arguments in favor of and those against tighter gun control, and various types of legislation being considered.","English",39.4,31.52,"363","112 pp.",{"$f":"Table1[[#This Row],['# of Books]]*Table1[[#This Row],[QTY]]","v":0},{"$f":"Table1[[#This Row],[QTY]]*Table1[[#This Row],[School & Library Price]]","v":0}]
[null,70,null,"Current Issues","Hot Topics","Health Care","978-1-4205-0568-9","Lucent Press","Library Bound Book",1,2011,null,"Library Bound","7.000 X 9.000","Author","Debra A. Miller",null,null,null,null,null,null,"Years 12 - 15",null,"Grade 7 - 10",null,"English",39.4,31.52,"362","112 pp.",{"$f":"Table1[[#This Row],['# of Books]]*Table1[[#This Row],[QTY]]","v":0},{"$f":"Table1[[#This Row],[QTY]]*Table1[[#This Row],[School & Library Price]]","v":0}]
[null,70,null,"Current Issues","Hot Topics","Hoarding","978-1-4205-0960-1","Lucent Press","eBook",1,2012,null,"eBook",null,"Author","Jenny Mackay",null,null,null,null,null,null,"Years 12 - 15",null,"Grade 7 - 10","This book offers a clear, comprehensive, and balanced discussion of the issue of hoarding. Compulsive hoarding afflicts a surprising number of people in America -- perhaps 3 to 5 percent or more of the population. In recent decades, the scientific community has taken an interest in what drives people to hoard. Hoarding has been called a mental illness with similarities to obsessive compulsive disorder, but hoarding behavior is notoriously difficult to understand, even by mental health professionals who specialize in studying it.  This title covers the psychological elements of compulsive hoarding, but also addresses the legal implications of hoarding and examines how a hoarding lifestyle affects those afflicted with this behavioral pattern. Media coverage of hoarding and the development of reality television shows devoted to the controversial subject are also explored.","English",43.34,43.34,"616.85","112 pp.",{"$f":"Table1[[#This Row],['# of Books]]*Table1[[#This Row],[QTY]]","v":0},{"$f":"Table1[[#This Row],[QTY]]*Table1[[#This Row],[School & Library Price]]","v":0}]
[null,70,null,"Current Issues","Hot Topics","Medical Marijuana","978-1-4205-1255-7","Lucent Press","eBook",1,2014,null,"eBook",null,"Author","Kevin Hillstrom",null,null,null,null,null,null,"Years 12 - 15",null,"Grade 7 - 10",null,"English",43.34,43.34,"615.7","104 pp.",{"$f":"Table1[[#This Row],['# of Books]]*Table1[[#This Row],[QTY]]","v":0},{"$f":"Table1[[#This Row],[QTY]]*Table1[[#This Row],[School & Library Price]]","v":0}]
[null,70,null,"Current Issues","Hot Topics","Natural Disaster Response","978-1-4205-0873-4","Lucent Press","Library Bound Book",1,2015,null,"Library Bound","7.000 X 9.000","Author","Kevin Hillstrom",null,null,null,null,null,null,"Years 12 - 15",null,"Grade 7 - 10","This book will cover global natural disasters that have occurred over the last twenty years. Not only will it provide some background on the disaster, but it will provide what actions were taken as a result of the disaster and whether those actions improved.","English",39.4,31.52,"363","104 pp.",{"$f":"Table1[[#This Row],['# of Books]]*Table1[[#This Row],[QTY]]","v":0},{"$f":"Table1[[#This Row],[QTY]]*Table1[[#This Row],[School & Library Price]]","v":0}]
[null,70,null,"Current Issues","Hot Topics","Nuclear Energy","978-1-4205-1164-2","Lucent Press","eBook",1,2014,null,"eBook",null,"Author","Kevin Hillstrom",null,null,null,null,null,null,"Years 12 - 15",null,"Grade 7 - 10","This title in Lucent’s HOT TOPICS series provides an introduction to the use of nuclear energy as a power source. It takes a broad view of nuclear power in the world’s energy future; it describes how nuclear power was discovered and how it works; the benefits of using nuclear energy, especially as an alternative to fossil fuels, and the drawbacks such as the problems of nuclear waste. It also looks at accidents at nuclear power plants and weighs the safety concerns. Finally, the book also looks at the latest developments in nuclear power and how these might affect future decisions about its use in the world. Provides thorough and balanced information on an important political, social, cultural, or moral topic. Visually appealing presentations and compelling examples provide context and inspire critical thought about issues that affect students, their peers, and their community.","English",43.34,43.34,"333.792","96 pp.",{"$f":"Table1[[#This Row],['# of Books]]*Table1[[#This Row],[QTY]]","v":0},{"$f":"Table1[[#This Row],[QTY]]*Table1[[#This Row],[School & Library Price]]","v":0}]
[null,70,null,"Current Issues","Hot Topics","Oil Spills","978-1-4205-0788-1","Lucent Press","eBook",1,2011,null,"eBook",null,"Author","Don Nardo",null,null,null,null,null,null,"Years 12 - 15",null,"Grade 7 - 10",null,"English",43.34,43.34,"363.738","112 pp.",{"$f":"Table1[[#This Row],['# of Books]]*Table1[[#This Row],[QTY]]","v":0},{"$f":"Table1[[#This Row],[QTY]]*Table1[[#This Row],[School & Library Price]]","v":0}]
[null,70,null,"Current Issues","Hot Topics","Organ Transplants","978-1-4205-0816-1","Lucent Press","Library Bound Book",1,2012,null,"Library Bound","7.000 X 9.000","Author","Melissa Abramovitz",null,null,null,null,null,null,"Years 12 - 15",null,"Grade 7 - 10","This book offers a clear, comprehensive, and balanced discussion of the issues surrounding organ and tissue transplants. Reports of transplant successes have increased the demand for such procedures and, as a result, organ shortages have followed. As transplants have become more common, controversies over who should receive an organ and possible methods of increasing the organ supply have arisen. Additional concerns over life and death decisions, the use of stem cells to repair or replace diseased body parts, the ethics of using cloning to make custom cells and organs, and the potential abuse of transplant technology have made transplants a hotly-debated issue with political, religious, and moral implications. Experts agree that transplants are one of the most promising fields in modern medicine, but new scientific and ethical dilemmas surface regularly as medical science continues to develop new lifesaving and life-enhancing technologies.","English",39.4,31.52,"617","128 pp.",{"$f":"Table1[[#This Row],['# of Books]]*Table1[[#This Row],[QTY]]","v":0},{"$f":"Table1[[#This Row],[QTY]]*Table1[[#This Row],[School & Library Price]]","v":0}]
[null,70,null,"Current Issues","Hot Topics","Pandemics","978-1-4205-0258-9","Lucent Press","eBook",1,2007,null,"eBook",null,"Author","Debra A. Miller",null,null,null,null,null,null,"Years 12 - 15",null,"Grade 7 - 10",null,"English",43.34,43.34,"614.4","104 pp.",{"$f":"Table1[[#This Row],['# of Books]]*Table1[[#This Row],[QTY]]","v":0},{"$f":"Table1[[#This Row],[QTY]]*Table1[[#This Row],[School & Library Price]]","v":0}]
[null,70,null,"Current Issues","Hot Topics","Poverty","978-1-4205-0544-3","Lucent Press","eBook",1,2010,null,"eBook",null,"Author","Tina Kafka",null,null,null,null,null,null,"Years 12 - 15",null,"Grade 7 - 10",null,"English",43.34,43.34,"339.4","112 pp.",{"$f":"Table1[[#This Row],['# of Books]]*Table1[[#This Row],[QTY]]","v":0},{"$f":"Table1[[#This Row],[QTY]]*Table1[[#This Row],[School & Library Price]]","v":0}]
[null,70,null,"Current Issues","Hot Topics","Sports Violence","978-1-4205-0786-7","Lucent Press","eBook",1,2011,null,"eBook",null,"Author","Anne Wallace Sharp",null,null,null,null,null,null,"Years 12 - 15",null,"Grade 7 - 10",null,"English",43.34,43.34,"796","112 pp.",{"$f":"Table1[[#This Row],['# of Books]]*Table1[[#This Row],[QTY]]","v":0},{"$f":"Table1[[#This Row],[QTY]]*Table1[[#This Row],[School & Library Price]]","v":0}]
[null,70,null,"Current Issues","Hot Topics","Stem Cells","978-1-4205-0748-5","Lucent Press","Library Bound Book",1,2012,null,"Library Bound","7.000 X 9.000","Author","Melissa Abramovitz",null,null,null,null,null,null,"Years 12 - 15",null,"Grade 7 - 10","This book offers a clear, comprehensive, and balanced discussion of the issues surrounding stem cell research. Abramovitz expertly explains the often complex science that underlies regenerative medicine. While this branch of science has promised to yield cures for deadly diseases, debates about the ethics and morality of cloning techniques and the use of stem cells from embryos, as well as questions about whom should have the power to make scientific and ethical decisions in the face of rapidly-progressing technology remain robust.","English",39.4,31.52,"616.02","128 pp.",{"$f":"Table1[[#This Row],['# of Books]]*Table1[[#This Row],[QTY]]","v":0},{"$f":"Table1[[#This Row],[QTY]]*Table1[[#This Row],[School & Library Price]]","v":0}]
[null,70,null,"Current Issues","Hot Topics","Student's Rights","978-1-5901-8860-6","Lucent Press","Library Bound Book",1,2007,null,"Library Bound","7.000 X 9.000","Author","Kate Burns",null,null,null,null,null,null,"Years 12 - 15",null,"Grade 7 - 10",null,"English",39.4,31.52,"379.2","104 pp.",{"$f":"Table1[[#This Row],['# of Books]]*Table1[[#This Row],[QTY]]","v":0},{"$f":"Table1[[#This Row],[QTY]]*Table1[[#This Row],[School & Library Price]]","v":0}]
[null,70,null,"Current Issues","Hot Topics","Teens and Alcohol","978-1-4205-0749-2","Lucent Press","Library Bound Book",1,2012,null,"Library Bound","7.000 X 9.000","Author","Michael V. Uschan",null,null,null,null,null,null,"Years 12 - 15",null,"Grade 7 - 10","This new edition in the HOT TOPICS series offers a clear, comprehensive, and balanced discussion of the issue of teens drinking alcohol. The text talks about the reasons teens drink, the history of drinking age laws, the emergence of hosting laws and punishment of parents who supply alcohol to their teenage children, and other methods being used to prevent underage drinking. The problematic drinking culture among underage college students and the prevalence and dangers of binge drinking are also included. The text also describes the particular dangers of drinking for teenagers and how alcohol affects the teenage brain.","English",39.4,31.52,"362.292","112 pp.",{"$f":"Table1[[#This Row],['# of Books]]*Table1[[#This Row],[QTY]]","v":0},{"$f":"Table1[[#This Row],[QTY]]*Table1[[#This Row],[School & Library Price]]","v":0}]
[null,70,null,"Current Issues","Hot Topics","Terrorism","978-1-4205-0243-5","Lucent Press","eBook",1,2008,null,"eBook",null,"Author","Debra A. Miller",null,null,null,null,null,null,"Years 12 - 15",null,"Grade 7 - 10",null,"English",43.34,43.34,"363.325097","112 pp.",{"$f":"Table1[[#This Row],['# of Books]]*Table1[[#This Row],[QTY]]","v":0},{"$f":"Table1[[#This Row],[QTY]]*Table1[[#This Row],[School & Library Price]]","v":0}]
[null,70,null,"Current Issues","Hot Topics","The Right to Die","978-1-4205-0188-9","Lucent Press","eBook",1,2009,null,"eBook",null,"Author","Anne Wallace Sharp",null,null,null,null,null,null,"Years 12 - 15",null,"Grade 7 - 10",null,"English",43.34,43.34,"344.730419","120 pp.",{"$f":"Table1[[#This Row],['# of Books]]*Table1[[#This Row],[QTY]]","v":0},{"$f":"Table1[[#This Row],[QTY]]*Table1[[#This Row],[School & Library Price]]","v":0}]
[null,70,null,"Current Issues","Hot Topics","The War in Afghanistan","978-1-4205-0795-9","Lucent Press","eBook",1,2012,null,"eBook",null,"Author","Richard Brownell",null,null,null,null,null,null,"Years 12 - 15",null,"Grade 7 - 10","This title in the Hot Topic series explores the complex issue of the war in Afghanistan. The Hot Topics series adds depth to student analysis of the most current issues of the day. Each title provides thorough and balanced information on an important political, social, cultural, or moral topic. Visually appealing presentations and compelling examples provide context and inspire critical thought about issues that affect students, their peers, and their community.","English",43.34,43.34,"958.104","112 pp.",{"$f":"Table1[[#This Row],['# of Books]]*Table1[[#This Row],[QTY]]","v":0},{"$f":"Table1[[#This Row],[QTY]]*Table1[[#This Row],[School & Library Price]]","v":0}]
[null,71,null,"Health & Medicine","Diseases and Disorders (Jan '18 Set)","Diseases and Disorders (Jan '18 Set)","978-1-5345-6264-6","Lucent Press","eBook Set",6,2018,"January 2018",null,null," "," ",null,null,null,null,null,null,"Years 12 - 15","Grade 7","Grade 7 - 10","Although our understanding of diseases and disorders has evolved over time, there are still many incorrect assumptions made about people who suffer from certain ailments. People with obsessive-compulsive disorder are not people who simply like to arrange things by color. People with chronic pain have a debilitating illness, even though they do not appear to be sick. These and other assumptions are debunked as readers discover the truth about diseases and disorders ranging from breast cancer to epilepsy. Essential facts are presented through accessible main text and sidebars, as well as detailed charts and graphs.\r\nFeatures include: Annotated quotes from medical professionals and people living with these conditions are included to provide readers with a comprehensive understanding of each topic. Readers are presented with the latest technological and scientific advancements used to diagnose and treat these conditions. Each volume serves as a helpful resource for those looking to enhance their general knowledge of biology and modern medicine, as well as an objective, informative tool for young people dealing with a certain disease or disorder in their own life.","English",239.4,191.52,null,"112 pp.",{"$f":"Table1[[#This Row],['# of Books]]*Table1[[#This Row],[QTY]]","v":0},{"$f":"Table1[[#This Row],[QTY]]*Table1[[#This Row],[School & Library Price]]","v":0}]
[null,71,null,"Health & Medicine","Diseases and Disorders","Breast Cancer: Risks, Detection, and Treatment","978-1-5345-6191-5","Lucent Press","Library Bound Book",1,2018,"January 2018","Library","6.000 X 9.000","Author","Michelle Denton",null,null,null,null,"Z",null,"Years 12 - 15","Grade 7","Grade 7 - 10","Cancer is a frightening word, but within the last decade, more research has led to better detection and treatment of breast cancer. Since both men and women are at risk for developing breast cancer, it is important for all young adults to learn about practices such as self-exams that may lead to early detection. This information is presented along with full-color photographs and informative charts to help readers better understand this disease that affects so many people.","English",39.9,31.92,null,"120 pp.",{"$f":"Table1[[#This Row],['# of Books]]*Table1[[#This Row],[QTY]]","v":0},{"$f":"Table1[[#This Row],[QTY]]*Table1[[#This Row],[School & Library Price]]","v":0}]
[null,71,null,"Health & Medicine","Diseases and Disorders","Chronic Pain: An Invisible Illness","978-1-5345-6196-0","Lucent Press","Library Bound Book",1,2018,"January 2018","Library","6.000 X 9.000","Author","Kelly Gurnett",null,null,null,null,"Z",null,"Years 12 - 15","Grade 7","Grade 7 - 10","Everyone has experienced pain at one point or another, but disorders such as fibromyalgia and multiple sclerosis cause severe, long-term pain that can greatly limit a person's everyday activities. Because the cause of this pain is not visible, many people do not fully understand these disorders. This volume dispels the myths surrounding chronic pain to give readers a better understanding of the daily struggles people who suffer from it face. Informative sidebars and detailed infographics help young adults learn how to support a loved one who is dealing with an invisible illness or cope with their own chronic pain diagnosis.","English",39.9,31.92,null,"104 pp.",{"$f":"Table1[[#This Row],['# of Books]]*Table1[[#This Row],[QTY]]","v":0},{"$f":"Table1[[#This Row],[QTY]]*Table1[[#This Row],[School & Library Price]]","v":0}]
[null,71,null,"Health & Medicine","Diseases and Disorders","Epilepsy: Coming to Terms with Chronic Seizures","978-1-5345-6258-5","Lucent Press","Library Bound Book",1,2018,"January 2018","Library","6.000 X 9.000","Author","Simon Pierce",null,null,null,null,"Z",null,"Years 12 - 15","Grade 7","Grade 7 - 10","Epilepsy can be frightening to both the sufferer and their loved ones. However, knowing more about the symptoms and treatment can give people a sense of empowerment. This volume discusses what epilepsy is, how it can be treated, and what can be done for someone who is having a seizure. The informative book, supplemented with in-depth sidebars, full-color photographs, and detailed charts, dispels the myths surrounding epilepsy and gives readers a clearer picture of this often misunderstood disorder.","English",39.9,31.92,null,"104 pp.",{"$f":"Table1[[#This Row],['# of Books]]*Table1[[#This Row],[QTY]]","v":0},{"$f":"Table1[[#This Row],[QTY]]*Table1[[#This Row],[School & Library Price]]","v":0}]
[null,71,null,"Health & Medicine","Diseases and Disorders","Epilepsy: Coming to Terms with Chronic Seizures","978-1-5345-6259-2","Lucent Press","eBook",1,2018,"January 2018",null,null,"Author","Simon Pierce",null,null,null,null,"Z",null,"Years 12 - 15","Grade 7","Grade 7 - 10","Epilepsy can be frightening to both the sufferer and their loved ones. However, knowing more about the symptoms and treatment can give people a sense of empowerment. This volume discusses what epilepsy is, how it can be treated, and what can be done for someone who is having a seizure. The informative book, supplemented with in-depth sidebars, full-color photographs, and detailed charts, dispels the myths surrounding epilepsy and gives readers a clearer picture of this often misunderstood disorder.","English",39.9,31.92,null,"104 pp.",{"$f":"Table1[[#This Row],['# of Books]]*Table1[[#This Row],[QTY]]","v":0},{"$f":"Table1[[#This Row],[QTY]]*Table1[[#This Row],[School & Library Price]]","v":0}]
[null,71,null,"Health & Medicine","Diseases and Disorders","OCD: The Struggle with Obsessions and Compulsions","978-1-5345-6193-9","Lucent Press","eBook",1,2018,"January 2018",null,null,"Author","Christine Honders",null,null,null,null,"Z",null,"Years 12 - 15","Grade 7","Grade 7 - 10","Because of the way obsessive-compulsive disorder is portrayed in the media, many people believe it is simply a personality quirk. In reality, this disorder can cause severe distress for people who have it, as well as for their loved ones. Through relatable text, augmented by informative sidebars and full-color photographs, this volume helps readers understand how people with OCD use rituals to cope with distressing intrusive thoughts. A list of organizations to contact gives people who are struggling with this disorder resources to connect with others who understand what they are going through.","English",39.9,31.92,null,"120 pp.",{"$f":"Table1[[#This Row],['# of Books]]*Table1[[#This Row],[QTY]]","v":0},{"$f":"Table1[[#This Row],[QTY]]*Table1[[#This Row],[School & Library Price]]","v":0}]
[null,71,null,"Health & Medicine","Diseases and Disorders","Anxiety and Panic Disorders","978-1-5345-6119-9","Lucent Press","Library Bound Book",1,"2018","August 2017","Library","6.000 X 9.000","Author","Jennifer Lombardo",null,null,null,null,"Z",null,"Years 12 - 15","Grade 7","Grade 7 - 10","Everyone experiences anxious feelings in stressful situations, such as before a big test or when giving a speech. However, anxiety disorders are characterized by fear or worry that is disproportionate to the situation and difficult to control. It is sometimes accompanied by panic disorder, which causes panic attacks that often have no apparent trigger. Readers will learn about the different types of these very common disorders, with a focus on how to recognize and treat them, as well as the science behind them. Helpful infographics and informative sidebars clarify these often misunderstood disorders.","English",39.9,31.92,"616.85/22--dc23","112 pp.",{"$f":"Table1[[#This Row],['# of Books]]*Table1[[#This Row],[QTY]]","v":0},{"$f":"Table1[[#This Row],[QTY]]*Table1[[#This Row],[School & Library Price]]","v":0}]
[null,71,null,"Health & Medicine","Diseases and Disorders","Concussions and Other Brain Trauma","978-1-5345-6127-4","Lucent Press","Library Bound Book",1,"2018","August 2017","Library","6.000 X 9.000","Author","Ryan Nagelhout",null,null,null,null,"Z",null,"Years 12 - 15","Grade 7","Grade 7 - 10","Traumatic brain injuries are dangerous, especially if they are not recognized and treated promptly. Readers discover that repeated brain injuries may result in effects such as changed personality, depression, and memory loss. In contact sports such as football and hockey, the chance of sustaining a concussion or other form of brain trauma increases dramatically, so this information is especially valuable for young athletes. Through detailed photographs and informative infographics, readers are presented with additional information about the effects of brain trauma as well as precautions they can take to avoid it.","English",39.9,31.92,"617.4'81044--dc23","104 pp.",{"$f":"Table1[[#This Row],['# of Books]]*Table1[[#This Row],[QTY]]","v":0},{"$f":"Table1[[#This Row],[QTY]]*Table1[[#This Row],[School & Library Price]]","v":0}]
[null,71,null,"Health & Medicine","Diseases and Disorders","Major Depressive Disorder","978-1-5345-6123-6","Lucent Press","Library Bound Book",1,"2018","August 2017","Library","6.000 X 9.000","Author","Simon Pierce",null,null,null,null,"Z",null,"Years 12 - 15","Grade 7","Grade 7 - 10","Often known simply as depression, major depressive disorder can affect anyone. This extremely common disorder causes intense feelings of sadness, guilt, and worthlessness, often without any identifiable cause; it is much more than merely feeling sad. Through engaging text and enlightening sidebars, this volume discusses some of the scientific causes of depression and the ways it can be treated. Information is also provided to help those who are struggling with major depressive disorder.","English",39.9,31.92,"618.92’8527--dc23","104 pp.",{"$f":"Table1[[#This Row],['# of Books]]*Table1[[#This Row],[QTY]]","v":0},{"$f":"Table1[[#This Row],[QTY]]*Table1[[#This Row],[School & Library Price]]","v":0}]
[null,71,null,"Health & Medicine","Diseases and Disorders","The Dangers of Sexually Transmitted Diseases","978-1-5345-6126-7","Lucent Press","eBook",1,"2018","August 2017",null,null,"Author","Christine Honders",null,null,null,null,"Z",null,"Years 12 - 15","Grade 7","Grade 7 - 10","Sexually transmitted diseases are an unfortunate danger for people who are sexually active. The Center for Disease Control and Prevention reports that half of all sexually transmitted infections affect people ages 15 to 24, so it is crucial to educate young adults about the consequences of unprotected sex before they become sexually active. Full-color photographs and detailed infographics supplement the informative text’s discussion of the most common sexually transmitted diseases and the ways in which their spread can be prevented.","English",39.9,31.92,"616.95'1--dc23","104 pp.",{"$f":"Table1[[#This Row],['# of Books]]*Table1[[#This Row],[QTY]]","v":0},{"$f":"Table1[[#This Row],[QTY]]*Table1[[#This Row],[School & Library Price]]","v":0}]
[null,71,null,"Health & Medicine","Diseases and Disorders","The Zika Virus","978-1-5345-6130-4","Lucent Press","eBook",1,"2018","August 2017",null,null,"Author","Michelle Denton",null,null,null,null,"Z",null,"Years 12 - 15","Grade 7","Grade 7 - 10","Although the Zika virus was identified in the late 1940s, a mass outbreak did not occur until recently. Because most of the world is not immune to this virus, it spreads very quickly. Readers discover the history of the Zika virus, facts about its recent spread, the symptoms of the disease, and ways people can protect themselves against it. Full-color photographs and engaging sidebars augment this detailed discussion of a disease that is still mysterious to much of the general public.","English",39.9,31.92,"614.5'885--dc23","104 pp.",{"$f":"Table1[[#This Row],['# of Books]]*Table1[[#This Row],[QTY]]","v":0},{"$f":"Table1[[#This Row],[QTY]]*Table1[[#This Row],[School & Library Price]]","v":0}]
[null,71,null,"Health & Medicine","Diseases and Disorders","ADHD","978-0-7377-5039-3","Lucent Press","eBook",1,2009,null,"eBook",null,"Author","Barbara Sheen",null,null,null,null,null,null,"Years 12 - 15",null,"Grade 7 - 10",null,"English",43.89,43.89,"616.8589","104 pp.",{"$f":"Table1[[#This Row],['# of Books]]*Table1[[#This Row],[QTY]]","v":0},{"$f":"Table1[[#This Row],[QTY]]*Table1[[#This Row],[School & Library Price]]","v":0}]
[null,71,null,"Health & Medicine","Diseases and Disorders","Alzheimer's Disease","978-1-4205-0553-5","Lucent Press","Library Bound Book",1,2011,null,"Library Bound","6.000 X 9.000","Author","Jacqueline Adams",null,null,null,null,null,null,"Years 12 - 15",null,"Grade 7 - 10",null,"English",39.9,31.92,"616","112 pp.",{"$f":"Table1[[#This Row],['# of Books]]*Table1[[#This Row],[QTY]]","v":0},{"$f":"Table1[[#This Row],[QTY]]*Table1[[#This Row],[School & Library Price]]","v":0}]
[null,71,null,"Health & Medicine","Diseases and Disorders","Amnesia","978-1-4205-0040-0","Lucent Press","Library Bound Book",1,2009,null,"Library Bound","6.000 X 9.000","Author","Jenny Mackay",null,null,null,null,null,null,"Years 12 - 15",null,"Grade 7 - 10",null,"English",39.9,31.92,"616","104 pp.",{"$f":"Table1[[#This Row],['# of Books]]*Table1[[#This Row],[QTY]]","v":0},{"$f":"Table1[[#This Row],[QTY]]*Table1[[#This Row],[School & Library Price]]","v":0}]
[null,71,null,"Health & Medicine","Diseases and Disorders","Amnesia","978-1-4205-0207-7","Lucent Press","eBook",1,2009,null,"eBook",null,"Author","Jenny Mackay",null,null,null,null,null,null,"Years 12 - 15",null,"Grade 7 - 10",null,"English",43.89,43.89,"616.85232","104 pp.",{"$f":"Table1[[#This Row],['# of Books]]*Table1[[#This Row],[QTY]]","v":0},{"$f":"Table1[[#This Row],[QTY]]*Table1[[#This Row],[School & Library Price]]","v":0}]
[null,71,null,"Health & Medicine","Diseases and Disorders","Asperger's Syndrome","978-1-4205-0111-7","Lucent Press","Library Bound Book",1,2009,null,"Library Bound","6.000 X 9.000","Author","Toney Allman",null,null,null,null,null,null,"Years 12 - 15",null,"Grade 7 - 10",null,"English",39.9,31.92,"616","104 pp.",{"$f":"Table1[[#This Row],['# of Books]]*Table1[[#This Row],[QTY]]","v":0},{"$f":"Table1[[#This Row],[QTY]]*Table1[[#This Row],[School & Library Price]]","v":0}]
[null,72,null,"Health & Medicine","Diseases and Disorders","Asthma","978-1-4205-0692-1","Lucent Press","eBook",1,2011,null,"eBook",null,"Author","Barbara Sheen",null,null,null,null,null,null,"Years 12 - 15",null,"Grade 7 - 10",null,"English",43.89,43.89,"616.2","104 pp.",{"$f":"Table1[[#This Row],['# of Books]]*Table1[[#This Row],[QTY]]","v":0},{"$f":"Table1[[#This Row],[QTY]]*Table1[[#This Row],[School & Library Price]]","v":0}]
[null,72,null,"Health & Medicine","Diseases and Disorders","Bipolar Disorder","978-1-4205-0853-6","Lucent Press","Library Bound Book",1,2012,null,"Library Bound","6.000 X 9.000","Author","Melissa Abramovitz",null,null,null,null,null,null,"Years 12 - 15",null,"Grade 7 - 10","The prevalence of bipolar disorder (BD) has increased dramatically over the last 20 years, particularly in children and young adults, and this title in the Diseases and Disorders series discusses several leading theories.","English",39.9,31.92,"616.89","112 pp.",{"$f":"Table1[[#This Row],['# of Books]]*Table1[[#This Row],[QTY]]","v":0},{"$f":"Table1[[#This Row],[QTY]]*Table1[[#This Row],[School & Library Price]]","v":0}]
[null,72,null,"Health & Medicine","Diseases and Disorders","Breast Cancer","978-1-4205-0559-7","Lucent Press","eBook",1,2010,null,"eBook",null,"Author","Lizabeth Hardman",null,null,null,null,null,null,"Years 12 - 15",null,"Grade 7 - 10","This book explains what breast cancer is, who gets the disorder and why, how it affects the body, diagnosis and treatment options, living with the disease, and future research. Here is a comprehensive guide to what we now know about breast cancer, covering the causes and risk factors of the disease, its effects on the body, the impact of early diagnosis, and evolving treatment options. Increased survival rates have led to a growing population living with breast cancer: a look at that experience and what’s on the horizon in breast cancer research complete the picture.","English",43.89,43.89,"616.99","120 pp.",{"$f":"Table1[[#This Row],['# of Books]]*Table1[[#This Row],[QTY]]","v":0},{"$f":"Table1[[#This Row],[QTY]]*Table1[[#This Row],[School & Library Price]]","v":0}]
[null,72,null,"Health & Medicine","Diseases and Disorders","Cancer","978-1-4205-0184-1","Lucent Press","eBook",1,2009,null,"eBook",null,"Author","Elizabeth Silverthorne",null,null,null,null,null,null,"Years 12 - 15",null,"Grade 7 - 10",null,"English",43.89,43.89,"616.994","104 pp.",{"$f":"Table1[[#This Row],['# of Books]]*Table1[[#This Row],[QTY]]","v":0},{"$f":"Table1[[#This Row],[QTY]]*Table1[[#This Row],[School & Library Price]]","v":0}]
[null,72,null,"Health & Medicine","Diseases and Disorders","Cervical Cancer","978-1-4205-0216-9","Lucent Press","Library Bound Book",1,2010,null,"Library Bound","6.000 X 9.000","Author","Kris Hirschmann",null,null,null,null,null,null,"Years 12 - 15",null,"Grade 7 - 10",null,"English",39.9,31.92,"616","104 pp.",{"$f":"Table1[[#This Row],['# of Books]]*Table1[[#This Row],[QTY]]","v":0},{"$f":"Table1[[#This Row],[QTY]]*Table1[[#This Row],[School & Library Price]]","v":0}]
[null,72,null,"Health & Medicine","Diseases and Disorders","Cervical Cancer","978-1-4205-0338-8","Lucent Press","eBook",1,2010,null,"eBook",null,"Author","Kris Hirschmann",null,null,null,null,null,null,"Years 12 - 15",null,"Grade 7 - 10",null,"English",43.89,43.89,"616.99","104 pp.",{"$f":"Table1[[#This Row],['# of Books]]*Table1[[#This Row],[QTY]]","v":0},{"$f":"Table1[[#This Row],[QTY]]*Table1[[#This Row],[School & Library Price]]","v":0}]
[null,72,null,"Health & Medicine","Diseases and Disorders","Cholera","978-1-4205-0934-2","Lucent Press","Library Bound Book",1,2013,null,"Library Bound","6.000 X 9.000","Author","Diane Yancey",null,null,null,null,null,null,"Years 12 - 15",null,"Grade 7 - 10","In this new addition to the Diseases and Disorders series, author Diane Yancey discusses how cholera has made its mark as a devastating, though largely treatable, disease. Yancey begins with a discussion of past cholera outbreaks and epidemics, and how doctors and researchers struggled for centuries to identify the disease and its causes. She then focuses on the need for improved sanitation systems and access to clean water in developing countries in order to curb this international killer, and emphasizes the importance of vigilance and accessible treatment options during natural disasters. The book ends with a look to the future, and how individuals, governments, and international organizations are hoping to eradicate this illness.","English",39.9,31.92,"616","104 pp.",{"$f":"Table1[[#This Row],['# of Books]]*Table1[[#This Row],[QTY]]","v":0},{"$f":"Table1[[#This Row],[QTY]]*Table1[[#This Row],[School & Library Price]]","v":0}]
[null,72,null,"Health & Medicine","Diseases and Disorders","Colon Cancer","978-1-4205-0958-8","Lucent Press","eBook",1,2012,null,"eBook",null,"Author","Toney Allman",null,null,null,null,null,null,"Years 12 - 15",null,"Grade 7 - 10","In this new addition to the Diseases and Disorders series, author Toney Allman discusses the causes, treatment, and impact of colon cancer. Though the diagnosis of colon cancer once held the promise of a grim future, Allman explains that scientists are now closing in on the possible genetic and environmental causes of colon cancer, and are using this information to develop new treatments and preventative measures. Allman provides a detailed explanation of the structure and function of the human gastrointestinal tract, and attention is given to the importance of colonoscopies in identifying polyps and stopping what is now seen as a highly preventable cancer. First-person accounts and inspirational quotes from cancer survivors will educate and enthrall young readers.","English",43.89,43.89,"616.99","104 pp.",{"$f":"Table1[[#This Row],['# of Books]]*Table1[[#This Row],[QTY]]","v":0},{"$f":"Table1[[#This Row],[QTY]]*Table1[[#This Row],[School & Library Price]]","v":0}]
[null,72,null,"Health & Medicine","Diseases and Disorders","Crohn's Disease","978-1-4205-0691-4","Lucent Press","Library Bound Book",1,2012,null,"Library Bound","6.000 X 9.000","Author","Toney Allman",null,null,null,null,null,null,"Years 12 - 15",null,"Grade 7 - 10",null,"English",39.9,31.92,"616.3","104 pp.",{"$f":"Table1[[#This Row],['# of Books]]*Table1[[#This Row],[QTY]]","v":0},{"$f":"Table1[[#This Row],[QTY]]*Table1[[#This Row],[School & Library Price]]","v":0}]
[null,72,null,"Health & Medicine","Diseases and Disorders","Cystic Fibrosis","978-1-4205-1091-1","Lucent Press","eBook",1,2013,null,"eBook",null,"Author","Melissa Abramovitz",null,null,null,null,null,null,"Years 12 - 15",null,"Grade 7 - 10","In this new addition to the Diseases and Disorders series, author Melissa Abramovitz discusses the causes of cystic fibrosis, the history of its discovery, and current and future treatment options. Though a diagnosis of CF remains devastating in today’s world, Abramovitz explains that revelations about the disease’s genetic foundations may lead to medical breakthroughs in the near future. First-person accounts and inspirational quotes from individuals with CF will educate and enthrall readers.","English",43.89,43.89,"616.3","112 pp.",{"$f":"Table1[[#This Row],['# of Books]]*Table1[[#This Row],[QTY]]","v":0},{"$f":"Table1[[#This Row],[QTY]]*Table1[[#This Row],[School & Library Price]]","v":0}]
[null,72,null,"Health & Medicine","Diseases and Disorders","Epilepsy","978-1-4205-0218-3","Lucent Press","Library Bound Book",1,2010,null,"Library Bound","6.000 X 9.000","Author","Terri Dougherty",null,null,null,null,null,null,"Years 12 - 15",null,"Grade 7 - 10","Epilepsy is a disorder in which the generation of electrical signals inside the brain causes recurring seizures of varying types and intensity. This book describes the symptoms associated with different types of epilepsy, as well as the possible causes and risk factors. It offers current information on diagnosis, treatment, and prognosis, as well as how people living with epilepsy and their families cope with the disorder.","English",39.9,31.92,"616","104 pp.",{"$f":"Table1[[#This Row],['# of Books]]*Table1[[#This Row],[QTY]]","v":0},{"$f":"Table1[[#This Row],[QTY]]*Table1[[#This Row],[School & Library Price]]","v":0}]
[null,72,null,"Health & Medicine","Diseases and Disorders","Exercise Addiction","978-1-4205-0644-0","Lucent Press","eBook",1,2011,null,"eBook",null,"Author","Leanne K. Currie-McGhee",null,null,null,null,null,null,"Years 12 - 15",null,"Grade 7 - 10",null,"English",43.89,43.89,"616.85","96 pp.",{"$f":"Table1[[#This Row],['# of Books]]*Table1[[#This Row],[QTY]]","v":0},{"$f":"Table1[[#This Row],[QTY]]*Table1[[#This Row],[School & Library Price]]","v":0}]
[null,72,null,"Health & Medicine","Diseases and Disorders","Fetal Alcohol Syndrome","978-1-4205-0695-2","Lucent Press","Library Bound Book",1,2012,null,"Library Bound","6.000 X 9.000","Author","Gail B. Stewart",null,null,null,null,null,null,"Years 12 - 15",null,"Grade 7 - 10","This new edition in the Diseases and Disorders series looks at the causes of fetal alcohol syndrome and the spectrum of symptoms associated with it, which can be physical and psychological and fall within a wide range of severity. The title also discusses the difficulty in diagnosing the disease and what researchers, teachers, and caregivers are doing to try to improve the lives of people with FAS.","English",39.9,31.92,"618.3","104 pp.",{"$f":"Table1[[#This Row],['# of Books]]*Table1[[#This Row],[QTY]]","v":0},{"$f":"Table1[[#This Row],[QTY]]*Table1[[#This Row],[School & Library Price]]","v":0}]
[null,72,null,"Health & Medicine","Diseases and Disorders","Fibromyaligia","978-1-4205-0673-0","Lucent Press","Library Bound Book",1,2012,null,"Library Bound","6.000 X 9.000","Author","Melissa Abramovitz",null,null,null,null,null,null,"Years 12 - 15",null,"Grade 7 - 10",null,"English",39.9,31.92,"616","112 pp.",{"$f":"Table1[[#This Row],['# of Books]]*Table1[[#This Row],[QTY]]","v":0},{"$f":"Table1[[#This Row],[QTY]]*Table1[[#This Row],[School & Library Price]]","v":0}]
[null,72,null,"Health & Medicine","Diseases and Disorders","Growth Disorders","978-1-5901-8673-2","Lucent Press","Library Bound Book",1,2007,null,"Library Bound","6.000 X 9.000","Author","Lizabeth Peak",null,null,null,null,null,null,"Years 12 - 15",null,"Grade 7 - 10",null,"English",39.9,31.92,"618.92","104 pp.",{"$f":"Table1[[#This Row],['# of Books]]*Table1[[#This Row],[QTY]]","v":0},{"$f":"Table1[[#This Row],[QTY]]*Table1[[#This Row],[School & Library Price]]","v":0}]
[null,72,null,"Health & Medicine","Diseases and Disorders","Human Papillomavirus (HPV)","978-1-5901-8998-6","Lucent Press","Library Bound Book",1,2007,null,"Library Bound","6.000 X 9.000","Author","Don Nardo",null,null,null,null,null,null,"Years 12 - 15",null,"Grade 7 - 10",null,"English",39.9,31.92,"616","104 pp.",{"$f":"Table1[[#This Row],['# of Books]]*Table1[[#This Row],[QTY]]","v":0},{"$f":"Table1[[#This Row],[QTY]]*Table1[[#This Row],[School & Library Price]]","v":0}]
[null,72,null,"Health & Medicine","Diseases and Disorders","Learning Disabilities","978-1-4205-0793-5","Lucent Press","Library Bound Book",1,2012,null,"Library Bound","6.000 X 9.000","Author","Meryl Loonin",null,null,null,null,null,null,"Years 12 - 15",null,"Grade 7 - 10","This new title in Lucent's Diseases and Disorders series provides an overview of learning disabilities and explains the many types of learning disabilities, how they are diagnosed, the challenges that people with learning disabilities face, and how they often learn to overcome these challenges. Current research on diagnosis options and alternative learning methods are detailed.","English",39.9,31.92,"616.85","104 pp.",{"$f":"Table1[[#This Row],['# of Books]]*Table1[[#This Row],[QTY]]","v":0},{"$f":"Table1[[#This Row],[QTY]]*Table1[[#This Row],[School & Library Price]]","v":0}]
[null,72,null,"Health & Medicine","Diseases and Disorders","Leukemia","978-1-4205-0542-9","Lucent Press","eBook",1,2010,null,"eBook",null,"Author","Melissa Abramovitz",null,null,null,null,null,null,"Years 12 - 15",null,"Grade 7 - 10","Leukemia applies to several diseases of the blood-forming tissues encountered in both sexes and at all ages. This book explains the different types of leukemia and what is currently known about the causes, symptoms, diagnosis and treatment options for each. With full-color photos and illustrations, this book offers the latest statistics along with information on new treatments, drugs, and future research.","English",43.89,43.89,"616.99","120 pp.",{"$f":"Table1[[#This Row],['# of Books]]*Table1[[#This Row],[QTY]]","v":0},{"$f":"Table1[[#This Row],[QTY]]*Table1[[#This Row],[School & Library Price]]","v":0}]
[null,72,null,"Health & Medicine","Diseases and Disorders","Lupus","978-1-5901-8999-3","Lucent Press","Library Bound Book",1,2008,null,"Library Bound","6.000 X 9.000","Author","Melissa Abramovitz",null,null,null,null,null,null,"Years 12 - 15",null,"Grade 7 - 10",null,"English",39.9,31.92,"616","96 pp.",{"$f":"Table1[[#This Row],['# of Books]]*Table1[[#This Row],[QTY]]","v":0},{"$f":"Table1[[#This Row],[QTY]]*Table1[[#This Row],[School & Library Price]]","v":0}]
[null,72,null,"Health & Medicine","Diseases and Disorders","Meningitis","978-1-4205-1221-2","Lucent Press","Library Bound Book",1,2015,null,"Library Bound","6.000 X 9.000","Author","Melissa Abramovitz",null,null,null,null,null,null,"Years 12 - 15",null,"Grade 7 - 10","This title in LUCENT'S DISEASES AND DISORDERS SERIES will discuss the dreaded illness of meningitis. The book will detail the symptoms of the disease, how people contract the disease, and what treatments can be used. ","English",39.9,31.92,"616","112 pp.",{"$f":"Table1[[#This Row],['# of Books]]*Table1[[#This Row],[QTY]]","v":0},{"$f":"Table1[[#This Row],[QTY]]*Table1[[#This Row],[School & Library Price]]","v":0}]
[null,72,null,"Health & Medicine","Diseases and Disorders","Migraines","978-1-4205-0219-0","Lucent Press","Library Bound Book",1,2010,null,"Library Bound","6.000 X 9.000","Author","Anne K. Brown",null,null,null,null,null,null,"Years 12 - 15",null,"Grade 7 - 10",null,"English",39.9,31.92,"616","104 pp.",{"$f":"Table1[[#This Row],['# of Books]]*Table1[[#This Row],[QTY]]","v":0},{"$f":"Table1[[#This Row],[QTY]]*Table1[[#This Row],[School & Library Price]]","v":0}]
[null,72,null,"Health & Medicine","Diseases and Disorders","Mood Disorders","978-1-4205-0072-1","Lucent Press","Library Bound Book",1,2008,null,"Library Bound","6.000 X 9.000","Author","Lizabeth Peak",null,null,null,null,null,null,"Years 12 - 15",null,"Grade 7 - 10",null,"English",39.9,31.92,"616","120 pp.",{"$f":"Table1[[#This Row],['# of Books]]*Table1[[#This Row],[QTY]]","v":0},{"$f":"Table1[[#This Row],[QTY]]*Table1[[#This Row],[School & Library Price]]","v":0}]
[null,72,null,"Health & Medicine","Diseases and Disorders","MRSA","978-1-4205-0304-3","Lucent Press","eBook",1,2010,null,"eBook",null,"Author","Barbara Sheen",null,null,null,null,null,null,"Years 12 - 15",null,"Grade 7 - 10","MRSA (methicillin-resistant Staphylococcus aureus) infection is caused by a strain of staph that is resistant to broad-spectrum antibiotics. This book explains what is unique about MRSA bacteria, the symptoms of MRSA infections, and how they are currently treated. Health care and community strains of MRSA occur in different settings, and the different risk factors and strategies for prevention are also discussed.","English",43.89,43.89,"616.9297","104 pp.",{"$f":"Table1[[#This Row],['# of Books]]*Table1[[#This Row],[QTY]]","v":0},{"$f":"Table1[[#This Row],[QTY]]*Table1[[#This Row],[School & Library Price]]","v":0}]
[null,73,null,"Health & Medicine","Diseases and Disorders","Obsessive-Compulsive Disorder","978-1-4205-0000-4","Lucent Press","Library Bound Book",1,2008,null,"Library Bound","6.000 X 9.000","Author","Jacqueline Adams",null,null,null,null,null,null,"Years 12 - 15",null,"Grade 7 - 10",null,"English",39.9,31.92,"616","120 pp.",{"$f":"Table1[[#This Row],['# of Books]]*Table1[[#This Row],[QTY]]","v":0},{"$f":"Table1[[#This Row],[QTY]]*Table1[[#This Row],[School & Library Price]]","v":0}]
[null,73,null,"Health & Medicine","Diseases and Disorders","Osteoporosis","978-1-4205-0643-3","Lucent Press","eBook",1,2011,null,"eBook",null,"Author","Melissa Abramovitz",null,null,null,null,null,null,"Years 12 - 15",null,"Grade 7 - 10",null,"English",43.89,43.89,"616.7","112 pp.",{"$f":"Table1[[#This Row],['# of Books]]*Table1[[#This Row],[QTY]]","v":0},{"$f":"Table1[[#This Row],[QTY]]*Table1[[#This Row],[School & Library Price]]","v":0}]
[null,73,null,"Health & Medicine","Diseases and Disorders","Parkinson's Disease","978-1-4205-1227-4","Lucent Press","Library Bound Book",1,2015,null,"Library Bound","6.000 X 9.000","Author","Lizabeth Craig",null,null,null,null,null,null,"Years 12 - 15",null,"Grade 7 - 10","This title in LUCENT'S DISEASES AND DISORDERS SERIES focuses on Parkinson's Disease. The book describes how the disease is contracted, its symptoms, and treatments. It also discusses the issues that caregivers face.","English",39.9,31.92,"616","128 pp.",{"$f":"Table1[[#This Row],['# of Books]]*Table1[[#This Row],[QTY]]","v":0},{"$f":"Table1[[#This Row],[QTY]]*Table1[[#This Row],[School & Library Price]]","v":0}]
[null,73,null,"Health & Medicine","Diseases and Disorders","Phobias","978-1-4205-0103-2","Lucent Press","Library Bound Book",1,2009,null,"Library Bound","6.000 X 9.000","Author","Jenny Mackay",null,null,null,null,null,null,"Years 12 - 15",null,"Grade 7 - 10",null,"English",39.9,31.92,"616","104 pp.",{"$f":"Table1[[#This Row],['# of Books]]*Table1[[#This Row],[QTY]]","v":0},{"$f":"Table1[[#This Row],[QTY]]*Table1[[#This Row],[School & Library Price]]","v":0}]
[null,73,null,"Health & Medicine","Diseases and Disorders","Plague","978-1-4205-0145-2","Lucent Press","Library Bound Book",1,2010,null,"Library Bound","6.000 X 9.000","Author","Lizabeth Hardman",null,null,null,null,null,null,"Years 12 - 15",null,"Grade 7 - 10",null,"English",39.9,31.92,"616","104 pp.",{"$f":"Table1[[#This Row],['# of Books]]*Table1[[#This Row],[QTY]]","v":0},{"$f":"Table1[[#This Row],[QTY]]*Table1[[#This Row],[School & Library Price]]","v":0}]
[null,73,null,"Health & Medicine","Diseases and Disorders","Plague","978-0-7377-5041-6","Lucent Press","eBook",1,2010,null,"eBook",null,"Author","Lizabeth Hardman",null,null,null,null,null,null,"Years 12 - 15",null,"Grade 7 - 10",null,"English",43.89,43.89,"616.9232","104 pp.",{"$f":"Table1[[#This Row],['# of Books]]*Table1[[#This Row],[QTY]]","v":0},{"$f":"Table1[[#This Row],[QTY]]*Table1[[#This Row],[School & Library Price]]","v":0}]
[null,73,null,"Health & Medicine","Diseases and Disorders","Prostate Cancer","978-1-5901-8593-3","Lucent Press","Library Bound Book",1,2008,null,"Library Bound","6.000 X 9.000","Author","Barbara Sheen",null,null,null,null,null,null,"Years 12 - 15",null,"Grade 7 - 10",null,"English",39.9,31.92,"616","104 pp.",{"$f":"Table1[[#This Row],['# of Books]]*Table1[[#This Row],[QTY]]","v":0},{"$f":"Table1[[#This Row],[QTY]]*Table1[[#This Row],[School & Library Price]]","v":0}]
[null,73,null,"Health & Medicine","Diseases and Disorders","Sickle Cell Disease","978-1-5901-8864-4","Lucent Press","Library Bound Book",1,2008,null,"Library Bound","6.000 X 9.000","Author","Lizabeth Peak",null,null,null,null,null,null,"Years 12 - 15",null,"Grade 7 - 10",null,"English",39.9,31.92,"616","112 pp.",{"$f":"Table1[[#This Row],['# of Books]]*Table1[[#This Row],[QTY]]","v":0},{"$f":"Table1[[#This Row],[QTY]]*Table1[[#This Row],[School & Library Price]]","v":0}]
[null,73,null,"Health & Medicine","Diseases and Disorders","Sleep Disorders","978-1-4205-1093-5","Lucent Press","eBook",1,2013,null,"eBook",null,"Author","Barbara Sheen",null,null,null,null,null,null,"Years 12 - 15",null,"Grade 7 - 10","A sleep disorder is a condition that affects normal patterns of sleep and wakefulness. Although sleep disorders are not new, modern life seems to be intensifying the problem. Round the clock work schedules, globalization of commercial markets, stores that never close, television, and the Internet have all contributed to people sleeping less. Americans averaged nine hours of sleep per night in 1910. Today they average only 6.5 hours. This well-researched and up-to-date title offers readers a thorough overview of the many types of sleep disorders and how they are currently being treated. It talks about how people live and cope with sleep disorders. It also looks at current trends in sleep research. The book includes a glossary, sources for further research, including organizations to contact for more information, and a thorough subject index.","English",43.89,43.89,"616.8","104 pp.",{"$f":"Table1[[#This Row],['# of Books]]*Table1[[#This Row],[QTY]]","v":0},{"$f":"Table1[[#This Row],[QTY]]*Table1[[#This Row],[School & Library Price]]","v":0}]
[null,73,null,"Health & Medicine","Diseases and Disorders","Sports Injuries","978-1-4205-0347-0","Lucent Press","eBook",1,2010,null,"eBook",null,"Author","Hal Marcovitz",null,null,null,null,null,null,"Years 12 - 15",null,"Grade 7 - 10","Playing sports can improve fitness and coordination and boost self-discipline and self-esteem. But these benefits sometimes come at a price: sports injuries. This detailed examination covers the causes, diagnoses, current treatments and rehabilitation for the different types of sports injuries. Since many of them are preventable, the author includes a discussion of training and safety techniques as well as changes to equipment that have been instituted as a result of common athletic injuries.","English",43.89,43.89,"617.1","112 pp.",{"$f":"Table1[[#This Row],['# of Books]]*Table1[[#This Row],[QTY]]","v":0},{"$f":"Table1[[#This Row],[QTY]]*Table1[[#This Row],[School & Library Price]]","v":0}]
[null,73,null,"Health & Medicine","Diseases and Disorders","Sudden Infant Death Syndrome","978-1-4205-0208-4","Lucent Press","eBook",1,2009,null,"eBook",null,"Author","Peggy J. Parks",null,null,null,null,null,null,"Years 12 - 15",null,"Grade 7 - 10",null,"English",43.89,43.89,"618.92","104 pp.",{"$f":"Table1[[#This Row],['# of Books]]*Table1[[#This Row],[QTY]]","v":0},{"$f":"Table1[[#This Row],[QTY]]*Table1[[#This Row],[School & Library Price]]","v":0}]
[null,73,null,"Health & Medicine","Diseases and Disorders","Thyroid Disorders","978-1-4205-0223-7","Lucent Press","Library Bound Book",1,2010,null,"Library Bound","6.000 X 9.000","Author","Bonnie Juettner",null,null,null,null,null,null,"Years 12 - 15",null,"Grade 7 - 10",null,"English",39.9,31.92,"616","112 pp.",{"$f":"Table1[[#This Row],['# of Books]]*Table1[[#This Row],[QTY]]","v":0},{"$f":"Table1[[#This Row],[QTY]]*Table1[[#This Row],[School & Library Price]]","v":0}]
[null,73,null,"Health & Medicine","Diseases and Disorders","Tuberculosis","978-1-5901-8968-9","Lucent Press","Library Bound Book",1,2007,null,"Library Bound","6.000 X 9.000","Author","Toney Allman",null,null,null,null,null,null,"Years 12 - 15",null,"Grade 7 - 10","The White Plague has ravaged humanity throughout history, yet few people today are aware that tuberculosis is a disease that is far from conquered.  Never under control in places such as Africa, Asia, and South America, TB has recently menaced Western society, as well, in multi-drug resistant form and in conjunction with the AIDS epidemic.  The still-deadly disease and its effects are described, along with current medical and political efforts to stop the infectious spread and save the two million lives that are being lost each year to tuberculosis.","English",39.9,31.92,"614.5","104 pp.",{"$f":"Table1[[#This Row],['# of Books]]*Table1[[#This Row],[QTY]]","v":0},{"$f":"Table1[[#This Row],[QTY]]*Table1[[#This Row],[School & Library Price]]","v":0}]
[null,73,null,"Health & Medicine","Diseases and Disorders","Waterborne Illnesses","978-1-4205-0935-9","Lucent Press","Library Bound Book",1,2013,null,"Library Bound","6.000 X 9.000","Author","Peggy J. Parks",null,null,null,null,null,null,"Years 12 - 15",null,"Grade 7 - 10","As Earth's population has continued to grow, reaching 7 billion people in 2011, much of the planet's available fresh water has become polluted, making it unfit for drinking, cooking, or bathing—and contributing to deadly maladies known as waterborne illnesses. This book will provide an overview of waterborne illnesses and explain the magnitude of the problem. Individual chapters focus on defining and explaining waterborne illnesses, such as Cholera, Dysentery, Hepatitis A, Polio, Typhoid Fever, and SARs, identifying sources of water contamination and geographic areas most affected, and exploring how natural disasters may greatly magnify the problem. Global efforts to prevent waterborne illness are also discussed.","English",39.9,31.92,"614","104 pp.",{"$f":"Table1[[#This Row],['# of Books]]*Table1[[#This Row],[QTY]]","v":0},{"$f":"Table1[[#This Row],[QTY]]*Table1[[#This Row],[School & Library Price]]","v":0}]
[null,73,null,"Health & Medicine","Diseases and Disorders","West Nile Virus","978-1-4205-0936-6","Lucent Press","Library Bound Book",1,2013,null,"Library Bound","6.000 X 9.000","Author","Melissa Abramovitz",null,null,null,null,null,null,"Years 12 - 15",null,"Grade 7 - 10","As new cases of West Nile Virus begin to appear across the United States, Lucent Books offers a title with a timely discussion of this potentially devastating disease. Author Melissa Abramovitz outlines the mechanics of virus transmission and how mosquitoes and disease-carrying birds have played a key role in the West Nile Virus epidemic. The book covers basic information about the virus and its possible effects, as well as a discussion of personal and governmental prevention plans. The last chapter focuses on treatments currently in development.","English",39.9,31.92,"614","112 pp.",{"$f":"Table1[[#This Row],['# of Books]]*Table1[[#This Row],[QTY]]","v":0},{"$f":"Table1[[#This Row],[QTY]]*Table1[[#This Row],[School & Library Price]]","v":0}]
[null,73,null,"Health & Medicine","Diseases and Disorders","Whooping Cough","978-1-4205-0907-6","Lucent Press","eBook",1,2012,null,"eBook",null,"Author","Toney Allman",null,null,null,null,null,null,"Years 12 - 15",null,"Grade 7 - 10","The newest addition to the Diseases and Disorders series, this title discusses the causes and symptoms of whooping cough, as well as prevention methods and available treatments. Author Toney Allman uses riveting firsthand accounts to show readers the devastating reality of this often overlooked illness, and explains how whooping cough has become a reemerging disease in developed countries.","English",43.89,43.89,"616.2","104 pp.",{"$f":"Table1[[#This Row],['# of Books]]*Table1[[#This Row],[QTY]]","v":0},{"$f":"Table1[[#This Row],[QTY]]*Table1[[#This Row],[School & Library Price]]","v":0}]
[null,74,null,"Health","Drug Education Library","Designer Drugs: Deadly Chemistry","978-1-5345-6008-6","Lucent Press","eBook",1,2017,"January 2017","eBook",null,"Author","Hal Marcovitz",null,null,null,null,"Z",null,null,null,"Grade 7 - 10","The use of designer drugs such as LSD, Ecstasy, and methamphetamines is unfortunately widespread among young adults, particularly in club or party settings. These drugs are especially risky because they are made in batches in individual home labs, so there is no way to tell how much of any dangerous substance was used in their creation. Readers learn the risks associated with using many of these designer drugs. The accessible text, complemented by full-color photographs and in-depth sidebars, gives them the facts they need to make safe choices.","English",37.450000000000003,29.96,null,"112 pp.",{"$f":"Table1[[#This Row],['# of Books]]*Table1[[#This Row],[QTY]]","v":0},{"$f":"Table1[[#This Row],[QTY]]*Table1[[#This Row],[School & Library Price]]","v":0}]
[null,74,null,"Health","Drug Education Library","Heroin: Killer Drug Epidemic","978-1-5345-6010-9","Lucent Press","eBook",1,2017,"January 2017","eBook",null,"Author","Richard Alexander",null,null,null,null,"Z",null,null,null,"Grade 7 - 10","Young adults who abuse prescription opioids may turn to heroin later on, as it gives the same type of high but can be cheaper and easier to obtain than prescriptions. Knowing the health risks associated with heroin abuse can help young adults avoid falling into the traps of both kinds of drugs. Incorporating full-color photographs and detailed charts, this volume illustrates the severe health threat heroin poses. A list of antidrug organizations is provided for readers to learn more about this dangerous drug epidemic.","English",37.450000000000003,29.96,null,"104 pp.",{"$f":"Table1[[#This Row],['# of Books]]*Table1[[#This Row],[QTY]]","v":0},{"$f":"Table1[[#This Row],[QTY]]*Table1[[#This Row],[School & Library Price]]","v":0}]
[null,74,null,"Health","Drug Education Library","Prescription Drugs: Opioids That Kill","978-1-5345-6011-6","Lucent Press","Library Bound Book",1,2017,"January 2017","Library Bound","6.000 X 9.000","Author","Simon Pierce",null,null,null,null,"Z",null,"Years 12 - 15",null,"Grade 7 - 10","Since prescription drugs can be obtained legally and found in medicine cabinets in young adults’ own homes, there is a perception that they are not as dangerous as other types of drugs. However, abuse of prescriptions can have hazardous—sometimes even deadly—consequences, which readers discover in great detail. Enlightening charts and sidebars augment the discussion of prescription drug abuse, and a list of websites provides resources for those who may already be struggling with this addiction.","English",37.450000000000003,29.96,null,"104 pp.",{"$f":"Table1[[#This Row],['# of Books]]*Table1[[#This Row],[QTY]]","v":0},{"$f":"Table1[[#This Row],[QTY]]*Table1[[#This Row],[School & Library Price]]","v":0}]
[null,74,null,"Health","Drug Education Library","Steroids and Other Performance-Enhancing Drugs","978-1-5345-6003-1","Lucent Press","Library Bound Book",1,2017,"January 2017","Library Bound","6.000 X 9.000","Author","Christine Honders",null,null,null,null,"Z",null,"Years 12 - 15",null,"Grade 7 - 10","While steroids are medically useful in small, prescribed doses, they are too often abused in sports alongside other performance-enhancing drugs. Young athletes may feel their natural performance is not good enough, so they may turn to these drugs to get ahead. Young athletes are informed about the risky effects of abusing these drugs to combat the allure of being perceived as a better player. Sidebars and full-color photographs help portray the dangerous consequences of this type of drug abuse.","English",37.450000000000003,29.96,null,"112 pp.",{"$f":"Table1[[#This Row],['# of Books]]*Table1[[#This Row],[QTY]]","v":0},{"$f":"Table1[[#This Row],[QTY]]*Table1[[#This Row],[School & Library Price]]","v":0}]
[null,75,null,"U.S. History","Lucent Library of Black History (Jan '18 Set)","Lucent Library of Black History (Jan '18 Set)","978-1-5345-6256-1","Lucent Press","Library Set",6,2018,"January 2018","Library","7.000 X 9.000"," "," ",null,null,null,null,null,null,"Years 12 - 15","Grade 7","Grade 7 - 10","The experiences of and contributions made by African Americans are essential parts of the history of the United States. However, their compelling stories often do not get the attention they deserve as vital pieces of the American narrative. As readers explore crucial moments and figures in black history, they begin to see a clearer picture of the African American experience. This picture is painted in vibrant detail thanks to engaging text, annotated quotes, informative sidebars, and both historical and contemporary images. Primary sources and timelines are also included to enhance the reading experience.\r\nFeatures include: Topics present a comprehensive overview of black history – from slavery to the civil rights movement to the work being done in the present by black scientists and engineers – that enriches what is taught in social studies classes. Readers are inspired to seek out more stories that have been hidden from public knowledge, developing a more passionate and personal interest in history. Topics highlight the many ways African Americans have fought for and continue to fight for equality, encouraging readers to fight against injustice and intolerance in the world around them using their unique strengths.","English",236.4,189.12,null,"104 pp.",{"$f":"Table1[[#This Row],['# of Books]]*Table1[[#This Row],[QTY]]","v":0},{"$f":"Table1[[#This Row],[QTY]]*Table1[[#This Row],[School & Library Price]]","v":0}]
[null,75,null,"U.S. History","Lucent Library of Black History (Jan '18 Set)","Lucent Library of Black History (Jan '18 Set)","978-1-5345-6266-0","Lucent Press","eBook Set",6,2018,"January 2018",null,null," "," ",null,null,null,null,null,null,"Years 12 - 15","Grade 7","Grade 7 - 10","The experiences of and contributions made by African Americans are essential parts of the history of the United States. However, their compelling stories often do not get the attention they deserve as vital pieces of the American narrative. As readers explore crucial moments and figures in black history, they begin to see a clearer picture of the African American experience. This picture is painted in vibrant detail thanks to engaging text, annotated quotes, informative sidebars, and both historical and contemporary images. Primary sources and timelines are also included to enhance the reading experience.\r\nFeatures include: Topics present a comprehensive overview of black history – from slavery to the civil rights movement to the work being done in the present by black scientists and engineers – that enriches what is taught in social studies classes. Readers are inspired to seek out more stories that have been hidden from public knowledge, developing a more passionate and personal interest in history. Topics highlight the many ways African Americans have fought for and continue to fight for equality, encouraging readers to fight against injustice and intolerance in the world around them using their unique strengths.","English",236.4,189.12,null,"104 pp.",{"$f":"Table1[[#This Row],['# of Books]]*Table1[[#This Row],[QTY]]","v":0},{"$f":"Table1[[#This Row],[QTY]]*Table1[[#This Row],[School & Library Price]]","v":0}]
[null,75,null,"U.S. History","Lucent Library of Black History","Hidden No More: African American Women in STEM Careers","978-1-5345-6244-8","Lucent Press","eBook",1,2018,"January 2018",null,null,"Author","Caroline Kennon",null,null,null,null,"Z",null,"Years 12 - 15","Grade 7","Grade 7 - 10","In recent years, the stories of black women in scientific and mathematical fields have finally emerged from the shadows of history to inspire new generations of Americans. Through engaging main text filled with quotes from prominent figures, readers understand how black women who pursued careers in science and math helped shape the history of the world and continue to shape its future. Eye-catching photographs make this complex and influential topic easily relatable, while informative sidebars provide a thorough investigation of powerful women in powerful careers.","English",39.4,31.52,null,"104 pp.",{"$f":"Table1[[#This Row],['# of Books]]*Table1[[#This Row],[QTY]]","v":0},{"$f":"Table1[[#This Row],[QTY]]*Table1[[#This Row],[School & Library Price]]","v":0}]
[null,75,null,"U.S. History","Lucent Library of Black History","Marching for Equality: The Journey from Selma to Montgomery","978-1-5345-6241-7","Lucent Press","Library Bound Book",1,2018,"January 2018","Library","7.000 X 9.000","Author","Siyavush Saidian",null,null,null,null,"Z",null,"Years 12 - 15","Grade 7","Grade 7 - 10","One of the greatest leaders in American history, Martin Luther King Jr., organized a march from Selma, Alabama, to that state’s capital, Montgomery, in 1965. He and other activists wanted to call attention to the civil rights violations that plagued Alabama, as well as the struggle many African Americans were going through to exercise their right to vote. Readers learn about this important moment in American history through comprehensive text, quotes from civil rights leaders, and powerful photographs from the historic march to Montgomery.","English",39.4,31.52,null,"104 pp.",{"$f":"Table1[[#This Row],['# of Books]]*Table1[[#This Row],[QTY]]","v":0},{"$f":"Table1[[#This Row],[QTY]]*Table1[[#This Row],[School & Library Price]]","v":0}]
[null,75,null,"U.S. History","Lucent Library of Black History","The Freedom Rides: The Rise of the Civil Rights Movement","978-1-5345-6239-4","Lucent Press","Library Bound Book",1,2018,"January 2018","Library","7.000 X 9.000","Author","Sarah Machajewski",null,null,null,null,"Z",null,"Years 12 - 15","Grade 7","Grade 7 - 10","By the middle of the 1900s, African Americans were tired of the discriminatory treatment they had been receiving even after the abolition of slavery nearly 100 years prior. As the American civil rights movement began to grow, a group of courageous activists, called the Freedom Riders, began challenging the segregated status quo. Assisted by engaging fact boxes and a comprehensive text, readers are placed in the middle of the fight for equality. Striking photographs show readers the human aspect of the push, and fight, for greater social equality.","English",39.4,31.52,null,"112 pp.",{"$f":"Table1[[#This Row],['# of Books]]*Table1[[#This Row],[QTY]]","v":0},{"$f":"Table1[[#This Row],[QTY]]*Table1[[#This Row],[School & Library Price]]","v":0}]
[null,75,null,"U.S. History","Lucent Library of Black History","The Transatlantic Slave Trade: Slavery Comes to the New World","978-1-5345-6237-0","Lucent Press","Library Bound Book",1,2018,"January 2018","Library","7.000 X 9.000","Author","Siyavush Saidian",null,null,null,null,"Z",null,"Years 12 - 15","Grade 7","Grade 7 - 10","When European settlers first started their migration to the Western Hemisphere, they found land that was ready for farming. To build this agricultural society, they bought and sold slaves from Africa. Through the detailed text, contemporary and historical images, and informative sidebars, readers get a sense of how complex and dangerous the transatlantic slave trade was in the early years of New World exploration. Powerful quotes from primary sources and scholars bring this painful period in America’s past to life, asking readers to think more critically about history.","English",39.4,31.52,null,"104 pp.",{"$f":"Table1[[#This Row],['# of Books]]*Table1[[#This Row],[QTY]]","v":0},{"$f":"Table1[[#This Row],[QTY]]*Table1[[#This Row],[School & Library Price]]","v":0}]
[null,75,null,"U.S. History","Lucent Library of Black History","African American Entrepreneurs: Stories of Success","978-1-5345-6079-6","Lucent Press","Library Bound Book",1,"2018","August 2017","Library","7.000 X 9.000","Author","Philip Wolny",null,null,null,null,"Z",null,"Years 12 - 15","Grade 7","Grade 7 - 10","Starting a business is inherently risky, but it has historically been much harder for African Americans due to the systemic racism they face in many different areas. However, many black entrepreneurs have overcome those barriers to create successful businesses, working harder than their white counterparts to achieve similar results. Readers will learn about the history of discrimination against African Americans in the business world and how it has been and still can be combated. Historical and contemporary photographs and a comprehensive timeline shine a spotlight on many African American entrepreneurs who have changed the world.","English",39.4,31.52,"338'.0089'96073--dc23","104 pp.",{"$f":"Table1[[#This Row],['# of Books]]*Table1[[#This Row],[QTY]]","v":0},{"$f":"Table1[[#This Row],[QTY]]*Table1[[#This Row],[School & Library Price]]","v":0}]
[null,75,null,"U.S. History","Lucent Library of Black History","African American Inventors: Overcoming Challenges to Change America","978-1-5345-6072-7","Lucent Press","eBook",1,"2018","August 2017",null,null,"Author","Sophie Washburne",null,null,null,null,"Z",null,"Years 12 - 15","Grade 7","Grade 7 - 10","Many of the products we use every day were invented by African Americans, although these inventors unfortunately have not often been given credit for their contributions. Readers will take a fascinating look at the black men and women who have helped shape the world as we know it today with their inventions. Engaging text presents a discussion of the lives of prominent black inventors, including the struggles they dealt with in the past and continue to face today. A timeline of important dates, historical and contemporary images, and informative sidebars enhance this frequently overlooked area of history.","English",39.4,31.52,"609.2/396073--dc23","104 pp.",{"$f":"Table1[[#This Row],['# of Books]]*Table1[[#This Row],[QTY]]","v":0},{"$f":"Table1[[#This Row],[QTY]]*Table1[[#This Row],[School & Library Price]]","v":0}]
[null,75,null,"U.S. History","Lucent Library of Black History","African American Literature: Sharing Powerful Stories","978-1-5345-6078-9","Lucent Press","eBook",1,"2018","August 2017",null,null,"Author","Meghan Sharif",null,null,null,null,"Z",null,"Years 12 - 15","Grade 7","Grade 7 - 10","Since the 18th century, African Americans have been contributing important works to American literature. However, their writing has been treated differently than those produced by white authors. Readers discover the challenges black authors have faced in having their work published and being taken seriously by critics and readers alike. Engaging sidebars and detailed photographs augment this comprehensive overview of the racism that still persists in the publishing industry.","English",39.4,31.52,"810.9'9287--dc23","112 pp.",{"$f":"Table1[[#This Row],['# of Books]]*Table1[[#This Row],[QTY]]","v":0},{"$f":"Table1[[#This Row],[QTY]]*Table1[[#This Row],[School & Library Price]]","v":0}]
[null,75,null,"U.S. History","Lucent Library of Black History","African Americans in Film: Issues of Race in Hollywood","978-1-5345-6081-9","Lucent Press","Library Bound Book",1,"2018","August 2017","Library","7.000 X 9.000","Author","Camille R. Michaels",null,null,null,null,"Z",null,"Years 12 - 15","Grade 7","Grade 7 - 10","The whitewashing of roles in films and the lack of representation at awards shows such as the Oscars are only two of the career obstacles African American actors and filmmakers have historically faced. Although blackface is now taboo, racism is still prevalent in Hollywood. Readers explore the causes of the systemic oppression that has made it difficult for African Americans to break into the movie business. Through full-color photographs and primary sources, readers will learn how to become more thoughtful viewers of movies and television.","English",39.4,31.52,"791.43’652996073--dc23","104 pp.",{"$f":"Table1[[#This Row],['# of Books]]*Table1[[#This Row],[QTY]]","v":0},{"$f":"Table1[[#This Row],[QTY]]*Table1[[#This Row],[School & Library Price]]","v":0}]
[null,75,null,"U.S. History","Lucent Library of Black History","African Americans in Political Office: From the Civil War to the White House","978-1-5345-6076-5","Lucent Press","eBook",1,"2018","August 2017",null,null,"Author","Barbara M. Linde ",null,null,null,null,"Z",null,"Years 12 - 15","Grade 7","Grade 7 - 10","Barack Obama made history when he became president in 2008, but his election was made possible partially by the hard work of the many African American politicians who came before him. Even before the abolition of slavery, African Americans held political office, although they have not had an easy time of it. This historical overview of black politicians in the United States enhances classroom learning by bringing to light little-known facts, supported by primary sources and a timeline of important events.","English",39.4,31.52,"973'.0496073--dc23","104 pp.",{"$f":"Table1[[#This Row],['# of Books]]*Table1[[#This Row],[QTY]]","v":0},{"$f":"Table1[[#This Row],[QTY]]*Table1[[#This Row],[School & Library Price]]","v":0}]
[null,75,null,"U.S. History","Lucent Library of Black History","African Americans in Sports","978-1-4205-0863-5","Lucent Press","eBook",1,2012,null,"eBook",null,"Author","Carla Mooney",null,null,null,null,null,null,"Years 12 - 15",null,"Grade 7 - 10","This new addition to the Lucent Library of Black History explores the history of African American involvement in sports in the United States from the nineteenth century to the present.  Blacks’ participation in horse racing, track and field, baseball, basketball, golf, tennis, and boxing are all covered. The title relates the accomplishments of trailblazers as well as the discrimination, insults, and physical violence they endured to open the doors of opportunity for black athletes around the country. The achievements of modern sports stars are also discussed and sidebars feature brief biographies of both pioneers and superstars.","English",43.34,43.34,"796.089960","112 pp.",{"$f":"Table1[[#This Row],['# of Books]]*Table1[[#This Row],[QTY]]","v":0},{"$f":"Table1[[#This Row],[QTY]]*Table1[[#This Row],[School & Library Price]]","v":0}]
[null,75,null,"U.S. History","Lucent Library of Black History","An Appeal for Justice: The Trials of the Scottsboro Nine","978-1-4205-0847-5","Lucent Press","eBook",1,2012,null,"eBook",null,"Author","John F. Wukovits",null,null,null,null,null,null,"Years 12 - 15",null,"Grade 7 - 10",null,"English",43.34,43.34,"345.761","128 pp.",{"$f":"Table1[[#This Row],['# of Books]]*Table1[[#This Row],[QTY]]","v":0},{"$f":"Table1[[#This Row],[QTY]]*Table1[[#This Row],[School & Library Price]]","v":0}]
[null,75,null,"U.S. History","Lucent Library of Black History","Booker T. Washington and Education","978-1-4205-0052-3","Lucent Press","Library Bound Book",1,2008,null,"Library Bound","7.000 X 9.000","Author","John F. Wukovits",null,null,null,null,null,null,"Years 12 - 15",null,"Grade 7 - 10","As a child born into slavery on a small Virginia plantation, Booker T. Washington was made to carry books for the plantation owner’s children when they walked to school. His dedication to education began there. \"I had the feeling that to get into a schoolhouse and study in this way would be about the same as getting into paradise,\" he wrote in his autobiography.  Washington faced difficult circumstances to obtain his education and then went on to help establish the Tuskegee Normal and Industrial Institute, a school for blacks in the midst of the Deep South. Booker T. Washington and Education uses accessible language and meaningful illustrations to draw readers into Washington’s incredible story - his life on the plantation and struggles to survive after the Civil War, his influences, mentors and detractors; and the challenges Washington faced as a pioneering educator trying to improve opportunities for African Americans. Also includes a glossary, chronology, a thorough index and bibliographies.","English",39.4,31.52,"370","112 pp.",{"$f":"Table1[[#This Row],['# of Books]]*Table1[[#This Row],[QTY]]","v":0},{"$f":"Table1[[#This Row],[QTY]]*Table1[[#This Row],[School & Library Price]]","v":0}]
[null,75,null,"U.S. History","Lucent Library of Black History","Jazz","978-1-4205-0709-6","Lucent Press","eBook",1,2011,null,"eBook",null,"Author","Ronald D. Lankford",null,null,null,null,null,null,"Years 12 - 15",null,"Grade 7 - 10",null,"English",43.34,43.34,"781.6509","112 pp.",{"$f":"Table1[[#This Row],['# of Books]]*Table1[[#This Row],[QTY]]","v":0},{"$f":"Table1[[#This Row],[QTY]]*Table1[[#This Row],[School & Library Price]]","v":0}]
[null,75,null,"U.S. History","Lucent Library of Black History","Landmarks in African American History","978-1-4205-0921-2","Lucent Press","Library Bound Book",1,2013,null,"Library Bound","7.000 X 9.000","Author","Michael V. Uschan",null,null,null,null,null,null,"Years 12 - 15",null,"Grade 7 - 10","This title in the Lucent Library of Black History series describes physical landmarks in African American history and discusses the history associated with those places. The book is organized around thematic chapters that take readers on a virtual tour of landmarks associated with the theme, in the process describing the people and events that inspired the landmarks. Thematic chapters include: The Slavery Era, African Americans Resist Slavery, The Civil War, Education for Blacks, The Civil Rights Movement, and African American Achievers.","English",39.4,31.52,"973","104 pp.",{"$f":"Table1[[#This Row],['# of Books]]*Table1[[#This Row],[QTY]]","v":0},{"$f":"Table1[[#This Row],[QTY]]*Table1[[#This Row],[School & Library Price]]","v":0}]
[null,76,null,"U.S. History","Lucent Library of Black History","Rosa Parks and the Montgomery Bus Boycott","978-1-4205-0010-3","Lucent Press","Library Bound Book",1,2008,null,"Library Bound","7.000 X 9.000","Author","Lydia Bjornlund",null,null,null,null,null,null,"Years 12 - 15",null,"Grade 7 - 10",null,"English",39.4,31.52,"973","104 pp.",{"$f":"Table1[[#This Row],['# of Books]]*Table1[[#This Row],[QTY]]","v":0},{"$f":"Table1[[#This Row],[QTY]]*Table1[[#This Row],[School & Library Price]]","v":0}]
[null,76,null,"U.S. History","Lucent Library of Black History","Slave Rebellions","978-1-5901-8548-3","Lucent Press","Library Bound Book",1,2007,null,"Library Bound","7.000 X 9.000","Author","Jessica Gresko",null,null,null,null,null,null,"Years 12 - 15",null,"Grade 7 - 10",null,"English",39.4,31.52,"306.3","104 pp.",{"$f":"Table1[[#This Row],['# of Books]]*Table1[[#This Row],[QTY]]","v":0},{"$f":"Table1[[#This Row],[QTY]]*Table1[[#This Row],[School & Library Price]]","v":0}]
[null,76,null,"U.S. History","Lucent Library of Black History","The Atlantic Slave Trade","978-1-4205-0007-3","Lucent Press","Library Bound Book",1,2008,null,"Library Bound","7.000 X 9.000","Author","Don Nardo",null,null,null,null,null,null,"Years 12 - 15",null,"Grade 7 - 10",null,"English",39.4,31.52,"306","104 pp.",{"$f":"Table1[[#This Row],['# of Books]]*Table1[[#This Row],[QTY]]","v":0},{"$f":"Table1[[#This Row],[QTY]]*Table1[[#This Row],[School & Library Price]]","v":0}]
[null,76,null,"U.S. History","Lucent Library of Black History","The Blues","978-1-4205-0658-7","Lucent Press","Library Bound Book",1,2012,null,"Library Bound","7.000 X 9.000","Author","Michael V. Uschan",null,null,null,null,null,null,"Years 12 - 15",null,"Grade 7 - 10",null,"English",39.4,31.52,"781.643","112 pp.",{"$f":"Table1[[#This Row],['# of Books]]*Table1[[#This Row],[QTY]]","v":0},{"$f":"Table1[[#This Row],[QTY]]*Table1[[#This Row],[School & Library Price]]","v":0}]
[null,76,null,"U.S. History","Lucent Library of Black History","The Freedom Rides","978-1-4205-0732-4","Lucent Press","Library Bound Book",1,2012,null,"Library Bound","7.000 X 9.000","Author","Anne Wallace Sharp",null,null,null,null,null,null,"Years 12 - 15",null,"Grade 7 - 10","In this new addition to the Lucent Library of Black History, author Anne Wallace Sharp describes the events that led up to and followed the historic Freedom Rides of 1961. The experiences of African Americans in the Jim Crow South, the stark inequality enforced with segregation laws, and the struggles of the budding civil rights movement are all discussed. Sharp recounts the experiences shared by the Freedom Riders as they faced oppression and violence, and describes how this event changed the course of American history.","English",39.4,31.52,"323.1196","112 pp.",{"$f":"Table1[[#This Row],['# of Books]]*Table1[[#This Row],[QTY]]","v":0},{"$f":"Table1[[#This Row],[QTY]]*Table1[[#This Row],[School & Library Price]]","v":0}]
[null,76,null,"U.S. History","Lucent Library of Black History","The March from Selma to Montgomery","978-1-4205-0571-9","Lucent Press","Library Bound Book",1,2011,null,"Library Bound","7.000 X 9.000","Author","Michael V. Uschan",null,null,null,null,null,null,"Years 12 - 15",null,"Grade 7 - 10",null,"English",39.4,31.52,"323","104 pp.",{"$f":"Table1[[#This Row],['# of Books]]*Table1[[#This Row],[QTY]]","v":0},{"$f":"Table1[[#This Row],[QTY]]*Table1[[#This Row],[School & Library Price]]","v":0}]
[null,77,null,"U.S. History","American History (Aug '17 Set)","American History (Aug '17 Set)","978-1-5345-6155-7","Lucent Press","Library Set",6,"2018","August 2017","Library","7.000 X 9.000"," "," ",null,null,null,null,null,null,"Years 12 - 15","Grade 7","Grade 7 - 10","American history is filled with incredible stories that can sometimes get lost amid the memorization of names and dates. Readers dig deeper into the stories behind the common topics they’re taught in their history classes, with the help of engaging main text, detailed sidebars, and annotated quotes from historical figures and contemporary historians. Full-color photographs and historical images help readers place themselves in the middle of major moments in American history—from the creation of the Transcontinental Railroad to the Great Depression. As they read, they gain a deeper appreciation for the way the past still affects our lives today.","English",236.4,189.12,null,"104 pp.",{"$f":"Table1[[#This Row],['# of Books]]*Table1[[#This Row],[QTY]]","v":0},{"$f":"Table1[[#This Row],[QTY]]*Table1[[#This Row],[School & Library Price]]","v":0}]
[null,77,null,"U.S. History","American History (Aug '17 Set)","American History (Aug '17 Set)","978-1-5345-6157-1","Lucent Press","eBook Set",6,"2018","August 2017",null,null," "," ",null,null,null,null,null,null,"Years 12 - 15","Grade 7","Grade 7 - 10","American history is filled with incredible stories that can sometimes get lost amid the memorization of names and dates. Readers dig deeper into the stories behind the common topics they’re taught in their history classes, with the help of engaging main text, detailed sidebars, and annotated quotes from historical figures and contemporary historians. Full-color photographs and historical images help readers place themselves in the middle of major moments in American history—from the creation of the Transcontinental Railroad to the Great Depression. As they read, they gain a deeper appreciation for the way the past still affects our lives today.","English",236.4,189.12,null,"104 pp.",{"$f":"Table1[[#This Row],['# of Books]]*Table1[[#This Row],[QTY]]","v":0},{"$f":"Table1[[#This Row],[QTY]]*Table1[[#This Row],[School & Library Price]]","v":0}]
[null,77,null,"U.S. History","American History","The Great Depression: Worldwide Economic Crisis","978-1-5345-6132-8","Lucent Press","eBook",1,"2018","August 2017",null,null,"Author","Siyavush Saidian",null,null,null,null,"Z",null,"Years 12 - 15","Grade 7","Grade 7 - 10","The Great Depression was a difficult time in American history, and it eventually became an economic crisis that affected the entire world. Readers uncover important facts and enlightening details about the Great Depression, including what caused it, how average Americans dealt with financial hardships during this time, and what programs were created to get Americans back to work. As readers explore the detailed main text, engaging sidebars, and historical images, they gain a deeper understanding of the idea that one event in one country can have a ripple effect over the entire world.","English",39.4,31.52,"973.91--dc23","104 pp.",{"$f":"Table1[[#This Row],['# of Books]]*Table1[[#This Row],[QTY]]","v":0},{"$f":"Table1[[#This Row],[QTY]]*Table1[[#This Row],[School & Library Price]]","v":0}]
[null,77,null,"U.S. History","American History","The Industrial Revolution: The Birth of Modern America","978-1-5345-6133-5","Lucent Press","Library Bound Book",1,"2018","August 2017","Library","7.000 X 9.000","Author","Emily Mahoney",null,null,null,null,"Z",null,"Years 12 - 15","Grade 7","Grade 7 - 10","During the Industrial Revolution, millions of Americans moved from farms to cities in search of work in new factories. This shift from an agricultural society to an industrial society was monumental, shaping the United States into the nation it is today. Readers explore the driving forces behind the Industrial Revolution and lasting effects of this dramatic change through carefully chosen primary sources, sidebars that feature first-person accounts of this time period, and riveting main text filled with essential historical facts. With each turn of the page, readers will find themselves fully immersed in this seminal time period in American history.","English",39.4,31.52,"330.973'08--dc23","104 pp.",{"$f":"Table1[[#This Row],['# of Books]]*Table1[[#This Row],[QTY]]","v":0},{"$f":"Table1[[#This Row],[QTY]]*Table1[[#This Row],[School & Library Price]]","v":0}]
[null,77,null,"U.S. History","American History","The Trail of Tears: A Journey of Loss","978-1-5345-6135-9","Lucent Press","Library Bound Book",1,"2018","August 2017","Library","7.000 X 9.000","Author","Kristen Rajczak Nelson",null,null,null,null,"Z",null,"Years 12 - 15","Grade 7","Grade 7 - 10","The Trail of Tears is the name used to describe the forced migration of the Cherokee people in the 1830s from their homelands in the southeastern United States to land in what’s now Oklahoma. This devastating journey took the lives of thousands of Native Americans, and it’s one of the most shameful chapters in American history. Detailed main text—supported by enlightening sidebars and primary sources—gives readers a clear picture of the reasons the Cherokee people were forced from their homes and what happened to them on the difficult journey west.","English",39.4,31.52,"975.004'97557--dc23","104 pp.",{"$f":"Table1[[#This Row],['# of Books]]*Table1[[#This Row],[QTY]]","v":0},{"$f":"Table1[[#This Row],[QTY]]*Table1[[#This Row],[School & Library Price]]","v":0}]
[null,77,null,"U.S. History","American History","The Transcontinental Railroad: Connecting the Nation","978-1-5345-6137-3","Lucent Press","Library Bound Book",1,"2018","August 2017","Library","7.000 X 9.000","Author","Therese Harasymiw",null,null,null,null,"Z",null,"Years 12 - 15","Grade 7","Grade 7 - 10","Readers may know the basic facts about the creation of the first transcontinental railroad, but the full story behind the push to connect the United States by rail is much more than the names and dates taught in history classes. Readers discover the exciting, important details—including the contributions of immigrants—as they encounter engaging main text, comprehensive sidebars, and historical images that include carefully chosen primary sources. These text features come together to give readers an in-depth look at the first successful attempt to connect the United States through transportation.","English",39.4,31.52,"385.0978'09034--dc23","104 pp.",{"$f":"Table1[[#This Row],['# of Books]]*Table1[[#This Row],[QTY]]","v":0},{"$f":"Table1[[#This Row],[QTY]]*Table1[[#This Row],[School & Library Price]]","v":0}]
[null,77,null,"U.S. History","American History (Jan '17 Set)","American History (Jan '17 Set)","978-1-5345-6062-8","Lucent Press","eBook Set",6,2017,"January 2017","eBook",null," "," ",null,null,null,null,null,null,null,null,"Grade 7 - 10","","English",236.4,189.12,null,"104 pp.",{"$f":"Table1[[#This Row],['# of Books]]*Table1[[#This Row],[QTY]]","v":0},{"$f":"Table1[[#This Row],[QTY]]*Table1[[#This Row],[School & Library Price]]","v":0}]
[null,77,null,"U.S. History","American History","The American Revolution: Fighting for Independence","978-1-5345-6042-0","Lucent Press","eBook",1,2017,"January 2017","eBook",null,"Author","Amy Rogers",null,null,null,null,"Z",null,null,null,"Grade 7 - 10","The United States was formed by a large group of people fighting back against perceived injustices. Americans wanted the ability to create and enforce their own laws, as they did not feel the British government was acting in America’s best interests. Both sides of the story are presented to readers, along with colorful maps and engaging primary sources. This fresh approach encourages them to think critically about the events that ultimately led to the war for American independence.","English",39.4,31.52,null,"104 pp.",{"$f":"Table1[[#This Row],['# of Books]]*Table1[[#This Row],[QTY]]","v":0},{"$f":"Table1[[#This Row],[QTY]]*Table1[[#This Row],[School & Library Price]]","v":0}]
[null,77,null,"U.S. History","American History","Native Americans in Early North America","978-1-5345-6038-3","Lucent Press","eBook",1,2017,"January 2017","eBook",null,"Author","Barbara Linde",null,null,null,null,"Z",null,null,null,"Grade 7 - 10","Native peoples of the United States and Canada have rich histories and traditions that help them maintain varied cultural identities in modern society. In the past, white Americans attempted to hide or eradicate these cultures. Today we know that they should instead be celebrated. The artifacts and customs of these early civilizations are presented to readers through full-color photographs and primary sources, and a detailed timeline places historical events in chronological order. Readers will enjoy learning about the vibrant past of cultures that are still active today.","English",39.4,31.52,null,"104 pp.",{"$f":"Table1[[#This Row],['# of Books]]*Table1[[#This Row],[QTY]]","v":0},{"$f":"Table1[[#This Row],[QTY]]*Table1[[#This Row],[School & Library Price]]","v":0}]
[null,77,null,"U.S. History","American History","Slavery in North America","978-1-5345-6060-4","Lucent Press","Library Bound Book",1,2017,"January 2017","Library Bound","7.000 X 9.000","Author","Barbara Linde",null,null,null,null,"Z",null,"Years 12 - 15",null,"Grade 7 - 10","Before the Civil War, a large part of the U.S. economy was built on slave labor. Readers learn that goods could be produced and sold cheaply because the slaves were unpaid for their labor. Millions of black men, women, and children were treated as property. Although slavery has been abolished, the racism that sprang from this period still haunts America today. Accessible text, primary sources, and informative sidebars provide readers with an unvarnished look at a tragic period in America’s past.","English",39.4,31.52,null,"104 pp.",{"$f":"Table1[[#This Row],['# of Books]]*Table1[[#This Row],[QTY]]","v":0},{"$f":"Table1[[#This Row],[QTY]]*Table1[[#This Row],[School & Library Price]]","v":0}]
[null,77,null,"U.S. History","American History","The Story of the Constitution: Creating the U.S. Government","978-1-5345-6044-4","Lucent Press","Library Bound Book",1,2017,"January 2017","Library Bound","7.000 X 9.000","Author","Leslie Beckett",null,null,null,null,"Z",null,"Years 12 - 15",null,"Grade 7 - 10","Many misconceptions about the U.S. Constitution are spread through the contemporary media, leading to confusion about the way our government functions. Learning about this important document gives readers the tools they need to verify the truthfulness of news items and decide what stance they hold on proposed changes to our nation’s laws. In-depth sidebars and quotes from primary sources provide further insight into the creation of the Constitution and its modern-day consequences.","English",39.4,31.52,null,"104 pp.",{"$f":"Table1[[#This Row],['# of Books]]*Table1[[#This Row],[QTY]]","v":0},{"$f":"Table1[[#This Row],[QTY]]*Table1[[#This Row],[School & Library Price]]","v":0}]
[null,77,null,"U.S. History","American History","The Story of the Constitution: Creating the U.S. Government","978-1-5345-6043-7","Lucent Press","eBook",1,2017,"January 2017","eBook",null,"Author","Leslie Beckett",null,null,null,null,"Z",null,null,null,"Grade 7 - 10","Many misconceptions about the U.S. Constitution are spread through the contemporary media, leading to confusion about the way our government functions. Learning about this important document gives readers the tools they need to verify the truthfulness of news items and decide what stance they hold on proposed changes to our nation’s laws. In-depth sidebars and quotes from primary sources provide further insight into the creation of the Constitution and its modern-day consequences.","English",39.4,31.52,null,"104 pp.",{"$f":"Table1[[#This Row],['# of Books]]*Table1[[#This Row],[QTY]]","v":0},{"$f":"Table1[[#This Row],[QTY]]*Table1[[#This Row],[School & Library Price]]","v":0}]
[null,77,null,"U.S. History","American History","Prohibition","978-1-4205-0134-6","Lucent Press","Library Bound Book",1,2010,null,"Library Bound","7.000 X 9.000","Author","John M. Dunn",null,null,null,null,null,null,"Years 12 - 15",null,"Grade 7 - 10","Describes the rise and fall of Prohibition in the United States. Includes a history of alcohol use in the U.S. before the nineteenth century movement. Provides detail on the many social, economic, and political factors leading to its gain in popularity, leading to passage of the 18th Amendment and the changes the lead to its repeal in 1933. The 18th Amendment to the United States Constitution prohibited the manufacture, sale, or transportation of intoxicating liquors. This book details the social, economic, and political factors leading to its passage in 1919, including the history of alcohol use and the nineteenth-century temperance movements. It also examines the impact of Prohibition and its enforcement, and the changes that led to its subsequent repeal by the 21st Amendment in 1933.","English",39.4,31.52,"363","112 pp.",{"$f":"Table1[[#This Row],['# of Books]]*Table1[[#This Row],[QTY]]","v":0},{"$f":"Table1[[#This Row],[QTY]]*Table1[[#This Row],[School & Library Price]]","v":0}]
[null,77,null,"U.S. History","American History","The Civil Rights Movement","978-1-4205-0261-9","Lucent Press","Library Bound Book",1,2010,null,"Library Bound","7.000 X 9.000","Author","Michael V. Uschan",null,null,null,null,null,null,"Years 12 - 15",null,"Grade 7 - 10","Looks at the Civil Rights Movement in the United States as a four-century struggle that began with as early as the Revolutionary War and continued with slave rebellions in the years leading up to the Civil War. Talks about rights that were gained during Reconstruction, but then lost again as southern states used violence to disenfranchise and oppress blacks. Examines early 20th century efforts to improve the lives of African Americans, encouraged by black leaders such as W.E.B. DuBois and Ida B. Wells-Barnett. These efforts led to what many call the modern Civil Rights Movement of the 1950s and 1960s. Author also discusses the groundbreaking milestone of having a black U.S. president but acknowledges the U.S. has a ways to go before achieving true equality. The roots of the modern Civil Rights Movement in the United States pervade the nation's history, from the slave rebellions in the years leading up to the Civil War, to the rights gained during Reconstruction, to the early 20th-century efforts of black leaders such as W. E. B. Du Bois and Ida B. Wells-Barnett. This book chronicles the journey that led to the Civil Rights Act of 1964 and the milestone election of President Barack Obama, as well as the continuing struggle for true equality.","English",39.4,31.52,"323","128 pp.",{"$f":"Table1[[#This Row],['# of Books]]*Table1[[#This Row],[QTY]]","v":0},{"$f":"Table1[[#This Row],[QTY]]*Table1[[#This Row],[School & Library Price]]","v":0}]
[null,77,null,"U.S. History","American History","The Cold War","978-1-4205-1294-6","Lucent Press","eBook",1,2009,null,"eBook",null,"Author","Richard Brownell",null,null,null,null,null,null,"Years 12 - 15",null,"Grade 7 - 10",null,"English",43.34,43.34,"909.825","104 pp.",{"$f":"Table1[[#This Row],['# of Books]]*Table1[[#This Row],[QTY]]","v":0},{"$f":"Table1[[#This Row],[QTY]]*Table1[[#This Row],[School & Library Price]]","v":0}]
[null,77,null,"U.S. History","American History","Twentieth-Century Immigration to the United States","978-1-5901-8186-7","Lucent Press","Library Bound Book",1,2007,null,"Library Bound","7.000 X 9.000","Author","Stuart A. Kallen",null,null,null,null,null,null,"Years 12 - 15",null,"Grade 7 - 10",null,"English",39.4,31.52,"304.8","104 pp.",{"$f":"Table1[[#This Row],['# of Books]]*Table1[[#This Row],[QTY]]","v":0},{"$f":"Table1[[#This Row],[QTY]]*Table1[[#This Row],[School & Library Price]]","v":0}]
[null,77,null,"U.S. History","American History","Watergate","978-1-4205-0135-3","Lucent Press","Library Bound Book",1,2010,null,"Library Bound","7.000 X 9.000","Author","Michael V. Uschan",null,null,null,null,null,null,"Years 12 - 15",null,"Grade 7 - 10",null,"English",39.4,31.52,"973","104 pp.",{"$f":"Table1[[#This Row],['# of Books]]*Table1[[#This Row],[QTY]]","v":0},{"$f":"Table1[[#This Row],[QTY]]*Table1[[#This Row],[School & Library Price]]","v":0}]
[null,78,null,"World History","World History (Jan '17 Set)","World History (Jan '17 Set)","978-1-5345-6070-3","Lucent Press","eBook Set",6,2017,"January 2017","eBook",null," "," ",null,null,null,null,null,null,null,null,"Grade 7 - 10","","English",239.4,191.52,null,"104 pp.",{"$f":"Table1[[#This Row],['# of Books]]*Table1[[#This Row],[QTY]]","v":0},{"$f":"Table1[[#This Row],[QTY]]*Table1[[#This Row],[School & Library Price]]","v":0}]
[null,78,null,"World History","World History","The Black Death: Bubonic Plague Attacks Europe","978-1-5345-6047-5","Lucent Press","Library Bound Book",1,2017,"January 2017","Library Bound","7.000 X 9.000","Author","Emily Mahoney",null,null,null,null,"Z",null,"Years 12 - 15",null,"Grade 7 - 10","The Bubonic Plague terrorized Europe and North Africa in the 14th century, killing millions of people. Readers learn many fascinating facts about what became known as the “Black Death.” They discover that the cause of the disease was unknown for most of the epidemic, and many unlikely things were blamed, including bad smells and occult rituals. Detailed sidebars and a comprehensive timeline augment the compelling text as it examines how the disastrous events of the plague were exacerbated by people’s ignorance of scientific facts.","English",39.9,31.92,null,"104 pp.",{"$f":"Table1[[#This Row],['# of Books]]*Table1[[#This Row],[QTY]]","v":0},{"$f":"Table1[[#This Row],[QTY]]*Table1[[#This Row],[School & Library Price]]","v":0}]
[null,78,null,"World History","World History","The French Revolution: The Power of the People","978-1-5345-6052-9","Lucent Press","eBook",1,2017,"January 2017","eBook",null,"Author","Karen Haywood",null,null,null,null,"Z",null,null,null,"Grade 7 - 10","Economic inequality and abuse of power by the reigning government were two major factors in the outbreak of the French Revolution. The French peasants’ anger about these issues was so great that they turned to extreme violence, killing anyone who voiced dissent with the revolutionary cause. Informative sidebars and primary sources are presented alongside the engaging main text to help illustrate the danger of allowing social and economic disparity to remain unaddressed by governing bodies. A fact-filled timeline highlights key events before, during, and after the revolution.","English",39.9,31.92,null,"104 pp.",{"$f":"Table1[[#This Row],['# of Books]]*Table1[[#This Row],[QTY]]","v":0},{"$f":"Table1[[#This Row],[QTY]]*Table1[[#This Row],[School & Library Price]]","v":0}]
[null,78,null,"World History","World History","The Horrors of Auschwitz","978-1-5345-6055-0","Lucent Press","eBook",1,2017,"January 2017","eBook",null,"Author","Jennifer Lombardo",null,null,null,null,"Z",null,null,null,"Grade 7 - 10","The Nazi campaign against Jewish people living in their territories began slowly, with the gradual erosion of their rights to own property, hold a job, or marry non-Jews. These indignities intensified over time, eventually culminating in the establishment of work camps—also known as concentration or death camps—such as Auschwitz. Full-color photographs, a detailed timeline, and excerpts from primary sources offer an in-depth look at the Nazis’ rise to power, allowing readers to think critically about the warning signs of a society on the brink of crisis.","English",39.9,31.92,null,"104 pp.",{"$f":"Table1[[#This Row],['# of Books]]*Table1[[#This Row],[QTY]]","v":0},{"$f":"Table1[[#This Row],[QTY]]*Table1[[#This Row],[School & Library Price]]","v":0}]
[null,78,null,"World History","World History","The Rise of ISIS: The Modern Age of Terrorism","978-1-5345-6057-4","Lucent Press","eBook",1,2017,"January 2017","eBook",null,"Author","Caroline Kennan",null,null,null,null,"Z",null,null,null,"Grade 7 - 10","ISIS is a significant threat to modern society—it has caused the deaths of thousands and the rise of anti-Muslim sentiment around the world, despite the fact that prominent Muslim leaders have denounced the group’s actions. Understanding ISIS is vital to defeating it. Readers learn about the creation of this terrorist group, its rise to power, and what is being done by nations around the world to stop its members from taking more lives. Full-color photographs and a timeline of key events contribute to a comprehensive overview of this chapter in the story of modern terrorism.","English",39.9,31.92,null,"104 pp.",{"$f":"Table1[[#This Row],['# of Books]]*Table1[[#This Row],[QTY]]","v":0},{"$f":"Table1[[#This Row],[QTY]]*Table1[[#This Row],[School & Library Price]]","v":0}]
[null,78,null,"World History","World History","American Counterculture of the 1960s","978-1-4205-0586-3","Lucent Press","eBook",1,2011,null,"eBook",null,"Author","Richard Brownell",null,null,null,null,null,null,"Years 12 - 15",null,"Grade 7 - 10","This volume focuses on the American counterculture of the 1960s and features quotations from sources such as diaries, public records, and contemporary chronicles. Each book in the comprehensive World History series offers a clearly written and visually enhanced overview of an important historical event or period. The series is designed both to acquaint readers with the basics of history and to make them aware that their lives and their own historical era are an intimate part of the ongoing human saga.","English",43.89,43.89,"306.1","96 pp.",{"$f":"Table1[[#This Row],['# of Books]]*Table1[[#This Row],[QTY]]","v":0},{"$f":"Table1[[#This Row],[QTY]]*Table1[[#This Row],[School & Library Price]]","v":0}]
[null,78,null,"World History","World History","Birth of Modern India","978-1-4205-1218-2","Lucent Press","eBook",1,2014,null,"eBook",null,"Author","John M. Dunn",null,null,null,null,null,null,"Years 12 - 15",null,"Grade 7 - 10",null,"English",43.89,43.89,"954.03","104 pp.",{"$f":"Table1[[#This Row],['# of Books]]*Table1[[#This Row],[QTY]]","v":0},{"$f":"Table1[[#This Row],[QTY]]*Table1[[#This Row],[School & Library Price]]","v":0}]
[null,78,null,"World History","World History","Influenza Pandemics","978-1-4205-0638-9","Lucent Press","eBook",1,2011,null,"eBook",null,"Author","Lizabeth Hardman",null,null,null,null,null,null,"Years 12 - 15",null,"Grade 7 - 10",null,"English",43.89,43.89,"614.5","104 pp.",{"$f":"Table1[[#This Row],['# of Books]]*Table1[[#This Row],[QTY]]","v":0},{"$f":"Table1[[#This Row],[QTY]]*Table1[[#This Row],[School & Library Price]]","v":0}]
[null,78,null,"World History","World History","Influenza Pandemics","978-1-4205-0349-4","Lucent Press","Library Bound Book",1,2011,null,"Library Bound","7.000 X 9.000","Author","Lizabeth Hardman",null,null,null,null,null,null,"Years 12 - 15",null,"Grade 7 - 10",null,"English",39.9,31.92,"614","104 pp.",{"$f":"Table1[[#This Row],['# of Books]]*Table1[[#This Row],[QTY]]","v":0},{"$f":"Table1[[#This Row],[QTY]]*Table1[[#This Row],[School & Library Price]]","v":0}]
[null,78,null,"World History","World History","Internment of Japanese Americans","978-1-4205-0824-6","Lucent Press","Library Bound Book",1,2013,null,"Library Bound","7.000 X 9.000","Author","John F. Wukovits",null,null,null,null,null,null,"Years 12 - 15",null,"Grade 7 - 10","This title in Lucent's World History series takes a close look at a unique event in United States history, the internment of Japanese Americans during World War II. It details both the political and social motivations for internment and also relates the impact of this event on individuals and communities on the west coast and how it reverberated throughout the country. The title includes a timeline of events, sources for further research, engaging photographs, and a detailed subject index.","English",39.9,31.92,"940","120 pp.",{"$f":"Table1[[#This Row],['# of Books]]*Table1[[#This Row],[QTY]]","v":0},{"$f":"Table1[[#This Row],[QTY]]*Table1[[#This Row],[School & Library Price]]","v":0}]
[null,79,null,"World History","World History","Maya Civilization","978-1-4205-0240-4","Lucent Press","Library Bound Book",1,2010,null,"Library Bound","7.000 X 9.000","Author","Charles George",null,null,null,null,null,null,"Years 12 - 15",null,"Grade 7 - 10",null,"English",39.9,31.92,"972","96 pp.",{"$f":"Table1[[#This Row],['# of Books]]*Table1[[#This Row],[QTY]]","v":0},{"$f":"Table1[[#This Row],[QTY]]*Table1[[#This Row],[School & Library Price]]","v":0}]
[null,79,null,"World History","World History","Polar Explorations","978-1-4205-0360-9","Lucent Press","Library Bound Book",1,2011,null,"Library Bound","7.000 X 9.000","Author","Don Nardo",null,null,null,null,null,null,"Years 12 - 15",null,"Grade 7 - 10",null,"English",39.9,31.92,"919","104 pp.",{"$f":"Table1[[#This Row],['# of Books]]*Table1[[#This Row],[QTY]]","v":0},{"$f":"Table1[[#This Row],[QTY]]*Table1[[#This Row],[School & Library Price]]","v":0}]
[null,79,null,"World History","World History","Slavery Through Ages","978-1-4205-0860-4","Lucent Press","Library Bound Book",1,2014,null,"Library Bound","7.000 X 9.000","Author","Don Nardo",null,null,null,null,null,null,"Years 12 - 15",null,"Grade 7 - 10","This title in Lucent's World History talks about the evolution of slavery from ancient times, through the nineteenth century, and into the modern day. The book also describes how historians have used different types of evidence to prove the existence of slavery throughout history.","English",39.9,31.92,"306","104 pp.",{"$f":"Table1[[#This Row],['# of Books]]*Table1[[#This Row],[QTY]]","v":0},{"$f":"Table1[[#This Row],[QTY]]*Table1[[#This Row],[School & Library Price]]","v":0}]
[null,79,null,"World History","World History","The Age of Exploration","978-1-4205-1134-5","Lucent Press","eBook",1,2013,null,"eBook",null,"Author","Andrew A. Kling",null,null,null,null,null,null,"Years 12 - 15",null,"Grade 7 - 10","This title in Lucent’s World History series tells the story of the Age of Exploration, beginning with the efforts of Prince Henry the Navigator of Portugal in the 15th century, covering major discoveries and expeditions through to the late 17th century.  The title discusses the contributions of Gil Eannes in navigating the west coast of Africa; Bartolomeu Dias sailing around the southern cape of Africa; Christopher Columbus reaching the Bahamas Islands, Cuba and Hispaniola, Vasco da Gama rounding Africa and reaches the Indian port of Calicut; Spanish conquistador Hernando Cortés defeating the Aztec empire in Mexico; Ferdinand Magellan and Sir Francis Drake circumnavigating the Earth; Jaques Cartier and Henry Hudson’s explorations of North America, and much more. Includes a timeline, maps, quotations from primary source materials, and a thorough subject index.","English",43.89,43.89,"910.9","112 pp.",{"$f":"Table1[[#This Row],['# of Books]]*Table1[[#This Row],[QTY]]","v":0},{"$f":"Table1[[#This Row],[QTY]]*Table1[[#This Row],[School & Library Price]]","v":0}]
[null,79,null,"World History","World History","The Alamo","978-1-4205-1135-2","Lucent Press","eBook",1,2013,null,"eBook",null,"Author","Don Nardo",null,null,null,null,null,null,"Years 12 - 15",null,"Grade 7 - 10","This title in Lucent Books’ World History series tells the story of the battle at the Alamo and why this 13-day battle was so significant for the United States. It explains the events that led to the battle, provides a gripping description of the siege itself with detailed discussions of the primary figures involved, and describes the legacy of this lost battle to American politics and culture.","English",43.89,43.89,"976.4","104 pp.",{"$f":"Table1[[#This Row],['# of Books]]*Table1[[#This Row],[QTY]]","v":0},{"$f":"Table1[[#This Row],[QTY]]*Table1[[#This Row],[School & Library Price]]","v":0}]
[null,79,null,"World History","World History","The British Monarchy","978-1-4205-0790-4","Lucent Press","Library Bound Book",1,2012,null,"Library Bound","7.000 X 9.000","Author","Andrew A. Kling",null,null,null,null,null,null,"Years 12 - 15",null,"Grade 7 - 10","The ability to change lives and fortunes is a hallmark of the long history of the British monarchy. The lure of its power and prestige was the focus of generations of backroom and bedroom politics and international intrigue. Its history includes wars between nations, between fathers and sons, and between brothers, cousins, and rank outsiders. Over the centuries, the role of the kings and queens of the dominion has changed with the times - sometimes peacefully, sometimes violently - but the British monarchy's ability to adapt to an evolving society marks it as one of the most successful on earth. And while modern Great Britain now encompasses England, Scotland, Wales, and Northern Ireland, the current monarchy has its origins in the ancient rulers of England. This title in Lucent's World History series offers an overview of the rise and rule of the British Monarchy, detailing the lives of the royal family throughout history, how they came to power, how they lost or relinquished power, and their role in modern society.","English",39.9,31.92,"941.009","120 pp.",{"$f":"Table1[[#This Row],['# of Books]]*Table1[[#This Row],[QTY]]","v":0},{"$f":"Table1[[#This Row],[QTY]]*Table1[[#This Row],[School & Library Price]]","v":0}]
[null,79,null,"World History","World History","The History of Nursing","978-1-4205-1186-4","Lucent Press","eBook",1,2014,null,"eBook",null,"Author","Lizabeth Craig",null,null,null,null,null,null,"Years 12 - 15",null,"Grade 7 - 10",null,"English",43.89,43.89,"610.73","104 pp.",{"$f":"Table1[[#This Row],['# of Books]]*Table1[[#This Row],[QTY]]","v":0},{"$f":"Table1[[#This Row],[QTY]]*Table1[[#This Row],[School & Library Price]]","v":0}]
[null,79,null,"World History","World History","The Information Revolution","978-1-4205-0590-0","Lucent Press","eBook",1,2011,null,"eBook",null,"Author","Stuart A. Kallen",null,null,null,null,null,null,"Years 12 - 15",null,"Grade 7 - 10","Each book in the comprehensive World History series offers a clearly written and visually enhanced overview of an important historical event or period. The series is designed both to acquaint readers with the basics of history and to make them aware that their lives and their own historical era are an intimate part of the ongoing human saga. This volume focuses on the Information Revolution and includes topics on the development of the transistor and integrated circuit, or microchip, in the 1950s.","English",43.89,43.89,"303.48","104 pp.",{"$f":"Table1[[#This Row],['# of Books]]*Table1[[#This Row],[QTY]]","v":0},{"$f":"Table1[[#This Row],[QTY]]*Table1[[#This Row],[School & Library Price]]","v":0}]
[null,79,null,"World History","World History","The Information Revolution","978-1-4205-0163-6","Lucent Press","Library Bound Book",1,2011,null,"Library Bound","7.000 X 9.000","Author","Stuart A. Kallen",null,null,null,null,null,null,"Years 12 - 15",null,"Grade 7 - 10",null,"English",39.9,31.92,"303","104 pp.",{"$f":"Table1[[#This Row],['# of Books]]*Table1[[#This Row],[QTY]]","v":0},{"$f":"Table1[[#This Row],[QTY]]*Table1[[#This Row],[School & Library Price]]","v":0}]
[null,79,null,"World History","World History","The Manhattan Project","978-1-4205-1184-0","Lucent Press","eBook",1,2014,null,"eBook",null,"Author","John F. Wukovits",null,null,null,null,null,null,"Years 12 - 15",null,"Grade 7 - 10","This title in Lucent’s World History series tells the story of the Manhattan Project. The book describes how the project came to fruition, the people involved, and the impact the nuclear bomb had on World War II. The book also details the lives of the people who worked on the project along with that of their families and how they had to basically cut all ties to the outside world.","English",43.89,43.89,"355.8","104 pp.",{"$f":"Table1[[#This Row],['# of Books]]*Table1[[#This Row],[QTY]]","v":0},{"$f":"Table1[[#This Row],[QTY]]*Table1[[#This Row],[School & Library Price]]","v":0}]
[null,79,null,"World History","World History","The Red Scare","978-1-4205-0852-9","Lucent Press","eBook",1,2012,null,"eBook",null,"Author","Andrew A. Kling",null,null,null,null,null,null,"Years 12 - 15",null,"Grade 7 - 10",null,"English",43.89,43.89,"327.120973","112 pp.",{"$f":"Table1[[#This Row],['# of Books]]*Table1[[#This Row],[QTY]]","v":0},{"$f":"Table1[[#This Row],[QTY]]*Table1[[#This Row],[School & Library Price]]","v":0}]
[null,79,null,"World History","World History","The Scientific Revolution","978-1-4205-0770-6","Lucent Press","eBook",1,2011,null,"eBook",null,"Author","Don Nardo",null,null,null,null,null,null,"Years 12 - 15",null,"Grade 7 - 10",null,"English",43.89,43.89,"509.4","104 pp.",{"$f":"Table1[[#This Row],['# of Books]]*Table1[[#This Row],[QTY]]","v":0},{"$f":"Table1[[#This Row],[QTY]]*Table1[[#This Row],[School & Library Price]]","v":0}]
[null,79,null,"World History","World History","The Victorian Era","978-1-4205-0933-5","Lucent Press","Library Bound Book",1,2013,null,"Library Bound","7.000 X 9.000","Author","John F. Wukovits",null,null,null,null,null,null,"Years 12 - 15",null,"Grade 7 - 10","Each title in Lucent's World History series provides an overview of important historical events or periods in world history. This volume focuses on the Victorian era in Great Britain, lasting from Queen Victoria's ascension to the throne in 1837 until her death in 1901.","English",39.9,31.92,"941","104 pp.",{"$f":"Table1[[#This Row],['# of Books]]*Table1[[#This Row],[QTY]]","v":0},{"$f":"Table1[[#This Row],[QTY]]*Table1[[#This Row],[School & Library Price]]","v":0}]
[null,79,null,"World History","World History","The Vikings","978-1-4205-0558-0","Lucent Press","eBook",1,2011,null,"eBook",null,"Author","Don Nardo",null,null,null,null,null,null,"Years 12 - 15",null,"Grade 7 - 10","Each book in the comprehensive World History series offers a clearly written and visually enhanced overview of an important historical event or period. The series is designed both to acquaint readers with the basics of history and to make them aware that their lives and their own historical era are an intimate part of the ongoing human saga. This volume focuses on the Vikings and features quotations from sources such as diaries, public records, and contemporary chronicles.","English",43.89,43.89,"948.022","112 pp.",{"$f":"Table1[[#This Row],['# of Books]]*Table1[[#This Row],[QTY]]","v":0},{"$f":"Table1[[#This Row],[QTY]]*Table1[[#This Row],[School & Library Price]]","v":0}]
[null,79,null,"World History","World History","The Women's Movement","978-1-4205-0592-4","Lucent Press","Library Bound Book",1,2011,null,"Library Bound","7.000 X 9.000","Author","Don Nardo",null,null,null,null,null,null,"Years 12 - 15",null,"Grade 7 - 10",null,"English",39.9,31.92,"305","104 pp.",{"$f":"Table1[[#This Row],['# of Books]]*Table1[[#This Row],[QTY]]","v":0},{"$f":"Table1[[#This Row],[QTY]]*Table1[[#This Row],[School & Library Price]]","v":0}]
[null,79,null,"World History","World History (Jan '18 Set)","World History (Jan '18 Set)","978-1-5345-6261-5","Lucent Press","Library Set",6,2018,"January 2018","Library","7.000 X 9.000"," "," ",null,null,null,null,null,null,"Years 12 - 15","Grade 7","Grade 7 - 10","The study of world history is so much more than the study of names and dates; it is the study of stories of fascinating people, civilizations that rose and fell in dramatic fashion, and conflicts that have played out over hundreds – and sometimes thousands – of years. As readers take a closer look at these stories, they develop a deeper understanding of and appreciation for history. They are aided in their journey through history by fact-filled main text and sidebars, annotated quotations from historical figures and contemporary historians, primary sources, and a timeline.\r\nFeatures include: Engaging design featuring historical and contemporary images encourages readers to see history as a vibrant subject. Wide range of diverse topics takes readers around the world and through time – from ancient Egypt to contemporary Russia. Comprehensive text asks readers to think critically about the past and examine recurring patterns in history to find lessons we can take into the future.","English",239.4,191.52,null,"104 pp.",{"$f":"Table1[[#This Row],['# of Books]]*Table1[[#This Row],[QTY]]","v":0},{"$f":"Table1[[#This Row],[QTY]]*Table1[[#This Row],[School & Library Price]]","v":0}]
[null,79,null,"World History","World History","Ancient Egypt: The Land of Pyramids and Pharaohs","978-1-5345-6247-9","Lucent Press","eBook",1,2018,"January 2018",null,null,"Author","Nicole Horning",null,null,null,null,"Z",null,"Years 12 - 15","Grade 7","Grade 7 - 10","Ancient Egypt is one of the most widely studied historical civilizations. Readers are introduced to important facts about ancient Egypt and the ways ancient Egyptians influenced the world for thousands of years. Readers explore this complex culture through accessible text, annotated quotations from historians, vibrant photographs and historical images, and enlightening sidebars. Readers may know about Egypt’s pyramids and pharaohs from their history classes, but they will enjoy learning lesser-known stories of this amazing part of the ancient world.","English",39.9,31.92,null,"104 pp.",{"$f":"Table1[[#This Row],['# of Books]]*Table1[[#This Row],[QTY]]","v":0},{"$f":"Table1[[#This Row],[QTY]]*Table1[[#This Row],[School & Library Price]]","v":0}]
[null,79,null,"World History","World History","Genghis Khan: Creating the Mongol Empire","978-1-5345-6249-3","Lucent Press","eBook",1,2018,"January 2018",null,null,"Author","Siyavush Saidian",null,null,null,null,"Z",null,"Years 12 - 15","Grade 7","Grade 7 - 10","Throughout history, there have been few conquerors more prominent than Genghis Khan, the first ruler of what would become the Mongol Empire. Readers learn about the humble beginnings of his life, as he rose from anonymity to become one of the most famous rulers in history. They also explore his life as he handled the challenges of leading an empire of millions. Through comprehensive text, informative sidebars, historical images, and vibrant photographs, readers are given the opportunity to explore the world of 13th-century Asia, enhancing their knowledge of this common social studies curriculum topic.","English",39.9,31.92,null,"104 pp.",{"$f":"Table1[[#This Row],['# of Books]]*Table1[[#This Row],[QTY]]","v":0},{"$f":"Table1[[#This Row],[QTY]]*Table1[[#This Row],[School & Library Price]]","v":0}]
[null,79,null,"World History","World History","The Mysterious Maya Civilization","978-1-5345-6185-4","Lucent Press","eBook",1,2018,"January 2018",null,null,"Author","Emily Mahoney",null,null,null,null,"Z",null,"Years 12 - 15","Grade 7","Grade 7 - 10","Though Mayan culture has existed for more than 3,500 years, researchers and historians have only recently started unlocking some of the mysteries behind this Central American society. Thoroughly researched text guides readers through the gripping history of the Maya, including a detailed description of Maya culture. The main text is supplemented with engaging sidebars, full-color photographs, historical images, and expert, annotated analysis from leading scholars.","English",39.9,31.92,null,"104 pp.",{"$f":"Table1[[#This Row],['# of Books]]*Table1[[#This Row],[QTY]]","v":0},{"$f":"Table1[[#This Row],[QTY]]*Table1[[#This Row],[School & Library Price]]","v":0}]
[null,79,null,"World History","World History","The United States and Russia: A Cold and Complex History","978-1-5345-6245-5","Lucent Press","Library Bound Book",1,2018,"January 2018","Library","7.000 X 9.000","Author","Gary Wiener",null,null,null,null,"Z",null,"Years 12 - 15","Grade 7","Grade 7 - 10","After the U.S.S.R. formed, the United States found itself in a rivalry that has persisted for nearly a century. Readers are introduced to the complex history between the United States and Russia, which, for many years, was a conflict between democracy and communism. However, after the dissolution of the U.S.S.R., the relationship between the two countries remains strained, and readers also explore the reasons for this continued tension. Quotes from powerful leaders of both countries, striking photographs, and thoroughly researched text help readers understand why these two competing nations have maintained a cold relationship for so many years.","English",39.9,31.92,null,"104 pp.",{"$f":"Table1[[#This Row],['# of Books]]*Table1[[#This Row],[QTY]]","v":0},{"$f":"Table1[[#This Row],[QTY]]*Table1[[#This Row],[School & Library Price]]","v":0}]
[null,80,null,"Science & Technology","Crime Scene Investigations (Aug '17)","Crime Scene Investigations (Aug '17)","978-1-5345-6159-5","Lucent Press","eBook Set",6,"2018","August 2017",null,null," "," ",null,null,null,null,null,null,"Years 12 - 15","Grade 7","Grade 7 - 10","On television shows, crimes are often solved in less than an hour, but in reality, the process of solving crimes is much more complex. Readers discover the hard work that goes into investigating crimes, including evidence collection, forensic analysis, and even dangerous undercover work. As readers explore this high-interest topic, they are presented with additional information in the form of fact boxes, sidebars, and annotated quotes from respected sources. Full-color photographs and an eye-catching design bring readers behind the crime scene tape for a learning experience they won’t soon forget.","English",242.4,193.92,null,"104 pp.",{"$f":"Table1[[#This Row],['# of Books]]*Table1[[#This Row],[QTY]]","v":0},{"$f":"Table1[[#This Row],[QTY]]*Table1[[#This Row],[School & Library Price]]","v":0}]
[null,80,null,"Science & Technology","Crime Scene Investigations","Identity Theft in the 21st Century","978-1-5345-6083-3","Lucent Press","Library Bound Book",1,"2018","August 2017","Library","7.000 X 9.000","Author","Sarah Machajewski",null,null,null,null,"Z",null,"Years 12 - 15","Grade 7","Grade 7 - 10","Identity theft is sometimes considered a victimless crime, but readers will discover the truth about this damaging kind of crime as they learn about its history and the ways identity thieves work today. Essential facts about the methods identity thieves use—including stealing mail and hacking computers—are presented through comprehensive main text, comprehensive sidebars, and informative fact boxes. Readers also discover the ways the latest technology is used to find and stop identity thieves and how people can pursue a career in investigating identity theft. Detailed photographs are included to enhance this engaging reading experience.","English",40.4,32.32,"364.16'330973--dc23","104 pp.",{"$f":"Table1[[#This Row],['# of Books]]*Table1[[#This Row],[QTY]]","v":0},{"$f":"Table1[[#This Row],[QTY]]*Table1[[#This Row],[School & Library Price]]","v":0}]
[null,80,null,"Science & Technology","Crime Scene Investigations","Identity Theft in the 21st Century","978-1-5345-6084-0","Lucent Press","eBook",1,"2018","August 2017",null,null,"Author","Sarah Machajewski",null,null,null,null,"Z",null,"Years 12 - 15","Grade 7","Grade 7 - 10","Identity theft is sometimes considered a victimless crime, but readers will discover the truth about this damaging kind of crime as they learn about its history and the ways identity thieves work today. Essential facts about the methods identity thieves use—including stealing mail and hacking computers—are presented through comprehensive main text, comprehensive sidebars, and informative fact boxes. Readers also discover the ways the latest technology is used to find and stop identity thieves and how people can pursue a career in investigating identity theft. Detailed photographs are included to enhance this engaging reading experience.","English",40.4,32.32,"364.16'330973--dc23","104 pp.",{"$f":"Table1[[#This Row],['# of Books]]*Table1[[#This Row],[QTY]]","v":0},{"$f":"Table1[[#This Row],[QTY]]*Table1[[#This Row],[School & Library Price]]","v":0}]
[null,80,null,"Science & Technology","Crime Scene Investigations","The John F. Kennedy Assassination: The Shooting That Shook America","978-1-5345-6088-8","Lucent Press","eBook",1,"2018","August 2017",null,null,"Author","Joseph Stanley",null,null,null,null,"Z",null,"Years 12 - 15","Grade 7","Grade 7 - 10","The assassination of President John F. Kennedy was a horrific event that stunned the world and left Americans deeply shaken. There are many conspiracy theories surrounding this crime and its aftermath, but readers will discover the facts as they take a closer look at the shooting and the events that followed with the help of fact boxes, detailed sidebars, and primary source photographs. Essential historical information is presented in an engaging way, as common facts taught in history classes share space with gripping details of the investigation of one of the most infamous crimes of the 20th century.","English",40.4,32.32,"973.922092--dc23","112 pp.",{"$f":"Table1[[#This Row],['# of Books]]*Table1[[#This Row],[QTY]]","v":0},{"$f":"Table1[[#This Row],[QTY]]*Table1[[#This Row],[School & Library Price]]","v":0}]
[null,80,null,"Science & Technology","Crime Scene Investigations","Tracking Serial Killers: How to Catch a Murderer","978-1-5345-6089-5","Lucent Press","Library Bound Book",1,"2018","August 2017","Library","7.000 X 9.000","Author","Christine Honders",null,null,null,null,"Z",null,"Years 12 - 15","Grade 7","Grade 7 - 10","Tracking serial killers is a difficult job, but the men and women who do it help put brutal murderers in jail. As readers explore gripping main text, detailed photographs, and informative fact boxes and sidebars, they discover how the methods used to track serial killers have changed throughout history. They also discover the importance of science and technology in this line of work. Readers interested in pursuing a career in this kind of crime scene investigation are presented with valuable information to help them begin preparing now for such a challenging career path.","English",40.4,32.32,"363.25'9523--dc23","104 pp.",{"$f":"Table1[[#This Row],['# of Books]]*Table1[[#This Row],[QTY]]","v":0},{"$f":"Table1[[#This Row],[QTY]]*Table1[[#This Row],[School & Library Price]]","v":0}]
[null,80,null,"Science & Technology","Crime Scene Investigations","Ballistics","978-1-5901-8988-7","Lucent Press","Library Bound Book",1,2009,null,"Library Bound","7.000 X 9.000","Author","Andrew A. Kling",null,null,null,null,null,null,"Years 12 - 15",null,"Grade 7 - 10",null,"English",40.4,32.32,"363","120 pp.",{"$f":"Table1[[#This Row],['# of Books]]*Table1[[#This Row],[QTY]]","v":0},{"$f":"Table1[[#This Row],[QTY]]*Table1[[#This Row],[School & Library Price]]","v":0}]
[null,80,null,"Science & Technology","Crime Scene Investigations","Blackmail and Bribery","978-1-4205-0068-4","Lucent Press","Library Bound Book",1,2009,null,"Library Bound","7.000 X 9.000","Author","Bonnie Juettner",null,null,null,null,null,null,"Years 12 - 15",null,"Grade 7 - 10",null,"English",40.4,32.32,"364","104 pp.",{"$f":"Table1[[#This Row],['# of Books]]*Table1[[#This Row],[QTY]]","v":0},{"$f":"Table1[[#This Row],[QTY]]*Table1[[#This Row],[School & Library Price]]","v":0}]
[null,80,null,"Science & Technology","Crime Scene Investigations","Cold Cases","978-1-4205-0323-4","Lucent Press","Library Bound Book",1,2011,null,"Library Bound","7.000 X 9.000","Author","Gail B. Stewart",null,null,null,null,null,null,"Years 12 - 15",null,"Grade 7 - 10",null,"English",40.4,32.32,"363","104 pp.",{"$f":"Table1[[#This Row],['# of Books]]*Table1[[#This Row],[QTY]]","v":0},{"$f":"Table1[[#This Row],[QTY]]*Table1[[#This Row],[School & Library Price]]","v":0}]
[null,80,null,"Science & Technology","Crime Scene Investigations","Computer Hacking","978-1-4205-0035-6","Lucent Press","Library Bound Book",1,2008,null,"Library Bound","7.000 X 9.000","Author","Peggy J. Parks",null,null,null,null,null,null,"Years 12 - 15",null,"Grade 7 - 10",null,"English",40.4,32.32,"363","104 pp.",{"$f":"Table1[[#This Row],['# of Books]]*Table1[[#This Row],[QTY]]","v":0},{"$f":"Table1[[#This Row],[QTY]]*Table1[[#This Row],[School & Library Price]]","v":0}]
[null,80,null,"Science & Technology","Crime Scene Investigations","Cybercrime","978-1-4205-0175-9","Lucent Press","eBook",1,2010,null,"eBook",null,"Author","Kevin Hile",null,null,null,null,null,null,"Years 12 - 15",null,"Grade 7 - 10",null,"English",44.44,44.44,"364.168","96 pp.",{"$f":"Table1[[#This Row],['# of Books]]*Table1[[#This Row],[QTY]]","v":0},{"$f":"Table1[[#This Row],[QTY]]*Table1[[#This Row],[School & Library Price]]","v":0}]
[null,81,null,"Science & Technology","Crime Scene Investigations","Forensic Art","978-1-4205-0174-2","Lucent Press","eBook",1,2009,null,"eBook",null,"Author","Jenny Mackay",null,null,null,null,null,null,"Years 12 - 15",null,"Grade 7 - 10",null,"English",44.44,44.44,"363.25","104 pp.",{"$f":"Table1[[#This Row],['# of Books]]*Table1[[#This Row],[QTY]]","v":0},{"$f":"Table1[[#This Row],[QTY]]*Table1[[#This Row],[School & Library Price]]","v":0}]
[null,81,null,"Science & Technology","Crime Scene Investigations","Forensic Biology","978-1-4205-0176-6","Lucent Press","eBook",1,2009,null,"eBook",null,"Author","Jenny Mackay",null,null,null,null,null,null,"Years 12 - 15",null,"Grade 7 - 10",null,"English",44.44,44.44,"363.25","104 pp.",{"$f":"Table1[[#This Row],['# of Books]]*Table1[[#This Row],[QTY]]","v":0},{"$f":"Table1[[#This Row],[QTY]]*Table1[[#This Row],[School & Library Price]]","v":0}]
[null,81,null,"Science & Technology","Crime Scene Investigations","Investigating the Mafia","978-1-4205-0212-1","Lucent Press","Library Bound Book",1,2010,null,"Library Bound","7.000 X 9.000","Author","Carla Mooney",null,null,null,null,null,null,"Years 12 - 15",null,"Grade 7 - 10",null,"English",40.4,32.32,"364","112 pp.",{"$f":"Table1[[#This Row],['# of Books]]*Table1[[#This Row],[QTY]]","v":0},{"$f":"Table1[[#This Row],[QTY]]*Table1[[#This Row],[School & Library Price]]","v":0}]
[null,81,null,"Science & Technology","Crime Scene Investigations","Missing Persons","978-1-4205-0534-4","Lucent Press","Library Bound Book",1,2011,null,"Library Bound","7.000 X 9.000","Author","Gail B. Stewart",null,null,null,null,null,null,"Years 12 - 15",null,"Grade 7 - 10",null,"English",40.4,32.32,"363.2","96 pp.",{"$f":"Table1[[#This Row],['# of Books]]*Table1[[#This Row],[QTY]]","v":0},{"$f":"Table1[[#This Row],[QTY]]*Table1[[#This Row],[School & Library Price]]","v":0}]
[null,81,null,"Science & Technology","Crime Scene Investigations","Murder: Inside the Crime Lab","978-1-5901-8619-0","Lucent Press","Library Bound Book",1,2006,null,"Library Bound","7.000 X 9.000","Author","Diane Yancey",null,null,null,null,null,null,"Years 12 - 15",null,"Grade 7 - 10","From the crime scene to the courts, forensic experts play increasingly important roles in solving murders in the twenty-first century.  The book details the techniques they use in crime labs throughout the country to unravel real-life murder mysteries and help bring the guilty to justice.","English",40.4,32.32,"363.25","112 pp.",{"$f":"Table1[[#This Row],['# of Books]]*Table1[[#This Row],[QTY]]","v":0},{"$f":"Table1[[#This Row],[QTY]]*Table1[[#This Row],[School & Library Price]]","v":0}]
[null,81,null,"Science & Technology","Crime Scene Investigations","The 911 Investigation","978-0-7377-5038-6","Lucent Press","eBook",1,2010,null,"eBook",null,"Author","Craig E. Blohm",null,null,null,null,null,null,"Years 12 - 15",null,"Grade 7 - 10",null,"English",44.44,44.44,"345.02317","104 pp.",{"$f":"Table1[[#This Row],['# of Books]]*Table1[[#This Row],[QTY]]","v":0},{"$f":"Table1[[#This Row],[QTY]]*Table1[[#This Row],[School & Library Price]]","v":0}]
[null,81,null,"Science & Technology","Crime Scene Investigations","The Homicide Detective","978-1-4205-0109-4","Lucent Press","Library Bound Book",1,2010,null,"Library Bound","7.000 X 9.000","Author","Toney Allman",null,null,null,null,null,null,"Years 12 - 15",null,"Grade 7 - 10",null,"English",40.4,32.32,"364","104 pp.",{"$f":"Table1[[#This Row],['# of Books]]*Table1[[#This Row],[QTY]]","v":0},{"$f":"Table1[[#This Row],[QTY]]*Table1[[#This Row],[School & Library Price]]","v":0}]
[null,81,null,"Science & Technology","Crime Scene Investigations","The Medical Examiner","978-1-5901-8912-2","Lucent Press","Library Bound Book",1,2006,null,"Library Bound","7.000 X 9.000","Author","Toney Allman",null,null,null,null,null,null,"Years 12 - 15",null,"Grade 7 - 10","The body of a murder victim is a crime scene.  Medical examiners are medical detectives who make bodies speak and tell the stories of their deaths.  The stories are revealed through autopsies, collection of trace evidence, and the unique perspective with which forensic pathology makes sense of a corpse’s clues.","English",40.4,32.32,"614","104 pp.",{"$f":"Table1[[#This Row],['# of Books]]*Table1[[#This Row],[QTY]]","v":0},{"$f":"Table1[[#This Row],[QTY]]*Table1[[#This Row],[School & Library Price]]","v":0}]
[null,81,null,"Science & Technology","Crime Scene Investigations","Underwater Forensics","978-1-4205-0352-4","Lucent Press","eBook",1,2010,null,"eBook",null,"Author","Gail B. Stewart",null,null,null,null,null,null,"Years 12 - 15",null,"Grade 7 - 10",null,"English",44.44,44.44,"363.25","104 pp.",{"$f":"Table1[[#This Row],['# of Books]]*Table1[[#This Row],[QTY]]","v":0},{"$f":"Table1[[#This Row],[QTY]]*Table1[[#This Row],[School & Library Price]]","v":0}]
[null,81,null,"Science & Technology","Crime Scene Investigations: Sets 1 – 2","Crime Scene Investigations (Aug '17 & Jan '18 Sets)","978-1-5345-6253-0","Lucent Press","Library Set",12,2018,"January 2018","Library","7.000 X 9.000"," "," ",null,null,null,null,null,null,"Years 12 - 15","Grade 7","Grade 7 - 10","Solving crimes is often not as easy as it appears on television shows or in movies. It involves hard work, patience, and science. Readers learn the fascinating details behind crime scene investigations, including the purpose of body farms and the steps involved in processing DNA evidence. The informative main text is paired with eye-catching fact boxes, enlightening sidebars, and full-color photographs. Annotated quotes from experts in their fields are also included to give readers first-person accounts of what it is like to be on the front lines of crime scenes that range from missing persons cases to drug trafficking investigations.\r\nFeatures include: Accessible text connects math and science concepts to each high-interest topic. Readers are presented with information about how to pursue a career in various areas of crime scene investigation, such as forensics and law enforcement. Technological, scientific, and procedural advancements are an important component of each volume, giving readers a closer look at the future of crime scene investigations.","English",484.8,387.84,null,"104-120 pp.",{"$f":"Table1[[#This Row],['# of Books]]*Table1[[#This Row],[QTY]]","v":0},{"$f":"Table1[[#This Row],[QTY]]*Table1[[#This Row],[School & Library Price]]","v":0}]
[null,81,null,"Science & Technology","Crime Scene Investigations","Ballistics: The Science of Weapons at Work","978-1-5345-6171-7","Lucent Press","Library Bound Book",1,2018,"January 2018","Library","7.000 X 9.000","Author","Siyavush Saidian",null,null,null,null,"Z",null,"Years 12 - 15","Grade 7","Grade 7 - 10","When a crime is committed with a firearm or an explosive, the first people the police turn to are often ballistic analysts. By examining angles, bullets, and explosive residue, these scientists analyze the behavior of projectiles, such as bullets. Readers learn both how ballistics research is performed and how law enforcement officials use these findings to solve crimes. The detailed main text is supplemented with engaging fact boxes, unique sidebars, and photographs that give readers an up-close look into the scientific world of ballistic studies.","English",40.4,32.32,null,"104 pp.",{"$f":"Table1[[#This Row],['# of Books]]*Table1[[#This Row],[QTY]]","v":0},{"$f":"Table1[[#This Row],[QTY]]*Table1[[#This Row],[School & Library Price]]","v":0}]
[null,81,null,"Science & Technology","Crime Scene Investigations","Clues in Corpses: A Closer Look at Body Farms","978-1-5345-6231-8","Lucent Press","eBook",1,2018,"January 2018",null,null,"Author","Sophie Washburne",null,null,null,null,"Z",null,"Years 12 - 15","Grade 7","Grade 7 - 10","When human remains are found at a crime scene, forensic anthropologists examine them to determine the time and cause of death, as well as the identity of the victim. How do they know the answers to these questions? Body farms are facilities where specialists can study the ways bodies decompose under different conditions, which helps forensic anthropologists solve crimes more effectively. Informative fact boxes, full-color photographs, and engaging sidebars offer a closer look at these little-known research facilities. Readers are sure to be captivated by stories of farms unlike any they have ever heard of before.","English",40.4,32.32,null,"104 pp.",{"$f":"Table1[[#This Row],['# of Books]]*Table1[[#This Row],[QTY]]","v":0},{"$f":"Table1[[#This Row],[QTY]]*Table1[[#This Row],[School & Library Price]]","v":0}]
[null,81,null,"Science & Technology","Crime Scene Investigations","DNA Evidence: The Proof Is in the Genes","978-1-5345-6176-2","Lucent Press","Library Bound Book",1,2018,"January 2018","Library","7.000 X 9.000","Author","Cecilia Jennings",null,null,null,null,"Z",null,"Years 12 - 15","Grade 7","Grade 7 - 10","One of the greatest scientific breakthroughs ever for law enforcement agencies was the discovery of DNA analysis. This relatively new science allows police to catch a criminal from evidence as small as a human hair. Informative text gives readers a basic understanding of DNA and how forensic analysts can examine criminal evidence and create a genetic chain that leads to the perpetrator. This complex topic is made easy to understand through engaging fact boxes and informative sidebars, and the science is brought into sharp focus through eye-catching photographs.","English",40.4,32.32,null,"104 pp.",{"$f":"Table1[[#This Row],['# of Books]]*Table1[[#This Row],[QTY]]","v":0},{"$f":"Table1[[#This Row],[QTY]]*Table1[[#This Row],[School & Library Price]]","v":0}]
[null,81,null,"Science & Technology","Crime Scene Investigations","Drug Trafficking: A Global Criminal Trade","978-1-5345-6179-3","Lucent Press","eBook",1,2018,"January 2018",null,null,"Author","Nicole Horning",null,null,null,null,"Z",null,"Years 12 - 15","Grade 7","Grade 7 - 10","The drug trade is a lucrative business, and drug traffickers find inventive ways to protect their investments. Smugglers have a variety of means available to them to move large amounts of drugs between countries, including underground tunnels, secret pockets, and even the postal service. This means law enforcement officials must be clever and creative in their pursuit of these criminals. Readers learn how police target drug traffickers and what they can do to pursue a similar career. Informative sidebars, fact boxes, and full-color photographs give a full picture of the work that law enforcement officials do to apprehend drug traffickers.","English",40.4,32.32,null,"104 pp.",{"$f":"Table1[[#This Row],['# of Books]]*Table1[[#This Row],[QTY]]","v":0},{"$f":"Table1[[#This Row],[QTY]]*Table1[[#This Row],[School & Library Price]]","v":0}]
[null,82,null,"Science & Technology","Science Behind Sports (Aug '17 Set)","Science Behind Sports (Aug '17 Set)","978-1-5345-6168-7","Lucent Press","Library Set",6,"2018","August 2017","Library","7.000 X 9.000"," "," ",null,null,null,null,null,null,"Years 12 - 15","Grade 7","Grade 7 - 10","It takes strength and skill to be successful at sports. It also takes science! As readers explore the basic facts about the origins and rules of some of the world’s most popular sports—including basketball, soccer, and baseball—they also discover the essential science concepts that explain some of the sporting world’s most incredible feats—from a bending soccer ball to a tumbling pass in gymnastics. Fact boxes, diagrams, and annotated quotes from experts enhance the accessible main text, and dynamic photographs of sports superstars in action keep readers entertained.","English",236.4,189.12,null,"104 pp.",{"$f":"Table1[[#This Row],['# of Books]]*Table1[[#This Row],[QTY]]","v":0},{"$f":"Table1[[#This Row],[QTY]]*Table1[[#This Row],[School & Library Price]]","v":0}]
[null,82,null,"Science & Technology","Science Behind Sports","Baseball: Science at the Ballpark","978-1-5345-6107-6","Lucent Press","eBook",1,"2018","August 2017",null,null,"Author","Ryan Nagelhout",null,null,null,null,"Z",null,"Years 12 - 15","Grade 7","Grade 7 - 10","Why does a curveball curve? Why is it sometimes better to slide into a base than to run to it? How can baseball players avoid common injuries? As readers discover the science behind baseball, they find the answers to these and many more questions about the sport that’s often called America’s pastime. Fun fact boxes, informative sidebars, and action-packed photographs give readers an exciting look at the way common areas of science are applied in baseball games—from the backyard to the big leagues. This fresh look at STEM—science, technology, engineering, and math—is sure to captivate readers.","English",39.4,31.52,"796.357--dc23","104 pp.",{"$f":"Table1[[#This Row],['# of Books]]*Table1[[#This Row],[QTY]]","v":0},{"$f":"Table1[[#This Row],[QTY]]*Table1[[#This Row],[School & Library Price]]","v":0}]
[null,82,null,"Science & Technology","Science Behind Sports","Basketball: Science on the Court","978-1-5345-6108-3","Lucent Press","Library Bound Book",1,"2018","August 2017","Library","7.000 X 9.000","Author","Emily Mahoney",null,null,null,null,"Z",null,"Years 12 - 15","Grade 7","Grade 7 - 10","Science isn’t just used in a laboratory or a classroom—it’s necessary on the basketball court, too! Slam dunks, quick passes, and jump shots are only possible because of science, and readers discover why as they explore the ways physics, biology, and other areas of science are applied in the game of basketball. As readers take in details from fact boxes, sidebars, and diagrams, they see the importance of science, technology, engineering, and math—also known as STEM—on the basketball court. They also find fun photographs of some of the sport’s biggest stars using science to score.","English",39.4,31.52,"796.323--dc23","112 pp.",{"$f":"Table1[[#This Row],['# of Books]]*Table1[[#This Row],[QTY]]","v":0},{"$f":"Table1[[#This Row],[QTY]]*Table1[[#This Row],[School & Library Price]]","v":0}]
[null,82,null,"Science & Technology","Science Behind Sports","Gymnastics: Science on the Mat and in the Air","978-1-5345-6110-6","Lucent Press","Library Bound Book",1,"2018","August 2017","Library","7.000 X 9.000","Author","Elizabeth Morgan",null,null,null,null,"Z",null,"Years 12 - 15","Grade 7","Grade 7 - 10","In order to execute amazing tumbling passes and stick the perfect landing, gymnasts need proper training and a lot of practice. They also need to understand the science behind what they’re doing on the mat and in the air. Readers are introduced to the areas of STEM—science, technology, engineering, and math—that help gymnasts perform at their best, including the ways engineers have created safer equipment and the ways technology is being used to reduce injury. Eye-catching fact boxes, detailed sidebars, and full-color photographs provide readers with an inside look at the science behind this popular sport.","English",39.4,31.52,"796.4---dc23","104 pp.",{"$f":"Table1[[#This Row],['# of Books]]*Table1[[#This Row],[QTY]]","v":0},{"$f":"Table1[[#This Row],[QTY]]*Table1[[#This Row],[School & Library Price]]","v":0}]
[null,82,null,"Science & Technology","Science Behind Sports","Ice Hockey: Science on Ice","978-1-5345-6114-4","Lucent Press","eBook",1,"2018","August 2017",null,null,"Author","Barbara M. Linde ",null,null,null,null,"Z",null,"Years 12 - 15","Grade 7","Grade 7 - 10","Physics explains how an ice hockey player scores a goal. Biology explains why certain exercises help hockey players become better and stronger. Math is used to calculate the exact measurement of different kinds of hockey rinks. Engineers use technology to create the safest equipment for hockey players. Readers see how these areas of STEM come together in a hockey game, and they’re sure to enjoy this unique look at common science curriculum topics. The detailed main text is supported by fun fact boxes, enlightening sidebars, helpful diagrams, and vibrant photographs of ice hockey players in action.","English",39.4,31.52,"796.962--dc23","112 pp.",{"$f":"Table1[[#This Row],['# of Books]]*Table1[[#This Row],[QTY]]","v":0},{"$f":"Table1[[#This Row],[QTY]]*Table1[[#This Row],[School & Library Price]]","v":0}]
[null,82,null,"Science & Technology","Science Behind Sports","Soccer: Science at Your Feet","978-1-5345-6116-8","Lucent Press","eBook",1,"2018","August 2017",null,null,"Author","Amy B. Rogers",null,null,null,null,"Z",null,"Years 12 - 15","Grade 7","Grade 7 - 10","If readers have ever wondered how soccer players \"bend it like Beckham,\" they'll enjoy this unique look at the science behind the world's most popular sport. Detailed text, fact boxes, sidebars, and diagrams help readers understand the many ways scientific concepts are applied on the soccer field. Readers also learn how scientific knowledge is put to use along with the other areas of STEM – technology, engineering, and math – to help soccer players train, avoid injury, and heal more quickly if they do get hurt. Full-color photographs place readers in the middle of the action on the pitch.","English",39.4,31.52,"796.334--dc23","104 pp.",{"$f":"Table1[[#This Row],['# of Books]]*Table1[[#This Row],[QTY]]","v":0},{"$f":"Table1[[#This Row],[QTY]]*Table1[[#This Row],[School & Library Price]]","v":0}]
[null,82,null,"Science & Technology","Science Behind Sports","Bowling","978-1-4205-1251-9","Lucent Press","Library Bound Book",1,2015,null,"Library Bound","7.000 X 9.000","Author","Melissa Abramovitz",null,null,null,null,null,null,"Years 12 - 15",null,"Grade 7 - 10","This new title in Lucent's SCIENCE BEHIND SPORTS SERIES will provide readers with an easy to understand idea of the physics behind the sport of bowling. Plenty of diagrams and illustrations will be included so students will visibly be able to relate to the sport.","English",39.4,31.52,"794.6","120 pp.",{"$f":"Table1[[#This Row],['# of Books]]*Table1[[#This Row],[QTY]]","v":0},{"$f":"Table1[[#This Row],[QTY]]*Table1[[#This Row],[School & Library Price]]","v":0}]
[null,83,null,"Science & Technology","Science Behind Sports","Cheerleading","978-1-4205-0971-7","Lucent Press","eBook",1,2012,null,"eBook",null,"Author","Heather E. Schwartz",null,null,null,null,null,null,"Years 12 - 15",null,"Grade 7 - 10","Lucent’s new title, SCIENCE BEHIND SPORTS: CHEERLEADING, focuses on the biomechanical and physical principles behind the chants and stunts of sideline and competitive cheerleading. Author Heather Schwartz discusses the similarities between dance and cheerleading and the physical and psychological challenges faced by cheerleaders. Also addressed is the intense debate over whether or not cheerleading should be classified as an athletic sport or activity, and how this designation could affect athletes and athletic programs.","English",43.34,43.34,"791.64","104 pp.",{"$f":"Table1[[#This Row],['# of Books]]*Table1[[#This Row],[QTY]]","v":0},{"$f":"Table1[[#This Row],[QTY]]*Table1[[#This Row],[School & Library Price]]","v":0}]
[null,83,null,"Science & Technology","Science Behind Sports","Cycling","978-1-4205-1120-8","Lucent Press","eBook",1,2014,null,"eBook",null,"Author","Stephen Currie",null,null,null,null,null,null,"Years 12 - 15",null,"Grade 7 - 10","This book presents the scientific principles and concepts relevant to the sport of cycling. Individual chapters discuss the concepts of motion, energy transfer, force, momentum, friction, aerodynamics, and gravity; nutrtition and training required for cycling; and the significant impact performance enhancing drugs has had on cycling.","English",43.34,43.34,"796.6","104 pp.",{"$f":"Table1[[#This Row],['# of Books]]*Table1[[#This Row],[QTY]]","v":0},{"$f":"Table1[[#This Row],[QTY]]*Table1[[#This Row],[School & Library Price]]","v":0}]
[null,83,null,"Science & Technology","Science Behind Sports","Figure Skating","978-1-4205-1013-3","Lucent Press","eBook",1,2012,null,"eBook",null,"Author","Jenny Mackay",null,null,null,null,null,null,"Years 12 - 15",null,"Grade 7 - 10","Explores the scientific principles behind some of the most popular team and individual sports. Covers origins, history and changes, the biomechanics and physiology of playing, related health and medical concerns, and the causes and treatment of sports-related injuries. This volume covers figure skating.","English",43.34,43.34,"796.91","104 pp.",{"$f":"Table1[[#This Row],['# of Books]]*Table1[[#This Row],[QTY]]","v":0},{"$f":"Table1[[#This Row],[QTY]]*Table1[[#This Row],[School & Library Price]]","v":0}]
[null,83,null,"Science & Technology","Science Behind Sports","Figure Skating","978-1-4205-0784-3","Lucent Press","Library Bound Book",1,2012,null,"Library Bound","7.000 X 9.000","Author","Jenny Mackay",null,null,null,null,null,null,"Years 12 - 15",null,"Grade 7 - 10","Figure skating  --  the world's most popular winter Olympic sport  --  is the subject of Lucent's newest addition to the SCIENCE BEHIND SPORTS series. Though figure skaters are often known for their theatrical and artistic performances, author Jenny MacKay outlines for readers the complex physical and biomechanical properties at work in this beautiful and demanding sport. From the development of the indoor ice rink, to the application of Newton's laws of motion, to the psychological challenges faced by many skaters, MacKay explores how these athletes achieve amazing physical accomplishments and perfect their art.","English",39.4,31.52,"796.91","104 pp.",{"$f":"Table1[[#This Row],['# of Books]]*Table1[[#This Row],[QTY]]","v":0},{"$f":"Table1[[#This Row],[QTY]]*Table1[[#This Row],[School & Library Price]]","v":0}]
[null,83,null,"Science & Technology","Science Behind Sports","Golf","978-1-4205-1153-6","Lucent Press","Library Bound Book",1,2014,null,"Library Bound","7.000 X 9.000","Author","Michael V. Uschan",null,null,null,null,null,null,"Years 12 - 15",null,"Grade 7 - 10","This new title briefly explains the history of the game of golf before delving into the science of the sport. The book explores how physics, biomechanics, psychology, and technology all play a part in how a person plays the sport. The title concludes with training and conditioning techniques that can be used by golfers.","English",39.4,31.52,"796","104 pp.",{"$f":"Table1[[#This Row],['# of Books]]*Table1[[#This Row],[QTY]]","v":0},{"$f":"Table1[[#This Row],[QTY]]*Table1[[#This Row],[School & Library Price]]","v":0}]
[null,83,null,"Science & Technology","Science Behind Sports","Skateboarding","978-1-4205-1212-0","Lucent Press","eBook",1,2014,null,"eBook",null,"Author","Lizabeth Craig",null,null,null,null,null,null,"Years 12 - 15",null,"Grade 7 - 10",null,"English",43.34,43.34,"796.22","112 pp.",{"$f":"Table1[[#This Row],['# of Books]]*Table1[[#This Row],[QTY]]","v":0},{"$f":"Table1[[#This Row],[QTY]]*Table1[[#This Row],[School & Library Price]]","v":0}]
[null,83,null,"Science & Technology","Science Behind Sports","Snowboarding","978-1-4205-0661-7","Lucent Press","eBook",1,2011,null,"eBook",null,"Author","Heather E. Schwartz",null,null,null,null,null,null,"Years 12 - 15",null,"Grade 7 - 10","Explores the scientific principles behind some of the most popular team and individual sports. Covers origins, history and changes, the biomechanics and physiology of playing, related health and medical concerns, and the causes and treatment of sports-related injuries.","English",43.34,43.34,"796.939","104 pp.",{"$f":"Table1[[#This Row],['# of Books]]*Table1[[#This Row],[QTY]]","v":0},{"$f":"Table1[[#This Row],[QTY]]*Table1[[#This Row],[School & Library Price]]","v":0}]
[null,83,null,"Science & Technology","Science Behind Sports","Surfing","978-1-4205-1156-7","Lucent Press","Library Bound Book",1,2014,null,"Library Bound","7.000 X 9.000","Author","Don Nardo",null,null,null,null,null,null,"Years 12 - 15",null,"Grade 7 - 10","In this new addition to the Science behind Sports series, author Don Nardo examines the many aspects of science underlying the popular sport of surfing. It discusses the physics of waves, the science behind board shape and how riders stay on the board, covering the principles of gravity, buoyancy, and water surface tension. It also covers the scientific principles behind movements such as popping-up on the board; catching a wave; riding a wave; turning; the \"hang-ten\"; the \"duck dive\"; the \"turtle roll\"; and others. Other connections to science are made through discussion of wiping out (what causes it?); rip currents (how they form and how they affect the surfer); collisions, along with typical injuries; hypothermia (what causes it, and how treated); shark attacks (how sharks zero in on surfers, along with typical injuries and treatments); and psychological aspects, especially anxiety (what it is, what causes it, and how surfers can overcome it).","English",39.4,31.52,"797","104 pp.",{"$f":"Table1[[#This Row],['# of Books]]*Table1[[#This Row],[QTY]]","v":0},{"$f":"Table1[[#This Row],[QTY]]*Table1[[#This Row],[School & Library Price]]","v":0}]
[null,83,null,"Science & Technology","Science Behind Sports","Taekwondo","978-1-4205-0940-3","Lucent Press","Library Bound Book",1,2014,null,"Library Bound","7.000 X 9.000","Author","Jennifer Mackay",null,null,null,null,null,null,"Years 12 - 15",null,"Grade 7 - 10","This book presents the scientific principles and concepts relevant to the sport of taekwondo.","English",39.4,31.52,"796","112 pp.",{"$f":"Table1[[#This Row],['# of Books]]*Table1[[#This Row],[QTY]]","v":0},{"$f":"Table1[[#This Row],[QTY]]*Table1[[#This Row],[School & Library Price]]","v":0}]
[null,83,null,"Science & Technology","Science Behind Sports","Track and Field","978-0-7377-6528-1","Lucent Press","eBook",1,2012,null,"eBook",null,"Author","Jenny Mackay",null,null,null,null,null,null,"Years 12 - 15",null,"Grade 7 - 10",null,"English",43.34,43.34,"796.42","104 pp.",{"$f":"Table1[[#This Row],['# of Books]]*Table1[[#This Row],[QTY]]","v":0},{"$f":"Table1[[#This Row],[QTY]]*Table1[[#This Row],[School & Library Price]]","v":0}]
[null,83,null,"Science & Technology","Science Behind Sports","Volleyball","978-1-4205-1159-8","Lucent Press","eBook",1,2013,null,"eBook",null,"Author","Melissa Abramovitz",null,null,null,null,null,null,"Years 12 - 15",null,"Grade 7 - 10","This new title in the Science behind Sports series provides an in-depth look at the scientific principles behind the game of volleyball. A brief history of the sport is offered followed by chapters that cover the scientific concepts behind serving the ball, how different surfaces and types of balls affect the game, training and conditioning, and the psychological aspects of the game. Includes graphics to help explain the scientific principles being discussed and a list of sources for further research.","English",43.34,43.34,"796.325","128 pp.",{"$f":"Table1[[#This Row],['# of Books]]*Table1[[#This Row],[QTY]]","v":0},{"$f":"Table1[[#This Row],[QTY]]*Table1[[#This Row],[School & Library Price]]","v":0}]
[null,83,null,"Science & Technology","Science Behind Sports","Volleyball","978-1-4205-1157-4","Lucent Press","Library Bound Book",1,2013,null,"Library Bound","7.000 X 9.000","Author","Melissa Abramovitz",null,null,null,null,null,null,"Years 12 - 15",null,"Grade 7 - 10","This new title in the Science behind Sports series provides an in-depth look at the scientific principles behind the game of volleyball. A brief history of the sport is offered followed by chapters that cover the scientific concepts behind serving the ball, how different surfaces and types of balls affect the game, training and conditioning, and the psychological aspects of the game. Includes graphics to help explain the scientific principles being discussed and a list of sources for further research.","English",39.4,31.52,"796","128 pp.",{"$f":"Table1[[#This Row],['# of Books]]*Table1[[#This Row],[QTY]]","v":0},{"$f":"Table1[[#This Row],[QTY]]*Table1[[#This Row],[School & Library Price]]","v":0}]
[null,83,null,"Science & Technology","Science Behind Sports","Yoga","978-1-4205-1230-4","Lucent Press","eBook",1,2015,null,"eBook",null,"Author","Barbara Sheen",null,null,null,null,null,null,"Years 12 - 15",null,"Grade 7 - 10",null,"English",43.34,43.34,"613.7","104 pp.",{"$f":"Table1[[#This Row],['# of Books]]*Table1[[#This Row],[QTY]]","v":0},{"$f":"Table1[[#This Row],[QTY]]*Table1[[#This Row],[School & Library Price]]","v":0}]
[null,84,null,"Arts and Humanities","The Music Library","The Art of Songwriting","978-1-4205-0943-4","Lucent Press","Library Bound Book",1,2014,null,"Library Bound","7.000 X 9.000","Author","Jenny Mackay",null,null,null,null,null,null,"Years 12 - 15",null,"Grade 7 - 10","This title focuses on songwriting from a craft standpoint. Because the lyrics themselves are only one part of songwriting, the author also covers melody, tempo, rhythm, etc., and explains how this can differ between genres too (rap, heavy metal, R&B, and so on). A few key influential singer/songwriters are also discussed along with the general craft.","English",39.4,31.52,"782","112 pp.",{"$f":"Table1[[#This Row],['# of Books]]*Table1[[#This Row],[QTY]]","v":0},{"$f":"Table1[[#This Row],[QTY]]*Table1[[#This Row],[School & Library Price]]","v":0}]
[null,84,null,"Arts and Humanities","The Music Library","The History of American Pop","978-1-4205-0672-3","Lucent Press","Library Bound Book",1,2012,null,"Library Bound","7.000 X 9.000","Author","Stuart A. Kallen",null,null,null,null,null,null,"Years 12 - 15",null,"Grade 7 - 10","For many people, popular music provides a soundtrack to their lives by entwining emotion with experience. It is little wonder, then, that eventful periods in American history are often defined by the pop music of the time. For example, big band jazz evokes memories of World War II for those who lived through that era, while songs from the 1960s often remind baby boomers of the drug-fueled hippie revolution. In this new addition to the MUSIC LIBRARY, author Stuart Kallen traces the history of popular music in America from the sounds of Tin Pan Alley to Chicago jazz clubs, to southern rock n' roll and country, to the British Invasion, to psychedelic rock and Woodstock, to garage band heroes and music video rock stars, to hip-hop tycoons and young American idols.","English",39.4,31.52,"781.64","136 pp.",{"$f":"Table1[[#This Row],['# of Books]]*Table1[[#This Row],[QTY]]","v":0},{"$f":"Table1[[#This Row],[QTY]]*Table1[[#This Row],[School & Library Price]]","v":0}]
[null,84,null,"Arts and Humanities","The Music Library","The History of Country Music","978-1-4205-0974-8","Lucent Press","eBook",1,2012,null,"eBook",null,"Author","Stuart A. Kallen",null,null,null,null,null,null,"Years 12 - 15",null,"Grade 7 - 10","Country music is the quintessential American music, with roots in the musical traditions of the earliest settlers and having grown up as an integral part of the uniquely American experience and culture. This title in Lucent’s MUSIC LIBRARY examines the development of country music from its beginnings in the southern Appalachian Mountains in the early 20th century to the slick sounds of modern country music superstars of the early 21st century.","English",43.34,43.34,"781.64209","136 pp.",{"$f":"Table1[[#This Row],['# of Books]]*Table1[[#This Row],[QTY]]","v":0},{"$f":"Table1[[#This Row],[QTY]]*Table1[[#This Row],[School & Library Price]]","v":0}]
[null,84,null,"Arts and Humanities","The Music Library","The History of Gospel Music","978-1-4205-0945-8","Lucent Press","Library Bound Book",1,2014,null,"Library Bound","7.000 X 9.000","Author","Adam Woog",null,null,null,null,null,null,"Years 12 - 15",null,"Grade 7 - 10","Gospel music and its encouraging messages have touched millions of people over time, and continues to be a vigorous and inspiring music today. This book discusses the roots of gospel music from its early beginnings in the grim days of slavery to contemporary gospel music.","English",39.4,31.52,"782","136 pp.",{"$f":"Table1[[#This Row],['# of Books]]*Table1[[#This Row],[QTY]]","v":0},{"$f":"Table1[[#This Row],[QTY]]*Table1[[#This Row],[School & Library Price]]","v":0}]
[null,84,null,"Arts and Humanities","The Music Library","The History of Jazz","978-1-4205-0820-8","Lucent Press","Library Bound Book",1,2012,null,"Library Bound","7.000 X 9.000","Author","Stuart A. Kallen",null,null,null,null,null,null,"Years 12 - 15",null,"Grade 7 - 10","Music based on jazz beats can be heard all over the world but the roots of the style are distinctly American. Jazz grew out of the musical hothouse that was New Orleans, Louisiana at the end of the nineteenth century. Jazz represents the creative musical side of the United States to people across the globe. Jazz personalities such as Louis Armstrong, Dizzy Gillespie, Wynton Marsalis, and now Esperanza Spaulding, are heroes to countless jazz fans from Tokyo to Paris to Rio de Janeiro. Just as a swinging jazz quartet unites its individual players behind a driving syncopated beat, jazz music has proven its ability to bring people together over a shared interest in a universal sound.","English",39.4,31.52,"781","128 pp.",{"$f":"Table1[[#This Row],['# of Books]]*Table1[[#This Row],[QTY]]","v":0},{"$f":"Table1[[#This Row],[QTY]]*Table1[[#This Row],[School & Library Price]]","v":0}]
[null,84,null,"Arts and Humanities","The Music Library","The History of Music Videos","978-1-4205-0976-2","Lucent Press","eBook",1,2012,null,"eBook",null,"Author","Hal Marcovitz",null,null,null,null,null,null,"Years 12 - 15",null,"Grade 7 - 10","The first official music videos aired in the 1970s, but the seeds for making music something more than a pleasure for the ears were planted decades earlier. This book covers the birth of the music video, starting in the 1920s and 1930s when the first great movie musicals were produced, then details how MTV revolutionized the industry by making the film production as important as song production. The author also explains the various music video styles and differences in production value. Concluding chapters highlight the Internet video sensations of today and the interactive features that will likely characterize the genre tomorrow.","English",43.34,43.34,"781.64026","112 pp.",{"$f":"Table1[[#This Row],['# of Books]]*Table1[[#This Row],[QTY]]","v":0},{"$f":"Table1[[#This Row],[QTY]]*Table1[[#This Row],[School & Library Price]]","v":0}]
[null,84,null,"Arts and Humanities","The Music Library","The History of Music Videos","978-1-4205-0821-5","Lucent Press","Library Bound Book",1,2012,null,"Library Bound","7.000 X 9.000","Author","Hal Marcovitz",null,null,null,null,null,null,"Years 12 - 15",null,"Grade 7 - 10","The first official music videos aired in the 1970s, but the seeds for making music something more than a pleasure for the ears were planted decades earlier. This book covers the birth of the music video, starting in the 1920s and 1930s when the first great movie musicals were produced, then details how MTV revolutionized the industry by making the film production as important as song production. The author also explains the various music video styles and differences in production value. Concluding chapters highlight the Internet video sensations of today and the interactive features that will likely characterize the genre tomorrow.","English",39.4,31.52,"780","112 pp.",{"$f":"Table1[[#This Row],['# of Books]]*Table1[[#This Row],[QTY]]","v":0},{"$f":"Table1[[#This Row],[QTY]]*Table1[[#This Row],[School & Library Price]]","v":0}]
[null,84,null,"Arts and Humanities","The Music Library","The History of R&B and Soul Music","978-1-4205-0899-4","Lucent Press","Library Bound Book",1,2014,null,"Library Bound","7.000 X 9.000","Author","Stuart A. Kallen",null,null,null,null,null,null,"Years 12 - 15",null,"Grade 7 - 10","R&B and soul music has historically been written and produced by black Americans to reflect the African American experience in the USA. This book covers a range of styles within R&B, including boogie-woogie, Doo-Wop, jump blues, and 12-bar blues, Motown soul, 70s funk, urban contemporary, and hip hop soul.","English",39.4,31.52,"781.64409","128 pp.",{"$f":"Table1[[#This Row],['# of Books]]*Table1[[#This Row],[QTY]]","v":0},{"$f":"Table1[[#This Row],[QTY]]*Table1[[#This Row],[School & Library Price]]","v":0}]
[null,84,null,"Arts and Humanities","The Music Library","The History of Rock and Roll","978-1-4205-0694-5","Lucent Press","Library Bound Book",1,2012,null,"Library Bound","7.000 X 9.000","Author","Stuart A. Kallen",null,null,null,null,null,null,"Years 12 - 15",null,"Grade 7 - 10","Rock and roll: Those three words are understood by people in almost every nation on Earth. They describe a type of music—and an attitude—that made history and continues to change the musical landscape. The music style started out in the United States as a new type of dance music for teenage baby boomers during the mid-1950s. By the 1960s, the music transformed the cultural—and political—landscape of much of the world. Never before in history has a style of music come along that so quickly and so completely changed the world. From the very beginning, rock and roll and the musicians who performed it challenged existing social norms, provoking defiance, disrespect for authority, and, at times, revolution among fans. In the modern world, rock-and-roll music continues to define what it means to be a young person. Rock stars and their songs affect the way people look, dress, act, and talk. In this new addition to the MUSIC LIBRARY, author Stuart Kallen traces the history of rock and roll from its early 1950s beginnings through its most significant developments to date.","English",39.4,31.52,"781.6609","128 pp.",{"$f":"Table1[[#This Row],['# of Books]]*Table1[[#This Row],[QTY]]","v":0},{"$f":"Table1[[#This Row],[QTY]]*Table1[[#This Row],[School & Library Price]]","v":0}]
[null,84,null,"Arts and Humanities","The Music Library","The Instruments of Music","978-1-4205-0946-5","Lucent Press","Library Bound Book",1,2013,null,"Library Bound","7.000 X 9.000","Author","Stuart A. Kallen",null,null,null,null,null,null,"Years 12 - 15",null,"Grade 7 - 10","This volume in The Music Library offers an updated version of the book originally published in 2003. The book will include important updates to the original text, a new back matter section (i.e., a glossary, bibliography of resources, and a list of recommended listening), and all new photos. Some important additions include a full chapter discussion of digital instruments in the twenty-first century with an emphasis on how synthesizers, samplers, drum machines, and computer effects such as auto-tune have taken on a greater role in chart-topping pop music; the rising popularity of the tuba in banda music in Mexico and Southern California in what is being called the \"tuba revolution\"; and additional information about country instruments such as the fiddle and standup bass.  Each chapter will focus on the history of a different family of instruments – percussion, woodwinds, brass, strings, keyboards, and digital instruments.","English",39.4,31.52,"781","136 pp.",{"$f":"Table1[[#This Row],['# of Books]]*Table1[[#This Row],[QTY]]","v":0},{"$f":"Table1[[#This Row],[QTY]]*Table1[[#This Row],[School & Library Price]]","v":0}]
[null,85,null,"Biography","The Twentieth Century's Most Influential Hispanics","Diego Rivera: Muralist","978-1-4205-0018-9","Lucent Press","Library Bound Book",1,2008,null,"Library Bound","7.000 X 9.000","Author","Laurie Hillstom",null,null,null,null,null,null,"Years 12 - 15",null,"Grade 7 - 10",null,"English",39.4,31.52,"709","104 pp.",{"$f":"Table1[[#This Row],['# of Books]]*Table1[[#This Row],[QTY]]","v":0},{"$f":"Table1[[#This Row],[QTY]]*Table1[[#This Row],[School & Library Price]]","v":0}]
[null,85,null,"Biography","The Twentieth Century's Most Influential Hispanics","Gabriel Garcia Marquez: Nobel Prize-winning Author","978-1-4205-0020-2","Lucent Press","Library Bound Book",1,2008,null,"Library Bound","7.000 X 9.000","Author","Don Nardo",null,null,null,null,null,null,"Years 12 - 15",null,"Grade 7 - 10",null,"English",39.4,31.52,"863","104 pp.",{"$f":"Table1[[#This Row],['# of Books]]*Table1[[#This Row],[QTY]]","v":0},{"$f":"Table1[[#This Row],[QTY]]*Table1[[#This Row],[School & Library Price]]","v":0}]
[null,85,null,"Biography","The Twentieth Century's Most Influential Hispanics","Jennifer Lopez: Entertainer","978-1-4205-0021-9","Lucent Press","Library Bound Book",1,2008,null,"Library Bound","7.000 X 9.000","Author","Terri Dougherty",null,null,null,null,null,null,"Years 12 - 15",null,"Grade 7 - 10",null,"English",39.4,31.52,"791","104 pp.",{"$f":"Table1[[#This Row],['# of Books]]*Table1[[#This Row],[QTY]]","v":0},{"$f":"Table1[[#This Row],[QTY]]*Table1[[#This Row],[School & Library Price]]","v":0}]
[null,86,null,"Health & Medicine","Nutrition and Health","Cardiovascular Disease and Diet","978-1-4205-1232-8","Lucent Press","eBook",1,2015,null,"eBook",null,"Author","Don Nardo",null,null,null,null,null,null,"Years 12 - 15",null,"Grade 7 - 10",null,"English",39.270000000000003,39.270000000000003,"616.1","104 pp.",{"$f":"Table1[[#This Row],['# of Books]]*Table1[[#This Row],[QTY]]","v":0},{"$f":"Table1[[#This Row],[QTY]]*Table1[[#This Row],[School & Library Price]]","v":0}]
[null,86,null,"Health & Medicine","Nutrition and Health","Cardiovascular Disease and Diet","978-1-4205-1231-1","Lucent Press","Library Bound Book",1,2015,null,"Library Bound","7.000 X 9.000","Author","Don Nardo",null,null,null,null,null,null,"Years 12 - 15",null,"Grade 7 - 10","This new title in Lucent's NUTRITION AND HEALTH SERIES will detail cardiovascular disease and its designation as the \"number one killer.\" The book will go on to discuss how diet can be used to control or even prevent the disease.","English",35.700000000000003,28.560000000000002,"616","104 pp.",{"$f":"Table1[[#This Row],['# of Books]]*Table1[[#This Row],[QTY]]","v":0},{"$f":"Table1[[#This Row],[QTY]]*Table1[[#This Row],[School & Library Price]]","v":0}]
[null,86,null,"Health & Medicine","Nutrition and Health","Diet and Disease","978-1-4205-0269-5","Lucent Press","Library Bound Book",1,2011,null,"Library Bound","7.000 X 9.000","Author","Bonnie Juettner",null,null,null,null,null,null,"Years 12 - 15",null,"Grade 7 - 10",null,"English",35.700000000000003,28.560000000000002,"613","104 pp.",{"$f":"Table1[[#This Row],['# of Books]]*Table1[[#This Row],[QTY]]","v":0},{"$f":"Table1[[#This Row],[QTY]]*Table1[[#This Row],[School & Library Price]]","v":0}]
[null,86,null,"Health & Medicine","Nutrition and Health","Eating Disorders","978-1-4205-0719-5","Lucent Press","Library Bound Book",1,2013,null,"Library Bound","7.000 X 9.000","Author","Kevin Hillstrom",null,null,null,null,null,null,"Years 12 - 15",null,"Grade 7 - 10","This title in Lucent's Nutrition and Health series talks about eating disorders. It describes the different types of eating disorders, their prevalence in society, what research suggests about causes and risk factors for having an eating disorder, how eating disorders are treated, the likelihood of recovery, and how people with eating disorders live with the disorder.","English",35.700000000000003,28.560000000000002,"616","104 pp.",{"$f":"Table1[[#This Row],['# of Books]]*Table1[[#This Row],[QTY]]","v":0},{"$f":"Table1[[#This Row],[QTY]]*Table1[[#This Row],[School & Library Price]]","v":0}]
[null,86,null,"Health & Medicine","Nutrition and Health","Food Allergies","978-1-4205-0964-9","Lucent Press","eBook",1,2012,null,"eBook",null,"Author","Kevin Hillstrom",null,null,null,null,null,null,"Years 12 - 15",null,"Grade 7 - 10","This new edition in Lucent’s NUTRITION AND HEALTH series discusses food allergies. The most common food allergies are discussed in detail, as are the physical effects of food allergies (including mild and severe reactions), how people with food allergies stay safe and avoid ingredients they are allergic to, how food allergies are treated and how people, especially kids and teenagers, cope with the social complications that come with having a food allergy. Doctors, researchers, and people living with food allergies are quoted throughout the text and full source citations are provided. Lists of sources for further research - including organizations to contact - are also included, along with a glossary and detailed subject index.","English",39.270000000000003,39.270000000000003,"616.97","96 pp.",{"$f":"Table1[[#This Row],['# of Books]]*Table1[[#This Row],[QTY]]","v":0},{"$f":"Table1[[#This Row],[QTY]]*Table1[[#This Row],[School & Library Price]]","v":0}]
[null,87,null,"Health & Medicine","Nutrition and Health","Food Regulation and Safety","978-1-4205-1010-2","Lucent Press","eBook",1,2012,null,"eBook",null,"Author","Kevin Hillstrom",null,null,null,null,null,null,"Years 12 - 15",null,"Grade 7 - 10","Examines the most current scientific studies and provides in-depth information on food regulation and safety.","English",39.270000000000003,39.270000000000003,"363.19","104 pp.",{"$f":"Table1[[#This Row],['# of Books]]*Table1[[#This Row],[QTY]]","v":0},{"$f":"Table1[[#This Row],[QTY]]*Table1[[#This Row],[School & Library Price]]","v":0}]
[null,87,null,"Health & Medicine","Nutrition and Health","Healthy Weight for Teens","978-1-4205-1109-3","Lucent Press","eBook",1,2013,null,"eBook",null,"Author","Carla Mooney",null,null,null,null,null,null,"Years 12 - 15",null,"Grade 7 - 10","The media inundates us with messages about the \"epidemic\" of overweight and obese Americans and they make dire predictions about the health of kids and teenagers. Meanwhile nutritionists and doctors often say that kids and teenagers should not diet. Psychologists add that girls should never be told they need to diet or hear negative comments about their size, for fear of adding to the number of teens today starving themselves, choosing unhealthy dieting options, and developing eating disorders. This title in Lucent’s Nutrition and Health series provides young readers with the information they need to sort out these mixed messages and use their critical thinking skills to weigh the data and to understand healthy choices.","English",39.270000000000003,39.270000000000003,"613.0433","104 pp.",{"$f":"Table1[[#This Row],['# of Books]]*Table1[[#This Row],[QTY]]","v":0},{"$f":"Table1[[#This Row],[QTY]]*Table1[[#This Row],[School & Library Price]]","v":0}]
[null,87,null,"Health & Medicine","Nutrition and Health","Junk Food Junkies","978-1-4205-0271-8","Lucent Press","Library Bound Book",1,2011,null,"Library Bound","7.000 X 9.000","Author","Carla Mooney",null,null,null,null,null,null,"Years 12 - 15",null,"Grade 7 - 10","Explores the popularity of junk food and how it is affecting public health. Looks at marketing methods designed to promote consumption of junk food; ways that people are trying to avoid diets rich in junk food; and strategies for incorporating healthier food choices into peoples' diets.","English",35.700000000000003,28.560000000000002,"613","104 pp.",{"$f":"Table1[[#This Row],['# of Books]]*Table1[[#This Row],[QTY]]","v":0},{"$f":"Table1[[#This Row],[QTY]]*Table1[[#This Row],[School & Library Price]]","v":0}]
[null,87,null,"Health & Medicine","Nutrition and Health","Organic Foods","978-1-4205-1243-4","Lucent Press","Library Bound Book",1,2015,null,"Library Bound","7.000 X 9.000","Author","Jennifer MacKay",null,null,null,null,null,null,"Years 12 - 15",null,"Grade 7 - 10","This new book in Lucent's NUTRITION AND HEALTH SERIES will discuss the increased interest in organic foods. It will detail how consumers can find true organic foods while shopping and how best to prepare them.","English",35.700000000000003,28.560000000000002,"631.5","104 pp.",{"$f":"Table1[[#This Row],['# of Books]]*Table1[[#This Row],[QTY]]","v":0},{"$f":"Table1[[#This Row],[QTY]]*Table1[[#This Row],[School & Library Price]]","v":0}]
[null,87,null,"Health & Medicine","Nutrition and Health","Sleep Problems","978-1-4205-1170-3","Lucent Press","eBook",1,2014,null,"eBook",null,"Author","Don Nardo",null,null,null,null,null,null,"Years 12 - 15",null,"Grade 7 - 10","This title in Lucent’s NUTRITION AND HEALTH series talks about sleep disorders. It describes the different types of sleep disorders, what research suggests about the causes of sleep disorders, and how sleep disorders are treated and prevented.","English",39.270000000000003,39.270000000000003,"616.8","104 pp.",{"$f":"Table1[[#This Row],['# of Books]]*Table1[[#This Row],[QTY]]","v":0},{"$f":"Table1[[#This Row],[QTY]]*Table1[[#This Row],[School & Library Price]]","v":0}]
[null,87,null,"Health & Medicine","Nutrition and Health","Sports Nutrition","978-1-4205-0939-7","Lucent Press","Library Bound Book",1,2015,null,"Library Bound","7.000 X 9.000","Author","Jennifer Mackay",null,null,null,null,null,null,"Years 12 - 15",null,"Grade 7 - 10","This new title in Lucent's NUTRITION AND HEALTH SERIES deals with the nutrition as part of sports. It delves into how diet impacts athletic performance and which types of food should be eaten for particular sports.","English",35.700000000000003,28.560000000000002,"613","104 pp.",{"$f":"Table1[[#This Row],['# of Books]]*Table1[[#This Row],[QTY]]","v":0},{"$f":"Table1[[#This Row],[QTY]]*Table1[[#This Row],[School & Library Price]]","v":0}]
[null,87,null,"Health & Medicine","Nutrition and Health","Vegan Diets","978-1-4205-1171-0","Lucent Press","eBook",1,2014,null,"eBook",null,"Author","Don Nardo",null,null,null,null,null,null,"Years 12 - 15",null,"Grade 7 - 10","This new title in Lucent’s Nutrition and Health series deals with the vegan lifestyle. The title addresses why people choose to go vegan, along with the health implications of that choice. It also delves into the ethics of veganism and how companies and restaurants are accommodating the vegan lifestyle.","English",39.270000000000003,39.270000000000003,"613.2622","104 pp.",{"$f":"Table1[[#This Row],['# of Books]]*Table1[[#This Row],[QTY]]","v":0},{"$f":"Table1[[#This Row],[QTY]]*Table1[[#This Row],[School & Library Price]]","v":0}]
[null,87,null,"Health & Medicine","Nutrition and Health","Vegetarianism","978-1-4205-0272-5","Lucent Press","Library Bound Book",1,2010,null,"Library Bound","7.000 X 9.000","Author","Susan M. Traugh",null,null,null,null,null,null,"Years 12 - 15",null,"Grade 7 - 10","Explores why some people choose a vegetarian lifestyle, the different types of vegetarian diets, and vegetarianism around the world. Looks at the steps to becoming a vegetarian and discusses nutrition for vegetarians -- how this type of diet fits in the recommended food pyramid, and how a vegetarian can make good food selections.","English",35.700000000000003,28.560000000000002,"613","96 pp.",{"$f":"Table1[[#This Row],['# of Books]]*Table1[[#This Row],[QTY]]","v":0},{"$f":"Table1[[#This Row],[QTY]]*Table1[[#This Row],[School & Library Price]]","v":0}]
[null,88,null,"U.S. History","The Lucent Library of Historical Eras","Life and Worship in Ancient Mesopotamia","978-1-4205-0100-1","Lucent Press","Library Bound Book",1,2009,null,"Library Bound","7.000 X 9.000","Author","Don Nardo",null,null,null,null,null,null,"Years 12 - 15",null,"Grade 7 - 10",null,"English",39.4,31.52,"204","48 pp.",{"$f":"Table1[[#This Row],['# of Books]]*Table1[[#This Row],[QTY]]","v":0},{"$f":"Table1[[#This Row],[QTY]]*Table1[[#This Row],[School & Library Price]]","v":0}]
[null,88,null,"U.S. History","The Lucent Library of Historical Eras","The Industrial Revolution in Britain","978-1-4205-0152-0","Lucent Press","Library Bound Book",1,2009,null,"Library Bound","7.000 X 9.000","Author","Don Nardo",null,null,null,null,null,null,"Years 12 - 15",null,"Grade 7 - 10",null,"English",39.4,31.52,"330","96 pp.",{"$f":"Table1[[#This Row],['# of Books]]*Table1[[#This Row],[QTY]]","v":0},{"$f":"Table1[[#This Row],[QTY]]*Table1[[#This Row],[School & Library Price]]","v":0}]
[null,89,null,"Mythology","Mythology and Culture Worldwide","American Mythology","978-1-4205-1106-2","Lucent Press","eBook",1,2013,null,"eBook",null,"Author","Don Nardo",null,null,null,null,null,null,"Years 12 - 15",null,"Grade 7 - 10","This volume of Lucent’s Mythology and Culture Worldwide series looks at some of the popular myths of the modern United States and discusses their role in the culture and the values they reflect. (NOTE: Native American myths are covered in a separate volume.) This titles covers American frontier heroes, both real and imaginary, such as Davy Crockett and Paul Bunyon. It talks about legendary ghost ships, haunted houses, pirate treasure, monsters, and lost cities and relates these stories to the experiences and values of American culture.","English",43.34,43.34,"398.20973","104 pp.",{"$f":"Table1[[#This Row],['# of Books]]*Table1[[#This Row],[QTY]]","v":0},{"$f":"Table1[[#This Row],[QTY]]*Table1[[#This Row],[School & Library Price]]","v":0}]
[null,89,null,"Mythology","Mythology and Culture Worldwide","Aztec Mythology","978-1-4205-0922-9","Lucent Press","Library Bound Book",1,2015,null,"Library Bound","7.000 X 9.000","Author","Don Nardo",null,null,null,null,null,null,"Years 12 - 15",null,"Grade 7 - 10","This new title in the MYTHOLOGY AND CULTURE WORLDWIDE SERIES discusses the origins of Aztec myths and how some of these myths have been manipulated over time. The book details the major gods found within the mythology along with some of the most memorable ones.","English",39.4,31.52,"299","96 pp.",{"$f":"Table1[[#This Row],['# of Books]]*Table1[[#This Row],[QTY]]","v":0},{"$f":"Table1[[#This Row],[QTY]]*Table1[[#This Row],[School & Library Price]]","v":0}]
[null,89,null,"Mythology","Mythology and Culture Worldwide","Babylonian Mythology","978-0-7377-6647-9","Lucent Press","eBook",1,2013,null,"eBook",null,"Author","Don Nardo",null,null,null,null,null,null,"Years 12 - 15",null,"Grade 7 - 10","This volume in Lucent’s Mythology and Culture Worldwide series looks at Babylonian Mythology, drawing connections between ancient Babylonian culture and its myths, explaining how the beliefs, values, and experiences of that culture are represented in its treasured stories. This volume has a map of ancient Mesopotamia, a family tree of the major gods, a table of major characters with name pronunciations and brief descriptions, a glossary, sidebars, fact boxes, and bibliography of sources for further study, and a subject index.","English",43.34,43.34,"299.21","104 pp.",{"$f":"Table1[[#This Row],['# of Books]]*Table1[[#This Row],[QTY]]","v":0},{"$f":"Table1[[#This Row],[QTY]]*Table1[[#This Row],[School & Library Price]]","v":0}]
[null,89,null,"Mythology","Mythology and Culture Worldwide","British Mythology","978-1-4205-1037-9","Lucent Press","eBook",1,2013,null,"eBook",null,"Author","Don Nardo",null,null,null,null,null,null,"Years 12 - 15",null,"Grade 7 - 10","Explores Great Britain’s culture and myths, as well as the beliefs, values, and experiences represented in its stories and mythological figures. Discover the settlement of Britain by the Celts and the influence of the Roman invasion; pre-Christian myths, such as Beowulf; the Authurian cycle; the adventures of Robin Hood; and the survival of British myth in literary tradition.","English",43.34,43.34,"398.20941","112 pp.",{"$f":"Table1[[#This Row],['# of Books]]*Table1[[#This Row],[QTY]]","v":0},{"$f":"Table1[[#This Row],[QTY]]*Table1[[#This Row],[School & Library Price]]","v":0}]
[null,89,null,"Mythology","Mythology and Culture Worldwide","Chinese Mythology","978-1-4205-1217-5","Lucent Press","eBook",1,2014,null,"eBook",null,"Author","Michael V. Uschan",null,null,null,null,null,null,"Years 12 - 15",null,"Grade 7 - 10",null,"English",43.34,43.34,"299.51113","104 pp.",{"$f":"Table1[[#This Row],['# of Books]]*Table1[[#This Row],[QTY]]","v":0},{"$f":"Table1[[#This Row],[QTY]]*Table1[[#This Row],[School & Library Price]]","v":0}]
[null,90,null,"Mythology","Mythology and Culture Worldwide","Egyptian Mythology","978-1-4205-0745-4","Lucent Press","Library Bound Book",1,2013,null,"Library Bound","7.000 X 9.000","Author","Jennifer Guess McKerley",null,null,null,null,null,null,"Years 12 - 15",null,"Grade 7 - 10","This title in the Mythology and Culture Worldwide series introduces readers to the elaborate mythology of ancient Egypt, providing detailed discussion of the mythology's importance to its own culture and the impact it had on subsequent cultures. The numerous deities worshipped by the ancient Egyptians are described and their importance to different groups and in different regions within the empire are explained. Stories are retold along with explanation of how they reflect the values and concerns of Egyptian culture.","English",39.4,31.52,"299","104 pp.",{"$f":"Table1[[#This Row],['# of Books]]*Table1[[#This Row],[QTY]]","v":0},{"$f":"Table1[[#This Row],[QTY]]*Table1[[#This Row],[School & Library Price]]","v":0}]
[null,90,null,"Mythology","Mythology and Culture Worldwide","Greek Mythology","978-1-4205-0633-4","Lucent Press","Library Bound Book",1,2012,null,"Library Bound","7.000 X 9.000","Author","Don Nardo",null,null,null,null,null,null,"Years 12 - 15",null,"Grade 7 - 10","This new volume in Lucent's MYTHOLOGY AND CULTURE WORLDWIDE series looks at Greek mythology, draws connections between ancient Greek culture and its myths, and explains how the beliefs, values, and experiences of that culture are represented in its treasured stories of gods, demi-gods, monsters, and heroes. This volume includes a map of ancient Greece, a family tree of the major gods, a table of major characters with name pronunciations and brief descriptions, a glossary, sidebars, fact boxes, a bibliography of sources for further study, and a subject index.","English",39.4,31.52,"292.1","112 pp.",{"$f":"Table1[[#This Row],['# of Books]]*Table1[[#This Row],[QTY]]","v":0},{"$f":"Table1[[#This Row],[QTY]]*Table1[[#This Row],[School & Library Price]]","v":0}]
[null,90,null,"Mythology","Mythology and Culture Worldwide","Mayan Mythology","978-1-4205-0747-8","Lucent Press","Library Bound Book",1,2012,null,"Library Bound","7.000 X 9.000","Author","Stephen Currie",null,null,null,null,null,null,"Years 12 - 15",null,"Grade 7 - 10","This new volume in Lucent's MYTHOLOGY AND CULTURE WORLDWIDE series looks at the mythology of the Mayan culture, and explains how the beliefs, values, and experiences of that culture are represented in its treasured stories. Topics covered include creation stories, myths of culture heroes such as the Hero Twins, and tales of the gods of maize, rain, and wind, as well as the malevolent spirits of the underworld, Xilbaba. This volume has a map of the Mayan civilization, a genealogy grid for the Hero Twins, a table of major characters with name pronunciations and brief descriptions, a glossary, sidebars, fact boxes, a bibliography of sources for further study, and a subject index.","English",39.4,31.52,"398.20897","104 pp.",{"$f":"Table1[[#This Row],['# of Books]]*Table1[[#This Row],[QTY]]","v":0},{"$f":"Table1[[#This Row],[QTY]]*Table1[[#This Row],[School & Library Price]]","v":0}]
[null,90,null,"Mythology","Mythology and Culture Worldwide","Native American Mythology","978-1-4205-0951-9","Lucent Press","eBook",1,2012,null,"eBook",null,"Author","Q. L. Pearce",null,null,null,null,null,null,"Years 12 - 15",null,"Grade 7 - 10","This new volume in Lucent’s MYTHOLOGY AND CULTURE WORLDWIDE series looks at Native American mythology, draws connections between Native American culture and its myths, and explains how the beliefs, values, and experiences of that culture are represented in its treasured stories. Tales covered include earth diver and origin stories, and myths of culture heroes, nature deities, spirits, and tricksters. This volume has a map of the tribal regions of North America, a table of major characters with name pronunciations and brief descriptions, a glossary, sidebars, fact boxes, a bibliography of sources for further study, and a subject index.","English",43.34,43.34,"398.208997","104 pp.",{"$f":"Table1[[#This Row],['# of Books]]*Table1[[#This Row],[QTY]]","v":0},{"$f":"Table1[[#This Row],[QTY]]*Table1[[#This Row],[School & Library Price]]","v":0}]
[null,90,null,"Mythology","Mythology and Culture Worldwide","Norse Mythology","978-1-4205-1009-6","Lucent Press","eBook",1,2012,null,"eBook",null,"Author","Shirley-Raye Redmond",null,null,null,null,null,null,"Years 12 - 15",null,"Grade 7 - 10","This new volume in Lucent’s MYTHOLOGY AND CULTURE WORLDWIDE series looks at the mythology of the Norse culture, and explains how the beliefs, values, and experiences of that culture are represented in its treasured stories. Tales covered include creation stories, and myths of the gods, frost giants, and heroes. This volume has a map of Scandinavia, a genealogy grid with some of the major gods and prominent characters such as Loki and his offspring, a table of key characters with name pronunciations and brief descriptions, a glossary, sidebars, fact boxes, a bibliography of sources for further study, and a subject index.","English",43.34,43.34,"293.13","96 pp.",{"$f":"Table1[[#This Row],['# of Books]]*Table1[[#This Row],[QTY]]","v":0},{"$f":"Table1[[#This Row],[QTY]]*Table1[[#This Row],[School & Library Price]]","v":0}]
[null,90,null,"Mythology","Mythology and Culture Worldwide","Persian Mythology","978-1-4205-0794-2","Lucent Press","Library Bound Book",1,2013,null,"Library Bound","7.000 X 9.000","Author","Don Nardo",null,null,null,null,null,null,"Years 12 - 15",null,"Grade 7 - 10","This volume in Lucent's Mythology and Culture Worldwide series looks at Persian Mythology, drawing connections between ancient Persian culture and its myths, explaining how the beliefs, values, and experiences of that culture are represented in its treasured stories. Origin/creation stories, early gods, mythical kings and heroes, and Zoroastrianism are all covered. This volume has a map of ancient Persia, a visual organizer grouping major characters into types (gods, heroes, etc.), a table of major characters with name pronunciations and brief descriptions, a glossary, sidebars, fact boxes, and bibliography of sources for further study, and a subject index.","English",39.4,31.52,"299","104 pp.",{"$f":"Table1[[#This Row],['# of Books]]*Table1[[#This Row],[QTY]]","v":0},{"$f":"Table1[[#This Row],[QTY]]*Table1[[#This Row],[School & Library Price]]","v":0}]
[null,91,null,"Science & Technology","Technology 360","Cell Phones","978-1-4205-0289-3","Lucent Press","eBook",1,2010,null,"eBook",null,"Author","Andrew A. Kling",null,null,null,null,null,null,"Years 12 - 15",null,"Grade 7 - 10",null,"English",43.89,43.89,"621.38456","112 pp.",{"$f":"Table1[[#This Row],['# of Books]]*Table1[[#This Row],[QTY]]","v":0},{"$f":"Table1[[#This Row],[QTY]]*Table1[[#This Row],[School & Library Price]]","v":0}]
[null,91,null,"Science & Technology","Technology 360","Cloud Computing","978-1-4205-1265-6","Lucent Press","eBook",1,2014,null,"eBook",null,"Author","Andrew A. Kling",null,null,null,null,null,null,"Years 12 - 15",null,"Grade 7 - 10",null,"English",43.89,43.89,"004.67","128 pp.",{"$f":"Table1[[#This Row],['# of Books]]*Table1[[#This Row],[QTY]]","v":0},{"$f":"Table1[[#This Row],[QTY]]*Table1[[#This Row],[School & Library Price]]","v":0}]
[null,91,null,"Science & Technology","Technology 360","Digital Cameras and Camcorders","978-1-4205-0165-0","Lucent Press","Library Bound Book",1,2014,null,"Library Bound","7.000 X 9.000","Author","Stuart A. Kallen",null,null,null,null,null,null,"Years 12 - 15",null,"Grade 7 - 10","Digital cameras are probably one of the most common electronics found in typical American households. The use of digital cameras has allowed anyone to become a photographer without the expensive equipment that was previously needed. This new title in the Technology 360 series describes the evolution of the digital cameras, along with the parts that make up the camera. The title also deals with what modes should be used in certain settings how the explosion of photos available online has led to privacy concerns.","English",39.9,31.92,"771","104 pp.",{"$f":"Table1[[#This Row],['# of Books]]*Table1[[#This Row],[QTY]]","v":0},{"$f":"Table1[[#This Row],[QTY]]*Table1[[#This Row],[School & Library Price]]","v":0}]
[null,91,null,"Science & Technology","Technology 360","E-books","978-1-4205-0902-1","Lucent Press","Library Bound Book",1,2013,null,"Library Bound","7.000 X 9.000","Author","Hal Marcovitz",null,null,null,null,null,null,"Years 12 - 15",null,"Grade 7 - 10","In this exciting new title for the Tech 360 series, author Hal Marcovitz examines the enormous popularity of e-books in the 21st century. Readers will learn about the evolution of the e-book concept from Project Gutenberg to dedicated e-readers such as Kindle and Nook, as well as the adaptation of e-books for tablet computers. Later chapters delve into how e-readers are changing the way people read, how e-books are impacting the publishing industry and libraries, and how the e-book may change in the future.","English",39.9,31.92,"70.5","112 pp.",{"$f":"Table1[[#This Row],['# of Books]]*Table1[[#This Row],[QTY]]","v":0},{"$f":"Table1[[#This Row],[QTY]]*Table1[[#This Row],[School & Library Price]]","v":0}]
[null,91,null,"Science & Technology","Technology 360","Global Positioning Systems","978-1-4205-0325-8","Lucent Press","Library Bound Book",1,2011,null,"Library Bound","7.000 X 9.000","Author","Laurie Collier Hillstrom",null,null,null,null,null,null,"Years 12 - 15",null,"Grade 7 - 10",null,"English",39.9,31.92,"623","96 pp.",{"$f":"Table1[[#This Row],['# of Books]]*Table1[[#This Row],[QTY]]","v":0},{"$f":"Table1[[#This Row],[QTY]]*Table1[[#This Row],[School & Library Price]]","v":0}]
[null,91,null,"Science & Technology","Technology 360","Online Schools","978-1-4205-0942-7","Lucent Press","Library Bound Book",1,2013,null,"Library Bound","7.000 X 9.000","Author","Jenny Mackay",null,null,null,null,null,null,"Years 12 - 15",null,"Grade 7 - 10","Teaching and learning online take place in schools that operate completely in a computerized world. The underlying technology that makes this possible is growing and evolving at a rapid pace, guaranteeing that online schools will be around for a long time and but must change continuously to keep up with new capabilities. This new volume in the Technology 360 series provides the history of learning outside the traditional classroom, explains the technology of online education (such as the Internet, VoIP, wireless connectivity, and real-time interactive applications), tools and techniques used in online learning (such as streaming content, data exchange, and simulations), and the limitations and advantages of online learning.","English",39.9,31.92,"371","112 pp.",{"$f":"Table1[[#This Row],['# of Books]]*Table1[[#This Row],[QTY]]","v":0},{"$f":"Table1[[#This Row],[QTY]]*Table1[[#This Row],[School & Library Price]]","v":0}]
[null,91,null,"Science & Technology","Technology 360","Online Social Networks","978-1-4205-0167-4","Lucent Press","Library Bound Book",1,2010,null,"Library Bound","7.000 X 9.000","Author","Laurie Collier Hillstrom",null,null,null,null,null,null,"Years 12 - 15",null,"Grade 7 - 10","Examines the development and amazing growth of online social networking. Briefly explains the basic technology, and examines how it has affected politics, activism, charity, business, advertising, and science. Explores the emerging problems of identity theft, privacy issues, sexual predators, cyber-bullying, and fraud; and provides an overview of future trends and related technological advancements.","English",39.9,31.92,"004","128 pp.",{"$f":"Table1[[#This Row],['# of Books]]*Table1[[#This Row],[QTY]]","v":0},{"$f":"Table1[[#This Row],[QTY]]*Table1[[#This Row],[School & Library Price]]","v":0}]
[null,91,null,"Science & Technology","Technology 360","Robots","978-1-4205-0368-5","Lucent Press","eBook",1,2010,null,"eBook",null,"Author","Jenny Mackay",null,null,null,null,null,null,"Years 12 - 15",null,"Grade 7 - 10",null,"English",43.89,43.89,"629.8","104 pp.",{"$f":"Table1[[#This Row],['# of Books]]*Table1[[#This Row],[QTY]]","v":0},{"$f":"Table1[[#This Row],[QTY]]*Table1[[#This Row],[School & Library Price]]","v":0}]
[null,91,null,"Science & Technology","Technology 360","Television","978-1-4205-0665-5","Lucent Press","eBook",1,2011,null,"eBook",null,"Author","John Grabowski",null,null,null,null,null,null,"Years 12 - 15",null,"Grade 7 - 10",null,"English",43.89,43.89,"621.388","112 pp.",{"$f":"Table1[[#This Row],['# of Books]]*Table1[[#This Row],[QTY]]","v":0},{"$f":"Table1[[#This Row],[QTY]]*Table1[[#This Row],[School & Library Price]]","v":0}]
[null,91,null,"Science & Technology","Technology 360","Web 2.0","978-1-4205-0623-5","Lucent Press","eBook",1,2011,null,"eBook",null,"Author","Andrew A. Kling",null,null,null,null,null,null,"Years 12 - 15",null,"Grade 7 - 10",null,"English",43.89,43.89,"006.7","128 pp.",{"$f":"Table1[[#This Row],['# of Books]]*Table1[[#This Row],[QTY]]","v":0},{"$f":"Table1[[#This Row],[QTY]]*Table1[[#This Row],[School & Library Price]]","v":0}]
[null,92,null,"Current Issues","Points of View: Sets 1 – 2","Points of View (Aug '17 & Jan '18 Sets)","978-1-5345-2551-1","KidHaven Publishing","Single Copy Set",12,2018,"January 2018","Paperback","8.500 X 8.500"," "," ",null,null,null,null,null,null,"Years 8 - 10","Grade 3","Grade 3 - 5","The development of critical thinking skills begins with exploring difficult questions about the world around us. Readers are introduced to some of these questions as they explore topics ranging from homelessness and voting rights to video games and school uniforms. They are presented with different points of view on these hot button issues and are encouraged to develop a deeper understanding of why someone may think differently about an issue than they do. Age-appropriate, informative main text is enhanced by additional fact boxes, detailed graphic organizers, and colorful photographs.\r\nFeatures include: Objective, relatable tone encourages readers to think independently. Readers are shown how to back up their opinion about an issue with relevant facts. Text provides readers with an introduction to important social and political issues through the use of accessible language, relatable examples, and engaging photographs.","English",99,84,null,"24 pp.",{"$f":"Table1[[#This Row],['# of Books]]*Table1[[#This Row],[QTY]]","v":0},{"$f":"Table1[[#This Row],[QTY]]*Table1[[#This Row],[School & Library Price]]","v":0}]
[null,92,null,"Current Issues","Points of View","Are Video Games Too Violent?","978-1-5345-2425-5","KidHaven Publishing","Library Bound Book",1,2018,"January 2018","Library","8.500 X 8.500","Author","Nick Christopher",null,null,null,null,"N",null,"Years 8 - 10","Grade 3","Grade 3 - 5","Violence in the media is a major topic of debate, and video games are often at the center of these debates. Are they too violent? Does playing a violent video game have any impact on a young person becoming violent themselves? Readers are encouraged to form their own answers to these challenging questions and to back them up with facts from the enlightening text. A detailed graphic organizer, vivid photographs, and helpful fact boxes are also included to guide readers as they explore the many facets of this controversial issue.","English",24.6,19.68,null,"24 pp.",{"$f":"Table1[[#This Row],['# of Books]]*Table1[[#This Row],[QTY]]","v":0},{"$f":"Table1[[#This Row],[QTY]]*Table1[[#This Row],[School & Library Price]]","v":0}]
[null,92,null,"Current Issues","Points of View","Are Video Games Too Violent?","978-1-5345-2487-3","KidHaven Publishing","Paperback Book",1,2018,"January 2018","Paperback","8.500 X 8.500","Author","Nick Christopher",null,null,null,null,"N",null,"Years 8 - 10","Grade 3","Grade 3 - 5","Violence in the media is a major topic of debate, and video games are often at the center of these debates. Are they too violent? Does playing a violent video game have any impact on a young person becoming violent themselves? Readers are encouraged to form their own answers to these challenging questions and to back them up with facts from the enlightening text. A detailed graphic organizer, vivid photographs, and helpful fact boxes are also included to guide readers as they explore the many facets of this controversial issue.","English",8.25,7,null,"24 pp.",{"$f":"Table1[[#This Row],['# of Books]]*Table1[[#This Row],[QTY]]","v":0},{"$f":"Table1[[#This Row],[QTY]]*Table1[[#This Row],[School & Library Price]]","v":0}]
[null,92,null,"Current Issues","Points of View","Does Voting Matter?","978-1-5345-2491-0","KidHaven Publishing","Paperback Book",1,2018,"January 2018","Paperback","8.500 X 8.500","Author","Leslie Beckett",null,null,null,null,"N",null,"Years 8 - 10","Grade 3","Grade 3 - 5","Society can be cynical at times, and this can lead to apathy. One example of this is the question of whether or not a person’s individual vote in an election actually matters. Readers are exposed to the different points of view about this hot-button topic, and they learn to develop their own viewpoint about the democratic process and to back it up with relevant facts. They discover those facts in the engaging main text, eye-catching fact boxes, and helpful graphic organizers. Colorful, relatable photographs also help readers see how this debate is reflected in the world around them.","English",8.25,7,null,"24 pp.",{"$f":"Table1[[#This Row],['# of Books]]*Table1[[#This Row],[QTY]]","v":0},{"$f":"Table1[[#This Row],[QTY]]*Table1[[#This Row],[School & Library Price]]","v":0}]
[null,92,null,"Current Issues","Points of View","Is It Wrong to Ban Books?","978-1-5345-2427-9","KidHaven Publishing","Library Bound Book",1,2018,"January 2018","Library","8.500 X 8.500","Author","Mary Austen",null,null,null,null,"N",null,"Years 8 - 10","Grade 3","Grade 3 - 5","When people discuss the idea of banning books, they are also discussing much broader concepts, including censorship, basic freedoms, and the power of religious and political institutions. These challenging topics are presented in accessible ways as readers explore the debate surrounding banned books. As they immerse themselves in many viewpoints surrounding this debate through engaging text, fact boxes, vibrant photographs, and graphic organizers, they discover the importance of developing an informed, independent opinion about issues that affect their lives.","English",24.6,19.68,null,"24 pp.",{"$f":"Table1[[#This Row],['# of Books]]*Table1[[#This Row],[QTY]]","v":0},{"$f":"Table1[[#This Row],[QTY]]*Table1[[#This Row],[School & Library Price]]","v":0}]
[null,92,null,"Current Issues","Points of View","Should Girls Play Sports with Boys?","978-1-5345-2421-7","KidHaven Publishing","Library Bound Book",1,2018,"January 2018","Library","8.500 X 8.500","Author","Amy B. Rogers",null,null,null,null,"N",null,"Years 8 - 10","Grade 3","Grade 3 - 5","Why do boys and girls often play on separate sports teams? Some might argue that biological differences play a part in separating genders on the athletic field. Others might say that sexist mindsets are the main reason for the division of genders in sports. These points of view, along with others, are presented to readers through informative, engaging main text, fact boxes, and graphic organizers. As readers study these different perspectives on the same issue, they develop their own informed opinions and gain a deeper understanding of gender and its role in everyday life.","English",24.6,19.68,null,"24 pp.",{"$f":"Table1[[#This Row],['# of Books]]*Table1[[#This Row],[QTY]]","v":0},{"$f":"Table1[[#This Row],[QTY]]*Table1[[#This Row],[School & Library Price]]","v":0}]
[null,92,null,"Current Issues","Points of View","Should Girls Play Sports with Boys?","978-1-5345-2483-5","KidHaven Publishing","Paperback Book",1,2018,"January 2018","Paperback","8.500 X 8.500","Author","Amy B. Rogers",null,null,null,null,"N",null,"Years 8 - 10","Grade 3","Grade 3 - 5","Why do boys and girls often play on separate sports teams? Some might argue that biological differences play a part in separating genders on the athletic field. Others might say that sexist mindsets are the main reason for the division of genders in sports. These points of view, along with others, are presented to readers through informative, engaging main text, fact boxes, and graphic organizers. As readers study these different perspectives on the same issue, they develop their own informed opinions and gain a deeper understanding of gender and its role in everyday life.","English",8.25,7,null,"24 pp.",{"$f":"Table1[[#This Row],['# of Books]]*Table1[[#This Row],[QTY]]","v":0},{"$f":"Table1[[#This Row],[QTY]]*Table1[[#This Row],[School & Library Price]]","v":0}]
[null,92,null,"Current Issues","Points of View","Who Should See What You’re Doing Online?","978-1-5345-2423-1","KidHaven Publishing","Library Bound Book",1,2018,"January 2018","Library","8.500 X 8.500","Author","Emma Jones",null,null,null,null,"N",null,"Years 8 - 10","Grade 3","Grade 3 - 5","Privacy has always been a major concern for young people, and with the rise of laptops, tablets, and smartphones, it is much easier for them to hide what they’re doing from adults. However, there are still ways for parents, teachers, and even the government to see what young people are doing online. Is this ethical? Is it necessary? These questions and more are posed as readers explore the complex issue of privacy in the digital age. Balanced main text, informative fact boxes, and visual elements such as photographs and graphic organizers give readers a comprehensive understanding of this topical issue.","English",24.6,19.68,null,"24 pp.",{"$f":"Table1[[#This Row],['# of Books]]*Table1[[#This Row],[QTY]]","v":0},{"$f":"Table1[[#This Row],[QTY]]*Table1[[#This Row],[School & Library Price]]","v":0}]
[null,92,null,"Current Issues","Points of View (Aug '17 Set)","Points of View (Aug '17 Set)","978-1-5345-2349-4","KidHaven Publishing","Library Set",6,"2018","August 2017","Library","8.500 X 8.500"," "," ",null,null,null,null,null,null,"Years 8 - 10","Grade 3","Grade 3 - 5","As readers grow, they will be faced with questions that do not have an easy answer. Should people have to pay for water? Is it beneficial for students to wear uniforms? Are tests an effective way of measuring knowledge? Readers develop strong critical thinking skills as they examine the different points of view from which these complex questions can be approached. Accessible main text, informative fact boxes, and helpful graphic organizers allow readers to gain a deeper understanding of a variety of viewpoints. Vibrant photographs hold readers' interest as they immerse themselves in these important topics.","English",147.6,118.08,null,"24 pp.",{"$f":"Table1[[#This Row],['# of Books]]*Table1[[#This Row],[QTY]]","v":0},{"$f":"Table1[[#This Row],[QTY]]*Table1[[#This Row],[School & Library Price]]","v":0}]
[null,92,null,"Current Issues","Points of View","Should School Lunches Be Free?","978-1-5345-2334-0","KidHaven Publishing","Library Bound Book",1,"2018","August 2017","Library","8.500 X 8.500","Author","David Anthony",null,null,null,null,"N",null,"Years 8 - 10","Grade 3","Grade 3 - 5","School lunches should be free for all students. Some people might strongly agree with this statement, while others might strongly disagree. In order to engage in a debate about this topic that affects readers’ everyday lives, readers first need to understand both sides. They are able to do this with the help of balanced main text, fact boxes, and graphic organizers. Different points of view are clearly presented to readers, who are encouraged to think critically about an issue that would impact them and their families. This valuable reading experience is enhanced through the use of colorful photographs.","English",24.6,19.68,"371.7'16--dc23","24 pp.",{"$f":"Table1[[#This Row],['# of Books]]*Table1[[#This Row],[QTY]]","v":0},{"$f":"Table1[[#This Row],[QTY]]*Table1[[#This Row],[School & Library Price]]","v":0}]
[null,92,null,"Current Issues","Points of View","Should Students Have to Take Tests?","978-1-5345-2347-0","KidHaven Publishing","eBook",1,"2018","August 2017",null,null,"Author","Robert M. Hamilton ",null,null,null,null,"N",null,"Years 8 - 10","Grade 3","Grade 3 - 5","Most students would gladly stop taking tests, but is that really the best thing for them? Through enlightening main text, detailed fact boxes, colorful photographs, and helpful graphic organizers, readers are presented with opposing points of view on the importance of testing students. Readers are encouraged to use the information they discover to form their own opinions and back those opinions up with relevant facts. By exposing readers to multiple points of view, this text instills in them an appreciation for respectful debate and vital critical thinking skills.","English",24.6,19.68,"371.26--dc23","24 pp.",{"$f":"Table1[[#This Row],['# of Books]]*Table1[[#This Row],[QTY]]","v":0},{"$f":"Table1[[#This Row],[QTY]]*Table1[[#This Row],[School & Library Price]]","v":0}]
[null,92,null,"Current Issues","Points of View","Should We Keep Animals in Zoos?","978-1-5345-2327-2","KidHaven Publishing","Library Bound Book",1,"2018","August 2017","Library","8.500 X 8.500","Author","Nick Christopher",null,null,null,null,"N",null,"Years 8 - 10","Grade 3","Grade 3 - 5","Are zoos ethical? There is not one right answer to this challenging question. Readers discover the different arguments that can be made in favor of and against zoos. These different points of view are presented with relevant facts to support them, encouraging readers to understand the different sides of the debate surrounding zoos. Clear main text, eye-catching fact boxes, and detailed graphic organizers help readers make their own informed opinion. Full-color photographs are included to enhance a reading experience that sharpens essential critical thinking skills and encourages readers to approach controversial topics with an open mind.","English",24.6,19.68,"590.74--dc23","24 pp.",{"$f":"Table1[[#This Row],['# of Books]]*Table1[[#This Row],[QTY]]","v":0},{"$f":"Table1[[#This Row],[QTY]]*Table1[[#This Row],[School & Library Price]]","v":0}]
[null,92,null,"Current Issues","Points of View","Should We Pay for Water?","978-1-5345-2330-2","KidHaven Publishing","Library Bound Book",1,"2018","August 2017","Library","8.500 X 8.500","Author","Robert M. Hamilton ",null,null,null,null,"N",null,"Years 8 - 10","Grade 3","Grade 3 - 5","Water is a natural resource we need to survive. Knowing this, is it right that we have to pay for it? Readers explore the different ways this challenging question can be answered, developing strong critical thinking skills as they evaluate arguments for and against paying for water. Essential facts needed to understand each point of view are presented through age-appropriate text, informative fact boxes, and clear graphic organizers. Vivid photographs keep readers engaged as they learn the information necessary to develop their own informed opinion and to respect the opinions of others when discussing this important issue.","English",24.6,19.68,"333.91--dc23","24 pp.",{"$f":"Table1[[#This Row],['# of Books]]*Table1[[#This Row],[QTY]]","v":0},{"$f":"Table1[[#This Row],[QTY]]*Table1[[#This Row],[School & Library Price]]","v":0}]
[null,92,null,"Current Issues","Points of View","Why Are Some People Homeless?","978-1-5345-2339-5","KidHaven Publishing","eBook",1,"2018","August 2017",null,null,"Author","Emma Jones",null,null,null,null,"N",null,"Years 8 - 10","Grade 3","Grade 3 - 5","Homelessness is a problem that affects millions of people around the world. When discussing important issues such as homelessness, it is important to understand the pertinent facts in order to form a solid argument. Readers are presented with those pertinent facts through enlightening main text and helpful text features, including fact boxes and graphic organizers. Full-color photographs accompany this vital information. People approach social issues such as homelessness from different points of view, and readers are introduced to new perspectives as they enhance their own critical thinking skills.","English",24.6,19.68,"362.5'92--dc23","24 pp.",{"$f":"Table1[[#This Row],['# of Books]]*Table1[[#This Row],[QTY]]","v":0},{"$f":"Table1[[#This Row],[QTY]]*Table1[[#This Row],[School & Library Price]]","v":0}]
[null,93,null,"Current Issues","Environmental Issues","Animals in Danger","978-1-5345-2044-8","KidHaven Publishing","eBook",1,2017,"January 2017","eBook",null,"Author","Gemma McMullen",null,null,null,null,"I",null,null,null,"Grade 1 - 3","How does human behavior affect animals, and what can we do to help animals that are endangered? Readers find the answers to these and other important questions about protecting animals as they learn about this topical environmental issue. Accessible, age-appropriate text gives young readers a clear sense of why animals are currently in danger and what can be done to help them. Fun fact boxes provide additional information about animals and their habitats, and colorful photographs fill each page. The captivating presentation of such an important ecological topic is sure to inspire early learners—especially young animal lovers.","English",24.6,19.68,null,"24 pp.",{"$f":"Table1[[#This Row],['# of Books]]*Table1[[#This Row],[QTY]]","v":0},{"$f":"Table1[[#This Row],[QTY]]*Table1[[#This Row],[School & Library Price]]","v":0}]
[null,93,null,"Current Issues","Environmental Issues","Polluting Our World","978-1-5345-2048-6","KidHaven Publishing","eBook",1,2017,"January 2017","eBook",null,"Author","Gemma McMullen",null,null,null,null,"I",null,null,null,"Grade 1 - 3","Oil spills can spread for hundreds of miles in water. Animals can die if they eat litter. These are just two of the many ways pollution can damage the environment. Readers discover the dangers of pollution, as well as some of the ways people—including children—can do their part to clean up the planet. This essential environmental lesson is presented in clear language geared toward early learners. Additional information is highlighted in fact boxes. Vivid photographs provide a closer look at the harm pollution can do, as well as the beauty of the natural world we must protect.","English",24.6,19.68,null,"24 pp.",{"$f":"Table1[[#This Row],['# of Books]]*Table1[[#This Row],[QTY]]","v":0},{"$f":"Table1[[#This Row],[QTY]]*Table1[[#This Row],[School & Library Price]]","v":0}]
[null,93,null,"Current Issues","Environmental Issues","Water Around the World","978-1-5345-2055-4","KidHaven Publishing","Library Bound Book",1,2017,"January 2017","Library Bound","8.500 X 8.500","Author","Gemma McMullen",3.8,0.5,null,null,"I",null,"Years 6 - 8",null,"Grade 1 - 3","Water is a precious natural resource that we all must work hard to protect. As readers discover where the world’s water comes from, they also learn why we need to take care of it. Accessible text and fun fact boxes present this current conservation topic in a way that’s easy for early learners to understand. As young readers explore the problems facing water supplies around the world, they also begin to see solutions, such as ways they can help conserve water and keep it clean. Vibrant photographs of water around the world make this an engaging learning experience.","English",24.6,19.68,null,"24 pp.",{"$f":"Table1[[#This Row],['# of Books]]*Table1[[#This Row],[QTY]]","v":0},{"$f":"Table1[[#This Row],[QTY]]*Table1[[#This Row],[School & Library Price]]","v":0}]
[null,94,null,"Animals","All About Dinosaurs: Sets 1 – 2","All About Dinosaurs (Aug '17 & Jan '18 Set)","978-1-5345-2379-1","KidHaven Publishing","Library Set",8,2018,"January 2018","Library","8.500 X 8.500"," "," ",null,null,null,null,null,null,"Years 6 - 8","Grade 2","Grade 1 - 3","Tyrannosaurus rex, Triceratops, and Stegosaurus are just some of the popular dinosaurs readers will learn more about as they discover fun facts about prehistoric creatures and their habitats. Important information about dinosaurs is presented using clear, accessible language, helping young learners understand scientific concepts. Fun fact boxes are included to give readers additional sources of information. As readers explore this popular curriculum topic, they become immersed in the world of the dinosaurs through detailed, colorful illustrations. This engrossing, engaging reading experience will appeal to even the most reluctant readers.","English",196.8,157.44,null,"24 pp.",{"$f":"Table1[[#This Row],['# of Books]]*Table1[[#This Row],[QTY]]","v":0},{"$f":"Table1[[#This Row],[QTY]]*Table1[[#This Row],[School & Library Price]]","v":0}]
[null,94,null,"Animals","All About Dinosaurs (Jan '18 Set)","All About Dinosaurs (Jan '18 Set)","978-1-5345-2531-3","KidHaven Publishing","Single Copy Set",4,2018,"January 2018","Paperback","8.500 X 8.500"," "," ",null,null,null,null,null,null,"Years 6 - 8","Grade 2","Grade 1 - 3","What did dinosaurs such as Velociraptor and Stegosaurus look like? What kinds of habitats did they live in? How did they survive in the prehistoric world? Readers discover the answers to these and other common questions about dinosaurs as they explore this exciting curriculum topic. Essential facts about specific dinosaurs are presented in a straightforward, accessible way. As they read, young learners also find creative, detailed illustrations of these creatures and the habitats they called home. The engaging illustrations and informative text work together to create a learning experience readers won't soon forget.","English",33,28,null,"24 pp.",{"$f":"Table1[[#This Row],['# of Books]]*Table1[[#This Row],[QTY]]","v":0},{"$f":"Table1[[#This Row],[QTY]]*Table1[[#This Row],[School & Library Price]]","v":0}]
[null,94,null,"Animals","All About Dinosaurs","Parasaurolophus","978-1-5345-2354-8","KidHaven Publishing","Paperback Book",1,2018,"January 2018","Paperback","8.500 X 8.500","Author","Michael Clark",null,null,null,null,"K",null,"Years 6 - 8","Grade 2","Grade 1 - 3","Parasaurolophus is known for the trumpet-shaped crest on its head, which makes a low sound similar to the one elephants or whales make when communicating among their species. Readers learn this and other interesting facts about this dinosaur, such as what it ate, the places it called home, and how it survived among predators. This compelling material is presented through an age-appropriate text to enhance students’ knowledge of these prehistoric creatures. Readers uncover additional information in captivating fact boxes, colorful illustrations, and well-organized diagrams. This text keeps readers entertained while also aligning with a fundamental science curriculum topic.","English",8.25,7,"567.914--dc23","24 pp.",{"$f":"Table1[[#This Row],['# of Books]]*Table1[[#This Row],[QTY]]","v":0},{"$f":"Table1[[#This Row],[QTY]]*Table1[[#This Row],[School & Library Price]]","v":0}]
[null,94,null,"Animals","All About Dinosaurs","Spinosaurus","978-1-5345-2356-2","KidHaven Publishing","eBook",1,2018,"January 2018",null,null,"Author","Michael Clark",null,null,null,null,"K",null,"Years 6 - 8","Grade 2","Grade 1 - 3","The Spinosaurus, with its huge sail on its back, is the largest known carnivorous dinosaur. Early readers learn interesting facts such as these through the informative main text about these prehistoric creatures. In addition, eye-catching fact boxes and detailed diagrams are included throughout the text to provide extra insight about this popular science curriculum topic. Vibrant computer-generated illustrations help readers visualize what this dinosaur looked like and its surroundings. What did a Spinosaurus eat? How did it catch its prey? These answers are waiting to be discovered in the text.","English",24.6,19.68,"567.912--dc23","24 pp.",{"$f":"Table1[[#This Row],['# of Books]]*Table1[[#This Row],[QTY]]","v":0},{"$f":"Table1[[#This Row],[QTY]]*Table1[[#This Row],[School & Library Price]]","v":0}]
[null,94,null,"Animals","All About Dinosaurs","Spinosaurus","978-1-5345-2357-9","KidHaven Publishing","Paperback Book",1,2018,"January 2018","Paperback","8.500 X 8.500","Author","Michael Clark",null,null,null,null,"K",null,"Years 6 - 8","Grade 2","Grade 1 - 3","The Spinosaurus, with its huge sail on its back, is the largest known carnivorous dinosaur. Early readers learn interesting facts such as these through the informative main text about these prehistoric creatures. In addition, eye-catching fact boxes and detailed diagrams are included throughout the text to provide extra insight about this popular science curriculum topic. Vibrant computer-generated illustrations help readers visualize what this dinosaur looked like and its surroundings. What did a Spinosaurus eat? How did it catch its prey? These answers are waiting to be discovered in the text.","English",8.25,7,"567.912--dc23","24 pp.",{"$f":"Table1[[#This Row],['# of Books]]*Table1[[#This Row],[QTY]]","v":0},{"$f":"Table1[[#This Row],[QTY]]*Table1[[#This Row],[School & Library Price]]","v":0}]
[null,94,null,"Animals","All About Dinosaurs","Velociraptor","978-1-5345-2360-9","KidHaven Publishing","Library Bound Book",1,2018,"January 2018","Library","8.500 X 8.500","Author","Michael Clark",null,null,null,null,"K",null,"Years 6 - 8","Grade 2","Grade 1 - 3","The Velociraptor is one of the most popular dinosaurs for young readers to learn about. In this captivating text, readers learn about the similarities this dinosaur shares with birds. These dinosaurs had hollow bones and tended to nests of eggs, although they were not known to fly. These and other fascinating facts about the Velociraptor are included in the age-appropriate main text that supports a major science curriculum topic. Additional information is included in well-organized fact boxes and detailed diagrams. Colorful computer-generated illustrations of the Velociraptor add a creative visual element for readers looking to expand their knowledge of dinosaurs.","English",24.6,19.68,null,"24 pp.",{"$f":"Table1[[#This Row],['# of Books]]*Table1[[#This Row],[QTY]]","v":0},{"$f":"Table1[[#This Row],[QTY]]*Table1[[#This Row],[School & Library Price]]","v":0}]
[null,94,null,"Animals","All About Dinosaurs","Velociraptor","978-1-5345-2362-3","KidHaven Publishing","Paperback Book",1,2018,"January 2018","Paperback","8.500 X 8.500","Author","Michael Clark",null,null,null,null,"K",null,"Years 6 - 8","Grade 2","Grade 1 - 3","The Velociraptor is one of the most popular dinosaurs for young readers to learn about. In this captivating text, readers learn about the similarities this dinosaur shares with birds. These dinosaurs had hollow bones and tended to nests of eggs, although they were not known to fly. These and other fascinating facts about the Velociraptor are included in the age-appropriate main text that supports a major science curriculum topic. Additional information is included in well-organized fact boxes and detailed diagrams. Colorful computer-generated illustrations of the Velociraptor add a creative visual element for readers looking to expand their knowledge of dinosaurs.","English",8.25,7,null,"24 pp.",{"$f":"Table1[[#This Row],['# of Books]]*Table1[[#This Row],[QTY]]","v":0},{"$f":"Table1[[#This Row],[QTY]]*Table1[[#This Row],[School & Library Price]]","v":0}]
[null,94,null,"Animals","All About Dinosaurs","Diplodocus","978-1-5345-2173-5","KidHaven Publishing","Library Bound Book",1,"2018","August 2017","Library","8.500 X 8.500","Author","Amy Allatson",null,null,null,null,"K",null,"Years 6 - 8","Grade 2","Grade 1 - 3","Diplodocus was one of the longest dinosaurs to walk the earth during prehistoric times. Readers learn many fun facts about this giant kind of dinosaur, including how it behaved, what it ate, and what it looked like. This essential information is presented through accessible main text designed to enhance a common curriculum topic. Readers discover additional information in eye-catching fact boxes and clearly labeled diagrams. Computer-generated illustrations of these dinosaurs keep readers entertained as they learn.","English",24.6,19.68,"567.913--dc23","24 pp.",{"$f":"Table1[[#This Row],['# of Books]]*Table1[[#This Row],[QTY]]","v":0},{"$f":"Table1[[#This Row],[QTY]]*Table1[[#This Row],[School & Library Price]]","v":0}]
[null,94,null,"Animals","All About Dinosaurs","Triceratops","978-1-5345-2176-6","KidHaven Publishing","Library Bound Book",1,"2018","August 2017","Library","8.500 X 8.500","Author","Amy Allatson",null,null,null,null,"K",null,"Years 6 - 8","Grade 2","Grade 1 - 3","What did a Triceratops eat? How did it get its name? What kind of habitat did it live in? Readers find the answers to these questions and many more as they explore the exciting world of the Triceratops. Vibrant computer-generated images take readers back in time, helping them visualize these popular dinosaurs and their surroundings. These detailed images accompany simple, accessible text filled with fun facts about a common curriculum topic. Informative fact boxes and diagrams provide additional information for readers who want to become Triceratops experts.","English",24.6,19.68,"567.915’8--dc23","24 pp.",{"$f":"Table1[[#This Row],['# of Books]]*Table1[[#This Row],[QTY]]","v":0},{"$f":"Table1[[#This Row],[QTY]]*Table1[[#This Row],[School & Library Price]]","v":0}]
[null,94,null,"Animals","All About Dinosaurs","Tyrannosaurus Rex","978-1-5345-2174-2","KidHaven Publishing","Library Bound Book",1,"2018","August 2017","Library","8.500 X 8.500","Author","Amy Allatson",null,null,null,null,"K",null,"Years 6 - 8","Grade 2","Grade 1 - 3","Readers enjoy learning about dinosaurs, and Tyrannosaurus rex is one of the most popular dinosaurs for early learners to read about. Readers explore the fascinating details of what life may have been like for a Tyrannosaurus rex, with beautiful computer-generated images to help them visualize these creatures and the world they inhabited. Age-appropriate text allows them to explore this high-interest topic and common part of elementary curricula on their own. The main text is supported by fact boxes and detailed diagrams. How did Tyrannosaurus rex catch and kill its prey? The answer is waiting for readers to discover!","English",24.6,19.68,"567.912’9--dc23","24 pp.",{"$f":"Table1[[#This Row],['# of Books]]*Table1[[#This Row],[QTY]]","v":0},{"$f":"Table1[[#This Row],[QTY]]*Table1[[#This Row],[School & Library Price]]","v":0}]
[null,95,null,"Animals","Animals of the Tundra (Aug '17 Set)","Animals of the Tundra (Aug '17 Set)","978-1-5345-2316-6","KidHaven Publishing","eBook Set",4,"2018","August 2017",null,null," "," ",null,null,null,null,null,null,"Years 6 - 8","Grade 1 - 2","Grade 1 - 3","The tundra is a treeless plain that is cold all year and often snowy. In such a harsh environment, it is amazing that some animals not only survive, but thrive. Animals that live in the tundra, such as wolves, owls, foxes, and caribou, are spotlighted with amazing facts about their habitats, diets, and behaviors. Among other fascinating information, readers discover the adaptations these incredible animals have developed over time that allow them to live in such an unwelcoming ecosystem. This informative, accessible text is presented alongside detailed, full-color photographs.","English",98.4,78.72,null,"24 pp.",{"$f":"Table1[[#This Row],['# of Books]]*Table1[[#This Row],[QTY]]","v":0},{"$f":"Table1[[#This Row],[QTY]]*Table1[[#This Row],[School & Library Price]]","v":0}]
[null,95,null,"Animals","Animals of the Tundra","Arctic Foxes of the Tundra","978-1-5345-2224-4","KidHaven Publishing","Library Bound Book",1,"2018","August 2017","Library","7.000 X 7.000","Author","Joyce Jeffries",null,null,null,null,"G",null,"Years 6 - 8","Grade 1 - 2","Grade 1 - 3","Arctic foxes have developed special adaptations that help them survive in the unwelcoming tundra. In the winter, their fur is white; in the summer, when the snow melts, they grow gray or brown fur. The furry bottoms of their feet and their large tails keep them warm all year round. Readers will enjoy discovering these and other facts about this marvelous animal. These facts enhance readers’ understanding of common science curriculum topics. Stunning photographs enhance the accessible text in a way that is sure to captivate young readers.","English",24.6,19.68,"599.776'4--dc23","24 pp.",{"$f":"Table1[[#This Row],['# of Books]]*Table1[[#This Row],[QTY]]","v":0},{"$f":"Table1[[#This Row],[QTY]]*Table1[[#This Row],[School & Library Price]]","v":0}]
[null,95,null,"Animals","Animals of the Tundra","Arctic Wolves of the Tundra","978-1-5345-2222-0","KidHaven Publishing","eBook",1,"2018","August 2017",null,null,"Author","Nick Christopher",null,null,null,null,"H",null,"Years 6 - 8","Grade 1 - 2","Grade 1 - 3","The tundra is very cold and difficult for animals to survive in. The ones who live there have developed special adaptations to help them stay warm and find food. For example, arctic wolves often have white fur to help them blend in with the snow, so they can sneak up on their prey. Readers learn this and many other fun facts about these powerful predators. Full-color photographs beautifully illustrate this informative text, which is designed to adhere to common science curriculum standards.","English",24.6,19.68,"599.776’4--dc23","24 pp.",{"$f":"Table1[[#This Row],['# of Books]]*Table1[[#This Row],[QTY]]","v":0},{"$f":"Table1[[#This Row],[QTY]]*Table1[[#This Row],[School & Library Price]]","v":0}]
[null,95,null,"Animals","Animals of the Tundra","Snowy Owls of the Tundra","978-1-5345-2226-8","KidHaven Publishing","Library Bound Book",1,"2018","August 2017","Library","7.000 X 7.000","Author","Riley Lawrence",null,null,null,null,"H",null,"Years 6 - 8","Grade 1 - 2","Grade 1 - 3","Unlike other owls, snowy owls have feathers that cover their legs and feet to keep them warm in the freezing tundra. They have sharp beaks and claws to help them catch lemmings, mice, and rabbits. Readers learn about the lives of these fascinating birds through engaging text and striking photographs. They explore common elementary science curriculum topics, including predator-prey relationships and adaptations, in an accessible, exciting way.","English",24.6,19.68,"598.9’7--dc23","24 pp.",{"$f":"Table1[[#This Row],['# of Books]]*Table1[[#This Row],[QTY]]","v":0},{"$f":"Table1[[#This Row],[QTY]]*Table1[[#This Row],[School & Library Price]]","v":0}]
[null,96,null,"Animals","Animal Classification (Jan '17 Set)","Animal Classification (Jan '17 Set)","978-1-5345-2118-6","KidHaven Publishing","eBook Set",6,2017,"January 2017","eBook",null," "," ",null,null,null,null,null,null,null,null,"Grade 2 - 4","More than 8 million animal species call our planet home. Readers discover how these species are classified based on common characteristics as they learn amazing facts about different groups of animals—from amphibians and reptiles to mammals and insects. The accessible text supports essential science curriculum topics, and eye-catching fact boxes provide additional information on some of the world’s most unique creatures. With vibrant, full-color photographs of a wide variety of animals in their natural habitats, this is a reading adventure animal lovers will want to take again and again.","English",163.5,130.80000000000001,null,"32 pp.",{"$f":"Table1[[#This Row],['# of Books]]*Table1[[#This Row],[QTY]]","v":0},{"$f":"Table1[[#This Row],[QTY]]*Table1[[#This Row],[School & Library Price]]","v":0}]
[null,96,null,"Animals","Animal Classification","Birds","978-1-5345-2007-3","KidHaven Publishing","Library Bound Book",1,2017,"January 2017","Library Bound","8.500 X 11.00","Author","Charlie Ogden",null,null,null,null,"L",null,"Years 7 - 9",null,"Grade 2 - 4","Some of the most unique animals on the planet are classified as birds. As readers explore this amazing animal group, they discover fun facts about a wide variety of birds. They also learn the essential scientific skill of classifying animals by common characteristics. Important information is presented to readers through engaging text, fact boxes, and detailed graphic organizers such as diagrams. Colorful photographs of familiar and exotic birds seem to fly off the page, creating a memorable learning experience that enhances common science curriculum topics.","English",27.25,21.8,null,"32 pp.",{"$f":"Table1[[#This Row],['# of Books]]*Table1[[#This Row],[QTY]]","v":0},{"$f":"Table1[[#This Row],[QTY]]*Table1[[#This Row],[School & Library Price]]","v":0}]
[null,96,null,"Animals","Animal Classification","Fish","978-1-5345-2012-7","KidHaven Publishing","eBook",1,2017,"January 2017","eBook",null,"Author","Charlie Ogden",null,null,null,null,"L",null,null,null,"Grade 2 - 4","Readers travel to the depths of the ocean as they learn fascinating facts about what makes fish different from other animals. As readers develop their ability to classify animals based on shared characteristics, they also learn about fish life cycles, habitats, and other common science curriculum topics. Fact boxes filled with exciting information and detailed diagrams and other graphic organizers present readers with additional information about these cool creatures. Vivid photographs give readers an up-close view of some of the world’s most interesting fish species, creating a reading experience they won’t soon forget!","English",27.25,21.8,null,"32 pp.",{"$f":"Table1[[#This Row],['# of Books]]*Table1[[#This Row],[QTY]]","v":0},{"$f":"Table1[[#This Row],[QTY]]*Table1[[#This Row],[School & Library Price]]","v":0}]
[null,96,null,"Animals","Animal Classification","Mammals","978-1-5345-2019-6","KidHaven Publishing","Library Bound Book",1,2017,"January 2017","Library Bound","8.500 X 11.00","Author","Charlie Ogden",null,null,null,null,"L",null,"Years 7 - 9",null,"Grade 2 - 4","Lions, elephants, and people may seem very different, and they are in many ways. However, they are also similar in enough ways to classify them all as mammals. Readers learn what common characteristics these and other mammals share as they develop their animal classification skills. Through accessible text, fact boxes, and detailed graphic organizers, readers discover amazing things about some of the world’s most impressive and unusual mammals. Vibrant, full-color photographs of these amazing animals add to the engaging reading experience, making common science curriculum topics feel fresh and fun for readers.","English",27.25,21.8,null,"32 pp.",{"$f":"Table1[[#This Row],['# of Books]]*Table1[[#This Row],[QTY]]","v":0},{"$f":"Table1[[#This Row],[QTY]]*Table1[[#This Row],[School & Library Price]]","v":0}]
[null,96,null,"Animals","Animal Classification","Mammals","978-1-5345-2020-2","KidHaven Publishing","eBook",1,2017,"January 2017","eBook",null,"Author","Charlie Ogden",null,null,null,null,"L",null,null,null,"Grade 2 - 4","Lions, elephants, and people may seem very different, and they are in many ways. However, they are also similar in enough ways to classify them all as mammals. Readers learn what common characteristics these and other mammals share as they develop their animal classification skills. Through accessible text, fact boxes, and detailed graphic organizers, readers discover amazing things about some of the world’s most impressive and unusual mammals. Vibrant, full-color photographs of these amazing animals add to the engaging reading experience, making common science curriculum topics feel fresh and fun for readers.","English",27.25,21.8,null,"32 pp.",{"$f":"Table1[[#This Row],['# of Books]]*Table1[[#This Row],[QTY]]","v":0},{"$f":"Table1[[#This Row],[QTY]]*Table1[[#This Row],[School & Library Price]]","v":0}]
[null,96,null,"Animals","Animal Classification","Reptiles","978-1-5345-2024-0","KidHaven Publishing","eBook",1,2017,"January 2017","eBook",null,"Author","Charlie Ogden",null,null,null,null,"L",null,null,null,"Grade 2 - 4","Alligators, crocodiles, and lizards are all amazing animals, and they are also all reptiles.  Why are these cool creatures classified as reptiles and not amphibians, fish, or birds? Readers find the answer as they learn fascinating facts about what makes reptiles unique. Engaging main text is enhanced by eye-catching fact boxes and vibrant, full-color photographs of reptiles in their natural habitats. Readers also obtain information from helpful graphic organizers, including clear and accessible diagrams. As readers explore a variety of valuable science curriculum topics and scientific skills, they are introduced to some of the most exotic reptiles on Earth!","English",27.25,21.8,null,"32 pp.",{"$f":"Table1[[#This Row],['# of Books]]*Table1[[#This Row],[QTY]]","v":0},{"$f":"Table1[[#This Row],[QTY]]*Table1[[#This Row],[School & Library Price]]","v":0}]
[null,97,null,"Math","First Math","Counting","978-1-5345-2189-6","KidHaven Publishing","Library Bound Book",1,"2018","August 2017","Library","11.00 X 8.500","Author","Joanna Brundle",null,null,null,null,"A",null,"Years 4 - 6","Grade K","Grade Pre-K - 1","Counting is an important beginning math skill for early learners to master. Through simple, clear text, they are introduced to this basic concept and given the tools they need to practice it. Colorful photographs of things young readers are familiar with help them see how this essential skill can be applied in the world around them. Beginning readers will enjoy exploring this counting lesson on their own or with the help of an adult.","English",24.6,19.68,"513.2’1--dc23","24 pp.",{"$f":"Table1[[#This Row],['# of Books]]*Table1[[#This Row],[QTY]]","v":0},{"$f":"Table1[[#This Row],[QTY]]*Table1[[#This Row],[School & Library Price]]","v":0}]
[null,97,null,"Math","First Math","Patterns","978-1-5345-2192-6","KidHaven Publishing","Library Bound Book",1,"2018","August 2017","Library","11.00 X 8.500","Author","Joanna Brundle",null,null,null,null,"A",null,"Years 4 - 6","Grade K","Grade Pre-K - 1","What comes next? This is a common question when dealing with patterns, and readers learn how to find out the answer as they explore fresh and fun examples of patterns. Age-appropriate text is presented in a simple way, allowing early learners to discover this essential information independently or with an adult’s assistance. Vibrant photographs fill each page, making this common math curriculum topic enjoyable for young readers. With each turn of the page and each colorful and creative pattern, early learners will discover that math can be engaging and fun.","English",24.6,19.68,"516.15--dc23","24 pp.",{"$f":"Table1[[#This Row],['# of Books]]*Table1[[#This Row],[QTY]]","v":0},{"$f":"Table1[[#This Row],[QTY]]*Table1[[#This Row],[School & Library Price]]","v":0}]
[null,97,null,"Math","First Math","Shapes","978-1-5345-2190-2","KidHaven Publishing","Library Bound Book",1,"2018","August 2017","Library","11.00 X 8.500","Author","Joanna Brundle",null,null,null,null,"A",null,"Years 4 - 6","Grade K","Grade Pre-K - 1","Geometry is an essential math concept, and it is important for early learners to develop an understanding of it from a young age. Through age-appropriate and achievable text, young readers are introduced to basic shapes and familiar real-world examples of those shapes. Early learners can explore this text independently or with the help of an adult. They will also be captivated by the vibrant, full-color photographs they will find with each turn of the page.","English",24.6,19.68,"516.15--dc23","24 pp.",{"$f":"Table1[[#This Row],['# of Books]]*Table1[[#This Row],[QTY]]","v":0},{"$f":"Table1[[#This Row],[QTY]]*Table1[[#This Row],[School & Library Price]]","v":0}]
[null,98,null,"Science","Journey Through Our Solar System (Aug '17 Set)","Journey Through Our Solar System (Aug '17 Set)","978-1-5345-2211-4","KidHaven Publishing","eBook Set",12,"2018","August 2017",null,null," "," ",null,null,null,null,null,null,"Years 6 - 8","Grade 1 - 2","Grade 1 - 3","Readers are sure to enjoy this fascinating look at the celestial bodies that make up our solar system. They will learn about each of the eight planets, as well as Earth’s moon, asteroids, and dwarf planets such as Pluto. Each volume presents readers with fun facts about different parts of our solar system. Full-color photographs provide an astronaut's view of outer space as readers take their own journey through our solar system.","English",295.2,236.16,null,"24 pp.",{"$f":"Table1[[#This Row],['# of Books]]*Table1[[#This Row],[QTY]]","v":0},{"$f":"Table1[[#This Row],[QTY]]*Table1[[#This Row],[School & Library Price]]","v":0}]
[null,98,null,"Science","Journey Through Our Solar System","Exploring Comets and Asteroids","978-1-5345-2268-8","KidHaven Publishing","eBook",1,"2018","August 2017",null,null,"Author","David Anthony",null,null,null,null,"I",null,"Years 6 - 8","Grade 1 - 2","Grade 1 - 3","We think of space as being empty, but that isn’t quite true. In addition to stars, planets, and moons, there are asteroids and comets. Asteroids are rocks that orbit the sun. Comets are chunks of ice and dust that form on the edges of the solar system. This book takes readers on a fun journey into space.","English",24.6,19.68,"523.5’1--dc23","24 pp.",{"$f":"Table1[[#This Row],['# of Books]]*Table1[[#This Row],[QTY]]","v":0},{"$f":"Table1[[#This Row],[QTY]]*Table1[[#This Row],[School & Library Price]]","v":0}]
[null,98,null,"Science","Journey Through Our Solar System","Exploring Jupiter","978-1-5345-2265-7","KidHaven Publishing","eBook",1,"2018","August 2017",null,null,"Author","Richard Alexander",null,null,null,null,"I",null,"Years 6 - 8","Grade 1 - 2","Grade 1 - 3","Did you know Jupiter is so big that all the other planets could fit inside it? You wouldn’t want to travel there, though! Jupiter’s atmosphere is poisonous to humans. Readers learn these and other intriguing facts about our solar system’s largest planet. Detailed diagrams and striking photographs support the informative text, which presents essential science curriculum topics in a fun way.","English",24.6,19.68,"523.45--dc23","24 pp.",{"$f":"Table1[[#This Row],['# of Books]]*Table1[[#This Row],[QTY]]","v":0},{"$f":"Table1[[#This Row],[QTY]]*Table1[[#This Row],[School & Library Price]]","v":0}]
[null,98,null,"Science","Journey Through Our Solar System","Exploring Mars","978-1-5345-2270-1","KidHaven Publishing","Library Bound Book",1,"2018","August 2017","Library","7.000 X 7.000","Author","Nick Christopher",null,null,null,null,"I",null,"Years 6 - 8","Grade 1 - 2","Grade 1 - 3","Scientists have spent a lot of time exploring Mars, so it’s one of the planets we know the most about. They believe it used to look a lot like Earth, with oceans and lakes on its surface. Today, it’s cold and rocky. Through clear diagrams and vivid photographs, readers explore the surface of Mars. Fun facts that supplement this common science curriculum topic allow readers to feel like space explorers, learning exciting new things about the Red Planet.","English",24.6,19.68,"523.43--dc23","24 pp.",{"$f":"Table1[[#This Row],['# of Books]]*Table1[[#This Row],[QTY]]","v":0},{"$f":"Table1[[#This Row],[QTY]]*Table1[[#This Row],[School & Library Price]]","v":0}]
[null,98,null,"Science","Journey Through Our Solar System","Exploring the Moon","978-1-5345-2277-0","KidHaven Publishing","Library Bound Book",1,"2018","August 2017","Library","7.000 X 7.000","Author","Richard Alexander",null,null,null,null,"I",null,"Years 6 - 8","Grade 1 - 2","Grade 1 - 3","Without our moon, Earth would be a very different place. Readers discover fun facts about our closest neighbor, including the way it controls the ocean tides and how long it took astronauts to get there. People have always been captivated by the idea of exploring the moon, and readers will enjoy exploring these interesting facts and stunning pictures, which support important science curriculum topics.","English",24.6,19.68,"523.3--dc23","24 pp.",{"$f":"Table1[[#This Row],['# of Books]]*Table1[[#This Row],[QTY]]","v":0},{"$f":"Table1[[#This Row],[QTY]]*Table1[[#This Row],[School & Library Price]]","v":0}]
[null,98,null,"Science","Journey Through Our Solar System","Exploring the Moon","978-1-5345-2267-1","KidHaven Publishing","eBook",1,"2018","August 2017",null,null,"Author","Richard Alexander",null,null,null,null,"I",null,"Years 6 - 8","Grade 1 - 2","Grade 1 - 3","Without our moon, Earth would be a very different place. Readers discover fun facts about our closest neighbor, including the way it controls the ocean tides and how long it took astronauts to get there. People have always been captivated by the idea of exploring the moon, and readers will enjoy exploring these interesting facts and stunning pictures, which support important science curriculum topics.","English",24.6,19.68,"523.3--dc23","24 pp.",{"$f":"Table1[[#This Row],['# of Books]]*Table1[[#This Row],[QTY]]","v":0},{"$f":"Table1[[#This Row],[QTY]]*Table1[[#This Row],[School & Library Price]]","v":0}]
[null,98,null,"Science","Journey Through Our Solar System","Exploring Pluto and Other Dwarf Planets","978-1-5345-2276-3","KidHaven Publishing","eBook",1,"2018","August 2017",null,null,"Author","Riley Lawrence",null,null,null,null,"I",null,"Years 6 - 8","Grade 1 - 2","Grade 1 - 3","Pluto is too big to be an asteroid and too small to be a planet, so scientists call it a dwarf planet. It’s so far away from the sun that it gets no warmth at all, so it’s covered in a thick layer of ice. Readers learn fun facts such as these as they explore the world of our solar system’s dwarf planets. Informative diagrams, full-color photographs, and accessible text help readers discover more about Pluto and the other dwarf planets in our solar system.","English",24.6,19.68,"523.48'2--dc23","24 pp.",{"$f":"Table1[[#This Row],['# of Books]]*Table1[[#This Row],[QTY]]","v":0},{"$f":"Table1[[#This Row],[QTY]]*Table1[[#This Row],[School & Library Price]]","v":0}]
[null,98,null,"Science","Journey Through Our Solar System","Exploring the Sun","978-1-5345-2278-7","KidHaven Publishing","Library Bound Book",1,"2018","August 2017","Library","7.000 X 7.000","Author","Kate Rogers",null,null,null,null,"I",null,"Years 6 - 8","Grade 1 - 2","Grade 1 - 3","The sun is the closest star to Earth. Not only does it give us warmth and light, its light becomes food for plants, helping them grow. Readers discover this and other fun facts about the center of our solar system through accessible text. What does the sun look like up close? Readers find out with the help of diagrams and full-color photographs in this engaging volume, which enhances current science curriculum requirements.","English",24.6,19.68,"523.7--dc23","24 pp.",{"$f":"Table1[[#This Row],['# of Books]]*Table1[[#This Row],[QTY]]","v":0},{"$f":"Table1[[#This Row],[QTY]]*Table1[[#This Row],[School & Library Price]]","v":0}]
[null,98,null,"Science","Journey Through Our Solar System","Exploring Uranus","978-1-5345-2281-7","KidHaven Publishing","Library Bound Book",1,"2018","August 2017","Library","7.000 X 7.000","Author","Cody Keiser",null,null,null,null,"I",null,"Years 6 - 8","Grade 1 - 2","Grade 1 - 3","Grab your parka, and let’s visit Uranus! This planet is the coldest one in our solar system; its atmosphere is made up of clouds of ice. Through accessible text, clearly labeled diagrams, and full-color photographs, readers discover what makes Uranus unique—from its sideways rotation to its characteristic blue color. Readers are sure to enjoy this fresh and fun take on a familiar science curriculum topic.","English",24.6,19.68,"523.47--dc23","24 pp.",{"$f":"Table1[[#This Row],['# of Books]]*Table1[[#This Row],[QTY]]","v":0},{"$f":"Table1[[#This Row],[QTY]]*Table1[[#This Row],[School & Library Price]]","v":0}]
[null,98,null,"Science","Journey Through Our Solar System","Exploring Uranus","978-1-5345-2264-0","KidHaven Publishing","eBook",1,"2018","August 2017",null,null,"Author","Cody Keiser",null,null,null,null,"I",null,"Years 6 - 8","Grade 1 - 2","Grade 1 - 3","Grab your parka, and let’s visit Uranus! This planet is the coldest one in our solar system; its atmosphere is made up of clouds of ice. Through accessible text, clearly labeled diagrams, and full-color photographs, readers discover what makes Uranus unique—from its sideways rotation to its characteristic blue color. Readers are sure to enjoy this fresh and fun take on a familiar science curriculum topic.","English",24.6,19.68,"523.47--dc23","24 pp.",{"$f":"Table1[[#This Row],['# of Books]]*Table1[[#This Row],[QTY]]","v":0},{"$f":"Table1[[#This Row],[QTY]]*Table1[[#This Row],[School & Library Price]]","v":0}]
[null,98,null,"Science","Journey Through Our Solar System","Exploring Venus","978-1-5345-2273-2","KidHaven Publishing","Library Bound Book",1,"2018","August 2017","Library","7.000 X 7.000","Author","Leslie Beckett",null,null,null,null,"I",null,"Years 6 - 8","Grade 1 - 2","Grade 1 - 3","Venus is the planet closest to us on Earth; in fact, it’s so close that it can be seen in the sky without a telescope! It looks just like a very bright star. This rocky planet is covered in clouds, but they’re not like the clouds in Earth’s atmosphere. They’re full of poisonous gases! What else makes Venus interesting? Readers will find out as they discover fascinating facts about Venus through text that supports common science curriculum topics. Readers are also presented with detailed images in the form of helpful diagrams and stunning photographs of space.","English",24.6,19.68,"523.42--dc23","24 pp.",{"$f":"Table1[[#This Row],['# of Books]]*Table1[[#This Row],[QTY]]","v":0},{"$f":"Table1[[#This Row],[QTY]]*Table1[[#This Row],[School & Library Price]]","v":0}]
[null,98,null,"Science","Journey Through Our Solar System","Exploring Venus","978-1-5345-2259-6","KidHaven Publishing","eBook",1,"2018","August 2017",null,null,"Author","Leslie Beckett",null,null,null,null,"I",null,"Years 6 - 8","Grade 1 - 2","Grade 1 - 3","Venus is the planet closest to us on Earth; in fact, it’s so close that it can be seen in the sky without a telescope! It looks just like a very bright star. This rocky planet is covered in clouds, but they’re not like the clouds in Earth’s atmosphere. They’re full of poisonous gases! What else makes Venus interesting? Readers will find out as they discover fascinating facts about Venus through text that supports common science curriculum topics. Readers are also presented with detailed images in the form of helpful diagrams and stunning photographs of space.","English",24.6,19.68,"523.42--dc23","24 pp.",{"$f":"Table1[[#This Row],['# of Books]]*Table1[[#This Row],[QTY]]","v":0},{"$f":"Table1[[#This Row],[QTY]]*Table1[[#This Row],[School & Library Price]]","v":0}]
[null,99,null,"Science","Learn About Plants! (Aug '17 Set)","Learn About Plants! (Aug '17 Set)","978-1-5345-2200-8","KidHaven Publishing","Library Set",5,"2018","August 2017","Library","8.500 X 8.500"," "," ",null,null,null,null,null,null,"Years 6 - 8","Grade 2","Grade 1 - 3","Do all plants have flowers? How do seeds become plants? Why do plants need roots? Readers discover the answers to these and many more common questions as they explore the vibrant world of plants and their unique parts. Informative text guides readers as they learn important facts about stems, leaves, flowers, and other parts of a plant. The text is closely aligned with the vivid, full-color photographs that fill each page. Readers are sure to enjoy this colorful and creative introduction to an essential elementary biology topic.\n\n","English",123,98.4,null,"24 pp.",{"$f":"Table1[[#This Row],['# of Books]]*Table1[[#This Row],[QTY]]","v":0},{"$f":"Table1[[#This Row],[QTY]]*Table1[[#This Row],[School & Library Price]]","v":0}]
[null,99,null,"Science","Learn About Plants! (Aug '17 Set)","Learn About Plants! (Aug '17 Set)","978-1-5345-2203-9","KidHaven Publishing","eBook Set",5,"2018","August 2017",null,null," "," ",null,null,null,null,null,null,"Years 6 - 8","Grade 2","Grade 1 - 3","Do all plants have flowers? How do seeds become plants? Why do plants need roots? Readers discover the answers to these and many more common questions as they explore the vibrant world of plants and their unique parts. Informative text guides readers as they learn important facts about stems, leaves, flowers, and other parts of a plant. The text is closely aligned with the vivid, full-color photographs that fill each page. Readers are sure to enjoy this colorful and creative introduction to an essential elementary biology topic.\n\n","English",123,98.4,null,"24 pp.",{"$f":"Table1[[#This Row],['# of Books]]*Table1[[#This Row],[QTY]]","v":0},{"$f":"Table1[[#This Row],[QTY]]*Table1[[#This Row],[School & Library Price]]","v":0}]
[null,99,null,"Science","Learn About Plants!","Flowers","978-1-5345-2239-8","KidHaven Publishing","Library Bound Book",1,"2018","August 2017","Library","8.500 X 8.500","Author","Steffi Cavell-Clarke",null,null,null,null,"J",null,"Years 6 - 8","Grade 2","Grade 1 - 3","Why do plants have flowers? Readers discover the answer to this question as they learn fascinating facts about flowers and why they are an important part of a plant. Essential information that supports common science curriculum topics is presented in an accessible way for young readers. This includes the use of simple, colorful diagrams to help young learners understand the purpose of a plant’s flowers. Vibrant photographs fill each page, allowing readers to clearly visualize what they are learning.","English",24.6,19.68,"580--dc23","24 pp.",{"$f":"Table1[[#This Row],['# of Books]]*Table1[[#This Row],[QTY]]","v":0},{"$f":"Table1[[#This Row],[QTY]]*Table1[[#This Row],[School & Library Price]]","v":0}]
[null,99,null,"Science","Learn About Plants!","Flowers","978-1-5345-2235-0","KidHaven Publishing","eBook",1,"2018","August 2017",null,null,"Author","Steffi Cavell-Clarke",null,null,null,null,"J",null,"Years 6 - 8","Grade 2","Grade 1 - 3","Why do plants have flowers? Readers discover the answer to this question as they learn fascinating facts about flowers and why they are an important part of a plant. Essential information that supports common science curriculum topics is presented in an accessible way for young readers. This includes the use of simple, colorful diagrams to help young learners understand the purpose of a plant’s flowers. Vibrant photographs fill each page, allowing readers to clearly visualize what they are learning.","English",24.6,19.68,"580--dc23","24 pp.",{"$f":"Table1[[#This Row],['# of Books]]*Table1[[#This Row],[QTY]]","v":0},{"$f":"Table1[[#This Row],[QTY]]*Table1[[#This Row],[School & Library Price]]","v":0}]
[null,99,null,"Science","Learn About Plants!","Leaves","978-1-5345-2242-8","KidHaven Publishing","Library Bound Book",1,"2018","August 2017","Library","8.500 X 8.500","Author","Steffi Cavell-Clarke",null,null,null,null,"J",null,"Years 6 - 8","Grade 2","Grade 1 - 3","Plants don’t eat like people do, but they still need food to live and grow. They make their own food using their leaves. Readers explore the process by which leaves create food for plants through accessible text geared toward early learners. They will enjoy learning fun facts about leaves and discovering detailed diagrams of this vital part of a plant. Vivid, full-color photographs and a charming design appeal to young readers. This engaging look at a basic science curriculum topic is sure to keep readers entertained as they learn.","English",24.6,19.68,"581.4’8--dc23","24 pp.",{"$f":"Table1[[#This Row],['# of Books]]*Table1[[#This Row],[QTY]]","v":0},{"$f":"Table1[[#This Row],[QTY]]*Table1[[#This Row],[School & Library Price]]","v":0}]
[null,99,null,"Science","Learn About Plants!","Leaves","978-1-5345-2238-1","KidHaven Publishing","eBook",1,"2018","August 2017",null,null,"Author","Steffi Cavell-Clarke",null,null,null,null,"J",null,"Years 6 - 8","Grade 2","Grade 1 - 3","Plants don’t eat like people do, but they still need food to live and grow. They make their own food using their leaves. Readers explore the process by which leaves create food for plants through accessible text geared toward early learners. They will enjoy learning fun facts about leaves and discovering detailed diagrams of this vital part of a plant. Vivid, full-color photographs and a charming design appeal to young readers. This engaging look at a basic science curriculum topic is sure to keep readers entertained as they learn.","English",24.6,19.68,"581.4’8--dc23","24 pp.",{"$f":"Table1[[#This Row],['# of Books]]*Table1[[#This Row],[QTY]]","v":0},{"$f":"Table1[[#This Row],[QTY]]*Table1[[#This Row],[School & Library Price]]","v":0}]
[null,99,null,"Science","Learn About Plants!","Roots","978-1-5345-2241-1","KidHaven Publishing","Library Bound Book",1,"2018","August 2017","Library","8.500 X 8.500","Author","Steffi Cavell-Clarke",null,null,null,null,"J",null,"Years 6 - 8","Grade 2","Grade 1 - 3","Roots anchor plants in the ground, and they take in water and minerals from the soil to help plants grow. There is a lot to learn about these important plant parts, and readers discover many fun facts about roots through simple, clear text and helpful diagrams. Detailed, full-color photographs are also included to help readers develop a strong understanding of an important elementary science curriculum topic.","English",24.6,19.68,"581.4’98--dc23","24 pp.",{"$f":"Table1[[#This Row],['# of Books]]*Table1[[#This Row],[QTY]]","v":0},{"$f":"Table1[[#This Row],[QTY]]*Table1[[#This Row],[School & Library Price]]","v":0}]
[null,99,null,"Science","Learn About Plants!","Roots","978-1-5345-2237-4","KidHaven Publishing","eBook",1,"2018","August 2017",null,null,"Author","Steffi Cavell-Clarke",null,null,null,null,"J",null,"Years 6 - 8","Grade 2","Grade 1 - 3","Roots anchor plants in the ground, and they take in water and minerals from the soil to help plants grow. There is a lot to learn about these important plant parts, and readers discover many fun facts about roots through simple, clear text and helpful diagrams. Detailed, full-color photographs are also included to help readers develop a strong understanding of an important elementary science curriculum topic.","English",24.6,19.68,"581.4’98--dc23","24 pp.",{"$f":"Table1[[#This Row],['# of Books]]*Table1[[#This Row],[QTY]]","v":0},{"$f":"Table1[[#This Row],[QTY]]*Table1[[#This Row],[School & Library Price]]","v":0}]
[null,99,null,"Science","Learn About Plants!","Seeds","978-1-5345-2240-4","KidHaven Publishing","Library Bound Book",1,"2018","August 2017","Library","8.500 X 8.500","Author","Steffi Cavell-Clarke",null,null,null,null,"J",null,"Years 6 - 8","Grade 2","Grade 1 - 3","Plants grow from seeds, so understanding basic facts about seeds helps readers understand the life cycle of a plant. Life cycles are just one of the important science curriculum topics readers explore as they turn each colorful page. Accessible text is accompanied by detailed photographs and diagrams of seeds and the plants they become. After reading, students will be eager to plant seeds of their own to see the lessons they’ve learned about plants in action.","English",24.6,19.68,"581.4’67--dc23","24 pp.",{"$f":"Table1[[#This Row],['# of Books]]*Table1[[#This Row],[QTY]]","v":0},{"$f":"Table1[[#This Row],[QTY]]*Table1[[#This Row],[School & Library Price]]","v":0}]
[null,99,null,"Science","Learn About Plants!","Seeds","978-1-5345-2236-7","KidHaven Publishing","eBook",1,"2018","August 2017",null,null,"Author","Steffi Cavell-Clarke",null,null,null,null,"J",null,"Years 6 - 8","Grade 2","Grade 1 - 3","Plants grow from seeds, so understanding basic facts about seeds helps readers understand the life cycle of a plant. Life cycles are just one of the important science curriculum topics readers explore as they turn each colorful page. Accessible text is accompanied by detailed photographs and diagrams of seeds and the plants they become. After reading, students will be eager to plant seeds of their own to see the lessons they’ve learned about plants in action.","English",24.6,19.68,"581.4’67--dc23","24 pp.",{"$f":"Table1[[#This Row],['# of Books]]*Table1[[#This Row],[QTY]]","v":0},{"$f":"Table1[[#This Row],[QTY]]*Table1[[#This Row],[School & Library Price]]","v":0}]
[null,99,null,"Science","Learn About Plants!","Stems","978-1-5345-2323-4","KidHaven Publishing","Library Bound Book",1,"2018","August 2017","Library","8.500 X 8.500","Author","Steffi Cavell-Clarke",null,null,null,null,"J",null,"Years 6 - 8","Grade 2","Grade 1 - 3","Different kinds of plants have different kinds of stems. Daisies have thin stems, while redwood trees have thick, woody stems. What do these stems do? Readers discover the answer with the help of clear, age-appropriate text that supports common science curriculum topics. Colorful diagrams enhance the main text, helping young readers visualize the concepts they are reading about. Detailed photographs of a variety of plants and their stems provide an up-close look at this topic, and the creative design of each page is sure to hold the interest of even reluctant readers.","English",24.6,19.68,"581.4’95--dc23","24 pp.",{"$f":"Table1[[#This Row],['# of Books]]*Table1[[#This Row],[QTY]]","v":0},{"$f":"Table1[[#This Row],[QTY]]*Table1[[#This Row],[School & Library Price]]","v":0}]
[null,99,null,"Science","Learn About Plants!","Stems","978-1-5345-2322-7","KidHaven Publishing","eBook",1,"2018","August 2017",null,null,"Author","Steffi Cavell-Clarke",null,null,null,null,"J",null,"Years 6 - 8","Grade 2","Grade 1 - 3","Different kinds of plants have different kinds of stems. Daisies have thin stems, while redwood trees have thick, woody stems. What do these stems do? Readers discover the answer with the help of clear, age-appropriate text that supports common science curriculum topics. Colorful diagrams enhance the main text, helping young readers visualize the concepts they are reading about. Detailed photographs of a variety of plants and their stems provide an up-close look at this topic, and the creative design of each page is sure to hold the interest of even reluctant readers.","English",24.6,19.68,"581.4’95--dc23","24 pp.",{"$f":"Table1[[#This Row],['# of Books]]*Table1[[#This Row],[QTY]]","v":0},{"$f":"Table1[[#This Row],[QTY]]*Table1[[#This Row],[School & Library Price]]","v":0}]
[null,100,null,"Science","The Glittering World of Gems (Aug '17 Set)","The Glittering World of Gems (Aug '17 Set)","978-1-5345-2214-5","KidHaven Publishing","Library Set",5,"2018","August 2017","Library","8.500 X 8.500"," "," ",null,null,null,null,null,null,"Years 7 - 10","Grade 2 - 3","Grade 2 - 5","Gems have been used for centuries in all parts of the world to create jewelry and ornaments. Some are also used in modern tools, such as the diamonds used in drill tips and the rubies used in lasers. Readers learn intriguing details about where different gems can be found, how they are extracted from the ground, and the ways they are polished and shaped into the jewels we recognize in rings, necklaces, earrings, and more. Vibrant, full-color photographs illustrate the beauty of these sparkling gemstones. Where do diamonds come from? The answer is waiting for readers to discover!\n\n","English",123,98.4,null,"24 pp.",{"$f":"Table1[[#This Row],['# of Books]]*Table1[[#This Row],[QTY]]","v":0},{"$f":"Table1[[#This Row],[QTY]]*Table1[[#This Row],[School & Library Price]]","v":0}]
[null,100,null,"Science","The Glittering World of Gems (Aug '17 Set)","The Glittering World of Gems (Aug '17 Set)","978-1-5345-2320-3","KidHaven Publishing","eBook Set",5,"2018","August 2017",null,null," "," ",null,null,null,null,null,null,"Years 7 - 10","Grade 2 - 3","Grade 2 - 5","Gems have been used for centuries in all parts of the world to create jewelry and ornaments. Some are also used in modern tools, such as the diamonds used in drill tips and the rubies used in lasers. Readers learn intriguing details about where different gems can be found, how they are extracted from the ground, and the ways they are polished and shaped into the jewels we recognize in rings, necklaces, earrings, and more. Vibrant, full-color photographs illustrate the beauty of these sparkling gemstones. Where do diamonds come from? The answer is waiting for readers to discover!\n\n","English",123,98.4,null,"24 pp.",{"$f":"Table1[[#This Row],['# of Books]]*Table1[[#This Row],[QTY]]","v":0},{"$f":"Table1[[#This Row],[QTY]]*Table1[[#This Row],[School & Library Price]]","v":0}]
[null,100,null,"Science","The Glittering World of Gems","Awesome Opals","978-1-5345-2314-2","KidHaven Publishing","Library Bound Book",1,"2018","August 2017","Library","8.500 X 8.500","Author","Joyce Jeffries",null,null,null,null,"M",null,"Years 7 - 10","Grade 2 - 3","Grade 2 - 5","Opals emit a rainbow of colors, which makes them perfect gems to place in stunning pieces of jewelry. How do opals go from raw stones to beautiful gems? Readers discover the answer to this question as they learn the steps that must be taken and the technology that is used to find, cut, and polish opals. Clear main text and informative fact boxes help readers become experts on opals. Colorful photographs of these gems are sure to keep readers engaged as they learn.","English",24.6,19.68,"553.8'73--dc23","24 pp.",{"$f":"Table1[[#This Row],['# of Books]]*Table1[[#This Row],[QTY]]","v":0},{"$f":"Table1[[#This Row],[QTY]]*Table1[[#This Row],[School & Library Price]]","v":0}]
[null,100,null,"Science","The Glittering World of Gems","Awesome Opals","978-1-5345-2300-5","KidHaven Publishing","eBook",1,"2018","August 2017",null,null,"Author","Joyce Jeffries",null,null,null,null,"M",null,"Years 7 - 10","Grade 2 - 3","Grade 2 - 5","Opals emit a rainbow of colors, which makes them perfect gems to place in stunning pieces of jewelry. How do opals go from raw stones to beautiful gems? Readers discover the answer to this question as they learn the steps that must be taken and the technology that is used to find, cut, and polish opals. Clear main text and informative fact boxes help readers become experts on opals. Colorful photographs of these gems are sure to keep readers engaged as they learn.","English",24.6,19.68,"553.8'73--dc23","24 pp.",{"$f":"Table1[[#This Row],['# of Books]]*Table1[[#This Row],[QTY]]","v":0},{"$f":"Table1[[#This Row],[QTY]]*Table1[[#This Row],[School & Library Price]]","v":0}]
[null,100,null,"Science","The Glittering World of Gems","Dazzling Diamonds","978-1-5345-2305-0","KidHaven Publishing","Library Bound Book",1,"2018","August 2017","Library","8.500 X 8.500","Author","Lorraine Harrison",null,null,null,null,"N",null,"Years 7 - 10","Grade 2 - 3","Grade 2 - 5","How are diamonds formed? Where do they come from? The answers to these questions and more can be found in this exciting look at a popular gemstone. The science and technology involved in creating a sparkling gem from an uncut diamond is fully explored, giving readers an in-depth look at how diamond rings, bracelets, necklaces, and more are made. Fun fact boxes highlight additional information, and striking photographs illustrate the beauty of these natural jewels.","English",24.6,19.68,"553.8’2--dc23","24 pp.",{"$f":"Table1[[#This Row],['# of Books]]*Table1[[#This Row],[QTY]]","v":0},{"$f":"Table1[[#This Row],[QTY]]*Table1[[#This Row],[School & Library Price]]","v":0}]
[null,100,null,"Science","The Glittering World of Gems","Dazzling Diamonds","978-1-5345-2304-3","KidHaven Publishing","eBook",1,"2018","August 2017",null,null,"Author","Lorraine Harrison",null,null,null,null,"N",null,"Years 7 - 10","Grade 2 - 3","Grade 2 - 5","How are diamonds formed? Where do they come from? The answers to these questions and more can be found in this exciting look at a popular gemstone. The science and technology involved in creating a sparkling gem from an uncut diamond is fully explored, giving readers an in-depth look at how diamond rings, bracelets, necklaces, and more are made. Fun fact boxes highlight additional information, and striking photographs illustrate the beauty of these natural jewels.","English",24.6,19.68,"553.8’2--dc23","24 pp.",{"$f":"Table1[[#This Row],['# of Books]]*Table1[[#This Row],[QTY]]","v":0},{"$f":"Table1[[#This Row],[QTY]]*Table1[[#This Row],[School & Library Price]]","v":0}]
[null,100,null,"Science","The Glittering World of Gems","Incredible Emeralds","978-1-5345-2306-7","KidHaven Publishing","Library Bound Book",1,"2018","August 2017","Library","8.500 X 8.500","Author","Amy B. Rogers",null,null,null,null,"N",null,"Years 7 - 10","Grade 2 - 3","Grade 2 - 5","Due to their striking green color, emeralds are highly prized as a beautiful addition to all kinds of jewelry. They have been used for thousands of years, especially by the ancient Egyptians and Incas. Over time, technology has changed the way these gems are extracted from the earth and shaped into glittering jewels. Through accessible text and enlightening fact boxes, readers discover the process behind the creation of valuable pieces of emerald jewelry. Full-color photographs display the dazzling beauty of emeralds.","English",24.6,19.68,"553.8’6--dc23","24 pp.",{"$f":"Table1[[#This Row],['# of Books]]*Table1[[#This Row],[QTY]]","v":0},{"$f":"Table1[[#This Row],[QTY]]*Table1[[#This Row],[School & Library Price]]","v":0}]
[null,100,null,"Science","The Glittering World of Gems","Incredible Emeralds","978-1-5345-2303-6","KidHaven Publishing","eBook",1,"2018","August 2017",null,null,"Author","Amy B. Rogers",null,null,null,null,"N",null,"Years 7 - 10","Grade 2 - 3","Grade 2 - 5","Due to their striking green color, emeralds are highly prized as a beautiful addition to all kinds of jewelry. They have been used for thousands of years, especially by the ancient Egyptians and Incas. Over time, technology has changed the way these gems are extracted from the earth and shaped into glittering jewels. Through accessible text and enlightening fact boxes, readers discover the process behind the creation of valuable pieces of emerald jewelry. Full-color photographs display the dazzling beauty of emeralds.","English",24.6,19.68,"553.8’6--dc23","24 pp.",{"$f":"Table1[[#This Row],['# of Books]]*Table1[[#This Row],[QTY]]","v":0},{"$f":"Table1[[#This Row],[QTY]]*Table1[[#This Row],[School & Library Price]]","v":0}]
[null,100,null,"Science","The Glittering World of Gems","Radiant Rubies","978-1-5345-2308-1","KidHaven Publishing","Library Bound Book",1,"2018","August 2017","Library","8.500 X 8.500","Author","Joseph Stanley",null,null,null,null,"N",null,"Years 7 - 10","Grade 2 - 3","Grade 2 - 5","Rubies have many different uses. They have been used in beautiful jewelry, ancient armor, and even lasers! How do people get these useful and beautiful gems? Readers explore the intricate process of mining for rubies, cutting these gems, and polishing them until they look their best. These steps are explained through clear, accessible text. Fun fact boxes provide additional information about rubies. With each turn of the page, readers encounter beautiful, full-color photographs of these radiant gems.","English",24.6,19.68,"553.8'4--dc23","24 pp.",{"$f":"Table1[[#This Row],['# of Books]]*Table1[[#This Row],[QTY]]","v":0},{"$f":"Table1[[#This Row],[QTY]]*Table1[[#This Row],[School & Library Price]]","v":0}]
[null,100,null,"Science","The Glittering World of Gems","Radiant Rubies","978-1-5345-2301-2","KidHaven Publishing","eBook",1,"2018","August 2017",null,null,"Author","Joseph Stanley",null,null,null,null,"N",null,"Years 7 - 10","Grade 2 - 3","Grade 2 - 5","Rubies have many different uses. They have been used in beautiful jewelry, ancient armor, and even lasers! How do people get these useful and beautiful gems? Readers explore the intricate process of mining for rubies, cutting these gems, and polishing them until they look their best. These steps are explained through clear, accessible text. Fun fact boxes provide additional information about rubies. With each turn of the page, readers encounter beautiful, full-color photographs of these radiant gems.","English",24.6,19.68,"553.8'4--dc23","24 pp.",{"$f":"Table1[[#This Row],['# of Books]]*Table1[[#This Row],[QTY]]","v":0},{"$f":"Table1[[#This Row],[QTY]]*Table1[[#This Row],[School & Library Price]]","v":0}]
[null,100,null,"Science","The Glittering World of Gems","Sparkling Sapphires","978-1-5345-2307-4","KidHaven Publishing","Library Bound Book",1,"2018","August 2017","Library","8.500 X 8.500","Author","Joyce Jeffries",null,null,null,null,"N",null,"Years 7 - 10","Grade 2 - 3","Grade 2 - 5","Sapphires are known for their deep blue color, such as the color of the sapphire that famously sits at the center of Kate Middleton’s engagement ring. However, sapphires can actually come in any color but red. Readers discover this and other amazing facts about sapphires as they explore engaging text and eye-catching fact boxes. They also examine vibrant photographs chosen to highlight the beauty of this popular gem. What is a star sapphire? The answer is waiting for readers to find in this captivating volume.","English",24.6,19.68,"553.8'4--dc23","24 pp.",{"$f":"Table1[[#This Row],['# of Books]]*Table1[[#This Row],[QTY]]","v":0},{"$f":"Table1[[#This Row],[QTY]]*Table1[[#This Row],[School & Library Price]]","v":0}]
[null,100,null,"Science","The Glittering World of Gems","Sparkling Sapphires","978-1-5345-2302-9","KidHaven Publishing","eBook",1,"2018","August 2017",null,null,"Author","Joyce Jeffries",null,null,null,null,"N",null,"Years 7 - 10","Grade 2 - 3","Grade 2 - 5","Sapphires are known for their deep blue color, such as the color of the sapphire that famously sits at the center of Kate Middleton’s engagement ring. However, sapphires can actually come in any color but red. Readers discover this and other amazing facts about sapphires as they explore engaging text and eye-catching fact boxes. They also examine vibrant photographs chosen to highlight the beauty of this popular gem. What is a star sapphire? The answer is waiting for readers to find in this captivating volume.","English",24.6,19.68,"553.8'4--dc23","24 pp.",{"$f":"Table1[[#This Row],['# of Books]]*Table1[[#This Row],[QTY]]","v":0},{"$f":"Table1[[#This Row],[QTY]]*Table1[[#This Row],[School & Library Price]]","v":0}]
[null,101,null,"Science","A Closer Look at Living Things (Jan '17 Set)","A Closer Look at Living Things (Jan '17 Set)","978-1-5345-2113-1","KidHaven Publishing","Library Set",4,2017,"January 2017","Library Bound","8.500 X 8.500"," "," ",null,null,null,null,null,null,"Years 7 - 9",null,"Grade 2 - 4","How do plants get food? What do animals use a tail for? How do bugs grow? Young readers discover the answers to these questions and many more as they get an up-close view of the bodies of living things. They explore the many ways a living thing’s body parts work together. This creative approach to beginner biology is presented through simple, age-appropriate text. Vibrant, full-color photographs of a wide variety of animals, plants, people, and bugs fill each page. Readers will be amazed when they see how much they can learn by taking a closer look at living things.","English",98.4,78.72,null,"24 pp.",{"$f":"Table1[[#This Row],['# of Books]]*Table1[[#This Row],[QTY]]","v":0},{"$f":"Table1[[#This Row],[QTY]]*Table1[[#This Row],[School & Library Price]]","v":0}]
[null,101,null,"Science","A Closer Look at Living Things (Jan '17 Set)","A Closer Look at Living Things (Jan '17 Set)","978-1-5345-2114-8","KidHaven Publishing","eBook Set",4,2017,"January 2017","eBook",null," "," ",null,null,null,null,null,null,null,null,"Grade 2 - 4","How do plants get food? What do animals use a tail for? How do bugs grow? Young readers discover the answers to these questions and many more as they get an up-close view of the bodies of living things. They explore the many ways a living thing’s body parts work together. This creative approach to beginner biology is presented through simple, age-appropriate text. Vibrant, full-color photographs of a wide variety of animals, plants, people, and bugs fill each page. Readers will be amazed when they see how much they can learn by taking a closer look at living things.","English",98.4,78.72,null,"24 pp.",{"$f":"Table1[[#This Row],['# of Books]]*Table1[[#This Row],[QTY]]","v":0},{"$f":"Table1[[#This Row],[QTY]]*Table1[[#This Row],[School & Library Price]]","v":0}]
[null,101,null,"Science","A Closer Look at Living Things","Animal Body Parts","978-1-5345-2059-2","KidHaven Publishing","Library Bound Book",1,2017,"January 2017","Library Bound","8.500 X 8.500","Author","Steffi Cavell-Clarke",3.9,0.5,null,null,"K",null,"Years 7 - 9",null,"Grade 2 - 4","Animal body parts work together to help these living things move, eat, and stay safe. Readers discover different animal body parts and their jobs in this unique exploration of beginner biology. Through simple, clear text, young readers are introduced to many animals and the various body parts they use as they live and grow. Age-appropriate diagrams are also included to help early learners understand these basic science concepts. With vibrant, detailed photographs of animal body parts in action, young readers will be captivated by this unique look at familiar and exotic animals.","English",24.6,19.68,null,"24 pp.",{"$f":"Table1[[#This Row],['# of Books]]*Table1[[#This Row],[QTY]]","v":0},{"$f":"Table1[[#This Row],[QTY]]*Table1[[#This Row],[School & Library Price]]","v":0}]
[null,101,null,"Science","A Closer Look at Living Things","Animal Body Parts","978-1-5345-2060-8","KidHaven Publishing","eBook",1,2017,"January 2017","eBook",null,"Author","Steffi Cavell-Clarke",null,null,null,null,"K",null,null,null,"Grade 2 - 4","Animal body parts work together to help these living things move, eat, and stay safe. Readers discover different animal body parts and their jobs in this unique exploration of beginner biology. Through simple, clear text, young readers are introduced to many animals and the various body parts they use as they live and grow. Age-appropriate diagrams are also included to help early learners understand these basic science concepts. With vibrant, detailed photographs of animal body parts in action, young readers will be captivated by this unique look at familiar and exotic animals.","English",24.6,19.68,null,"24 pp.",{"$f":"Table1[[#This Row],['# of Books]]*Table1[[#This Row],[QTY]]","v":0},{"$f":"Table1[[#This Row],[QTY]]*Table1[[#This Row],[School & Library Price]]","v":0}]
[null,101,null,"Science","A Closer Look at Living Things","Bug Body Parts","978-1-5345-2063-9","KidHaven Publishing","Library Bound Book",1,2017,"January 2017","Library Bound","8.500 X 8.500","Author","Steffi Cavell-Clarke",3.6,0.5,null,null,"K",null,"Years 7 - 9",null,"Grade 2 - 4","Young readers get an exciting, up-close look at bug bodies as they learn essential beginner biology topics in a fun and fresh way. They discover the many ways a bug’s body parts work together through the use of age-appropriate text and simple diagrams designed with early learners in mind. Vivid photographs show the body parts of the world’s coolest and creepiest bugs in amazing detail. This creative approach to a common part of science curricula is sure to keep young readers engaged as they learn big things about some of the world’s tiniest creatures.","English",24.6,19.68,null,"24 pp.",{"$f":"Table1[[#This Row],['# of Books]]*Table1[[#This Row],[QTY]]","v":0},{"$f":"Table1[[#This Row],[QTY]]*Table1[[#This Row],[School & Library Price]]","v":0}]
[null,101,null,"Science","A Closer Look at Living Things","Bug Body Parts","978-1-5345-2064-6","KidHaven Publishing","eBook",1,2017,"January 2017","eBook",null,"Author","Steffi Cavell-Clarke",null,null,null,null,"K",null,null,null,"Grade 2 - 4","Young readers get an exciting, up-close look at bug bodies as they learn essential beginner biology topics in a fun and fresh way. They discover the many ways a bug’s body parts work together through the use of age-appropriate text and simple diagrams designed with early learners in mind. Vivid photographs show the body parts of the world’s coolest and creepiest bugs in amazing detail. This creative approach to a common part of science curricula is sure to keep young readers engaged as they learn big things about some of the world’s tiniest creatures.","English",24.6,19.68,null,"24 pp.",{"$f":"Table1[[#This Row],['# of Books]]*Table1[[#This Row],[QTY]]","v":0},{"$f":"Table1[[#This Row],[QTY]]*Table1[[#This Row],[School & Library Price]]","v":0}]
[null,101,null,"Science","A Closer Look at Living Things","Human Body Parts","978-1-5345-2067-7","KidHaven Publishing","Library Bound Book",1,2017,"January 2017","Library Bound","8.500 X 8.500","Author","Steffi Cavell-Clarke",3.8,0.5,null,null,"K",null,"Years 7 - 9",null,"Grade 2 - 4","The human body is a fascinating thing to study, and young readers get an age-appropriate overview of its parts as they explore the basics of beginner biology and anatomy. How do people see? What do they use to hear? They will be able to answer these questions and many more after learning the important ways human body parts work together. Accessible text is paired with colorful photographs and clear diagrams to ensure a thorough introduction to these essential science curriculum topics for early learners.","English",24.6,19.68,null,"24 pp.",{"$f":"Table1[[#This Row],['# of Books]]*Table1[[#This Row],[QTY]]","v":0},{"$f":"Table1[[#This Row],[QTY]]*Table1[[#This Row],[School & Library Price]]","v":0}]
[null,101,null,"Science","A Closer Look at Living Things","Human Body Parts","978-1-5345-2068-4","KidHaven Publishing","eBook",1,2017,"January 2017","eBook",null,"Author","Steffi Cavell-Clarke",null,null,null,null,"K",null,null,null,"Grade 2 - 4","The human body is a fascinating thing to study, and young readers get an age-appropriate overview of its parts as they explore the basics of beginner biology and anatomy. How do people see? What do they use to hear? They will be able to answer these questions and many more after learning the important ways human body parts work together. Accessible text is paired with colorful photographs and clear diagrams to ensure a thorough introduction to these essential science curriculum topics for early learners.","English",24.6,19.68,null,"24 pp.",{"$f":"Table1[[#This Row],['# of Books]]*Table1[[#This Row],[QTY]]","v":0},{"$f":"Table1[[#This Row],[QTY]]*Table1[[#This Row],[School & Library Price]]","v":0}]
[null,101,null,"Science","A Closer Look at Living Things","Plant Parts","978-1-5345-2070-7","KidHaven Publishing","Library Bound Book",1,2017,"January 2017","Library Bound","8.500 X 8.500","Author","Steffi Cavell-Clarke",4.2,0.5,null,null,"K",null,"Years 7 - 9",null,"Grade 2 - 4","Roots, stems, and leaves are just some of a plant’s most important parts. Readers get a detailed look at these and other plant parts as they closely examine some of the world’s most interesting plants. Vibrant, full-color photographs of plants fill each page, and clear diagrams help readers gain a deeper understanding of the ways plant parts work together. These basic biology lessons are presented to early learners through age-appropriate text that is closely aligned with common science curriculum topics. What parts do plants use to make their own food? The answer is waiting for readers to discover!","English",24.6,19.68,null,"24 pp.",{"$f":"Table1[[#This Row],['# of Books]]*Table1[[#This Row],[QTY]]","v":0},{"$f":"Table1[[#This Row],[QTY]]*Table1[[#This Row],[School & Library Price]]","v":0}]
[null,101,null,"Science","A Closer Look at Living Things","Plant Parts","978-1-5345-2071-4","KidHaven Publishing","eBook",1,2017,"January 2017","eBook",null,"Author","Steffi Cavell-Clarke",null,null,null,null,"K",null,null,null,"Grade 2 - 4","Roots, stems, and leaves are just some of a plant’s most important parts. Readers get a detailed look at these and other plant parts as they closely examine some of the world’s most interesting plants. Vibrant, full-color photographs of plants fill each page, and clear diagrams help readers gain a deeper understanding of the ways plant parts work together. These basic biology lessons are presented to early learners through age-appropriate text that is closely aligned with common science curriculum topics. What parts do plants use to make their own food? The answer is waiting for readers to discover!","English",24.6,19.68,null,"24 pp.",{"$f":"Table1[[#This Row],['# of Books]]*Table1[[#This Row],[QTY]]","v":0},{"$f":"Table1[[#This Row],[QTY]]*Table1[[#This Row],[School & Library Price]]","v":0}]
[null,102,null,"Science","First Science: Sets 1 – 2","First Science (Jan '17 & Jan '18 Sets)","978-1-5345-2453-8","KidHaven Publishing","Library Set",8,2018,"January 2018","Library","8.500 X 8.500"," "," ",null,null,null,null,null,null,"Years 5 - 7","Grade 1","Grade K - 2","Science is at work all around us. This is a valuable lesson for young readers to discover, and they are able to do that through accessible text that explains basic science concepts they encounter in their everyday lives. Age-appropriate examples allow early learners to better understand how science is applied in the world around them, from the sounds they hear each day to the materials they come in contact with. These examples are presented alongside colorful, entertaining photographs, which help readers find the fun in science.","English",196.8,157.44,null,"24 pp.",{"$f":"Table1[[#This Row],['# of Books]]*Table1[[#This Row],[QTY]]","v":0},{"$f":"Table1[[#This Row],[QTY]]*Table1[[#This Row],[School & Library Price]]","v":0}]
[null,102,null,"Science","First Science: Sets 1 – 2","First Science (Jan '17 & Jan '18 Sets)","978-1-5345-2549-8","KidHaven Publishing","Single Copy Set",8,2018,"January 2018","Paperback","8.500 X 8.500"," "," ",null,null,null,null,null,null,"Years 5 - 7","Grade 1","Grade K - 2","Science is at work all around us. This is a valuable lesson for young readers to discover, and they are able to do that through accessible text that explains basic science concepts they encounter in their everyday lives. Age-appropriate examples allow early learners to better understand how science is applied in the world around them, from the sounds they hear each day to the materials they come in contact with. These examples are presented alongside colorful, entertaining photographs, which help readers find the fun in science.","English",66,56,null,"24 pp.",{"$f":"Table1[[#This Row],['# of Books]]*Table1[[#This Row],[QTY]]","v":0},{"$f":"Table1[[#This Row],[QTY]]*Table1[[#This Row],[School & Library Price]]","v":0}]
[null,102,null,"Science","First Science (Jan '18 Set)","First Science (Jan '18 Set)","978-1-5345-2452-1","KidHaven Publishing","Library Set",4,2018,"January 2018","Library","8.500 X 8.500"," "," ",null,null,null,null,null,null,"Years 5 - 7","Grade 1","Grade K - 2","Turning on a light, observing the weather, and determining whether something is hot or cold are all ways early learners apply scientific concepts to the world around them. Young readers explore these and other beginning science concepts through age-appropriate text presented in an accessible way. As readers are introduced to basic science topics, they are given relevant examples of how science is constantly at work in their lives. These examples are shown through vibrant, full-color photographs. With each turn of the page, readers are sure to gain a deeper appreciation for the fascinating world of science, which happens to be already all around them.","English",98.4,78.72,null,"24 pp.",{"$f":"Table1[[#This Row],['# of Books]]*Table1[[#This Row],[QTY]]","v":0},{"$f":"Table1[[#This Row],[QTY]]*Table1[[#This Row],[School & Library Price]]","v":0}]
[null,102,null,"Science","First Science (Jan '18 Set)","First Science (Jan '18 Set)","978-1-5345-2524-5","KidHaven Publishing","eBook Set",4,2018,"January 2018",null,null," "," ",null,null,null,null,null,null,"Years 5 - 7","Grade 1","Grade K - 2","Turning on a light, observing the weather, and determining whether something is hot or cold are all ways early learners apply scientific concepts to the world around them. Young readers explore these and other beginning science concepts through age-appropriate text presented in an accessible way. As readers are introduced to basic science topics, they are given relevant examples of how science is constantly at work in their lives. These examples are shown through vibrant, full-color photographs. With each turn of the page, readers are sure to gain a deeper appreciation for the fascinating world of science, which happens to be already all around them.","English",98.4,78.72,null,"24 pp.",{"$f":"Table1[[#This Row],['# of Books]]*Table1[[#This Row],[QTY]]","v":0},{"$f":"Table1[[#This Row],[QTY]]*Table1[[#This Row],[School & Library Price]]","v":0}]
[null,102,null,"Science","First Science (Jan '18 Set)","First Science (Jan '18 Set)","978-1-5345-2535-1","KidHaven Publishing","Single Copy Set",4,2018,"January 2018","Paperback","8.500 X 8.500"," "," ",null,null,null,null,null,null,"Years 5 - 7","Grade 1","Grade K - 2","Turning on a light, observing the weather, and determining whether something is hot or cold are all ways early learners apply scientific concepts to the world around them. Young readers explore these and other beginning science concepts through age-appropriate text presented in an accessible way. As readers are introduced to basic science topics, they are given relevant examples of how science is constantly at work in their lives. These examples are shown through vibrant, full-color photographs. With each turn of the page, readers are sure to gain a deeper appreciation for the fascinating world of science, which happens to be already all around them.","English",33,28,null,"24 pp.",{"$f":"Table1[[#This Row],['# of Books]]*Table1[[#This Row],[QTY]]","v":0},{"$f":"Table1[[#This Row],[QTY]]*Table1[[#This Row],[School & Library Price]]","v":0}]
[null,102,null,"Science","First Science","Electricity","978-1-5345-2384-5","KidHaven Publishing","Library Bound Book",1,2018,"January 2018","Library","8.500 X 8.500","Author","Steffi Cavell-Clarke",null,null,null,null,"F",null,"Years 5 - 7","Grade 1","Grade K - 2","Why does light appear after you flick on a light switch? Where does electricity come from? Questions such as these are answered in this age-appropriate and educational book all about electricity, which is a common part of elementary science curricula. This engaging text explains basic scientific concepts to young readers to teach them about how electricity works, where it comes from, and how we use it in our everyday lives. Vibrant, full-color photographs and simple diagrams provide additional, relatable information to expand readers’ knowledge of this electrifying topic.","English",24.6,19.68,"537--dc23","24 pp.",{"$f":"Table1[[#This Row],['# of Books]]*Table1[[#This Row],[QTY]]","v":0},{"$f":"Table1[[#This Row],[QTY]]*Table1[[#This Row],[School & Library Price]]","v":0}]
[null,102,null,"Science","First Science","Electricity","978-1-5345-2385-2","KidHaven Publishing","eBook",1,2018,"January 2018",null,null,"Author","Steffi Cavell-Clarke",null,null,null,null,"F",null,"Years 5 - 7","Grade 1","Grade K - 2","Why does light appear after you flick on a light switch? Where does electricity come from? Questions such as these are answered in this age-appropriate and educational book all about electricity, which is a common part of elementary science curricula. This engaging text explains basic scientific concepts to young readers to teach them about how electricity works, where it comes from, and how we use it in our everyday lives. Vibrant, full-color photographs and simple diagrams provide additional, relatable information to expand readers’ knowledge of this electrifying topic.","English",24.6,19.68,"537--dc23","24 pp.",{"$f":"Table1[[#This Row],['# of Books]]*Table1[[#This Row],[QTY]]","v":0},{"$f":"Table1[[#This Row],[QTY]]*Table1[[#This Row],[School & Library Price]]","v":0}]
[null,102,null,"Science","First Science","Electricity","978-1-5345-2386-9","KidHaven Publishing","Paperback Book",1,2018,"January 2018","Paperback","8.500 X 8.500","Author","Steffi Cavell-Clarke",null,null,null,null,"F",null,"Years 5 - 7","Grade 1","Grade K - 2","Why does light appear after you flick on a light switch? Where does electricity come from? Questions such as these are answered in this age-appropriate and educational book all about electricity, which is a common part of elementary science curricula. This engaging text explains basic scientific concepts to young readers to teach them about how electricity works, where it comes from, and how we use it in our everyday lives. Vibrant, full-color photographs and simple diagrams provide additional, relatable information to expand readers’ knowledge of this electrifying topic.","English",8.25,7,"537--dc23","24 pp.",{"$f":"Table1[[#This Row],['# of Books]]*Table1[[#This Row],[QTY]]","v":0},{"$f":"Table1[[#This Row],[QTY]]*Table1[[#This Row],[School & Library Price]]","v":0}]
[null,102,null,"Science","First Science","Hot and Cold","978-1-5345-2390-6","KidHaven Publishing","Library Bound Book",1,2018,"January 2018","Library","8.500 X 8.500","Author","Steffi Cavell-Clarke",null,null,null,null,"F",null,"Years 5 - 7","Grade 1","Grade K - 2","Young readers are introduced to the basic science concept of temperature and how to properly identify things that are hot and cold in this age-appropriate text. Fun facts, striking, full-color photographs, and diagrams provide insight into this essential elementary science curriculum topic. This accessible reading experience is sure to make early learners even more curious about the world around them, and it encourages them to experiment safely with the everyday objects to see science in action.","English",24.6,19.68,"536'.5--dc23","24 pp.",{"$f":"Table1[[#This Row],['# of Books]]*Table1[[#This Row],[QTY]]","v":0},{"$f":"Table1[[#This Row],[QTY]]*Table1[[#This Row],[School & Library Price]]","v":0}]
[null,102,null,"Science","First Science","Hot and Cold","978-1-5345-2463-7","KidHaven Publishing","eBook",1,2018,"January 2018",null,null,"Author","Steffi Cavell-Clarke",null,null,null,null,"F",null,"Years 5 - 7","Grade 1","Grade K - 2","Young readers are introduced to the basic science concept of temperature and how to properly identify things that are hot and cold in this age-appropriate text. Fun facts, striking, full-color photographs, and diagrams provide insight into this essential elementary science curriculum topic. This accessible reading experience is sure to make early learners even more curious about the world around them, and it encourages them to experiment safely with the everyday objects to see science in action.","English",24.6,19.68,"536'.5--dc23","24 pp.",{"$f":"Table1[[#This Row],['# of Books]]*Table1[[#This Row],[QTY]]","v":0},{"$f":"Table1[[#This Row],[QTY]]*Table1[[#This Row],[School & Library Price]]","v":0}]
[null,102,null,"Science","First Science","Hot and Cold","978-1-5345-2391-3","KidHaven Publishing","Paperback Book",1,2018,"January 2018","Paperback","8.500 X 8.500","Author","Steffi Cavell-Clarke",null,null,null,null,"F",null,"Years 5 - 7","Grade 1","Grade K - 2","Young readers are introduced to the basic science concept of temperature and how to properly identify things that are hot and cold in this age-appropriate text. Fun facts, striking, full-color photographs, and diagrams provide insight into this essential elementary science curriculum topic. This accessible reading experience is sure to make early learners even more curious about the world around them, and it encourages them to experiment safely with the everyday objects to see science in action.","English",8.25,7,"536'.5--dc23","24 pp.",{"$f":"Table1[[#This Row],['# of Books]]*Table1[[#This Row],[QTY]]","v":0},{"$f":"Table1[[#This Row],[QTY]]*Table1[[#This Row],[School & Library Price]]","v":0}]
[null,102,null,"Science","First Science","Materials","978-1-5345-2387-6","KidHaven Publishing","Library Bound Book",1,2018,"January 2018","Library","8.500 X 8.500","Author","Steffi Cavell-Clarke",null,null,null,null,"K",null,"Years 5 - 7","Grade 1","Grade K - 2","Understanding the properties of different materials is essential to developing basic scientific knowledge. Readers are introduced to this critical concept through accessible text that asks them to examine different everyday materials, such as glass and wood, and what they are used for. The main text includes interesting facts that enhance science curriculum topics. Eye-catching, full-color photographs and diagrams are also featured. This engaging text exposes young readers to a plethora of materials and shows them how they are used to create the objects we see and use every day.","English",24.6,19.68,"620.1'1--dc23","24 pp.",{"$f":"Table1[[#This Row],['# of Books]]*Table1[[#This Row],[QTY]]","v":0},{"$f":"Table1[[#This Row],[QTY]]*Table1[[#This Row],[School & Library Price]]","v":0}]
[null,102,null,"Science","First Science","Materials","978-1-5345-2388-3","KidHaven Publishing","eBook",1,2018,"January 2018",null,null,"Author","Steffi Cavell-Clarke",null,null,null,null,"K",null,"Years 5 - 7","Grade 1","Grade K - 2","Understanding the properties of different materials is essential to developing basic scientific knowledge. Readers are introduced to this critical concept through accessible text that asks them to examine different everyday materials, such as glass and wood, and what they are used for. The main text includes interesting facts that enhance science curriculum topics. Eye-catching, full-color photographs and diagrams are also featured. This engaging text exposes young readers to a plethora of materials and shows them how they are used to create the objects we see and use every day.","English",24.6,19.68,"620.1'1--dc23","24 pp.",{"$f":"Table1[[#This Row],['# of Books]]*Table1[[#This Row],[QTY]]","v":0},{"$f":"Table1[[#This Row],[QTY]]*Table1[[#This Row],[School & Library Price]]","v":0}]
[null,102,null,"Science","First Science","Materials","978-1-5345-2389-0","KidHaven Publishing","Paperback Book",1,2018,"January 2018","Paperback","8.500 X 8.500","Author","Steffi Cavell-Clarke",null,null,null,null,"K",null,"Years 5 - 7","Grade 1","Grade K - 2","Understanding the properties of different materials is essential to developing basic scientific knowledge. Readers are introduced to this critical concept through accessible text that asks them to examine different everyday materials, such as glass and wood, and what they are used for. The main text includes interesting facts that enhance science curriculum topics. Eye-catching, full-color photographs and diagrams are also featured. This engaging text exposes young readers to a plethora of materials and shows them how they are used to create the objects we see and use every day.","English",8.25,7,"620.1'1--dc23","24 pp.",{"$f":"Table1[[#This Row],['# of Books]]*Table1[[#This Row],[QTY]]","v":0},{"$f":"Table1[[#This Row],[QTY]]*Table1[[#This Row],[School & Library Price]]","v":0}]
[null,102,null,"Science","First Science","Weather","978-1-5345-2393-7","KidHaven Publishing","Library Bound Book",1,2018,"January 2018","Library","8.500 X 8.500","Author","Steffi Cavell-Clarke",null,null,null,null,"F",null,"Years 5 - 7","Grade 1","Grade K - 2","One of the things we notice every day after looking out our windows is what the weather is like outside. Whether it’s snowing, it’s raining, or the sun is shining, weather affects many aspects of our daily lives. In this accessible text, young readers will get a closer look at the science behind weather and how it affects our world. The main text is supplemented with bold, full-color photographs, giving readers a better idea of what different kinds of weather look like. Informative diagrams also help early learners better understand this common science curriculum topic.","English",24.6,19.68,"551.5--dc23","24 pp.",{"$f":"Table1[[#This Row],['# of Books]]*Table1[[#This Row],[QTY]]","v":0},{"$f":"Table1[[#This Row],[QTY]]*Table1[[#This Row],[School & Library Price]]","v":0}]
[null,102,null,"Science","First Science","Weather","978-1-5345-2394-4","KidHaven Publishing","eBook",1,2018,"January 2018",null,null,"Author","Steffi Cavell-Clarke",null,null,null,null,"F",null,"Years 5 - 7","Grade 1","Grade K - 2","One of the things we notice every day after looking out our windows is what the weather is like outside. Whether it’s snowing, it’s raining, or the sun is shining, weather affects many aspects of our daily lives. In this accessible text, young readers will get a closer look at the science behind weather and how it affects our world. The main text is supplemented with bold, full-color photographs, giving readers a better idea of what different kinds of weather look like. Informative diagrams also help early learners better understand this common science curriculum topic.","English",24.6,19.68,"551.5--dc23","24 pp.",{"$f":"Table1[[#This Row],['# of Books]]*Table1[[#This Row],[QTY]]","v":0},{"$f":"Table1[[#This Row],[QTY]]*Table1[[#This Row],[School & Library Price]]","v":0}]
[null,102,null,"Science","First Science","Weather","978-1-5345-2392-0","KidHaven Publishing","Paperback Book",1,2018,"January 2018","Paperback","8.500 X 8.500","Author","Steffi Cavell-Clarke",null,null,null,null,"F",null,"Years 5 - 7","Grade 1","Grade K - 2","One of the things we notice every day after looking out our windows is what the weather is like outside. Whether it’s snowing, it’s raining, or the sun is shining, weather affects many aspects of our daily lives. In this accessible text, young readers will get a closer look at the science behind weather and how it affects our world. The main text is supplemented with bold, full-color photographs, giving readers a better idea of what different kinds of weather look like. Informative diagrams also help early learners better understand this common science curriculum topic.","English",8.25,7,"551.5--dc23","24 pp.",{"$f":"Table1[[#This Row],['# of Books]]*Table1[[#This Row],[QTY]]","v":0},{"$f":"Table1[[#This Row],[QTY]]*Table1[[#This Row],[School & Library Price]]","v":0}]
[null,102,null,"Science","First Science (Jan '17 Set)","First Science (Jan '17 Set)","978-1-5345-2129-2","KidHaven Publishing","Library Set",4,2017,null,"Library Bound","8.500 X 8.500"," "," ",null,null,null,null,null,null,"Years 5 - 7",null,"Grade K - 2","Light, sound, magnets, and pushes and pulls are common parts of an early learner’s world. They are also important first science concepts. Young readers explore these essential areas of everyday science through clear, accessible text. The age-appropriate tone encourages readers to get excited about science and its application in the world around them. Vibrant, full-color photographs are found with each turn of the page, keeping readers entertained as they learn.","English",98.4,78.72,null,"24 pp.",{"$f":"Table1[[#This Row],['# of Books]]*Table1[[#This Row],[QTY]]","v":0},{"$f":"Table1[[#This Row],[QTY]]*Table1[[#This Row],[School & Library Price]]","v":0}]
[null,102,null,"Science","First Science (Jan '17 Set)","First Science (Jan '17 Set)","978-1-5345-2130-8","KidHaven Publishing","eBook Set",4,2017,null,"eBook",null," "," ",null,null,null,null,null,null,null,null,"Grade K - 2","Light, sound, magnets, and pushes and pulls are common parts of an early learner’s world. They are also important first science concepts. Young readers explore these essential areas of everyday science through clear, accessible text. The age-appropriate tone encourages readers to get excited about science and its application in the world around them. Vibrant, full-color photographs are found with each turn of the page, keeping readers entertained as they learn.","English",98.4,78.72,null,"24 pp.",{"$f":"Table1[[#This Row],['# of Books]]*Table1[[#This Row],[QTY]]","v":0},{"$f":"Table1[[#This Row],[QTY]]*Table1[[#This Row],[School & Library Price]]","v":0}]
[null,102,null,"Science","First Science","Light","978-1-5345-2075-2","KidHaven Publishing","eBook",1,2017,null,"eBook",null,"Author","Steffi Cavell-Clarke",null,null,null,null,"F",null,null,null,"Grade K - 2","Young readers discover what light is and where it comes from as they explore this essential early science concept through age-appropriate text and images. The basic ideas behind the science of light are explained to early learners using accessible language and relatable examples. Readers are also presented with simple diagrams designed to enhance their knowledge of this elementary science curriculum topic. Colorful photographs are also included on each page, making this first science lesson a fun and memorable one!","English",24.6,19.68,null,"24 pp.",{"$f":"Table1[[#This Row],['# of Books]]*Table1[[#This Row],[QTY]]","v":0},{"$f":"Table1[[#This Row],[QTY]]*Table1[[#This Row],[School & Library Price]]","v":0}]
[null,102,null,"Science","First Science","Light","978-1-5345-2074-5","KidHaven Publishing","Library Bound Book",1,2017,null,"Library Bound","8.500 X 8.500","Author","Steffi Cavell-Clarke",2.4,0.5,null,null,"F",null,"Years 5 - 7",null,"Grade K - 2","Young readers discover what light is and where it comes from as they explore this essential early science concept through age-appropriate text and images. The basic ideas behind the science of light are explained to early learners using accessible language and relatable examples. Readers are also presented with simple diagrams designed to enhance their knowledge of this elementary science curriculum topic. Colorful photographs are also included on each page, making this first science lesson a fun and memorable one!","English",24.6,19.68,null,"24 pp.",{"$f":"Table1[[#This Row],['# of Books]]*Table1[[#This Row],[QTY]]","v":0},{"$f":"Table1[[#This Row],[QTY]]*Table1[[#This Row],[School & Library Price]]","v":0}]
[null,102,null,"Science","First Science","Magnets","978-1-5345-2078-3","KidHaven Publishing","Library Bound Book",1,2017,null,"Library Bound","8.500 X 8.500","Author","Steffi Cavell-Clarke",3.1,0.5,null,null,"F",null,"Years 5 - 7",null,"Grade K - 2","Experimenting with magnets is a fun way for early learners to explore physical science. Readers are introduced to the basic facts that explain how magnets work, enhancing their understanding of this important part of elementary science curricula. Clear, age-appropriate language takes potentially abstract ideas and presents them in a way that is easy for early learners to understand. Detailed diagrams and full-color photographs also help readers gain a deeper understanding of the amazing science behind magnets.","English",24.6,19.68,null,"24 pp.",{"$f":"Table1[[#This Row],['# of Books]]*Table1[[#This Row],[QTY]]","v":0},{"$f":"Table1[[#This Row],[QTY]]*Table1[[#This Row],[School & Library Price]]","v":0}]
[null,102,null,"Science","First Science","Magnets","978-1-5345-2079-0","KidHaven Publishing","eBook",1,2017,null,"eBook",null,"Author","Steffi Cavell-Clarke",null,null,null,null,"F",null,null,null,"Grade K - 2","Experimenting with magnets is a fun way for early learners to explore physical science. Readers are introduced to the basic facts that explain how magnets work, enhancing their understanding of this important part of elementary science curricula. Clear, age-appropriate language takes potentially abstract ideas and presents them in a way that is easy for early learners to understand. Detailed diagrams and full-color photographs also help readers gain a deeper understanding of the amazing science behind magnets.","English",24.6,19.68,null,"24 pp.",{"$f":"Table1[[#This Row],['# of Books]]*Table1[[#This Row],[QTY]]","v":0},{"$f":"Table1[[#This Row],[QTY]]*Table1[[#This Row],[School & Library Price]]","v":0}]
[null,102,null,"Science","First Science","Pushes and Pulls","978-1-5345-2082-0","KidHaven Publishing","Library Bound Book",1,2017,null,"Library Bound","8.500 X 8.500","Author","Steffi Cavell-Clarke",2.8,0.5,null,null,"F",null,"Years 5 - 7",null,"Grade K - 2","Pushing against a wall and pulling on a rope are examples of forces at work in the world around us. This age-appropriate way of discussing forces allows young readers to explore beginner physics using language and examples they can easily understand. The simple, accessible text and colorful diagrams present a basic science curriculum topic to early learners in a fresh and fun way. Vibrant photographs of young people experimenting with forces encourage aspiring scientists to keep learning more about this topic long after they turn the last page.","English",24.6,19.68,null,"24 pp.",{"$f":"Table1[[#This Row],['# of Books]]*Table1[[#This Row],[QTY]]","v":0},{"$f":"Table1[[#This Row],[QTY]]*Table1[[#This Row],[School & Library Price]]","v":0}]
[null,102,null,"Science","First Science","Pushes and Pulls","978-1-5345-2083-7","KidHaven Publishing","eBook",1,2017,null,"eBook",null,"Author","Steffi Cavell-Clarke",null,null,null,null,"F",null,null,null,"Grade K - 2","Pushing against a wall and pulling on a rope are examples of forces at work in the world around us. This age-appropriate way of discussing forces allows young readers to explore beginner physics using language and examples they can easily understand. The simple, accessible text and colorful diagrams present a basic science curriculum topic to early learners in a fresh and fun way. Vibrant photographs of young people experimenting with forces encourage aspiring scientists to keep learning more about this topic long after they turn the last page.","English",24.6,19.68,null,"24 pp.",{"$f":"Table1[[#This Row],['# of Books]]*Table1[[#This Row],[QTY]]","v":0},{"$f":"Table1[[#This Row],[QTY]]*Table1[[#This Row],[School & Library Price]]","v":0}]
[null,102,null,"Science","First Science","Sound","978-1-5345-2086-8","KidHaven Publishing","Library Bound Book",1,2017,null,"Library Bound","8.500 X 8.500","Author","Steffi Cavell-Clarke",2.5,0.5,null,null,"F",null,"Years 5 - 7",null,"Grade K - 2","The science of sound can seem abstract and complicated to early learners. However, young readers will develop a strong understanding of this important science curriculum topic through the use of accessible text and detailed images. Age-appropriate content is explained using simple language and concrete examples, helping young readers understand where sounds come from and why we can hear them. This beginner science concept is further explained through helpful diagrams. Young readers will be captivated by this engaging approach to science that features vibrant, full-color photographs on each page.","English",24.6,19.68,null,"24 pp.",{"$f":"Table1[[#This Row],['# of Books]]*Table1[[#This Row],[QTY]]","v":0},{"$f":"Table1[[#This Row],[QTY]]*Table1[[#This Row],[School & Library Price]]","v":0}]
[null,102,null,"Science","First Science","Sound","978-1-5345-2087-5","KidHaven Publishing","eBook",1,2017,null,"eBook",null,"Author","Steffi Cavell-Clarke",null,null,null,null,"F",null,null,null,"Grade K - 2","The science of sound can seem abstract and complicated to early learners. However, young readers will develop a strong understanding of this important science curriculum topic through the use of accessible text and detailed images. Age-appropriate content is explained using simple language and concrete examples, helping young readers understand where sounds come from and why we can hear them. This beginner science concept is further explained through helpful diagrams. Young readers will be captivated by this engaging approach to science that features vibrant, full-color photographs on each page.","English",24.6,19.68,null,"24 pp.",{"$f":"Table1[[#This Row],['# of Books]]*Table1[[#This Row],[QTY]]","v":0},{"$f":"Table1[[#This Row],[QTY]]*Table1[[#This Row],[School & Library Price]]","v":0}]
[null,103,null,"Social Studies","Unlocking Ancient Civilizations (Jan '17 Set)","Unlocking Ancient Civilizations (Jan '17 Set)","978-1-5345-2133-9","KidHaven Publishing","Library Set",4,2017,"January 2017","Library Bound","8.500 X 11.00"," "," ",null,null,null,null,null,null,"Years 9 - 11",null,"Grade 4 - 6","The ancient civilizations that developed in Greece, Rome, Egypt, and China still hold great value for us today. For example, if you like watching the Olympic Games, you have the ancient Greeks to thank for that major world sporting event! Readers discover this and other exciting and unique aspects of ancient civilizations that helped shape the modern world. The informative text is presented in a dynamic way, with full-color photographs, as well as fact boxes and sidebars to provide additional information about life in ancient times. Readers are sure to enjoy this engaging approach to common social studies curriculum topics.","English",109,87.2,null,"32 pp.",{"$f":"Table1[[#This Row],['# of Books]]*Table1[[#This Row],[QTY]]","v":0},{"$f":"Table1[[#This Row],[QTY]]*Table1[[#This Row],[School & Library Price]]","v":0}]
[null,103,null,"Social Studies","Unlocking Ancient Civilizations (Jan '17 Set)","Unlocking Ancient Civilizations (Jan '17 Set)","978-1-5345-2134-6","KidHaven Publishing","eBook Set",4,2017,"January 2017","eBook",null," "," ",null,null,null,null,null,null,null,null,"Grade 4 - 6","The ancient civilizations that developed in Greece, Rome, Egypt, and China still hold great value for us today. For example, if you like watching the Olympic Games, you have the ancient Greeks to thank for that major world sporting event! Readers discover this and other exciting and unique aspects of ancient civilizations that helped shape the modern world. The informative text is presented in a dynamic way, with full-color photographs, as well as fact boxes and sidebars to provide additional information about life in ancient times. Readers are sure to enjoy this engaging approach to common social studies curriculum topics.","English",109,87.2,null,"32 pp.",{"$f":"Table1[[#This Row],['# of Books]]*Table1[[#This Row],[QTY]]","v":0},{"$f":"Table1[[#This Row],[QTY]]*Table1[[#This Row],[School & Library Price]]","v":0}]
[null,103,null,"Social Studies","Unlocking Ancient Civilizations","Ancient Egypt","978-1-5345-2027-1","KidHaven Publishing","Library Bound Book",1,2017,"January 2017","Library Bound","8.500 X 11.00","Author","George Cottrell",null,null,null,null,"R",null,"Years 9 - 11",null,"Grade 4 - 6","There was more to life in ancient Egypt than building pyramids and mummifying bodies. Readers explore the complex and unique civilization that developed in ancient Egypt with a strong focus on the most exciting aspects of this common social studies curriculum topic. Engaging and informative text is presented in a fresh and fun way, featuring sidebars and fact boxes brimming with information about this important civilization. Detailed maps and colorful photographs are included to enhance readers’ experience of journeying into the past. Readers also discover the contributions made by ancient Egyptians that continue to impact our lives in the present.","English",27.25,21.8,null,"32 pp.",{"$f":"Table1[[#This Row],['# of Books]]*Table1[[#This Row],[QTY]]","v":0},{"$f":"Table1[[#This Row],[QTY]]*Table1[[#This Row],[School & Library Price]]","v":0}]
[null,103,null,"Social Studies","Unlocking Ancient Civilizations","Ancient Egypt","978-1-5345-2028-8","KidHaven Publishing","eBook",1,2017,"January 2017","eBook",null,"Author","George Cottrell",null,null,null,null,"R",null,null,null,"Grade 4 - 6","There was more to life in ancient Egypt than building pyramids and mummifying bodies. Readers explore the complex and unique civilization that developed in ancient Egypt with a strong focus on the most exciting aspects of this common social studies curriculum topic. Engaging and informative text is presented in a fresh and fun way, featuring sidebars and fact boxes brimming with information about this important civilization. Detailed maps and colorful photographs are included to enhance readers’ experience of journeying into the past. Readers also discover the contributions made by ancient Egyptians that continue to impact our lives in the present.","English",27.25,21.8,null,"32 pp.",{"$f":"Table1[[#This Row],['# of Books]]*Table1[[#This Row],[QTY]]","v":0},{"$f":"Table1[[#This Row],[QTY]]*Table1[[#This Row],[School & Library Price]]","v":0}]
[null,103,null,"Social Studies","Unlocking Ancient Civilizations","Ancient Greece","978-1-5345-2031-8","KidHaven Publishing","Library Bound Book",1,2017,"January 2017","Library Bound","8.500 X 11.00","Author","George Cottrell",null,null,null,null,"R",null,"Years 9 - 11",null,"Grade 4 - 6","Which civilization gave us the Olympic Games? It’s ancient Greece, and readers discover this and other fun facts as they explore one of the most influential ancient civilizations. As readers investigate the engaging main text, fact boxes, and sidebars, they uncover the Greek roots of theater, democracy, and philosophy, as well as many other contributions to the modern world made by the ancient Greeks. Detailed maps help readers develop their geography skills, and vivid photographs take readers into the heart of the ancient Greek world. This exciting look at a common social studies curriculum topic is sure to captivate readers.","English",27.25,21.8,null,"32 pp.",{"$f":"Table1[[#This Row],['# of Books]]*Table1[[#This Row],[QTY]]","v":0},{"$f":"Table1[[#This Row],[QTY]]*Table1[[#This Row],[School & Library Price]]","v":0}]
[null,103,null,"Social Studies","Unlocking Ancient Civilizations","Ancient Greece","978-1-5345-2032-5","KidHaven Publishing","eBook",1,2017,"January 2017","eBook",null,"Author","George Cottrell",null,null,null,null,"R",null,null,null,"Grade 4 - 6","Which civilization gave us the Olympic Games? It’s ancient Greece, and readers discover this and other fun facts as they explore one of the most influential ancient civilizations. As readers investigate the engaging main text, fact boxes, and sidebars, they uncover the Greek roots of theater, democracy, and philosophy, as well as many other contributions to the modern world made by the ancient Greeks. Detailed maps help readers develop their geography skills, and vivid photographs take readers into the heart of the ancient Greek world. This exciting look at a common social studies curriculum topic is sure to captivate readers.","English",27.25,21.8,null,"32 pp.",{"$f":"Table1[[#This Row],['# of Books]]*Table1[[#This Row],[QTY]]","v":0},{"$f":"Table1[[#This Row],[QTY]]*Table1[[#This Row],[School & Library Price]]","v":0}]
[null,103,null,"Social Studies","Unlocking Ancient Civilizations","Ancient Rome","978-1-5345-2035-6","KidHaven Publishing","Library Bound Book",1,2017,"January 2017","Library Bound","8.500 X 11.00","Author","George Cottrell",null,null,null,null,"R",null,"Years 9 - 11",null,"Grade 4 - 6","The ancient Romans developed a civilization unlike any other. Readers discover what made ancient Rome so unique and how its influence can still be felt in the world today. The exciting text and eye-catching design enhance social studies curricula in an engaging way. Readers will want to learn even more about this fascinating civilization, which is presented to them through clear main text, informative sidebars, fun fact boxes, and colorful maps. Vibrant photographs give readers a strong visual sense of what life was like in ancient Rome and what remnants of this great civilization can still be seen today.","English",27.25,21.8,null,"32 pp.",{"$f":"Table1[[#This Row],['# of Books]]*Table1[[#This Row],[QTY]]","v":0},{"$f":"Table1[[#This Row],[QTY]]*Table1[[#This Row],[School & Library Price]]","v":0}]
[null,103,null,"Social Studies","Unlocking Ancient Civilizations","Ancient Rome","978-1-5345-2036-3","KidHaven Publishing","eBook",1,2017,"January 2017","eBook",null,"Author","George Cottrell",null,null,null,null,"R",null,null,null,"Grade 4 - 6","The ancient Romans developed a civilization unlike any other. Readers discover what made ancient Rome so unique and how its influence can still be felt in the world today. The exciting text and eye-catching design enhance social studies curricula in an engaging way. Readers will want to learn even more about this fascinating civilization, which is presented to them through clear main text, informative sidebars, fun fact boxes, and colorful maps. Vibrant photographs give readers a strong visual sense of what life was like in ancient Rome and what remnants of this great civilization can still be seen today.","English",27.25,21.8,null,"32 pp.",{"$f":"Table1[[#This Row],['# of Books]]*Table1[[#This Row],[QTY]]","v":0},{"$f":"Table1[[#This Row],[QTY]]*Table1[[#This Row],[School & Library Price]]","v":0}]
[null,103,null,"Social Studies","Unlocking Ancient Civilizations","The Shang Dynasty","978-1-5345-2039-4","KidHaven Publishing","Library Bound Book",1,2017,"January 2017","Library Bound","8.500 X 11.00","Author","George Cottrell",null,null,null,null,"R",null,"Years 9 - 11",null,"Grade 4 - 6","The Shang Dynasty marked the beginning of recorded history in China. This ancient civilization has been studied by historians and archaeologists around the world, and now readers can join their ranks in uncovering fascinating facts about this dynasty. The detailed main text, fact boxes, and sidebars focus on the most exciting and extraordinary aspects of the Shang Dynasty, providing a fresh take on a familiar part of social studies curricula. Readers also develop a strong sense of geography through the use of clear maps. Full-color photographs fill each page, giving readers an up-close look at life during the Shang Dynasty.","English",27.25,21.8,null,"32 pp.",{"$f":"Table1[[#This Row],['# of Books]]*Table1[[#This Row],[QTY]]","v":0},{"$f":"Table1[[#This Row],[QTY]]*Table1[[#This Row],[School & Library Price]]","v":0}]
[null,103,null,"Social Studies","Unlocking Ancient Civilizations","The Shang Dynasty","978-1-5345-2040-0","KidHaven Publishing","eBook",1,2017,"January 2017","eBook",null,"Author","George Cottrell",null,null,null,null,"R",null,null,null,"Grade 4 - 6","The Shang Dynasty marked the beginning of recorded history in China. This ancient civilization has been studied by historians and archaeologists around the world, and now readers can join their ranks in uncovering fascinating facts about this dynasty. The detailed main text, fact boxes, and sidebars focus on the most exciting and extraordinary aspects of the Shang Dynasty, providing a fresh take on a familiar part of social studies curricula. Readers also develop a strong sense of geography through the use of clear maps. Full-color photographs fill each page, giving readers an up-close look at life during the Shang Dynasty.","English",27.25,21.8,null,"32 pp.",{"$f":"Table1[[#This Row],['# of Books]]*Table1[[#This Row],[QTY]]","v":0},{"$f":"Table1[[#This Row],[QTY]]*Table1[[#This Row],[School & Library Price]]","v":0}]
[null,104,null,"Social Studies","Cooking Your Way Through American History (Jan '17 Set)","Cooking Your Way Through American History (Jan '17 Set)","978-1-5345-2121-6","KidHaven Publishing","Library Set",6,2017,"January 2017","Library Bound","8.500 X 8.500"," "," ",null,null,null,null,null,null,"Years 7 - 10",null,"Grade 2 - 5","Readers discover a valuable link between the classroom and the kitchen as they learn about the foods made and eaten during important times in American history. Informative and engaging text presents a fresh take on popular historical periods—from early Native American history through the Civil War. Readers explore the relationship between food and culture, geography, social class, the economy, and war. Their reading experience is enhanced by recipes from each time period, as well as colorful a combination of contemporary and historical images. This hands-on approach to history helps readers bring a taste of the past to the present!","English",163.5,130.80000000000001,null,"24 pp.",{"$f":"Table1[[#This Row],['# of Books]]*Table1[[#This Row],[QTY]]","v":0},{"$f":"Table1[[#This Row],[QTY]]*Table1[[#This Row],[School & Library Price]]","v":0}]
[null,104,null,"Social Studies","Cooking Your Way Through American History (Jan '17 Set)","Cooking Your Way Through American History (Jan '17 Set)","978-1-5345-2122-3","KidHaven Publishing","eBook Set",6,2017,"January 2017","eBook",null," "," ",null,null,null,null,null,null,null,null,"Grade 2 - 5","Readers discover a valuable link between the classroom and the kitchen as they learn about the foods made and eaten during important times in American history. Informative and engaging text presents a fresh take on popular historical periods—from early Native American history through the Civil War. Readers explore the relationship between food and culture, geography, social class, the economy, and war. Their reading experience is enhanced by recipes from each time period, as well as colorful a combination of contemporary and historical images. This hands-on approach to history helps readers bring a taste of the past to the present!","English",163.5,130.80000000000001,null,"24 pp.",{"$f":"Table1[[#This Row],['# of Books]]*Table1[[#This Row],[QTY]]","v":0},{"$f":"Table1[[#This Row],[QTY]]*Table1[[#This Row],[School & Library Price]]","v":0}]
[null,104,null,"Social Studies","Cooking Your Way Through American History","Native American Recipes","978-1-5345-2094-3","KidHaven Publishing","Library Bound Book",1,2017,"January 2017","Library Bound","8.500 X 8.500","Author","Leslie Beckett",null,null,null,null,"N",null,"Years 7 - 10",null,"Grade 2 - 5","Readers gain a deeper understanding of and appreciation for Native American history and culture through learning about popular Native American foods. As they explore the engaging text, colorful images, and primary sources, they find fascinating facts about early Native American life, including what Native Americans ate and how they prepared their food. This essential part of social studies curricula is given a fun twist with the addition of simple recipes. As readers follow each detailed set of instructions, they create their own Native American dishes, making history come alive in a dynamic and delicious way.","English",27.25,21.8,null,"24 pp.",{"$f":"Table1[[#This Row],['# of Books]]*Table1[[#This Row],[QTY]]","v":0},{"$f":"Table1[[#This Row],[QTY]]*Table1[[#This Row],[School & Library Price]]","v":0}]
[null,104,null,"Social Studies","Cooking Your Way Through American History","Recipes of the American Revolution","978-1-5345-2106-3","KidHaven Publishing","Library Bound Book",1,2017,"January 2017","Library Bound","8.500 X 8.500","Author","Robert Hamilton",null,null,null,null,"N",null,"Years 7 - 10",null,"Grade 2 - 5","Beef stew and baked beans are foods eaten during the American Revolution that we still enjoy today. Readers learn how to make these and other foods from this time in American history as they explore the role food played in America’s fight for independence. Recipes are found throughout the text, encouraging readers to take a hands-on approach to learning about history. As readers explore the fact-filled text, they also discover vibrant contemporary and historical images, including primary sources. Common social studies curriculum topics become fun when readers take history out of the classroom and into the kitchen.","English",27.25,21.8,null,"24 pp.",{"$f":"Table1[[#This Row],['# of Books]]*Table1[[#This Row],[QTY]]","v":0},{"$f":"Table1[[#This Row],[QTY]]*Table1[[#This Row],[School & Library Price]]","v":0}]
[null,104,null,"Social Studies","Cooking Your Way Through American History","Recipes of the Civil War","978-1-5345-2090-5","KidHaven Publishing","Library Bound Book",1,2017,"January 2017","Library Bound","8.500 X 8.500","Author","Amy Rogers",null,null,null,null,"N",null,"Years 7 - 10",null,"Grade 2 - 5","Readers will enjoy making sweet potato pie, praline sauce, and other foods eaten during the Civil War as they learn about this important time in American history. Each recipe features step-by-step instructions presented in a clear way. Historical context is provided in the form of a captivating, fact-filled narrative about life during the Civil War. The accessible text is focused on food in this era, providing readers with a fresh perspective on a common social studies curriculum topic. Historical and contemporary images—including primary sources—add an exciting visual component to this reading experience.","English",27.25,21.8,null,"24 pp.",{"$f":"Table1[[#This Row],['# of Books]]*Table1[[#This Row],[QTY]]","v":0},{"$f":"Table1[[#This Row],[QTY]]*Table1[[#This Row],[School & Library Price]]","v":0}]
[null,104,null,"Social Studies","Cooking Your Way Through American History","Recipes of the Pilgrims","978-1-5345-2098-1","KidHaven Publishing","Library Bound Book",1,2017,"January 2017","Library Bound","8.500 X 8.500","Author","Emma Jones",null,null,null,null,"N",null,"Years 7 - 10",null,"Grade 2 - 5","After arriving in the New World, the Pilgrims learned to cook with ingredients they’d never used before. Readers learn about the foods the Pilgrims made in their new home, and they even get the chance to make some of those foods. In addition to a charming narrative that presents important facts about Pilgrims and the meals they made, readers find recipes for various dishes made by the Pilgrims. They also discover captivating images, including relevant primary sources. This unique approach to a familiar social studies curriculum topic is sure to make readers excited to experience a taste of Pilgrim life!","English",27.25,21.8,null,"24 pp.",{"$f":"Table1[[#This Row],['# of Books]]*Table1[[#This Row],[QTY]]","v":0},{"$f":"Table1[[#This Row],[QTY]]*Table1[[#This Row],[School & Library Price]]","v":0}]
[null,104,null,"Social Studies","Cooking Your Way Through American History","Recipes of the Thirteen Colonies","978-1-5345-2110-0","KidHaven Publishing","Library Bound Book",1,2017,"January 2017","Library Bound","8.500 X 8.500","Author","Joyce Jeffries",null,null,null,null,"N",null,"Years 7 - 10",null,"Grade 2 - 5","What did people living in the 13 colonies eat? Readers discover the answer to this question as they take a look inside colonial kitchens to learn about early American history. The focus on colonial food sheds a unique light on a common part of social studies curricula. As readers explore the engaging and educational text, they also take in information from colorful and detailed images, such as primary sources. In addition, readers find recipes that allow them to feel like colonial chefs. Each recipe features step-by-step instructions, creating a fresh and fun hands-on history lesson.","English",27.25,21.8,null,"24 pp.",{"$f":"Table1[[#This Row],['# of Books]]*Table1[[#This Row],[QTY]]","v":0},{"$f":"Table1[[#This Row],[QTY]]*Table1[[#This Row],[School & Library Price]]","v":0}]
[null,104,null,"Social Studies","Cooking Your Way Through American History","Recipes of the Westward Expansion","978-1-5345-2102-5","KidHaven Publishing","Library Bound Book",1,2017,"January 2017","Library Bound","8.500 X 8.500","Author","Katie Kawa",null,null,null,null,"N",null,"Years 7 - 10",null,"Grade 2 - 5","As Americans began to move west, many things changed, including the foods they ate and how they prepared their meals. An engaging narrative presents readers with fascinating facts about this crucial period of growth in the United States—with a unique emphasis on food. Detailed images, including primary sources, aid in setting the scene. Readers are then encouraged to bring a taste of this time to the present by making some of the foods they read about. These detailed recipes work with the text to create a history lesson readers won’t soon forget.","English",27.25,21.8,null,"24 pp.",{"$f":"Table1[[#This Row],['# of Books]]*Table1[[#This Row],[QTY]]","v":0},{"$f":"Table1[[#This Row],[QTY]]*Table1[[#This Row],[School & Library Price]]","v":0}]
[null,104,null,"Social Studies","Cooking Your Way Through American History","Native American Recipes","978-1-5345-2095-0","KidHaven Publishing","eBook",1,2017,"January 2017","eBook",null,"Author","Leslie Beckett",null,null,null,null,"N",null,null,null,"Grade 2 - 5","Readers gain a deeper understanding of and appreciation for Native American history and culture through learning about popular Native American foods. As they explore the engaging text, colorful images, and primary sources, they find fascinating facts about early Native American life, including what Native Americans ate and how they prepared their food. This essential part of social studies curricula is given a fun twist with the addition of simple recipes. As readers follow each detailed set of instructions, they create their own Native American dishes, making history come alive in a dynamic and delicious way.","English",27.25,21.8,null,"24 pp.",{"$f":"Table1[[#This Row],['# of Books]]*Table1[[#This Row],[QTY]]","v":0},{"$f":"Table1[[#This Row],[QTY]]*Table1[[#This Row],[School & Library Price]]","v":0}]
[null,104,null,"Social Studies","Cooking Your Way Through American History","Recipes of the American Revolution","978-1-5345-2107-0","KidHaven Publishing","eBook",1,2017,"January 2017","eBook",null,"Author","Robert Hamilton",null,null,null,null,"N",null,null,null,"Grade 2 - 5","Beef stew and baked beans are foods eaten during the American Revolution that we still enjoy today. Readers learn how to make these and other foods from this time in American history as they explore the role food played in America’s fight for independence. Recipes are found throughout the text, encouraging readers to take a hands-on approach to learning about history. As readers explore the fact-filled text, they also discover vibrant contemporary and historical images, including primary sources. Common social studies curriculum topics become fun when readers take history out of the classroom and into the kitchen.","English",27.25,21.8,null,"24 pp.",{"$f":"Table1[[#This Row],['# of Books]]*Table1[[#This Row],[QTY]]","v":0},{"$f":"Table1[[#This Row],[QTY]]*Table1[[#This Row],[School & Library Price]]","v":0}]
[null,104,null,"Social Studies","Cooking Your Way Through American History","Recipes of the Civil War","978-1-5345-2091-2","KidHaven Publishing","eBook",1,2017,"January 2017","eBook",null,"Author","Amy Rogers",null,null,null,null,"N",null,null,null,"Grade 2 - 5","Readers will enjoy making sweet potato pie, praline sauce, and other foods eaten during the Civil War as they learn about this important time in American history. Each recipe features step-by-step instructions presented in a clear way. Historical context is provided in the form of a captivating, fact-filled narrative about life during the Civil War. The accessible text is focused on food in this era, providing readers with a fresh perspective on a common social studies curriculum topic. Historical and contemporary images—including primary sources—add an exciting visual component to this reading experience.","English",27.25,21.8,null,"24 pp.",{"$f":"Table1[[#This Row],['# of Books]]*Table1[[#This Row],[QTY]]","v":0},{"$f":"Table1[[#This Row],[QTY]]*Table1[[#This Row],[School & Library Price]]","v":0}]
[null,104,null,"Social Studies","Cooking Your Way Through American History","Recipes of the Pilgrims","978-1-5345-2099-8","KidHaven Publishing","eBook",1,2017,"January 2017","eBook",null,"Author","Emma Jones",null,null,null,null,"N",null,null,null,"Grade 2 - 5","After arriving in the New World, the Pilgrims learned to cook with ingredients they’d never used before. Readers learn about the foods the Pilgrims made in their new home, and they even get the chance to make some of those foods. In addition to a charming narrative that presents important facts about Pilgrims and the meals they made, readers find recipes for various dishes made by the Pilgrims. They also discover captivating images, including relevant primary sources. This unique approach to a familiar social studies curriculum topic is sure to make readers excited to experience a taste of Pilgrim life!","English",27.25,21.8,null,"24 pp.",{"$f":"Table1[[#This Row],['# of Books]]*Table1[[#This Row],[QTY]]","v":0},{"$f":"Table1[[#This Row],[QTY]]*Table1[[#This Row],[School & Library Price]]","v":0}]
[null,104,null,"Social Studies","Cooking Your Way Through American History","Recipes of the Thirteen Colonies","978-1-5345-2111-7","KidHaven Publishing","eBook",1,2017,"January 2017","eBook",null,"Author","Joyce Jeffries",null,null,null,null,"N",null,null,null,"Grade 2 - 5","What did people living in the 13 colonies eat? Readers discover the answer to this question as they take a look inside colonial kitchens to learn about early American history. The focus on colonial food sheds a unique light on a common part of social studies curricula. As readers explore the engaging and educational text, they also take in information from colorful and detailed images, such as primary sources. In addition, readers find recipes that allow them to feel like colonial chefs. Each recipe features step-by-step instructions, creating a fresh and fun hands-on history lesson.","English",27.25,21.8,null,"24 pp.",{"$f":"Table1[[#This Row],['# of Books]]*Table1[[#This Row],[QTY]]","v":0},{"$f":"Table1[[#This Row],[QTY]]*Table1[[#This Row],[School & Library Price]]","v":0}]
[null,104,null,"Social Studies","Cooking Your Way Through American History","Recipes of the Westward Expansion","978-1-5345-2103-2","KidHaven Publishing","eBook",1,2017,"January 2017","eBook",null,"Author","Katie Kawa",null,null,null,null,"N",null,null,null,"Grade 2 - 5","As Americans began to move west, many things changed, including the foods they ate and how they prepared their meals. An engaging narrative presents readers with fascinating facts about this crucial period of growth in the United States—with a unique emphasis on food. Detailed images, including primary sources, aid in setting the scene. Readers are then encouraged to bring a taste of this time to the present by making some of the foods they read about. These detailed recipes work with the text to create a history lesson readers won’t soon forget.","English",27.25,21.8,null,"24 pp.",{"$f":"Table1[[#This Row],['# of Books]]*Table1[[#This Row],[QTY]]","v":0},{"$f":"Table1[[#This Row],[QTY]]*Table1[[#This Row],[School & Library Price]]","v":0}]
[null,105,null,"Social Studies","Jobs in Our Community (Jan '17 Set)","Jobs in Our Community (Jan '17 Set)","978-1-5345-2161-2","KidHaven Publishing","Library Set",6,2017,"January 2017","Library Bound","7.625 X 7.125"," "," ",null,null,null,null,null,null,"Years 10 - 12",null,"Grade 5 - 7","How do veterinarians help keep our pets healthy? How do police officers and firefighters help us stay safe? Young readers find the answers to these and many other questions as they discover the important work done by community helpers. They are given an accessible look at what these important people do at work, creating a strong foundation of knowledge about popular careers. The clear text is closely matched to colorful photographs to strengthen reading comprehension skills while also keeping readers entertained.","English",147.6,118.08,null,"24 pp.",{"$f":"Table1[[#This Row],['# of Books]]*Table1[[#This Row],[QTY]]","v":0},{"$f":"Table1[[#This Row],[QTY]]*Table1[[#This Row],[School & Library Price]]","v":0}]
[null,105,null,"Social Studies","Jobs in Our Community (Jan '17 Set)","Jobs in Our Community (Jan '17 Set)","978-1-5345-2162-9","KidHaven Publishing","eBook Set",6,2017,"January 2017","eBook",null," "," ",null,null,null,null,null,null,null,null,"Grade 0 - 2","How do veterinarians help keep our pets healthy? How do police officers and firefighters help us stay safe? Young readers find the answers to these and many other questions as they discover the important work done by community helpers. They are given an accessible look at what these important people do at work, creating a strong foundation of knowledge about popular careers. The clear text is closely matched to colorful photographs to strengthen reading comprehension skills while also keeping readers entertained.","English",147.6,118.08,null,"24 pp.",{"$f":"Table1[[#This Row],['# of Books]]*Table1[[#This Row],[QTY]]","v":0},{"$f":"Table1[[#This Row],[QTY]]*Table1[[#This Row],[School & Library Price]]","v":0}]
[null,105,null,"Social Studies","Jobs in Our Community","Doctors on the Job","978-1-5345-2139-1","KidHaven Publishing","Library Bound Book",1,2017,"January 2017","Library Bound","7.625 X 7.125","Author","Lorraine Harrison",null,null,null,null,"E",null,"Years 5 - 7",null,"Grade K - 2","Doctors have an important job to do—they help us stay healthy! Young readers discover the different things these community helpers do through simple text and colorful photographs of doctors at work. The close correlation between the pictures and text allows young readers to develop their reading comprehension skills while learning about a popular career. Vocabulary development is also aided by a detailed picture glossary. Readers will enjoy learning fun facts about this cool career, enhancing their understanding of a common elementary curriculum topic.","English",24.6,19.68,null,"24 pp.",{"$f":"Table1[[#This Row],['# of Books]]*Table1[[#This Row],[QTY]]","v":0},{"$f":"Table1[[#This Row],[QTY]]*Table1[[#This Row],[School & Library Price]]","v":0}]
[null,105,null,"Social Studies","Jobs in Our Community","Doctors on the Job","978-1-5345-2140-7","KidHaven Publishing","eBook",1,2017,"January 2017","eBook",null,"Author","Lorraine Harrison",null,null,null,null,"E",null,null,null,"Grade K - 2","Doctors have an important job to do—they help us stay healthy! Young readers discover the different things these community helpers do through simple text and colorful photographs of doctors at work. The close correlation between the pictures and text allows young readers to develop their reading comprehension skills while learning about a popular career. Vocabulary development is also aided by a detailed picture glossary. Readers will enjoy learning fun facts about this cool career, enhancing their understanding of a common elementary curriculum topic.","English",24.6,19.68,null,"24 pp.",{"$f":"Table1[[#This Row],['# of Books]]*Table1[[#This Row],[QTY]]","v":0},{"$f":"Table1[[#This Row],[QTY]]*Table1[[#This Row],[School & Library Price]]","v":0}]
[null,105,null,"Social Studies","Jobs in Our Community","Firefighters on the Job","978-1-5345-2143-8","KidHaven Publishing","Library Bound Book",1,2017,"January 2017","Library Bound","7.625 X 7.125","Author","Lee Fitzgerald",null,null,null,null,"E",null,"Years 5 - 7",null,"Grade K - 2","How do firefighters help us stay safe? Readers explore the exciting world of firefighters, learning fun fact along the way about the brave men and women who’ve chosen this career. Vibrant photographs of firefighters in action are closely aligned to the age-appropriate text. This close relationship helps young readers develop strong comprehension skills. In addition, a colorful picture glossary is included to help early learners build their vocabulary. As readers learn about firefighters, they gain a deeper understanding of the role of a community helper, which is an essential part of curricula for early learners.","English",24.6,19.68,null,"24 pp.",{"$f":"Table1[[#This Row],['# of Books]]*Table1[[#This Row],[QTY]]","v":0},{"$f":"Table1[[#This Row],[QTY]]*Table1[[#This Row],[School & Library Price]]","v":0}]
[null,105,null,"Social Studies","Jobs in Our Community","Firefighters on the Job","978-1-5345-2144-5","KidHaven Publishing","eBook",1,2017,"January 2017","eBook",null,"Author","Lee Fitzgerald",null,null,null,null,"E",null,null,null,"Grade K - 2","How do firefighters help us stay safe? Readers explore the exciting world of firefighters, learning fun fact along the way about the brave men and women who’ve chosen this career. Vibrant photographs of firefighters in action are closely aligned to the age-appropriate text. This close relationship helps young readers develop strong comprehension skills. In addition, a colorful picture glossary is included to help early learners build their vocabulary. As readers learn about firefighters, they gain a deeper understanding of the role of a community helper, which is an essential part of curricula for early learners.","English",24.6,19.68,null,"24 pp.",{"$f":"Table1[[#This Row],['# of Books]]*Table1[[#This Row],[QTY]]","v":0},{"$f":"Table1[[#This Row],[QTY]]*Table1[[#This Row],[School & Library Price]]","v":0}]
[null,105,null,"Social Studies","Jobs in Our Community","Librarians on the Job","978-1-5345-2159-9","KidHaven Publishing","Library Bound Book",1,2017,"January 2017","Library Bound","7.625 X 7.125","Author","Mary Austen",null,null,null,null,"E",null,"Years 5 - 7",null,"Grade K - 2","A library is a popular part of a community, and the people who work there are important community helpers. Young readers learn about the many ways librarians help people through clear, age-appropriate text. The facts they learn about librarians and libraries enhance their understanding of common curriculum topics about careers, community helpers, and places in the community. These facts are presented alongside full-color photographs of librarians at work. The close relationship between the pictures and text helps foster strong reading comprehension skills, and a picture glossary aids in vocabulary development.","English",24.6,19.68,null,"24 pp.",{"$f":"Table1[[#This Row],['# of Books]]*Table1[[#This Row],[QTY]]","v":0},{"$f":"Table1[[#This Row],[QTY]]*Table1[[#This Row],[School & Library Price]]","v":0}]
[null,105,null,"Social Studies","Jobs in Our Community","Librarians on the Job","978-1-5345-2158-2","KidHaven Publishing","eBook",1,2017,"January 2017","eBook",null,"Author","Mary Austen",null,null,null,null,"E",null,null,null,"Grade K - 2","A library is a popular part of a community, and the people who work there are important community helpers. Young readers learn about the many ways librarians help people through clear, age-appropriate text. The facts they learn about librarians and libraries enhance their understanding of common curriculum topics about careers, community helpers, and places in the community. These facts are presented alongside full-color photographs of librarians at work. The close relationship between the pictures and text helps foster strong reading comprehension skills, and a picture glossary aids in vocabulary development.","English",24.6,19.68,null,"24 pp.",{"$f":"Table1[[#This Row],['# of Books]]*Table1[[#This Row],[QTY]]","v":0},{"$f":"Table1[[#This Row],[QTY]]*Table1[[#This Row],[School & Library Price]]","v":0}]
[null,105,null,"Social Studies","Jobs in Our Community","Police Officers on the Job","978-1-5345-2155-1","KidHaven Publishing","Library Bound Book",1,2017,"January 2017","Library Bound","7.625 X 7.125","Author","Kate Rogers",null,null,null,null,"E",null,"Years 5 - 7",null,"Grade K - 2","Police officers are brave community helpers. Young readers explore the basics of a police officer’s job through simple, clear text that supports common curriculum topics. Readers also discover vibrant photographs of these helpful men and women on the job. These photographs closely relate to the corresponding text to help early learners strengthen their reading comprehension skills. Readers can also use the helpful picture glossary to understand unfamiliar terms and build their vocabulary. This exciting career is sure to interest many young readers!","English",24.6,19.68,null,"24 pp.",{"$f":"Table1[[#This Row],['# of Books]]*Table1[[#This Row],[QTY]]","v":0},{"$f":"Table1[[#This Row],[QTY]]*Table1[[#This Row],[School & Library Price]]","v":0}]
[null,105,null,"Social Studies","Jobs in Our Community","Police Officers on the Job","978-1-5345-2156-8","KidHaven Publishing","eBook",1,2017,"January 2017","eBook",null,"Author","Kate Rogers",null,null,null,null,"E",null,null,null,"Grade K - 2","Police officers are brave community helpers. Young readers explore the basics of a police officer’s job through simple, clear text that supports common curriculum topics. Readers also discover vibrant photographs of these helpful men and women on the job. These photographs closely relate to the corresponding text to help early learners strengthen their reading comprehension skills. Readers can also use the helpful picture glossary to understand unfamiliar terms and build their vocabulary. This exciting career is sure to interest many young readers!","English",24.6,19.68,null,"24 pp.",{"$f":"Table1[[#This Row],['# of Books]]*Table1[[#This Row],[QTY]]","v":0},{"$f":"Table1[[#This Row],[QTY]]*Table1[[#This Row],[School & Library Price]]","v":0}]
[null,105,null,"Social Studies","Jobs in Our Community","Teachers on the Job","978-1-5345-2147-6","KidHaven Publishing","Library Bound Book",1,2017,"January 2017","Library Bound","7.625 X 7.125","Author","David Anthony",null,null,null,null,"E",null,"Years 5 - 7",null,"Grade K - 2","Teachers work hard to help their students learn. Young readers learn fun facts about these familiar community helpers and the work they do. The simple, clear text provides valuable information about this popular career and supports common curriculum topics about community helpers. Each page of text is carefully paired with a vibrant photograph to help early learners build their reading comprehension skills. Young readers are also introduced to new vocabulary words through a detailed picture glossary of unfamiliar words. Readers will have a new appreciation for what teachers do after seeing a day at school from a teacher’s perspective!","English",24.6,19.68,null,"24 pp.",{"$f":"Table1[[#This Row],['# of Books]]*Table1[[#This Row],[QTY]]","v":0},{"$f":"Table1[[#This Row],[QTY]]*Table1[[#This Row],[School & Library Price]]","v":0}]
[null,105,null,"Social Studies","Jobs in Our Community","Teachers on the Job","978-1-5345-2148-3","KidHaven Publishing","eBook",1,2017,"January 2017","eBook",null,"Author","David Anthony",null,null,null,null,"E",null,null,null,"Grade K - 2","Teachers work hard to help their students learn. Young readers learn fun facts about these familiar community helpers and the work they do. The simple, clear text provides valuable information about this popular career and supports common curriculum topics about community helpers. Each page of text is carefully paired with a vibrant photograph to help early learners build their reading comprehension skills. Young readers are also introduced to new vocabulary words through a detailed picture glossary of unfamiliar words. Readers will have a new appreciation for what teachers do after seeing a day at school from a teacher’s perspective!","English",24.6,19.68,null,"24 pp.",{"$f":"Table1[[#This Row],['# of Books]]*Table1[[#This Row],[QTY]]","v":0},{"$f":"Table1[[#This Row],[QTY]]*Table1[[#This Row],[School & Library Price]]","v":0}]
[null,105,null,"Social Studies","Jobs in Our Community","Veterinarians on the Job","978-1-5345-2151-3","KidHaven Publishing","Library Bound Book",1,2017,"January 2017","Library Bound","7.625 X 7.125","Author","Anne Forest",null,null,null,null,"E",null,"Years 5 - 7",null,"Grade K - 2","People see doctors when they don’t feel well, but who takes care of animals when they’re sick or hurt? Veterinarians help animals stay healthy, and readers discover fun facts about this cool career with each turn of the page. This exciting information supports common curriculum topics for early learners, and it encourages young readers to think about careers. The accessible text and detailed picture glossary help readers build their vocabulary. Reading comprehension skills are also supported through the close relationship between the photographs and text.","English",24.6,19.68,null,"24 pp.",{"$f":"Table1[[#This Row],['# of Books]]*Table1[[#This Row],[QTY]]","v":0},{"$f":"Table1[[#This Row],[QTY]]*Table1[[#This Row],[School & Library Price]]","v":0}]
[null,105,null,"Social Studies","Jobs in Our Community","Veterinarians on the Job","978-1-5345-2152-0","KidHaven Publishing","eBook",1,2017,"January 2017","eBook",null,"Author","Anne Forest",null,null,null,null,"E",null,null,null,"Grade K - 2","People see doctors when they don’t feel well, but who takes care of animals when they’re sick or hurt? Veterinarians help animals stay healthy, and readers discover fun facts about this cool career with each turn of the page. This exciting information supports common curriculum topics for early learners, and it encourages young readers to think about careers. The accessible text and detailed picture glossary help readers build their vocabulary. Reading comprehension skills are also supported through the close relationship between the photographs and text.","English",24.6,19.68,null,"24 pp.",{"$f":"Table1[[#This Row],['# of Books]]*Table1[[#This Row],[QTY]]","v":0},{"$f":"Table1[[#This Row],[QTY]]*Table1[[#This Row],[School & Library Price]]","v":0}]
[null,106,null,"Biography","Innovators","Chad Hurley, Steve Chen, Jawed Karim: YouTube Creators","978-0-7377-5480-3","KidHaven Publishing","eBook",1,2009,null,"eBook",null,"Author","Katy Duffield",null,null,null,null,null,null,"Years 9 - 13",null,"Grade 4 - 8","Explores the life and achievements of Chad Hurley, Steve Chen, and Jawed Karim, the three young men responsible for the creation of YouTube, which provides users with a fast, simple way to upload and share videos they have created. The short biographies in this series portray current leaders in a range of fields, including science, technology, entertainment and business. These creative role models offer meaningful lessons in the real-world importance of imagination and persistence.","English",38.06,38.06,"384.3","48 pp.",{"$f":"Table1[[#This Row],['# of Books]]*Table1[[#This Row],[QTY]]","v":0},{"$f":"Table1[[#This Row],[QTY]]*Table1[[#This Row],[School & Library Price]]","v":0}]
[null,106,null,"Biography","Innovators","Chad Hurley, Steve Chen, Jawed Karim: YouTube Creators","978-0-7377-4270-1","KidHaven Publishing","Library Bound Book",1,2009,null,"Library Bound","6.000 X 9.000","Author","Katy Duffield",null,null,null,null,null,null,"Years 9 - 13",null,"Grade 4 - 8",null,"English",34.6,27.680000000000003,"006","48 pp.",{"$f":"Table1[[#This Row],['# of Books]]*Table1[[#This Row],[QTY]]","v":0},{"$f":"Table1[[#This Row],[QTY]]*Table1[[#This Row],[School & Library Price]]","v":0}]
[null,106,null,"Biography","Innovators","Doris Taylor: Growing a Beating Heart","978-0-7377-4565-8","KidHaven Publishing","Library Bound Book",1,2009,null,"Library Bound","6.000 X 9.000","Author","Lori Mortensen",null,null,null,null,null,null,"Years 9 - 13",null,"Grade 4 - 8",null,"English",34.6,27.680000000000003,"616","48 pp.",{"$f":"Table1[[#This Row],['# of Books]]*Table1[[#This Row],[QTY]]","v":0},{"$f":"Table1[[#This Row],[QTY]]*Table1[[#This Row],[School & Library Price]]","v":0}]
[null,106,null,"Biography","Innovators","Helen Greiner: Cofounder of iRobot Corporation","978-0-7377-4404-0","KidHaven Publishing","Library Bound Book",1,2009,null,"Library Bound","6.000 X 9.000","Author","Mary Schulte",null,null,null,null,null,null,"Years 9 - 13",null,"Grade 4 - 8",null,"English",34.6,27.680000000000003,"629","48 pp.",{"$f":"Table1[[#This Row],['# of Books]]*Table1[[#This Row],[QTY]]","v":0},{"$f":"Table1[[#This Row],[QTY]]*Table1[[#This Row],[School & Library Price]]","v":0}]
[null,106,null,"Biography","Innovators","John Lasseter: Pixar Animator","978-0-7377-4080-6","KidHaven Publishing","Library Bound Book",1,2009,null,"Library Bound","6.000 X 9.000","Author","Adam Woog",null,null,null,null,null,null,"Years 9 - 13",null,"Grade 4 - 8",null,"English",34.6,27.680000000000003,"741","48 pp.",{"$f":"Table1[[#This Row],['# of Books]]*Table1[[#This Row],[QTY]]","v":0},{"$f":"Table1[[#This Row],[QTY]]*Table1[[#This Row],[School & Library Price]]","v":0}]
[null,106,null,"Biography","Innovators","Jonathan Ive: Designer of the iPod","978-0-7377-5481-0","KidHaven Publishing","eBook",1,2007,null,"eBook",null,"Author","Kris Hirschmann",null,null,null,null,null,null,"Years 9 - 13",null,"Grade 4 - 8","Explores the life and achievements of Jonathan Ive, Covers his childhood, education, and career with Apple Computer, Inc., and his success designing the iPod. The short biographies in this series portray current leaders in a range of fields, including science, technology, entertainment and business. These creative role models offer meaningful lessons in the real-world importance of imagination and persistence.","English",38.06,38.06,"745.2092","48 pp.",{"$f":"Table1[[#This Row],['# of Books]]*Table1[[#This Row],[QTY]]","v":0},{"$f":"Table1[[#This Row],[QTY]]*Table1[[#This Row],[School & Library Price]]","v":0}]
[null,106,null,"Biography","Innovators","Ken Kutaragi: PlayStation Developer","978-0-7377-5482-7","KidHaven Publishing","eBook",1,2008,null,"eBook",null,"Author","Katy Duffield",null,null,null,null,null,null,"Years 9 - 13",null,"Grade 4 - 8","Details the life and career of Ken Kutaragi, including his early years at Sony in the 1980s, his decision to develop the gaming console PlayStation, and the future of the gaming console. The short biographies in this series portray current leaders in a range of fields, including science, technology, entertainment and business. These creative role models offer meaningful lessons in the real-world importance of imagination and persistence.","English",38.06,38.06,"621.39092","48 pp.",{"$f":"Table1[[#This Row],['# of Books]]*Table1[[#This Row],[QTY]]","v":0},{"$f":"Table1[[#This Row],[QTY]]*Table1[[#This Row],[School & Library Price]]","v":0}]
[null,106,null,"Biography","Innovators","Larry Page and Sergey Brin: The Google Guys","978-0-7377-5483-4","KidHaven Publishing","eBook",1,2008,null,"eBook",null,"Author","Gail B. Stewart",null,null,null,null,null,null,"Years 9 - 13",null,"Grade 4 - 8","Details the life and careers of Sergey Brin and Larry Page, founders of Google, an internet search site created in the late 1990s. Covers the power of creativity, friendship, and hard work they achieved to enable people to have easy access to all information on the Web. The short biographies in this series portray current leaders in a range of fields, including science, technology, entertainment and business. These creative role models offer meaningful lessons in the real-world importance of imagination and persistence.","English",38.06,38.06,"005.1092","48 pp.",{"$f":"Table1[[#This Row],['# of Books]]*Table1[[#This Row],[QTY]]","v":0},{"$f":"Table1[[#This Row],[QTY]]*Table1[[#This Row],[School & Library Price]]","v":0}]
[null,106,null,"Biography","Innovators","Mark Zuckerberg: Facebook Creator","978-0-7377-5484-1","KidHaven Publishing","eBook",1,2009,null,"eBook",null,"Author","Adam Wong",null,null,null,null,null,null,"Years 9 - 13",null,"Grade 4 - 8","Explores the life and achievements of Mark Zuckerberg, the creator of an internet website called Facebook, a \"social-networking\" tool. The short biographies in this series portray current leaders in a range of fields, including science, technology, entertainment and business. These creative role models offer meaningful lessons in the real-world importance of imagination and persistence.","English",38.06,38.06,"006.7","48 pp.",{"$f":"Table1[[#This Row],['# of Books]]*Table1[[#This Row],[QTY]]","v":0},{"$f":"Table1[[#This Row],[QTY]]*Table1[[#This Row],[School & Library Price]]","v":0}]
[null,106,null,"Biography","Innovators","Miles Davis: Legendary Jazz Musician","978-0-7377-6072-9","KidHaven Publishing","eBook",1,2010,null,"eBook",null,"Author","Rachel Lynette",null,null,null,null,null,null,"Years 9 - 13",null,"Grade 4 - 8",null,"English",38.06,38.06,"788.9","48 pp.",{"$f":"Table1[[#This Row],['# of Books]]*Table1[[#This Row],[QTY]]","v":0},{"$f":"Table1[[#This Row],[QTY]]*Table1[[#This Row],[School & Library Price]]","v":0}]
[null,106,null,"Biography","Innovators","Miles Davis: Legendary Jazz Musician","978-0-7377-5034-8","KidHaven Publishing","Library Bound Book",1,2010,null,"Library Bound","6.000 X 9.000","Author","Rachel Lynette",null,null,null,null,null,null,"Years 9 - 13",null,"Grade 4 - 8",null,"English",34.6,27.680000000000003,"780","48 pp.",{"$f":"Table1[[#This Row],['# of Books]]*Table1[[#This Row],[QTY]]","v":0},{"$f":"Table1[[#This Row],[QTY]]*Table1[[#This Row],[School & Library Price]]","v":0}]
[null,106,null,"Biography","Innovators","Pierre M. Omidyar: Creator of Ebay","978-0-7377-3864-3","KidHaven Publishing","Library Bound Book",1,2008,null,"Library Bound","6.000 X 9.000","Author","Adam Woog",null,null,null,null,null,null,"Years 9 - 13",null,"Grade 4 - 8",null,"English",34.6,27.680000000000003,"381","48 pp.",{"$f":"Table1[[#This Row],['# of Books]]*Table1[[#This Row],[QTY]]","v":0},{"$f":"Table1[[#This Row],[QTY]]*Table1[[#This Row],[School & Library Price]]","v":0}]
[null,106,null,"Biography","Innovators","Richard Branson: Virgin Megabrand Mogul","978-0-7377-6026-2","KidHaven Publishing","eBook",1,2011,null,"eBook",null,"Author","Shirley Raye Redmond",null,null,null,null,null,null,"Years 9 - 13",null,"Grade 4 - 8",null,"English",38.06,38.06,"338.04092","48 pp.",{"$f":"Table1[[#This Row],['# of Books]]*Table1[[#This Row],[QTY]]","v":0},{"$f":"Table1[[#This Row],[QTY]]*Table1[[#This Row],[School & Library Price]]","v":0}]
[null,106,null,"Biography","Innovators","Richard Branson: Virgin Megabrand Mogul","978-0-7377-5536-7","KidHaven Publishing","Library Bound Book",1,2011,null,"Library Bound","6.000 X 9.000","Author","Shirley Raye Redmond",null,null,null,null,null,null,"Years 9 - 13",null,"Grade 4 - 8",null,"English",34.6,27.680000000000003,"338","48 pp.",{"$f":"Table1[[#This Row],['# of Books]]*Table1[[#This Row],[QTY]]","v":0},{"$f":"Table1[[#This Row],[QTY]]*Table1[[#This Row],[School & Library Price]]","v":0}]
[null,106,null,"Biography","Innovators","Satoshi Tajiri: Pokemon Creator","978-0-7377-5485-8","KidHaven Publishing","eBook",1,2009,null,"eBook",null,"Author","Lori Mortensen",null,null,null,null,null,null,"Years 9 - 13",null,"Grade 4 - 8","This title examines the life of electronic game designer, Satoshi Tajiri, who created Pokémon, one of the most popular computer games ever produced. Upper elementary and middle school students will enjoy reading about the people who are responsible for marvels like the iPod, Google, \"Toy Story\", Nintendo's Mario and much more. The short biographies portray current leaders in a range of fields, including science, technology, entertainment and business. These creative role models offer meaningful lessons in the real-world importance of imagination and persistence.","English",38.06,38.06,"338.7","48 pp.",{"$f":"Table1[[#This Row],['# of Books]]*Table1[[#This Row],[QTY]]","v":0},{"$f":"Table1[[#This Row],[QTY]]*Table1[[#This Row],[School & Library Price]]","v":0}]
[null,106,null,"Biography","Innovators","Shigeru Miyamoto: Nintendo Game Designer","978-0-7377-5486-5","KidHaven Publishing","eBook",1,2006,null,"eBook",null,"Author","Jan Burns",null,null,null,null,null,null,"Years 9 - 13",null,"Grade 4 - 8","This title examines the life of video game designer, Shigeru Miyamoto, who developed successful games like Donkey Kong and Nintendo. Upper elementary and middle school students will enjoy reading about the people who are responsible for marvels like the iPod, Google, \"Toy Story\", Nintendo's Mario and much more. The short biographies portray current leaders in a range of fields, including science, technology, entertainment and business. These creative role models offer meaningful lessons in the real-world importance of imagination and persistence.","English",38.06,38.06,"794.8","48 pp.",{"$f":"Table1[[#This Row],['# of Books]]*Table1[[#This Row],[QTY]]","v":0},{"$f":"Table1[[#This Row],[QTY]]*Table1[[#This Row],[School & Library Price]]","v":0}]
[null,106,null,"Biography","Innovators","Stephanie Kwolek: Creator of Kevlar","978-0-7377-4040-0","KidHaven Publishing","Library Bound Book",1,2009,null,"Library Bound","6.000 X 9.000","Author","Gail B. Stewart",null,null,null,null,null,null,"Years 9 - 13",null,"Grade 4 - 8",null,"English",34.6,27.680000000000003,"973","48 pp.",{"$f":"Table1[[#This Row],['# of Books]]*Table1[[#This Row],[QTY]]","v":0},{"$f":"Table1[[#This Row],[QTY]]*Table1[[#This Row],[School & Library Price]]","v":0}]
[null,106,null,"Biography","Innovators","Stephenie Meyer: Twilight Saga Author","978-0-7377-5066-9","KidHaven Publishing","Library Bound Book",1,2010,null,"Library Bound","6.000 X 9.000","Author","Barbara Sheen",null,null,null,null,null,null,"Years 9 - 13",null,"Grade 4 - 8",null,"English",34.6,27.680000000000003,"813","48 pp.",{"$f":"Table1[[#This Row],['# of Books]]*Table1[[#This Row],[QTY]]","v":0},{"$f":"Table1[[#This Row],[QTY]]*Table1[[#This Row],[School & Library Price]]","v":0}]
[null,106,null,"Biography","Innovators","The Beatles: British Pop Sensation","978-0-7377-6095-8","KidHaven Publishing","eBook",1,2011,null,"eBook",null,"Author","Stuart A. Kallen",null,null,null,null,null,null,"Years 9 - 13",null,"Grade 4 - 8",null,"English",38.06,38.06,"782.421660","48 pp.",{"$f":"Table1[[#This Row],['# of Books]]*Table1[[#This Row],[QTY]]","v":0},{"$f":"Table1[[#This Row],[QTY]]*Table1[[#This Row],[School & Library Price]]","v":0}]
[null,106,null,"Biography","Innovators","The Beatles: British Pop Sensation","978-0-7377-5868-9","KidHaven Publishing","Library Bound Book",1,2011,null,"Library Bound","6.000 X 9.000","Author","Stuart A. Kallen",null,null,null,null,null,null,"Years 9 - 13",null,"Grade 4 - 8",null,"English",34.6,27.680000000000003,"920","48 pp.",{"$f":"Table1[[#This Row],['# of Books]]*Table1[[#This Row],[QTY]]","v":0},{"$f":"Table1[[#This Row],[QTY]]*Table1[[#This Row],[School & Library Price]]","v":0}]
[null,107,null,"Biography","Young Heroes","Ana Dodson: Advocate for Peruvian Orphans","978-0-7377-3865-0","KidHaven Publishing","Library Bound Book",1,2008,null,"Library Bound","6.000 X 9.000","Author","Rachel Lynette",null,null,null,null,null,null,"Years 9 - 13",null,"Grade 4 - 8",null,"English",35.700000000000003,28.560000000000002,"362","48 pp.",{"$f":"Table1[[#This Row],['# of Books]]*Table1[[#This Row],[QTY]]","v":0},{"$f":"Table1[[#This Row],[QTY]]*Table1[[#This Row],[School & Library Price]]","v":0}]
[null,107,null,"Biography","Young Heroes","Brittany and Robbie Bergquist: Cell Phones for Soldiers","978-0-7377-3866-7","KidHaven Publishing","Library Bound Book",1,2008,null,"Library Bound","6.000 X 9.000","Author","Leanne K. Currie-McGhee",null,null,null,null,null,null,"Years 9 - 13",null,"Grade 4 - 8",null,"English",35.700000000000003,28.560000000000002,"355","48 pp.",{"$f":"Table1[[#This Row],['# of Books]]*Table1[[#This Row],[QTY]]","v":0},{"$f":"Table1[[#This Row],[QTY]]*Table1[[#This Row],[School & Library Price]]","v":0}]
[null,107,null,"Biography","Young Heroes","Given Kachepa: Advocate for Human Traffickiing Victims","978-0-7377-3668-7","KidHaven Publishing","Library Bound Book",1,2007,null,"Library Bound","6.000 X 9.000","Author","Q. L. Pearce",null,null,null,null,null,null,"Years 9 - 13",null,"Grade 4 - 8",null,"English",35.700000000000003,28.560000000000002,"B","48 pp.",{"$f":"Table1[[#This Row],['# of Books]]*Table1[[#This Row],[QTY]]","v":0},{"$f":"Table1[[#This Row],[QTY]]*Table1[[#This Row],[School & Library Price]]","v":0}]
[null,107,null,"Biography","Young Heroes","Hannah Taylor: Helping The Homeless","978-0-7377-4051-6","KidHaven Publishing","Library Bound Book",1,2008,null,"Library Bound","6.000 X 9.000","Author","Q. L. Pearce",null,null,null,null,null,null,"Years 9 - 13",null,"Grade 4 - 8",null,"English",35.700000000000003,28.560000000000002,"362","48 pp.",{"$f":"Table1[[#This Row],['# of Books]]*Table1[[#This Row],[QTY]]","v":0},{"$f":"Table1[[#This Row],[QTY]]*Table1[[#This Row],[School & Library Price]]","v":0}]
[null,107,null,"Biography","Young Heroes","Jhalak Man Tamang: Slave Labor Whistleblower","978-0-7377-3616-8","KidHaven Publishing","Library Bound Book",1,2007,null,"Library Bound","6.000 X 9.000","Author","Raymond H. Miller",null,null,null,null,null,null,"Years 9 - 13",null,"Grade 4 - 8",null,"English",35.700000000000003,28.560000000000002,"B","48 pp.",{"$f":"Table1[[#This Row],['# of Books]]*Table1[[#This Row],[QTY]]","v":0},{"$f":"Table1[[#This Row],[QTY]]*Table1[[#This Row],[School & Library Price]]","v":0}]
[null,107,null,"Biography","Young Heroes","Julia Butterfly Hill: Saving the Ancient Redwoods","978-0-7377-3628-1","KidHaven Publishing","Library Bound Book",1,2007,null,"Library Bound","6.000 X 9.000","Author","Rachel Lynette",null,null,null,null,null,null,"Years 9 - 13",null,"Grade 4 - 8",null,"English",35.700000000000003,28.560000000000002,"B","48 pp.",{"$f":"Table1[[#This Row],['# of Books]]*Table1[[#This Row],[QTY]]","v":0},{"$f":"Table1[[#This Row],[QTY]]*Table1[[#This Row],[School & Library Price]]","v":0}]
[null,107,null,"Biography","Young Heroes","Jyotirmayee Mohapatra: Advocate for India's Young Women","978-0-7377-3611-3","KidHaven Publishing","Library Bound Book",1,2007,null,"Library Bound","6.000 X 9.000","Author","Adam Woog",null,null,null,null,null,null,"Years 9 - 13",null,"Grade 4 - 8","Growing up in her village in India, Jyotirmayee Mohapatra witnessed the serious problems that children, especially girls, face there. As a teen, she organized the Meena Club to draw attention to and attack these problems. India now boasts over 300 Meena Clubs, and in 2004 Jyoti received the prestigious Youth Action Network award.","English",35.700000000000003,28.560000000000002,"B","48 pp.",{"$f":"Table1[[#This Row],['# of Books]]*Table1[[#This Row],[QTY]]","v":0},{"$f":"Table1[[#This Row],[QTY]]*Table1[[#This Row],[School & Library Price]]","v":0}]
[null,107,null,"Biography","Young Heroes","Matt Dalio: China Care Founder","978-0-7377-3670-0","KidHaven Publishing","Library Bound Book",1,2007,null,"Library Bound","6.000 X 9.000","Author","Michael V. Uschan",null,null,null,null,null,null,"Years 9 - 13",null,"Grade 4 - 8",null,"English",35.700000000000003,28.560000000000002,"B","48 pp.",{"$f":"Table1[[#This Row],['# of Books]]*Table1[[#This Row],[QTY]]","v":0},{"$f":"Table1[[#This Row],[QTY]]*Table1[[#This Row],[School & Library Price]]","v":0}]
[null,107,null,"Biography","Young Heroes","Mattie Stepanek: Inspirational Poet","978-0-7377-3637-3","KidHaven Publishing","Library Bound Book",1,2008,null,"Library Bound","6.000 X 9.000","Author","Leanne K. Currie-McGhee",null,null,null,null,null,null,"Years 9 - 13",null,"Grade 4 - 8",null,"English",35.700000000000003,28.560000000000002,"811","48 pp.",{"$f":"Table1[[#This Row],['# of Books]]*Table1[[#This Row],[QTY]]","v":0},{"$f":"Table1[[#This Row],[QTY]]*Table1[[#This Row],[School & Library Price]]","v":0}]
[null,108,null,"Multicultural","A Taste of Culture","Foods of Afghanistan","978-0-7377-5420-9","KidHaven Publishing","Library Bound Book",1,2011,null,"Library Bound","7.000 X 9.000","Author","Barbara Sheen",null,null,null,null,null,null,"Years 8 - 11",null,"Grade 3 - 6",null,"English",35.200000000000003,28.160000000000004,"641","64 pp.",{"$f":"Table1[[#This Row],['# of Books]]*Table1[[#This Row],[QTY]]","v":0},{"$f":"Table1[[#This Row],[QTY]]*Table1[[#This Row],[School & Library Price]]","v":0}]
[null,108,null,"Multicultural","A Taste of Culture","Foods of Afghanistan","978-0-7377-5944-0","KidHaven Publishing","eBook",1,2011,null,"eBook",null,"Author","Barbara Sheen",null,null,null,null,null,null,"Years 8 - 11",null,"Grade 3 - 6",null,"English",38.72,38.72,"641.59581","64 pp.",{"$f":"Table1[[#This Row],['# of Books]]*Table1[[#This Row],[QTY]]","v":0},{"$f":"Table1[[#This Row],[QTY]]*Table1[[#This Row],[School & Library Price]]","v":0}]
[null,108,null,"Multicultural","A Taste of Culture","Foods of Australia","978-0-7377-4812-3","KidHaven Publishing","Library Bound Book",1,2010,null,"Library Bound","7.000 X 9.000","Author","Barbara Sheen",null,null,null,null,null,null,"Years 8 - 11",null,"Grade 3 - 6","One of the most enjoyable ways to learn about other cultures is through their food. This book takes us to Australia, where the daily fare features beef, lamb, veal, and sausage BBQ and unique varieties of sandwiches. The tradition of drinking tea with biscuits and scones is discussed, as well as popular national treats such as Tim-Tam and ANZAC biscuits, Lamington cakes, and the elegant meringue dessert Pavlova, which some say was invented in Australia.","English",35.200000000000003,28.160000000000004,"641","64 pp.",{"$f":"Table1[[#This Row],['# of Books]]*Table1[[#This Row],[QTY]]","v":0},{"$f":"Table1[[#This Row],[QTY]]*Table1[[#This Row],[School & Library Price]]","v":0}]
[null,108,null,"Multicultural","A Taste of Culture","Foods of Australia","978-0-7377-5506-0","KidHaven Publishing","eBook",1,2010,null,"eBook",null,"Author","Barbara Sheen",null,null,null,null,null,null,"Years 8 - 11",null,"Grade 3 - 6","Explores the foods, cooking traditions, customs, eating habits, and food sources of Australia.  Studying world cultures has never tasted so good! A delectable blend of geography, history, health, daily life, celebrations and customs. A Taste of Culture offers a rich array of culinary and cultural elements. Specifically prepared for upper-elementary and lower-middle school students, each volume in this series introduces a country and its culture by way of its foods, cooking traditions, recipes, customs, eating habits and food sources.","English",38.72,38.72,"641.5994","64 pp.",{"$f":"Table1[[#This Row],['# of Books]]*Table1[[#This Row],[QTY]]","v":0},{"$f":"Table1[[#This Row],[QTY]]*Table1[[#This Row],[School & Library Price]]","v":0}]
[null,108,null,"Multicultural","A Taste of Culture","Foods of Brazil","978-0-7377-5507-7","KidHaven Publishing","eBook",1,2008,null,"eBook",null,"Author","Barbara Sheen",null,null,null,null,null,null,"Years 8 - 11",null,"Grade 3 - 6","Explores the foods, cooking traditions, customs, eating habits, and food sources of Brazil.  Studying world cultures has never tasted so good! A delectable blend of geography, history, health, daily life, celebrations and customs. A Taste of Culture offers a rich array of culinary and cultural elements. Specifically prepared for upper-elementary and lower-middle school students, each volume in this series introduces a country and its culture by way of its foods, cooking traditions, recipes, customs, eating habits and food sources.","English",38.72,38.72,"641.5981","64 pp.",{"$f":"Table1[[#This Row],['# of Books]]*Table1[[#This Row],[QTY]]","v":0},{"$f":"Table1[[#This Row],[QTY]]*Table1[[#This Row],[School & Library Price]]","v":0}]
[null,108,null,"Multicultural","A Taste of Culture","Foods of Canada","978-0-7377-5947-1","KidHaven Publishing","Library Bound Book",1,2012,null,"Library Bound","7.000 X 9.000","Author","Barbara Sheen",null,null,null,null,null,null,"Years 8 - 11",null,"Grade 3 - 6","Author Barbara Sheen examines the historical and cultural forces behind Canada's diverse culinary tradition, including contributions from Canada's First Nations, French, and British background. Key ingredients include fish and seafood, meat, bread, hearty soups and chowders. Canada produces 85 percent of the world's maple syrup; how the syrup is gathered from maple trees and prepared in sugar shacks is explored. Feasts for Canadian Thanksgiving and Christmas celebrations are explained. Sidebars feature engaging country information as well as a number of recipes with easy-to-follow directions.","English",35.200000000000003,28.160000000000004,"641.5971","64 pp.",{"$f":"Table1[[#This Row],['# of Books]]*Table1[[#This Row],[QTY]]","v":0},{"$f":"Table1[[#This Row],[QTY]]*Table1[[#This Row],[School & Library Price]]","v":0}]
[null,108,null,"Multicultural","A Taste of Culture","Foods of Canada","978-0-7377-6485-7","KidHaven Publishing","eBook",1,2012,null,"eBook",null,"Author","Barbara Sheen",null,null,null,null,null,null,"Years 8 - 11",null,"Grade 3 - 6","Author Barbara Sheen examines the historical and cultural forces behind Canada’s diverse culinary tradition, including contributions from Canada’s First Nations, French, and British background. Key ingredients include fish and seafood, meat, bread, hearty soups and chowders. Canada produces 85 percent of the world’s maple syrup; how the syrup is gathered from maple trees and prepared in sugar shacks is explored. Feasts for Canadian Thanksgiving and Christmas celebrations are explained. Sidebars feature engaging country information as well as a number of recipes with easy-to-follow directions.","English",38.72,38.72,"641.5971","64 pp.",{"$f":"Table1[[#This Row],['# of Books]]*Table1[[#This Row],[QTY]]","v":0},{"$f":"Table1[[#This Row],[QTY]]*Table1[[#This Row],[School & Library Price]]","v":0}]
[null,108,null,"Multicultural","A Taste of Culture","Foods of Chile","978-0-7377-5421-6","KidHaven Publishing","Library Bound Book",1,2011,null,"Library Bound","7.000 X 9.000","Author","Barbara Sheen",null,null,null,null,null,null,"Years 8 - 11",null,"Grade 3 - 6",null,"English",35.200000000000003,28.160000000000004,"641","64 pp.",{"$f":"Table1[[#This Row],['# of Books]]*Table1[[#This Row],[QTY]]","v":0},{"$f":"Table1[[#This Row],[QTY]]*Table1[[#This Row],[School & Library Price]]","v":0}]
[null,108,null,"Multicultural","A Taste of Culture","Foods of Chile","978-0-7377-5914-3","KidHaven Publishing","eBook",1,2011,null,"eBook",null,"Author","Barbara Sheen",null,null,null,null,null,null,"Years 8 - 11",null,"Grade 3 - 6",null,"English",38.72,38.72,"641.5983","64 pp.",{"$f":"Table1[[#This Row],['# of Books]]*Table1[[#This Row],[QTY]]","v":0},{"$f":"Table1[[#This Row],[QTY]]*Table1[[#This Row],[School & Library Price]]","v":0}]
[null,108,null,"Multicultural","A Taste of Culture","Foods of China","978-0-7377-3031-9","KidHaven Publishing","Library Bound Book",1,2006,null,"Library Bound","7.000 X 9.000","Author","Barbara Sheen",null,null,null,null,null,null,"Years 8 - 11",null,"Grade 3 - 6","Take a delicious trip to a fascinating and ancient country where food is woven into every aspect of life. This book takes the reader on an entertaining, enlightening, and edible tour of China. Through a look at Chinese foods, the reader learns about Chinese culture, history, geography, and folklore, all in a hands-on, fun-filled way.","English",35.200000000000003,28.160000000000004,"394.1","64 pp.",{"$f":"Table1[[#This Row],['# of Books]]*Table1[[#This Row],[QTY]]","v":0},{"$f":"Table1[[#This Row],[QTY]]*Table1[[#This Row],[School & Library Price]]","v":0}]
[null,108,null,"Multicultural","A Taste of Culture","Foods of Colombia","978-0-7377-5948-8","KidHaven Publishing","Library Bound Book",1,2012,null,"Library Bound","7.000 X 9.000","Author","Barbara Sheen",null,null,null,null,null,null,"Years 8 - 11",null,"Grade 3 - 6","Author Barbara Sheen examines the cuisine of Colombia and its relationship to the culture of the country. Everyday favorite foods are described as well as dishes that are prepared for special occasions. Sidebars feature engaging country information as well as a number of recipes with easy-to-follow directions.","English",35.200000000000003,28.160000000000004,"641.5","64 pp.",{"$f":"Table1[[#This Row],['# of Books]]*Table1[[#This Row],[QTY]]","v":0},{"$f":"Table1[[#This Row],[QTY]]*Table1[[#This Row],[School & Library Price]]","v":0}]
[null,108,null,"Multicultural","A Taste of Culture","Foods of Colombia","978-0-7377-6519-9","KidHaven Publishing","eBook",1,2012,null,"eBook",null,"Author","Barbara Sheen",null,null,null,null,null,null,"Years 8 - 11",null,"Grade 3 - 6",null,"English",38.72,38.72,"641.59861","64 pp.",{"$f":"Table1[[#This Row],['# of Books]]*Table1[[#This Row],[QTY]]","v":0},{"$f":"Table1[[#This Row],[QTY]]*Table1[[#This Row],[School & Library Price]]","v":0}]
[null,108,null,"Multicultural","A Taste of Culture","Foods of Cuba","978-0-7377-5113-0","KidHaven Publishing","Library Bound Book",1,2011,null,"Library Bound","7.000 X 9.000","Author","Barbara Sheen",null,null,null,null,null,null,"Years 8 - 11",null,"Grade 3 - 6",null,"English",35.200000000000003,28.160000000000004,"641","64 pp.",{"$f":"Table1[[#This Row],['# of Books]]*Table1[[#This Row],[QTY]]","v":0},{"$f":"Table1[[#This Row],[QTY]]*Table1[[#This Row],[School & Library Price]]","v":0}]
[null,108,null,"Multicultural","A Taste of Culture","Foods of Cuba","978-0-7377-5854-2","KidHaven Publishing","eBook",1,2011,null,"eBook",null,"Author","Barbara Sheen",null,null,null,null,null,null,"Years 8 - 11",null,"Grade 3 - 6",null,"English",38.72,38.72,"641.597291","64 pp.",{"$f":"Table1[[#This Row],['# of Books]]*Table1[[#This Row],[QTY]]","v":0},{"$f":"Table1[[#This Row],[QTY]]*Table1[[#This Row],[School & Library Price]]","v":0}]
[null,108,null,"Multicultural","A Taste of Culture","Foods of Egypt","978-0-7377-4843-7","KidHaven Publishing","Library Bound Book",1,2010,null,"Library Bound","7.000 X 9.000","Author","Barbara Sheen",null,null,null,null,null,null,"Years 8 - 11",null,"Grade 3 - 6","One of the most enjoyable ways to learn about other cultures is through their food. This book takes us to Egypt, where the daily fare includes koshari, taamiya or falafel, and skewered dishes like kebabs, kofta, and shawarma. The national dishes ful (a creamy bean dish) and moloukheyah (a green soup) are described, as well as the special Kahk cookies made to commemorate Ramadan. Simple and delicious recipes are provided for hummus, lentil soup, ful medames, stuffed dates, and basboosa.","English",35.200000000000003,28.160000000000004,"641","64 pp.",{"$f":"Table1[[#This Row],['# of Books]]*Table1[[#This Row],[QTY]]","v":0},{"$f":"Table1[[#This Row],[QTY]]*Table1[[#This Row],[School & Library Price]]","v":0}]
[null,108,null,"Multicultural","A Taste of Culture","Foods of Egypt","978-0-7377-5508-4","KidHaven Publishing","eBook",1,2010,null,"eBook",null,"Author","Barbara Sheen",null,null,null,null,null,null,"Years 8 - 11",null,"Grade 3 - 6","Explores the foods, cooking traditions, customs, eating habits, and food sources of Egypt.  Studying world cultures has never tasted so good! A delectable blend of geography, history, health, daily life, celebrations and customs. A Taste of Culture offers a rich array of culinary and cultural elements. Specifically prepared for upper-elementary and lower-middle school students, each volume in this series introduces a country and its culture by way of its foods, cooking traditions, recipes, customs, eating habits and food sources.","English",38.72,38.72,"641.5962","64 pp.",{"$f":"Table1[[#This Row],['# of Books]]*Table1[[#This Row],[QTY]]","v":0},{"$f":"Table1[[#This Row],[QTY]]*Table1[[#This Row],[School & Library Price]]","v":0}]
[null,108,null,"Multicultural","A Taste of Culture","Foods of England","978-0-7377-5881-8","KidHaven Publishing","Library Bound Book",1,2011,null,"Library Bound","7.000 X 9.000","Author","Barbara Sheen",null,null,null,null,null,null,"Years 8 - 11",null,"Grade 3 - 6",null,"English",35.200000000000003,28.160000000000004,"641","64 pp.",{"$f":"Table1[[#This Row],['# of Books]]*Table1[[#This Row],[QTY]]","v":0},{"$f":"Table1[[#This Row],[QTY]]*Table1[[#This Row],[School & Library Price]]","v":0}]
[null,108,null,"Multicultural","A Taste of Culture","Foods of England","978-0-7377-6094-1","KidHaven Publishing","eBook",1,2011,null,"eBook",null,"Author","Barbara Sheen",null,null,null,null,null,null,"Years 8 - 11",null,"Grade 3 - 6",null,"English",38.72,38.72,"394.1","64 pp.",{"$f":"Table1[[#This Row],['# of Books]]*Table1[[#This Row],[QTY]]","v":0},{"$f":"Table1[[#This Row],[QTY]]*Table1[[#This Row],[School & Library Price]]","v":0}]
[null,108,null,"Multicultural","A Taste of Culture","Foods of Ethiopia","978-0-7377-5509-1","KidHaven Publishing","eBook",1,2008,null,"eBook",null,"Author","Barbara Sheen",null,null,null,null,null,null,"Years 8 - 11",null,"Grade 3 - 6","Studying world cultures has never tasted so good! A delectable blend of geography, history, health, daily life, celebrations and customs. A Taste of Culture offers a rich array of culinary and cultural elements. Specifically prepared for upper-elementary and lower-middle school students, each volume in this series introduces a country and its culture by way of its foods, cooking traditions, recipes, customs, eating habits and food sources.","English",38.72,38.72,"641.5963","64 pp.",{"$f":"Table1[[#This Row],['# of Books]]*Table1[[#This Row],[QTY]]","v":0},{"$f":"Table1[[#This Row],[QTY]]*Table1[[#This Row],[School & Library Price]]","v":0}]
[null,108,null,"Multicultural","A Taste of Culture","Foods of France","978-0-7377-3032-6","KidHaven Publishing","Library Bound Book",1,2005,null,"Library Bound","7.000 X 9.000","Author","Peggy J. Parks",null,null,null,null,null,null,"Years 8 - 11",null,"Grade 3 - 6","As young readers will discover, the experience of shopping for fresh and natural food, preparing it, and sharing a good meal with family and friends are all integral to French culture. In telling the story of French food, this book includes ways it is prepared, some well-known main dishes, mouthwatering desserts, foods for celebrations and other key topics.","English",35.200000000000003,28.160000000000004,"394.1","64 pp.",{"$f":"Table1[[#This Row],['# of Books]]*Table1[[#This Row],[QTY]]","v":0},{"$f":"Table1[[#This Row],[QTY]]*Table1[[#This Row],[School & Library Price]]","v":0}]
[null,108,null,"Multicultural","A Taste of Culture","Foods of Germany","978-0-7377-5510-7","KidHaven Publishing","eBook",1,2007,null,"eBook",null,"Author","Barbara Sheen",null,null,null,null,null,null,"Years 8 - 11",null,"Grade 3 - 6","Explores the foods, cooking traditions, customs, eating habits, and food sources of Germany.  Studying world cultures has never tasted so good! A delectable blend of geography, history, health, daily life, celebrations and customs. A Taste of Culture offers a rich array of culinary and cultural elements. Specifically prepared for upper-elementary and lower-middle school students, each volume in this series introduces a country and its culture by way of its foods, cooking traditions, recipes, customs, eating habits and food sources.","English",38.72,38.72,"641.5","64 pp.",{"$f":"Table1[[#This Row],['# of Books]]*Table1[[#This Row],[QTY]]","v":0},{"$f":"Table1[[#This Row],[QTY]]*Table1[[#This Row],[School & Library Price]]","v":0}]
[null,108,null,"Multicultural","A Taste of Culture","Foods of Ghana","978-0-7377-5949-5","KidHaven Publishing","Library Bound Book",1,2012,null,"Library Bound","7.000 X 9.000","Author","Barbara Sheen",null,null,null,null,null,null,"Years 8 - 11",null,"Grade 3 - 6","Author Barbara Sheen examines the cuisine of Ghana and examines its relationship to the culture of the country. Everyday favorite foods are described as well as dishes that are prepared for special occasions. Sidebars feature engaging country information as well as a number of recipes with easy-to-follow directions.","English",35.200000000000003,28.160000000000004,"641.5","64 pp.",{"$f":"Table1[[#This Row],['# of Books]]*Table1[[#This Row],[QTY]]","v":0},{"$f":"Table1[[#This Row],[QTY]]*Table1[[#This Row],[School & Library Price]]","v":0}]
[null,108,null,"Multicultural","A Taste of Culture","Foods of Ghana","978-0-7377-6520-5","KidHaven Publishing","eBook",1,2012,null,"eBook",null,"Author","Barbara Sheen",null,null,null,null,null,null,"Years 8 - 11",null,"Grade 3 - 6",null,"English",38.72,38.72,"641.59667","64 pp.",{"$f":"Table1[[#This Row],['# of Books]]*Table1[[#This Row],[QTY]]","v":0},{"$f":"Table1[[#This Row],[QTY]]*Table1[[#This Row],[School & Library Price]]","v":0}]
[null,108,null,"Multicultural","A Taste of Culture","Foods of Greece","978-0-7377-3033-3","KidHaven Publishing","Library Bound Book",1,2005,null,"Library Bound","7.000 X 9.000","Author","Barbara Sheen",null,null,null,null,null,null,"Years 8 - 11",null,"Grade 3 - 6","Written in appealing, fact-filled prose, this resource explores the ways that Greece's landscape, geography, history, folklore and traditions are all tied to its food. Kid friendly recipes add to the hands-on appeal and are just one of the many features of this colorful, cultural study of Greek cuisine.","English",35.200000000000003,28.160000000000004,"394.1","64 pp.",{"$f":"Table1[[#This Row],['# of Books]]*Table1[[#This Row],[QTY]]","v":0},{"$f":"Table1[[#This Row],[QTY]]*Table1[[#This Row],[School & Library Price]]","v":0}]
[null,108,null,"Multicultural","A Taste of Culture","Foods of Iceland","978-0-7377-6037-8","KidHaven Publishing","eBook",1,2011,null,"eBook",null,"Author","Barbara Sheen",null,null,null,null,null,null,"Years 8 - 11",null,"Grade 3 - 6",null,"English",38.72,38.72,"641.59417","64 pp.",{"$f":"Table1[[#This Row],['# of Books]]*Table1[[#This Row],[QTY]]","v":0},{"$f":"Table1[[#This Row],[QTY]]*Table1[[#This Row],[School & Library Price]]","v":0}]
[null,108,null,"Multicultural","A Taste of Culture","Foods of India","978-0-7377-3553-6","KidHaven Publishing","Library Bound Book",1,2007,null,"Library Bound","7.000 X 9.000","Author","Barbara Sheen",null,null,null,null,null,null,"Years 8 - 11",null,"Grade 3 - 6",null,"English",35.200000000000003,28.160000000000004,"641.5954","64 pp.",{"$f":"Table1[[#This Row],['# of Books]]*Table1[[#This Row],[QTY]]","v":0},{"$f":"Table1[[#This Row],[QTY]]*Table1[[#This Row],[School & Library Price]]","v":0}]
[null,108,null,"Multicultural","A Taste of Culture","Foods of India","978-0-7377-5511-4","KidHaven Publishing","eBook",1,2007,null,"eBook",null,"Author","Barbara Sheen",null,null,null,null,null,null,"Years 8 - 11",null,"Grade 3 - 6","Explores the foods, cooking traditions, customs, eating habits, and food sources of India.  Explores the foods, cooking traditions, customs, eating habits, and food sources of India. Studying world cultures has never tasted so good! A delectable blend of geography, history, health, daily life, celebrations and customs. A Taste of Culture offers a rich array of culinary and cultural elements. Specifically prepared for upper-elementary and lower-middle school students, each volume in this series introduces a country and its culture by way of its foods, cooking traditions, recipes, customs, eating habits and food sources.","English",38.72,38.72,"641.5954","64 pp.",{"$f":"Table1[[#This Row],['# of Books]]*Table1[[#This Row],[QTY]]","v":0},{"$f":"Table1[[#This Row],[QTY]]*Table1[[#This Row],[School & Library Price]]","v":0}]
[null,108,null,"Multicultural","A Taste of Culture","Foods of Indonesia","978-0-7377-5950-1","KidHaven Publishing","Library Bound Book",1,2012,null,"Library Bound","7.000 X 9.000","Author","Barbara Sheen",null,null,null,null,null,null,"Years 8 - 11",null,"Grade 3 - 6","Author Barbara Sheen examines Indonesia's culinary tradition. Key ingredients, curry-based classics, and feasts for Ramadan and other special occasions are explored, as well as the spices, chili peppers, rice, fish, seafood, and vegetables that serve as the backbone of Indonesian cooking. The author describes how the popular condiment sambal is made, as well as favorite dishes like nasi goring, gado gado, sate, and rending. Popular snacks such as Bakso, Onde-onde, and serabi are described. Sidebars feature engaging country information as well as a number of recipes with easy-to-follow directions.","English",35.200000000000003,28.160000000000004,"641.5","64 pp.",{"$f":"Table1[[#This Row],['# of Books]]*Table1[[#This Row],[QTY]]","v":0},{"$f":"Table1[[#This Row],[QTY]]*Table1[[#This Row],[School & Library Price]]","v":0}]
[null,108,null,"Multicultural","A Taste of Culture","Foods of Indonesia","978-0-7377-6501-4","KidHaven Publishing","eBook",1,2012,null,"eBook",null,"Author","Barbara Sheen",null,null,null,null,null,null,"Years 8 - 11",null,"Grade 3 - 6",null,"English",38.72,38.72,"641.59598","64 pp.",{"$f":"Table1[[#This Row],['# of Books]]*Table1[[#This Row],[QTY]]","v":0},{"$f":"Table1[[#This Row],[QTY]]*Table1[[#This Row],[School & Library Price]]","v":0}]
[null,108,null,"Multicultural","A Taste of Culture","Foods of Ireland","978-0-7377-5114-7","KidHaven Publishing","Library Bound Book",1,2011,null,"Library Bound","7.000 X 9.000","Author","Barbara Sheen",null,null,null,null,null,null,"Years 8 - 11",null,"Grade 3 - 6",null,"English",35.200000000000003,28.160000000000004,"641","64 pp.",{"$f":"Table1[[#This Row],['# of Books]]*Table1[[#This Row],[QTY]]","v":0},{"$f":"Table1[[#This Row],[QTY]]*Table1[[#This Row],[School & Library Price]]","v":0}]
[null,108,null,"Multicultural","A Taste of Culture","Foods of Ireland","978-0-7377-5535-0","KidHaven Publishing","eBook",1,2011,null,"eBook",null,"Author","Barbara Sheen",null,null,null,null,null,null,"Years 8 - 11",null,"Grade 3 - 6",null,"English",38.72,38.72,"641.59417","64 pp.",{"$f":"Table1[[#This Row],['# of Books]]*Table1[[#This Row],[QTY]]","v":0},{"$f":"Table1[[#This Row],[QTY]]*Table1[[#This Row],[School & Library Price]]","v":0}]
[null,108,null,"Multicultural","A Taste of Culture","Foods of Israel","978-0-7377-5882-5","KidHaven Publishing","Library Bound Book",1,2011,null,"Library Bound","7.000 X 9.000","Author","Barbara Sheen",null,null,null,null,null,null,"Years 8 - 11",null,"Grade 3 - 6",null,"English",35.200000000000003,28.160000000000004,"641","64 pp.",{"$f":"Table1[[#This Row],['# of Books]]*Table1[[#This Row],[QTY]]","v":0},{"$f":"Table1[[#This Row],[QTY]]*Table1[[#This Row],[School & Library Price]]","v":0}]
[null,108,null,"Multicultural","A Taste of Culture","Foods of Israel","978-0-7377-6126-9","KidHaven Publishing","eBook",1,2011,null,"eBook",null,"Author","Barbara Sheen",null,null,null,null,null,null,"Years 8 - 11",null,"Grade 3 - 6",null,"English",38.72,38.72,"641.595694","64 pp.",{"$f":"Table1[[#This Row],['# of Books]]*Table1[[#This Row],[QTY]]","v":0},{"$f":"Table1[[#This Row],[QTY]]*Table1[[#This Row],[School & Library Price]]","v":0}]
[null,108,null,"Multicultural","A Taste of Culture","Foods of Kenya","978-0-7377-4813-0","KidHaven Publishing","Library Bound Book",1,2010,null,"Library Bound","7.000 X 9.000","Author","Barbara Sheen",null,null,null,null,null,null,"Years 8 - 11",null,"Grade 3 - 6",null,"English",35.200000000000003,28.160000000000004,"641","64 pp.",{"$f":"Table1[[#This Row],['# of Books]]*Table1[[#This Row],[QTY]]","v":0},{"$f":"Table1[[#This Row],[QTY]]*Table1[[#This Row],[School & Library Price]]","v":0}]
[null,108,null,"Multicultural","A Taste of Culture","Foods of Kenya","978-0-7377-5512-1","KidHaven Publishing","eBook",1,2010,null,"eBook",null,"Author","Barbara Sheen",null,null,null,null,null,null,"Years 8 - 11",null,"Grade 3 - 6","Explores the foods, cooking traditions, customs, eating habits, and food sources of Kenya.  Studying world cultures has never tasted so good! A delectable blend of geography, history, health, daily life, celebrations and customs. A Taste of Culture offers a rich array of culinary and cultural elements. Specifically prepared for upper-elementary and lower-middle school students, each volume in this series introduces a country and its culture by way of its foods, cooking traditions, recipes, customs, eating habits and food sources.","English",38.72,38.72,"641.596762","64 pp.",{"$f":"Table1[[#This Row],['# of Books]]*Table1[[#This Row],[QTY]]","v":0},{"$f":"Table1[[#This Row],[QTY]]*Table1[[#This Row],[School & Library Price]]","v":0}]
[null,108,null,"Multicultural","A Taste of Culture","Foods of Korea","978-0-7377-5115-4","KidHaven Publishing","Library Bound Book",1,2011,null,"Library Bound","7.000 X 9.000","Author","Barbara Sheen",null,null,null,null,null,null,"Years 8 - 11",null,"Grade 3 - 6",null,"English",35.200000000000003,28.160000000000004,"641","64 pp.",{"$f":"Table1[[#This Row],['# of Books]]*Table1[[#This Row],[QTY]]","v":0},{"$f":"Table1[[#This Row],[QTY]]*Table1[[#This Row],[School & Library Price]]","v":0}]
[null,108,null,"Multicultural","A Taste of Culture","Foods of Korea","978-0-7377-5864-1","KidHaven Publishing","eBook",1,2011,null,"eBook",null,"Author","Barbara Sheen",null,null,null,null,null,null,"Years 8 - 11",null,"Grade 3 - 6","Explores the foods, cooking traditions, customs, eating habits, and food sources of Korea. Studying world cultures has never tasted so good! A delectable blend of geography, history, health, daily life, celebrations and customs. A Taste of Culture offers a rich array of culinary and cultural elements. Specifically prepared for upper-elementary and lower-middle school students, each volume in this series introduces a country and its culture by way of its foods, cooking traditions, recipes, customs, eating habits and food sources.","English",38.72,38.72,"641.59519","64 pp.",{"$f":"Table1[[#This Row],['# of Books]]*Table1[[#This Row],[QTY]]","v":0},{"$f":"Table1[[#This Row],[QTY]]*Table1[[#This Row],[School & Library Price]]","v":0}]
[null,108,null,"Multicultural","A Taste of Culture","Foods of Mexico","978-0-7377-3036-4","KidHaven Publishing","Library Bound Book",1,2005,null,"Library Bound","7.000 X 9.000","Author","Barbara Sheen",null,null,null,null,null,null,"Years 8 - 11",null,"Grade 3 - 6","Many Mexican dishes represent the country's unique mix of Indian and European cuisine. Packed with interesting and informative facts, this colorful volume gives readers a taste of Mexican history, culture and folklore, as well as food origins. Simple recipes tied to the text make this book a multi-sensory experience. Readers will have fun exploring Mexico's snacks and sweets, specialty foods, favorite dishes, and traditional holiday meals.","English",35.200000000000003,28.160000000000004,"394.1","64 pp.",{"$f":"Table1[[#This Row],['# of Books]]*Table1[[#This Row],[QTY]]","v":0},{"$f":"Table1[[#This Row],[QTY]]*Table1[[#This Row],[School & Library Price]]","v":0}]
[null,108,null,"Multicultural","A Taste of Culture","Foods of Morocco","978-0-7377-5865-8","KidHaven Publishing","Library Bound Book",1,2011,null,"Library Bound","7.000 X 9.000","Author","Barbara Sheen",null,null,null,null,null,null,"Years 8 - 11",null,"Grade 3 - 6",null,"English",35.200000000000003,28.160000000000004,"641","64 pp.",{"$f":"Table1[[#This Row],['# of Books]]*Table1[[#This Row],[QTY]]","v":0},{"$f":"Table1[[#This Row],[QTY]]*Table1[[#This Row],[School & Library Price]]","v":0}]
[null,108,null,"Multicultural","A Taste of Culture","Foods of Morocco","978-1-4205-0771-3","KidHaven Publishing","eBook",1,2011,null,"eBook",null,"Author","Barbara Sheen",null,null,null,null,null,null,"Years 8 - 11",null,"Grade 3 - 6","Studying world cultures has never tasted so good! A delectable blend of geography, history, health, daily life, celebrations and customs. A Taste of Culture offers a rich array of culinary and cultural elements. Specifically prepared for upper-elementary and lower-middle school students, each volume in this series introduces a country and its culture by way of its foods, cooking traditions, recipes, customs, eating habits and food sources.","English",38.72,38.72,"641.5964","64 pp.",{"$f":"Table1[[#This Row],['# of Books]]*Table1[[#This Row],[QTY]]","v":0},{"$f":"Table1[[#This Row],[QTY]]*Table1[[#This Row],[School & Library Price]]","v":0}]
[null,108,null,"Multicultural","A Taste of Culture","Foods of Pakistan","978-0-7377-5883-2","KidHaven Publishing","Library Bound Book",1,2011,null,"Library Bound","7.000 X 9.000","Author","Barbara Sheen",null,null,null,null,null,null,"Years 8 - 11",null,"Grade 3 - 6",null,"English",35.200000000000003,28.160000000000004,"641","64 pp.",{"$f":"Table1[[#This Row],['# of Books]]*Table1[[#This Row],[QTY]]","v":0},{"$f":"Table1[[#This Row],[QTY]]*Table1[[#This Row],[School & Library Price]]","v":0}]
[null,108,null,"Multicultural","A Taste of Culture","Foods of Pakistan","978-0-7377-6101-6","KidHaven Publishing","eBook",1,2011,null,"eBook",null,"Author","Barbara Sheen",null,null,null,null,null,null,"Years 8 - 11",null,"Grade 3 - 6",null,"English",38.72,38.72,"641.595491","64 pp.",{"$f":"Table1[[#This Row],['# of Books]]*Table1[[#This Row],[QTY]]","v":0},{"$f":"Table1[[#This Row],[QTY]]*Table1[[#This Row],[School & Library Price]]","v":0}]
[null,108,null,"Multicultural","A Taste of Culture","Foods of Peru","978-0-7377-5346-2","KidHaven Publishing","Library Bound Book",1,2011,null,"Library Bound","7.000 X 9.000","Author","Barbara Sheen",null,null,null,null,null,null,"Years 8 - 11",null,"Grade 3 - 6",null,"English",35.200000000000003,28.160000000000004,"641","64 pp.",{"$f":"Table1[[#This Row],['# of Books]]*Table1[[#This Row],[QTY]]","v":0},{"$f":"Table1[[#This Row],[QTY]]*Table1[[#This Row],[School & Library Price]]","v":0}]
[null,108,null,"Multicultural","A Taste of Culture","Foods of Peru","978-0-7377-5848-1","KidHaven Publishing","eBook",1,2011,null,"eBook",null,"Author","Barbara Sheen",null,null,null,null,null,null,"Years 8 - 11",null,"Grade 3 - 6","Explores the foods, cooking traditions, customs, eating habits, and food sources of Peru.  Studying world cultures has never tasted so good! A delectable blend of geography, history, health, daily life, celebrations and customs. A Taste of Culture offers a rich array of culinary and cultural elements. Specifically prepared for upper-elementary and lower-middle school students, each volume in this series introduces a country and its culture by way of its foods, cooking traditions, recipes, customs, eating habits and food sources.","English",38.72,38.72,"394.1","64 pp.",{"$f":"Table1[[#This Row],['# of Books]]*Table1[[#This Row],[QTY]]","v":0},{"$f":"Table1[[#This Row],[QTY]]*Table1[[#This Row],[School & Library Price]]","v":0}]
[null,108,null,"Multicultural","A Taste of Culture","Foods of Poland","978-0-7377-5951-8","KidHaven Publishing","Library Bound Book",1,2012,null,"Library Bound","7.000 X 9.000","Author","Barbara Sheen",null,null,null,null,null,null,"Years 8 - 11",null,"Grade 3 - 6",null,"English",35.200000000000003,28.160000000000004,"641.5","64 pp.",{"$f":"Table1[[#This Row],['# of Books]]*Table1[[#This Row],[QTY]]","v":0},{"$f":"Table1[[#This Row],[QTY]]*Table1[[#This Row],[School & Library Price]]","v":0}]
[null,108,null,"Multicultural","A Taste of Culture","Foods of Poland","978-0-7377-6125-2","KidHaven Publishing","eBook",1,2012,null,"eBook",null,"Author","Barbara Sheen",null,null,null,null,null,null,"Years 8 - 11",null,"Grade 3 - 6",null,"English",38.72,38.72,"641.59438","64 pp.",{"$f":"Table1[[#This Row],['# of Books]]*Table1[[#This Row],[QTY]]","v":0},{"$f":"Table1[[#This Row],[QTY]]*Table1[[#This Row],[School & Library Price]]","v":0}]
[null,108,null,"Multicultural","A Taste of Culture","Foods of Scandinavia","978-0-7377-4814-7","KidHaven Publishing","Library Bound Book",1,2010,null,"Library Bound","7.000 X 9.000","Author","Barbara Sheen",null,null,null,null,null,null,"Years 8 - 11",null,"Grade 3 - 6","One of the most enjoyable ways to learn about other cultures is through their food. This book takes us to the five nations of Scandinavia: Denmark, Finland, Iceland, Norway, and Sweden. There the daily fare includes gravalax (cured salmon), smorrebrod (thick open-faced sandwiches), pea soup, pancakes, and appelkaka (apple cake). Traditional Christmas foods are discussed, as well as the tradition of the fika (or \"going out for coffee\") and the well-known, huge buffets called smorgasbords. Simple, delicious recipes are provided for oat porridge with strawberry preserves, a roast beef smorrebrod, pea soup, and strawberry cream cake.","English",35.200000000000003,28.160000000000004,"641","64 pp.",{"$f":"Table1[[#This Row],['# of Books]]*Table1[[#This Row],[QTY]]","v":0},{"$f":"Table1[[#This Row],[QTY]]*Table1[[#This Row],[School & Library Price]]","v":0}]
[null,108,null,"Multicultural","A Taste of Culture","Foods of Scandinavia","978-0-7377-5513-8","KidHaven Publishing","eBook",1,2010,null,"eBook",null,"Author","Barbara Sheen",null,null,null,null,null,null,"Years 8 - 11",null,"Grade 3 - 6","Explores the foods, cooking traditions, customs, eating habits, and food sources of Scandinavia.  Studying world cultures has never tasted so good! A delectable blend of geography, history, health, daily life, celebrations and customs. A Taste of Culture offers a rich array of culinary and cultural elements. Specifically prepared for upper-elementary and lower-middle school students, each volume in this series introduces a country and its culture by way of its foods, cooking traditions, recipes, customs, eating habits and food sources.","English",38.72,38.72,"641.5948","64 pp.",{"$f":"Table1[[#This Row],['# of Books]]*Table1[[#This Row],[QTY]]","v":0},{"$f":"Table1[[#This Row],[QTY]]*Table1[[#This Row],[School & Library Price]]","v":0}]
[null,108,null,"Multicultural","A Taste of Culture","Foods of South Africa","978-0-7377-5952-5","KidHaven Publishing","Library Bound Book",1,2012,null,"Library Bound","7.000 X 9.000","Author","Barbara Sheen",null,null,null,null,null,null,"Years 8 - 11",null,"Grade 3 - 6","Author Barbara Sheen examines South Africa's culinary tradition. Favorite ingredients, such as corn, water blommetjie, pickled fruits and vegetables, fish, and wild game, are described. The author explains favorite dishes like umphokoqo, bobotie, bredies, bunny chow, and potjies. Popular snacks such as koeksisters, rooibos tea, melk terts, and konfyt are also described. Sidebars feature engaging country information as well as a number of recipes with easy-to-follow directions.","English",35.200000000000003,28.160000000000004,"641.5","64 pp.",{"$f":"Table1[[#This Row],['# of Books]]*Table1[[#This Row],[QTY]]","v":0},{"$f":"Table1[[#This Row],[QTY]]*Table1[[#This Row],[School & Library Price]]","v":0}]
[null,108,null,"Multicultural","A Taste of Culture","Foods of South Africa","978-0-7377-6502-1","KidHaven Publishing","eBook",1,2012,null,"eBook",null,"Author","Barbara Sheen",null,null,null,null,null,null,"Years 8 - 11",null,"Grade 3 - 6",null,"English",38.72,38.72,"641.5968","64 pp.",{"$f":"Table1[[#This Row],['# of Books]]*Table1[[#This Row],[QTY]]","v":0},{"$f":"Table1[[#This Row],[QTY]]*Table1[[#This Row],[School & Library Price]]","v":0}]
[null,108,null,"Multicultural","A Taste of Culture","Foods of Spain","978-0-7377-5514-5","KidHaven Publishing","eBook",1,2008,null,"eBook",null,"Author","Barbara Sheen",null,null,null,null,null,null,"Years 8 - 11",null,"Grade 3 - 6","Explores the foods, cooking traditions, customs, eating habits, and food sources of Spain. Studying world cultures has never tasted so good! A delectable blend of geography, history, health, daily life, celebrations and customs. A Taste of Culture offers a rich array of culinary and cultural elements. Specifically prepared for upper-elementary and lower-middle school students, each volume in this series introduces a country and its culture by way of its foods, cooking traditions, recipes, customs, eating habits and food sources.","English",38.72,38.72,"641.5946","64 pp.",{"$f":"Table1[[#This Row],['# of Books]]*Table1[[#This Row],[QTY]]","v":0},{"$f":"Table1[[#This Row],[QTY]]*Table1[[#This Row],[School & Library Price]]","v":0}]
[null,108,null,"Multicultural","A Taste of Culture","Foods of the Caribbean","978-0-7377-5515-2","KidHaven Publishing","eBook",1,2008,null,"eBook",null,"Author","Barbara Sheen",null,null,null,null,null,null,"Years 8 - 11",null,"Grade 3 - 6","Explores the foods, cooking traditions, customs, eating habits, and food sources of the Caribbean. Studying world cultures has never tasted so good! A delectable blend of geography, history, health, daily life, celebrations and customs. A Taste of Culture offers a rich array of culinary and cultural elements. Specifically prepared for upper-elementary and lower-middle school students, each volume in this series introduces a country and its culture by way of its foods, cooking traditions, recipes, customs, eating habits and food sources.","English",38.72,38.72,"641.59729","64 pp.",{"$f":"Table1[[#This Row],['# of Books]]*Table1[[#This Row],[QTY]]","v":0},{"$f":"Table1[[#This Row],[QTY]]*Table1[[#This Row],[School & Library Price]]","v":0}]
[null,109,null,"Myths & Mysteries","Monsters","Bunyips","978-0-7377-6010-1","KidHaven Publishing","eBook",1,2011,null,"eBook",null,"Author","Shirley Raye Redmond",null,null,null,null,null,null,"Years 9 - 13",null,"Grade 4 - 8","In this volume, an international group of contributors provides a multi-layered analysis of the emerging East Asian media culture, using the Korean TV drama as its analytic vehicle. By closely examining the political economy of TV industry, audiences of the regional media flows in terms of gender subjectivity constructions, perceptions of colonial-postcolonial relationships, and nationalist responses to trans-national media culture exchanges, contributors highlight the multiple connectivities and implications of popular cultural flows and exchanges in East Asia. In spite of the obvious flows and exchanges that constitute pan-East Asian Pop Culture as a relatively coherent unit, the academic research community is far behind the cultural industry producers who have long factored the regional consumer market into their production and marketing. This volume is motivated by the need to find both the conceptual and institutional site(s) for the constitution of an East Asian Pop Culture. The resulting discoveries demonstrate that this culture co-exists with US domination in global media industry, and offers new empirical and conceptual insights into cultural globalization.","English",38.72,38.72,"398.24","48 pp.",{"$f":"Table1[[#This Row],['# of Books]]*Table1[[#This Row],[QTY]]","v":0},{"$f":"Table1[[#This Row],[QTY]]*Table1[[#This Row],[School & Library Price]]","v":0}]
[null,109,null,"Myths & Mysteries","Monsters","Bunyips","978-0-7377-5919-8","KidHaven Publishing","Library Bound Book",1,2011,null,"Library Bound","6.000 X 9.000","Author","Shirley Raye Redmond",null,null,null,null,null,null,"Years 9 - 13",null,"Grade 4 - 8","In this volume, an international group of contributors provides a multi-layered analysis of the emerging East Asian media culture, using the Korean TV drama as its analytic vehicle. By closely examining the political economy of TV industry, audiences of the regional media flows in terms of gender subjectivity constructions, perceptions of colonial-postcolonial relationships, and nationalist responses to trans-national media culture exchanges, contributors highlight the multiple connectivities and implications of popular cultural flows and exchanges in East Asia. In spite of the obvious flows and exchanges that constitute pan-East Asian Pop Culture as a relatively coherent unit, the academic research community is far behind the cultural industry producers who have long factored the regional consumer market into their production and marketing. This volume is motivated by the need to find both the conceptual and institutional site(s) for the constitution of an East Asian Pop Culture. The resulting discoveries demonstrate that this culture co-exists with US domination in global media industry, and offers new empirical and conceptual insights into cultural globalization.","English",35.200000000000003,28.160000000000004,"398.24","48 pp.",{"$f":"Table1[[#This Row],['# of Books]]*Table1[[#This Row],[QTY]]","v":0},{"$f":"Table1[[#This Row],[QTY]]*Table1[[#This Row],[School & Library Price]]","v":0}]
[null,109,null,"Myths & Mysteries","Monsters","Cerberus","978-0-7377-4274-9","KidHaven Publishing","Library Bound Book",1,2009,null,"Library Bound","6.000 X 9.000","Author","Shirley Raye Redmond",null,null,null,null,null,null,"Years 9 - 13",null,"Grade 4 - 8",null,"English",35.200000000000003,28.160000000000004,"398","48 pp.",{"$f":"Table1[[#This Row],['# of Books]]*Table1[[#This Row],[QTY]]","v":0},{"$f":"Table1[[#This Row],[QTY]]*Table1[[#This Row],[School & Library Price]]","v":0}]
[null,109,null,"Myths & Mysteries","Monsters","Genies","978-0-7377-5051-5","KidHaven Publishing","Library Bound Book",1,2010,null,"Library Bound","6.000 X 9.000","Author","Bonnie Juettner",null,null,null,null,null,null,"Years 9 - 13",null,"Grade 4 - 8","Weird, creepy, and mysterious creatures from real life, movies, and mythology run amok in the Monsters series. This book describes genies, with all their terrifying characteristics and malicious behavior. Often said to be shape-shifters and tricksters, genies were thought to have the ability to turn into a menacing vapor or become invisible to humans at will. They might live for thousands of years, lurking underground, in deserts, or, famously, in lamps. Here, the potential origins of the popular genie stories are examined and compared.","English",35.200000000000003,28.160000000000004,"297","48 pp.",{"$f":"Table1[[#This Row],['# of Books]]*Table1[[#This Row],[QTY]]","v":0},{"$f":"Table1[[#This Row],[QTY]]*Table1[[#This Row],[School & Library Price]]","v":0}]
[null,109,null,"Myths & Mysteries","Monsters","Golem","978-0-7377-5866-5","KidHaven Publishing","Library Bound Book",1,2012,null,"Library Bound","6.000 X 9.000","Author","Shirley Raye Redmond",null,null,null,null,null,null,"Years 9 - 13",null,"Grade 4 - 8",null,"English",35.200000000000003,28.160000000000004,"398","48 pp.",{"$f":"Table1[[#This Row],['# of Books]]*Table1[[#This Row],[QTY]]","v":0},{"$f":"Table1[[#This Row],[QTY]]*Table1[[#This Row],[School & Library Price]]","v":0}]
[null,109,null,"Myths & Mysteries","Monsters","Griffins","978-0-7377-4043-1","KidHaven Publishing","Library Bound Book",1,2008,null,"Library Bound","6.000 X 9.000","Author","Bonnie Juettner",null,null,null,null,null,null,"Years 9 - 13",null,"Grade 4 - 8",null,"English",35.200000000000003,28.160000000000004,"001","48 pp.",{"$f":"Table1[[#This Row],['# of Books]]*Table1[[#This Row],[QTY]]","v":0},{"$f":"Table1[[#This Row],[QTY]]*Table1[[#This Row],[School & Library Price]]","v":0}]
[null,109,null,"Myths & Mysteries","Monsters","Hydra","978-0-7377-4081-3","KidHaven Publishing","Library Bound Book",1,2009,null,"Library Bound","6.000 X 9.000","Author","Jennifer Guess Mckerley",null,null,null,null,null,null,"Years 9 - 13",null,"Grade 4 - 8",null,"English",35.200000000000003,28.160000000000004,"398","48 pp.",{"$f":"Table1[[#This Row],['# of Books]]*Table1[[#This Row],[QTY]]","v":0},{"$f":"Table1[[#This Row],[QTY]]*Table1[[#This Row],[School & Library Price]]","v":0}]
[null,109,null,"Myths & Mysteries","Monsters","Killer Sharks","978-0-7377-4044-8","KidHaven Publishing","Library Bound Book",1,2008,null,"Library Bound","6.000 X 9.000","Author","Lori Mortensen",null,null,null,null,null,null,"Years 9 - 13",null,"Grade 4 - 8",null,"English",35.200000000000003,28.160000000000004,"597","48 pp.",{"$f":"Table1[[#This Row],['# of Books]]*Table1[[#This Row],[QTY]]","v":0},{"$f":"Table1[[#This Row],[QTY]]*Table1[[#This Row],[School & Library Price]]","v":0}]
[null,109,null,"Myths & Mysteries","Monsters","Martians","978-0-7377-3639-7","KidHaven Publishing","Library Bound Book",1,2008,null,"Library Bound","6.000 X 9.000","Author","Don Nardo",null,null,null,null,null,null,"Years 9 - 13",null,"Grade 4 - 8",null,"English",35.200000000000003,28.160000000000004,"001","48 pp.",{"$f":"Table1[[#This Row],['# of Books]]*Table1[[#This Row],[QTY]]","v":0},{"$f":"Table1[[#This Row],[QTY]]*Table1[[#This Row],[School & Library Price]]","v":0}]
[null,109,null,"Myths & Mysteries","Monsters","Mermaids","978-0-7377-3634-2","KidHaven Publishing","Library Bound Book",1,2008,null,"Library Bound","6.000 X 9.000","Author","Shirley Raye Redmond",null,null,null,null,null,null,"Years 9 - 13",null,"Grade 4 - 8",null,"English",35.200000000000003,28.160000000000004,"398","48 pp.",{"$f":"Table1[[#This Row],['# of Books]]*Table1[[#This Row],[QTY]]","v":0},{"$f":"Table1[[#This Row],[QTY]]*Table1[[#This Row],[School & Library Price]]","v":0}]
[null,109,null,"Myths & Mysteries","Monsters","Ogres","978-0-7377-5531-2","KidHaven Publishing","eBook",1,2011,null,"eBook",null,"Author","Rachel Lynette",null,null,null,null,null,null,"Years 9 - 13",null,"Grade 4 - 8",null,"English",38.72,38.72,"398.21","48 pp.",{"$f":"Table1[[#This Row],['# of Books]]*Table1[[#This Row],[QTY]]","v":0},{"$f":"Table1[[#This Row],[QTY]]*Table1[[#This Row],[School & Library Price]]","v":0}]
[null,109,null,"Myths & Mysteries","Monsters","Pegasus","978-0-7377-4082-0","KidHaven Publishing","Library Bound Book",1,2009,null,"Library Bound","6.000 X 9.000","Author","Q. L. Pearce",null,null,null,null,null,null,"Years 9 - 13",null,"Grade 4 - 8",null,"English",35.200000000000003,28.160000000000004,"398","48 pp.",{"$f":"Table1[[#This Row],['# of Books]]*Table1[[#This Row],[QTY]]","v":0},{"$f":"Table1[[#This Row],[QTY]]*Table1[[#This Row],[School & Library Price]]","v":0}]
[null,109,null,"Myths & Mysteries","Monsters","Phoenix","978-0-7377-4045-5","KidHaven Publishing","Library Bound Book",1,2009,null,"Library Bound","6.000 X 9.000","Author","Bonnie Juettner",null,null,null,null,null,null,"Years 9 - 13",null,"Grade 4 - 8",null,"English",35.200000000000003,28.160000000000004,"001","48 pp.",{"$f":"Table1[[#This Row],['# of Books]]*Table1[[#This Row],[QTY]]","v":0},{"$f":"Table1[[#This Row],[QTY]]*Table1[[#This Row],[School & Library Price]]","v":0}]
[null,109,null,"Myths & Mysteries","Monsters","Sirens","978-0-7377-3451-5","KidHaven Publishing","Library Bound Book",1,2008,null,"Library Bound","6.000 X 9.000","Author","Mary Schulte",null,null,null,null,null,null,"Years 9 - 13",null,"Grade 4 - 8",null,"English",35.200000000000003,28.160000000000004,"398","48 pp.",{"$f":"Table1[[#This Row],['# of Books]]*Table1[[#This Row],[QTY]]","v":0},{"$f":"Table1[[#This Row],[QTY]]*Table1[[#This Row],[School & Library Price]]","v":0}]
[null,109,null,"Myths & Mysteries","Monsters","The Abominable Snowman","978-0-7377-3448-5","KidHaven Publishing","Library Bound Book",1,2008,null,"Library Bound","6.000 X 9.000","Author","Rachel Lynette",null,null,null,null,null,null,"Years 9 - 13",null,"Grade 4 - 8",null,"English",35.200000000000003,28.160000000000004,"001","48 pp.",{"$f":"Table1[[#This Row],['# of Books]]*Table1[[#This Row],[QTY]]","v":0},{"$f":"Table1[[#This Row],[QTY]]*Table1[[#This Row],[School & Library Price]]","v":0}]
[null,109,null,"Myths & Mysteries","Monsters","The Jersey Devil","978-0-7377-4407-1","KidHaven Publishing","Library Bound Book",1,2009,null,"Library Bound","6.000 X 9.000","Author","Shirley Raye Redmond",null,null,null,null,null,null,"Years 9 - 13",null,"Grade 4 - 8",null,"English",35.200000000000003,28.160000000000004,"398","48 pp.",{"$f":"Table1[[#This Row],['# of Books]]*Table1[[#This Row],[QTY]]","v":0},{"$f":"Table1[[#This Row],[QTY]]*Table1[[#This Row],[School & Library Price]]","v":0}]
[null,109,null,"Myths & Mysteries","Monsters","The Kraken","978-0-7377-3531-4","KidHaven Publishing","Library Bound Book",1,2008,null,"Library Bound","6.000 X 9.000","Author","Jennifer McKerley",null,null,null,null,null,null,"Years 9 - 13",null,"Grade 4 - 8",null,"English",35.200000000000003,28.160000000000004,"001","48 pp.",{"$f":"Table1[[#This Row],['# of Books]]*Table1[[#This Row],[QTY]]","v":0},{"$f":"Table1[[#This Row],[QTY]]*Table1[[#This Row],[School & Library Price]]","v":0}]
[null,109,null,"Myths & Mysteries","Monsters","The Minotaur","978-0-7377-3590-1","KidHaven Publishing","Library Bound Book",1,2008,null,"Library Bound","6.000 X 9.000","Author","Mary Schulte",null,null,null,null,null,null,"Years 9 - 13",null,"Grade 4 - 8",null,"English",35.200000000000003,28.160000000000004,"398","48 pp.",{"$f":"Table1[[#This Row],['# of Books]]*Table1[[#This Row],[QTY]]","v":0},{"$f":"Table1[[#This Row],[QTY]]*Table1[[#This Row],[School & Library Price]]","v":0}]
[null,109,null,"Myths & Mysteries","Monsters","Trolls","978-0-7377-4408-8","KidHaven Publishing","Library Bound Book",1,2009,null,"Library Bound","6.000 X 9.000","Author","Rachel Lynette",null,null,null,null,null,null,"Years 9 - 13",null,"Grade 4 - 8",null,"English",35.200000000000003,28.160000000000004,"398","48 pp.",{"$f":"Table1[[#This Row],['# of Books]]*Table1[[#This Row],[QTY]]","v":0},{"$f":"Table1[[#This Row],[QTY]]*Table1[[#This Row],[School & Library Price]]","v":0}]
[null,109,null,"Myths & Mysteries","Monsters","Wendigo","978-0-7377-4409-5","KidHaven Publishing","Library Bound Book",1,2009,null,"Library Bound","6.000 X 9.000","Author","Q. L. Pearce",null,null,null,null,null,null,"Years 9 - 13",null,"Grade 4 - 8",null,"English",35.200000000000003,28.160000000000004,"398","48 pp.",{"$f":"Table1[[#This Row],['# of Books]]*Table1[[#This Row],[QTY]]","v":0},{"$f":"Table1[[#This Row],[QTY]]*Table1[[#This Row],[School & Library Price]]","v":0}]
[null,110,null,"Myths & Mysteries","Mysterious Encounters","Area 51","978-0-7377-5488-9","KidHaven Publishing","eBook",1,2009,null,"eBook",null,"Author","Gail B. Stewart",null,null,null,null,null,null,"Years 9 - 13",null,"Grade 4 - 8","This title provides eyewitness accounts, with alternative explanations and other elements of reasoning, to explore the most secret place on Earth, Area 51. Paranormal encounters fascinate young readers, and this exciting series is devoted to them. Heavily illustrated and clearly written, each book presents phenomena such as aliens, ghosts and werewolves.","English",36.96,36.96,"001.942","48 pp.",{"$f":"Table1[[#This Row],['# of Books]]*Table1[[#This Row],[QTY]]","v":0},{"$f":"Table1[[#This Row],[QTY]]*Table1[[#This Row],[School & Library Price]]","v":0}]
[null,110,null,"Myths & Mysteries","Mysterious Encounters","Atlantis","978-0-7377-6004-0","KidHaven Publishing","eBook",1,2011,null,"eBook",null,"Author","Stuart A. Kallen",null,null,null,null,null,null,"Years 9 - 13",null,"Grade 4 - 8",null,"English",36.96,36.96,"398.23","48 pp.",{"$f":"Table1[[#This Row],['# of Books]]*Table1[[#This Row],[QTY]]","v":0},{"$f":"Table1[[#This Row],[QTY]]*Table1[[#This Row],[School & Library Price]]","v":0}]
[null,110,null,"Myths & Mysteries","Mysterious Encounters","Atlantis","978-0-7377-5534-3","KidHaven Publishing","Library Bound Book",1,2011,null,"Library Bound","6.000 X 9.000","Author","Stuart A. Kallen",null,null,null,null,null,null,"Years 9 - 13",null,"Grade 4 - 8",null,"English",33.6,26.880000000000003,"398","48 pp.",{"$f":"Table1[[#This Row],['# of Books]]*Table1[[#This Row],[QTY]]","v":0},{"$f":"Table1[[#This Row],[QTY]]*Table1[[#This Row],[School & Library Price]]","v":0}]
[null,110,null,"Myths & Mysteries","Mysterious Encounters","Bigfoot","978-0-7377-3473-7","KidHaven Publishing","Library Bound Book",1,2006,null,"Library Bound","6.000 X 9.000","Author","Adam Woog",null,null,null,null,null,null,"Years 9 - 13",null,"Grade 4 - 8","The mysterious, ape-like creature called Bigfoot or Sasquatch has fascinated people for hundreds of years, though its existence has never been proven. Genuine or not, exciting tales of close encounters with Bigfoot have appeared regularly -- from the earliest Native American legends to today's sophisticated, high-tech field research.","English",33.6,26.880000000000003,"001.944","48 pp.",{"$f":"Table1[[#This Row],['# of Books]]*Table1[[#This Row],[QTY]]","v":0},{"$f":"Table1[[#This Row],[QTY]]*Table1[[#This Row],[School & Library Price]]","v":0}]
[null,110,null,"Myths & Mysteries","Mysterious Encounters","Burial Grounds","978-0-7377-5490-2","KidHaven Publishing","eBook",1,2010,null,"eBook",null,"Author","Rachel Lynette",null,null,null,null,null,null,"Years 9 - 13",null,"Grade 4 - 8","This title provides an introduction to burial grounds, including medieval rituals to superstitions about the dead, all manner of burials are described, including pet cemeteries, military cemeteries and the Alaskan practice of freezing corpses over the winter in anticipation of the spring thaw. Paranormal encounters fascinate young readers, and this exciting series is devoted to them. Heavily illustrated and clearly written, each book presents phenomena such as aliens, ghosts and werewolves.","English",36.96,36.96,"363.7","48 pp.",{"$f":"Table1[[#This Row],['# of Books]]*Table1[[#This Row],[QTY]]","v":0},{"$f":"Table1[[#This Row],[QTY]]*Table1[[#This Row],[School & Library Price]]","v":0}]
[null,110,null,"Myths & Mysteries","Mysterious Encounters","Burial Grounds","978-0-7377-4411-8","KidHaven Publishing","Library Bound Book",1,2010,null,"Library Bound","6.000 X 9.000","Author","Rachel Lynette",null,null,null,null,null,null,"Years 9 - 13",null,"Grade 4 - 8",null,"English",33.6,26.880000000000003,"133","48 pp.",{"$f":"Table1[[#This Row],['# of Books]]*Table1[[#This Row],[QTY]]","v":0},{"$f":"Table1[[#This Row],[QTY]]*Table1[[#This Row],[School & Library Price]]","v":0}]
[null,110,null,"Myths & Mysteries","Mysterious Encounters","Cities of Gold","978-0-7377-5036-2","KidHaven Publishing","Library Bound Book",1,2010,null,"Library Bound","6.000 X 9.000","Author","Shirley Raye Redmond",null,null,null,null,null,null,"Years 9 - 13",null,"Grade 4 - 8","Eyewitness accounts of legends and paranormal encounters enthrall young readers, and provide a unique opportunity for them to develop and use critical thinking skills. This book chronicles man’s endless fascination with and pursuit of lost treasure. It describes the most famous expeditions made to find fabled cities of gold, with stories about Aztec and Incan treasure, the city of Gran Paititi, the Seven Cities of Cibola, Quivira, and El Dorado.","English",33.6,26.880000000000003,"001","48 pp.",{"$f":"Table1[[#This Row],['# of Books]]*Table1[[#This Row],[QTY]]","v":0},{"$f":"Table1[[#This Row],[QTY]]*Table1[[#This Row],[School & Library Price]]","v":0}]
[null,110,null,"Myths & Mysteries","Mysterious Encounters","Crop Circles","978-0-7377-5491-9","KidHaven Publishing","eBook",1,2008,null,"eBook",null,"Author","Jan Burns",null,null,null,null,null,null,"Years 9 - 13",null,"Grade 4 - 8","This title provides an introduction to crop circles, including various theories about how these designs have been created. Paranormal encounters fascinate young readers, and this exciting series is devoted to them. Heavily illustrated and clearly written, each book presents phenomena such as aliens, ghosts and werewolves.","English",36.96,36.96,"001.94","48 pp.",{"$f":"Table1[[#This Row],['# of Books]]*Table1[[#This Row],[QTY]]","v":0},{"$f":"Table1[[#This Row],[QTY]]*Table1[[#This Row],[School & Library Price]]","v":0}]
[null,110,null,"Myths & Mysteries","Mysterious Encounters","Crop Circles","978-0-7377-4047-9","KidHaven Publishing","Library Bound Book",1,2008,null,"Library Bound","6.000 X 9.000","Author","Jan Burns",null,null,null,null,null,null,"Years 9 - 13",null,"Grade 4 - 8",null,"English",33.6,26.880000000000003,"001","48 pp.",{"$f":"Table1[[#This Row],['# of Books]]*Table1[[#This Row],[QTY]]","v":0},{"$f":"Table1[[#This Row],[QTY]]*Table1[[#This Row],[School & Library Price]]","v":0}]
[null,110,null,"Myths & Mysteries","Mysterious Encounters","Curses","978-0-7377-5917-4","KidHaven Publishing","eBook",1,2011,null,"eBook",null,"Author","Rachel Lynette",null,null,null,null,null,null,"Years 9 - 13",null,"Grade 4 - 8",null,"English",36.96,36.96,"398.41","48 pp.",{"$f":"Table1[[#This Row],['# of Books]]*Table1[[#This Row],[QTY]]","v":0},{"$f":"Table1[[#This Row],[QTY]]*Table1[[#This Row],[School & Library Price]]","v":0}]
[null,110,null,"Myths & Mysteries","Mysterious Encounters","ESP","978-0-7377-5493-3","KidHaven Publishing","eBook",1,2009,null,"eBook",null,"Author","Kevin Hile",null,null,null,null,null,null,"Years 9 - 13",null,"Grade 4 - 8","Provides eyewitness accounts of situations in which people have displayed extrasensory perception (ESP) and discusses alternative explanations for these occurrences. Paranormal encounters fascinate young readers, and this exciting series is devoted to them. Heavily illustrated and clearly written, each book presents phenomena such as aliens, ghosts and werewolves.","English",36.96,36.96,"133.8","48 pp.",{"$f":"Table1[[#This Row],['# of Books]]*Table1[[#This Row],[QTY]]","v":0},{"$f":"Table1[[#This Row],[QTY]]*Table1[[#This Row],[School & Library Price]]","v":0}]
[null,110,null,"Myths & Mysteries","Mysterious Encounters","ESP","978-0-7377-4084-4","KidHaven Publishing","Library Bound Book",1,2009,null,"Library Bound","6.000 X 9.000","Author","Kevin Hile",null,null,null,null,null,null,"Years 9 - 13",null,"Grade 4 - 8",null,"English",33.6,26.880000000000003,"133","48 pp.",{"$f":"Table1[[#This Row],['# of Books]]*Table1[[#This Row],[QTY]]","v":0},{"$f":"Table1[[#This Row],[QTY]]*Table1[[#This Row],[School & Library Price]]","v":0}]
[null,110,null,"Myths & Mysteries","Mysterious Encounters","Fortune-Telling","978-0-7377-5494-0","KidHaven Publishing","eBook",1,2009,null,"eBook",null,"Author","Katherine E. Krohn",null,null,null,null,null,null,"Years 9 - 13",null,"Grade 4 - 8","Paranormal encounters fascinate young readers, and this exciting series is devoted to them. Features some of the most popular methods of predicting the future, including astrology, palm reading, and tea-leaf reading. Heavily illustrated and clearly written, each book presents phenomena such as aliens, ghosts and werewolves.","English",36.96,36.96,"133.3","48 pp.",{"$f":"Table1[[#This Row],['# of Books]]*Table1[[#This Row],[QTY]]","v":0},{"$f":"Table1[[#This Row],[QTY]]*Table1[[#This Row],[School & Library Price]]","v":0}]
[null,110,null,"Myths & Mysteries","Mysterious Encounters","Fortune-Telling","978-0-7377-4085-1","KidHaven Publishing","Library Bound Book",1,2009,null,"Library Bound","6.000 X 9.000","Author","Katherine Krohn",null,null,null,null,null,null,"Years 9 - 13",null,"Grade 4 - 8",null,"English",33.6,26.880000000000003,"133","48 pp.",{"$f":"Table1[[#This Row],['# of Books]]*Table1[[#This Row],[QTY]]","v":0},{"$f":"Table1[[#This Row],[QTY]]*Table1[[#This Row],[School & Library Price]]","v":0}]
[null,110,null,"Myths & Mysteries","Mysterious Encounters","Ghost Hunters","978-0-7377-5876-4","KidHaven Publishing","eBook",1,2011,null,"eBook",null,"Author","Q. L. Pearce",null,null,null,null,null,null,"Years 9 - 13",null,"Grade 4 - 8","Provides eyewitness accounts, with alternative explanations and other elements of reasoning, to explore legends surrounding the tales of ghosts and haunted houses. Paranormal encounters fascinate young readers, and this exciting series is devoted to them. Heavily illustrated and clearly written, each book presents phenomena such as aliens, ghosts and werewolves.","English",36.96,36.96,"133.1","48 pp.",{"$f":"Table1[[#This Row],['# of Books]]*Table1[[#This Row],[QTY]]","v":0},{"$f":"Table1[[#This Row],[QTY]]*Table1[[#This Row],[School & Library Price]]","v":0}]
[null,110,null,"Myths & Mysteries","Mysterious Encounters","Ghost Hunters","978-0-7377-5290-8","KidHaven Publishing","Library Bound Book",1,2011,null,"Library Bound","6.000 X 9.000","Author","Q. L. Pearce",null,null,null,null,null,null,"Years 9 - 13",null,"Grade 4 - 8",null,"English",33.6,26.880000000000003,"133","48 pp.",{"$f":"Table1[[#This Row],['# of Books]]*Table1[[#This Row],[QTY]]","v":0},{"$f":"Table1[[#This Row],[QTY]]*Table1[[#This Row],[School & Library Price]]","v":0}]
[null,110,null,"Myths & Mysteries","Mysterious Encounters","Ghost Ships","978-0-7377-5495-7","KidHaven Publishing","eBook",1,2009,null,"eBook",null,"Author","Kevin Hile",null,null,null,null,null,null,"Years 9 - 13",null,"Grade 4 - 8","Provides eyewitness accounts, with alternative explanations and other elements of reasoning, to explore legends surrounding the mysterious appearances of ghost ships. Paranormal encounters fascinate young readers, and this exciting series is devoted to them. Heavily illustrated and clearly written, each book presents phenomena such as aliens, ghosts and werewolves.","English",36.96,36.96,"133.1","48 pp.",{"$f":"Table1[[#This Row],['# of Books]]*Table1[[#This Row],[QTY]]","v":0},{"$f":"Table1[[#This Row],[QTY]]*Table1[[#This Row],[School & Library Price]]","v":0}]
[null,110,null,"Myths & Mysteries","Mysterious Encounters","Ghost Ships","978-0-7377-4086-8","KidHaven Publishing","Library Bound Book",1,2009,null,"Library Bound","6.000 X 9.000","Author","Kevin Hile",null,null,null,null,null,null,"Years 9 - 13",null,"Grade 4 - 8",null,"English",33.6,26.880000000000003,"133","48 pp.",{"$f":"Table1[[#This Row],['# of Books]]*Table1[[#This Row],[QTY]]","v":0},{"$f":"Table1[[#This Row],[QTY]]*Table1[[#This Row],[School & Library Price]]","v":0}]
[null,110,null,"Myths & Mysteries","Mysterious Encounters","Haunted Houses","978-0-7377-3475-1","KidHaven Publishing","Library Bound Book",1,2006,null,"Library Bound","6.000 X 9.000","Author","Kelli M. Brucken",null,null,null,null,null,null,"Years 9 - 13",null,"Grade 4 - 8","Touches by unseen hands, phantom footsteps, and icy cold blasts, those are just a few things that can be encountered in a haunted house. In this exciting book, readers explore a supernatural world with spooky true life tales from inside the walls of haunted houses.","English",33.6,26.880000000000003,"133.1","48 pp.",{"$f":"Table1[[#This Row],['# of Books]]*Table1[[#This Row],[QTY]]","v":0},{"$f":"Table1[[#This Row],[QTY]]*Table1[[#This Row],[School & Library Price]]","v":0}]
[null,110,null,"Myths & Mysteries","Mysterious Encounters","La Llorona: The Crying Woman","978-0-7377-5496-4","KidHaven Publishing","eBook",1,2010,null,"eBook",null,"Author","Q. L. Pearce",null,null,null,null,null,null,"Years 9 - 13",null,"Grade 4 - 8","This title recounts the legend of La Llorona, the Crying Woman, who is said to haunt the banks of the Rio Grande among many other locations. Paranormal encounters fascinate young readers, and this exciting series is devoted to them. Heavily illustrated and clearly written, each book presents phenomena such as aliens, ghosts and werewolves.","English",36.96,36.96,"398.2098","48 pp.",{"$f":"Table1[[#This Row],['# of Books]]*Table1[[#This Row],[QTY]]","v":0},{"$f":"Table1[[#This Row],[QTY]]*Table1[[#This Row],[School & Library Price]]","v":0}]
[null,110,null,"Myths & Mysteries","Mysterious Encounters","Miracles","978-0-7377-5497-1","KidHaven Publishing","eBook",1,2008,null,"eBook",null,"Author","Toney Allman",null,null,null,null,null,null,"Years 9 - 13",null,"Grade 4 - 8","This title provides eyewitness accounts, with alternative explanations and other elements of reasoning, to explore the mysterious occurrences of miracles. Paranormal encounters fascinate young readers, and this exciting series is devoted to them. Heavily illustrated and clearly written, each book presents phenomena such as aliens, ghosts and werewolves.","English",36.96,36.96,"202.117","48 pp.",{"$f":"Table1[[#This Row],['# of Books]]*Table1[[#This Row],[QTY]]","v":0},{"$f":"Table1[[#This Row],[QTY]]*Table1[[#This Row],[School & Library Price]]","v":0}]
[null,110,null,"Myths & Mysteries","Mysterious Encounters","Miracles","978-0-7377-4087-5","KidHaven Publishing","Library Bound Book",1,2008,null,"Library Bound","6.000 X 9.000","Author","Toney Allman",null,null,null,null,null,null,"Years 9 - 13",null,"Grade 4 - 8",null,"English",33.6,26.880000000000003,"202","48 pp.",{"$f":"Table1[[#This Row],['# of Books]]*Table1[[#This Row],[QTY]]","v":0},{"$f":"Table1[[#This Row],[QTY]]*Table1[[#This Row],[School & Library Price]]","v":0}]
[null,110,null,"Myths & Mysteries","Mysterious Encounters","Mothman","978-0-7377-5466-7","KidHaven Publishing","eBook",1,2010,null,"eBook",null,"Author","Q. L. Pearce",null,null,null,null,null,null,"Years 9 - 13",null,"Grade 4 - 8","Paranormal encounters fascinate young readers, and this exciting series is devoted to them. Heavily illustrated and clearly written, each book presents phenomena such as aliens, ghosts and werewolves. Eyewitness accounts are paired with alternative explanations and other elements of reasoning, accompanied by critical thinking sidebars, color photographs, illustrations and diagrams.","English",36.96,36.96,"001.944","48 pp.",{"$f":"Table1[[#This Row],['# of Books]]*Table1[[#This Row],[QTY]]","v":0},{"$f":"Table1[[#This Row],[QTY]]*Table1[[#This Row],[School & Library Price]]","v":0}]
[null,110,null,"Myths & Mysteries","Mysterious Encounters","Mothman","978-0-7377-5037-9","KidHaven Publishing","Library Bound Book",1,2010,null,"Library Bound","6.000 X 9.000","Author","Q. L. Pearce",null,null,null,null,null,null,"Years 9 - 13",null,"Grade 4 - 8","Eyewitness accounts of paranormal encounters enthrall young readers and challenge their critical thinking skills. This book describes the creature dubbed \"Mothman\" by the press. Beginning in Virginia in the early 1960s, witnesses reported sighting a flying creature about seven feet tall with a wingspan of more than ten feet, glowing red eyes and scaly skin. It made a screeching sound, caused radio interference, and seemed to have some sort of mind control power. As reports continued, more powers were attributed to the creature and the legend grew.","English",33.6,26.880000000000003,"001","48 pp.",{"$f":"Table1[[#This Row],['# of Books]]*Table1[[#This Row],[QTY]]","v":0},{"$f":"Table1[[#This Row],[QTY]]*Table1[[#This Row],[School & Library Price]]","v":0}]
[null,110,null,"Myths & Mysteries","Mysterious Encounters","Mysterious Disappearances","978-0-7377-6039-2","KidHaven Publishing","eBook",1,2011,null,"eBook",null,"Author","Q. L. Pearce",null,null,null,null,null,null,"Years 9 - 13",null,"Grade 4 - 8",null,"English",36.96,36.96,"001.94","48 pp.",{"$f":"Table1[[#This Row],['# of Books]]*Table1[[#This Row],[QTY]]","v":0},{"$f":"Table1[[#This Row],[QTY]]*Table1[[#This Row],[School & Library Price]]","v":0}]
[null,110,null,"Myths & Mysteries","Mysterious Encounters","Mysterious Disappearances","978-0-7377-5840-5","KidHaven Publishing","Library Bound Book",1,2011,null,"Library Bound","6.000 X 9.000","Author","Q. L. Pearce",null,null,null,null,null,null,"Years 9 - 13",null,"Grade 4 - 8",null,"English",33.6,26.880000000000003,"001.94","48 pp.",{"$f":"Table1[[#This Row],['# of Books]]*Table1[[#This Row],[QTY]]","v":0},{"$f":"Table1[[#This Row],[QTY]]*Table1[[#This Row],[School & Library Price]]","v":0}]
[null,110,null,"Myths & Mysteries","Mysterious Encounters","Oak Island Treasure Pit","978-0-7377-6005-7","KidHaven Publishing","eBook",1,2011,null,"eBook",null,"Author","Shirley Raye Redmond",null,null,null,null,null,null,"Years 9 - 13",null,"Grade 4 - 8",null,"English",36.96,36.96,"971.6","48 pp.",{"$f":"Table1[[#This Row],['# of Books]]*Table1[[#This Row],[QTY]]","v":0},{"$f":"Table1[[#This Row],[QTY]]*Table1[[#This Row],[School & Library Price]]","v":0}]
[null,110,null,"Myths & Mysteries","Mysterious Encounters","Poltergeists","978-0-7377-3665-6","KidHaven Publishing","Library Bound Book",1,2007,null,"Library Bound","6.000 X 9.000","Author","Katy Duffield",null,null,null,null,null,null,"Years 9 - 13",null,"Grade 4 - 8",null,"English",33.6,26.880000000000003,"133.1","48 pp.",{"$f":"Table1[[#This Row],['# of Books]]*Table1[[#This Row],[QTY]]","v":0},{"$f":"Table1[[#This Row],[QTY]]*Table1[[#This Row],[School & Library Price]]","v":0}]
[null,110,null,"Myths & Mysteries","Mysterious Encounters","Reincarnation","978-0-7377-5498-8","KidHaven Publishing","eBook",1,2009,null,"eBook",null,"Author","Q. L. Pearce",null,null,null,null,null,null,"Years 9 - 13",null,"Grade 4 - 8","This title provides an introduction to reincarnation including different religions' beliefs, people who claim to have been reincarnated, and using hypnosis to bring back memories of a past life. Paranormal encounters fascinate young readers, and this exciting series is devoted to them. Heavily illustrated and clearly written, each book presents phenomena such as aliens, ghosts and werewolves.","English",36.96,36.96,"129","48 pp.",{"$f":"Table1[[#This Row],['# of Books]]*Table1[[#This Row],[QTY]]","v":0},{"$f":"Table1[[#This Row],[QTY]]*Table1[[#This Row],[School & Library Price]]","v":0}]
[null,110,null,"Myths & Mysteries","Mysterious Encounters","Reincarnation","978-0-7377-4412-5","KidHaven Publishing","Library Bound Book",1,2009,null,"Library Bound","6.000 X 9.000","Author","Q. L. Pearce",null,null,null,null,null,null,"Years 9 - 13",null,"Grade 4 - 8",null,"English",33.6,26.880000000000003,"129","48 pp.",{"$f":"Table1[[#This Row],['# of Books]]*Table1[[#This Row],[QTY]]","v":0},{"$f":"Table1[[#This Row],[QTY]]*Table1[[#This Row],[School & Library Price]]","v":0}]
[null,110,null,"Myths & Mysteries","Mysterious Encounters","Spontaneous Human Combustion","978-0-7377-5499-5","KidHaven Publishing","eBook",1,2009,null,"eBook",null,"Author","Stuart A. Kallen",null,null,null,null,null,null,"Years 9 - 13",null,"Grade 4 - 8","This title provides eyewitness accounts, with alternative explanations and other elements of reasoning, to explore mysterious cases of spontaneous human combustion. Paranormal encounters fascinate young readers, and this exciting series is devoted to them. Heavily illustrated and clearly written, each book presents phenomena such as aliens, ghosts and werewolves.","English",36.96,36.96,"001.94","48 pp.",{"$f":"Table1[[#This Row],['# of Books]]*Table1[[#This Row],[QTY]]","v":0},{"$f":"Table1[[#This Row],[QTY]]*Table1[[#This Row],[School & Library Price]]","v":0}]
[null,110,null,"Myths & Mysteries","Mysterious Encounters","Spontaneous Human Combustion","978-0-7377-4413-2","KidHaven Publishing","Library Bound Book",1,2009,null,"Library Bound","6.000 X 9.000","Author","Stuart A. Kallen",null,null,null,null,null,null,"Years 9 - 13",null,"Grade 4 - 8",null,"English",33.6,26.880000000000003,"001","48 pp.",{"$f":"Table1[[#This Row],['# of Books]]*Table1[[#This Row],[QTY]]","v":0},{"$f":"Table1[[#This Row],[QTY]]*Table1[[#This Row],[School & Library Price]]","v":0}]
[null,110,null,"Myths & Mysteries","Mysterious Encounters","Stonehenge","978-0-7377-5500-8","KidHaven Publishing","eBook",1,2010,null,"eBook",null,"Author","Q. L. Pearce",null,null,null,null,null,null,"Years 9 - 13",null,"Grade 4 - 8","Provides eyewitness accounts, with alternative explanations and other elements of reasoning, to explore legends surrounding the mystery of Stonehenge. Describes the Stonehenge megalithic circle on Britain's Salisbury Plain, exploring the many theories about how it was built, by whom, and why. It also examines what current studies have found about Stonehenge's builders and related ancient sites. Paranormal encounters fascinate young readers, and this exciting series is devoted to them. Heavily illustrated and clearly written, each book presents phenomena such as aliens, ghosts and werewolves.","English",36.96,36.96,"936","48 pp.",{"$f":"Table1[[#This Row],['# of Books]]*Table1[[#This Row],[QTY]]","v":0},{"$f":"Table1[[#This Row],[QTY]]*Table1[[#This Row],[School & Library Price]]","v":0}]
[null,110,null,"Myths & Mysteries","Mysterious Encounters","The Afterlife","978-0-7377-5487-2","KidHaven Publishing","eBook",1,2008,null,"eBook",null,"Author","Rachel Lynette",null,null,null,null,null,null,"Years 9 - 13",null,"Grade 4 - 8",null,"English",36.96,36.96,"133.901","48 pp.",{"$f":"Table1[[#This Row],['# of Books]]*Table1[[#This Row],[QTY]]","v":0},{"$f":"Table1[[#This Row],[QTY]]*Table1[[#This Row],[School & Library Price]]","v":0}]
[null,110,null,"Myths & Mysteries","Mysterious Encounters","The Bermuda Triangle","978-0-7377-5489-6","KidHaven Publishing","eBook",1,2008,null,"eBook",null,"Author","Katy Duffield",null,null,null,null,null,null,"Years 9 - 13",null,"Grade 4 - 8","This title provides eyewitness accounts, with alternative explanations and other elements of reasoning, to explore the mysterious disappearances of ships and planes in that area of the Atlantic Ocean called the Bermuda Triangle. Paranormal encounters fascinate young readers, and this exciting series is devoted to them. Heavily illustrated and clearly written, each book presents phenomena such as aliens, ghosts and werewolves.","English",36.96,36.96,"001.94","48 pp.",{"$f":"Table1[[#This Row],['# of Books]]*Table1[[#This Row],[QTY]]","v":0},{"$f":"Table1[[#This Row],[QTY]]*Table1[[#This Row],[School & Library Price]]","v":0}]
[null,110,null,"Myths & Mysteries","Mysterious Encounters","The Devil","978-0-7377-5501-5","KidHaven Publishing","eBook",1,2008,null,"eBook",null,"Author","David Robson",null,null,null,null,null,null,"Years 9 - 13",null,"Grade 4 - 8","Provides eyewitness accounts, with alternative explanations and other elements of reasoning, to explore legends surrounding the idea of the devil from a paranormal or occult perspective. Paranormal encounters fascinate young readers, and this exciting series is devoted to them. Heavily illustrated and clearly written, each book presents phenomena such as aliens, ghosts and werewolves.","English",36.96,36.96,"133.4","48 pp.",{"$f":"Table1[[#This Row],['# of Books]]*Table1[[#This Row],[QTY]]","v":0},{"$f":"Table1[[#This Row],[QTY]]*Table1[[#This Row],[School & Library Price]]","v":0}]
[null,110,null,"Myths & Mysteries","Mysterious Encounters","The Devil","978-0-7377-3780-6","KidHaven Publishing","Library Bound Book",1,2008,null,"Library Bound","6.000 X 9.000","Author","David Robson",null,null,null,null,null,null,"Years 9 - 13",null,"Grade 4 - 8",null,"English",33.6,26.880000000000003,"235","48 pp.",{"$f":"Table1[[#This Row],['# of Books]]*Table1[[#This Row],[QTY]]","v":0},{"$f":"Table1[[#This Row],[QTY]]*Table1[[#This Row],[School & Library Price]]","v":0}]
[null,110,null,"Myths & Mysteries","Mysterious Encounters","The Dover Demon","978-0-7377-5492-6","KidHaven Publishing","eBook",1,2010,null,"eBook",null,"Author","Mary Schulte",null,null,null,null,null,null,"Years 9 - 13",null,"Grade 4 - 8","This title recounts the story of the Dover Demon, a mysterious creature that reportedly appeared in Dover, Massachusetts, in 1977.  Includes eyewitness accounts, alternative explanations and the newest theories. Paranormal encounters fascinate young readers, and this exciting series is devoted to them. Heavily illustrated and clearly written, each book presents phenomena such as aliens, ghosts and werewolves.","English",36.96,36.96,"001.944","48 pp.",{"$f":"Table1[[#This Row],['# of Books]]*Table1[[#This Row],[QTY]]","v":0},{"$f":"Table1[[#This Row],[QTY]]*Table1[[#This Row],[School & Library Price]]","v":0}]
[null,110,null,"Myths & Mysteries","Mysterious Encounters","The Dover Demon","978-0-7377-4570-2","KidHaven Publishing","Library Bound Book",1,2010,null,"Library Bound","6.000 X 9.000","Author","Mary Schulte",null,null,null,null,null,null,"Years 9 - 13",null,"Grade 4 - 8","Eyewitness accounts of legends and paranormal encounters enthrall young readers and provide a unique opportunity for them to develop and use critical thinking skills. This book recounts the story of the Dover Demon, a mysterious creature that reportedly appeared in Dover, Massachusetts, in 1977. In three separate encounters, several teenagers gave similar descriptions of an eerie and unidentifiable creature. Details are provided about the sightings, the subsequent investigation, and media reports that followed.","English",33.6,26.880000000000003,"001","48 pp.",{"$f":"Table1[[#This Row],['# of Books]]*Table1[[#This Row],[QTY]]","v":0},{"$f":"Table1[[#This Row],[QTY]]*Table1[[#This Row],[School & Library Price]]","v":0}]
[null,110,null,"Myths & Mysteries","Mysterious Encounters","The Possessed","978-0-7377-5502-2","KidHaven Publishing","eBook",1,2008,null,"eBook",null,"Author","Craig E. Blohm",null,null,null,null,null,null,"Years 9 - 13",null,"Grade 4 - 8","Paranormal encounters fascinate young readers, and this exciting series is devoted to them. Heavily illustrated and clearly written, this book describes various instances of demon possession and communicating with spirits throughout history including the Salem witch trials, possession in ancient cultures, and as portrayed by the film industry.","English",36.96,36.96,"133.4","48 pp.",{"$f":"Table1[[#This Row],['# of Books]]*Table1[[#This Row],[QTY]]","v":0},{"$f":"Table1[[#This Row],[QTY]]*Table1[[#This Row],[School & Library Price]]","v":0}]
[null,110,null,"Myths & Mysteries","Mysterious Encounters","The Possessed","978-0-7377-3781-3","KidHaven Publishing","Library Bound Book",1,2008,null,"Library Bound","6.000 X 9.000","Author","Craig E. Blohm",null,null,null,null,null,null,"Years 9 - 13",null,"Grade 4 - 8",null,"English",33.6,26.880000000000003,"133","48 pp.",{"$f":"Table1[[#This Row],['# of Books]]*Table1[[#This Row],[QTY]]","v":0},{"$f":"Table1[[#This Row],[QTY]]*Table1[[#This Row],[School & Library Price]]","v":0}]
[null,110,null,"Myths & Mysteries","Mysterious Encounters","Time Travel","978-0-7377-5503-9","KidHaven Publishing","eBook",1,2010,null,"eBook",null,"Author","Stuart A. Kallen",null,null,null,null,null,null,"Years 9 - 13",null,"Grade 4 - 8","This title provides eyewitness accounts, with alternative explanations and other elements of reasoning, to explore legends surrounding time travel. Paranormal encounters fascinate young readers, and this exciting series is devoted to them. Heavily illustrated and clearly written, each book presents phenomena such as aliens, ghosts and werewolves.","English",36.96,36.96,"115","48 pp.",{"$f":"Table1[[#This Row],['# of Books]]*Table1[[#This Row],[QTY]]","v":0},{"$f":"Table1[[#This Row],[QTY]]*Table1[[#This Row],[School & Library Price]]","v":0}]
[null,110,null,"Myths & Mysteries","Mysterious Encounters","UFOs","978-0-7377-5504-6","KidHaven Publishing","eBook",1,2008,null,"eBook",null,"Author","Jan Burns",null,null,null,null,null,null,"Years 9 - 13",null,"Grade 4 - 8","This title provides eyewitness accounts, with alternative explanations and other elements of reasoning, to explore legends surrounding UFO sightings and alien abductions. Paranormal encounters fascinate young readers, and this exciting series is devoted to them. Heavily illustrated and clearly written, each book presents phenomena such as aliens, ghosts and werewolves.","English",36.96,36.96,"001.942","48 pp.",{"$f":"Table1[[#This Row],['# of Books]]*Table1[[#This Row],[QTY]]","v":0},{"$f":"Table1[[#This Row],[QTY]]*Table1[[#This Row],[School & Library Price]]","v":0}]
[null,110,null,"Myths & Mysteries","Mysterious Encounters","Urban Legends","978-0-7377-5505-3","KidHaven Publishing","eBook",1,2008,null,"eBook",null,"Author","Rachel Lynette",null,null,null,null,null,null,"Years 9 - 13",null,"Grade 4 - 8","Paranormal encounters fascinate young readers, and this exciting series is devoted to them. Heavily illustrated and clearly written, this book examines a variety of urban legends from the strange and bizarre to animal antics.","English",36.96,36.96,"398.209173","48 pp.",{"$f":"Table1[[#This Row],['# of Books]]*Table1[[#This Row],[QTY]]","v":0},{"$f":"Table1[[#This Row],[QTY]]*Table1[[#This Row],[School & Library Price]]","v":0}]
[null,110,null,"Myths & Mysteries","Mysterious Encounters","Urban Legends","978-0-7377-4049-3","KidHaven Publishing","Library Bound Book",1,2008,null,"Library Bound","6.000 X 9.000","Author","Rachel Lynette",null,null,null,null,null,null,"Years 9 - 13",null,"Grade 4 - 8",null,"English",33.6,26.880000000000003,"398","48 pp.",{"$f":"Table1[[#This Row],['# of Books]]*Table1[[#This Row],[QTY]]","v":0},{"$f":"Table1[[#This Row],[QTY]]*Table1[[#This Row],[School & Library Price]]","v":0}]
[null,110,null,"Myths & Mysteries","Mysterious Encounters","Vampires","978-0-7377-3476-8","KidHaven Publishing","Library Bound Book",1,2006,null,"Library Bound","6.000 X 9.000","Author","Bonnie McMeans",null,null,null,null,null,null,"Years 9 - 13",null,"Grade 4 - 8","People have believed in vampires for centuries. According to legend, vampires sleep in a coffin by day and walk the earth by night in search of human blood. This book reveals the reasons for vampire superstitions and explores stories of vampire encounters and exorcisms.","English",33.6,26.880000000000003,"398","48 pp.",{"$f":"Table1[[#This Row],['# of Books]]*Table1[[#This Row],[QTY]]","v":0},{"$f":"Table1[[#This Row],[QTY]]*Table1[[#This Row],[School & Library Price]]","v":0}]

{"sheet":"Sheet2","index":1,"n_rows":27,"n_cols":10,"rows_kept":27,"cut":false,"hidden":false,"merged":[[0,6,3,8],[12,5,12,6],[4,1,4,2],[5,4,7,4],[10,5,10,6],[11,5,11,6],[21,5,21,6],[22,5,22,6],[24,5,24,6],[13,5,13,6],[15,1,15,2],[15,4,15,6],[16,5,16,6],[17,5,17,6],[18,5,18,6],[23,5,23,6]]}
[null,null,null,null,null,null,"Greenhaven Publishing\n353 3rd Avenue, Suite 255 • New York, NY 10010\nPhone: 844-317-7404 • Fax: 844-317-7405\nEmail: gh_custserv@greenhavenpub.com\ngreenhavenpublishing.com"]
[]
[]
[]
[null,"BILL TO:",null,null,null,null,null,null,null,"Visa"]
[null,"School/Library",{"$f":"Sheet1!O8","v":0},null,"For Credit card orders \nselect one:",null,null,null,null,"Mastercard"]
[null,"Attention",{"$f":"Sheet1!O9","v":0},null,null,null,"Select Card Type",null,null,"AMEX"]
[null,"Address",{"$f":"Sheet1!O11","v":0}]
[null,"City",{"$f":"Sheet1!O12","v":0}]
[null,"State",{"$f":"Sheet1!O13","v":0}]
[null,"Zip",{"$f":"Sheet1!O14","v":0},null,"Card Number"]
[null,"Phone",{"$f":"Sheet1!O16","v":0},null,"Name on Card"]
[null,"Fax",{"$f":"Sheet1!O17","v":0},null,"Exp. Date"]
[null,"email",{"$f":"Sheet1!O18","v":0},null,"CVV Code"]
[]
[null,"SHIP TO:",null,null,"SUMMARY"]
[null,"School/Library",{"$f":"Sheet1!G8","v":0},null,"Book Subtotal",{"$f":"Sheet1!AB11","v":0}]
[null,"Attention",{"$f":"Sheet1!G9","v":0},null,"Library Processing",{"$f":"Sheet1!AB12","v":0}]
[null,"Address",{"$f":"Sheet1!G11","v":0},null,"S&H",{"$f":"Sheet1!AB13","v":0}]
[null,"City",{"$f":"Sheet1!G12","v":0}]
[null,"State",{"$f":"Sheet1!G13","v":0}]
[null,"Zip",{"$f":"Sheet1!G14","v":0},null,"Tax",{"$f":"Sheet1!AB14","v":0},null,"Notes"]
[null,"Phone",{"$f":"Sheet1!G16","v":0},null,"GRAND TOTAL",{"$f":"Sheet1!AB15","v":0}]
[null,"Fax",{"$f":"Sheet1!G17","v":0},null,"Total # of Books Ordered",{"$f":"Sheet1!X9+Sheet1!Z9","v":0}]
[null,"email",{"$f":"Sheet1!G18","v":0},null,"Purchase Order #",{"$f":"Sheet1!G20","v":0}]
[]
["QTY","ISBN","Description",null,"Product Type","# of Books","© Date","Price (ea.)","Total"]

{"sheet":"StandingOrder","index":2,"n_rows":46,"n_cols":8,"rows_kept":46,"cut":false,"hidden":false,"merged":[[19,4,19,6],[26,5,26,6],[11,4,11,6],[12,4,12,6],[13,4,13,6],[14,4,14,6],[15,4,15,6],[21,5,21,6],[22,5,22,6],[23,5,23,6],[24,5,24,6],[25,5,25,6],[6,0,7,7],[9,4,9,6],[10,4,10,6],[16,2,16,3],[17,2,17,3],[8,2,8,3],[9,2,9,3],[11,2,11,3],[12,2,12,3],[13,2,13,3],[14,2,14,3],[15,2,15,3],[10,2,10,3],[16,4,16,6],[17,4,17,6]]}
[null,null,null,"MAIL TO",null,"CALL  (toll-free)","FAX (toll-free)"]
[null,null,null,"Greenhaven Publishing",null," 844-317-7404","844-317-7405"]
[null,null,null,"353 3rd Avenue, Suite 255"]
[null,null,null,"New York, NY 10010",null,"EMAIL"]
[null,null,null,null,null,"gh_custserv@greenhavenpub.com"]
[]
["Standing Order Plan"]
[]
[]
[null,null,"BILL TO",null,"SHIP TO"]
[null,"INSTITUTION:"]
[null,"ATTENTION/NAME:"]
[null,"ADDRESS:"]
[null,"CITY/STATE/PROVINCE:"]
[null,"ZIP/POSTAL CODE/COUNTRY:"]
[null,"TELEPHONE:"]
[null,"FAX:"]
[null,"EMAIL:"]
[]
[null,null,null,null,"PAYMENT METHOD"]
[null,null,null,null,null,null,"Select Card type"]
[null,null,null,null,"Card Number"]
[null,"**Go back to Order Form to see a complete listing of all available and upcoming titles for these Series",null,null,"Name on card"]
[null,null,null,null,"Expiration Date"]
[null,null,null,null,"CVV Code"]
[null,null,null,null,"Signature"]
[null,null,null,null,"Special Instructions"]
[]
["QTY:","IMPRINT","SERIES","BINDING","Per Title \nList Price","Standing \nOrder Price\n25% OFF!","Sign me up on \nSTANDING ORDER \n(please check)","I require notification in order to issue a new purchase order\nMUST CHOOSE ONE"]
[null,"Greenhaven Publishing","At Issue (NEW TITLES Coming Aug. 2017)","Library Bound",39.4,29.549999999999997]
[null,"Greenhaven Publishing","At Issue (NEW TITLES Coming Aug. 2017)","Paperback",27.8,20.85]
[null,"Greenhaven Publishing","Current Controversies (NEW TITLES Coming Aug. 2017)","Library Bound",46.4,34.799999999999997]
[null,"Greenhaven Publishing","Current Controversies (NEW TITLES Coming Aug. 2017)","Paperback",32,24]
[null,"Greenhaven Publishing","Genocide and Persecution","Library Bound",42,31.5]
[null,"Greenhaven Publishing","Introducing Issues with Opposing Viewpoints","Library Bound",42,31.5]
[null,"Greenhaven Publishing","Issues That Concern You","Library Bound",42,31.5]
[null,"Greenhaven Publishing","Opposing Viewpoints (NEW TITLES Coming Aug. 2017)","Library Bound",48.8,36.599999999999994]
[null,"Greenhaven Publishing","Opposing Viewpoints (NEW TITLES Coming Aug. 2017)","Paperback",33.799999999999997,25.349999999999998]
[null,"Greenhaven Publishing","Perspectives on Modern World History","Library Bound",47.8,35.849999999999994]
[null,"Greenhaven Publishing","Teen Rights and Freedoms","Library Bound",42,31.5]
[null,"Lucent Press","Diseases & Disorders","Library Bound",39.9,29.924999999999997]
[null,"Lucent Press","Hot Topics (NEW TITLES Coming Aug. 2017)","Library Bound",39.4,29.549999999999997]
[null,"Lucent Press","Mythology and Culture Worldwide","Library Bound",39.4,29.549999999999997]
[null,"Lucent Press","Nutrition & Health","Library Bound",35.700000000000003,26.775000000000002]
[null,"Lucent Press","People in the News (NEW TITLES Coming Jan. 2017)","Library Bound",39.4,29.549999999999997]
[null,"Lucent Press","Science Behind Sports","Library Bound",39.4,29.549999999999997]