{"text_format":"1","workbook":"xlsx","n_sheets":2,"sheets":["Sheet1","Sheet2"],"not_rendered":{"charts":0,"images":1,"macros":1,"external_links":0,"defined_names":5,"comments":2,"pivot_tables":0},"unopened":[],"bounds":{"document_bytes":16777216,"sheet_cells":100000,"rows_first":2000,"rows_last":500,"rows_between":2000,"halvings":0,"cell_chars":16384,"cell_head_chars":4096},"cells_cut":0,"cells_raw":0,"read":"whole","date_system":"1900"}

{"sheet":"Sheet1","index":0,"n_rows":5010,"n_cols":31,"rows_kept":2250,"cut":true,"hidden":false,"merged":[[6,20,6,28],[10,20,10,24],[11,20,11,24],[12,20,12,24],[13,20,13,24],[7,25,7,26],[7,27,7,28],[13,25,13,26],[13,27,13,28],[8,25,8,26],[8,27,8,28],[9,25,9,26],[9,27,9,28],[14,20,14,24],[7,23,7,24],[8,23,8,24],[9,23,9,24],[19,5,19,6],[19,9,19,17],[7,21,7,22],[8,21,8,22],[9,21,9,22],[17,9,17,17],[11,9,11,17],[12,9,12,17],[13,9,13,17],[14,9,14,17],[15,9,15,17],[16,9,16,17],[14,25,14,26],[14,27,14,28],[10,25,10,26],[10,27,10,28],[11,25,11,26],[11,27,11,28],[12,25,12,26],[12,27,12,28],[6,8,6,17],[7,9,7,17],[8,9,8,17],[9,9,9,17],[10,9,10,17],[10,5,10,6],[11,5,11,6],[8,5,8,6],[9,5,9,6],[6,4,6,6],[7,5,7,6],[16,5,16,6],[17,5,17,6],[14,5,14,6],[15,5,15,6],[12,5,12,6],[13,5,13,6]],"bounds":{"rows_first":1000,"rows_last":250,"rows_between":1000,"halvings":1}}
[]
[]
[]
[]
[]
[]
[null,null,null,null,"Ship to",null,null,null,"Bill to",null,null,null,null,null,null,null,null,null,null,null,"Summary"]
[null,null,null,null,"School/Library:",null,null,null,"School/Library:",null,null,null,null,null,null,null,null,null,null,null,null,"Print",null,"Online Resource(s)",null," eBooks",null,"Interactive eBooks"]
[null,null,null,null,"Attention:",null,null,null,"Attention:",null,null,null,null,null,null,null,null,null,null,null,"# of Books",{"$f":"SUMPRODUCT(((Table1[Type]=\"Library Bound Book\")\n+(Table1[Type]=\"Library Set\")\n+(Table1[Type]=\"Fiction/Nonfiction Pair Set\")\n+(Table1[Type]=\"Fiction/Nonfiction Pair\")\n+(Table1[Type]=\"Single Copy Set\"))*(Table1[Subtotal QTY]))","v":0},null,{"$f":"SUMPRODUCT(((Table1[Type]=\"Online Resource\")+(Table1[Type]=\"Online Resource Set\"))*(Table1[Subtotal QTY]))","v":0},null,{"$f":"SUMPRODUCT((Table1[Type]=\"eBook\")*(Table1[Subtotal QTY]))","v":0},null,{"$f":"SUMPRODUCT(((Table1[Type]=\"Interactive eBook\")+(Table1[Type]=\"Interactive eBook Set\"))*(Table1[Subtotal QTY]))","v":0}]
[null,null,null,null,"Title:",null,null,null,"Title:",null,null,null,null,null,null,null,null,null,null,null,"Subtotal",{"$f":"SUMPRODUCT(((Table1[Type]=\"Library Bound Book\")\n+(Table1[Type]=\"Library Set\")\n+(Table1[Type]=\"Fiction/Nonfiction Pair Set\")\n+(Table1[Type]=\"Fiction/Nonfiction Pair\")\n+(Table1[Type]=\"Single Copy Set\"))*(Table1[Subtotal]))","v":0},null,{"$f":"SUMPRODUCT(((Table1[Type]=\"Online Resource\")+(Table1[Type]=\"Online Resource Set\"))*(Table1[Subtotal]))","v":0},null,{"$f":"SUMPRODUCT((Table1[Type]=\"eBook\")*(Table1[Subtotal]))","v":0},null,{"$f":"SUMPRODUCT(((Table1[Type]=\"Interactive eBook\")+(Table1[Type]=\"Interactive eBook Set\"))*(Table1[Subtotal]))","v":0}]
[null,null,null,null,"Street Address:",null,null,null,"Street Address:",null,null,null,null,null,null,null,null,null,null,null,null,null,null,null,null,"Book Subtotal",null,{"$f":"V10+X10+Z10+AB10","v":0}]
[null,null,null,null,"City:",null,null,null,"City:",null,null,null,null,null,null,null,null,null,null,null,"(if applicable)",null,null,null,null,"Library Processing"]
[null,null,null,null,"State:",null,null,null,"State:",null,null,null,null,null,null,null,null,null,null,null,"9% S&H (FREE on all orders over $500)",null,null,null,null,"Shipping & Handling",null,{"$f":"IF(AB11<500,(AB11*0.09),(\"0.00\"))","v":0}]
[null,null,null,null,"Zip:",null,null,null,"Zip:",null,null,null,null,null,null,null,null,null,null,null,"(if applicable)",null,null,null,null,"Tax"]
[null,null,null,null,"Contact Name:",null,null,null,"Contact Name:",null,null,null,null,null,null,null,null,null,null,null,null,null,null,null,null,"GRAND TOTAL",null,{"$f":"AB11+AB12+AB13+AB14","v":0}]
[null,null,null,null,"Phone:",null,null,null,"Phone:"]
[null,null,null,null,"Fax:",null,null,null,"Fax:",null,null,null,null,null,null,null,null,null,null,null,null,"Notes"]
[null,null,null,null,"email:",null,null,null,"email:"]
[]
[null,null,null,null,"PO# (if needed)",null,null,null,"Rep Name","Mike White (mikewhite@booklookindiana.com)"]
[]
["QTY","Memo","GS Page #","GS Pg # Spring","Series","# Books","Title","Type","ISBN","© Date","Season","Binding","Trim Size","Contributor type","Contributor","ATOS","Points","DRA","EIL","GRL","Lexile","Reading Level","Interest Level","Description","Language","List Price","S&L Price","Dewey One","Page Count","Subtotal QTY","Subtotal"]
[null,null,"4-7",null,"Report Builder",7,"Report Builder Databases","Online Resource Set","978-1-4824-6564-8",2018,"August 2017",null," "," ",null,null,null,null,null,null,null,"Grade 1 - 2","Grade K - 4",null,"English",693,693,null,"",{"$f":"Table1[[#This Row],['# Books]]*Table1[[#This Row],[QTY]]","v":0},{"$f":"Table1[[#This Row],[QTY]]*Table1[[#This Row],[S&L Price]]","v":0}]
[null,null,6,null,"Report Builder",1,"Reptiles and Amphibians Database","Online Resource","978-1-4824-6561-7",2018,"August 2017",null," "," ",null,null,null,null,null,null,null,"Grade 1 - 2","Grade K - 4","Grades K–4. Report Builder's interactive question-and-answer approach helps emerging researchers find the information they need to write reports. Curriculum-based topics are concise and supported by eye-catching visuals.","English",99,99,null,"",{"$f":"Table1[[#This Row],['# Books]]*Table1[[#This Row],[QTY]]","v":0},{"$f":"Table1[[#This Row],[QTY]]*Table1[[#This Row],[S&L Price]]","v":0}]
[null,null,6,null,"Report Builder",1,"U.S. Symbols and Landmarks Database","Online Resource","978-1-4824-6563-1",2018,"August 2017",null," "," ",null,null,null,null,null,null,null,"Grade 1 - 2","Grade K - 4","Grades K–4. Report Builder's interactive question-and-answer approach helps emerging researchers find the information they need to write reports. Curriculum-based topics are concise and supported by eye-catching visuals.","English",99,99,null,"",{"$f":"Table1[[#This Row],['# Books]]*Table1[[#This Row],[QTY]]","v":0},{"$f":"Table1[[#This Row],[QTY]]*Table1[[#This Row],[S&L Price]]","v":0}]
[null,null,6,null,"Report Builder",1,"Weather and Seasons Database","Online Resource","978-1-4824-6562-4",2018,"August 2017",null," "," ",null,null,null,null,null,null,null,"Grade 1 - 2","Grade K - 4","Grades K–4. Report Builder's interactive question-and-answer approach helps emerging researchers find the information they need to write reports. Curriculum-based topics are concise and supported by eye-catching visuals.","English",99,99,null,"",{"$f":"Table1[[#This Row],['# Books]]*Table1[[#This Row],[QTY]]","v":0},{"$f":"Table1[[#This Row],[QTY]]*Table1[[#This Row],[S&L Price]]","v":0}]
[null,null,7,null,"Report Builder",1,"Birds Database","Online Resource","978-1-4824-6556-3",2017,"January 2017",null," "," ",null,null,null,null,null,null,null,"Grade 1 - 2","Grade K - 4","Grades K–4. Report Builder's interactive question-and-answer approach helps emerging researchers find the information they need to write reports. Curriculum-based topics are concise and supported by eye-catching visuals.","English",99,99,null,"",{"$f":"Table1[[#This Row],['# Books]]*Table1[[#This Row],[QTY]]","v":0},{"$f":"Table1[[#This Row],[QTY]]*Table1[[#This Row],[S&L Price]]","v":0}]
[null,null,7,null,"Report Builder",1,"People in My Community Database","Online Resource","978-1-4824-6557-0",2017,"January 2017",null," "," ",null,null,null,null,null,null,null,"Grade 1 - 2","Grade K - 4","Grades K–4. Report Builder's interactive question-and-answer approach helps emerging researchers find the information they need to write reports. Curriculum-based topics are concise and supported by eye-catching visuals.","English",99,99,null,"",{"$f":"Table1[[#This Row],['# Books]]*Table1[[#This Row],[QTY]]","v":0},{"$f":"Table1[[#This Row],[QTY]]*Table1[[#This Row],[S&L Price]]","v":0}]
[null,null,7,null,"Report Builder",1,"Solar System Database","Online Resource","978-1-4824-6558-7",2017,"January 2017",null," "," ",null,null,null,null,null,null,null,"Grade 1 - 2","Grade K - 4","Grades K–4. Report Builder's interactive question-and-answer approach helps emerging researchers find the information they need to write reports. Curriculum-based topics are concise and supported by eye-catching visuals.","English",99,99,null,"",{"$f":"Table1[[#This Row],['# Books]]*Table1[[#This Row],[QTY]]","v":0},{"$f":"Table1[[#This Row],[QTY]]*Table1[[#This Row],[S&L Price]]","v":0}]
[null,null,7,null,"Report Builder",1,"U.S. Presidents Database","Online Resource","978-1-4824-6559-4",2017,"January 2017",null," "," ",null,null,null,null,null,null,null,"Grade 1 - 2","Grade K - 4","Grades K–4. Report Builder's interactive question-and-answer approach helps emerging researchers find the information they need to write reports. Curriculum-based topics are concise and supported by eye-catching visuals.","English",99,99,null,"",{"$f":"Table1[[#This Row],['# Books]]*Table1[[#This Row],[QTY]]","v":0},{"$f":"Table1[[#This Row],[QTY]]*Table1[[#This Row],[S&L Price]]","v":0}]
[null,null,11,null,"LitLinks Fiction/Nonfiction Paired Sets Grades K–1",10,"LitLinks Fiction/Nonfiction Paired Sets Grades K–1","Fiction/NonFiction Pair Set","978-1-4824-5391-1",2017,"August 2016",null,null,"Author","VARIOUS VARIOUS",null,null,null,null,null,null,"Grade K - 1","Grade K - 1","Lit Links pairs popular fiction and nonfiction texts that inspire student inquiry and invite critical thinking. The familiar format of fiction introduces a topic and gives the reader confidence to explore and compare its nonfiction counterpart. These paired sets along with a comprehensive learning guide let students demonstrate what they have learned from blending together narrative and expository elements. Lit Links paired fiction and nonfiction:  • Provides opportunities for students to analyze and compare different perspectives  • Develops critical reading and comprehension skills  • Supports “thinking across texts” by Illustrating how different authors treat the same topic  • Builds background knowledge, a wider range of vocabulary, and enhances readers’ comprehension of a specific topic  • Contrasts craft and structures of fiction with craft and structures of informational texts","English",532.70000000000005,399.5,null,"",{"$f":"Table1[[#This Row],['# Books]]*Table1[[#This Row],[QTY]]","v":0},{"$f":"Table1[[#This Row],[QTY]]*Table1[[#This Row],[S&L Price]]","v":0}]
[null,null,11,null,"LitLinks Fiction/Nonfiction Paired Sets Grades K–1",1,"Jump Frog Jump / Frogs Paired Set","Fiction/NonFiction Pair","978-1-4824-5347-8",2017,"August 2016",null,null,"Author","VARIOUS VARIOUS",null,null,null,null,null,null,"Grade Pre-K - 1","Grade Pre-K - 1","This paired set, along with a comprehensive learning guide, inspires student inquiry and invites critical thinking with paired fiction and nonfiction texts.","English",53.27,39.950000000000003,null,"",{"$f":"Table1[[#This Row],['# Books]]*Table1[[#This Row],[QTY]]","v":0},{"$f":"Table1[[#This Row],[QTY]]*Table1[[#This Row],[S&L Price]]","v":0}]
[null,null,11,null,"LitLinks Fiction/Nonfiction Paired Sets Grades K–1",1,"Hattie and the Fox / Foxes in the Dark Paired Set","Fiction/NonFiction Pair","978-1-4824-5348-5",2017,"August 2016",null,null,"Author","VARIOUS VARIOUS",null,null,null,null,null,null,"Grade K - 2","Grade K - 2","This paired set, along with a comprehensive learning guide, inspires student inquiry and invites critical thinking with paired fiction and nonfiction texts.","English",53.27,39.950000000000003,null,"",{"$f":"Table1[[#This Row],['# Books]]*Table1[[#This Row],[QTY]]","v":0},{"$f":"Table1[[#This Row],[QTY]]*Table1[[#This Row],[S&L Price]]","v":0}]
[null,null,11,null,"LitLinks Fiction/Nonfiction Paired Sets Grades K–1",1,"The Snowy Day / It's Snowing Paired Set","Fiction/NonFiction Pair","978-1-4824-5349-2",2017,"August 2016",null,null,"Author","VARIOUS VARIOUS",null,null,null,null,null,null,"Grade K - 2","Grade K - 2","This paired set, along with a comprehensive learning guide, inspires student inquiry and invites critical thinking with paired fiction and nonfiction texts.","English",53.27,39.950000000000003,null,"",{"$f":"Table1[[#This Row],['# Books]]*Table1[[#This Row],[QTY]]","v":0},{"$f":"Table1[[#This Row],[QTY]]*Table1[[#This Row],[S&L Price]]","v":0}]
[null,null,11,null,"LitLinks Fiction/Nonfiction Paired Sets Grades K–1",1,"Danny and the Dinosaur / Diplodocus Paired Set","Fiction/NonFiction Pair","978-1-4824-5350-8",2017,"August 2016",null,null,"Author","VARIOUS VARIOUS",null,null,null,null,null,null,"Grade K - 2","Grade K - 2","This paired set, along with a comprehensive learning guide, inspires student inquiry and invites critical thinking with paired fiction and nonfiction texts.","English",53.27,39.950000000000003,null,"",{"$f":"Table1[[#This Row],['# Books]]*Table1[[#This Row],[QTY]]","v":0},{"$f":"Table1[[#This Row],[QTY]]*Table1[[#This Row],[S&L Price]]","v":0}]
[null,null,11,null,"LitLinks Fiction/Nonfiction Paired Sets Grades K–1",1,"The Little Red Hen / Do You Share? Paired Set","Fiction/NonFiction Pair","978-1-4824-5354-6",2017,"August 2016",null,null,"Author","VARIOUS VARIOUS",null,null,null,null,null,null,"Grade Pre-K - 3","Grade Pre-K - 3","This paired set, along with a comprehensive learning guide, inspires student inquiry and invites critical thinking with paired fiction and nonfiction texts.","English",53.27,39.950000000000003,null,"",{"$f":"Table1[[#This Row],['# Books]]*Table1[[#This Row],[QTY]]","v":0},{"$f":"Table1[[#This Row],[QTY]]*Table1[[#This Row],[S&L Price]]","v":0}]
[null,null,11,null,"LitLinks Fiction/Nonfiction Paired Sets Grades K–1",1,"The Story of Ferdinand / I Am Kind Paired Set","Fiction/NonFiction Pair","978-1-4824-5351-5",2017,"August 2016",null,null,"Author","VARIOUS VARIOUS",null,null,null,null,null,null,"Grade K - 2","Grade K - 2","This paired set, along with a comprehensive learning guide, inspires student inquiry and invites critical thinking with paired fiction and nonfiction texts.","English",53.27,39.950000000000003,null,"",{"$f":"Table1[[#This Row],['# Books]]*Table1[[#This Row],[QTY]]","v":0},{"$f":"Table1[[#This Row],[QTY]]*Table1[[#This Row],[S&L Price]]","v":0}]
[null,null,11,null,"LitLinks Fiction/Nonfiction Paired Sets Grades K–1",1,"Bread and Jam for Francis / What I Taste Paired Set","Fiction/NonFiction Pair","978-1-4824-5355-3",2017,"August 2016",null,null,"Author","VARIOUS VARIOUS",null,null,null,null,null,null,"Grade Pre-K - 3","Grade Pre-K - 3","This paired set, along with a comprehensive learning guide, inspires student inquiry and invites critical thinking with paired fiction and nonfiction texts.","English",53.27,39.950000000000003,null,"",{"$f":"Table1[[#This Row],['# Books]]*Table1[[#This Row],[QTY]]","v":0},{"$f":"Table1[[#This Row],[QTY]]*Table1[[#This Row],[S&L Price]]","v":0}]
[null,null,11,null,"LitLinks Fiction/Nonfiction Paired Sets Grades K–1",1,"The Grouchy Ladybug / I See a Ladybug Paired Set","Fiction/NonFiction Pair","978-1-4824-5352-2",2017,"August 2016",null,null,"Author","VARIOUS VARIOUS",null,null,null,null,null,null,"Grade K - 2","Grade K - 2","This paired set, along with a comprehensive learning guide, inspires student inquiry and invites critical thinking with paired fiction and nonfiction texts.","English",53.27,39.950000000000003,null,"",{"$f":"Table1[[#This Row],['# Books]]*Table1[[#This Row],[QTY]]","v":0},{"$f":"Table1[[#This Row],[QTY]]*Table1[[#This Row],[S&L Price]]","v":0}]
[null,null,11,null,"LitLinks Fiction/Nonfiction Paired Sets Grades K–1",1,"Millions of Cats / Curious Cats Paired Set","Fiction/NonFiction Pair","978-1-4824-5356-0",2017,"August 2016",null,null,"Author","VARIOUS VARIOUS",null,null,null,null,null,null,"Grade Pre-K - 3","Grade Pre-K - 3","This paired set, along with a comprehensive learning guide, inspires student inquiry and invites critical thinking with paired fiction and nonfiction texts.","English",53.27,39.950000000000003,null,"",{"$f":"Table1[[#This Row],['# Books]]*Table1[[#This Row],[QTY]]","v":0},{"$f":"Table1[[#This Row],[QTY]]*Table1[[#This Row],[S&L Price]]","v":0}]
[null,null,11,null,"LitLinks Fiction/Nonfiction Paired Sets Grades K–1",1,"Chrysanthemum / Don't Be a Bully Paired Set","Fiction/NonFiction Pair","978-1-4824-5353-9",2017,"August 2016",null,null,"Author","VARIOUS VARIOUS",null,null,null,null,null,null,"Grade K - 2","Grade K - 2","This paired set, along with a comprehensive learning guide, inspires student inquiry and invites critical thinking with paired fiction and nonfiction texts.","English",53.27,39.950000000000003,null,"",{"$f":"Table1[[#This Row],['# Books]]*Table1[[#This Row],[QTY]]","v":0},{"$f":"Table1[[#This Row],[QTY]]*Table1[[#This Row],[S&L Price]]","v":0}]
[null,null,11,null,"LitLinks Fiction/Nonfiction Paired Sets Grades K–1",10,"LitLinks Fiction/Nonfiction Paired Sets Grades K–1","Fiction/NonFiction Pair Set","978-1-4824-2317-4",2015,"August 2014",null,null,"Author","VARIOUS VARIOUS",null,null,null,null,null,null,"Grade K - 1","Grade K - 1","Lit Links pairs popular fiction and nonfiction texts that inspire student inquiry and invite critical thinking. The familiar format of fiction introduces a topic and gives the reader confidence to explore and compare its nonfiction counterpart. These paired sets along with a comprehensive learning guide let students demonstrate what they have learned from blending together narrative and expository elements. Lit Links paired fiction and nonfiction:  • Provides opportunities for students to analyze and compare different perspectives  • Develops critical reading and comprehension skills  • Supports “thinking across texts” by Illustrating how different authors treat the same topic  • Builds background knowledge, a wider range of vocabulary, and enhances readers’ comprehension of a specific topic  • Contrasts craft and structures of fiction with craft and structures of informational texts","English",532.70000000000005,399.5,null,"",{"$f":"Table1[[#This Row],['# Books]]*Table1[[#This Row],[QTY]]","v":0},{"$f":"Table1[[#This Row],[QTY]]*Table1[[#This Row],[S&L Price]]","v":0}]
[null,null,11,null,"LitLinks Fiction/Nonfiction Paired Sets Grades K–1",1,"Absolutely Not / I See a Bird Paired Set","Fiction/NonFiction Pair","978-1-4824-2308-2",2015,"August 2014",null,null,"Author","VARIOUS VARIOUS",null,null,null,null,null,null,"Grade K - 1","Grade K - 1","This paired set, along with a comprehensive learning guide, inspires student inquiry and invites critical thinking with paired fiction and nonfiction texts.","English",53.27,39.950000000000003,null,"",{"$f":"Table1[[#This Row],['# Books]]*Table1[[#This Row],[QTY]]","v":0},{"$f":"Table1[[#This Row],[QTY]]*Table1[[#This Row],[S&L Price]]","v":0}]
[null,null,11,null,"LitLinks Fiction/Nonfiction Paired Sets Grades K–1",1,"Amelia Bedelia's First Field Trip / My First Trip to the Farm Paired Set","Fiction/NonFiction Pair","978-1-4824-2309-9",2015,"August 2014",null,null,"Author","VARIOUS VARIOUS",null,null,null,null,null,null,"Grade K - 1","Grade K - 1","This paired set, along with a comprehensive learning guide, inspires student inquiry and invites critical thinking with paired fiction and nonfiction texts.","English",53.27,39.950000000000003,null,"",{"$f":"Table1[[#This Row],['# Books]]*Table1[[#This Row],[QTY]]","v":0},{"$f":"Table1[[#This Row],[QTY]]*Table1[[#This Row],[S&L Price]]","v":0}]
[null,null,11,null,"LitLinks Fiction/Nonfiction Paired Sets Grades K–1",1,"Bad Dog, Marley! / Lovable Dogs Paired Set","Fiction/NonFiction Pair","978-1-4824-2310-5",2015,"August 2014",null,null,"Author","VARIOUS VARIOUS",null,null,null,null,null,null,"Grade K - 1","Grade K - 1","This paired set, along with a comprehensive learning guide, inspires student inquiry and invites critical thinking with paired fiction and nonfiction texts.","English",53.27,39.950000000000003,null,"",{"$f":"Table1[[#This Row],['# Books]]*Table1[[#This Row],[QTY]]","v":0},{"$f":"Table1[[#This Row],[QTY]]*Table1[[#This Row],[S&L Price]]","v":0}]
[null,null,11,null,"LitLinks Fiction/Nonfiction Paired Sets Grades K–1",1,"Curious George and the Firefighters / Firefighters Paired Set","Fiction/NonFiction Pair","978-1-4824-2311-2",2015,"August 2014",null,null,"Author","VARIOUS VARIOUS",null,null,null,null,null,null,"Grade K - 1","Grade K - 1","This paired set, along with a comprehensive learning guide, inspires student inquiry and invites critical thinking with paired fiction and nonfiction texts.","English",53.27,39.950000000000003,null,"",{"$f":"Table1[[#This Row],['# Books]]*Table1[[#This Row],[QTY]]","v":0},{"$f":"Table1[[#This Row],[QTY]]*Table1[[#This Row],[S&L Price]]","v":0}]
[null,null,11,null,"LitLinks Fiction/Nonfiction Paired Sets Grades K–1",1,"Hi! Fly Guy / Freaky Flies Paired Set","Fiction/NonFiction Pair","978-1-4824-2312-9",2015,"August 2014",null,null,"Author","VARIOUS VARIOUS",null,null,null,null,null,null,"Grade K - 1","Grade K - 1","This paired set, along with a comprehensive learning guide, inspires student inquiry and invites critical thinking with paired fiction and nonfiction texts.","English",53.27,39.950000000000003,null,"",{"$f":"Table1[[#This Row],['# Books]]*Table1[[#This Row],[QTY]]","v":0},{"$f":"Table1[[#This Row],[QTY]]*Table1[[#This Row],[S&L Price]]","v":0}]
[null,null,11,null,"LitLinks Fiction/Nonfiction Paired Sets Grades K–1",1,"Little Bear / Bear Cubs Paired Set","Fiction/NonFiction Pair","978-1-4824-2307-5",2015,"August 2014",null,null,"Author","VARIOUS VARIOUS",null,null,null,null,null,null,"Grade K - 1","Grade K - 1","This paired set, along with a comprehensive learning guide, inspires student inquiry and invites critical thinking with paired fiction and nonfiction texts.","English",53.27,39.950000000000003,null,"",{"$f":"Table1[[#This Row],['# Books]]*Table1[[#This Row],[QTY]]","v":0},{"$f":"Table1[[#This Row],[QTY]]*Table1[[#This Row],[S&L Price]]","v":0}]
[null,null,11,null,"LitLinks Fiction/Nonfiction Paired Sets Grades K–1",1,"Mercy Watson Thinks Like a Pig / Pigs on the Farm Paired Set","Fiction/NonFiction Pair","978-1-4824-2313-6",2015,"August 2014",null,null,"Author","VARIOUS VARIOUS",null,null,null,null,null,null,"Grade K - 1","Grade K - 1","This paired set, along with a comprehensive learning guide, inspires student inquiry and invites critical thinking with paired fiction and nonfiction texts.","English",53.27,39.950000000000003,null,"",{"$f":"Table1[[#This Row],['# Books]]*Table1[[#This Row],[QTY]]","v":0},{"$f":"Table1[[#This Row],[QTY]]*Table1[[#This Row],[S&L Price]]","v":0}]
[null,null,11,null,"LitLinks Fiction/Nonfiction Paired Sets Grades K–1",1,"Snail and the Whale / Whales Paired Set","Fiction/NonFiction Pair","978-1-4824-2314-3",2015,"August 2014",null,null,"Author","VARIOUS VARIOUS",null,null,null,null,null,null,"Grade K - 1","Grade K - 1","This paired set, along with a comprehensive learning guide, inspires student inquiry and invites critical thinking with paired fiction and nonfiction texts.","English",53.27,39.950000000000003,null,"",{"$f":"Table1[[#This Row],['# Books]]*Table1[[#This Row],[QTY]]","v":0},{"$f":"Table1[[#This Row],[QTY]]*Table1[[#This Row],[S&L Price]]","v":0}]
[null,null,11,null,"LitLinks Fiction/Nonfiction Paired Sets Grades K–1",1,"Tuesday / Fun Frogs Paired Set","Fiction/NonFiction Pair","978-1-4824-2315-0",2015,"August 2014",null,null,"Author","VARIOUS VARIOUS",null,null,null,null,null,null,"Grade K - 1","Grade K - 1","This paired set, along with a comprehensive learning guide, inspires student inquiry and invites critical thinking with paired fiction and nonfiction texts.","English",53.27,39.950000000000003,null,"",{"$f":"Table1[[#This Row],['# Books]]*Table1[[#This Row],[QTY]]","v":0},{"$f":"Table1[[#This Row],[QTY]]*Table1[[#This Row],[S&L Price]]","v":0}]
[null,null,11,null,"LitLinks Fiction/Nonfiction Paired Sets Grades K–1",1,"Winners Never Quit! / Soccer Paired Set","Fiction/NonFiction Pair","978-1-4824-2316-7",2015,"August 2014",null,null,"Author","VARIOUS VARIOUS",null,null,null,null,null,null,"Grade K - 1","Grade K - 1","This paired set, along with a comprehensive learning guide, inspires student inquiry and invites critical thinking with paired fiction and nonfiction texts.","English",53.27,39.950000000000003,null,"",{"$f":"Table1[[#This Row],['# Books]]*Table1[[#This Row],[QTY]]","v":0},{"$f":"Table1[[#This Row],[QTY]]*Table1[[#This Row],[S&L Price]]","v":0}]
[null,null,12,null,"LitLinks Fiction/Nonfiction Paired Sets Grades 2–3",10,"LitLinks Fiction/Nonfiction Paired Sets Grades 2–3","Fiction/NonFiction Pair Set","978-1-4824-5392-8",2017,"August 2016",null,null,"Author","VARIOUS VARIOUS",null,null,null,null,null,null,"Grade 2 - 3","Grade 2 - 3","Lit Links pairs popular fiction and nonfiction texts that inspire student inquiry and invite critical thinking. The familiar format of fiction introduces a topic and gives the reader confidence to explore and compare its nonfiction counterpart. These paired sets along with a comprehensive learning guide let students demonstrate what they have learned from blending together narrative and expository elements. Lit Links paired fiction and nonfiction:  • Provides opportunities for students to analyze and compare different perspectives  • Develops critical reading and comprehension skills  • Supports “thinking across texts” by Illustrating how different authors treat the same topic  • Builds background knowledge, a wider range of vocabulary, and enhances readers’ comprehension of a specific topic  • Contrasts craft and structures of fiction with craft and structures of informational texts","English",532.70000000000005,399.5,null,"",{"$f":"Table1[[#This Row],['# Books]]*Table1[[#This Row],[QTY]]","v":0},{"$f":"Table1[[#This Row],[QTY]]*Table1[[#This Row],[S&L Price]]","v":0}]
[null,null,12,null,"LitLinks Fiction/Nonfiction Paired Sets Grades 2–3",1,"Armadillo Rodeo / Let's Explore the Southwest Paired Set","Fiction/NonFiction Pair","978-1-4824-5357-7",2017,"August 2016",null,null,"Author","VARIOUS VARIOUS",null,null,null,null,null,null,"Grade K - 2","Grade K - 2","This paired set, along with a comprehensive learning guide, inspires student inquiry and invites critical thinking with paired fiction and nonfiction texts.","English",53.27,39.950000000000003,null,"",{"$f":"Table1[[#This Row],['# Books]]*Table1[[#This Row],[QTY]]","v":0},{"$f":"Table1[[#This Row],[QTY]]*Table1[[#This Row],[S&L Price]]","v":0}]
[null,null,12,null,"LitLinks Fiction/Nonfiction Paired Sets Grades 2–3",1,"The Big Wave / Savage Tsunamis Paired Set","Fiction/NonFiction Pair","978-1-4824-5360-7",2017,"August 2016",null,null,"Author","VARIOUS VARIOUS",null,null,null,null,null,null,"Grade Pre-K - 2","Grade Pre-K - 2","This paired set, along with a comprehensive learning guide, inspires student inquiry and invites critical thinking with paired fiction and nonfiction texts.","English",53.27,39.950000000000003,null,"",{"$f":"Table1[[#This Row],['# Books]]*Table1[[#This Row],[QTY]]","v":0},{"$f":"Table1[[#This Row],[QTY]]*Table1[[#This Row],[S&L Price]]","v":0}]
[null,null,12,null,"LitLinks Fiction/Nonfiction Paired Sets Grades 2–3",1,"White Water / Little Rock Nine and The Fight for Equal Education Paired Set","Fiction/NonFiction Pair","978-1-4824-5362-1",2017,"August 2016",null,null,"Author","VARIOUS VARIOUS",null,null,null,null,null,null,"Grade K - 3","Grade K - 3","This paired set, along with a comprehensive learning guide, inspires student inquiry and invites critical thinking with paired fiction and nonfiction texts.","English",53.27,39.950000000000003,null,"",{"$f":"Table1[[#This Row],['# Books]]*Table1[[#This Row],[QTY]]","v":0},{"$f":"Table1[[#This Row],[QTY]]*Table1[[#This Row],[S&L Price]]","v":0}]
[null,null,12,null,"LitLinks Fiction/Nonfiction Paired Sets Grades 2–3",1,"Mama Don't Allow / Louis Armstrong Paired Set","Fiction/NonFiction Pair","978-1-4824-5361-4",2017,"August 2016",null,null,"Author","VARIOUS VARIOUS",null,null,null,null,null,null,"Grade Pre-K - 3","Grade Pre-K - 3","This paired set, along with a comprehensive learning guide, inspires student inquiry and invites critical thinking with paired fiction and nonfiction texts.","English",53.27,39.950000000000003,null,"",{"$f":"Table1[[#This Row],['# Books]]*Table1[[#This Row],[QTY]]","v":0},{"$f":"Table1[[#This Row],[QTY]]*Table1[[#This Row],[S&L Price]]","v":0}]
[null,null,12,null,"LitLinks Fiction/Nonfiction Paired Sets Grades 2–3",1,"Mike Mulligan and His Steam Shovel / Earthmovers Paired Set","Fiction/NonFiction Pair","978-1-4824-5363-8",2017,"August 2016",null,null,"Author","VARIOUS VARIOUS",null,null,null,null,null,null,"Grade K - 2","Grade K - 2","This paired set, along with a comprehensive learning guide, inspires student inquiry and invites critical thinking with paired fiction and nonfiction texts.","English",53.27,39.950000000000003,null,"",{"$f":"Table1[[#This Row],['# Books]]*Table1[[#This Row],[QTY]]","v":0},{"$f":"Table1[[#This Row],[QTY]]*Table1[[#This Row],[S&L Price]]","v":0}]
[null,null,12,null,"LitLinks Fiction/Nonfiction Paired Sets Grades 2–3",1,"Miss Nelson is Missing / I Am Respectful Paired Set","Fiction/NonFiction Pair","978-1-4824-5364-5",2017,"August 2016",null,null,"Author","VARIOUS VARIOUS",null,null,null,null,null,null,"Grade K - 3","Grade K - 3","This paired set, along with a comprehensive learning guide, inspires student inquiry and invites critical thinking with paired fiction and nonfiction texts.","English",53.27,39.950000000000003,null,"",{"$f":"Table1[[#This Row],['# Books]]*Table1[[#This Row],[QTY]]","v":0},{"$f":"Table1[[#This Row],[QTY]]*Table1[[#This Row],[S&L Price]]","v":0}]
[null,null,12,null,"LitLinks Fiction/Nonfiction Paired Sets Grades 2–3",1,"Hour of the Olympics / Meet the Ancient Greeks Paired Set","Fiction/NonFiction Pair","978-1-4824-5366-9",2017,"August 2016",null,null,"Author","VARIOUS VARIOUS",null,null,null,null,null,null,"Grade 3 - 5","Grade 3 - 5","This paired set, along with a comprehensive learning guide, inspires student inquiry and invites critical thinking with paired fiction and nonfiction texts.","English",53.27,39.950000000000003,null,"",{"$f":"Table1[[#This Row],['# Books]]*Table1[[#This Row],[QTY]]","v":0},{"$f":"Table1[[#This Row],[QTY]]*Table1[[#This Row],[S&L Price]]","v":0}]
[null,null,12,null,"LitLinks Fiction/Nonfiction Paired Sets Grades 2–3",1,"The Wolves in the Walls / Coyotes and Wolves Are Not Pets! Paired Set","Fiction/NonFiction Pair","978-1-4824-5365-2",2017,"August 2016",null,null,"Author","VARIOUS VARIOUS",null,null,null,null,null,null,"Grade K - 3","Grade K - 3","This paired set, along with a comprehensive learning guide, inspires student inquiry and invites critical thinking with paired fiction and nonfiction texts.","English",53.27,39.950000000000003,null,"",{"$f":"Table1[[#This Row],['# Books]]*Table1[[#This Row],[QTY]]","v":0},{"$f":"Table1[[#This Row],[QTY]]*Table1[[#This Row],[S&L Price]]","v":0}]
[null,null,12,null,"LitLinks Fiction/Nonfiction Paired Sets Grades 2–3",1,"A Turkey for Thanksgiving / I Am a Good Friend Paired Set","Fiction/NonFiction Pair","978-1-4824-5358-4",2017,"August 2016",null,null,"Author","VARIOUS VARIOUS",null,null,null,null,null,null,"Grade K - 2","Grade K - 2","This paired set, along with a comprehensive learning guide, inspires student inquiry and invites critical thinking with paired fiction and nonfiction texts.","English",53.27,39.950000000000003,null,"",{"$f":"Table1[[#This Row],['# Books]]*Table1[[#This Row],[QTY]]","v":0},{"$f":"Table1[[#This Row],[QTY]]*Table1[[#This Row],[S&L Price]]","v":0}]
[null,null,12,null,"LitLinks Fiction/Nonfiction Paired Sets Grades 2–3",1,"Why Mosquitos Buzz in People's Ears / Deadly Mosquitoes Paired Set","Fiction/NonFiction Pair","978-1-4824-5359-1",2017,"August 2016",null,null,"Author","VARIOUS VARIOUS",null,null,null,null,null,null,"Grade K - 2","Grade K - 2","This paired set, along with a comprehensive learning guide, inspires student inquiry and invites critical thinking with paired fiction and nonfiction texts.","English",53.27,39.950000000000003,null,"",{"$f":"Table1[[#This Row],['# Books]]*Table1[[#This Row],[QTY]]","v":0},{"$f":"Table1[[#This Row],[QTY]]*Table1[[#This Row],[S&L Price]]","v":0}]
[null,null,12,null,"LitLinks Fiction/Nonfiction Paired Sets Grades 2–3",10,"LitLinks Fiction/Nonfiction Paired Sets Grades 2–3","Fiction/NonFiction Pair Set","978-1-4824-2328-0",2015,"August 2014",null,null,"Author","VARIOUS VARIOUS",null,null,null,null,null,null,"Grade 2 - 3","Grade 2 - 3","Lit Links pairs popular fiction and nonfiction texts that inspire student inquiry and invite critical thinking. The familiar format of fiction introduces a topic and gives the reader confidence to explore and compare its nonfiction counterpart. These paired sets along with a comprehensive learning guide let students demonstrate what they have learned from blending together narrative and expository elements. Lit Links paired fiction and nonfiction:  • Provides opportunities for students to analyze and compare different perspectives  • Develops critical reading and comprehension skills  • Supports “thinking across texts” by Illustrating how different authors treat the same topic  • Builds background knowledge, a wider range of vocabulary, and enhances readers’ comprehension of a specific topic  • Contrasts craft and structures of fiction with craft and structures of informational texts","English",532.70000000000005,399.5,null,"",{"$f":"Table1[[#This Row],['# Books]]*Table1[[#This Row],[QTY]]","v":0},{"$f":"Table1[[#This Row],[QTY]]*Table1[[#This Row],[S&L Price]]","v":0}]
[null,null,12,null,"LitLinks Fiction/Nonfiction Paired Sets Grades 2–3",1,"Because of Winn-Dixie / Helping Dogs Paired Set","Fiction/NonFiction Pair","978-1-4824-2322-8",2015,"August 2014",null,null,"Author","VARIOUS VARIOUS",null,null,null,null,null,null,"Grade 2 - 3","Grade 2 - 3","This paired set, along with a comprehensive learning guide, inspires student inquiry and invites critical thinking with paired fiction and nonfiction texts.","English",53.27,39.950000000000003,null,"",{"$f":"Table1[[#This Row],['# Books]]*Table1[[#This Row],[QTY]]","v":0},{"$f":"Table1[[#This Row],[QTY]]*Table1[[#This Row],[S&L Price]]","v":0}]
[null,null,12,null,"LitLinks Fiction/Nonfiction Paired Sets Grades 2–3",1,"The Boy Who Cried Wolf / I Am Honest Paired Set","Fiction/NonFiction Pair","978-1-4824-2319-8",2015,"August 2014",null,null,"Author","VARIOUS VARIOUS",null,null,null,null,null,null,"Grade 2 - 3","Grade 2 - 3","This paired set, along with a comprehensive learning guide, inspires student inquiry and invites critical thinking with paired fiction and nonfiction texts.","English",53.27,39.950000000000003,null,"",{"$f":"Table1[[#This Row],['# Books]]*Table1[[#This Row],[QTY]]","v":0},{"$f":"Table1[[#This Row],[QTY]]*Table1[[#This Row],[S&L Price]]","v":0}]
[null,null,12,null,"LitLinks Fiction/Nonfiction Paired Sets Grades 2–3",1,"The Goose That Laid the Golden Egg / I Can Share Paired Set","Fiction/NonFiction Pair","978-1-4824-2318-1",2015,"August 2014",null,null,"Author","VARIOUS VARIOUS",null,null,null,null,null,null,"Grade 2 - 3","Grade 2 - 3","This paired set, along with a comprehensive learning guide, inspires student inquiry and invites critical thinking with paired fiction and nonfiction texts.","English",53.27,39.950000000000003,null,"",{"$f":"Table1[[#This Row],['# Books]]*Table1[[#This Row],[QTY]]","v":0},{"$f":"Table1[[#This Row],[QTY]]*Table1[[#This Row],[S&L Price]]","v":0}]
[null,null,12,null,"LitLinks Fiction/Nonfiction Paired Sets Grades 2–3",1,"Henry and Mudge: The First Book of Their Adventures / Dogs Paired Set","Fiction/NonFiction Pair","978-1-4824-2326-6",2015,"August 2014",null,null,"Author","VARIOUS VARIOUS",null,null,null,null,null,null,"Grade 2 - 3","Grade 2 - 3","This paired set, along with a comprehensive learning guide, inspires student inquiry and invites critical thinking with paired fiction and nonfiction texts.","English",53.27,39.950000000000003,null,"",{"$f":"Table1[[#This Row],['# Books]]*Table1[[#This Row],[QTY]]","v":0},{"$f":"Table1[[#This Row],[QTY]]*Table1[[#This Row],[S&L Price]]","v":0}]
[null,null,12,null,"LitLinks Fiction/Nonfiction Paired Sets Grades 2–3",1,"Little House in the Big Woods / Life as a Pioneer Paired Set","Fiction/NonFiction Pair","978-1-4824-2323-5",2015,"August 2014",null,null,"Author","VARIOUS VARIOUS",null,null,null,null,null,null,"Grade 2 - 3","Grade 2 - 3","This paired set, along with a comprehensive learning guide, inspires student inquiry and invites critical thinking with paired fiction and nonfiction texts.","English",53.27,39.950000000000003,null,"",{"$f":"Table1[[#This Row],['# Books]]*Table1[[#This Row],[QTY]]","v":0},{"$f":"Table1[[#This Row],[QTY]]*Table1[[#This Row],[S&L Price]]","v":0}]
[null,null,12,null,"LitLinks Fiction/Nonfiction Paired Sets Grades 2–3",1,"Mr. Popper's Penguins / Penguins Paired Set","Fiction/NonFiction Pair","978-1-4824-2324-2",2015,"August 2014",null,null,"Author","VARIOUS VARIOUS",null,null,null,null,null,null,"Grade 2 - 3","Grade 2 - 3","This paired set, along with a comprehensive learning guide, inspires student inquiry and invites critical thinking with paired fiction and nonfiction texts.","English",53.27,39.950000000000003,null,"",{"$f":"Table1[[#This Row],['# Books]]*Table1[[#This Row],[QTY]]","v":0},{"$f":"Table1[[#This Row],[QTY]]*Table1[[#This Row],[S&L Price]]","v":0}]
[null,null,12,null,"LitLinks Fiction/Nonfiction Paired Sets Grades 2–3",1,"The Raft / Rivers Paired Set","Fiction/NonFiction Pair","978-1-4824-2321-1",2015,"August 2014",null,null,"Author","VARIOUS VARIOUS",null,null,null,null,null,null,"Grade 2 - 3","Grade 2 - 3","This paired set, along with a comprehensive learning guide, inspires student inquiry and invites critical thinking with paired fiction and nonfiction texts.","English",53.27,39.950000000000003,null,"",{"$f":"Table1[[#This Row],['# Books]]*Table1[[#This Row],[QTY]]","v":0},{"$f":"Table1[[#This Row],[QTY]]*Table1[[#This Row],[S&L Price]]","v":0}]
[null,null,12,null,"LitLinks Fiction/Nonfiction Paired Sets Grades 2–3",1,"Sarah, Plain and Tall / Life in the Wild West Paired Set","Fiction/NonFiction Pair","978-1-4824-2325-9",2015,"August 2014",null,null,"Author","VARIOUS VARIOUS",null,null,null,null,null,null,"Grade 2 - 3","Grade 2 - 3","This paired set, along with a comprehensive learning guide, inspires student inquiry and invites critical thinking with paired fiction and nonfiction texts.","English",53.27,39.950000000000003,null,"",{"$f":"Table1[[#This Row],['# Books]]*Table1[[#This Row],[QTY]]","v":0},{"$f":"Table1[[#This Row],[QTY]]*Table1[[#This Row],[S&L Price]]","v":0}]
[null,null,12,null,"LitLinks Fiction/Nonfiction Paired Sets Grades 2–3",1,"Storm / Hurricanes Paired Set","Fiction/NonFiction Pair","978-1-4824-2320-4",2015,"August 2014",null,null,"Author","VARIOUS VARIOUS",null,null,null,null,null,null,"Grade 2 - 3","Grade 2 - 3","This paired set, along with a comprehensive learning guide, inspires student inquiry and invites critical thinking with paired fiction and nonfiction texts.","English",53.27,39.950000000000003,null,"",{"$f":"Table1[[#This Row],['# Books]]*Table1[[#This Row],[QTY]]","v":0},{"$f":"Table1[[#This Row],[QTY]]*Table1[[#This Row],[S&L Price]]","v":0}]
[null,null,12,null,"LitLinks Fiction/Nonfiction Paired Sets Grades 2–3",1,"Thunder Cake / Thunderstorms Paired Set","Fiction/NonFiction Pair","978-1-4824-2327-3",2015,"August 2014",null,null,"Author","VARIOUS VARIOUS",null,null,null,null,null,null,"Grade 2 - 3","Grade 2 - 3","This paired set, along with a comprehensive learning guide, inspires student inquiry and invites critical thinking with paired fiction and nonfiction texts.","English",53.27,39.950000000000003,null,"",{"$f":"Table1[[#This Row],['# Books]]*Table1[[#This Row],[QTY]]","v":0},{"$f":"Table1[[#This Row],[QTY]]*Table1[[#This Row],[S&L Price]]","v":0}]
[null,null,13,null,"LitLinks Fiction/Nonfiction Paired Sets Grades 4–5",10,"LitLinks Fiction/Nonfiction Paired Sets Grades 4–5","Fiction/NonFiction Pair Set","978-1-4824-5393-5",2017,"August 2016",null,null,"Author","VARIOUS VARIOUS",null,null,null,null,null,null,"Grade 4 - 5","Grade 4 - 5","Lit Links pairs popular fiction and nonfiction texts that inspire student inquiry and invite critical thinking. The familiar format of fiction introduces a topic and gives the reader confidence to explore and compare its nonfiction counterpart. These paired sets along with a comprehensive learning guide let students demonstrate what they have learned from blending together narrative and expository elements. Lit Links paired fiction and nonfiction:  • Provides opportunities for students to analyze and compare different perspectives  • Develops critical reading and comprehension skills  • Supports “thinking across texts” by Illustrating how different authors treat the same topic  • Builds background knowledge, a wider range of vocabulary, and enhances readers’ comprehension of a specific topic  • Contrasts craft and structures of fiction with craft and structures of informational texts","English",612.66999999999996,459.5,null,"",{"$f":"Table1[[#This Row],['# Books]]*Table1[[#This Row],[QTY]]","v":0},{"$f":"Table1[[#This Row],[QTY]]*Table1[[#This Row],[S&L Price]]","v":0}]
[null,null,13,null,"LitLinks Fiction/Nonfiction Paired Sets Grades 4–5",1,"The Phantom Tollbooth / Writing Poems Paired Set","Fiction/NonFiction Pair","978-1-4824-5367-6",2017,"August 2016",null,null,"Author","VARIOUS VARIOUS",null,null,null,null,null,null,"Grade 3 - 5","Grade 3 - 5","This paired set, along with a comprehensive learning guide, inspires student inquiry and invites critical thinking with paired fiction and nonfiction texts.","English",61.27,45.95,null,"",{"$f":"Table1[[#This Row],['# Books]]*Table1[[#This Row],[QTY]]","v":0},{"$f":"Table1[[#This Row],[QTY]]*Table1[[#This Row],[S&L Price]]","v":0}]
[null,null,13,null,"LitLinks Fiction/Nonfiction Paired Sets Grades 4–5",1,"For Freedom / D-Day Paired Set","Fiction/NonFiction Pair","978-1-4824-5370-6",2017,"August 2016",null,null,"Author","VARIOUS VARIOUS",null,null,null,null,null,null,"Grade 6 - 8","Grade 6 - 8","This paired set, along with a comprehensive learning guide, inspires student inquiry and invites critical thinking with paired fiction and nonfiction texts.","English",61.27,45.95,null,"",{"$f":"Table1[[#This Row],['# Books]]*Table1[[#This Row],[QTY]]","v":0},{"$f":"Table1[[#This Row],[QTY]]*Table1[[#This Row],[S&L Price]]","v":0}]
[null,null,13,null,"LitLinks Fiction/Nonfiction Paired Sets Grades 4–5",1,"Matilda / Eleanor Roosevelt in Her Own Words Paired Set","Fiction/NonFiction Pair","978-1-4824-5368-3",2017,"August 2016",null,null,"Author","VARIOUS VARIOUS",null,null,null,null,null,null,"Grade 3 - 5","Grade 3 - 5","This paired set, along with a comprehensive learning guide, inspires student inquiry and invites critical thinking with paired fiction and nonfiction texts.","English",61.27,45.95,null,"",{"$f":"Table1[[#This Row],['# Books]]*Table1[[#This Row],[QTY]]","v":0},{"$f":"Table1[[#This Row],[QTY]]*Table1[[#This Row],[S&L Price]]","v":0}]
[null,null,13,null,"LitLinks Fiction/Nonfiction Paired Sets Grades 4–5",1,"Zane and The Hurricane / Destructive Hurricanes Paired Set","Fiction/NonFiction Pair","978-1-4824-5372-0",2017,"August 2016",null,null,"Author","VARIOUS VARIOUS",null,null,null,null,null,null,"Grade 4 - 8","Grade 4 - 8","This paired set, along with a comprehensive learning guide, inspires student inquiry and invites critical thinking with paired fiction and nonfiction texts.","English",61.27,45.95,null,"",{"$f":"Table1[[#This Row],['# Books]]*Table1[[#This Row],[QTY]]","v":0},{"$f":"Table1[[#This Row],[QTY]]*Table1[[#This Row],[S&L Price]]","v":0}]
[null,null,13,null,"LitLinks Fiction/Nonfiction Paired Sets Grades 4–5",1,"Tesla's Attic / Nikolai Tesla and Thomas Edison Paired Set","Fiction/NonFiction Pair","978-1-4824-5369-0",2017,"August 2016",null,null,"Author","VARIOUS VARIOUS",null,null,null,null,null,null,"Grade 3 - 5","Grade 3 - 5","This paired set, along with a comprehensive learning guide, inspires student inquiry and invites critical thinking with paired fiction and nonfiction texts.","English",61.27,45.95,null,"",{"$f":"Table1[[#This Row],['# Books]]*Table1[[#This Row],[QTY]]","v":0},{"$f":"Table1[[#This Row],[QTY]]*Table1[[#This Row],[S&L Price]]","v":0}]
[null,null,13,null,"LitLinks Fiction/Nonfiction Paired Sets Grades 4–5",1,"Number the Stars / Anne Frank in Her Own Words Paired Set","Fiction/NonFiction Pair","978-1-4824-5373-7",2017,"August 2016",null,null,"Author","VARIOUS VARIOUS",null,null,null,null,null,null,"Grade 4 - 6","Grade 4 - 6","This paired set, along with a comprehensive learning guide, inspires student inquiry and invites critical thinking with paired fiction and nonfiction texts.","English",61.27,45.95,null,"",{"$f":"Table1[[#This Row],['# Books]]*Table1[[#This Row],[QTY]]","v":0},{"$f":"Table1[[#This Row],[QTY]]*Table1[[#This Row],[S&L Price]]","v":0}]
[null,null,13,null,"LitLinks Fiction/Nonfiction Paired Sets Grades 4–5",1,"The BFG / Ferocious Giants Paired Set","Fiction/NonFiction Pair","978-1-4824-5374-4",2017,"August 2016",null,null,"Author","VARIOUS VARIOUS",null,null,null,null,null,null,"Grade 4 - 6","Grade 4 - 6","This paired set, along with a comprehensive learning guide, inspires student inquiry and invites critical thinking with paired fiction and nonfiction texts.","English",61.27,45.95,null,"",{"$f":"Table1[[#This Row],['# Books]]*Table1[[#This Row],[QTY]]","v":0},{"$f":"Table1[[#This Row],[QTY]]*Table1[[#This Row],[S&L Price]]","v":0}]
[null,null,13,null,"LitLinks Fiction/Nonfiction Paired Sets Grades 4–5",1,"Alanna / Meet the Medievals Paired Set","Fiction/NonFiction Pair","978-1-4824-5371-3",2017,"August 2016",null,null,"Author","VARIOUS VARIOUS",null,null,null,null,null,null,"Grade 6 - 8","Grade 6 - 8","This paired set, along with a comprehensive learning guide, inspires student inquiry and invites critical thinking with paired fiction and nonfiction texts.","English",61.27,45.95,null,"",{"$f":"Table1[[#This Row],['# Books]]*Table1[[#This Row],[QTY]]","v":0},{"$f":"Table1[[#This Row],[QTY]]*Table1[[#This Row],[S&L Price]]","v":0}]
[null,null,13,null,"LitLinks Fiction/Nonfiction Paired Sets Grades 4–5",1,"The True Confessions of Charlotte Doyle / Meet the Pirates Paired Set","Fiction/NonFiction Pair","978-1-4824-5375-1",2017,"August 2016",null,null,"Author","VARIOUS VARIOUS",null,null,null,null,null,null,"Grade 3 - 7","Grade 3 - 7","This paired set, along with a comprehensive learning guide, inspires student inquiry and invites critical thinking with paired fiction and nonfiction texts.","English",61.27,45.95,null,"",{"$f":"Table1[[#This Row],['# Books]]*Table1[[#This Row],[QTY]]","v":0},{"$f":"Table1[[#This Row],[QTY]]*Table1[[#This Row],[S&L Price]]","v":0}]
[null,null,13,null,"LitLinks Fiction/Nonfiction Paired Sets Grades 4–5",1,"The People Could Fly: American Black Folktales / Frederick Douglass in His Own Words Paired Set","Fiction/NonFiction Pair","978-1-4824-5376-8",2017,"August 2016",null,null,"Author","VARIOUS VARIOUS",null,null,null,null,null,null,"Grade 3 - 5","Grade 3 - 5","This paired set, along with a comprehensive learning guide, inspires student inquiry and invites critical thinking with paired fiction and nonfiction texts.","English",61.27,45.95,null,"",{"$f":"Table1[[#This Row],['# Books]]*Table1[[#This Row],[QTY]]","v":0},{"$f":"Table1[[#This Row],[QTY]]*Table1[[#This Row],[S&L Price]]","v":0}]
[null,null,13,null,"LitLinks Fiction/Nonfiction Paired Sets Grades 4–5",10,"LitLinks Fiction/Nonfiction Paired Sets Grades 4–5","Fiction/NonFiction Pair Set","978-1-4824-2339-6",2015,"August 2014",null,null,"Author","VARIOUS VARIOUS",null,null,null,null,null,null,"Grade 4 - 5","Grade 4 - 5","Lit Links pairs popular fiction and nonfiction texts that inspire student inquiry and invite critical thinking. The familiar format of fiction introduces a topic and gives the reader confidence to explore and compare its nonfiction counterpart. These paired sets along with a comprehensive learning guide let students demonstrate what they have learned from blending together narrative and expository elements. Lit Links paired fiction and nonfiction:  • Provides opportunities for students to analyze and compare different perspectives  • Develops critical reading and comprehension skills  • Supports “thinking across texts” by Illustrating how different authors treat the same topic  • Builds background knowledge, a wider range of vocabulary, and enhances readers’ comprehension of a specific topic  • Contrasts craft and structures of fiction with craft and structures of informational texts","English",612.66999999999996,459.5,null,"",{"$f":"Table1[[#This Row],['# Books]]*Table1[[#This Row],[QTY]]","v":0},{"$f":"Table1[[#This Row],[QTY]]*Table1[[#This Row],[S&L Price]]","v":0}]
[null,null,13,null,"LitLinks Fiction/Nonfiction Paired Sets Grades 4–5",1,"Birchbark House / Ojibwe History and Culture Paired Set","Fiction/NonFiction Pair","978-1-4824-2334-1",2015,"August 2014",null,null,"Author","VARIOUS VARIOUS",null,null,null,null,null,null,"Grade 4 - 5","Grade 4 - 5","This paired set, along with a comprehensive learning guide, inspires student inquiry and invites critical thinking with paired fiction and nonfiction texts.","English",61.27,45.95,null,"",{"$f":"Table1[[#This Row],['# Books]]*Table1[[#This Row],[QTY]]","v":0},{"$f":"Table1[[#This Row],[QTY]]*Table1[[#This Row],[S&L Price]]","v":0}]
[null,null,13,null,"LitLinks Fiction/Nonfiction Paired Sets Grades 4–5",1,"The Black Stallion / Horses Paired Set","Fiction/NonFiction Pair","978-1-4824-2331-0",2015,"August 2014",null,null,"Author","VARIOUS VARIOUS",null,null,null,null,null,null,"Grade 4 - 5","Grade 4 - 5","This paired set, along with a comprehensive learning guide, inspires student inquiry and invites critical thinking with paired fiction and nonfiction texts.","English",61.27,45.95,null,"",{"$f":"Table1[[#This Row],['# Books]]*Table1[[#This Row],[QTY]]","v":0},{"$f":"Table1[[#This Row],[QTY]]*Table1[[#This Row],[S&L Price]]","v":0}]
[null,null,13,null,"LitLinks Fiction/Nonfiction Paired Sets Grades 4–5",1,"The Boy Who Saved Baseball /Batter Paired Set","Fiction/NonFiction Pair","978-1-4824-2335-8",2015,"August 2014",null,null,"Author","VARIOUS VARIOUS",null,null,null,null,null,null,"Grade 4 - 5","Grade 4 - 5","This paired set, along with a comprehensive learning guide, inspires student inquiry and invites critical thinking with paired fiction and nonfiction texts.","English",61.27,45.95,null,"",{"$f":"Table1[[#This Row],['# Books]]*Table1[[#This Row],[QTY]]","v":0},{"$f":"Table1[[#This Row],[QTY]]*Table1[[#This Row],[S&L Price]]","v":0}]
[null,null,13,null,"LitLinks Fiction/Nonfiction Paired Sets Grades 4–5",1,"The Egypt Game / The Ancient Egyptians Paired Set","Fiction/NonFiction Pair","978-1-4824-2336-5",2015,"August 2014",null,null,"Author","VARIOUS VARIOUS",null,null,null,null,null,null,"Grade 4 - 5","Grade 4 - 5","This paired set, along with a comprehensive learning guide, inspires student inquiry and invites critical thinking with paired fiction and nonfiction texts.","English",61.27,45.95,null,"",{"$f":"Table1[[#This Row],['# Books]]*Table1[[#This Row],[QTY]]","v":0},{"$f":"Table1[[#This Row],[QTY]]*Table1[[#This Row],[S&L Price]]","v":0}]
[null,null,13,null,"LitLinks Fiction/Nonfiction Paired Sets Grades 4–5",1,"Hatchet / Mountain Rescuer Paired Set","Fiction/NonFiction Pair","978-1-4824-2337-2",2015,"August 2014",null,null,"Author","VARIOUS VARIOUS",null,null,null,null,null,null,"Grade 4 - 5","Grade 4 - 5","This paired set, along with a comprehensive learning guide, inspires student inquiry and invites critical thinking with paired fiction and nonfiction texts.","English",61.27,45.95,null,"",{"$f":"Table1[[#This Row],['# Books]]*Table1[[#This Row],[QTY]]","v":0},{"$f":"Table1[[#This Row],[QTY]]*Table1[[#This Row],[S&L Price]]","v":0}]
[null,null,13,null,"LitLinks Fiction/Nonfiction Paired Sets Grades 4–5",1,"Hercules Fights the Nemean Lion / Classical Myths Paired Set","Fiction/NonFiction Pair","978-1-4824-2333-4",2015,"August 2014",null,null,"Author","VARIOUS VARIOUS",null,null,null,null,null,null,"Grade 4 - 5","Grade 4 - 5","This paired set, along with a comprehensive learning guide, inspires student inquiry and invites critical thinking with paired fiction and nonfiction texts.","English",61.27,45.95,null,"",{"$f":"Table1[[#This Row],['# Books]]*Table1[[#This Row],[QTY]]","v":0},{"$f":"Table1[[#This Row],[QTY]]*Table1[[#This Row],[S&L Price]]","v":0}]
[null,null,13,null,"LitLinks Fiction/Nonfiction Paired Sets Grades 4–5",1,"Island of the Blue Dolphins / The Exploration of Australasia and the Pacific Paired Set","Fiction/NonFiction Pair","978-1-4824-2338-9",2015,"August 2014",null,null,"Author","VARIOUS VARIOUS",null,null,null,null,null,null,"Grade 4 - 5","Grade 4 - 5","This paired set, along with a comprehensive learning guide, inspires student inquiry and invites critical thinking with paired fiction and nonfiction texts.","English",61.27,45.95,null,"",{"$f":"Table1[[#This Row],['# Books]]*Table1[[#This Row],[QTY]]","v":0},{"$f":"Table1[[#This Row],[QTY]]*Table1[[#This Row],[S&L Price]]","v":0}]
[null,null,13,null,"LitLinks Fiction/Nonfiction Paired Sets Grades 4–5",1,"M.C. Higgins, the Great / Slavery in Early America Paired Set","Fiction/NonFiction Pair","978-1-4824-2330-3",2015,"August 2014",null,null,"Author","VARIOUS VARIOUS",null,null,null,null,null,null,"Grade 4 - 5","Grade 4 - 5","This paired set, along with a comprehensive learning guide, inspires student inquiry and invites critical thinking with paired fiction and nonfiction texts.","English",61.27,45.95,null,"",{"$f":"Table1[[#This Row],['# Books]]*Table1[[#This Row],[QTY]]","v":0},{"$f":"Table1[[#This Row],[QTY]]*Table1[[#This Row],[S&L Price]]","v":0}]
[null,null,13,null,"LitLinks Fiction/Nonfiction Paired Sets Grades 4–5",1,"The Secret Garden / Plant Life Paired Set","Fiction/NonFiction Pair","978-1-4824-2332-7",2015,"August 2014",null,null,"Author","VARIOUS VARIOUS",null,null,null,null,null,null,"Grade 4 - 5","Grade 4 - 5","This paired set, along with a comprehensive learning guide, inspires student inquiry and invites critical thinking with paired fiction and nonfiction texts.","English",61.27,45.95,null,"",{"$f":"Table1[[#This Row],['# Books]]*Table1[[#This Row],[QTY]]","v":0},{"$f":"Table1[[#This Row],[QTY]]*Table1[[#This Row],[S&L Price]]","v":0}]
[null,null,13,null,"LitLinks Fiction/Nonfiction Paired Sets Grades 4–5",1,"Where the Mountain Meets the Moon / Dragons and Serpents Paired Set","Fiction/NonFiction Pair","978-1-4824-2329-7",2015,"August 2014",null,null,"Author","VARIOUS VARIOUS",null,null,null,null,null,null,"Grade 4 - 5","Grade 4 - 5","This paired set, along with a comprehensive learning guide, inspires student inquiry and invites critical thinking with paired fiction and nonfiction texts.","English",61.27,45.95,null,"",{"$f":"Table1[[#This Row],['# Books]]*Table1[[#This Row],[QTY]]","v":0},{"$f":"Table1[[#This Row],[QTY]]*Table1[[#This Row],[S&L Price]]","v":0}]
[null,null,13,null,"LitLinks Fiction/Nonfiction Paired Sets Grades 6-8",10,"LitLinks Fiction/Nonfiction Paired Sets Grades 6-8","Fiction/NonFiction Pair Set","978-1-4824-5394-2",2017,"August 2016",null,null,"Author","VARIOUS VARIOUS",null,null,null,null,null,null,"Grade 6 - 8","Grade 6 - 8","Lit Links pairs popular fiction and nonfiction texts that inspire student inquiry and invite critical thinking. The familiar format of fiction introduces a topic and gives the reader confidence to explore and compare its nonfiction counterpart. These paired sets along with a comprehensive learning guide let students demonstrate what they have learned from blending together narrative and expository elements. Lit Links paired fiction and nonfiction:  • Provides opportunities for students to analyze and compare different perspectives  • Develops critical reading and comprehension skills  • Supports “thinking across texts” by Illustrating how different authors treat the same topic  • Builds background knowledge, a wider range of vocabulary, and enhances readers’ comprehension of a specific topic  • Contrasts craft and structures of fiction with craft and structures of informational texts","English",612.66999999999996,459.5,null,"",{"$f":"Table1[[#This Row],['# Books]]*Table1[[#This Row],[QTY]]","v":0},{"$f":"Table1[[#This Row],[QTY]]*Table1[[#This Row],[S&L Price]]","v":0}]
[null,null,13,null,"LitLinks Fiction/Nonfiction Paired Sets Grades 6-8",1,"Feed / The Digital Age (1947 – Present Day) Paired Set","Fiction/NonFiction Pair","978-1-4824-5382-9",2017,"August 2016",null,null,"Author","VARIOUS VARIOUS",null,null,null,null,null,null,"Grade 9 - 12","Grade 9 - 12","This paired set, along with a comprehensive learning guide, inspires student inquiry and invites critical thinking with paired fiction and nonfiction texts.","English",61.27,45.95,null,"",{"$f":"Table1[[#This Row],['# Books]]*Table1[[#This Row],[QTY]]","v":0},{"$f":"Table1[[#This Row],[QTY]]*Table1[[#This Row],[S&L Price]]","v":0}]
[null,null,13,null,"LitLinks Fiction/Nonfiction Paired Sets Grades 6-8",1,"Johnny Tremain / The American Revolution Paired Set","Fiction/NonFiction Pair","978-1-4824-5377-5",2017,"August 2016",null,null,"Author","VARIOUS VARIOUS",null,null,null,null,null,null,"Grade 6 - 8","Grade 6 - 8","This paired set, along with a comprehensive learning guide, inspires student inquiry and invites critical thinking with paired fiction and nonfiction texts.","English",61.27,45.95,null,"",{"$f":"Table1[[#This Row],['# Books]]*Table1[[#This Row],[QTY]]","v":0},{"$f":"Table1[[#This Row],[QTY]]*Table1[[#This Row],[S&L Price]]","v":0}]
[null,null,13,null,"LitLinks Fiction/Nonfiction Paired Sets Grades 6-8",1,"The Hunger Games / Dictatorship Paired Set","Fiction/NonFiction Pair","978-1-4824-5381-2",2017,"August 2016",null,null,"Author","VARIOUS VARIOUS",null,null,null,null,null,null,"Grade 7 - 9","Grade 7 - 9","This paired set, along with a comprehensive learning guide, inspires student inquiry and invites critical thinking with paired fiction and nonfiction texts.","English",61.27,45.95,null,"",{"$f":"Table1[[#This Row],['# Books]]*Table1[[#This Row],[QTY]]","v":0},{"$f":"Table1[[#This Row],[QTY]]*Table1[[#This Row],[S&L Price]]","v":0}]
[null,null,13,null,"LitLinks Fiction/Nonfiction Paired Sets Grades 6-8",1,"Farenheit 451 / What Is a Dictatorship? Paired Set","Fiction/NonFiction Pair","978-1-4824-5383-6",2017,"August 2016",null,null,"Author","VARIOUS VARIOUS",null,null,null,null,null,null,"Grade 9 - 12","Grade 9 - 12","This paired set, along with a comprehensive learning guide, inspires student inquiry and invites critical thinking with paired fiction and nonfiction texts.","English",61.27,45.95,null,"",{"$f":"Table1[[#This Row],['# Books]]*Table1[[#This Row],[QTY]]","v":0},{"$f":"Table1[[#This Row],[QTY]]*Table1[[#This Row],[S&L Price]]","v":0}]
[null,null,13,null,"LitLinks Fiction/Nonfiction Paired Sets Grades 6-8",1,"A Wrinkle In Time / What is Communism? Paired Set","Fiction/NonFiction Pair","978-1-4824-5386-7",2017,"August 2016",null,null,"Author","VARIOUS VARIOUS",null,null,null,null,null,null,"Grade 6 - 8","Grade 6 - 8","This paired set, along with a comprehensive learning guide, inspires student inquiry and invites critical thinking with paired fiction and nonfiction texts.","English",61.27,45.95,null,"",{"$f":"Table1[[#This Row],['# Books]]*Table1[[#This Row],[QTY]]","v":0},{"$f":"Table1[[#This Row],[QTY]]*Table1[[#This Row],[S&L Price]]","v":0}]
[null,null,13,null,"LitLinks Fiction/Nonfiction Paired Sets Grades 6-8",1,"The Fault in Our Stars / Fighting Cancer Paired Set","Fiction/NonFiction Pair","978-1-4824-5385-0",2017,"August 2016",null,null,"Author","VARIOUS VARIOUS",null,null,null,null,null,null,"Grade 9 - 12","Grade 9 - 12","This paired set, along with a comprehensive learning guide, inspires student inquiry and invites critical thinking with paired fiction and nonfiction texts.","English",61.27,45.95,null,"",{"$f":"Table1[[#This Row],['# Books]]*Table1[[#This Row],[QTY]]","v":0},{"$f":"Table1[[#This Row],[QTY]]*Table1[[#This Row],[S&L Price]]","v":0}]
[null,null,13,null,"LitLinks Fiction/Nonfiction Paired Sets Grades 6-8",1,"From the Earth to the Moon / 100 Facts You Should Know: Space Paired Set","Fiction/NonFiction Pair","978-1-4824-5384-3",2017,"August 2016",null,null,"Author","VARIOUS VARIOUS",null,null,null,null,null,null,"Grade 6 - 8","Grade 6 - 8","This paired set, along with a comprehensive learning guide, inspires student inquiry and invites critical thinking with paired fiction and nonfiction texts.","English",61.27,45.95,null,"",{"$f":"Table1[[#This Row],['# Books]]*Table1[[#This Row],[QTY]]","v":0},{"$f":"Table1[[#This Row],[QTY]]*Table1[[#This Row],[S&L Price]]","v":0}]
[null,null,13,null,"LitLinks Fiction/Nonfiction Paired Sets Grades 6-8",1,"Huckleberry Finn / Slavery in Early America Paired Set","Fiction/NonFiction Pair","978-1-4824-5380-5",2017,"August 2016",null,null,"Author","VARIOUS VARIOUS",null,null,null,null,null,null,"Grade 7 - 9","Grade 7 - 9","This paired set, along with a comprehensive learning guide, inspires student inquiry and invites critical thinking with paired fiction and nonfiction texts.","English",61.27,45.95,null,"",{"$f":"Table1[[#This Row],['# Books]]*Table1[[#This Row],[QTY]]","v":0},{"$f":"Table1[[#This Row],[QTY]]*Table1[[#This Row],[S&L Price]]","v":0}]
[null,null,13,null,"LitLinks Fiction/Nonfiction Paired Sets Grades 6-8",1,"Mrs Frisby and the Rats of NIMH / Timeline of the Industrial Revolution Paired Set","Fiction/NonFiction Pair","978-1-4824-5378-2",2017,"August 2016",null,null,"Author","VARIOUS VARIOUS",null,null,null,null,null,null,"Grade 5 - 8","Grade 5 - 8","This paired set, along with a comprehensive learning guide, inspires student inquiry and invites critical thinking with paired fiction and nonfiction texts.","English",61.27,45.95,null,"",{"$f":"Table1[[#This Row],['# Books]]*Table1[[#This Row],[QTY]]","v":0},{"$f":"Table1[[#This Row],[QTY]]*Table1[[#This Row],[S&L Price]]","v":0}]
[null,null,13,null,"LitLinks Fiction/Nonfiction Paired Sets Grades 6-8",1,"Maniac Magee / Thurgood Marshall: The Supreme Court Rules on \"Separate but Equal\" Paired Set","Fiction/NonFiction Pair","978-1-4824-5379-9",2017,"August 2016",null,null,"Author","VARIOUS VARIOUS",null,null,null,null,null,null,"Grade 5 - 9","Grade 5 - 9","This paired set, along with a comprehensive learning guide, inspires student inquiry and invites critical thinking with paired fiction and nonfiction texts.","English",61.27,45.95,null,"",{"$f":"Table1[[#This Row],['# Books]]*Table1[[#This Row],[QTY]]","v":0},{"$f":"Table1[[#This Row],[QTY]]*Table1[[#This Row],[S&L Price]]","v":0}]
[null,null,13,null,"LitLinks Fiction/Nonfiction Paired Sets Grades 6-8",10,"LitLinks Fiction/Nonfiction Paired Sets Grades 6-8","Fiction/NonFiction Pair Set","978-1-4824-2349-5",2015,"August 2014",null,null,"Author","VARIOUS VARIOUS",null,null,null,null,null,null,"Grade 6 - 8","Grade 6 - 8","Lit Links pairs popular fiction and nonfiction texts that inspire student inquiry and invite critical thinking. The familiar format of fiction introduces a topic and gives the reader confidence to explore and compare its nonfiction counterpart. These paired sets along with a comprehensive learning guide let students demonstrate what they have learned from blending together narrative and expository elements. Lit Links paired fiction and nonfiction:  • Provides opportunities for students to analyze and compare different perspectives  • Develops critical reading and comprehension skills  • Supports “thinking across texts” by Illustrating how different authors treat the same topic  • Builds background knowledge, a wider range of vocabulary, and enhances readers’ comprehension of a specific topic  • Contrasts craft and structures of fiction with craft and structures of informational texts","English",612.66999999999996,459.5,null,"",{"$f":"Table1[[#This Row],['# Books]]*Table1[[#This Row],[QTY]]","v":0},{"$f":"Table1[[#This Row],[QTY]]*Table1[[#This Row],[S&L Price]]","v":0}]
[null,null,13,null,"LitLinks Fiction/Nonfiction Paired Sets Grades 6-8",1,"The Age of Miracles / Global Warming Paired Set","Fiction/NonFiction Pair","978-1-4824-2345-7",2015,"August 2014",null,null,"Author","VARIOUS VARIOUS",null,null,null,null,null,null,"Grade 6 - 7","Grade 6 - 9","This paired set, along with a comprehensive learning guide, inspires student inquiry and invites critical thinking with paired fiction and nonfiction texts.","English",61.27,45.95,null,"",{"$f":"Table1[[#This Row],['# Books]]*Table1[[#This Row],[QTY]]","v":0},{"$f":"Table1[[#This Row],[QTY]]*Table1[[#This Row],[S&L Price]]","v":0}]
[null,null,13,null,"LitLinks Fiction/Nonfiction Paired Sets Grades 6-8",1,"Forge / Timeline of the Revolutionary War Paired Set","Fiction/NonFiction Pair","978-1-4824-2347-1",2015,"August 2014",null,null,"Author","VARIOUS VARIOUS",null,null,null,null,null,null,"Grade 6 - 7","Grade 6 - 9","This paired set, along with a comprehensive learning guide, inspires student inquiry and invites critical thinking with paired fiction and nonfiction texts.","English",61.27,45.95,null,"",{"$f":"Table1[[#This Row],['# Books]]*Table1[[#This Row],[QTY]]","v":0},{"$f":"Table1[[#This Row],[QTY]]*Table1[[#This Row],[S&L Price]]","v":0}]
[null,null,13,null,"LitLinks Fiction/Nonfiction Paired Sets Grades 6-8",1,"Frankenstein / Genetic Modification: Should Humans Control Nature? Paired Set","Fiction/NonFiction Pair","978-1-4824-2344-0",2015,"August 2014",null,null,"Author","VARIOUS VARIOUS",null,null,null,null,null,null,"Grade 6 - 7","Grade 6 - 9","This paired set, along with a comprehensive learning guide, inspires student inquiry and invites critical thinking with paired fiction and nonfiction texts.","English",61.27,45.95,null,"24 pp.",{"$f":"Table1[[#This Row],['# Books]]*Table1[[#This Row],[QTY]]","v":0},{"$f":"Table1[[#This Row],[QTY]]*Table1[[#This Row],[S&L Price]]","v":0}]
[null,null,13,null,"LitLinks Fiction/Nonfiction Paired Sets Grades 6-8",1,"The House of the Scorpion / Science vs. Disease Paired Set","Fiction/NonFiction Pair","978-1-4824-2348-8",2015,"August 2014",null,null,"Author","VARIOUS VARIOUS",null,null,null,null,null,null,"Grade 6 - 7","Grade 6 - 9","This paired set, along with a comprehensive learning guide, inspires student inquiry and invites critical thinking with paired fiction and nonfiction texts.","English",61.27,45.95,null,"24 pp.",{"$f":"Table1[[#This Row],['# Books]]*Table1[[#This Row],[QTY]]","v":0},{"$f":"Table1[[#This Row],[QTY]]*Table1[[#This Row],[S&L Price]]","v":0}]
[null,null,13,null,"LitLinks Fiction/Nonfiction Paired Sets Grades 6-8",1,"Roll of Thunder, Hear My Cry / Martin Luther King Jr. In His Own Words Paired Set","Fiction/NonFiction Pair","978-1-4824-2341-9",2015,"August 2014",null,null,"Author","VARIOUS VARIOUS",null,null,null,null,null,null,"Grade 6 - 7","Grade 6 - 9","This paired set, along with a comprehensive learning guide, inspires student inquiry and invites critical thinking with paired fiction and nonfiction texts.","English",61.27,45.95,null,"24 pp.",{"$f":"Table1[[#This Row],['# Books]]*Table1[[#This Row],[QTY]]","v":0},{"$f":"Table1[[#This Row],[QTY]]*Table1[[#This Row],[S&L Price]]","v":0}]
[null,null,13,null,"LitLinks Fiction/Nonfiction Paired Sets Grades 6-8",1,"Sacrifice / Salem Witch Trials Paired Set","Fiction/NonFiction Pair","978-1-4824-2340-2",2015,"August 2014",null,null,"Author","VARIOUS VARIOUS",null,null,null,null,null,null,"Grade 6 - 7","Grade 6 - 9","This paired set, along with a comprehensive learning guide, inspires student inquiry and invites critical thinking with paired fiction and nonfiction texts.","English",61.27,45.95,null,"24 pp.",{"$f":"Table1[[#This Row],['# Books]]*Table1[[#This Row],[QTY]]","v":0},{"$f":"Table1[[#This Row],[QTY]]*Table1[[#This Row],[S&L Price]]","v":0}]
[null,null,13,null,"LitLinks Fiction/Nonfiction Paired Sets Grades 6–8",1,"The Lightning Thief / Greek Myths Paired Set","Fiction/NonFiction Pair","978-1-4824-2354-9",2015,"August 2014",null,null,"Author","VARIOUS VARIOUS",null,null,null,null,null,null,"Grade 4 - 5","Grade 4 - 5","This paired set, along with a comprehensive learning guide, inspires student inquiry and invites critical thinking with paired fiction and nonfiction texts.","English",61.27,45.95,null,"24 pp.",{"$f":"Table1[[#This Row],['# Books]]*Table1[[#This Row],[QTY]]","v":0},{"$f":"Table1[[#This Row],[QTY]]*Table1[[#This Row],[S&L Price]]","v":0}]
[null,null,13,null,"LitLinks Fiction/Nonfiction Paired Sets Grades 6-8",1,"The War of the Worlds / Machines and Weaponry of World War I Paired Set","Fiction/NonFiction Pair","978-1-4824-2346-4",2015,"August 2014",null,null,"Author","VARIOUS VARIOUS",null,null,null,null,null,null,"Grade 6 - 7","Grade 6 - 9","This paired set, along with a comprehensive learning guide, inspires student inquiry and invites critical thinking with paired fiction and nonfiction texts.","English",61.27,45.95,null,"24 pp.",{"$f":"Table1[[#This Row],['# Books]]*Table1[[#This Row],[QTY]]","v":0},{"$f":"Table1[[#This Row],[QTY]]*Table1[[#This Row],[S&L Price]]","v":0}]
[null,null,13,null,"LitLinks Fiction/Nonfiction Paired Sets Grades 6-8",1,"Where the Red Fern Grows / Biomes and Ecosystems Paired Set","Fiction/NonFiction Pair","978-1-4824-2342-6",2015,"August 2014",null,null,"Author","VARIOUS VARIOUS",null,null,null,null,null,null,"Grade 6 - 7","Grade 6 - 9","This paired set, along with a comprehensive learning guide, inspires student inquiry and invites critical thinking with paired fiction and nonfiction texts.","English",61.27,45.95,null,"24 pp.",{"$f":"Table1[[#This Row],['# Books]]*Table1[[#This Row],[QTY]]","v":0},{"$f":"Table1[[#This Row],[QTY]]*Table1[[#This Row],[S&L Price]]","v":0}]
[null,null,13,null,"LitLinks Fiction/Nonfiction Paired Sets Grades 6-8",1,"Will at the Battle of Gettysburg, 1863 / Timeline of the Civil War Paired Set","Fiction/NonFiction Pair","978-1-4824-2343-3",2015,"August 2014",null,null,"Author","VARIOUS VARIOUS",null,null,null,null,null,null,"Grade 6 - 7","Grade 6 - 9","This paired set, along with a comprehensive learning guide, inspires student inquiry and invites critical thinking with paired fiction and nonfiction texts.","English",61.27,45.95,null,"24 pp.",{"$f":"Table1[[#This Row],['# Books]]*Table1[[#This Row],[QTY]]","v":0},{"$f":"Table1[[#This Row],[QTY]]*Table1[[#This Row],[S&L Price]]","v":0}]
[null,null,16,null,"What I Know (Set of 12 Titles)",12,"What I Know (Set of 12 Titles)","Library Set","978-1-5382-0233-3",2018,"August 2017","Library","7.000 X 7.000",null,"",null,null,null,null,null,null,"Grade K","Grade Pre-K - 1","Young learners love telling others “what I know,” and this delightful collection will encourage them to toot their own horns even more! While instilling a love of books, each cheerful volume provides a supportive experience in learning important foundational concepts at an achievable reading level. Colors, numbers, opposites, and vehicles are some of the essential themes represented by vibrant, fun photographs throughout each series.","English",271.2,203.4,null,"24 pp.",{"$f":"Table1[[#This Row],['# Books]]*Table1[[#This Row],[QTY]]","v":0},{"$f":"Table1[[#This Row],[QTY]]*Table1[[#This Row],[S&L Price]]","v":0}]
[null,null,16,null,"What I Know (NEW Set of 6 Titles)",6,"What I Know (NEW Set of 6 Titles)","Library Set","978-1-5382-0231-9",2018,"August 2017","Library","7.000 X 7.000",null,"",null,null,null,null,null,null,"Grade K","Grade Pre-K - 1","Young readers are eager to both practice their language skills and expand their knowledge. They’ll be especially enthusiastic to get their hands on the bright pages of these books, written with beginning readers in mind. This continuation of our appealing early-learning series covers important topics in elementary education such as community helpers, opposites, and even fruits and vegetables! Each volume features achievable text supported by beautiful photographs as well as a concluding question to encourage readers to thoughtfully consider what they’ve learned.\n\n","English",135.6,101.7,null,"24 pp.",{"$f":"Table1[[#This Row],['# Books]]*Table1[[#This Row],[QTY]]","v":0},{"$f":"Table1[[#This Row],[QTY]]*Table1[[#This Row],[S&L Price]]","v":0}]
[null,null,16,null,"What I Know",1,"I Know Body Parts","Library Bound Book","978-1-4824-5462-8",2017,"January 2017","Library","7.000 X 7.000","Author","Mary Rose Osburn",null,null,null,null,"B",null,"Grade K","Grade Pre-K - 1","Knowing body parts and accompanying vocabulary are essential topics in both health and science elementary curricula. In this helpful volume, close text and image correlation make fundamental concepts comprehensible. Readers will recognize the body parts in each colorful photograph and associate them with their own. Finally, they’ll consider how they use their many body parts in their daily lives.","English",22.6,16.95,"612--dc23","24 pp.",{"$f":"Table1[[#This Row],['# Books]]*Table1[[#This Row],[QTY]]","v":0},{"$f":"Table1[[#This Row],[QTY]]*Table1[[#This Row],[S&L Price]]","v":0}]
[null,null,16,null,"What I Know",1,"I Know Body Parts","eBook","978-1-4824-5463-5",2017,"January 2017",null,null,"Author","Mary Rose Osburn",null,null,null,null,"B",null,"Grade K","Grade Pre-K - 1","Knowing body parts and accompanying vocabulary are essential topics in both health and science elementary curricula. In this helpful volume, close text and image correlation make fundamental concepts comprehensible. Readers will recognize the body parts in each colorful photograph and associate them with their own. Finally, they’ll consider how they use their many body parts in their daily lives.","English",22.6,16.95,"612--dc23","24 pp.",{"$f":"Table1[[#This Row],['# Books]]*Table1[[#This Row],[QTY]]","v":0},{"$f":"Table1[[#This Row],[QTY]]*Table1[[#This Row],[S&L Price]]","v":0}]
[null,null,16,null,"What I Know",1,"I Know Colors","Library Bound Book","978-1-4824-5448-2",2017,"January 2017","Library","7.000 X 7.000","Author","Mary Rose Osburn",null,null,null,null,"B",null,"Grade K","Grade Pre-K - 1","It’s a vibrant world! The pleasing pages of this bright book invite beginning readers to recognize the colors of the rainbow in familiar and fun objects, such as foods, toys, and animals. Achievable content and a final question about the reader’s favorite color make this a valuable tool for both teaching and reinforcing color concepts.","English",22.6,16.95,"535.6--dc23","24 pp.",{"$f":"Table1[[#This Row],['# Books]]*Table1[[#This Row],[QTY]]","v":0},{"$f":"Table1[[#This Row],[QTY]]*Table1[[#This Row],[S&L Price]]","v":0}]
[null,null,16,null,"What I Know",1,"I Know Colors","eBook","978-1-4824-5450-5",2017,"January 2017",null,null,"Author","Mary Rose Osburn",null,null,null,null,"B",null,"Grade K","Grade Pre-K - 1","It’s a vibrant world! The pleasing pages of this bright book invite beginning readers to recognize the colors of the rainbow in familiar and fun objects, such as foods, toys, and animals. Achievable content and a final question about the reader’s favorite color make this a valuable tool for both teaching and reinforcing color concepts.","English",22.6,16.95,"535.6--dc23","24 pp.",{"$f":"Table1[[#This Row],['# Books]]*Table1[[#This Row],[QTY]]","v":0},{"$f":"Table1[[#This Row],[QTY]]*Table1[[#This Row],[S&L Price]]","v":0}]
[null,null,16,null,"What I Know",1,"I Know Fruits and Vegetables","Library Bound Book","978-1-4824-6295-1",2018,"August 2017","Library","7.000 X 7.000","Author","Colin Matthews",null,null,null,null,"B",null,"Grade K","Grade Pre-K - 1","Sometimes books can make our mouths water, and this volume, full of beautiful pictures of fruits and vegetables, will do just that. The at-level text and supporting photographs encourage a healthy and colorful diet, while presenting a cornucopia of vocabulary for fruits and vegetables, such as bananas, strawberries, and peppers. A concluding question asks readers to muse about which is their favorite, a fun way to review an impressive—and important—word list.","English",22.6,16.95,"363.19’2--dc23","24 pp.",{"$f":"Table1[[#This Row],['# Books]]*Table1[[#This Row],[QTY]]","v":0},{"$f":"Table1[[#This Row],[QTY]]*Table1[[#This Row],[S&L Price]]","v":0}]
[null,null,16,null,"What I Know",1,"I Know Fruits and Vegetables","eBook","978-1-4824-6296-8",2018,"August 2017",null,null,"Author","Colin Matthews",null,null,null,null,"B",null,"Grade K","Grade Pre-K - 1","Sometimes books can make our mouths water, and this volume, full of beautiful pictures of fruits and vegetables, will do just that. The at-level text and supporting photographs encourage a healthy and colorful diet, while presenting a cornucopia of vocabulary for fruits and vegetables, such as bananas, strawberries, and peppers. A concluding question asks readers to muse about which is their favorite, a fun way to review an impressive—and important—word list.","English",22.6,16.95,"363.19’2--dc23","24 pp.",{"$f":"Table1[[#This Row],['# Books]]*Table1[[#This Row],[QTY]]","v":0},{"$f":"Table1[[#This Row],[QTY]]*Table1[[#This Row],[S&L Price]]","v":0}]
[null,null,16,null,"What I Know",1,"I Know Numbers","Library Bound Book","978-1-4824-5467-3",2017,"January 2017","Library","7.000 X 7.000","Author","Jon Welzen",null,null,null,null,"B",null,"Grade K","Grade Pre-K - 1","Ten toes on our feet, four bases in baseball, two wheels on a bicycle—numbers are all around! This sunny book demonstrates how readers can identify numbers in familiar objects and situations, aided by carefully selected images, and encourages them to practice number recognition in their everyday lives. Number names, quantities, and counting are among the essential skills addressed in this valuable volume.","English",22.6,16.95,"513.2--dc23","24 pp.",{"$f":"Table1[[#This Row],['# Books]]*Table1[[#This Row],[QTY]]","v":0},{"$f":"Table1[[#This Row],[QTY]]*Table1[[#This Row],[S&L Price]]","v":0}]
[null,null,16,null,"What I Know",1,"I Know Numbers","eBook","978-1-4824-5469-7",2017,"January 2017",null,null,"Author","Jon Welzen",null,null,null,null,"B",null,"Grade K","Grade Pre-K - 1","Ten toes on our feet, four bases in baseball, two wheels on a bicycle—numbers are all around! This sunny book demonstrates how readers can identify numbers in familiar objects and situations, aided by carefully selected images, and encourages them to practice number recognition in their everyday lives. Number names, quantities, and counting are among the essential skills addressed in this valuable volume.","English",22.6,16.95,"513.2--dc23","24 pp.",{"$f":"Table1[[#This Row],['# Books]]*Table1[[#This Row],[QTY]]","v":0},{"$f":"Table1[[#This Row],[QTY]]*Table1[[#This Row],[S&L Price]]","v":0}]
[null,null,16,null,"What I Know",1,"I Know Opposites","Library Bound Book","978-1-4824-6299-9",2018,"August 2017","Library","7.000 X 7.000","Author","Colin Matthews",null,null,null,null,"B",null,"Grade K","Grade Pre-K - 1","The concept of opposites is a crucial one at the early elementary level. Learning opposites opens up a reader’s vocabulary and ability to communicate. This colorful volume is a helpful aid for teaching and reviewing opposites, displaying opposite pairs visually next to the accompanying accessible text. Readers are encouraged to identify opposites in their own world, reinforcing these essential ideas in their daily lives.","English",22.6,16.95,"428.1--dc23","24 pp.",{"$f":"Table1[[#This Row],['# Books]]*Table1[[#This Row],[QTY]]","v":0},{"$f":"Table1[[#This Row],[QTY]]*Table1[[#This Row],[S&L Price]]","v":0}]
[null,null,16,null,"What I Know",1,"I Know Opposites","eBook","978-1-4824-6300-2",2018,"August 2017",null,null,"Author","Colin Matthews",null,null,null,null,"B",null,"Grade K","Grade Pre-K - 1","The concept of opposites is a crucial one at the early elementary level. Learning opposites opens up a reader’s vocabulary and ability to communicate. This colorful volume is a helpful aid for teaching and reviewing opposites, displaying opposite pairs visually next to the accompanying accessible text. Readers are encouraged to identify opposites in their own world, reinforcing these essential ideas in their daily lives.","English",22.6,16.95,"428.1--dc23","24 pp.",{"$f":"Table1[[#This Row],['# Books]]*Table1[[#This Row],[QTY]]","v":0},{"$f":"Table1[[#This Row],[QTY]]*Table1[[#This Row],[S&L Price]]","v":0}]
[null,null,16,null,"What I Know",1,"I Know People Around Town","Library Bound Book","978-1-4824-6303-3",2018,"August 2017","Library","7.000 X 7.000","Author","Colin Matthews",null,null,null,null,"B",null,"Grade K","Grade Pre-K - 1","Young people are always interested in those in the community who make it run—especially uniformed heroes such as firefighters and police officers. This fun volume walks readers around town introducing them to community workers, including the mail carrier, dentist, and librarian. Carefully chosen photographs correlate with the achievable vocabulary and illustrate characteristics of each job.","English",22.6,16.95,"331.7--dc23","24 pp.",{"$f":"Table1[[#This Row],['# Books]]*Table1[[#This Row],[QTY]]","v":0},{"$f":"Table1[[#This Row],[QTY]]*Table1[[#This Row],[S&L Price]]","v":0}]
[null,null,16,null,"What I Know",1,"I Know People Around Town","eBook","978-1-4824-6304-0",2018,"August 2017",null,null,"Author","Colin Matthews",null,null,null,null,"B",null,"Grade K","Grade Pre-K - 1","Young people are always interested in those in the community who make it run—especially uniformed heroes such as firefighters and police officers. This fun volume walks readers around town introducing them to community workers, including the mail carrier, dentist, and librarian. Carefully chosen photographs correlate with the achievable vocabulary and illustrate characteristics of each job.","English",22.6,16.95,"331.7--dc23","24 pp.",{"$f":"Table1[[#This Row],['# Books]]*Table1[[#This Row],[QTY]]","v":0},{"$f":"Table1[[#This Row],[QTY]]*Table1[[#This Row],[S&L Price]]","v":0}]
[null,null,16,null,"What I Know",1,"I Know Places Around Town","Library Bound Book","978-1-4824-6307-1",2018,"August 2017","Library","7.000 X 7.000","Author","Trisha James",null,null,null,null,"B",null,"Grade K","Grade Pre-K - 1","Everyone has their favorite places around the community, whether it's the library or the ice cream shop. In this attractive book, readers visit the important—and fun!—places found in many towns and cities, including the police station and the playground. Vocabulary is reinforced as readers consider what these places look like where they live and which they’d like to visit. Understanding community resources and workers are key parts of early elementary curricula.","English",22.6,16.95,"307.76--dc23","24 pp.",{"$f":"Table1[[#This Row],['# Books]]*Table1[[#This Row],[QTY]]","v":0},{"$f":"Table1[[#This Row],[QTY]]*Table1[[#This Row],[S&L Price]]","v":0}]
[null,null,16,null,"What I Know",1,"I Know Places Around Town","eBook","978-1-4824-6308-8",2018,"August 2017",null,null,"Author","Trisha James",null,null,null,null,"B",null,"Grade K","Grade Pre-K - 1","Everyone has their favorite places around the community, whether it's the library or the ice cream shop. In this attractive book, readers visit the important—and fun!—places found in many towns and cities, including the police station and the playground. Vocabulary is reinforced as readers consider what these places look like where they live and which they’d like to visit. Understanding community resources and workers are key parts of early elementary curricula.","English",22.6,16.95,"307.76--dc23","24 pp.",{"$f":"Table1[[#This Row],['# Books]]*Table1[[#This Row],[QTY]]","v":0},{"$f":"Table1[[#This Row],[QTY]]*Table1[[#This Row],[S&L Price]]","v":0}]
[null,null,16,null,"What I Know",1,"I Know Shapes","Library Bound Book","978-1-4824-5480-2",2017,"January 2017","Library","7.000 X 7.000","Author","Jon Welzen",null,null,null,null,"B",null,"Grade K","Grade Pre-K - 1","Discovering the obvious and hidden shapes in the world around us is a great way to strengthen geometric concepts. This motivating volume points out shapes in common and interesting objects. Readers will be inspired by accessible text and colorful photographs to apply their understanding of shapes’ attributes to their own surroundings, reinforcing fundamental mathematic ideas.","English",22.6,16.95,"516’.15--dc23","24 pp.",{"$f":"Table1[[#This Row],['# Books]]*Table1[[#This Row],[QTY]]","v":0},{"$f":"Table1[[#This Row],[QTY]]*Table1[[#This Row],[S&L Price]]","v":0}]
[null,null,16,null,"What I Know",1,"I Know Shapes","eBook","978-1-4824-5481-9",2017,"January 2017",null,null,"Author","Jon Welzen",null,null,null,null,"B",null,"Grade K","Grade Pre-K - 1","Discovering the obvious and hidden shapes in the world around us is a great way to strengthen geometric concepts. This motivating volume points out shapes in common and interesting objects. Readers will be inspired by accessible text and colorful photographs to apply their understanding of shapes’ attributes to their own surroundings, reinforcing fundamental mathematic ideas.","English",22.6,16.95,"516’.15--dc23","24 pp.",{"$f":"Table1[[#This Row],['# Books]]*Table1[[#This Row],[QTY]]","v":0},{"$f":"Table1[[#This Row],[QTY]]*Table1[[#This Row],[S&L Price]]","v":0}]
[null,null,16,null,"What I Know",1,"I Know the Days of the Week","Library Bound Book","978-1-4824-5458-1",2017,"January 2017","Library","7.000 X 7.000","Author","Mary Rose Osburn",null,null,null,null,"C",null,"Grade K","Grade Pre-K - 1","Time can be an abstract and sometimes confusing topic for young learners. The days of the week become comprehensible in this cheerful, entertaining narrative, which emphasizes the order of days as well as how events may happen on certain days. The inviting text, supported by carefully chosen photographs, concludes with a query about readers’ favorite day.","English",22.6,16.95,"529’.1--dc23","24 pp.",{"$f":"Table1[[#This Row],['# Books]]*Table1[[#This Row],[QTY]]","v":0},{"$f":"Table1[[#This Row],[QTY]]*Table1[[#This Row],[S&L Price]]","v":0}]
[null,null,16,null,"What I Know",1,"I Know the Days of the Week","eBook","978-1-4824-5459-8",2017,"January 2017",null,null,"Author","Mary Rose Osburn",null,null,null,null,"C",null,"Grade K","Grade Pre-K - 1","Time can be an abstract and sometimes confusing topic for young learners. The days of the week become comprehensible in this cheerful, entertaining narrative, which emphasizes the order of days as well as how events may happen on certain days. The inviting text, supported by carefully chosen photographs, concludes with a query about readers’ favorite day.","English",22.6,16.95,"529’.1--dc23","24 pp.",{"$f":"Table1[[#This Row],['# Books]]*Table1[[#This Row],[QTY]]","v":0},{"$f":"Table1[[#This Row],[QTY]]*Table1[[#This Row],[S&L Price]]","v":0}]
[null,null,16,null,"What I Know",1,"I Know the Seasons","Library Bound Book","978-1-4824-5475-8",2017,"January 2017","Library","7.000 X 7.000","Author","Jon Welzen",null,null,null,null,"C",null,"Grade K","Grade Pre-K - 1","Winter, spring, summer, and fall—each season has its unique identifying features as well as its exciting activities. Readers will become well acquainted with these as they learn about the four seasons in this beneficial book. They’ll also decide which is their favorite season! Thoughtfully chosen photographs correlate with the achievable text and illustrate the characteristics of each season.","English",22.6,16.95,"508.2--dc23","24 pp.",{"$f":"Table1[[#This Row],['# Books]]*Table1[[#This Row],[QTY]]","v":0},{"$f":"Table1[[#This Row],[QTY]]*Table1[[#This Row],[S&L Price]]","v":0}]
[null,null,16,null,"What I Know",1,"I Know the Seasons","eBook","978-1-4824-5476-5",2017,"January 2017",null,null,"Author","Jon Welzen",null,null,null,null,"C",null,"Grade K","Grade Pre-K - 1","Winter, spring, summer, and fall—each season has its unique identifying features as well as its exciting activities. Readers will become well acquainted with these as they learn about the four seasons in this beneficial book. They’ll also decide which is their favorite season! Thoughtfully chosen photographs correlate with the achievable text and illustrate the characteristics of each season.","English",22.6,16.95,"508.2--dc23","24 pp.",{"$f":"Table1[[#This Row],['# Books]]*Table1[[#This Row],[QTY]]","v":0},{"$f":"Table1[[#This Row],[QTY]]*Table1[[#This Row],[S&L Price]]","v":0}]
[null,null,16,null,"What I Know",1,"I Know the Weather","Library Bound Book","978-1-4824-6315-6",2018,"August 2017","Library","7.000 X 7.000","Author","Trisha James",null,null,null,null,"B",null,"Grade K","Grade Pre-K - 1","Weather is an important science concept at the early elementary level. Recognizing and identifying kinds of weather requires observational skills and certain vocabulary terms. This bright volume allows young meteorologists to correlate weather in carefully selected photographs with descriptive weather vocabulary, such as rainy, sunny, and foggy. It’s never too early to tackle this essential STEM theme!","English",22.6,16.95,"551.5--dc23","24 pp.",{"$f":"Table1[[#This Row],['# Books]]*Table1[[#This Row],[QTY]]","v":0},{"$f":"Table1[[#This Row],[QTY]]*Table1[[#This Row],[S&L Price]]","v":0}]
[null,null,16,null,"What I Know",1,"I Know the Weather","eBook","978-1-4824-6316-3",2018,"August 2017",null,null,"Author","Trisha James",null,null,null,null,"B",null,"Grade K","Grade Pre-K - 1","Weather is an important science concept at the early elementary level. Recognizing and identifying kinds of weather requires observational skills and certain vocabulary terms. This bright volume allows young meteorologists to correlate weather in carefully selected photographs with descriptive weather vocabulary, such as rainy, sunny, and foggy. It’s never too early to tackle this essential STEM theme!","English",22.6,16.95,"551.5--dc23","24 pp.",{"$f":"Table1[[#This Row],['# Books]]*Table1[[#This Row],[QTY]]","v":0},{"$f":"Table1[[#This Row],[QTY]]*Table1[[#This Row],[S&L Price]]","v":0}]
[null,null,16,null,"What I Know",1,"I Know Things That Go","Library Bound Book","978-1-4824-6311-8",2018,"August 2017","Library","7.000 X 7.000","Author","Trisha James",null,null,null,null,"B",null,"Grade K","Grade Pre-K - 1","There are so many ways to travel, and now on-the-go readers can review the vocabulary of vehicles in this appealing and vibrant volume. Trains, airplanes, and even scooters are some of the fun modes of transportation featured. At-level text is paired with colorful photographs, and both aid readers in deciding which way they would choose to travel to go someplace fun!","English",22.6,16.95,"629.04--dc23","24 pp.",{"$f":"Table1[[#This Row],['# Books]]*Table1[[#This Row],[QTY]]","v":0},{"$f":"Table1[[#This Row],[QTY]]*Table1[[#This Row],[S&L Price]]","v":0}]
[null,null,16,null,"What I Know",1,"I Know Things That Go","eBook","978-1-4824-6312-5",2018,"August 2017",null,null,"Author","Trisha James",null,null,null,null,"B",null,"Grade K","Grade Pre-K - 1","There are so many ways to travel, and now on-the-go readers can review the vocabulary of vehicles in this appealing and vibrant volume. Trains, airplanes, and even scooters are some of the fun modes of transportation featured. At-level text is paired with colorful photographs, and both aid readers in deciding which way they would choose to travel to go someplace fun!","English",22.6,16.95,"629.04--dc23","24 pp.",{"$f":"Table1[[#This Row],['# Books]]*Table1[[#This Row],[QTY]]","v":0},{"$f":"Table1[[#This Row],[QTY]]*Table1[[#This Row],[S&L Price]]","v":0}]
[null,null,17,null,"Our Favorite Colors",6,"Our Favorite Colors","Library Set","978-1-4824-4279-3",2016,"January 2016","Library","7.000 X 7.000",null,"",null,null,null,null,null,null,"Grade K","Grade K - 1","Recognizing and understanding colors is an essential skill of early childhood. The pairing of color words with accessible text makes this bright series a beneficial learning experience for young readers. Beautifully vivid photographs of high-interest objects throughout each volume add appeal, while a final self-assessment allows readers to test their understanding of each color concept.\n\n• Carefully selected photographs and at-level text clearly illustrate each concept\n\n• Understanding of categories and the real-life connections between words and their uses are literacy standards of the Common Core\n\n• Readers can demonstrate their mastery of each color by answering a question at the conclusion of each book","English",135.6,101.7,null,"24 pp.",{"$f":"Table1[[#This Row],['# Books]]*Table1[[#This Row],[QTY]]","v":0},{"$f":"Table1[[#This Row],[QTY]]*Table1[[#This Row],[S&L Price]]","v":0}]
[null,null,17,null,"Our Favorite Colors",1,"We Love Blue!","Library Bound Book","978-1-4824-3725-6",2016,"January 2016","Library","7.000 X 7.000","Author","Emma O'Connell",null,null,null,null,"B",null,"Grade K","Grade K - 1","Blue is a beautiful color, and it’s all around us, as this volume demonstrates. Readers are presented with multiple vivid hues of the color blue through recognizable objects, such as flowers, fish, and blueberries. They’ll also be able to practice their vocabulary while reading comprehensible sentences. They can demonstrate their understanding of the color concept by completing the activity at the end of the book.","English",22.6,16.95,"535.6—dc23","24 pp.",{"$f":"Table1[[#This Row],['# Books]]*Table1[[#This Row],[QTY]]","v":0},{"$f":"Table1[[#This Row],[QTY]]*Table1[[#This Row],[S&L Price]]","v":0}]
[null,null,17,null,"Our Favorite Colors",1,"We Love Blue!","eBook","978-1-4824-3726-3",2016,"January 2016",null,null,"Author","Emma O'Connell",null,null,null,null,"B",null,"Grade K","Grade K - 1","Blue is a beautiful color, and it’s all around us, as this volume demonstrates. Readers are presented with multiple vivid hues of the color blue through recognizable objects, such as flowers, fish, and blueberries. They’ll also be able to practice their vocabulary while reading comprehensible sentences. They can demonstrate their understanding of the color concept by completing the activity at the end of the book.","English",22.6,16.95,"535.6—dc23","24 pp.",{"$f":"Table1[[#This Row],['# Books]]*Table1[[#This Row],[QTY]]","v":0},{"$f":"Table1[[#This Row],[QTY]]*Table1[[#This Row],[S&L Price]]","v":0}]
[null,null,17,null,"Our Favorite Colors",1,"We Love Green!","Library Bound Book","978-1-4824-3729-4",2016,"January 2016","Library","7.000 X 7.000","Author","Emma O'Connell",null,null,null,null,"B",null,"Grade K","Grade K - 1","Grasping the concept of colors is an important step in early education. In this book, readers can dive into the color green through vibrant photographs and bright text. Turtles, snakes, grapes, leaves, and more familiar objects aid them in both understanding varying hues of this color as well as recognizing vocabulary words of the depicted items. The end of the volume provides an opportunity for evaluation.","English",22.6,16.95,"535.6—dc23","24 pp.",{"$f":"Table1[[#This Row],['# Books]]*Table1[[#This Row],[QTY]]","v":0},{"$f":"Table1[[#This Row],[QTY]]*Table1[[#This Row],[S&L Price]]","v":0}]
[null,null,17,null,"Our Favorite Colors",1,"We Love Green!","eBook","978-1-4824-3730-0",2016,"January 2016",null,null,"Author","Emma O'Connell",null,null,null,null,"B",null,"Grade K","Grade K - 1","Grasping the concept of colors is an important step in early education. In this book, readers can dive into the color green through vibrant photographs and bright text. Turtles, snakes, grapes, leaves, and more familiar objects aid them in both understanding varying hues of this color as well as recognizing vocabulary words of the depicted items. The end of the volume provides an opportunity for evaluation.","English",22.6,16.95,"535.6—dc23","24 pp.",{"$f":"Table1[[#This Row],['# Books]]*Table1[[#This Row],[QTY]]","v":0},{"$f":"Table1[[#This Row],[QTY]]*Table1[[#This Row],[S&L Price]]","v":0}]
[null,null,17,null,"Our Favorite Colors",1,"We Love Orange!","Library Bound Book","978-1-4824-3733-1",2016,"January 2016","Library","7.000 X 7.000","Author","Emma O'Connell",null,null,null,null,"B",null,"Grade K","Grade K - 1","Crunchy carrots, bouncy basketballs, and flashy fish can all be the color orange. After examining this important color concept in the pages of this accessible volume, readers’ eyes will be opened to the many hues of orange in their world—as well as other colors. They’ll also review vocabulary through the simple sentences that accompany each photograph. A final evaluation completes this bright book.","English",22.6,16.95,"535.6—dc23","24 pp.",{"$f":"Table1[[#This Row],['# Books]]*Table1[[#This Row],[QTY]]","v":0},{"$f":"Table1[[#This Row],[QTY]]*Table1[[#This Row],[S&L Price]]","v":0}]
[null,null,17,null,"Our Favorite Colors",1,"We Love Orange!","eBook","978-1-4824-3734-8",2016,"January 2016",null,null,"Author","Emma O'Connell",null,null,null,null,"B",null,"Grade K","Grade K - 1","Crunchy carrots, bouncy basketballs, and flashy fish can all be the color orange. After examining this important color concept in the pages of this accessible volume, readers’ eyes will be opened to the many hues of orange in their world—as well as other colors. They’ll also review vocabulary through the simple sentences that accompany each photograph. A final evaluation completes this bright book.","English",22.6,16.95,"535.6—dc23","24 pp.",{"$f":"Table1[[#This Row],['# Books]]*Table1[[#This Row],[QTY]]","v":0},{"$f":"Table1[[#This Row],[QTY]]*Table1[[#This Row],[S&L Price]]","v":0}]
[null,null,17,null,"Our Favorite Colors",1,"We Love Purple!","Library Bound Book","978-1-4824-3737-9",2016,"January 2016","Library","7.000 X 7.000","Author","Richard Little",null,null,null,null,"B",null,"Grade K","Grade K - 1","Grapes, plums, jams . . . some tasty things are the color purple! Readers of this bright volume will discover this fun fact as well as see varying shades of color in common objects from their lives as they turn each page. Recognizable items and comprehensible text make this book a valuable tool for improving reading comprehension and reviewing color concepts.","English",22.6,16.95,"535.6--dc23","24 pp.",{"$f":"Table1[[#This Row],['# Books]]*Table1[[#This Row],[QTY]]","v":0},{"$f":"Table1[[#This Row],[QTY]]*Table1[[#This Row],[S&L Price]]","v":0}]
[null,null,17,null,"Our Favorite Colors",1,"We Love Purple!","eBook","978-1-4824-3738-6",2016,"January 2016",null,null,"Author","Richard Little",null,null,null,null,"B",null,"Grade K","Grade K - 1","Grapes, plums, jams . . . some tasty things are the color purple! Readers of this bright volume will discover this fun fact as well as see varying shades of color in common objects from their lives as they turn each page. Recognizable items and comprehensible text make this book a valuable tool for improving reading comprehension and reviewing color concepts.","English",22.6,16.95,"535.6--dc23","24 pp.",{"$f":"Table1[[#This Row],['# Books]]*Table1[[#This Row],[QTY]]","v":0},{"$f":"Table1[[#This Row],[QTY]]*Table1[[#This Row],[S&L Price]]","v":0}]
[null,null,17,null,"Our Favorite Colors",1,"We Love Red!","Library Bound Book","978-1-4824-3741-6",2016,"January 2016","Library","7.000 X 7.000","Author","Richard Little",null,null,null,null,"B",null,"Grade K","Grade K - 1","The eye-catching color of red tints delicious apples, shiny toy cars, juicy tomatoes, and so much more in the world around us. Readers of this cheerful volume are invited to recognize red in well-known objects in each photograph as well as to review important vocabulary words in at-level sentences. A simple activity at the end of the book allows them to self-evaluate their mastery of this color concept.","English",22.6,16.95,"535.6—dc23","24 pp.",{"$f":"Table1[[#This Row],['# Books]]*Table1[[#This Row],[QTY]]","v":0},{"$f":"Table1[[#This Row],[QTY]]*Table1[[#This Row],[S&L Price]]","v":0}]
[null,null,17,null,"Our Favorite Colors",1,"We Love Red!","eBook","978-1-4824-3742-3",2016,"January 2016",null,null,"Author","Richard Little",null,null,null,null,"B",null,"Grade K","Grade K - 1","The eye-catching color of red tints delicious apples, shiny toy cars, juicy tomatoes, and so much more in the world around us. Readers of this cheerful volume are invited to recognize red in well-known objects in each photograph as well as to review important vocabulary words in at-level sentences. A simple activity at the end of the book allows them to self-evaluate their mastery of this color concept.","English",22.6,16.95,"535.6—dc23","24 pp.",{"$f":"Table1[[#This Row],['# Books]]*Table1[[#This Row],[QTY]]","v":0},{"$f":"Table1[[#This Row],[QTY]]*Table1[[#This Row],[S&L Price]]","v":0}]
[null,null,17,null,"Our Favorite Colors",1,"We Love Yellow!","Library Bound Book","978-1-4824-3745-4",2016,"January 2016","Library","7.000 X 7.000","Author","Richard Little",null,null,null,null,"B",null,"Grade K","Grade K - 1","Yellow is an important part of our daily lives. Yellow school buses, traffic lights, bananas, butter, and more populate our day, whether we realize it or not. This accessible text will reveal to readers the many shades of yellow all around them. As they turn each page, they’ll recognize objects in the photos, identify them, and practice the accompanying vocabulary. A concluding activity will help them display their understanding of the concept of yellow.","English",22.6,16.95,"535.6—dc23","24 pp.",{"$f":"Table1[[#This Row],['# Books]]*Table1[[#This Row],[QTY]]","v":0},{"$f":"Table1[[#This Row],[QTY]]*Table1[[#This Row],[S&L Price]]","v":0}]
[null,null,17,null,"Our Favorite Colors",1,"We Love Yellow!","eBook","978-1-4824-3746-1",2016,"January 2016",null,null,"Author","Richard Little",null,null,null,null,"B",null,"Grade K","Grade K - 1","Yellow is an important part of our daily lives. Yellow school buses, traffic lights, bananas, butter, and more populate our day, whether we realize it or not. This accessible text will reveal to readers the many shades of yellow all around them. As they turn each page, they’ll recognize objects in the photos, identify them, and practice the accompanying vocabulary. A concluding activity will help them display their understanding of the concept of yellow.","English",22.6,16.95,"535.6—dc23","24 pp.",{"$f":"Table1[[#This Row],['# Books]]*Table1[[#This Row],[QTY]]","v":0},{"$f":"Table1[[#This Row],[QTY]]*Table1[[#This Row],[S&L Price]]","v":0}]
[null,null,18,null,"Dinosaur School",30,"Dinosaur School","Library Set","978-1-4824-4518-3",2017,"August 2016","Library","7.000 X 7.000",null,"",null,null,null,null,null,null,"Grade K","Grade K - 1","This charming first concepts series features adorable, full-color illustrations of dinosaurs paired with easy-to-follow text, giving beginning learners a solid base to develop into motivated readers. These fun dinosaurs are ready to experience a trip to their favorite places in town, enjoy the changing seasons, and take part in many of the holidays we celebrate throughout the year. With the help of some cute prehistoric creatures, budding learners take their first reading adventures while exploring early literacy skills and setting the foundation for future reading success. With strong picture-text correlation to reinforce basic concepts, these books will be sure to get children reading in no time!","English",678,508.5,null,"24 pp.",{"$f":"Table1[[#This Row],['# Books]]*Table1[[#This Row],[QTY]]","v":0},{"$f":"Table1[[#This Row],[QTY]]*Table1[[#This Row],[S&L Price]]","v":0}]
[null,null,18,null,"Dinosaur School",1,"Big and Small","Library Bound Book","978-1-4339-8083-1",2013,"January 2013","Library","7.000 X 7.000","Author","Joyce Jeffries",null,null,1,1,"A",null,"Grade K","Grade K - 1","Beginning readers will find a fun-filled learning experience through easy-to-follow text and colorful illustrations. Charming illustrations, featuring dinosaurs interacting with a variety of objects and animals, show the difference between things that are big and those that are small—introducing students to the concept of comparing things by size. A concluding graphic organizer reinforces the concept, separating big and small objects through pictures and words in a way that is accessible for beginning readers. This engaging book also helps early learners develop vocabulary skills with its strong picture-text correlation.","English",22.6,16.95,"153.7","24 pp.",{"$f":"Table1[[#This Row],['# Books]]*Table1[[#This Row],[QTY]]","v":0},{"$f":"Table1[[#This Row],[QTY]]*Table1[[#This Row],[S&L Price]]","v":0}]
[null,null,18,null,"Dinosaur School",1,"Big and Small","eBook","978-1-4339-8086-2",2013,"January 2013",null,null,"Author","Joyce Jeffries",null,null,1,1,"A",null,"Grade K","Grade K - 1","Beginning readers will find a fun-filled learning experience through easy-to-follow text and colorful illustrations. Charming illustrations, featuring dinosaurs interacting with a variety of objects and animals, show the difference between things that are big and those that are small—introducing students to the concept of comparing things by size. A concluding graphic organizer reinforces the concept, separating big and small objects through pictures and words in a way that is accessible for beginning readers. This engaging book also helps early learners develop vocabulary skills with its strong picture-text correlation.","English",22.6,16.95,"153.7","24 pp.",{"$f":"Table1[[#This Row],['# Books]]*Table1[[#This Row],[QTY]]","v":0},{"$f":"Table1[[#This Row],[QTY]]*Table1[[#This Row],[S&L Price]]","v":0}]
[null,null,18,null,"Dinosaur School",1,"Dinosaur ABCs","Library Bound Book","978-1-4339-7135-8",2013,"August 2012","Library","7.000 X 7.000","Author","Ava Saviola",null,null,1,2,"A",null,"Grade K","Grade K - 1","Beginning learners will delight in this vibrant, dinosaur-filled introduction to the most essential building block of reading—the letters of the alphabet. Prominently featuring each letter of the alphabet in both uppercase and lowercase forms, the text also presents simple sentences to clearly demonstrate an item that begins with each letter, such as “B is for book.” Illustrations of dinosaurs interacting with each appropriately chosen item make learning the alphabet fun and highly engaging for beginning readers. A concluding page lists each letter of the alphabet and corresponding image for additional reinforcement of this important and elemental reading concept.","English",22.6,16.95,"428.1","24 pp.",{"$f":"Table1[[#This Row],['# Books]]*Table1[[#This Row],[QTY]]","v":0},{"$f":"Table1[[#This Row],[QTY]]*Table1[[#This Row],[S&L Price]]","v":0}]
[null,null,18,null,"Dinosaur School",1,"Dinosaur ABCs","eBook","978-1-4339-7138-9",2013,"August 2012",null,null,"Author","Ava Saviola",null,null,1,2,"A",null,"Grade K","Grade K - 1","Beginning learners will delight in this vibrant, dinosaur-filled introduction to the most essential building block of reading—the letters of the alphabet. Prominently featuring each letter of the alphabet in both uppercase and lowercase forms, the text also presents simple sentences to clearly demonstrate an item that begins with each letter, such as “B is for book.” Illustrations of dinosaurs interacting with each appropriately chosen item make learning the alphabet fun and highly engaging for beginning readers. A concluding page lists each letter of the alphabet and corresponding image for additional reinforcement of this important and elemental reading concept.","English",22.6,16.95,"428.1","24 pp.",{"$f":"Table1[[#This Row],['# Books]]*Table1[[#This Row],[QTY]]","v":0},{"$f":"Table1[[#This Row],[QTY]]*Table1[[#This Row],[S&L Price]]","v":0}]
[null,null,18,null,"Dinosaur School",1,"Dinosaur Birthday Party","Library Bound Book","978-1-4824-0741-9",2015,"August 2014","Library","7.000 X 7.000","Author","Joyce Jeffries",null,null,1,null,"A",null,"Grade K","Grade K - 1","Dinosaurs love to celebrate birthdays. The prehistoric creatures know how to throw a party, too! These fun dinos are getting ready for a big bash, and beginning readers ready to explore are invited to the party! With strong picture-text correlation, readers dive into both the setup and fun of a birthday party. Watching mom and dad dinos getting things ready and seeing friends arrive is a reading adventure readers will never forget, with colorful illustrations to help establish the early literacy skills and set a foundation for future reading success.","English",22.6,16.95,"793.2","24 pp.",{"$f":"Table1[[#This Row],['# Books]]*Table1[[#This Row],[QTY]]","v":0},{"$f":"Table1[[#This Row],[QTY]]*Table1[[#This Row],[S&L Price]]","v":0}]
[null,null,18,null,"Dinosaur School",1,"Dinosaur Birthday Party","eBook","978-1-4824-0743-3",2015,"August 2014",null,null,"Author","Joyce Jeffries",null,null,1,null,"A",null,"Grade K","Grade K - 1","Dinosaurs love to celebrate birthdays. The prehistoric creatures know how to throw a party, too! These fun dinos are getting ready for a big bash, and beginning readers ready to explore are invited to the party! With strong picture-text correlation, readers dive into both the setup and fun of a birthday party. Watching mom and dad dinos getting things ready and seeing friends arrive is a reading adventure readers will never forget, with colorful illustrations to help establish the early literacy skills and set a foundation for future reading success.","English",22.6,16.95,"793.2","24 pp.",{"$f":"Table1[[#This Row],['# Books]]*Table1[[#This Row],[QTY]]","v":0},{"$f":"Table1[[#This Row],[QTY]]*Table1[[#This Row],[S&L Price]]","v":0}]
[null,null,18,null,"Dinosaur School",1,"Dinosaur Colors","Library Bound Book","978-1-4339-7139-6",2013,"August 2012","Library","7.000 X 7.000","Author","Ava Saviola",null,null,1,2,"A",null,"Grade K","Grade K - 1","Early learners are introduced to the concept of colors and their respective names with the visual aid of dinosaurs. Each vibrantly colored dinosaur is simply labeled to bring this important first concept to life. Similarly colored and easily identifiable items, such as a red apple and an orange pumpkin, are also featured for further reinforcement. A summary page of dinosaurs labeled by color presents an additional opportunity for learning.","English",22.6,16.95,"535.6","24 pp.",{"$f":"Table1[[#This Row],['# Books]]*Table1[[#This Row],[QTY]]","v":0},{"$f":"Table1[[#This Row],[QTY]]*Table1[[#This Row],[S&L Price]]","v":0}]
[null,null,18,null,"Dinosaur School",1,"Dinosaur Colors","eBook","978-1-4339-7142-6",2013,"August 2012",null,null,"Author","Ava Saviola",null,null,1,2,"A",null,"Grade K","Grade K - 1","Early learners are introduced to the concept of colors and their respective names with the visual aid of dinosaurs. Each vibrantly colored dinosaur is simply labeled to bring this important first concept to life. Similarly colored and easily identifiable items, such as a red apple and an orange pumpkin, are also featured for further reinforcement. A summary page of dinosaurs labeled by color presents an additional opportunity for learning.","English",22.6,16.95,"535.6","24 pp.",{"$f":"Table1[[#This Row],['# Books]]*Table1[[#This Row],[QTY]]","v":0},{"$f":"Table1[[#This Row],[QTY]]*Table1[[#This Row],[S&L Price]]","v":0}]
[null,null,18,null,"Dinosaur School",1,"Dinosaur Goes to the Dentist","Library Bound Book","978-1-4824-4557-2",2017,"August 2016","Library","7.000 X 7.000","Author","Ken Alside",1.1000000000000001,0.5,null,null,"B",null,"Grade K","Grade K - 1","Dinosaurs love to go on adventures, even in places readers may not expect. A trip to the dentist may not sound like much fun, but there’s a lot to explore once these dinosaurs get inside the dentist’s office. From brushing before going to the office, reading in the waiting room, and chatting with the dental hygienist, this book takes beginning readers on a fun journey through a typical visit to the dentist. There even might be a treat for this little dino for being a good sport while in the dentist’s chair!","English",22.6,16.95,"[E]--dc23","24 pp.",{"$f":"Table1[[#This Row],['# Books]]*Table1[[#This Row],[QTY]]","v":0},{"$f":"Table1[[#This Row],[QTY]]*Table1[[#This Row],[S&L Price]]","v":0}]
[null,null,18,null,"Dinosaur School",1,"Dinosaur Goes to the Dentist","eBook","978-1-4824-4551-0",2017,"August 2016",null,null,"Author","Ken Alside",1.1000000000000001,0.5,null,null,"B",null,"Grade K","Grade K - 1","Dinosaurs love to go on adventures, even in places readers may not expect. A trip to the dentist may not sound like much fun, but there’s a lot to explore once these dinosaurs get inside the dentist’s office. From brushing before going to the office, reading in the waiting room, and chatting with the dental hygienist, this book takes beginning readers on a fun journey through a typical visit to the dentist. There even might be a treat for this little dino for being a good sport while in the dentist’s chair!","English",22.6,16.95,"[E]--dc23","24 pp.",{"$f":"Table1[[#This Row],['# Books]]*Table1[[#This Row],[QTY]]","v":0},{"$f":"Table1[[#This Row],[QTY]]*Table1[[#This Row],[S&L Price]]","v":0}]
[null,null,18,null,"Dinosaur School",1,"Dinosaur Goes to the Doctor","Library Bound Book","978-1-4824-4558-9",2017,"August 2016","Library","7.000 X 7.000","Author","Ken Alside",1.2,0.5,null,null,"B",null,"Grade K","Grade K - 1","The doctor’s office can be intimidating for someone unsure of what to expect. In this book, the dinosaurs know that a trip to the doctor’s office can be fun. Whether just visiting for a checkup or to get better after an illness, the doctor only wants to help little dinos get back to full health! Getting weighed, tapping on knees, and important questions from the doctor are all part of the journey in this exciting book for beginning readers that turns a scary situation into something fun.","English",22.6,16.95,"[E]--dc23","24 pp.",{"$f":"Table1[[#This Row],['# Books]]*Table1[[#This Row],[QTY]]","v":0},{"$f":"Table1[[#This Row],[QTY]]*Table1[[#This Row],[S&L Price]]","v":0}]
[null,null,18,null,"Dinosaur School",1,"Dinosaur Goes to the Doctor","eBook","978-1-4824-4552-7",2017,"August 2016",null,null,"Author","Ken Alside",1.2,0.5,null,null,"B",null,"Grade K","Grade K - 1","The doctor’s office can be intimidating for someone unsure of what to expect. In this book, the dinosaurs know that a trip to the doctor’s office can be fun. Whether just visiting for a checkup or to get better after an illness, the doctor only wants to help little dinos get back to full health! Getting weighed, tapping on knees, and important questions from the doctor are all part of the journey in this exciting book for beginning readers that turns a scary situation into something fun.","English",22.6,16.95,"[E]--dc23","24 pp.",{"$f":"Table1[[#This Row],['# Books]]*Table1[[#This Row],[QTY]]","v":0},{"$f":"Table1[[#This Row],[QTY]]*Table1[[#This Row],[S&L Price]]","v":0}]
[null,null,18,null,"Dinosaur School",1,"Dinosaur Goes to the Fire Station","Library Bound Book","978-1-4824-4559-6",2017,"August 2016","Library","7.000 X 7.000","Author","Ken Alside",0.9,0.5,null,null,"B",null,"Grade K","Grade K - 1","The fire station is full of fun in this exciting title. Trying on a fire helmet, sliding down the fire pole, and checking out a big red fire truck are all on tap when this dino visits his fireman brother at the station. Beginning readers will love watching their dinosaur friend try on a fireman’s outfit and watching him learn what dinos do at a fire station when they’re on the clock. But what happens at the station when a call comes in? For these dinos, it’s time for action!","English",22.6,16.95,"[E]--dc23","24 pp.",{"$f":"Table1[[#This Row],['# Books]]*Table1[[#This Row],[QTY]]","v":0},{"$f":"Table1[[#This Row],[QTY]]*Table1[[#This Row],[S&L Price]]","v":0}]
[null,null,18,null,"Dinosaur School",1,"Dinosaur Goes to the Fire Station","eBook","978-1-4824-4553-4",2017,"August 2016",null,null,"Author","Ken Alside",0.9,0.5,null,null,"B",null,"Grade K","Grade K - 1","The fire station is full of fun in this exciting title. Trying on a fire helmet, sliding down the fire pole, and checking out a big red fire truck are all on tap when this dino visits his fireman brother at the station. Beginning readers will love watching their dinosaur friend try on a fireman’s outfit and watching him learn what dinos do at a fire station when they’re on the clock. But what happens at the station when a call comes in? For these dinos, it’s time for action!","English",22.6,16.95,"[E]--dc23","24 pp.",{"$f":"Table1[[#This Row],['# Books]]*Table1[[#This Row],[QTY]]","v":0},{"$f":"Table1[[#This Row],[QTY]]*Table1[[#This Row],[S&L Price]]","v":0}]
[null,null,18,null,"Dinosaur School",1,"Dinosaur Goes to the Library","Library Bound Book","978-1-4824-4560-2",2017,"August 2016","Library","7.000 X 7.000","Author","Ken Alside",0.9,0.5,null,null,"B",null,"Grade K","Grade K - 1","These dino friends learn a library is full of more than just books in this exciting title. Once they get their library cards and start exploring, they find lots of media to enjoy. From books about dogs to their favorite music or newspapers, these dinosaurs are surprised to learn the stacks even hold some of their favorite movies. With the help of a friendly dino librarian, they borrow some books so they can keep learning even after they leave the library. Once they bring those books back, though, they’ll be able to check out more fun stuff at the local library!","English",22.6,16.95,"[E]--dc23","24 pp.",{"$f":"Table1[[#This Row],['# Books]]*Table1[[#This Row],[QTY]]","v":0},{"$f":"Table1[[#This Row],[QTY]]*Table1[[#This Row],[S&L Price]]","v":0}]
[null,null,18,null,"Dinosaur School",1,"Dinosaur Goes to the Library","eBook","978-1-4824-4554-1",2017,"August 2016",null,null,"Author","Ken Alside",0.9,0.5,null,null,"B",null,"Grade K","Grade K - 1","These dino friends learn a library is full of more than just books in this exciting title. Once they get their library cards and start exploring, they find lots of media to enjoy. From books about dogs to their favorite music or newspapers, these dinosaurs are surprised to learn the stacks even hold some of their favorite movies. With the help of a friendly dino librarian, they borrow some books so they can keep learning even after they leave the library. Once they bring those books back, though, they’ll be able to check out more fun stuff at the local library!","English",22.6,16.95,"[E]--dc23","24 pp.",{"$f":"Table1[[#This Row],['# Books]]*Table1[[#This Row],[QTY]]","v":0},{"$f":"Table1[[#This Row],[QTY]]*Table1[[#This Row],[S&L Price]]","v":0}]
[null,null,18,null,"Dinosaur School",1,"Dinosaur Goes to the Store","Library Bound Book","978-1-4824-4561-9",2017,"August 2016","Library","7.000 X 7.000","Author","Ken Alside",0.8,0.5,null,null,"B",null,"Grade K","Grade K - 1","One little dinosaur is having a birthday, and it’s his family’s job to get ready for the big party. This book takes beginning readers on a trip to the store the day before the big day, as two dinosaurs grab a shopping cart and make sure they have everything they need to host a great gathering of friends and family. From the ingredients needed to bake a cake to birthday presents and decorations, these dinos are on a mission to make it the best birthday party ever!","English",22.6,16.95,"[E]--dc23","24 pp.",{"$f":"Table1[[#This Row],['# Books]]*Table1[[#This Row],[QTY]]","v":0},{"$f":"Table1[[#This Row],[QTY]]*Table1[[#This Row],[S&L Price]]","v":0}]
[null,null,18,null,"Dinosaur School",1,"Dinosaur Goes to the Store","eBook","978-1-4824-4555-8",2017,"August 2016",null,null,"Author","Ken Alside",0.8,0.5,null,null,"B",null,"Grade K","Grade K - 1","One little dinosaur is having a birthday, and it’s his family’s job to get ready for the big party. This book takes beginning readers on a trip to the store the day before the big day, as two dinosaurs grab a shopping cart and make sure they have everything they need to host a great gathering of friends and family. From the ingredients needed to bake a cake to birthday presents and decorations, these dinos are on a mission to make it the best birthday party ever!","English",22.6,16.95,"[E]--dc23","24 pp.",{"$f":"Table1[[#This Row],['# Books]]*Table1[[#This Row],[QTY]]","v":0},{"$f":"Table1[[#This Row],[QTY]]*Table1[[#This Row],[S&L Price]]","v":0}]
[null,null,18,null,"Dinosaur School",1,"Dinosaur Holidays","Library Bound Book","978-1-4824-0738-9",2015,"August 2014","Library","7.000 X 7.000","Author","Joyce Jeffries",null,null,1,null,"A",null,"Grade K","Grade K - 1","Dinosaurs celebrate the holidays just like we do! In this innovative first concepts book, readers will see dinosaurs diving into Earth Day, Halloween, and more. Dinos love to have fun on holidays, and readers will be thrilled by full-color illustrations depicting dinos gathering pumpkins, getting dressed up in Halloween costumes, and even seeing Fourth of July fireworks. Strong picture-text correlation helps readers establish early literacy skills, setting a foundation for future reading success with an engaging book that remains relevant throughout the calendar year.","English",22.6,16.95,"394.26","24 pp.",{"$f":"Table1[[#This Row],['# Books]]*Table1[[#This Row],[QTY]]","v":0},{"$f":"Table1[[#This Row],[QTY]]*Table1[[#This Row],[S&L Price]]","v":0}]
[null,null,18,null,"Dinosaur School",1,"Dinosaur Holidays","eBook","978-1-4824-0739-6",2015,"August 2014",null,null,"Author","Joyce Jeffries",null,null,1,null,"A",null,"Grade K","Grade K - 1","Dinosaurs celebrate the holidays just like we do! In this innovative first concepts book, readers will see dinosaurs diving into Earth Day, Halloween, and more. Dinos love to have fun on holidays, and readers will be thrilled by full-color illustrations depicting dinos gathering pumpkins, getting dressed up in Halloween costumes, and even seeing Fourth of July fireworks. Strong picture-text correlation helps readers establish early literacy skills, setting a foundation for future reading success with an engaging book that remains relevant throughout the calendar year.","English",22.6,16.95,"394.26","24 pp.",{"$f":"Table1[[#This Row],['# Books]]*Table1[[#This Row],[QTY]]","v":0},{"$f":"Table1[[#This Row],[QTY]]*Table1[[#This Row],[S&L Price]]","v":0}]
[null,null,18,null,"Dinosaur School",1,"Dinosaur Opposites","Library Bound Book","978-1-4339-7143-3",2013,"August 2012","Library","7.000 X 7.000","Author","Ava Saviola",null,null,1,2,"A",null,"Grade K","Grade K - 1","Big and small, up and down, day and night, hot and cold—these are just a few of the carefully paired words included in this engaging look at opposites. Illustrated throughout with bright cartoon dinosaurs, each opposite pairing is clearly shown in spreads featuring concrete examples of the featured words. A concluding page shows all of the pairings side by side for further reinforcement of this important first concept.","English",22.6,16.95,"567.9","24 pp.",{"$f":"Table1[[#This Row],['# Books]]*Table1[[#This Row],[QTY]]","v":0},{"$f":"Table1[[#This Row],[QTY]]*Table1[[#This Row],[S&L Price]]","v":0}]
[null,null,18,null,"Dinosaur School",1,"Dinosaur Opposites","eBook","978-1-4339-7146-4",2013,"August 2012",null,null,"Author","Ava Saviola",null,null,1,2,"A",null,"Grade K","Grade K - 1","Big and small, up and down, day and night, hot and cold—these are just a few of the carefully paired words included in this engaging look at opposites. Illustrated throughout with bright cartoon dinosaurs, each opposite pairing is clearly shown in spreads featuring concrete examples of the featured words. A concluding page shows all of the pairings side by side for further reinforcement of this important first concept.","English",22.6,16.95,"567.9","24 pp.",{"$f":"Table1[[#This Row],['# Books]]*Table1[[#This Row],[QTY]]","v":0},{"$f":"Table1[[#This Row],[QTY]]*Table1[[#This Row],[S&L Price]]","v":0}]
[null,null,18,null,"Dinosaur School",1,"Dinosaur Shapes","Library Bound Book","978-1-4339-7147-1",2013,"August 2012","Library","7.000 X 7.000","Author","Ava Saviola",null,null,1,2,"A",null,"Grade K","Grade K - 1","Beginning learners are introduced to an important first concept, shape. With the help of fun cartoon dinosaurs, who proudly display each simple shape, readers will discover basic shape vocabulary. Clear labels and bold black outlines further reinforce understanding by showing where these shapes can be found all around us every day, such as the square shape of a window or the circle shape of a clock. A final page features an engaging summary of this very important concept—the dinosaur characters holding each shape labeled with its respective name.","English",22.6,16.95,"516","24 pp.",{"$f":"Table1[[#This Row],['# Books]]*Table1[[#This Row],[QTY]]","v":0},{"$f":"Table1[[#This Row],[QTY]]*Table1[[#This Row],[S&L Price]]","v":0}]
[null,null,18,null,"Dinosaur School",1,"Dinosaur Shapes","eBook","978-1-4339-7150-1",2013,"August 2012",null,null,"Author","Ava Saviola",null,null,1,2,"A",null,"Grade K","Grade K - 1","Beginning learners are introduced to an important first concept, shape. With the help of fun cartoon dinosaurs, who proudly display each simple shape, readers will discover basic shape vocabulary. Clear labels and bold black outlines further reinforce understanding by showing where these shapes can be found all around us every day, such as the square shape of a window or the circle shape of a clock. A final page features an engaging summary of this very important concept—the dinosaur characters holding each shape labeled with its respective name.","English",22.6,16.95,"516","24 pp.",{"$f":"Table1[[#This Row],['# Books]]*Table1[[#This Row],[QTY]]","v":0},{"$f":"Table1[[#This Row],[QTY]]*Table1[[#This Row],[S&L Price]]","v":0}]
[null,null,18,null,"Dinosaur School",1,"Dinosaur Visits the Police Station","Library Bound Book","978-1-4824-4562-6",2017,"August 2016","Library","7.000 X 7.000","Author","Ken Alside",0.9,0.5,null,null,"B",null,"Grade K","Grade K - 1","A visit to the police station might not be fun for those in trouble, but for this dino it’s a chance to see what dad does during the workday! The police station is full of activity and hardworking dinosaurs keeping everyone safe. But there’s still time to have a bit of fun, and even meet the police chief! Beginning readers explore the police station along with their dino friend, who gets to check out a police car and even have his fingerprints taken!","English",22.6,16.95,"[E]--dc23","24 pp.",{"$f":"Table1[[#This Row],['# Books]]*Table1[[#This Row],[QTY]]","v":0},{"$f":"Table1[[#This Row],[QTY]]*Table1[[#This Row],[S&L Price]]","v":0}]
[null,null,18,null,"Dinosaur School",1,"Dinosaur Visits the Police Station","eBook","978-1-4824-4556-5",2017,"August 2016",null,null,"Author","Ken Alside",0.9,0.5,null,null,"B",null,"Grade K","Grade K - 1","A visit to the police station might not be fun for those in trouble, but for this dino it’s a chance to see what dad does during the workday! The police station is full of activity and hardworking dinosaurs keeping everyone safe. But there’s still time to have a bit of fun, and even meet the police chief! Beginning readers explore the police station along with their dino friend, who gets to check out a police car and even have his fingerprints taken!","English",22.6,16.95,"[E]--dc23","24 pp.",{"$f":"Table1[[#This Row],['# Books]]*Table1[[#This Row],[QTY]]","v":0},{"$f":"Table1[[#This Row],[QTY]]*Table1[[#This Row],[S&L Price]]","v":0}]
[null,null,18,null,"Dinosaur School",1,"Dinosaurs at School","Library Bound Book","978-1-4339-9041-0",2014,"August 2013","Library","7.000 X 7.000","Author","Alex Appleby",null,null,1,1,"A",null,"Grade K","Grade K - 1","Using the familiar setting of a day at school, this book pairs charming, full-color illustrations of dinosaurs with basic text to explore primary concepts for beginning readers. Through the lens of a bus ride, the classroom, and even gym class, early learners are motivated to use basic picture-text relationships for reading success. With the help of some fun and friendly prehistoric creatures, budding learners will delight in learning new vocabulary as they board the bus and head off for a day at school!  • Colorful dinosaur illustrations will engage young learners • Accessible, large-type text promotes sight recognition of words • Strong picture-text correlation reinforces basic concepts • Age-appropriate and achievable content • Words to Know provides additional reinforcement • Introduces basic science and social studies concepts  ","English",22.6,16.95,"371.8","24 pp.",{"$f":"Table1[[#This Row],['# Books]]*Table1[[#This Row],[QTY]]","v":0},{"$f":"Table1[[#This Row],[QTY]]*Table1[[#This Row],[S&L Price]]","v":0}]
[null,null,18,null,"Dinosaur School",1,"Dinosaurs at School","eBook","978-1-4339-9044-1",2014,"August 2013",null,null,"Author","Alex Appleby",null,null,1,1,"A",null,"Grade K","Grade K - 1","Using the familiar setting of a day at school, this book pairs charming, full-color illustrations of dinosaurs with basic text to explore primary concepts for beginning readers. Through the lens of a bus ride, the classroom, and even gym class, early learners are motivated to use basic picture-text relationships for reading success. With the help of some fun and friendly prehistoric creatures, budding learners will delight in learning new vocabulary as they board the bus and head off for a day at school!  • Colorful dinosaur illustrations will engage young learners • Accessible, large-type text promotes sight recognition of words • Strong picture-text correlation reinforces basic concepts • Age-appropriate and achievable content • Words to Know provides additional reinforcement • Introduces basic science and social studies concepts  ","English",22.6,16.95,"371.8","24 pp.",{"$f":"Table1[[#This Row],['# Books]]*Table1[[#This Row],[QTY]]","v":0},{"$f":"Table1[[#This Row],[QTY]]*Table1[[#This Row],[S&L Price]]","v":0}]
[null,null,18,null,"Dinosaur School",1,"Dinosaurs at the Zoo","Library Bound Book","978-1-4339-9045-8",2014,"August 2013","Library","7.000 X 7.000","Author","Alex Appleby",null,null,1,1,"A",null,"Grade K","Grade K - 1","What happens when dinosaurs take a field trip to the zoo? Matching accessible text with bright cartoon dinosaurs, readers can explore primary concepts while checking out the lions, tigers, and even snakes that call the zoo home! With the help of some dinosaur friends, budding learners will go on a fun zoo adventure that introduces them to many members of the animal kingdom while building their vocabulary.  • Colorful dinosaur illustrations will engage young learners • Accessible, large-type text promotes sight recognition of words • Strong picture-text correlation reinforces basic concepts • Age-appropriate and achievable content • Words to Know provides additional reinforcement  ","English",22.6,16.95,"590.73","24 pp.",{"$f":"Table1[[#This Row],['# Books]]*Table1[[#This Row],[QTY]]","v":0},{"$f":"Table1[[#This Row],[QTY]]*Table1[[#This Row],[S&L Price]]","v":0}]
[null,null,18,null,"Dinosaur School",1,"Dinosaurs at the Zoo","eBook","978-1-4339-9048-9",2014,"August 2013",null,null,"Author","Alex Appleby",null,null,1,1,"A",null,"Grade K","Grade K - 1","What happens when dinosaurs take a field trip to the zoo? Matching accessible text with bright cartoon dinosaurs, readers can explore primary concepts while checking out the lions, tigers, and even snakes that call the zoo home! With the help of some dinosaur friends, budding learners will go on a fun zoo adventure that introduces them to many members of the animal kingdom while building their vocabulary.  • Colorful dinosaur illustrations will engage young learners • Accessible, large-type text promotes sight recognition of words • Strong picture-text correlation reinforces basic concepts • Age-appropriate and achievable content • Words to Know provides additional reinforcement  ","English",22.6,16.95,"590.73","24 pp.",{"$f":"Table1[[#This Row],['# Books]]*Table1[[#This Row],[QTY]]","v":0},{"$f":"Table1[[#This Row],[QTY]]*Table1[[#This Row],[S&L Price]]","v":0}]
[null,null,19,null,"Dinosaur School",1,"Dinosaur's First Words","Library Bound Book","978-1-4339-7155-6",2013,"August 2012","Library","7.000 X 7.000","Author","Ava Saviola",null,null,1,2,"A",null,"Grade K","Grade K - 1","For early learners, the transition between hearing words read to them and reading on their own is one of the most exciting learning experiences. Through bright, fun illustrations of dinosaurs interacting with basic items such as a ball, a bat, a cat, and a dog, the most introductory words are brought to the forefront. Clear labels guide learners to read what they see, laying an important basic foundation for future reading fluency. A final page summarizes each featured word and an accompanying illustration, reinforcing the learning experience.","English",22.6,16.95,"428.1","24 pp.",{"$f":"Table1[[#This Row],['# Books]]*Table1[[#This Row],[QTY]]","v":0},{"$f":"Table1[[#This Row],[QTY]]*Table1[[#This Row],[S&L Price]]","v":0}]
[null,null,19,null,"Dinosaur School",1,"Dinosaur's First Words","eBook","978-1-4339-7158-7",2013,"August 2012",null,null,"Author","Ava Saviola",null,null,1,2,"A",null,"Grade K","Grade K - 1","For early learners, the transition between hearing words read to them and reading on their own is one of the most exciting learning experiences. Through bright, fun illustrations of dinosaurs interacting with basic items such as a ball, a bat, a cat, and a dog, the most introductory words are brought to the forefront. Clear labels guide learners to read what they see, laying an important basic foundation for future reading fluency. A final page summarizes each featured word and an accompanying illustration, reinforcing the learning experience.","English",22.6,16.95,"428.1","24 pp.",{"$f":"Table1[[#This Row],['# Books]]*Table1[[#This Row],[QTY]]","v":0},{"$f":"Table1[[#This Row],[QTY]]*Table1[[#This Row],[S&L Price]]","v":0}]
[null,null,19,null,"Dinosaur School",1,"Dinosaur's Five Senses","Library Bound Book","978-1-4339-9049-6",2014,"August 2013","Library","7.000 X 7.000","Author","Alex Appleby",null,null,1,1,"A",null,"Grade K","Grade K - 1","What can we do with our five senses? Young readers discover the answer to this question in this engaging book, which pairs an important early learning concept with charming illustrations of dinosaurs. Each page features a colorful cartoon dinosaur using one of the five senses in a way that makes exploring this topic fun for beginning readers. From tasting ice cream to hearing a drum, examples of the five senses at work are presented through accessible text, allowing beginning readers to learn all on their own!   • Age-appropriate and achievable content • Accessible, large-type text promotes sight recognition of words • Colorful dinosaur illustrations engage young learners • Strong picture-text correlation reinforces basic concepts • Words to Know provides additional reinforcement  ","English",22.6,16.95,"612.8","24 pp.",{"$f":"Table1[[#This Row],['# Books]]*Table1[[#This Row],[QTY]]","v":0},{"$f":"Table1[[#This Row],[QTY]]*Table1[[#This Row],[S&L Price]]","v":0}]
[null,null,19,null,"Dinosaur School",1,"Dinosaur's Five Senses","eBook","978-1-4339-9052-6",2014,"August 2013",null,null,"Author","Alex Appleby",null,null,1,1,"A",null,"Grade K","Grade K - 1","What can we do with our five senses? Young readers discover the answer to this question in this engaging book, which pairs an important early learning concept with charming illustrations of dinosaurs. Each page features a colorful cartoon dinosaur using one of the five senses in a way that makes exploring this topic fun for beginning readers. From tasting ice cream to hearing a drum, examples of the five senses at work are presented through accessible text, allowing beginning readers to learn all on their own!   • Age-appropriate and achievable content • Accessible, large-type text promotes sight recognition of words • Colorful dinosaur illustrations engage young learners • Strong picture-text correlation reinforces basic concepts • Words to Know provides additional reinforcement  ","English",22.6,16.95,"612.8","24 pp.",{"$f":"Table1[[#This Row],['# Books]]*Table1[[#This Row],[QTY]]","v":0},{"$f":"Table1[[#This Row],[QTY]]*Table1[[#This Row],[S&L Price]]","v":0}]
[null,null,19,null,"Dinosaur School",1,"Dinosaurs Count!","Library Bound Book","978-1-4339-7151-8",2013,"August 2012","Library","7.000 X 7.000","Author","Ava Saviola",null,null,1,2,"A",null,"Grade K","Grade K - 1","Counting from 1 to 10 is a big job for a beginning learner, but dinosaurs make it fun. A basic introduction to counting and reading numerals and their names, the text is accompanied by a colorful collection of dinosaur illustrations that begins with one sole member, and successively builds to a group of ten. A concluding page shows each numeral and its proper “name” for additional reinforcement of this essential concept.","English",22.6,16.95,"513.2","24 pp.",{"$f":"Table1[[#This Row],['# Books]]*Table1[[#This Row],[QTY]]","v":0},{"$f":"Table1[[#This Row],[QTY]]*Table1[[#This Row],[S&L Price]]","v":0}]
[null,null,19,null,"Dinosaur School",1,"Dinosaurs Count!","eBook","978-1-4339-7154-9",2013,"August 2012",null,null,"Author","Ava Saviola",null,null,1,2,"A",null,"Grade K","Grade K - 1","Counting from 1 to 10 is a big job for a beginning learner, but dinosaurs make it fun. A basic introduction to counting and reading numerals and their names, the text is accompanied by a colorful collection of dinosaur illustrations that begins with one sole member, and successively builds to a group of ten. A concluding page shows each numeral and its proper “name” for additional reinforcement of this essential concept.","English",22.6,16.95,"513.2","24 pp.",{"$f":"Table1[[#This Row],['# Books]]*Table1[[#This Row],[QTY]]","v":0},{"$f":"Table1[[#This Row],[QTY]]*Table1[[#This Row],[S&L Price]]","v":0}]
[null,null,19,null,"Dinosaur School",1,"Dinosaurs Help Out","Library Bound Book","978-1-4339-9053-3",2014,"August 2013","Library","7.000 X 7.000","Author","Alex Appleby",null,null,1,1,"A",null,"Grade K","Grade K - 1","How can we help people in our families and communities? Young readers explore ways to be good helpers by following along on the adventures of colorful cartoon dinosaurs. From picking up trash to cleaning around the house, young people can do a variety of things to make their world a better place, and they learn about these helpful activities through accessible text. Early learners discover the building blocks of strong character as they improve their vocabulary skills with the help of engaging illustrations that correspond to the simple text on each page.  • Age-appropriate and achievable content • Colorful dinosaur illustrations engage young learners • Accessible, large-type text promotes sight recognition of words • Strong picture-text correlation reinforces basic concepts • Words to Know provides additional reinforcement","English",22.6,16.95,"642.7","24 pp.",{"$f":"Table1[[#This Row],['# Books]]*Table1[[#This Row],[QTY]]","v":0},{"$f":"Table1[[#This Row],[QTY]]*Table1[[#This Row],[S&L Price]]","v":0}]
[null,null,19,null,"Dinosaur School",1,"Dinosaurs Help Out","eBook","978-1-4339-9056-4",2014,"August 2013",null,null,"Author","Alex Appleby",null,null,1,1,"A",null,"Grade K","Grade K - 1","How can we help people in our families and communities? Young readers explore ways to be good helpers by following along on the adventures of colorful cartoon dinosaurs. From picking up trash to cleaning around the house, young people can do a variety of things to make their world a better place, and they learn about these helpful activities through accessible text. Early learners discover the building blocks of strong character as they improve their vocabulary skills with the help of engaging illustrations that correspond to the simple text on each page.  • Age-appropriate and achievable content • Colorful dinosaur illustrations engage young learners • Accessible, large-type text promotes sight recognition of words • Strong picture-text correlation reinforces basic concepts • Words to Know provides additional reinforcement","English",22.6,16.95,"642.7","24 pp.",{"$f":"Table1[[#This Row],['# Books]]*Table1[[#This Row],[QTY]]","v":0},{"$f":"Table1[[#This Row],[QTY]]*Table1[[#This Row],[S&L Price]]","v":0}]
[null,null,19,null,"Dinosaur School",1,"Dinosaurs in the Fall","Library Bound Book","978-1-4824-0710-5",2015,"August 2014","Library","7.000 X 7.000","Author","Joyce Jeffries",null,null,1,null,"A",null,"Grade K","Grade K - 1","When the weather starts to get colder, dinosaurs find new ways to have fun. In this innovative first concepts book, dinosaurs dive into autumn in a variety of ways. Readers will see dinos take walks, watch leaves fall, and pick apples off of trees with the help of colorful illustrations that add picture-text correlation to an engaging look at the changing seasons. With text designed to establish a foundation for future reading success, this book is sure to be a hit with readers year-round.","English",22.6,16.95,"508.2","24 pp.",{"$f":"Table1[[#This Row],['# Books]]*Table1[[#This Row],[QTY]]","v":0},{"$f":"Table1[[#This Row],[QTY]]*Table1[[#This Row],[S&L Price]]","v":0}]
[null,null,19,null,"Dinosaur School",1,"Dinosaurs in the Fall","eBook","978-1-4824-0740-2",2015,"August 2014",null,null,"Author","Joyce Jeffries",null,null,1,null,"A",null,"Grade K","Grade K - 1","When the weather starts to get colder, dinosaurs find new ways to have fun. In this innovative first concepts book, dinosaurs dive into autumn in a variety of ways. Readers will see dinos take walks, watch leaves fall, and pick apples off of trees with the help of colorful illustrations that add picture-text correlation to an engaging look at the changing seasons. With text designed to establish a foundation for future reading success, this book is sure to be a hit with readers year-round.","English",22.6,16.95,"508.2","24 pp.",{"$f":"Table1[[#This Row],['# Books]]*Table1[[#This Row],[QTY]]","v":0},{"$f":"Table1[[#This Row],[QTY]]*Table1[[#This Row],[S&L Price]]","v":0}]
[null,null,19,null,"Dinosaur School",1,"Dinosaurs in the Spring","Library Bound Book","978-1-4824-0713-6",2015,"August 2014","Library","7.000 X 7.000","Author","Joyce Jeffries",null,null,1,null,"A",null,"Grade K","Grade K - 1","Dinosaurs know how to have a good time when winter is over! As the snow melts and the flowers start to grow, readers will love watching dinos have fun in the spring. From watching the snow melt to watching the rain fall, dinos know there’s lots to do as the weather starts to get warmer. Readers will love seeing dinos explore nature in the springtime, seeing birds come back and have babies and even planting trees! This innovative first concepts book will establish early literacy skills in readers, providing a foundation for future reading success.","English",22.6,16.95,"508.2","24 pp.",{"$f":"Table1[[#This Row],['# Books]]*Table1[[#This Row],[QTY]]","v":0},{"$f":"Table1[[#This Row],[QTY]]*Table1[[#This Row],[S&L Price]]","v":0}]
[null,null,19,null,"Dinosaur School",1,"Dinosaurs in the Spring","eBook","978-1-4824-0711-2",2015,"August 2014",null,null,"Author","Joyce Jeffries",null,null,1,null,"A",null,"Grade K","Grade K - 1","Dinosaurs know how to have a good time when winter is over! As the snow melts and the flowers start to grow, readers will love watching dinos have fun in the spring. From watching the snow melt to watching the rain fall, dinos know there’s lots to do as the weather starts to get warmer. Readers will love seeing dinos explore nature in the springtime, seeing birds come back and have babies and even planting trees! This innovative first concepts book will establish early literacy skills in readers, providing a foundation for future reading success.","English",22.6,16.95,"508.2","24 pp.",{"$f":"Table1[[#This Row],['# Books]]*Table1[[#This Row],[QTY]]","v":0},{"$f":"Table1[[#This Row],[QTY]]*Table1[[#This Row],[S&L Price]]","v":0}]
[null,null,19,null,"Dinosaur School",1,"Dinosaurs in the Summer","Library Bound Book","978-1-4824-0714-3",2015,"August 2014","Library","7.000 X 7.000","Author","Joyce Jeffries",null,null,1,null,"A",null,"Grade K","Grade K - 1","Summer is the best time to go outside and play! The same is true for dinosaurs in this innovative first concepts series. Readers watch dinosaurs play games, take a trip, and even hit the beach with the help of colorful illustrations that provide strong picture-text correlation to aid reading comprehension. From baseball to sand castles and a trip on the Ferris wheel dinos love to have fun in the summer sun. This fun first concepts book is sure to establish early literacy skills in readers to provide a strong foundation for future reading success.","English",22.6,16.95,"508.2","24 pp.",{"$f":"Table1[[#This Row],['# Books]]*Table1[[#This Row],[QTY]]","v":0},{"$f":"Table1[[#This Row],[QTY]]*Table1[[#This Row],[S&L Price]]","v":0}]
[null,null,19,null,"Dinosaur School",1,"Dinosaurs in the Summer","eBook","978-1-4824-0716-7",2015,"August 2014",null,null,"Author","Joyce Jeffries",null,null,1,null,"A",null,"Grade K","Grade K - 1","Summer is the best time to go outside and play! The same is true for dinosaurs in this innovative first concepts series. Readers watch dinosaurs play games, take a trip, and even hit the beach with the help of colorful illustrations that provide strong picture-text correlation to aid reading comprehension. From baseball to sand castles and a trip on the Ferris wheel dinos love to have fun in the summer sun. This fun first concepts book is sure to establish early literacy skills in readers to provide a strong foundation for future reading success.","English",22.6,16.95,"508.2","24 pp.",{"$f":"Table1[[#This Row],['# Books]]*Table1[[#This Row],[QTY]]","v":0},{"$f":"Table1[[#This Row],[QTY]]*Table1[[#This Row],[S&L Price]]","v":0}]
[null,null,19,null,"Dinosaur School",1,"Dinosaurs in the Winter","Library Bound Book","978-1-4824-0717-4",2015,"August 2014","Library","7.000 X 7.000","Author","Joyce Jeffries",null,null,1,null,"A",null,"Grade K","Grade K - 1","Wintertime means lots of time indoors, but that doesn’t stop dinosaurs from having fun. Whether it’s a trip outside to play in the snow, or some hot chocolate by a warm fire, dinos know how to get their fill of excitement in winter. With the help of strong picture-text correlation from colorful illustrations and simple text, readers will follow along with dinos as they ice-skate, have a snowball fight, and sled their way through a winter wonderland.","English",22.6,16.95,"508.2","24 pp.",{"$f":"Table1[[#This Row],['# Books]]*Table1[[#This Row],[QTY]]","v":0},{"$f":"Table1[[#This Row],[QTY]]*Table1[[#This Row],[S&L Price]]","v":0}]
[null,null,19,null,"Dinosaur School",1,"Dinosaurs in the Winter","eBook","978-1-4824-0718-1",2015,"August 2014",null,null,"Author","Joyce Jeffries",null,null,1,null,"A",null,"Grade K","Grade K - 1","Wintertime means lots of time indoors, but that doesn’t stop dinosaurs from having fun. Whether it’s a trip outside to play in the snow, or some hot chocolate by a warm fire, dinos know how to get their fill of excitement in winter. With the help of strong picture-text correlation from colorful illustrations and simple text, readers will follow along with dinos as they ice-skate, have a snowball fight, and sled their way through a winter wonderland.","English",22.6,16.95,"508.2","24 pp.",{"$f":"Table1[[#This Row],['# Books]]*Table1[[#This Row],[QTY]]","v":0},{"$f":"Table1[[#This Row],[QTY]]*Table1[[#This Row],[S&L Price]]","v":0}]
[null,null,19,null,"Dinosaur School",1,"Dinosaurs on the Farm","Library Bound Book","978-1-4339-9057-1",2014,"August 2013","Library","7.000 X 7.000","Author","Alex Appleby",null,null,1,1,"A",null,"Grade K","Grade K - 1","Beginning readers take a trip to the farm with exciting companions—dinosaurs! Important vocabulary skills are developed through accessible text and colorful illustrations about farm life, including farm animals, farm machines, and even farmers themselves. Early learners are guided through this text by charming cartoon dinosaurs, making this a reading experience that is both informative and entertaining. Young readers will be eager to learn more about farm life after their journey through this book!  • Strong picture-text correlation reinforces basic concepts • Colorful dinosaur illustrations will engage young learners • Age-appropriate and achievable content • Accessible, large-type text promotes sight recognition of words • Words to Know provides additional reinforcement    ","English",22.6,16.95,"630","24 pp.",{"$f":"Table1[[#This Row],['# Books]]*Table1[[#This Row],[QTY]]","v":0},{"$f":"Table1[[#This Row],[QTY]]*Table1[[#This Row],[S&L Price]]","v":0}]
[null,null,19,null,"Dinosaur School",1,"Dinosaurs on the Farm","eBook","978-1-4339-9060-1",2014,"August 2013",null,null,"Author","Alex Appleby",null,null,1,1,"A",null,"Grade K","Grade K - 1","Beginning readers take a trip to the farm with exciting companions—dinosaurs! Important vocabulary skills are developed through accessible text and colorful illustrations about farm life, including farm animals, farm machines, and even farmers themselves. Early learners are guided through this text by charming cartoon dinosaurs, making this a reading experience that is both informative and entertaining. Young readers will be eager to learn more about farm life after their journey through this book!  • Strong picture-text correlation reinforces basic concepts • Colorful dinosaur illustrations will engage young learners • Age-appropriate and achievable content • Accessible, large-type text promotes sight recognition of words • Words to Know provides additional reinforcement    ","English",22.6,16.95,"630","24 pp.",{"$f":"Table1[[#This Row],['# Books]]*Table1[[#This Row],[QTY]]","v":0},{"$f":"Table1[[#This Row],[QTY]]*Table1[[#This Row],[S&L Price]]","v":0}]
[null,null,19,null,"Dinosaur School",1,"Dinosaurs on the Go","Library Bound Book","978-1-4339-9061-8",2014,"August 2013","Library","7.000 X 7.000","Author","Alex Appleby",null,null,1,1,"A",null,"Grade K","Grade K - 1","Beginning readers explore common modes of transportation with the help of colorful cartoon dinosaurs. Charming illustrations of dinosaurs are paired on each page with accessible text, allowing early learners to discover and use new vocabulary words. Boats, cars, and skateboards are just a few of the popular kinds of transportation introduced in this book. A helpful picture glossary guides readers as they build their vocabularies in a way that is both educational and enjoyable.    • Colorful dinosaur illustrations engage young learners • Accessible, large-type text promotes sight recognition of words • Age-appropriate and achievable content • Strong picture-text correlation reinforces basic concepts • Words to Know provides additional reinforcement    ","English",22.6,16.95,"388","24 pp.",{"$f":"Table1[[#This Row],['# Books]]*Table1[[#This Row],[QTY]]","v":0},{"$f":"Table1[[#This Row],[QTY]]*Table1[[#This Row],[S&L Price]]","v":0}]
[null,null,19,null,"Dinosaur School",1,"Dinosaurs on the Go","eBook","978-1-4339-9064-9",2014,"August 2013",null,null,"Author","Alex Appleby",null,null,1,1,"A",null,"Grade K","Grade K - 1","Beginning readers explore common modes of transportation with the help of colorful cartoon dinosaurs. Charming illustrations of dinosaurs are paired on each page with accessible text, allowing early learners to discover and use new vocabulary words. Boats, cars, and skateboards are just a few of the popular kinds of transportation introduced in this book. A helpful picture glossary guides readers as they build their vocabularies in a way that is both educational and enjoyable.    • Colorful dinosaur illustrations engage young learners • Accessible, large-type text promotes sight recognition of words • Age-appropriate and achievable content • Strong picture-text correlation reinforces basic concepts • Words to Know provides additional reinforcement    ","English",22.6,16.95,"388","24 pp.",{"$f":"Table1[[#This Row],['# Books]]*Table1[[#This Row],[QTY]]","v":0},{"$f":"Table1[[#This Row],[QTY]]*Table1[[#This Row],[S&L Price]]","v":0}]
[null,null,19,null,"Dinosaur School",1,"Heavy and Light","Library Bound Book","978-1-4339-8087-9",2013,"January 2013","Library","7.000 X 7.000","Author","Joyce Jeffries",null,null,1,1,"A",null,"Grade K","Grade K - 1","Beginning readers explore the important concept of comparing and contrasting objects by weight in a way that is both fun and educational. Bright illustrations featuring cartoon dinosaurs accompany easy-to-follow text that introduces early learners to the distinction between “heavy” and “light.” Readers will be drawn to the colorful pages featuring dinosaurs interacting with common objects and animals in a way that clearly shows the difference between those that are heavy and those that are light. This essential concept is reinforced in a concluding graphic organizer that highlights these antonyms as well as the other vocabulary words introduced throughout the book. ","English",22.6,16.95,"531","24 pp.",{"$f":"Table1[[#This Row],['# Books]]*Table1[[#This Row],[QTY]]","v":0},{"$f":"Table1[[#This Row],[QTY]]*Table1[[#This Row],[S&L Price]]","v":0}]
[null,null,19,null,"Dinosaur School",1,"Heavy and Light","eBook","978-1-4339-8090-9",2013,"January 2013",null,null,"Author","Joyce Jeffries",null,null,1,1,"A",null,"Grade K","Grade K - 1","Beginning readers explore the important concept of comparing and contrasting objects by weight in a way that is both fun and educational. Bright illustrations featuring cartoon dinosaurs accompany easy-to-follow text that introduces early learners to the distinction between “heavy” and “light.” Readers will be drawn to the colorful pages featuring dinosaurs interacting with common objects and animals in a way that clearly shows the difference between those that are heavy and those that are light. This essential concept is reinforced in a concluding graphic organizer that highlights these antonyms as well as the other vocabulary words introduced throughout the book. ","English",22.6,16.95,"531","24 pp.",{"$f":"Table1[[#This Row],['# Books]]*Table1[[#This Row],[QTY]]","v":0},{"$f":"Table1[[#This Row],[QTY]]*Table1[[#This Row],[S&L Price]]","v":0}]
[null,null,19,null,"Dinosaur School",1,"Hot and Cold","Library Bound Book","978-1-4339-8091-6",2013,"January 2013","Library","7.000 X 7.000","Author","Joyce Jeffries",null,null,1,1,"A",null,"Grade K","Grade K - 1","The difference between “hot” and “cold” is demonstrated through bright illustrations and accessible text. Featuring strong picture-text correlation, this book allows early learners to explore these antonyms independently and build strong vocabularies as they read. On each page, beginning readers discover dinosaurs interacting with temperature—including hot cocoa and cold ice cream. These antonyms are highlighted in a concluding graphic organizer that reinforces this essential concept. ","English",22.6,16.95,"536","24 pp.",{"$f":"Table1[[#This Row],['# Books]]*Table1[[#This Row],[QTY]]","v":0},{"$f":"Table1[[#This Row],[QTY]]*Table1[[#This Row],[S&L Price]]","v":0}]
[null,null,19,null,"Dinosaur School",1,"Hot and Cold","eBook","978-1-4339-8094-7",2013,"January 2013",null,null,"Author","Joyce Jeffries",null,null,1,1,"A",null,"Grade K","Grade K - 1","The difference between “hot” and “cold” is demonstrated through bright illustrations and accessible text. Featuring strong picture-text correlation, this book allows early learners to explore these antonyms independently and build strong vocabularies as they read. On each page, beginning readers discover dinosaurs interacting with temperature—including hot cocoa and cold ice cream. These antonyms are highlighted in a concluding graphic organizer that reinforces this essential concept. ","English",22.6,16.95,"536","24 pp.",{"$f":"Table1[[#This Row],['# Books]]*Table1[[#This Row],[QTY]]","v":0},{"$f":"Table1[[#This Row],[QTY]]*Table1[[#This Row],[S&L Price]]","v":0}]
[null,null,19,null,"Dinosaur School",1,"Long and Short","Library Bound Book","978-1-4339-8095-4",2013,"January 2013","Library","7.000 X 7.000","Author","Joyce Jeffries",null,null,1,1,"A",null,"Grade K","Grade K - 1","Beginning readers learn how to distinguish between “long” and “short” with the aid of helpful cartoon dinosaurs. Antonyms are introduced in a way that makes their difference clear for early learners through the use of accessible text and bright illustrations. Emerging readers discover how to compare objects by length in an engaging way as they learn about this essential concept. The strong picture-text correlation on each page helps beginning readers strengthen their vocabulary skills, and a useful graphic organizer is included to aid in the learning process.","English",22.6,16.95,"153.7","24 pp.",{"$f":"Table1[[#This Row],['# Books]]*Table1[[#This Row],[QTY]]","v":0},{"$f":"Table1[[#This Row],[QTY]]*Table1[[#This Row],[S&L Price]]","v":0}]
[null,null,19,null,"Dinosaur School",1,"Long and Short","eBook","978-1-4339-8098-5",2013,"January 2013",null,null,"Author","Joyce Jeffries",null,null,1,1,"A",null,"Grade K","Grade K - 1","Beginning readers learn how to distinguish between “long” and “short” with the aid of helpful cartoon dinosaurs. Antonyms are introduced in a way that makes their difference clear for early learners through the use of accessible text and bright illustrations. Emerging readers discover how to compare objects by length in an engaging way as they learn about this essential concept. The strong picture-text correlation on each page helps beginning readers strengthen their vocabulary skills, and a useful graphic organizer is included to aid in the learning process.","English",22.6,16.95,"153.7","24 pp.",{"$f":"Table1[[#This Row],['# Books]]*Table1[[#This Row],[QTY]]","v":0},{"$f":"Table1[[#This Row],[QTY]]*Table1[[#This Row],[S&L Price]]","v":0}]
[null,null,19,null,"Dinosaur School",1,"Near and Far","Library Bound Book","978-1-4339-8099-2",2013,"January 2013","Library","7.000 X 7.000","Author","Joyce Jeffries",null,null,1,1,"A",null,"Grade K","Grade K - 1","The essential concept of distance is taught through easy-to-follow text and illustrations featuring colorful dinosaurs. Beginning readers discover the difference between “near” and “far” with the help of this book’s accessible text and vibrant cartoon dinosaurs, which are shown interacting with common vocabulary words—including cars and horses. Strong picture-text correlation helps early learners enhance their vocabularies and their understanding of these antonyms.","English",22.6,16.95,"153.7","24 pp.",{"$f":"Table1[[#This Row],['# Books]]*Table1[[#This Row],[QTY]]","v":0},{"$f":"Table1[[#This Row],[QTY]]*Table1[[#This Row],[S&L Price]]","v":0}]
[null,null,19,null,"Dinosaur School",1,"Near and Far","eBook","978-1-4339-8102-9",2013,"January 2013",null,null,"Author","Joyce Jeffries",null,null,1,1,"A",null,"Grade K","Grade K - 1","The essential concept of distance is taught through easy-to-follow text and illustrations featuring colorful dinosaurs. Beginning readers discover the difference between “near” and “far” with the help of this book’s accessible text and vibrant cartoon dinosaurs, which are shown interacting with common vocabulary words—including cars and horses. Strong picture-text correlation helps early learners enhance their vocabularies and their understanding of these antonyms.","English",22.6,16.95,"153.7","24 pp.",{"$f":"Table1[[#This Row],['# Books]]*Table1[[#This Row],[QTY]]","v":0},{"$f":"Table1[[#This Row],[QTY]]*Table1[[#This Row],[S&L Price]]","v":0}]
[null,null,19,null,"Dinosaur School",1,"Which Is Different?","Library Bound Book","978-1-4339-8103-6",2013,"January 2013","Library","7.000 X 7.000","Author","Joyce Jeffries",null,null,1,1,"A",null,"Grade K","Grade K - 1","The concepts of “same” and “different” are important for early learners to understand, and they are the focal point of this fun and helpful book. Bright cartoon dinosaurs can be found on each page, alongside easy-to-follow text asking readers to question which dinosaur is different from the others and explaining why. The strong correlation between illustrations and text allows for the development of vocabulary skills. This book presents young readers with a variety of real-world differences—including differences in clothing and differences in food. These are each depicted in a way that allows for independent learning and an enjoyable reading experience.","English",22.6,16.95,"511.3","24 pp.",{"$f":"Table1[[#This Row],['# Books]]*Table1[[#This Row],[QTY]]","v":0},{"$f":"Table1[[#This Row],[QTY]]*Table1[[#This Row],[S&L Price]]","v":0}]
[null,null,19,null,"Dinosaur School",1,"Which Is Different?","eBook","978-1-4339-8106-7",2013,"January 2013",null,null,"Author","Joyce Jeffries",null,null,1,1,"A",null,"Grade K","Grade K - 1","The concepts of “same” and “different” are important for early learners to understand, and they are the focal point of this fun and helpful book. Bright cartoon dinosaurs can be found on each page, alongside easy-to-follow text asking readers to question which dinosaur is different from the others and explaining why. The strong correlation between illustrations and text allows for the development of vocabulary skills. This book presents young readers with a variety of real-world differences—including differences in clothing and differences in food. These are each depicted in a way that allows for independent learning and an enjoyable reading experience.","English",22.6,16.95,"511.3","24 pp.",{"$f":"Table1[[#This Row],['# Books]]*Table1[[#This Row],[QTY]]","v":0},{"$f":"Table1[[#This Row],[QTY]]*Table1[[#This Row],[S&L Price]]","v":0}]
[null,null,20,null,"Sort It Out!",6,"Sort It Out!","Library Set","978-1-4824-2538-3",2016,"August 2015","Library","7.000 X 7.000",null,"",null,null,null,null,null,null,"Grade K","Grade K - 1","Sorting and classifying are two key skills in the early elementary math classroom. Each volume of this valuable series focuses on a sorting category, such as shape, color, and texture, and demonstrates how to arrange objects using that classification. Beginning readers are encouraged to notice similarities and differences in groups of high-interest and familiar objects, such as animals, foods, and toys, while practicing the adjectives that are often employed in sorting and classifying.\n\n\n\n\n\n•\tUnderstanding and defining attributes of shapes is a geometry benchmark of the Common Core Mathematics Standards\n\n\n•\tColorful photographs and at-level text work together to clearly explain and illustrate each comparison concept\n\n\n•\tReaders can demonstrate their mastery of the skill by answering the question at the conclusion of each book\n","English",135.6,101.7,null,"24 pp.",{"$f":"Table1[[#This Row],['# Books]]*Table1[[#This Row],[QTY]]","v":0},{"$f":"Table1[[#This Row],[QTY]]*Table1[[#This Row],[S&L Price]]","v":0}]
[null,null,20,null,"Sort It Out!",1,"Sort It by Color","Library Bound Book","978-1-4824-2567-3",2016,"August 2015","Library","7.000 X 7.000","Author","Emmett Alexander",null,null,3,null,"C",null,"Grade K - 1","Grade K - 2","Learning to identify colors is an essential skill in the early elementary classroom. Learning to sort by color takes this aptitude one step further. Through accessible text and helpful photographs, beginning readers will be able to see familiar objects, such as toys and crayons, both mixed up and sorted into their favorite colors. They'll be able to demonstrate their mastery of the concept by this inviting book's end.","English",22.6,16.95,"512.2","24 pp.",{"$f":"Table1[[#This Row],['# Books]]*Table1[[#This Row],[QTY]]","v":0},{"$f":"Table1[[#This Row],[QTY]]*Table1[[#This Row],[S&L Price]]","v":0}]
[null,null,20,null,"Sort It Out!",1,"Sort It by Color","eBook","978-1-4824-2568-0",2016,"August 2015",null,null,"Author","Emmett Alexander",null,null,3,null,"C",null,"Grade K - 1","Grade K - 2","Learning to identify colors is an essential skill in the early elementary classroom. Learning to sort by color takes this aptitude one step further. Through accessible text and helpful photographs, beginning readers will be able to see familiar objects, such as toys and crayons, both mixed up and sorted into their favorite colors. They'll be able to demonstrate their mastery of the concept by this inviting book's end.","English",22.6,16.95,"512.2","24 pp.",{"$f":"Table1[[#This Row],['# Books]]*Table1[[#This Row],[QTY]]","v":0},{"$f":"Table1[[#This Row],[QTY]]*Table1[[#This Row],[S&L Price]]","v":0}]
[null,null,20,null,"Sort It Out!",1,"Sort It by Shape","Library Bound Book","978-1-4824-2571-0",2016,"August 2015","Library","7.000 X 7.000","Author","Emmett Alexander",null,null,4,null,"D","380L","Grade K - 1","Grade K - 2","Our world is made up of shapes. This colorful book will enable beginning readers to visualize that as they examine photographs of objects in their daily lives, such as books, clocks, and sandwiches. They'll also learn how to sort certain shapes from other shapes through clear text and supporting photographs. This valuable book is a beneficial introduction to essential concepts in the early elementary mathematics curriculum.","English",22.6,16.95,"512.2","24 pp.",{"$f":"Table1[[#This Row],['# Books]]*Table1[[#This Row],[QTY]]","v":0},{"$f":"Table1[[#This Row],[QTY]]*Table1[[#This Row],[S&L Price]]","v":0}]
[null,null,20,null,"Sort It Out!",1,"Sort It by Shape","eBook","978-1-4824-2572-7",2016,"August 2015",null,null,"Author","Emmett Alexander",null,null,4,null,"D","380L","Grade K - 1","Grade K - 2","Our world is made up of shapes. This colorful book will enable beginning readers to visualize that as they examine photographs of objects in their daily lives, such as books, clocks, and sandwiches. They'll also learn how to sort certain shapes from other shapes through clear text and supporting photographs. This valuable book is a beneficial introduction to essential concepts in the early elementary mathematics curriculum.","English",22.6,16.95,"512.2","24 pp.",{"$f":"Table1[[#This Row],['# Books]]*Table1[[#This Row],[QTY]]","v":0},{"$f":"Table1[[#This Row],[QTY]]*Table1[[#This Row],[S&L Price]]","v":0}]
[null,null,20,null,"Sort It Out!",1,"Sort It by Size","Library Bound Book","978-1-4824-2575-8",2016,"August 2015","Library","7.000 X 7.000","Author","Emmett Alexander",null,null,3,null,"C",null,"Grade K - 1","Grade K - 2","Small and large, short and tall, little and big, these are all words that help us describe size. This math concepts volume doesn't just \"tell\"; it shows early learners the difference between concepts, introduces them to synonyms, and helps them learn to sort a group according to size. Classification is an important concept for the early elementary mathematics student, but the text and photographs in this book, including dogs, fish, and birds, make it fun!","English",22.6,16.95,"512","24 pp.",{"$f":"Table1[[#This Row],['# Books]]*Table1[[#This Row],[QTY]]","v":0},{"$f":"Table1[[#This Row],[QTY]]*Table1[[#This Row],[S&L Price]]","v":0}]
[null,null,20,null,"Sort It Out!",1,"Sort It by Size","eBook","978-1-4824-2576-5",2016,"August 2015",null,null,"Author","Emmett Alexander",null,null,3,null,"C",null,"Grade K - 1","Grade K - 2","Small and large, short and tall, little and big, these are all words that help us describe size. This math concepts volume doesn't just \"tell\"; it shows early learners the difference between concepts, introduces them to synonyms, and helps them learn to sort a group according to size. Classification is an important concept for the early elementary mathematics student, but the text and photographs in this book, including dogs, fish, and birds, make it fun!","English",22.6,16.95,"512","24 pp.",{"$f":"Table1[[#This Row],['# Books]]*Table1[[#This Row],[QTY]]","v":0},{"$f":"Table1[[#This Row],[QTY]]*Table1[[#This Row],[S&L Price]]","v":0}]
[null,null,20,null,"Sort It Out!",1,"Sort It by Sound","Library Bound Book","978-1-4824-2579-6",2016,"August 2015","Library","7.000 X 7.000","Author","Nicholas O'Hara",null,null,3,null,"C",null,"Grade K - 1","Grade K - 2","People sort and classify using several kinds of categories, including sound. Readers of this accessible book will consider what's loud and what's quiet in the world around them. They'll discover some things, like music and people, can be loud or quiet. Sorting one from another is perfectly illustrated with carefully chosen photographs throughout this inviting book.","English",22.6,16.95,"534","24 pp.",{"$f":"Table1[[#This Row],['# Books]]*Table1[[#This Row],[QTY]]","v":0},{"$f":"Table1[[#This Row],[QTY]]*Table1[[#This Row],[S&L Price]]","v":0}]
[null,null,20,null,"Sort It Out!",1,"Sort It by Sound","eBook","978-1-4824-2580-2",2016,"August 2015",null,null,"Author","Nicholas O'Hara",null,null,3,null,"C",null,"Grade K - 1","Grade K - 2","People sort and classify using several kinds of categories, including sound. Readers of this accessible book will consider what's loud and what's quiet in the world around them. They'll discover some things, like music and people, can be loud or quiet. Sorting one from another is perfectly illustrated with carefully chosen photographs throughout this inviting book.","English",22.6,16.95,"534","24 pp.",{"$f":"Table1[[#This Row],['# Books]]*Table1[[#This Row],[QTY]]","v":0},{"$f":"Table1[[#This Row],[QTY]]*Table1[[#This Row],[S&L Price]]","v":0}]
[null,null,20,null,"Sort It Out!",1,"Sort It by Texture","Library Bound Book","978-1-4824-2583-3",2016,"August 2015","Library","7.000 X 7.000","Author","Nicholas O'Hara",null,null,4,null,"D","430L","Grade K - 1","Grade K - 2","Eww, that feels gross! Young learners love learning about texture up close. This accessible book enables readers to imagine how objects would feel that might not be available in the classroom, such as an alligator! Smooth, bumpy, dry, sticky, hard, and soft are just some of the adjectives introduced in this valuable volume. The text and photographs demonstrate objects that illustrate each adjective as well as how to sort objects of a certain texture from a mixed group.","English",22.6,16.95,"620.1","24 pp.",{"$f":"Table1[[#This Row],['# Books]]*Table1[[#This Row],[QTY]]","v":0},{"$f":"Table1[[#This Row],[QTY]]*Table1[[#This Row],[S&L Price]]","v":0}]
[null,null,20,null,"Sort It Out!",1,"Sort It by Texture","eBook","978-1-4824-2584-0",2016,"August 2015",null,null,"Author","Nicholas O'Hara",null,null,4,null,"D","430L","Grade K - 1","Grade K - 2","Eww, that feels gross! Young learners love learning about texture up close. This accessible book enables readers to imagine how objects would feel that might not be available in the classroom, such as an alligator! Smooth, bumpy, dry, sticky, hard, and soft are just some of the adjectives introduced in this valuable volume. The text and photographs demonstrate objects that illustrate each adjective as well as how to sort objects of a certain texture from a mixed group.","English",22.6,16.95,"620.1","24 pp.",{"$f":"Table1[[#This Row],['# Books]]*Table1[[#This Row],[QTY]]","v":0},{"$f":"Table1[[#This Row],[QTY]]*Table1[[#This Row],[S&L Price]]","v":0}]
[null,null,20,null,"Sort It Out!",1,"Sort It by Weight","Library Bound Book","978-1-4824-2587-1",2016,"August 2015","Library","7.000 X 7.000","Author","Nicholas O'Hara",null,null,3,null,"C",null,"Grade K - 1","Grade K - 2","Weight is an important concept in the elementary math classroom as is learning how to sort and classify objects. This colorful book uses familiar objects to exhibit the differences between the adjectives \"heavy\" and \"light\" and how objects that match these descriptions can be sorted from one another. After reviewing the concepts, readers can demonstrate their understanding at the conclusion of the book and apply their knowledge to situations outside the classroom, too.","English",22.6,16.95,"530.8","24 pp.",{"$f":"Table1[[#This Row],['# Books]]*Table1[[#This Row],[QTY]]","v":0},{"$f":"Table1[[#This Row],[QTY]]*Table1[[#This Row],[S&L Price]]","v":0}]
[null,null,20,null,"Sort It Out!",1,"Sort It by Weight","eBook","978-1-4824-2588-8",2016,"August 2015",null,null,"Author","Nicholas O'Hara",null,null,3,null,"C",null,"Grade K - 1","Grade K - 2","Weight is an important concept in the elementary math classroom as is learning how to sort and classify objects. This colorful book uses familiar objects to exhibit the differences between the adjectives \"heavy\" and \"light\" and how objects that match these descriptions can be sorted from one another. After reviewing the concepts, readers can demonstrate their understanding at the conclusion of the book and apply their knowledge to situations outside the classroom, too.","English",22.6,16.95,"530.8","24 pp.",{"$f":"Table1[[#This Row],['# Books]]*Table1[[#This Row],[QTY]]","v":0},{"$f":"Table1[[#This Row],[QTY]]*Table1[[#This Row],[S&L Price]]","v":0}]
[null,null,20,null,"Minding Our Manners",6,"Minding Our Manners","Library Set","978-1-4824-1628-2",2015,"January 2015","Library","7.000 X 7.000",null,"",null,null,null,null,null,null,"Grade Pre-K - K","Grade Pre-K - 1","Learning to play nicely with others, being respectful of those around us, and being truthful are important first concepts to understand. Sometimes the emotions surrounding social manners are difficult to deal with. Through understandable, clear language, beginning readers are introduced to jealousy, bullying, sharing, and other common social situations. Examples guide readers through the feelings they may have. They learn how to handle saying “I’m sorry” and are reminded of the importance of “please” and “thank you.” Put into practice, this series offers invaluable character-building content.    • Full-color photographs enhance clear examples of proper behavior   • Simple language and sentence structure allow beginning readers a chance to read on their own   • Titles in this series complement and reinforce each other  • Clear explanations of domain-specific words and phrases","English",135.6,101.7,null,"24 pp.",{"$f":"Table1[[#This Row],['# Books]]*Table1[[#This Row],[QTY]]","v":0},{"$f":"Table1[[#This Row],[QTY]]*Table1[[#This Row],[S&L Price]]","v":0}]
[null,null,20,null,"Minding Our Manners",1,"Dealing with Jealousy","Library Bound Book","978-1-4824-1617-6",2015,"January 2015","Library","7.000 X 7.000","Author","Santana Hunt",null,null,2,null,"B","380L","Grade Pre-K - K","Grade Pre-K - 1","Jealousy starts in childhood and doesn’t end there! It’s very hard to understand why others have things that we want—especially when we know we can’t have them. Readers are introduced to this complicated emotion in understandable, age-appropriate language. Full-color photographs illustrate the feeling of jealousy, while the text explains how to deal with situations in which readers might feel jealous. Readers’ feelings are acknowledged so they begin to learn that jealousy isn’t bad—it’s something everyone deals with.","English",22.6,16.95,"152.4","24 pp.",{"$f":"Table1[[#This Row],['# Books]]*Table1[[#This Row],[QTY]]","v":0},{"$f":"Table1[[#This Row],[QTY]]*Table1[[#This Row],[S&L Price]]","v":0}]
[null,null,20,null,"Minding Our Manners",1,"Dealing with Jealousy","eBook","978-1-4824-1618-3",2015,"January 2015",null,null,"Author","Santana Hunt",null,null,2,null,"B","380L","Grade Pre-K - K","Grade Pre-K - 1","Jealousy starts in childhood and doesn’t end there! It’s very hard to understand why others have things that we want—especially when we know we can’t have them. Readers are introduced to this complicated emotion in understandable, age-appropriate language. Full-color photographs illustrate the feeling of jealousy, while the text explains how to deal with situations in which readers might feel jealous. Readers’ feelings are acknowledged so they begin to learn that jealousy isn’t bad—it’s something everyone deals with.","English",22.6,16.95,"152.4","24 pp.",{"$f":"Table1[[#This Row],['# Books]]*Table1[[#This Row],[QTY]]","v":0},{"$f":"Table1[[#This Row],[QTY]]*Table1[[#This Row],[S&L Price]]","v":0}]
[null,null,20,null,"Minding Our Manners",1,"Don't Be a Bully","Library Bound Book","978-1-4824-1619-0",2015,"January 2015","Library","7.000 X 7.000","Author","Frances Nagle",null,null,2,null,"B","430L","Grade Pre-K - K","Grade Pre-K - 1","Bullying is a problem in every school at every age level. Learning how to stand up to a bully is tough—and so is learning not to be a bully yourself! Readers learn what a bully is and many of the common reasons bullying occurs. The main content clearly states that bullying is unacceptable, and photographs emphasize the negative emotions caused by bullying. In addition, some suggestions on dealing with bullying—as potential bully or bystander—are given to help readers if the situation arises.","English",22.6,16.95,"152.4","24 pp.",{"$f":"Table1[[#This Row],['# Books]]*Table1[[#This Row],[QTY]]","v":0},{"$f":"Table1[[#This Row],[QTY]]*Table1[[#This Row],[S&L Price]]","v":0}]
[null,null,20,null,"Minding Our Manners",1,"Don't Be a Bully","eBook","978-1-4824-1622-0",2015,"January 2015",null,null,"Author","Frances Nagle",null,null,2,null,"B","430L","Grade Pre-K - K","Grade Pre-K - 1","Bullying is a problem in every school at every age level. Learning how to stand up to a bully is tough—and so is learning not to be a bully yourself! Readers learn what a bully is and many of the common reasons bullying occurs. The main content clearly states that bullying is unacceptable, and photographs emphasize the negative emotions caused by bullying. In addition, some suggestions on dealing with bullying—as potential bully or bystander—are given to help readers if the situation arises.","English",22.6,16.95,"152.4","24 pp.",{"$f":"Table1[[#This Row],['# Books]]*Table1[[#This Row],[QTY]]","v":0},{"$f":"Table1[[#This Row],[QTY]]*Table1[[#This Row],[S&L Price]]","v":0}]
[null,null,20,null,"Minding Our Manners",1,"Let's Share!","Library Bound Book","978-1-4824-1624-4",2015,"January 2015","Library","7.000 X 7.000","Author","Walter LaPlante",null,null,2,null,"B","410L","Grade Pre-K - K","Grade Pre-K - 1","No matter their age, sharing is one of the most important skills children can learn and practice. It’s something they will do at school, home, and even later in life. Through understandable and age-appropriate language, readers learn what sharing is and how to do it. Common feelings associated with sharing are addressed, including the difficulties of sharing and why it’s important. Photographs add color and enhance the ideas of friendship that are an integral part of sharing.","English",22.6,16.95,"177","24 pp.",{"$f":"Table1[[#This Row],['# Books]]*Table1[[#This Row],[QTY]]","v":0},{"$f":"Table1[[#This Row],[QTY]]*Table1[[#This Row],[S&L Price]]","v":0}]
[null,null,20,null,"Minding Our Manners",1,"Let's Share!","eBook","978-1-4824-1627-5",2015,"January 2015",null,null,"Author","Walter LaPlante",null,null,2,null,"B","410L","Grade Pre-K - K","Grade Pre-K - 1","No matter their age, sharing is one of the most important skills children can learn and practice. It’s something they will do at school, home, and even later in life. Through understandable and age-appropriate language, readers learn what sharing is and how to do it. Common feelings associated with sharing are addressed, including the difficulties of sharing and why it’s important. Photographs add color and enhance the ideas of friendship that are an integral part of sharing.","English",22.6,16.95,"177","24 pp.",{"$f":"Table1[[#This Row],['# Books]]*Table1[[#This Row],[QTY]]","v":0},{"$f":"Table1[[#This Row],[QTY]]*Table1[[#This Row],[S&L Price]]","v":0}]
[null,null,20,null,"Minding Our Manners",1,"Saying I'm Sorry","Library Bound Book","978-1-4824-1722-7",2015,"January 2015","Library","7.000 X 7.000","Author","Kathleen Connors",null,null,2,null,"B","460L","Grade Pre-K - K","Grade Pre-K - 1","Learning remorse at wrongdoing is tough, especially for children. However, having a few little words to help show that remorse can really speed the process of making up for saying mean things, not sharing, or being rude. Readers see the many situations in which the words “I’m sorry” should be used, including scenarios they may encounter in school or at home. Understandable language helps introduce this important concept and explains how much better everyone feels when an apology is given.","English",22.6,16.95,"395","24 pp.",{"$f":"Table1[[#This Row],['# Books]]*Table1[[#This Row],[QTY]]","v":0},{"$f":"Table1[[#This Row],[QTY]]*Table1[[#This Row],[S&L Price]]","v":0}]
[null,null,20,null,"Minding Our Manners",1,"Saying I'm Sorry","eBook","978-1-4824-1725-8",2015,"January 2015",null,null,"Author","Kathleen Connors",null,null,2,null,"B","460L","Grade Pre-K - K","Grade Pre-K - 1","Learning remorse at wrongdoing is tough, especially for children. However, having a few little words to help show that remorse can really speed the process of making up for saying mean things, not sharing, or being rude. Readers see the many situations in which the words “I’m sorry” should be used, including scenarios they may encounter in school or at home. Understandable language helps introduce this important concept and explains how much better everyone feels when an apology is given.","English",22.6,16.95,"395","24 pp.",{"$f":"Table1[[#This Row],['# Books]]*Table1[[#This Row],[QTY]]","v":0},{"$f":"Table1[[#This Row],[QTY]]*Table1[[#This Row],[S&L Price]]","v":0}]
[null,null,20,null,"Minding Our Manners",1,"Saying Please and Thank You","Library Bound Book","978-1-4824-1726-5",2015,"January 2015","Library","7.000 X 7.000","Author","Maria Nelson",null,null,2,null,"B","490L","Grade Pre-K - K","Grade Pre-K - 1","Learning to speak in a polite manner can be tough. Sometimes, people receive gifts they don’t like, don’t want to help out at home, or are just in a hurry! Readers learn that politeness is easy to spread with just a few simple words—“please” and “thank you.” Taking the time to thank someone lets him or her know they are appreciated. Saying “please” shows a similar respect. Easy-to-read language aids beginning readers navigating both text and good manners for the first time.","English",22.6,16.95,"395.1","24 pp.",{"$f":"Table1[[#This Row],['# Books]]*Table1[[#This Row],[QTY]]","v":0},{"$f":"Table1[[#This Row],[QTY]]*Table1[[#This Row],[S&L Price]]","v":0}]
[null,null,20,null,"Minding Our Manners",1,"Saying Please and Thank You","eBook","978-1-4824-1729-6",2015,"January 2015",null,null,"Author","Maria Nelson",null,null,2,null,"B","490L","Grade Pre-K - K","Grade Pre-K - 1","Learning to speak in a polite manner can be tough. Sometimes, people receive gifts they don’t like, don’t want to help out at home, or are just in a hurry! Readers learn that politeness is easy to spread with just a few simple words—“please” and “thank you.” Taking the time to thank someone lets him or her know they are appreciated. Saying “please” shows a similar respect. Easy-to-read language aids beginning readers navigating both text and good manners for the first time.","English",22.6,16.95,"395.1","24 pp.",{"$f":"Table1[[#This Row],['# Books]]*Table1[[#This Row],[QTY]]","v":0},{"$f":"Table1[[#This Row],[QTY]]*Table1[[#This Row],[S&L Price]]","v":0}]
[null,null,20,null,"Minding Our Manners",1,"Telling the Truth","Library Bound Book","978-1-4824-1730-2",2015,"January 2015","Library","7.000 X 7.000","Author","Reese Donaghey",null,null,2,null,"B","430L","Grade Pre-K - K","Grade Pre-K - 1","Telling the truth can be difficult and upsetting, especially if the outcome could cause trouble. A lie might seem the easier course when you’ve broken your brother’s favorite toy or haven’t yet cleaned your room, though you were asked to. Readers are introduced to the definition of a lie through accessible language and real-life examples. Then, the benefits of truth telling are presented to readers in a way that’s easy to understand and apply to their lives immediately. Full-color photographs accompany the text to help readers identify with the outcomes of a lie and the reasons to tell the truth instead.","English",22.6,16.95,"177","24 pp.",{"$f":"Table1[[#This Row],['# Books]]*Table1[[#This Row],[QTY]]","v":0},{"$f":"Table1[[#This Row],[QTY]]*Table1[[#This Row],[S&L Price]]","v":0}]
[null,null,20,null,"Minding Our Manners",1,"Telling the Truth","eBook","978-1-4824-1733-3",2015,"January 2015",null,null,"Author","Reese Donaghey",null,null,2,null,"B","430L","Grade Pre-K - K","Grade Pre-K - 1","Telling the truth can be difficult and upsetting, especially if the outcome could cause trouble. A lie might seem the easier course when you’ve broken your brother’s favorite toy or haven’t yet cleaned your room, though you were asked to. Readers are introduced to the definition of a lie through accessible language and real-life examples. Then, the benefits of truth telling are presented to readers in a way that’s easy to understand and apply to their lives immediately. Full-color photographs accompany the text to help readers identify with the outcomes of a lie and the reasons to tell the truth instead.","English",22.6,16.95,"177","24 pp.",{"$f":"Table1[[#This Row],['# Books]]*Table1[[#This Row],[QTY]]","v":0},{"$f":"Table1[[#This Row],[QTY]]*Table1[[#This Row],[S&L Price]]","v":0}]
[null,null,21,null,"An Animal Family (Set of 12 Titles)",12,"An Animal Family (Set of 12 Titles)","Library Set","978-1-4824-6490-0",2018,"August 2017","Library","7.625 X 7.125",null,"",null,null,null,null,null,null,"Grade K","Grade Pre-K - 2","Baby animals are an important part of an animal family. Watching cubs become bears and foals grow into horses is an important science lesson, but also a good introduction to how animals make their own families, too! This early reader series uses simple but informative text paired with full-color photographs to show different animals caring for their young. From pigs and piglets on a farm to the seals and dolphins that care for their young in the ocean, readers will love exploring how animals of all shapes and sizes live and grow together.","English",271.2,203.4,null,"24 pp.",{"$f":"Table1[[#This Row],['# Books]]*Table1[[#This Row],[QTY]]","v":0},{"$f":"Table1[[#This Row],[QTY]]*Table1[[#This Row],[S&L Price]]","v":0}]
[null,null,21,null,"An Animal Family (NEW Set of 6 Titles)",6,"An Animal Family (NEW Set of 6 Titles)","Library Set","978-1-4824-6487-0",2018,"August 2017","Library","7.625 X 7.125",null,"",null,null,null,null,null,null,"Grade K","Grade Pre-K - 2","When it comes to cute, the only thing better than animals are baby animals! From baby owlets to bear cubs, the smaller animals are the fuzzier and cuter they look. This innovative early reader series takes a look at the life cycles of some of nature’s most interesting animals, studying ape mothers as they care for their young babies and dolphins tending to their calves in the ocean. Through full-color photographs paired with accessible text, young readers get an up-close look at the animal kingdom they’ll never forget, watching animals of all kinds come together as a family.","English",135.6,101.7,null,"24 pp.",{"$f":"Table1[[#This Row],['# Books]]*Table1[[#This Row],[QTY]]","v":0},{"$f":"Table1[[#This Row],[QTY]]*Table1[[#This Row],[S&L Price]]","v":0}]
[null,null,21,null,"An Animal Family",1,"Apes and Babies","Library Bound Book","978-1-4824-6367-5",2018,"August 2017","Library","7.625 X 7.125","Author","Adelaide Redwood",null,null,null,null,"C",null,"Grade K","Grade Pre-K - 2","There’s nothing cuter than an animal family, especially a family of adorable apes! This charming book safely puts young learners into the wilds of nature to see how apes take care of their young offspring. Beginning readers will love the full-color photographs of cute baby apes as they learn to play and follow their mothers around. While the adult apes keep them safe, these babies are learning all about the world around them, whether in captivity in a zoo or in the world’s dense jungles.","English",22.6,16.95,"599.8--dc23","24 pp.",{"$f":"Table1[[#This Row],['# Books]]*Table1[[#This Row],[QTY]]","v":0},{"$f":"Table1[[#This Row],[QTY]]*Table1[[#This Row],[S&L Price]]","v":0}]
[null,null,21,null,"An Animal Family",1,"Apes and Babies","eBook","978-1-4824-6368-2",2018,"August 2017",null,null,"Author","Adelaide Redwood",null,null,null,null,"C",null,"Grade K","Grade Pre-K - 2","There’s nothing cuter than an animal family, especially a family of adorable apes! This charming book safely puts young learners into the wilds of nature to see how apes take care of their young offspring. Beginning readers will love the full-color photographs of cute baby apes as they learn to play and follow their mothers around. While the adult apes keep them safe, these babies are learning all about the world around them, whether in captivity in a zoo or in the world’s dense jungles.","English",22.6,16.95,"599.8--dc23","24 pp.",{"$f":"Table1[[#This Row],['# Books]]*Table1[[#This Row],[QTY]]","v":0},{"$f":"Table1[[#This Row],[QTY]]*Table1[[#This Row],[S&L Price]]","v":0}]
[null,null,21,null,"An Animal Family",1,"Bears and Cubs","Library Bound Book","978-1-4824-6371-2",2018,"August 2017","Library","7.625 X 7.125","Author","Polly LeChance",null,null,null,null,"C",null,"Grade K","Grade Pre-K - 2","Bears are fierce creatures that hunt with their huge claws and jaws, but much of that hunting is for the benefit of their adorable cubs. These fuzzy woodland cubs are as cute as can be, and their mothers are very protective of these babies as they grow and develop into full-grown bears. Full-color photographs and accessible text aid young readers in their understanding of this furry animal family, both at play and working together to survive in the wilds of nature.","English",22.6,16.95,"599.78--dc23","24 pp.",{"$f":"Table1[[#This Row],['# Books]]*Table1[[#This Row],[QTY]]","v":0},{"$f":"Table1[[#This Row],[QTY]]*Table1[[#This Row],[S&L Price]]","v":0}]
[null,null,21,null,"An Animal Family",1,"Bears and Cubs","eBook","978-1-4824-6372-9",2018,"August 2017",null,null,"Author","Polly LeChance",null,null,null,null,"C",null,"Grade K","Grade Pre-K - 2","Bears are fierce creatures that hunt with their huge claws and jaws, but much of that hunting is for the benefit of their adorable cubs. These fuzzy woodland cubs are as cute as can be, and their mothers are very protective of these babies as they grow and develop into full-grown bears. Full-color photographs and accessible text aid young readers in their understanding of this furry animal family, both at play and working together to survive in the wilds of nature.","English",22.6,16.95,"599.78--dc23","24 pp.",{"$f":"Table1[[#This Row],['# Books]]*Table1[[#This Row],[QTY]]","v":0},{"$f":"Table1[[#This Row],[QTY]]*Table1[[#This Row],[S&L Price]]","v":0}]
[null,null,21,null,"An Animal Family",1,"Chickens and Chicks","Library Bound Book","978-1-4824-3773-7",2016,"January 2016","Library","7.125 X 7.625","Author","Emilia Hendrix",0.9,0.5,null,null,"C",null,"Grade K","Grade Pre-K - 2","Chickens can’t fly, but they sure know how to raise a family! This exciting book shows how chickens take care of their chicks. From laying eggs to watching them hatch and caring for the newborn chicks, this book takes emerging readers through the life cycle of these interesting animals. Colorful photographs paired with accessible text show how these feathered friends live on farms and how hens take care of their chicks, making sure they grow up to raise a family of their own!","English",22.6,16.95,"636.5—d23","24 pp.",{"$f":"Table1[[#This Row],['# Books]]*Table1[[#This Row],[QTY]]","v":0},{"$f":"Table1[[#This Row],[QTY]]*Table1[[#This Row],[S&L Price]]","v":0}]
[null,null,21,null,"An Animal Family",1,"Chickens and Chicks","eBook","978-1-4824-3774-4",2016,"January 2016",null,null,"Author","Emilia Hendrix",0.9,0.5,null,null,"C",null,"Grade K","Grade Pre-K - 2","Chickens can’t fly, but they sure know how to raise a family! This exciting book shows how chickens take care of their chicks. From laying eggs to watching them hatch and caring for the newborn chicks, this book takes emerging readers through the life cycle of these interesting animals. Colorful photographs paired with accessible text show how these feathered friends live on farms and how hens take care of their chicks, making sure they grow up to raise a family of their own!","English",22.6,16.95,"636.5—d23","24 pp.",{"$f":"Table1[[#This Row],['# Books]]*Table1[[#This Row],[QTY]]","v":0},{"$f":"Table1[[#This Row],[QTY]]*Table1[[#This Row],[S&L Price]]","v":0}]
[null,null,21,null,"An Animal Family",1,"Deer and Fawns","Library Bound Book","978-1-4824-6375-0",2018,"August 2017","Library","7.625 X 7.125","Author","Shep Fields",null,null,null,null,"C",null,"Grade K","Grade Pre-K - 2","Fawns may look delicate, but once these frail young creatures grow up, they become strong bucks and does bounding through the forest searching for food. This exciting book tracks that life journey as mother deer care for their young, teaching them how to become majestic forest creatures. Accessible text paired with amazing full-color photographs of these animal families let young readers explore the world of some of nature’s most interesting—and beautiful—animals.","English",22.6,16.95,"599.65--dc23","24 pp.",{"$f":"Table1[[#This Row],['# Books]]*Table1[[#This Row],[QTY]]","v":0},{"$f":"Table1[[#This Row],[QTY]]*Table1[[#This Row],[S&L Price]]","v":0}]
[null,null,21,null,"An Animal Family",1,"Deer and Fawns","eBook","978-1-4824-6376-7",2018,"August 2017",null,null,"Author","Shep Fields",null,null,null,null,"C",null,"Grade K","Grade Pre-K - 2","Fawns may look delicate, but once these frail young creatures grow up, they become strong bucks and does bounding through the forest searching for food. This exciting book tracks that life journey as mother deer care for their young, teaching them how to become majestic forest creatures. Accessible text paired with amazing full-color photographs of these animal families let young readers explore the world of some of nature’s most interesting—and beautiful—animals.","English",22.6,16.95,"599.65--dc23","24 pp.",{"$f":"Table1[[#This Row],['# Books]]*Table1[[#This Row],[QTY]]","v":0},{"$f":"Table1[[#This Row],[QTY]]*Table1[[#This Row],[S&L Price]]","v":0}]
[null,null,21,null,"An Animal Family",1,"Dolphins and Calves","Library Bound Book","978-1-4824-6379-8",2018,"August 2017","Library","7.625 X 7.125","Author","Mike Rodrigo-Gomez",null,null,null,null,"C",null,"Grade K","Grade Pre-K - 2","Dolphins are very smart animals, and that means they know how to take care of their young. This charming book explores the underwater world of these amazing aquatic mammals, showing how dolphin mothers care for their young, how they eat, and how young calves like to play. Through vibrant full-color photographs paired with accessible text, beginning readers embrace the wonders of nature as they discover important facts about the dolphin’s life cycle.","English",22.6,16.95,"599.53’4--dc23","24 pp.",{"$f":"Table1[[#This Row],['# Books]]*Table1[[#This Row],[QTY]]","v":0},{"$f":"Table1[[#This Row],[QTY]]*Table1[[#This Row],[S&L Price]]","v":0}]
[null,null,21,null,"An Animal Family",1,"Dolphins and Calves","eBook","978-1-4824-6380-4",2018,"August 2017",null,null,"Author","Mike Rodrigo-Gomez",null,null,null,null,"C",null,"Grade K","Grade Pre-K - 2","Dolphins are very smart animals, and that means they know how to take care of their young. This charming book explores the underwater world of these amazing aquatic mammals, showing how dolphin mothers care for their young, how they eat, and how young calves like to play. Through vibrant full-color photographs paired with accessible text, beginning readers embrace the wonders of nature as they discover important facts about the dolphin’s life cycle.","English",22.6,16.95,"599.53’4--dc23","24 pp.",{"$f":"Table1[[#This Row],['# Books]]*Table1[[#This Row],[QTY]]","v":0},{"$f":"Table1[[#This Row],[QTY]]*Table1[[#This Row],[S&L Price]]","v":0}]
[null,null,21,null,"An Animal Family",1,"Foxes and Kits","Library Bound Book","978-1-4824-6383-5",2018,"August 2017","Library","7.625 X 7.125","Author","Jose Ventana",null,null,null,null,"C",null,"Grade K","Grade Pre-K - 2","Fast forest animals like foxes are often hard to spot, and that's for a good reason. Staying out of sight means staying out of the grasp of fierce predators, and baby foxes are animals that need protecting. Young kits are as cute as they are vulnerable, and they need to stay away from anything that might make it a furry dinner. This book show beginning readers how fox mothers care for their young through accessible text and colorful photographs that show how these animals live their lives on the forest floor.","English",22.6,16.95,"599.775--dc23","24 pp.",{"$f":"Table1[[#This Row],['# Books]]*Table1[[#This Row],[QTY]]","v":0},{"$f":"Table1[[#This Row],[QTY]]*Table1[[#This Row],[S&L Price]]","v":0}]
[null,null,21,null,"An Animal Family",1,"Foxes and Kits","eBook","978-1-4824-6384-2",2018,"August 2017",null,null,"Author","Jose Ventana",null,null,null,null,"C",null,"Grade K","Grade Pre-K - 2","Fast forest animals like foxes are often hard to spot, and that's for a good reason. Staying out of sight means staying out of the grasp of fierce predators, and baby foxes are animals that need protecting. Young kits are as cute as they are vulnerable, and they need to stay away from anything that might make it a furry dinner. This book show beginning readers how fox mothers care for their young through accessible text and colorful photographs that show how these animals live their lives on the forest floor.","English",22.6,16.95,"599.775--dc23","24 pp.",{"$f":"Table1[[#This Row],['# Books]]*Table1[[#This Row],[QTY]]","v":0},{"$f":"Table1[[#This Row],[QTY]]*Table1[[#This Row],[S&L Price]]","v":0}]
[null,null,21,null,"An Animal Family",1,"Horses and Foals","Library Bound Book","978-1-4824-3777-5",2016,"January 2016","Library","7.125 X 7.625","Author","Emilia Hendrix",0.9,0.5,null,null,"C",null,"Grade K","Grade Pre-K - 2","Horses are very fast, majestic creatures that love taking care of their babies. Early readers learn all about these amazing animals and how they live their lives. Accessible text paired with bright photographs show horses running, eating, and raising their foals. Readers learn fun facts, like how most foals are born in spring. Later, readers take in the sight of foals and horses living together as a family as the babies learn to stand and take their first steps!","English",22.6,16.95,"636.1—d23","24 pp.",{"$f":"Table1[[#This Row],['# Books]]*Table1[[#This Row],[QTY]]","v":0},{"$f":"Table1[[#This Row],[QTY]]*Table1[[#This Row],[S&L Price]]","v":0}]
[null,null,21,null,"An Animal Family",1,"Horses and Foals","eBook","978-1-4824-3778-2",2016,"January 2016",null,null,"Author","Emilia Hendrix",0.9,0.5,null,null,"C",null,"Grade K","Grade Pre-K - 2","Horses are very fast, majestic creatures that love taking care of their babies. Early readers learn all about these amazing animals and how they live their lives. Accessible text paired with bright photographs show horses running, eating, and raising their foals. Readers learn fun facts, like how most foals are born in spring. Later, readers take in the sight of foals and horses living together as a family as the babies learn to stand and take their first steps!","English",22.6,16.95,"636.1—d23","24 pp.",{"$f":"Table1[[#This Row],['# Books]]*Table1[[#This Row],[QTY]]","v":0},{"$f":"Table1[[#This Row],[QTY]]*Table1[[#This Row],[S&L Price]]","v":0}]
[null,null,21,null,"An Animal Family",1,"Koalas and Joeys","Library Bound Book","978-1-4824-3781-2",2016,"January 2016","Library","7.125 X 7.625","Author","Emilia Hendrix",0.9,0.5,null,null,"C",null,"Grade K","Grade Pre-K - 2","Koalas are furry animals that spend lots of time in trees. These cute creatures have one joey at a time, which means mother and baby spend lots of time together while the joey grows. This exciting book takes a look at the lives of mother koalas and their tiny joeys, from their first moments alive and every step along the way as they grow in the pouch of their caring mothers. Accessible text paired with colorful photographs takes beginning readers on a journey to see where these amazing animals live in the wild.","English",22.6,16.95,"599.2'5—dc23","24 pp.",{"$f":"Table1[[#This Row],['# Books]]*Table1[[#This Row],[QTY]]","v":0},{"$f":"Table1[[#This Row],[QTY]]*Table1[[#This Row],[S&L Price]]","v":0}]
[null,null,21,null,"An Animal Family",1,"Koalas and Joeys","eBook","978-1-4824-3782-9",2016,"January 2016",null,null,"Author","Emilia Hendrix",0.9,0.5,null,null,"C",null,"Grade K","Grade Pre-K - 2","Koalas are furry animals that spend lots of time in trees. These cute creatures have one joey at a time, which means mother and baby spend lots of time together while the joey grows. This exciting book takes a look at the lives of mother koalas and their tiny joeys, from their first moments alive and every step along the way as they grow in the pouch of their caring mothers. Accessible text paired with colorful photographs takes beginning readers on a journey to see where these amazing animals live in the wild.","English",22.6,16.95,"599.2'5—dc23","24 pp.",{"$f":"Table1[[#This Row],['# Books]]*Table1[[#This Row],[QTY]]","v":0},{"$f":"Table1[[#This Row],[QTY]]*Table1[[#This Row],[S&L Price]]","v":0}]
[null,null,21,null,"An Animal Family",1,"Owls and Owlets","Library Bound Book","978-1-4824-6387-3",2018,"August 2017","Library","7.625 X 7.125","Author","Gustavo Sandoval",null,null,null,null,"C",null,"Grade K","Grade Pre-K - 2","Owls are amazing animals in their own right, but baby owlets are unbelievably cute! These bright-eyed creatures are great nocturnal hunters, stalking prey with their incredible eyesight. This charming book explores how they live their lives and survive in the trees. With vibrant full-color photographs and accessible text, this book brings young readers into the wild world of these feathered creatures, exploring how owlets become owls in an engaging introduction to the concept of life cycles.","English",22.6,16.95,"598.9’7--dc23","24 pp.",{"$f":"Table1[[#This Row],['# Books]]*Table1[[#This Row],[QTY]]","v":0},{"$f":"Table1[[#This Row],[QTY]]*Table1[[#This Row],[S&L Price]]","v":0}]
[null,null,21,null,"An Animal Family",1,"Owls and Owlets","eBook","978-1-4824-6388-0",2018,"August 2017",null,null,"Author","Gustavo Sandoval",null,null,null,null,"C",null,"Grade K","Grade Pre-K - 2","Owls are amazing animals in their own right, but baby owlets are unbelievably cute! These bright-eyed creatures are great nocturnal hunters, stalking prey with their incredible eyesight. This charming book explores how they live their lives and survive in the trees. With vibrant full-color photographs and accessible text, this book brings young readers into the wild world of these feathered creatures, exploring how owlets become owls in an engaging introduction to the concept of life cycles.","English",22.6,16.95,"598.9’7--dc23","24 pp.",{"$f":"Table1[[#This Row],['# Books]]*Table1[[#This Row],[QTY]]","v":0},{"$f":"Table1[[#This Row],[QTY]]*Table1[[#This Row],[S&L Price]]","v":0}]
[null,null,21,null,"An Animal Family",1,"Pigs and Piglets","Library Bound Book","978-1-4824-3785-0",2016,"January 2016","Library","7.125 X 7.625","Author","Emilia Hendrix",0.9,0.5,null,null,"C",null,"Grade K","Grade Pre-K - 2","Cute baby piglets are quite a sight to see, and this book gives beginning readers a look at their everyday lives. These super smart animals have a great sense of smell, and readers learn all about how they use that sense of smell to find food. Through accessible text and vivid photographs, readers see how pigs roll in mud to keep cool and how mother sows take care of their piglets, learning lots about these amazing animals along the way.","English",22.6,16.95,"636.4’07—d23","24 pp.",{"$f":"Table1[[#This Row],['# Books]]*Table1[[#This Row],[QTY]]","v":0},{"$f":"Table1[[#This Row],[QTY]]*Table1[[#This Row],[S&L Price]]","v":0}]
[null,null,21,null,"An Animal Family",1,"Pigs and Piglets","eBook","978-1-4824-3786-7",2016,"January 2016",null,null,"Author","Emilia Hendrix",0.9,0.5,null,null,"C",null,"Grade K","Grade Pre-K - 2","Cute baby piglets are quite a sight to see, and this book gives beginning readers a look at their everyday lives. These super smart animals have a great sense of smell, and readers learn all about how they use that sense of smell to find food. Through accessible text and vivid photographs, readers see how pigs roll in mud to keep cool and how mother sows take care of their piglets, learning lots about these amazing animals along the way.","English",22.6,16.95,"636.4’07—d23","24 pp.",{"$f":"Table1[[#This Row],['# Books]]*Table1[[#This Row],[QTY]]","v":0},{"$f":"Table1[[#This Row],[QTY]]*Table1[[#This Row],[S&L Price]]","v":0}]
[null,null,21,null,"An Animal Family",1,"Seals and Pups","Library Bound Book","978-1-4824-3789-8",2016,"January 2016","Library","7.125 X 7.625","Author","Emilia Hendrix",0.9,0.5,null,null,"C",null,"Grade K","Grade Pre-K - 2","Seals live on both land and sea, and these adorable animals take special care with their pups. Early readers will discover how seals love to eat fish, and how mother seals bring food to their newborn pups. These playful pups live as part of a colony, meaning these animals often have one big happy family to live in! Through simple text paired with amazing photographs, readers will love diving into the world of seals, watching them play and live their lives on the water.","English",22.6,16.95,"599.79—dc23","24 pp.",{"$f":"Table1[[#This Row],['# Books]]*Table1[[#This Row],[QTY]]","v":0},{"$f":"Table1[[#This Row],[QTY]]*Table1[[#This Row],[S&L Price]]","v":0}]
[null,null,21,null,"An Animal Family",1,"Seals and Pups","eBook","978-1-4824-3790-4",2016,"January 2016",null,null,"Author","Emilia Hendrix",0.9,0.5,null,null,"C",null,"Grade K","Grade Pre-K - 2","Seals live on both land and sea, and these adorable animals take special care with their pups. Early readers will discover how seals love to eat fish, and how mother seals bring food to their newborn pups. These playful pups live as part of a colony, meaning these animals often have one big happy family to live in! Through simple text paired with amazing photographs, readers will love diving into the world of seals, watching them play and live their lives on the water.","English",22.6,16.95,"599.79—dc23","24 pp.",{"$f":"Table1[[#This Row],['# Books]]*Table1[[#This Row],[QTY]]","v":0},{"$f":"Table1[[#This Row],[QTY]]*Table1[[#This Row],[S&L Price]]","v":0}]
[null,null,21,null,"An Animal Family",1,"Tigers and Cubs","Library Bound Book","978-1-4824-3793-5",2016,"January 2016","Library","7.125 X 7.625","Author","Emilia Hendrix",1,0.5,null,null,"C",null,"Grade K","Grade Pre-K - 2","Tiger cubs may be cute, but give them a couple years and they’re just as fierce as their protective mothers! This exciting book gives budding readers a first look at the lives these incredible cats live, searching for food and guarding their territory. Readers learn that mother tigers take care of their cubs, who can’t even see at birth! Colorful photographs also show tigers in zoos, where readers learn that people take care of and study these cubs as they grow older.","English",22.6,16.95,"599.756—dc23","24 pp.",{"$f":"Table1[[#This Row],['# Books]]*Table1[[#This Row],[QTY]]","v":0},{"$f":"Table1[[#This Row],[QTY]]*Table1[[#This Row],[S&L Price]]","v":0}]
[null,null,21,null,"An Animal Family",1,"Tigers and Cubs","eBook","978-1-4824-3794-2",2016,"January 2016",null,null,"Author","Emilia Hendrix",1,0.5,null,null,"C",null,"Grade K","Grade Pre-K - 2","Tiger cubs may be cute, but give them a couple years and they’re just as fierce as their protective mothers! This exciting book gives budding readers a first look at the lives these incredible cats live, searching for food and guarding their territory. Readers learn that mother tigers take care of their cubs, who can’t even see at birth! Colorful photographs also show tigers in zoos, where readers learn that people take care of and study these cubs as they grow older.","English",22.6,16.95,"599.756—dc23","24 pp.",{"$f":"Table1[[#This Row],['# Books]]*Table1[[#This Row],[QTY]]","v":0},{"$f":"Table1[[#This Row],[QTY]]*Table1[[#This Row],[S&L Price]]","v":0}]
[null,null,22,null,"Math Is Everywhere! (Set of 12 Titles)",12,"Math Is Everywhere! (Set of 12 Titles)","Library Set","978-1-4824-5546-5",2017,"January 2017","Library","7.125 X 7.625",null,"",null,null,null,null,null,null,"Grade K","Grade Pre-K - 2","Every trip to the store, park, and zoo, or even a playdate, involves math. Math is just part of life—especially the fun part! This collection presents fundamental math concepts, including numbers, shapes, and spatial relationships, in the most appealing ways. Each math topic is woven into an entertaining narrative, both instructive and engaging, so the beginner reader as well as the beginner mathematician can understand how math is truly everywhere.","English",271.2,203.4,null,"24 pp.",{"$f":"Table1[[#This Row],['# Books]]*Table1[[#This Row],[QTY]]","v":0},{"$f":"Table1[[#This Row],[QTY]]*Table1[[#This Row],[S&L Price]]","v":0}]
[null,null,22,null,"Math Is Everywhere! (NEW Set of 6 Titles)",6,"Math Is Everywhere! (NEW Set of 6 Titles)","Library Set","978-1-4824-5543-4",2017,"January 2017","Library","7.125 X 7.625",null,"",null,null,null,null,null,null,"Grade K","Grade Pre-K - 2","There’s no escaping math in the world around us, but readers won’t want to when they encounter math in such entertaining places as a zoo, a soccer game, and a toy store. In this continuation of our popular series, young mathematicians are encouraged to recognize important and at-level math concepts, such as counting, sorting, and addition, in everyday situations. Each setting, brought to life with eye-catching photographs, will motivate readers to exercise math skills in their own lives.","English",135.6,101.7,null,"24 pp.",{"$f":"Table1[[#This Row],['# Books]]*Table1[[#This Row],[QTY]]","v":0},{"$f":"Table1[[#This Row],[QTY]]*Table1[[#This Row],[S&L Price]]","v":0}]
[null,null,22,null,"Math Is Everywhere!",1,"Math at the Game","Library Bound Book","978-1-4824-5484-0",2017,"January 2017","Library","7.625 X 7.125","Author","Elizabeth Powell",0.9,0.5,null,null,"C",null,"Grade K","Grade Pre-K - 2","Mathematics is a major part of sports, from scores to spatial relationships. In this fun narrative, readers tag along to a soccer game and are invited to count objects, identify shapes, and compare quantities. Simple text, along with colorful photographs, aid in reading comprehension and help readers focus on the achievable concepts.","English",22.6,16.95,"513--dc23","24 pp.",{"$f":"Table1[[#This Row],['# Books]]*Table1[[#This Row],[QTY]]","v":0},{"$f":"Table1[[#This Row],[QTY]]*Table1[[#This Row],[S&L Price]]","v":0}]
[null,null,22,null,"Math Is Everywhere!",1,"Math at the Game","eBook","978-1-4824-5485-7",2017,"January 2017",null,null,"Author","Elizabeth Powell",null,null,null,null,"C",null,"Grade K","Grade Pre-K - 2","Mathematics is a major part of sports, from scores to spatial relationships. In this fun narrative, readers tag along to a soccer game and are invited to count objects, identify shapes, and compare quantities. Simple text, along with colorful photographs, aid in reading comprehension and help readers focus on the achievable concepts.","English",22.6,16.95,"513--dc23","24 pp.",{"$f":"Table1[[#This Row],['# Books]]*Table1[[#This Row],[QTY]]","v":0},{"$f":"Table1[[#This Row],[QTY]]*Table1[[#This Row],[S&L Price]]","v":0}]
[null,null,22,null,"Math Is Everywhere!",1,"Math at the Park","Library Bound Book","978-1-4824-4617-3",2017,"August 2016","Library","7.625 X 7.125","Author","Claire Romaine",0.9,0.5,null,null,"C",null,"Grade K","Grade Pre-K - 2","Every day, we’re faced with mathematical situations, so much so that we don’t even recognize them. This fun volume opens readers’ eyes to the math in their world through a walk in the park. They’ll find shapes, use numbers, compare sizes, and identify the positions of objects with help from a friendly narrator. Carefully selected photographs support the comprehensible text.","English",22.6,16.95,"510--dc23","24 pp.",{"$f":"Table1[[#This Row],['# Books]]*Table1[[#This Row],[QTY]]","v":0},{"$f":"Table1[[#This Row],[QTY]]*Table1[[#This Row],[S&L Price]]","v":0}]
[null,null,22,null,"Math Is Everywhere!",1,"Math at the Park","eBook","978-1-4824-4611-1",2017,"August 2016",null,null,"Author","Claire Romaine",0.9,0.5,null,null,"C",null,"Grade K","Grade Pre-K - 2","Every day, we’re faced with mathematical situations, so much so that we don’t even recognize them. This fun volume opens readers’ eyes to the math in their world through a walk in the park. They’ll find shapes, use numbers, compare sizes, and identify the positions of objects with help from a friendly narrator. Carefully selected photographs support the comprehensible text.","English",22.6,16.95,"510--dc23","24 pp.",{"$f":"Table1[[#This Row],['# Books]]*Table1[[#This Row],[QTY]]","v":0},{"$f":"Table1[[#This Row],[QTY]]*Table1[[#This Row],[S&L Price]]","v":0}]
[null,null,22,null,"Math Is Everywhere!",1,"Math at the Store","Library Bound Book","978-1-4824-5496-3",2017,"January 2017","Library","7.625 X 7.125","Author","Elizabeth Powell",0.9,0.5,null,null,"B",null,"Grade K","Grade Pre-K - 2","Math is fun when toys are teaching tools! This entertaining and accessible book covers indispensable concepts such as shape recognition, number words, size comparison, and counting within a story about searching for a gift in a toy store. Carefully selected photographs closely correlate with the text and are sure to appeal to young readers.","English",22.6,16.95,"513.2--dc23","24 pp.",{"$f":"Table1[[#This Row],['# Books]]*Table1[[#This Row],[QTY]]","v":0},{"$f":"Table1[[#This Row],[QTY]]*Table1[[#This Row],[S&L Price]]","v":0}]
[null,null,22,null,"Math Is Everywhere!",1,"Math at the Store","eBook","978-1-4824-5497-0",2017,"January 2017",null,null,"Author","Elizabeth Powell",null,null,null,null,"B",null,"Grade K","Grade Pre-K - 2","Math is fun when toys are teaching tools! This entertaining and accessible book covers indispensable concepts such as shape recognition, number words, size comparison, and counting within a story about searching for a gift in a toy store. Carefully selected photographs closely correlate with the text and are sure to appeal to young readers.","English",22.6,16.95,"513.2--dc23","24 pp.",{"$f":"Table1[[#This Row],['# Books]]*Table1[[#This Row],[QTY]]","v":0},{"$f":"Table1[[#This Row],[QTY]]*Table1[[#This Row],[S&L Price]]","v":0}]
[null,null,22,null,"Math Is Everywhere!",1,"Math at the Zoo","Library Bound Book","978-1-4824-5502-1",2017,"January 2017","Library","7.625 X 7.125","Author","Elizabeth Powell",0.9,0.5,null,null,"B",null,"Grade K","Grade Pre-K - 2","In this entertaining volume, a class trip to the zoo is the backdrop for introducing and reviewing foundational math concepts such as comparing quantities, sizes, and lengths. Readers will love seeing their favorite animals such as tigers, giraffes, penguins, monkeys, and even a baby koala! They’ll be encouraged to recognize mathematics in similar situations in their own lives.","English",22.6,16.95,"513--dc23","24 pp.",{"$f":"Table1[[#This Row],['# Books]]*Table1[[#This Row],[QTY]]","v":0},{"$f":"Table1[[#This Row],[QTY]]*Table1[[#This Row],[S&L Price]]","v":0}]
[null,null,22,null,"Math Is Everywhere!",1,"Math at the Zoo","eBook","978-1-4824-5504-5",2017,"January 2017",null,null,"Author","Elizabeth Powell",null,null,null,null,"B",null,"Grade K","Grade Pre-K - 2","In this entertaining volume, a class trip to the zoo is the backdrop for introducing and reviewing foundational math concepts such as comparing quantities, sizes, and lengths. Readers will love seeing their favorite animals such as tigers, giraffes, penguins, monkeys, and even a baby koala! They’ll be encouraged to recognize mathematics in similar situations in their own lives.","English",22.6,16.95,"513--dc23","24 pp.",{"$f":"Table1[[#This Row],['# Books]]*Table1[[#This Row],[QTY]]","v":0},{"$f":"Table1[[#This Row],[QTY]]*Table1[[#This Row],[S&L Price]]","v":0}]
[null,null,22,null,"Math Is Everywhere!",1,"Math by the Ocean","Library Bound Book","978-1-4824-5510-6",2017,"January 2017","Library","7.625 X 7.125","Author","Keiran Shah",0.9,0.5,null,null,"C",null,"Grade K","Grade Pre-K - 2","It’s time to take math out of the classroom and into the real world. In this charming volume, math concepts are easy to understand as they’re woven into a story about a day at the beach. Readers will see shapes in the sand, add beach balls, and even count and learn about marine creatures. Helpful photographs closely support text and vocabulary comprehension.","English",22.6,16.95,"513--dc23","24 pp.",{"$f":"Table1[[#This Row],['# Books]]*Table1[[#This Row],[QTY]]","v":0},{"$f":"Table1[[#This Row],[QTY]]*Table1[[#This Row],[S&L Price]]","v":0}]
[null,null,22,null,"Math Is Everywhere!",1,"Math by the Ocean","eBook","978-1-4824-5440-6",2017,"January 2017",null,null,"Author","Keiran Shah",null,null,null,null,"C",null,"Grade K","Grade Pre-K - 2","It’s time to take math out of the classroom and into the real world. In this charming volume, math concepts are easy to understand as they’re woven into a story about a day at the beach. Readers will see shapes in the sand, add beach balls, and even count and learn about marine creatures. Helpful photographs closely support text and vocabulary comprehension.","English",22.6,16.95,"513--dc23","24 pp.",{"$f":"Table1[[#This Row],['# Books]]*Table1[[#This Row],[QTY]]","v":0},{"$f":"Table1[[#This Row],[QTY]]*Table1[[#This Row],[S&L Price]]","v":0}]
[null,null,22,null,"Math Is Everywhere!",1,"Math in the Garden","Library Bound Book","978-1-4824-5443-7",2017,"January 2017","Library","7.625 X 7.125","Author","Keiran Shah",0.9,0.5,null,null,"C",null,"Grade K","Grade Pre-K - 2","Grab a spade! It’s time to garden—and do math! Math is everywhere, as young mathematicians will understand as they read this brightly written book. They’ll add flowers, sort plants, and even learn some gardening vocabulary. Vivid photographs aid in both reading comprehension and math skill mastery.","English",22.6,16.95,"513--dc23","24 pp.",{"$f":"Table1[[#This Row],['# Books]]*Table1[[#This Row],[QTY]]","v":0},{"$f":"Table1[[#This Row],[QTY]]*Table1[[#This Row],[S&L Price]]","v":0}]
[null,null,22,null,"Math Is Everywhere!",1,"Math in the Garden","eBook","978-1-4824-5444-4",2017,"January 2017",null,null,"Author","Keiran Shah",null,null,null,null,"C",null,"Grade K","Grade Pre-K - 2","Grab a spade! It’s time to garden—and do math! Math is everywhere, as young mathematicians will understand as they read this brightly written book. They’ll add flowers, sort plants, and even learn some gardening vocabulary. Vivid photographs aid in both reading comprehension and math skill mastery.","English",22.6,16.95,"513--dc23","24 pp.",{"$f":"Table1[[#This Row],['# Books]]*Table1[[#This Row],[QTY]]","v":0},{"$f":"Table1[[#This Row],[QTY]]*Table1[[#This Row],[S&L Price]]","v":0}]
[null,null,22,null,"Math Is Everywhere!",1,"Math in the Kitchen","Library Bound Book","978-1-4824-5451-2",2017,"January 2017","Library","7.625 X 7.125","Author","Keiran Shah",0.9,0.5,null,null,"C",null,"Grade K","Grade Pre-K - 2","Can math be delicious? It is when math skills are used to make cookies! Bakers are mathematicians when they add eggs and tablespoons of butter, measure flour and sugar, and mix them all together to make delectable treats. Readers will love this volume’s tempting photos and instructive, yet accessible text.","English",22.6,16.95,"513--dc23","24 pp.",{"$f":"Table1[[#This Row],['# Books]]*Table1[[#This Row],[QTY]]","v":0},{"$f":"Table1[[#This Row],[QTY]]*Table1[[#This Row],[S&L Price]]","v":0}]
[null,null,22,null,"Math Is Everywhere!",1,"Math in the Kitchen","eBook","978-1-4824-5452-9",2017,"January 2017",null,null,"Author","Keiran Shah",null,null,null,null,"C",null,"Grade K","Grade Pre-K - 2","Can math be delicious? It is when math skills are used to make cookies! Bakers are mathematicians when they add eggs and tablespoons of butter, measure flour and sugar, and mix them all together to make delectable treats. Readers will love this volume’s tempting photos and instructive, yet accessible text.","English",22.6,16.95,"513--dc23","24 pp.",{"$f":"Table1[[#This Row],['# Books]]*Table1[[#This Row],[QTY]]","v":0},{"$f":"Table1[[#This Row],[QTY]]*Table1[[#This Row],[S&L Price]]","v":0}]
[null,null,22,null,"Math Is Everywhere!",1,"Math with Money","Library Bound Book","978-1-4824-4618-0",2017,"August 2016","Library","7.625 X 7.125","Author","Claire Romaine",0.9,0.5,null,null,"C",null,"Grade K","Grade Pre-K - 2","Money and its worth are an important part of the elementary math curriculum and a perfect way to review both numbers and addition. This accessible volume examines the value of coins—as the narrator wonders if there’s enough money to buy an ice cream treat! Colorful photographs illustrate the bright text, while the story succeeds in making math fun for the reader.","English",22.6,16.95,"513--dc23","24 pp.",{"$f":"Table1[[#This Row],['# Books]]*Table1[[#This Row],[QTY]]","v":0},{"$f":"Table1[[#This Row],[QTY]]*Table1[[#This Row],[S&L Price]]","v":0}]
[null,null,22,null,"Math Is Everywhere!",1,"Math with Money","eBook","978-1-4824-4612-8",2017,"August 2016",null,null,"Author","Claire Romaine",0.9,0.5,null,null,"C",null,"Grade K","Grade Pre-K - 2","Money and its worth are an important part of the elementary math curriculum and a perfect way to review both numbers and addition. This accessible volume examines the value of coins—as the narrator wonders if there’s enough money to buy an ice cream treat! Colorful photographs illustrate the bright text, while the story succeeds in making math fun for the reader.","English",22.6,16.95,"513--dc23","24 pp.",{"$f":"Table1[[#This Row],['# Books]]*Table1[[#This Row],[QTY]]","v":0},{"$f":"Table1[[#This Row],[QTY]]*Table1[[#This Row],[S&L Price]]","v":0}]
[null,null,22,null,"Math Is Everywhere!",1,"Math with Pets","Library Bound Book","978-1-4824-4619-7",2017,"August 2016","Library","7.625 X 7.125","Author","Claire Romaine",0.9,0.5,null,null,"C",null,"Grade K","Grade Pre-K - 2","The pet store is a perfect place to exercise math concepts! Readers will be delighted as this fun volume introduces them to parrots, kittens, puppies, and other animals while reviewing important standards of the math curriculum, such as size comparison, sorting, and numbers and counting. The high-interest topic—and the vivid accompanying photographs—is an accessible and enjoyable introduction or review of elementary math skills.","English",22.6,16.95,"510--dc23","24 pp.",{"$f":"Table1[[#This Row],['# Books]]*Table1[[#This Row],[QTY]]","v":0},{"$f":"Table1[[#This Row],[QTY]]*Table1[[#This Row],[S&L Price]]","v":0}]
[null,null,22,null,"Math Is Everywhere!",1,"Math with Pets","eBook","978-1-4824-4613-5",2017,"August 2016",null,null,"Author","Claire Romaine",0.9,0.5,null,null,"C",null,"Grade K","Grade Pre-K - 2","The pet store is a perfect place to exercise math concepts! Readers will be delighted as this fun volume introduces them to parrots, kittens, puppies, and other animals while reviewing important standards of the math curriculum, such as size comparison, sorting, and numbers and counting. The high-interest topic—and the vivid accompanying photographs—is an accessible and enjoyable introduction or review of elementary math skills.","English",22.6,16.95,"510--dc23","24 pp.",{"$f":"Table1[[#This Row],['# Books]]*Table1[[#This Row],[QTY]]","v":0},{"$f":"Table1[[#This Row],[QTY]]*Table1[[#This Row],[S&L Price]]","v":0}]
[null,null,22,null,"Math Is Everywhere!",1,"Math with Toys","Library Bound Book","978-1-4824-4620-3",2017,"August 2016","Library","7.625 X 7.125","Author","Rory McDonnell",0.8,0.5,null,null,"B",null,"Grade K","Grade Pre-K - 2","Math and toys—a perfect combination! This volume, full of high-interest and familiar toys, demonstrates to young readers how they can see mathematical concepts even in the midst of playtime. They’ll review Common Core math standards such as counting, sorting, comparing sizes, and identifying shapes and two-dimensional and three-dimensional objects. The bright, at-level text is mirrored by colorful photographs.","English",22.6,16.95,"510--dc23","24 pp.",{"$f":"Table1[[#This Row],['# Books]]*Table1[[#This Row],[QTY]]","v":0},{"$f":"Table1[[#This Row],[QTY]]*Table1[[#This Row],[S&L Price]]","v":0}]
[null,null,22,null,"Math Is Everywhere!",1,"Math with Toys","eBook","978-1-4824-4614-2",2017,"August 2016",null,null,"Author","Rory McDonnell",0.8,0.5,null,null,"B",null,"Grade K","Grade Pre-K - 2","Math and toys—a perfect combination! This volume, full of high-interest and familiar toys, demonstrates to young readers how they can see mathematical concepts even in the midst of playtime. They’ll review Common Core math standards such as counting, sorting, comparing sizes, and identifying shapes and two-dimensional and three-dimensional objects. The bright, at-level text is mirrored by colorful photographs.","English",22.6,16.95,"510--dc23","24 pp.",{"$f":"Table1[[#This Row],['# Books]]*Table1[[#This Row],[QTY]]","v":0},{"$f":"Table1[[#This Row],[QTY]]*Table1[[#This Row],[S&L Price]]","v":0}]
[null,null,22,null,"Math Is Everywhere!",1,"Math with Weather","Library Bound Book","978-1-4824-4621-0",2017,"August 2016","Library","7.625 X 7.125","Author","Rory McDonnell",0.8,0.5,null,null,"B",null,"Grade K","Grade Pre-K - 2","In this entertaining narrative, arithmetic and weather are connected topics. The story opens as the narrator wonders how to dress for a trip to the zoo. The reader reviews weather concepts as well as addition word problems through accessible text and helpful photographs. This valuable volume is a perfect addition to any elementary science and math collection.","English",22.6,16.95,"510--dc23","24 pp.",{"$f":"Table1[[#This Row],['# Books]]*Table1[[#This Row],[QTY]]","v":0},{"$f":"Table1[[#This Row],[QTY]]*Table1[[#This Row],[S&L Price]]","v":0}]
[null,null,22,null,"Math Is Everywhere!",1,"Math with Weather","eBook","978-1-4824-4615-9",2017,"August 2016",null,null,"Author","Rory McDonnell",0.8,0.5,null,null,"B",null,"Grade K","Grade Pre-K - 2","In this entertaining narrative, arithmetic and weather are connected topics. The story opens as the narrator wonders how to dress for a trip to the zoo. The reader reviews weather concepts as well as addition word problems through accessible text and helpful photographs. This valuable volume is a perfect addition to any elementary science and math collection.","English",22.6,16.95,"510--dc23","24 pp.",{"$f":"Table1[[#This Row],['# Books]]*Table1[[#This Row],[QTY]]","v":0},{"$f":"Table1[[#This Row],[QTY]]*Table1[[#This Row],[S&L Price]]","v":0}]
[null,null,22,null,"Math Is Everywhere!",1,"Math with Wheels","Library Bound Book","978-1-4824-4622-7",2017,"August 2016","Library","7.625 X 7.125","Author","Rory McDonnell",0.9,0.5,null,null,"C",null,"Grade K","Grade Pre-K - 2","Grab your bike—it’s time to ride. That’s the fun activity that begins this inviting book. The narrator looks for wheels in a ride around town, adding them as he goes and encouraging readers to do the same. He encounters friends on bikes with training wheels, a unicycle, and even a policeman on a motorcycle. Math is everywhere, even on wheels!","English",22.6,16.95,"510--dc23","24 pp.",{"$f":"Table1[[#This Row],['# Books]]*Table1[[#This Row],[QTY]]","v":0},{"$f":"Table1[[#This Row],[QTY]]*Table1[[#This Row],[S&L Price]]","v":0}]
[null,null,22,null,"Math Is Everywhere!",1,"Math with Wheels","eBook","978-1-4824-4616-6",2017,"August 2016",null,null,"Author","Rory McDonnell",0.9,0.5,null,null,"C",null,"Grade K","Grade Pre-K - 2","Grab your bike—it’s time to ride. That’s the fun activity that begins this inviting book. The narrator looks for wheels in a ride around town, adding them as he goes and encouraging readers to do the same. He encounters friends on bikes with training wheels, a unicycle, and even a policeman on a motorcycle. Math is everywhere, even on wheels!","English",22.6,16.95,"510--dc23","24 pp.",{"$f":"Table1[[#This Row],['# Books]]*Table1[[#This Row],[QTY]]","v":0},{"$f":"Table1[[#This Row],[QTY]]*Table1[[#This Row],[S&L Price]]","v":0}]
[null,null,23,null,"Fun on the Farm",6,"Fun on the Farm","Library Set","978-1-4824-5540-3",2017,"January 2017","Library","7.125 X 7.625",null,"",null,null,null,null,null,null,"Grade K","Grade Pre-K - 2","Many of the things people need to live in big cities come from farms of all shapes and sizes. From apple orchards to sheep farms and even fisheries, there are lots of different ways farmers grow the food and raise the animals we need to live. Using full-color photographs and accessible text, readers experience the fun sights of farms all over the country, learning more about how cows graze the grasslands on dairy farms and what kind of fish live in a fish farm.","English",135.6,101.7,null,"24 pp.",{"$f":"Table1[[#This Row],['# Books]]*Table1[[#This Row],[QTY]]","v":0},{"$f":"Table1[[#This Row],[QTY]]*Table1[[#This Row],[S&L Price]]","v":0}]
[null,null,23,null,"Fun on the Farm",1,"At the Crop Farm","Library Bound Book","978-1-4824-5514-4",2017,"January 2017","Library","7.625 X 7.125","Author","George Pendergast",0.9,0.5,null,null,"C",null,"Grade K","Grade Pre-K - 2","Farmers are responsible for many of the foods we eat. From beans to corn and even rice, farmers all around the world use their land to feed people. Through accessible text paired with colorful photographs, beginning readers will love taking a look at the lives of crop farmers tending to their fields. They’ll learn what season farmers plant in, how plants grow in different areas, and even a bit about hydroponics—growing plants with just water and no dirt at all!","English",22.6,16.95,"630--dc23","24 pp.",{"$f":"Table1[[#This Row],['# Books]]*Table1[[#This Row],[QTY]]","v":0},{"$f":"Table1[[#This Row],[QTY]]*Table1[[#This Row],[S&L Price]]","v":0}]
[null,null,23,null,"Fun on the Farm",1,"At the Crop Farm","eBook","978-1-4824-5515-1",2017,"January 2017",null,null,"Author","George Pendergast",null,null,null,null,"C",null,"Grade K","Grade Pre-K - 2","Farmers are responsible for many of the foods we eat. From beans to corn and even rice, farmers all around the world use their land to feed people. Through accessible text paired with colorful photographs, beginning readers will love taking a look at the lives of crop farmers tending to their fields. They’ll learn what season farmers plant in, how plants grow in different areas, and even a bit about hydroponics—growing plants with just water and no dirt at all!","English",22.6,16.95,"630--dc23","24 pp.",{"$f":"Table1[[#This Row],['# Books]]*Table1[[#This Row],[QTY]]","v":0},{"$f":"Table1[[#This Row],[QTY]]*Table1[[#This Row],[S&L Price]]","v":0}]
[null,null,23,null,"Fun on the Farm",1,"At the Dairy Farm","Library Bound Book","978-1-4824-5518-2",2017,"January 2017","Library","7.625 X 7.125","Author","George Pendergast",0.9,0.5,null,null,"C",null,"Grade K","Grade Pre-K - 2","Taking care of cows isn’t always easy, but the reward is great: milk! Dairy farms are an important food source. This book takes a look at how cows live on dairy farms. From grazing in fields to life in the barn and how they are milked, young readers will love learning about these amazing animals and how they help give us food. Using full-color photographs and accessible text, readers learn what cows eat, where milk comes from, and many of the foods we eat that come from milk.","English",22.6,16.95,"636.2’142--dc23","24 pp.",{"$f":"Table1[[#This Row],['# Books]]*Table1[[#This Row],[QTY]]","v":0},{"$f":"Table1[[#This Row],[QTY]]*Table1[[#This Row],[S&L Price]]","v":0}]
[null,null,23,null,"Fun on the Farm",1,"At the Dairy Farm","eBook","978-1-4824-5519-9",2017,"January 2017",null,null,"Author","George Pendergast",null,null,null,null,"C",null,"Grade K","Grade Pre-K - 2","Taking care of cows isn’t always easy, but the reward is great: milk! Dairy farms are an important food source. This book takes a look at how cows live on dairy farms. From grazing in fields to life in the barn and how they are milked, young readers will love learning about these amazing animals and how they help give us food. Using full-color photographs and accessible text, readers learn what cows eat, where milk comes from, and many of the foods we eat that come from milk.","English",22.6,16.95,"636.2’142--dc23","24 pp.",{"$f":"Table1[[#This Row],['# Books]]*Table1[[#This Row],[QTY]]","v":0},{"$f":"Table1[[#This Row],[QTY]]*Table1[[#This Row],[S&L Price]]","v":0}]
[null,null,23,null,"Fun on the Farm",1,"At the Fish Farm","Library Bound Book","978-1-4824-5522-9",2017,"January 2017","Library","7.625 X 7.125","Author","George Pendergast",1,0.5,null,null,"C",null,"Grade K","Grade Pre-K - 2","Farmers take care of more than just plants and land animals. Fish farms are a major food source that’s often overlooked. These amazing places are found in the ocean, in big ponds, or even tanks that farmers keep a watchful eye on to make sure fish grow and stay healthy. Through vibrant, full-color photographs and accessible text, budding readers will explore the world of fish farming, the types of fish that live in these farms, and how these amazing animals are fed in their aquatic homes.","English",22.6,16.95,"664’.94--dc23","24 pp.",{"$f":"Table1[[#This Row],['# Books]]*Table1[[#This Row],[QTY]]","v":0},{"$f":"Table1[[#This Row],[QTY]]*Table1[[#This Row],[S&L Price]]","v":0}]
[null,null,23,null,"Fun on the Farm",1,"At the Fish Farm","eBook","978-1-4824-5523-6",2017,"January 2017",null,null,"Author","George Pendergast",null,null,null,null,"C",null,"Grade K","Grade Pre-K - 2","Farmers take care of more than just plants and land animals. Fish farms are a major food source that’s often overlooked. These amazing places are found in the ocean, in big ponds, or even tanks that farmers keep a watchful eye on to make sure fish grow and stay healthy. Through vibrant, full-color photographs and accessible text, budding readers will explore the world of fish farming, the types of fish that live in these farms, and how these amazing animals are fed in their aquatic homes.","English",22.6,16.95,"664’.94--dc23","24 pp.",{"$f":"Table1[[#This Row],['# Books]]*Table1[[#This Row],[QTY]]","v":0},{"$f":"Table1[[#This Row],[QTY]]*Table1[[#This Row],[S&L Price]]","v":0}]
[null,null,23,null,"Fun on the Farm",1,"At the Horse Farm","Library Bound Book","978-1-4824-5526-7",2017,"January 2017","Library","7.625 X 7.125","Author","Bruce Esseltine",0.9,0.5,null,null,"C",null,"Grade K","Grade Pre-K - 2","Horses are amazing animals we use in a variety of different ways. Young readers ready for a ride will jump into the world of horse farms, exploring these amazing places to see how these animals live and play. Accessible text paired with full-color photographs show how farmers take care of horses, feeding them hay and brushing their hair to make sure they stay healthy. Readers also get to see horses play, running in open fields and being trained by farmers so people can ride them safely.","English",22.6,16.95,"636.1--dc23","24 pp.",{"$f":"Table1[[#This Row],['# Books]]*Table1[[#This Row],[QTY]]","v":0},{"$f":"Table1[[#This Row],[QTY]]*Table1[[#This Row],[S&L Price]]","v":0}]
[null,null,23,null,"Fun on the Farm",1,"At the Horse Farm","eBook","978-1-4824-5527-4",2017,"January 2017",null,null,"Author","Bruce Esseltine",null,null,null,null,"C",null,"Grade K","Grade Pre-K - 2","Horses are amazing animals we use in a variety of different ways. Young readers ready for a ride will jump into the world of horse farms, exploring these amazing places to see how these animals live and play. Accessible text paired with full-color photographs show how farmers take care of horses, feeding them hay and brushing their hair to make sure they stay healthy. Readers also get to see horses play, running in open fields and being trained by farmers so people can ride them safely.","English",22.6,16.95,"636.1--dc23","24 pp.",{"$f":"Table1[[#This Row],['# Books]]*Table1[[#This Row],[QTY]]","v":0},{"$f":"Table1[[#This Row],[QTY]]*Table1[[#This Row],[S&L Price]]","v":0}]
[null,null,23,null,"Fun on the Farm",1,"At the Orchard","Library Bound Book","978-1-4824-5530-4",2017,"January 2017","Library","7.625 X 7.125","Author","Bruce Esseltine",0.9,0.5,null,null,"C",null,"Grade K","Grade Pre-K - 2","Fruit farmers don’t take care of animals, they take care of trees! These orchards are full of delicious treats like apples, oranges, cherries, and even pears. Early readers learn how farmers plant these trees in rows, then take care of them until the trees bear fruit. Through accessible text paired with full-color photographs, readers learn how different orchards grow different fruits and what farmers do when the fruit gets ripe.","English",22.6,16.95,"634--dc23","24 pp.",{"$f":"Table1[[#This Row],['# Books]]*Table1[[#This Row],[QTY]]","v":0},{"$f":"Table1[[#This Row],[QTY]]*Table1[[#This Row],[S&L Price]]","v":0}]
[null,null,23,null,"Fun on the Farm",1,"At the Orchard","eBook","978-1-4824-5531-1",2017,"January 2017",null,null,"Author","Bruce Esseltine",null,null,null,null,"C",null,"Grade K","Grade Pre-K - 2","Fruit farmers don’t take care of animals, they take care of trees! These orchards are full of delicious treats like apples, oranges, cherries, and even pears. Early readers learn how farmers plant these trees in rows, then take care of them until the trees bear fruit. Through accessible text paired with full-color photographs, readers learn how different orchards grow different fruits and what farmers do when the fruit gets ripe.","English",22.6,16.95,"634--dc23","24 pp.",{"$f":"Table1[[#This Row],['# Books]]*Table1[[#This Row],[QTY]]","v":0},{"$f":"Table1[[#This Row],[QTY]]*Table1[[#This Row],[S&L Price]]","v":0}]
[null,null,23,null,"Fun on the Farm",1,"At the Sheep Farm","Library Bound Book","978-1-4824-5534-2",2017,"January 2017","Library","7.625 X 7.125","Author","Bruce Esseltine",0.9,0.5,null,null,"C",null,"Grade K","Grade Pre-K - 2","Sheep are useful farm animals because they help keep us warm! Through colorful photographs and accessible text, beginning readers will learn how these animals are raised by farmers to grow wool, how farmers cut it off them safely, and how that wool is used to make clothes! They’ll also learn how dogs help farmers herd these sheep and keep them safe on the farm, and how baby lambs are born in this exciting title that explores the lives of these special farm animals.","English",22.6,16.95,"636.3--dc23","24 pp.",{"$f":"Table1[[#This Row],['# Books]]*Table1[[#This Row],[QTY]]","v":0},{"$f":"Table1[[#This Row],[QTY]]*Table1[[#This Row],[S&L Price]]","v":0}]
[null,null,23,null,"Fun on the Farm",1,"At the Sheep Farm","eBook","978-1-4824-5535-9",2017,"January 2017",null,null,"Author","Bruce Esseltine",null,null,null,null,"C",null,"Grade K","Grade Pre-K - 2","Sheep are useful farm animals because they help keep us warm! Through colorful photographs and accessible text, beginning readers will learn how these animals are raised by farmers to grow wool, how farmers cut it off them safely, and how that wool is used to make clothes! They’ll also learn how dogs help farmers herd these sheep and keep them safe on the farm, and how baby lambs are born in this exciting title that explores the lives of these special farm animals.","English",22.6,16.95,"636.3--dc23","24 pp.",{"$f":"Table1[[#This Row],['# Books]]*Table1[[#This Row],[QTY]]","v":0},{"$f":"Table1[[#This Row],[QTY]]*Table1[[#This Row],[S&L Price]]","v":0}]
[null,null,24,null,"I Can Be Anything!",6,"I Can Be Anything!","Library Set","978-1-5382-0240-1",2018,"August 2017","Library","7.625 X 7.125",null,"",null,null,null,null,null,null,"Grade K","Grade Pre-K - 2","The world is full of exciting and important jobs, and many people have ideal careers they’d like to explore from an early age. Whether readers want to fight fires, write stories, or teach, every occupation is something to dream about. This series brings those jobs into clearer focus, showing readers what those fantasy jobs are like in real life. Vivid photographs display workers in detail, giving readers on-site training, while a colorful picture glossary reinforces understanding of key vocabulary.","English",135.6,101.7,null,"24 pp.",{"$f":"Table1[[#This Row],['# Books]]*Table1[[#This Row],[QTY]]","v":0},{"$f":"Table1[[#This Row],[QTY]]*Table1[[#This Row],[S&L Price]]","v":0}]
[null,null,24,null,"I Can Be Anything!",1,"I Can Be a Doctor","Library Bound Book","978-1-4824-6319-4",2018,"August 2017","Library","7.625 X 7.125","Author","Audrey Charles",null,null,null,null,"B",null,"Grade K","Grade Pre-K - 2","Many young people love the idea of becoming a doctor so they can help others. In this entertaining narrative, readers will meet Dr. Jones and learn about the many things she does for her patients. They’ll also find out what happens when they go to checkups and be encouraged to consider a medical career for themselves. Low-ATOS text and bright photographs make this instructive volume an engaging read for doctors-in-training!","English",22.6,16.95,"610.69--dc23","24 pp.",{"$f":"Table1[[#This Row],['# Books]]*Table1[[#This Row],[QTY]]","v":0},{"$f":"Table1[[#This Row],[QTY]]*Table1[[#This Row],[S&L Price]]","v":0}]
[null,null,24,null,"I Can Be Anything!",1,"I Can Be a Doctor","eBook","978-1-4824-6320-0",2018,"August 2017",null,null,"Author","Audrey Charles",null,null,null,null,"B",null,"Grade K","Grade Pre-K - 2","Many young people love the idea of becoming a doctor so they can help others. In this entertaining narrative, readers will meet Dr. Jones and learn about the many things she does for her patients. They’ll also find out what happens when they go to checkups and be encouraged to consider a medical career for themselves. Low-ATOS text and bright photographs make this instructive volume an engaging read for doctors-in-training!","English",22.6,16.95,"610.69--dc23","24 pp.",{"$f":"Table1[[#This Row],['# Books]]*Table1[[#This Row],[QTY]]","v":0},{"$f":"Table1[[#This Row],[QTY]]*Table1[[#This Row],[S&L Price]]","v":0}]
[null,null,24,null,"I Can Be Anything!",1,"I Can Be a Firefighter","Library Bound Book","978-1-4824-6323-1",2018,"August 2017","Library","7.625 X 7.125","Author","Audrey Charles",null,null,null,null,"C",null,"Grade K","Grade Pre-K - 2","It’s time to get in the fire engine and sound the alarm. In this book, beginning readers head to the station to meet the heroes who help our communities: firefighters. Readers will love this lively look at the many duties and tools of firefighters. Achievable, low-ATOS text and exciting photographs combine to create an accessible volume about this career, one that continues to fascinate many young people.","English",22.6,16.95,"628.9’2--dc23","24 pp.",{"$f":"Table1[[#This Row],['# Books]]*Table1[[#This Row],[QTY]]","v":0},{"$f":"Table1[[#This Row],[QTY]]*Table1[[#This Row],[S&L Price]]","v":0}]
[null,null,24,null,"I Can Be Anything!",1,"I Can Be a Firefighter","eBook","978-1-4824-6324-8",2018,"August 2017",null,null,"Author","Audrey Charles",null,null,null,null,"C",null,"Grade K","Grade Pre-K - 2","It’s time to get in the fire engine and sound the alarm. In this book, beginning readers head to the station to meet the heroes who help our communities: firefighters. Readers will love this lively look at the many duties and tools of firefighters. Achievable, low-ATOS text and exciting photographs combine to create an accessible volume about this career, one that continues to fascinate many young people.","English",22.6,16.95,"628.9’2--dc23","24 pp.",{"$f":"Table1[[#This Row],['# Books]]*Table1[[#This Row],[QTY]]","v":0},{"$f":"Table1[[#This Row],[QTY]]*Table1[[#This Row],[S&L Price]]","v":0}]
[null,null,24,null,"I Can Be Anything!",1,"I Can Be a Police Officer","Library Bound Book","978-1-4824-6327-9",2018,"August 2017","Library","7.625 X 7.125","Author","Audrey Charles",null,null,null,null,"C",null,"Grade K","Grade Pre-K - 2","There’s so much more to police officers than what we see on TV or in the movies. Police officers are truly community helpers who serve the public in so many ways. Readers of this concise and entertaining volume will learn how police officers help children as well as about the cool ways they get around—including on horseback! Accessible vocabulary terms are paired with carefully chosen images to support beginning readers. After learning facts about police officers, readers can decide if they, too, would consider a future career in law enforcement.","English",22.6,16.95,"363.2’3--dc23","24 pp.",{"$f":"Table1[[#This Row],['# Books]]*Table1[[#This Row],[QTY]]","v":0},{"$f":"Table1[[#This Row],[QTY]]*Table1[[#This Row],[S&L Price]]","v":0}]
[null,null,24,null,"I Can Be Anything!",1,"I Can Be a Police Officer","eBook","978-1-4824-6328-6",2018,"August 2017",null,null,"Author","Audrey Charles",null,null,null,null,"C",null,"Grade K","Grade Pre-K - 2","There’s so much more to police officers than what we see on TV or in the movies. Police officers are truly community helpers who serve the public in so many ways. Readers of this concise and entertaining volume will learn how police officers help children as well as about the cool ways they get around—including on horseback! Accessible vocabulary terms are paired with carefully chosen images to support beginning readers. After learning facts about police officers, readers can decide if they, too, would consider a future career in law enforcement.","English",22.6,16.95,"363.2’3--dc23","24 pp.",{"$f":"Table1[[#This Row],['# Books]]*Table1[[#This Row],[QTY]]","v":0},{"$f":"Table1[[#This Row],[QTY]]*Table1[[#This Row],[S&L Price]]","v":0}]
[null,null,24,null,"I Can Be Anything!",1,"I Can Be a Scientist","Library Bound Book","978-1-4824-6331-6",2018,"August 2017","Library","7.625 X 7.125","Author","Michou Franco",null,null,null,null,"C",null,"Grade K","Grade Pre-K - 2","It can be hard to picture what a scientist does. Some might imagine the archetypal mad scientist mixing explosive chemicals in a lab! While that's an amusing image, it's not reality. In this brainy book, an early introduction to STEM careers, aspiring young scientists will discover the wide-reaching disciplines of science in a comprehensible and fun narrative. They’ll see photographs of scientists at work in many settings and even picture themselves in a profession in the sciences, too.","English",22.6,16.95,"502.3--dc23","24 pp.",{"$f":"Table1[[#This Row],['# Books]]*Table1[[#This Row],[QTY]]","v":0},{"$f":"Table1[[#This Row],[QTY]]*Table1[[#This Row],[S&L Price]]","v":0}]
[null,null,24,null,"I Can Be Anything!",1,"I Can Be a Scientist","eBook","978-1-4824-6332-3",2018,"August 2017",null,null,"Author","Michou Franco",null,null,null,null,"C",null,"Grade K","Grade Pre-K - 2","It can be hard to picture what a scientist does. Some might imagine the archetypal mad scientist mixing explosive chemicals in a lab! While that's an amusing image, it's not reality. In this brainy book, an early introduction to STEM careers, aspiring young scientists will discover the wide-reaching disciplines of science in a comprehensible and fun narrative. They’ll see photographs of scientists at work in many settings and even picture themselves in a profession in the sciences, too.","English",22.6,16.95,"502.3--dc23","24 pp.",{"$f":"Table1[[#This Row],['# Books]]*Table1[[#This Row],[QTY]]","v":0},{"$f":"Table1[[#This Row],[QTY]]*Table1[[#This Row],[S&L Price]]","v":0}]
[null,null,24,null,"I Can Be Anything!",1,"I Can Be a Teacher","Library Bound Book","978-1-4824-6335-4",2018,"August 2017","Library","7.625 X 7.125","Author","Michou Franco",null,null,null,null,"C",null,"Grade K","Grade Pre-K - 2","School’s in session! Most teachers not only teach multiple subjects, they often juggle many other responsibilities, including discipline, grading, and the students’ favorite—field trips. This volume uses at-level text and photographs to show teachers in action and open young readers’ eyes to the rewarding career of teaching and all it entails. Readers will come to appreciate their teachers’ many skills and perhaps even be inspired to become a teacher themselves.","English",22.6,16.95,"371.102--dc23","24 pp.",{"$f":"Table1[[#This Row],['# Books]]*Table1[[#This Row],[QTY]]","v":0},{"$f":"Table1[[#This Row],[QTY]]*Table1[[#This Row],[S&L Price]]","v":0}]
[null,null,24,null,"I Can Be Anything!",1,"I Can Be a Teacher","eBook","978-1-4824-6336-1",2018,"August 2017",null,null,"Author","Michou Franco",null,null,null,null,"C",null,"Grade K","Grade Pre-K - 2","School’s in session! Most teachers not only teach multiple subjects, they often juggle many other responsibilities, including discipline, grading, and the students’ favorite—field trips. This volume uses at-level text and photographs to show teachers in action and open young readers’ eyes to the rewarding career of teaching and all it entails. Readers will come to appreciate their teachers’ many skills and perhaps even be inspired to become a teacher themselves.","English",22.6,16.95,"371.102--dc23","24 pp.",{"$f":"Table1[[#This Row],['# Books]]*Table1[[#This Row],[QTY]]","v":0},{"$f":"Table1[[#This Row],[QTY]]*Table1[[#This Row],[S&L Price]]","v":0}]
[null,null,24,null,"I Can Be Anything!",1,"I Can Be a Writer","Library Bound Book","978-1-4824-6339-2",2018,"August 2017","Library","7.625 X 7.125","Author","Michou Franco",null,null,null,null,"C",null,"Grade K","Grade Pre-K - 2","No one appreciates a good writer as much as younger readers. They’re honest critics of what makes them laugh, surprised, and happy. Favorite books are also motivation for young people to try their hand at imaginative writing. This low-ATOS career volume introduces aspiring authors to different genres of writing and writers. Photographs provide visual clues for key vocabulary, while brightly written text encourages readers to start writing now!","English",22.6,16.95,"808.02--dc23","24 pp.",{"$f":"Table1[[#This Row],['# Books]]*Table1[[#This Row],[QTY]]","v":0},{"$f":"Table1[[#This Row],[QTY]]*Table1[[#This Row],[S&L Price]]","v":0}]
[null,null,24,null,"I Can Be Anything!",1,"I Can Be a Writer","eBook","978-1-4824-6340-8",2018,"August 2017",null,null,"Author","Michou Franco",null,null,null,null,"C",null,"Grade K","Grade Pre-K - 2","No one appreciates a good writer as much as younger readers. They’re honest critics of what makes them laugh, surprised, and happy. Favorite books are also motivation for young people to try their hand at imaginative writing. This low-ATOS career volume introduces aspiring authors to different genres of writing and writers. Photographs provide visual clues for key vocabulary, while brightly written text encourages readers to start writing now!","English",22.6,16.95,"808.02--dc23","24 pp.",{"$f":"Table1[[#This Row],['# Books]]*Table1[[#This Row],[QTY]]","v":0},{"$f":"Table1[[#This Row],[QTY]]*Table1[[#This Row],[S&L Price]]","v":0}]
[null,null,25,null,"Ways to Play",6,"Ways to Play","Library Set","978-1-5382-0229-6",2018,"August 2017","Library","7.625 X 7.125",null,"",null,null,null,null,null,null,"Grade K","Grade Pre-K - 2","It’s time to play—and read! This motivating series shows early readers that books are a gateway to fun, while they read about the different ways that young people play every day. Whether that play involves pets, sports, music, or crafts, readers will connect with accessible text and photographs on each page, which will aid them in reviewing sight words as well as deciphering new vocabulary. Each high-interest volume encourages both creative and physical play and will have readers enthusiastically turning the pages!","English",135.6,101.7,null,"24 pp.",{"$f":"Table1[[#This Row],['# Books]]*Table1[[#This Row],[QTY]]","v":0},{"$f":"Table1[[#This Row],[QTY]]*Table1[[#This Row],[S&L Price]]","v":0}]
[null,null,25,null,"Ways to Play",1,"We Do Crafts!","Library Bound Book","978-1-4824-6343-9",2018,"August 2017","Library","7.625 X 7.125","Author","Leonard Atlantic",null,null,null,null,"C",null,"Grade K","Grade Pre-K - 2","No matter what the weather's like outside, crafts are an easy and fun way to spend an afternoon. Whether painting with friends or making flowers out of paper, crafts can turn the day into an awesome adventure. Using simple craft supplies like paper and drawing tools, even the youngest of children can find engaging ways to play. With the help of accessible text paired with colorful photographs, early readers will experience the creative world of arts and crafts.","English",22.6,16.95,"745.5--dc23","24 pp.",{"$f":"Table1[[#This Row],['# Books]]*Table1[[#This Row],[QTY]]","v":0},{"$f":"Table1[[#This Row],[QTY]]*Table1[[#This Row],[S&L Price]]","v":0}]
[null,null,25,null,"Ways to Play",1,"We Do Crafts!","eBook","978-1-4824-6344-6",2018,"August 2017",null,null,"Author","Leonard Atlantic",null,null,null,null,"C",null,"Grade K","Grade Pre-K - 2","No matter what the weather's like outside, crafts are an easy and fun way to spend an afternoon. Whether painting with friends or making flowers out of paper, crafts can turn the day into an awesome adventure. Using simple craft supplies like paper and drawing tools, even the youngest of children can find engaging ways to play. With the help of accessible text paired with colorful photographs, early readers will experience the creative world of arts and crafts.","English",22.6,16.95,"745.5--dc23","24 pp.",{"$f":"Table1[[#This Row],['# Books]]*Table1[[#This Row],[QTY]]","v":0},{"$f":"Table1[[#This Row],[QTY]]*Table1[[#This Row],[S&L Price]]","v":0}]
[null,null,25,null,"Ways to Play",1,"We Play Dress-Up!","Library Bound Book","978-1-4824-6347-7",2018,"August 2017","Library","7.625 X 7.125","Author","Leonard Atlantic",null,null,null,null,"C",null,"Grade K","Grade Pre-K - 2","Growing up, it’s important to learn that there are countless ways to play with friends. Just a few pieces of clothing and a couple of hats can help create an imaginary world full of wonder. Early readers will discover how much fun that world can be, thanks to full-color photographs paired with accessible text that shows children enjoying dress-up in a variety of ways. Whether trying on dresses or playing like a cowboy, readers learn there are lots of ways to have fun with just the clothes in your closet!","English",22.6,16.95,"391--dc23","24 pp.",{"$f":"Table1[[#This Row],['# Books]]*Table1[[#This Row],[QTY]]","v":0},{"$f":"Table1[[#This Row],[QTY]]*Table1[[#This Row],[S&L Price]]","v":0}]
[null,null,25,null,"Ways to Play",1,"We Play Dress-Up!","eBook","978-1-4824-6348-4",2018,"August 2017",null,null,"Author","Leonard Atlantic",null,null,null,null,"C",null,"Grade K","Grade Pre-K - 2","Growing up, it’s important to learn that there are countless ways to play with friends. Just a few pieces of clothing and a couple of hats can help create an imaginary world full of wonder. Early readers will discover how much fun that world can be, thanks to full-color photographs paired with accessible text that shows children enjoying dress-up in a variety of ways. Whether trying on dresses or playing like a cowboy, readers learn there are lots of ways to have fun with just the clothes in your closet!","English",22.6,16.95,"391--dc23","24 pp.",{"$f":"Table1[[#This Row],['# Books]]*Table1[[#This Row],[QTY]]","v":0},{"$f":"Table1[[#This Row],[QTY]]*Table1[[#This Row],[S&L Price]]","v":0}]
[null,null,25,null,"Ways to Play",1,"We Play Music!","Library Bound Book","978-1-4824-6351-4",2018,"August 2017","Library","7.625 X 7.125","Author","Leonard Atlantic",null,null,null,null,"C",null,"Grade K","Grade Pre-K - 2","Learning an instrument is a great way to explore the fun and wonder of music. Whether it’s the drums or the piano, learning how to play an instrument is an amazing and empowering creative experience that instills a sense of discipline, even for early learners. It’s also a great way to write unique songs and play inspiring music with friends. From jamming out in a bedroom to learning an instrument at school, beginning readers will love exploring the world of music through full-color photographs and engaging, age-appropriate text.","English",22.6,16.95,"784.19--dc23","24 pp.",{"$f":"Table1[[#This Row],['# Books]]*Table1[[#This Row],[QTY]]","v":0},{"$f":"Table1[[#This Row],[QTY]]*Table1[[#This Row],[S&L Price]]","v":0}]
[null,null,25,null,"Ways to Play",1,"We Play Music!","eBook","978-1-4824-6352-1",2018,"August 2017",null,null,"Author","Leonard Atlantic",null,null,null,null,"C",null,"Grade K","Grade Pre-K - 2","Learning an instrument is a great way to explore the fun and wonder of music. Whether it’s the drums or the piano, learning how to play an instrument is an amazing and empowering creative experience that instills a sense of discipline, even for early learners. It’s also a great way to write unique songs and play inspiring music with friends. From jamming out in a bedroom to learning an instrument at school, beginning readers will love exploring the world of music through full-color photographs and engaging, age-appropriate text.","English",22.6,16.95,"784.19--dc23","24 pp.",{"$f":"Table1[[#This Row],['# Books]]*Table1[[#This Row],[QTY]]","v":0},{"$f":"Table1[[#This Row],[QTY]]*Table1[[#This Row],[S&L Price]]","v":0}]
[null,null,25,null,"Ways to Play",1,"We Play Sports!","Library Bound Book","978-1-4824-6355-2",2018,"August 2017","Library","7.625 X 7.125","Author","Leonard Atlantic",null,null,null,null,"C",null,"Grade K","Grade Pre-K - 2","With the help of just a few friends, beginning readers can play some of the most fun games there are—sports! Kids of all ages only need a ball and a handful of fellow sports enthusiasts to unlock a world of fun. Whether it’s baseball or basketball, everyone has a favorite sport. From kicking around a soccer ball to playing catch with friends, this book shows the many ways young readers can play through colorful photographs and age-appropriate text. Even reluctant athletes will learn that getting outside and playing is as easy as it is fun!","English",22.6,16.95,"796--dc23","24 pp.",{"$f":"Table1[[#This Row],['# Books]]*Table1[[#This Row],[QTY]]","v":0},{"$f":"Table1[[#This Row],[QTY]]*Table1[[#This Row],[S&L Price]]","v":0}]
[null,null,25,null,"Ways to Play",1,"We Play Sports!","eBook","978-1-4824-6356-9",2018,"August 2017",null,null,"Author","Leonard Atlantic",null,null,null,null,"C",null,"Grade K","Grade Pre-K - 2","With the help of just a few friends, beginning readers can play some of the most fun games there are—sports! Kids of all ages only need a ball and a handful of fellow sports enthusiasts to unlock a world of fun. Whether it’s baseball or basketball, everyone has a favorite sport. From kicking around a soccer ball to playing catch with friends, this book shows the many ways young readers can play through colorful photographs and age-appropriate text. Even reluctant athletes will learn that getting outside and playing is as easy as it is fun!","English",22.6,16.95,"796--dc23","24 pp.",{"$f":"Table1[[#This Row],['# Books]]*Table1[[#This Row],[QTY]]","v":0},{"$f":"Table1[[#This Row],[QTY]]*Table1[[#This Row],[S&L Price]]","v":0}]
[null,null,25,null,"Ways to Play",1,"We Play with Pets!","Library Bound Book","978-1-4824-6359-0",2018,"August 2017","Library","7.625 X 7.125","Author","Leonard Atlantic",null,null,null,null,"C",null,"Grade K","Grade Pre-K - 2","In this charming book, beginning readers learn there’s always something fun to do with your pets! Taking walks with the family dog or petting the family kitten are important steps in teaching caretaking and responsibility to young learners. Even feeding a pet goldfish is a great way to play with the family pet! This book, which pairs full-color photographs with accessible, age-appropriate text, shows that every interaction with a pet is a new way to help out and have fun!","English",22.6,16.95,"636--dc23","24 pp.",{"$f":"Table1[[#This Row],['# Books]]*Table1[[#This Row],[QTY]]","v":0},{"$f":"Table1[[#This Row],[QTY]]*Table1[[#This Row],[S&L Price]]","v":0}]
[null,null,25,null,"Ways to Play",1,"We Play with Pets!","eBook","978-1-4824-6360-6",2018,"August 2017",null,null,"Author","Leonard Atlantic",null,null,null,null,"C",null,"Grade K","Grade Pre-K - 2","In this charming book, beginning readers learn there’s always something fun to do with your pets! Taking walks with the family dog or petting the family kitten are important steps in teaching caretaking and responsibility to young learners. Even feeding a pet goldfish is a great way to play with the family pet! This book, which pairs full-color photographs with accessible, age-appropriate text, shows that every interaction with a pet is a new way to help out and have fun!","English",22.6,16.95,"636--dc23","24 pp.",{"$f":"Table1[[#This Row],['# Books]]*Table1[[#This Row],[QTY]]","v":0},{"$f":"Table1[[#This Row],[QTY]]*Table1[[#This Row],[S&L Price]]","v":0}]
[null,null,25,null,"Ways to Play",1,"We Play with Things Around the House!","Library Bound Book","978-1-4824-6363-7",2018,"August 2017","Library","7.625 X 7.125","Author","Leonard Atlantic",null,null,null,null,"C",null,"Grade K","Grade Pre-K - 2","There’s never a shortage of ways to play when you get creative! Even without fancy sports or craft supplies, letting young readers explore the treasures found at home is a great way to invent a brand-new game. Allowing readers’ imaginations to take over engages them in creative improvisation and builds confidence in their own logic. This book pairs full-color photographs with accessible text to show budding readers just how easy it is to turn ordinary household objects into an endless fountain of fun!","English",22.6,16.95,"790--dc23","24 pp.",{"$f":"Table1[[#This Row],['# Books]]*Table1[[#This Row],[QTY]]","v":0},{"$f":"Table1[[#This Row],[QTY]]*Table1[[#This Row],[S&L Price]]","v":0}]
[null,null,25,null,"Ways to Play",1,"We Play with Things Around the House!","eBook","978-1-4824-6364-4",2018,"August 2017",null,null,"Author","Leonard Atlantic",null,null,null,null,"C",null,"Grade K","Grade Pre-K - 2","There’s never a shortage of ways to play when you get creative! Even without fancy sports or craft supplies, letting young readers explore the treasures found at home is a great way to invent a brand-new game. Allowing readers’ imaginations to take over engages them in creative improvisation and builds confidence in their own logic. This book pairs full-color photographs with accessible text to show budding readers just how easy it is to turn ordinary household objects into an endless fountain of fun!","English",22.6,16.95,"790--dc23","24 pp.",{"$f":"Table1[[#This Row],['# Books]]*Table1[[#This Row],[QTY]]","v":0},{"$f":"Table1[[#This Row],[QTY]]*Table1[[#This Row],[S&L Price]]","v":0}]
[null,null,26,null,"We Love Spring!",6,"We Love Spring!","Library Set","978-1-4824-5549-6",2017,"January 2017","Library","7.125 X 7.625",null,"",null,null,null,null,null,null,"Grade K","Grade Pre-K - 2","Every season brings about change, but spring might be the most exciting. Flowers grow and begin to bloom, animals come out of hibernation, and the weather starts to get warmer. These exciting changes bring with them plenty of chances to learn about the world around us. From bird-watching to exploring the new flowers, accessible text explains the science behind spring to young readers. There’s also plenty of room for fun! With full-color photographs of fun events like Easter egg hunts and baby animals, these books give readers a look at everything this exciting season has to offer.","English",135.6,101.7,null,"24 pp.",{"$f":"Table1[[#This Row],['# Books]]*Table1[[#This Row],[QTY]]","v":0},{"$f":"Table1[[#This Row],[QTY]]*Table1[[#This Row],[S&L Price]]","v":0}]
[null,null,26,null,"We Love Spring!",1,"An Easter Egg Hunt","Library Bound Book","978-1-4824-5457-4",2017,"January 2017","Library","7.625 X 7.125","Author","Rick Faltross",0.9,0.5,null,null,"C",null,"Grade K","Grade Pre-K - 2","The best part of any Easter Sunday is the family egg hunt. Colorful eggs are filled with gifts strewn about the lawn as children hunt for Easter treats to put in bright baskets. Full-color photographs show children of all ages taking part in the annual event, searching the grass and behind flowers for eggs filled with coins or even chocolates. Paired with accessible text, beginning readers learn about the fun traditions associated with an important spring holiday for millions of people all around the world.","English",22.6,16.95,"394.2667--dc23","24 pp.",{"$f":"Table1[[#This Row],['# Books]]*Table1[[#This Row],[QTY]]","v":0},{"$f":"Table1[[#This Row],[QTY]]*Table1[[#This Row],[S&L Price]]","v":0}]
[null,null,26,null,"We Love Spring!",1,"An Easter Egg Hunt","eBook","978-1-4824-5466-6",2017,"January 2017",null,null,"Author","Rick Faltross",null,null,null,null,"C",null,"Grade K","Grade Pre-K - 2","The best part of any Easter Sunday is the family egg hunt. Colorful eggs are filled with gifts strewn about the lawn as children hunt for Easter treats to put in bright baskets. Full-color photographs show children of all ages taking part in the annual event, searching the grass and behind flowers for eggs filled with coins or even chocolates. Paired with accessible text, beginning readers learn about the fun traditions associated with an important spring holiday for millions of people all around the world.","English",22.6,16.95,"394.2667--dc23","24 pp.",{"$f":"Table1[[#This Row],['# Books]]*Table1[[#This Row],[QTY]]","v":0},{"$f":"Table1[[#This Row],[QTY]]*Table1[[#This Row],[S&L Price]]","v":0}]
[null,null,26,null,"We Love Spring!",1,"Baby Animals Are Born","Library Bound Book","978-1-4824-5471-0",2017,"January 2017","Library","7.625 X 7.125","Author","Delores Soltaire",1,0.5,null,null,"C",null,"Grade K","Grade Pre-K - 2","Spring is a time of birth and change. Flowers and trees come back to life, and new animals are born. From baby deer spending their first days in the forest to geese taking care of their furry babies, spring is full of brand new baby animals. Amazing full-color photos and accessible text show young readers how baby black bears come out of hibernation and how other animals like seals have springtime babies even in cold climates in this easy-to-read book full of fun animal facts.","English",22.6,16.95,"591.3’9--dc23","24 pp.",{"$f":"Table1[[#This Row],['# Books]]*Table1[[#This Row],[QTY]]","v":0},{"$f":"Table1[[#This Row],[QTY]]*Table1[[#This Row],[S&L Price]]","v":0}]
[null,null,26,null,"We Love Spring!",1,"Baby Animals Are Born","eBook","978-1-4824-5472-7",2017,"January 2017",null,null,"Author","Delores Soltaire",null,null,null,null,"C",null,"Grade K","Grade Pre-K - 2","Spring is a time of birth and change. Flowers and trees come back to life, and new animals are born. From baby deer spending their first days in the forest to geese taking care of their furry babies, spring is full of brand new baby animals. Amazing full-color photos and accessible text show young readers how baby black bears come out of hibernation and how other animals like seals have springtime babies even in cold climates in this easy-to-read book full of fun animal facts.","English",22.6,16.95,"591.3’9--dc23","24 pp.",{"$f":"Table1[[#This Row],['# Books]]*Table1[[#This Row],[QTY]]","v":0},{"$f":"Table1[[#This Row],[QTY]]*Table1[[#This Row],[S&L Price]]","v":0}]
[null,null,26,null,"We Love Spring!",1,"Birds in Spring","Library Bound Book","978-1-4824-5487-1",2017,"January 2017","Library","7.625 X 7.125","Author","Lorne Henshaw",0.9,0.5,null,null,"C",null,"Grade K","Grade Pre-K - 2","Baby animals are out and about in spring, including in the sky! Birds of all kinds take flight, finding food for their young and teaching them how to survive in the wild. This exciting book takes early readers into the skies. There, readers learn how these winged wonders enjoy the springtime through using full-color photographs showing these creatures in action, tending to their nests and making a home for their babies soon to hatch from eggs.","English",22.6,16.95,"598--dc23","24 pp.",{"$f":"Table1[[#This Row],['# Books]]*Table1[[#This Row],[QTY]]","v":0},{"$f":"Table1[[#This Row],[QTY]]*Table1[[#This Row],[S&L Price]]","v":0}]
[null,null,26,null,"We Love Spring!",1,"Birds in Spring","eBook","978-1-4824-5488-8",2017,"January 2017",null,null,"Author","Lorne Henshaw",null,null,null,null,"C",null,"Grade K","Grade Pre-K - 2","Baby animals are out and about in spring, including in the sky! Birds of all kinds take flight, finding food for their young and teaching them how to survive in the wild. This exciting book takes early readers into the skies. There, readers learn how these winged wonders enjoy the springtime through using full-color photographs showing these creatures in action, tending to their nests and making a home for their babies soon to hatch from eggs.","English",22.6,16.95,"598--dc23","24 pp.",{"$f":"Table1[[#This Row],['# Books]]*Table1[[#This Row],[QTY]]","v":0},{"$f":"Table1[[#This Row],[QTY]]*Table1[[#This Row],[S&L Price]]","v":0}]
[null,null,26,null,"We Love Spring!",1,"First Spring Flowers","Library Bound Book","978-1-4824-5491-8",2017,"January 2017","Library","7.625 X 7.125","Author","Stanley Hollow",0.8,0.5,null,null,"C",null,"Grade K","Grade Pre-K - 2","Spring is a time for flowers to bloom. The first flowers of spring are a sign that the long winter is finally over. These amazing flowers can often push through snow still on the ground, showing how hearty plants can be. From seed to bloom, vivid full-color photos will dazzle beginning readers exploring how these amazing early-season plants survive in harsh conditions. While some bloom early and are gone by mid spring, others begin a long life of looking—and smelling—wonderful in someone’s garden.","English",22.6,16.95,"582.13--dc23","24 pp.",{"$f":"Table1[[#This Row],['# Books]]*Table1[[#This Row],[QTY]]","v":0},{"$f":"Table1[[#This Row],[QTY]]*Table1[[#This Row],[S&L Price]]","v":0}]
[null,null,26,null,"We Love Spring!",1,"First Spring Flowers","eBook","978-1-4824-5492-5",2017,"January 2017",null,null,"Author","Stanley Hollow",null,null,null,null,"C",null,"Grade K","Grade Pre-K - 2","Spring is a time for flowers to bloom. The first flowers of spring are a sign that the long winter is finally over. These amazing flowers can often push through snow still on the ground, showing how hearty plants can be. From seed to bloom, vivid full-color photos will dazzle beginning readers exploring how these amazing early-season plants survive in harsh conditions. While some bloom early and are gone by mid spring, others begin a long life of looking—and smelling—wonderful in someone’s garden.","English",22.6,16.95,"582.13--dc23","24 pp.",{"$f":"Table1[[#This Row],['# Books]]*Table1[[#This Row],[QTY]]","v":0},{"$f":"Table1[[#This Row],[QTY]]*Table1[[#This Row],[S&L Price]]","v":0}]
[null,null,26,null,"We Love Spring!",1,"Let's Look at Leaves","Library Bound Book","978-1-4824-5498-7",2017,"January 2017","Library","7.625 X 7.125","Author","Calvin Harvey",0.8,0.5,null,null,"C",null,"Grade K","Grade Pre-K - 2","A true sign of springtime is the first sight of green. As bare branches and tree limbs come back to life young readers will learn fall isn’t the only time to look at the leaves that fill the trees. When spring has sprung and trees come to life, there are lots of leaves to see. With vivid full-color photographs showing these springtime leaves paired with accessible text explaining the science behind this life process, readers learn how nature takes its course and plants prepare for life in the summer.","English",22.6,16.95,"581.4/8--dc23","24 pp.",{"$f":"Table1[[#This Row],['# Books]]*Table1[[#This Row],[QTY]]","v":0},{"$f":"Table1[[#This Row],[QTY]]*Table1[[#This Row],[S&L Price]]","v":0}]
[null,null,26,null,"We Love Spring!",1,"Let's Look at Leaves","eBook","978-1-4824-5499-4",2017,"January 2017",null,null,"Author","Calvin Harvey",null,null,null,null,"C",null,"Grade K","Grade Pre-K - 2","A true sign of springtime is the first sight of green. As bare branches and tree limbs come back to life young readers will learn fall isn’t the only time to look at the leaves that fill the trees. When spring has sprung and trees come to life, there are lots of leaves to see. With vivid full-color photographs showing these springtime leaves paired with accessible text explaining the science behind this life process, readers learn how nature takes its course and plants prepare for life in the summer.","English",22.6,16.95,"581.4/8--dc23","24 pp.",{"$f":"Table1[[#This Row],['# Books]]*Table1[[#This Row],[QTY]]","v":0},{"$f":"Table1[[#This Row],[QTY]]*Table1[[#This Row],[S&L Price]]","v":0}]
[null,null,26,null,"We Love Spring!",1,"Rainy Day Fun","Library Bound Book","978-1-4824-5506-9",2017,"January 2017","Library","7.625 X 7.125","Author","Melba Dewberry",0.8,0.5,null,null,"C",null,"Grade K","Grade Pre-K - 2","Springtime showers are an important part of seasonal changes. Rain brings us beautiful flowers and gives animals something to drink, but it often means being stuck inside while thunder and lightning comes from darkened skies. But that doesn’t mean early readers can’t have fun when it rains! From board games inside to cooking a special dish with a parent, there is a lot to do when storms keep us indoors. Full-color photographs explore the fun of rainy days, while accessible text helps readers learn important vocabulary describing fun activities to do when the sun hides behind the clouds.","English",22.6,16.95,"551.57’7--dc23","24 pp.",{"$f":"Table1[[#This Row],['# Books]]*Table1[[#This Row],[QTY]]","v":0},{"$f":"Table1[[#This Row],[QTY]]*Table1[[#This Row],[S&L Price]]","v":0}]
[null,null,26,null,"We Love Spring!",1,"Rainy Day Fun","eBook","978-1-4824-5507-6",2017,"January 2017",null,null,"Author","Melba Dewberry",null,null,null,null,"C",null,"Grade K","Grade Pre-K - 2","Springtime showers are an important part of seasonal changes. Rain brings us beautiful flowers and gives animals something to drink, but it often means being stuck inside while thunder and lightning comes from darkened skies. But that doesn’t mean early readers can’t have fun when it rains! From board games inside to cooking a special dish with a parent, there is a lot to do when storms keep us indoors. Full-color photographs explore the fun of rainy days, while accessible text helps readers learn important vocabulary describing fun activities to do when the sun hides behind the clouds.","English",22.6,16.95,"551.57’7--dc23","24 pp.",{"$f":"Table1[[#This Row],['# Books]]*Table1[[#This Row],[QTY]]","v":0},{"$f":"Table1[[#This Row],[QTY]]*Table1[[#This Row],[S&L Price]]","v":0}]
[null,null,27,null,"Animals from Head to Tail",6,"Animals from Head to Tail","Library Set","978-1-4824-4516-9",2017,"August 2016","Library","7.625 X 7.125",null,"",null,null,null,null,null,null,"Grade K","Grade K - 2","Animals have body parts just like us, but not every animal looks alike. A cat’s toes look very different than a dog or bird’s. This innovative series tackles those differences using vivid full-color photographs and age-appropriate text to explain how an animal’s body parts make it truly unique. With scientific content exploring how a bird’s wings work and how turtles use their shells to keep safe, this series gives young readers an exciting and fun new way to look at their favorite animals.","English",135.6,101.7,null,"24 pp.",{"$f":"Table1[[#This Row],['# Books]]*Table1[[#This Row],[QTY]]","v":0},{"$f":"Table1[[#This Row],[QTY]]*Table1[[#This Row],[S&L Price]]","v":0}]
[null,null,27,null,"Animals from Head to Tail",1,"Birds from Head to Tail","Library Bound Book","978-1-4824-4535-0",2017,"August 2016","Library","7.625 X 7.125","Author","Reese Archer",0.9,0.5,null,null,"C",null,"Grade K","Grade K - 2","Birds are truly remarkable creatures. Though they all have the same basic body parts, there is so much variety between each type of bird. For instance, the feet of a duck are much different than the feet of a robin, and birds’ feathers come in every color of the rainbow! Through accessible language and vibrant photographs, this book introduces beginning readers to some of the similarities and differences of our feathered friends, showing them that although birds share many standard features, each kind is also wonderfully unique!","English",22.6,16.95,"598--dc23","24 pp.",{"$f":"Table1[[#This Row],['# Books]]*Table1[[#This Row],[QTY]]","v":0},{"$f":"Table1[[#This Row],[QTY]]*Table1[[#This Row],[S&L Price]]","v":0}]
[null,null,27,null,"Animals from Head to Tail",1,"Birds from Head to Tail","eBook","978-1-4824-4529-9",2017,"August 2016",null,null,"Author","Reese Archer",0.9,0.5,null,null,"C",null,"Grade K","Grade K - 2","Birds are truly remarkable creatures. Though they all have the same basic body parts, there is so much variety between each type of bird. For instance, the feet of a duck are much different than the feet of a robin, and birds’ feathers come in every color of the rainbow! Through accessible language and vibrant photographs, this book introduces beginning readers to some of the similarities and differences of our feathered friends, showing them that although birds share many standard features, each kind is also wonderfully unique!","English",22.6,16.95,"598--dc23","24 pp.",{"$f":"Table1[[#This Row],['# Books]]*Table1[[#This Row],[QTY]]","v":0},{"$f":"Table1[[#This Row],[QTY]]*Table1[[#This Row],[S&L Price]]","v":0}]
[null,null,27,null,"Animals from Head to Tail",1,"Cats from Head to Tail","Library Bound Book","978-1-4824-4536-7",2017,"August 2016","Library","7.625 X 7.125","Author","Tristan Noe",0.9,0.5,null,null,"C",null,"Grade K","Grade K - 2","Cats are popular pets all around the world, and no two breeds are exactly the same. Through accessible text accompanied by colorful photographs, this book introduces beginning readers to a cat’s basic body parts, and also explores the many differences between these feline friends that make each kind unique. From long-haired to short-haired and everything in between, young readers will delight in learning about all the amazing attributes of these beloved family pets!","English",22.6,16.95,"636.8--dc23","24 pp.",{"$f":"Table1[[#This Row],['# Books]]*Table1[[#This Row],[QTY]]","v":0},{"$f":"Table1[[#This Row],[QTY]]*Table1[[#This Row],[S&L Price]]","v":0}]
[null,null,27,null,"Animals from Head to Tail",1,"Cats from Head to Tail","eBook","978-1-4824-4530-5",2017,"August 2016",null,null,"Author","Tristan Noe",0.9,0.5,null,null,"C",null,"Grade K","Grade K - 2","Cats are popular pets all around the world, and no two breeds are exactly the same. Through accessible text accompanied by colorful photographs, this book introduces beginning readers to a cat’s basic body parts, and also explores the many differences between these feline friends that make each kind unique. From long-haired to short-haired and everything in between, young readers will delight in learning about all the amazing attributes of these beloved family pets!","English",22.6,16.95,"636.8--dc23","24 pp.",{"$f":"Table1[[#This Row],['# Books]]*Table1[[#This Row],[QTY]]","v":0},{"$f":"Table1[[#This Row],[QTY]]*Table1[[#This Row],[S&L Price]]","v":0}]
[null,null,27,null,"Animals from Head to Tail",1,"Dogs from Head to Tail","Library Bound Book","978-1-4824-4537-4",2017,"August 2016","Library","7.625 X 7.125","Author","Cole Mair",1,0.5,null,null,"C",null,"Grade K","Grade K - 2","A dog may be man’s best friend, but how much do we know about these loyal animals? There are so many different breeds with different attributes—from a boxer’s distinct colors to a bulldog’s unique nose. This book introduces beginning readers to the world of dogs, using accessible language and adorable photographs to give a close-up look at one of the most popular pets on the planet. Young readers will learn that although dogs all share common features, each kind has its own special charm!","English",22.6,16.95,"636.7--dc23","24 pp.",{"$f":"Table1[[#This Row],['# Books]]*Table1[[#This Row],[QTY]]","v":0},{"$f":"Table1[[#This Row],[QTY]]*Table1[[#This Row],[S&L Price]]","v":0}]
[null,null,27,null,"Animals from Head to Tail",1,"Dogs from Head to Tail","eBook","978-1-4824-4531-2",2017,"August 2016",null,null,"Author","Cole Mair",1,0.5,null,null,"C",null,"Grade K","Grade K - 2","A dog may be man’s best friend, but how much do we know about these loyal animals? There are so many different breeds with different attributes—from a boxer’s distinct colors to a bulldog’s unique nose. This book introduces beginning readers to the world of dogs, using accessible language and adorable photographs to give a close-up look at one of the most popular pets on the planet. Young readers will learn that although dogs all share common features, each kind has its own special charm!","English",22.6,16.95,"636.7--dc23","24 pp.",{"$f":"Table1[[#This Row],['# Books]]*Table1[[#This Row],[QTY]]","v":0},{"$f":"Table1[[#This Row],[QTY]]*Table1[[#This Row],[S&L Price]]","v":0}]
[null,null,27,null,"Animals from Head to Tail",1,"Fish from Head to Tail","Library Bound Book","978-1-4824-4538-1",2017,"August 2016","Library","7.625 X 7.125","Author","Bill Spunter",0.9,0.5,null,null,"C",null,"Grade K","Grade K - 2","Fish are at home in the water, but that doesn’t mean we can’t get up close and personal with these colorful creatures. From the goldfish we keep as pets to the big fish that live in our oceans, there is plenty of variety to be found among the fins and gills these animals all have. This book for beginning readers explores the watery world of fish both big and small, using accessible language and vivid photographs to show that although fish all share similar features, they are all distinct in amazing ways.","English",22.6,16.95,"597--dc23","24 pp.",{"$f":"Table1[[#This Row],['# Books]]*Table1[[#This Row],[QTY]]","v":0},{"$f":"Table1[[#This Row],[QTY]]*Table1[[#This Row],[S&L Price]]","v":0}]
[null,null,27,null,"Animals from Head to Tail",1,"Fish from Head to Tail","eBook","978-1-4824-4532-9",2017,"August 2016",null,null,"Author","Bill Spunter",0.9,0.5,null,null,"C",null,"Grade K","Grade K - 2","Fish are at home in the water, but that doesn’t mean we can’t get up close and personal with these colorful creatures. From the goldfish we keep as pets to the big fish that live in our oceans, there is plenty of variety to be found among the fins and gills these animals all have. This book for beginning readers explores the watery world of fish both big and small, using accessible language and vivid photographs to show that although fish all share similar features, they are all distinct in amazing ways.","English",22.6,16.95,"597--dc23","24 pp.",{"$f":"Table1[[#This Row],['# Books]]*Table1[[#This Row],[QTY]]","v":0},{"$f":"Table1[[#This Row],[QTY]]*Table1[[#This Row],[S&L Price]]","v":0}]
[null,null,27,null,"Animals from Head to Tail",1,"Hamsters from Head to Tail","Library Bound Book","978-1-4824-4539-8",2017,"August 2016","Library","7.625 X 7.125","Author","Don LeChamp",0.9,0.5,null,null,"C",null,"Grade K","Grade K - 2","Hamsters are small creatures with lots of variety among their different species. These adorable rodents may be known for nibbling on food or running around a tiny wheel, but there’s much more going on in their little worlds. From golden hamsters living in the wild in Turkey to the hamsters at the pet store, these amazing creatures have lots of variety in color, size, and shape. Through accessible language accompanied by vibrant photographs, this book explores those nuances and shows beginning readers how hamsters use their remarkable body parts both in captivity and in the wild.","English",22.6,16.95,"636.935’6--dc23","24 pp.",{"$f":"Table1[[#This Row],['# Books]]*Table1[[#This Row],[QTY]]","v":0},{"$f":"Table1[[#This Row],[QTY]]*Table1[[#This Row],[S&L Price]]","v":0}]
[null,null,27,null,"Animals from Head to Tail",1,"Hamsters from Head to Tail","eBook","978-1-4824-4533-6",2017,"August 2016",null,null,"Author","Don LeChamp",0.9,0.5,null,null,"C",null,"Grade K","Grade K - 2","Hamsters are small creatures with lots of variety among their different species. These adorable rodents may be known for nibbling on food or running around a tiny wheel, but there’s much more going on in their little worlds. From golden hamsters living in the wild in Turkey to the hamsters at the pet store, these amazing creatures have lots of variety in color, size, and shape. Through accessible language accompanied by vibrant photographs, this book explores those nuances and shows beginning readers how hamsters use their remarkable body parts both in captivity and in the wild.","English",22.6,16.95,"636.935’6--dc23","24 pp.",{"$f":"Table1[[#This Row],['# Books]]*Table1[[#This Row],[QTY]]","v":0},{"$f":"Table1[[#This Row],[QTY]]*Table1[[#This Row],[S&L Price]]","v":0}]
[null,null,27,null,"Animals from Head to Tail",1,"Turtles from Head to Tail","Library Bound Book","978-1-4824-4540-4",2017,"August 2016","Library","7.625 X 7.125","Author","Jen Trifer",0.9,0.5,null,null,"C",null,"Grade K","Grade K - 2","Some turtles make great pets, but others do not. So how can people tell the difference? Through accessible text paired with colorful photographs, this book allows beginning readers to explore the world of turtles, taking a close look at the physical attributes that make these slow-moving creatures unique. From their hard shells—called carapaces—to their different kinds of feet, turtles are as varied in physical makeup as they are in temperament. Young readers will learn that while a box turtle is a pet-friendly choice, they’ll want to stay far away from the sharp bite of an alligator snapping turtle!","English",22.6,16.95,"597.92--dc23","24 pp.",{"$f":"Table1[[#This Row],['# Books]]*Table1[[#This Row],[QTY]]","v":0},{"$f":"Table1[[#This Row],[QTY]]*Table1[[#This Row],[S&L Price]]","v":0}]
[null,null,27,null,"Animals from Head to Tail",1,"Turtles from Head to Tail","eBook","978-1-4824-4534-3",2017,"August 2016",null,null,"Author","Jen Trifer",0.9,0.5,null,null,"C",null,"Grade K","Grade K - 2","Some turtles make great pets, but others do not. So how can people tell the difference? Through accessible text paired with colorful photographs, this book allows beginning readers to explore the world of turtles, taking a close look at the physical attributes that make these slow-moving creatures unique. From their hard shells—called carapaces—to their different kinds of feet, turtles are as varied in physical makeup as they are in temperament. Young readers will learn that while a box turtle is a pet-friendly choice, they’ll want to stay far away from the sharp bite of an alligator snapping turtle!","English",22.6,16.95,"597.92--dc23","24 pp.",{"$f":"Table1[[#This Row],['# Books]]*Table1[[#This Row],[QTY]]","v":0},{"$f":"Table1[[#This Row],[QTY]]*Table1[[#This Row],[S&L Price]]","v":0}]
[null,null,27,null,"Jungle Animals",6,"Jungle Animals","Library Set","978-1-4824-1630-5",2015,"January 2015","Library","7.625 X 7.125","Author","Rob Ryndak",null,null,null,null,null,null,"Grade K","Grade K - 2","Jungles are teeming with life, and young readers love to learn about all the wild animals that call them home. With simple text and age-appropriate content matched with vibrant photographs of animals such as bats, toucans, and parrots, these books will teach readers about the fun lives that animals lead in the trees and rivers that make up their home. \n\n•          ATOS reading level below 1.0  \n\n•          High-interest topic that will appeal to even reluctant readers  \n\n•          Introduction to informational-text features, such as an index and table of contents","English",135.6,101.7,null,"24 pp.",{"$f":"Table1[[#This Row],['# Books]]*Table1[[#This Row],[QTY]]","v":0},{"$f":"Table1[[#This Row],[QTY]]*Table1[[#This Row],[S&L Price]]","v":0}]
[null,null,27,null,"Jungle Animals",1,"Bats","Library Bound Book","978-1-4824-1744-9",2015,"January 2015","Library","7.625 X 7.125","Author","Rob Ryndak",0.9,0.5,null,null,"C",null,"Grade K","Grade K - 2","People might not normally think of bats when they think about jungle animals, but the trees are full of these winged wonders. At night, bats fly from tree to tree in the jungle looking for food and places to call home. Beginning readers take an up close and personal look at these wild animals thanks to accessible text and stunning photographs that show where these creatures like to live, when you can see them, and what they are eating in the diverse jungle ecosystem.","English",22.6,16.95,"599.4","24 pp.",{"$f":"Table1[[#This Row],['# Books]]*Table1[[#This Row],[QTY]]","v":0},{"$f":"Table1[[#This Row],[QTY]]*Table1[[#This Row],[S&L Price]]","v":0}]
[null,null,27,null,"Jungle Animals",1,"Bats","eBook","978-1-4824-1747-0",2015,"January 2015",null,null,"Author","Rob Ryndak",0.9,0.5,null,null,"C",null,"Grade K","Grade K - 2","People might not normally think of bats when they think about jungle animals, but the trees are full of these winged wonders. At night, bats fly from tree to tree in the jungle looking for food and places to call home. Beginning readers take an up close and personal look at these wild animals thanks to accessible text and stunning photographs that show where these creatures like to live, when you can see them, and what they are eating in the diverse jungle ecosystem.","English",22.6,16.95,"599.4","24 pp.",{"$f":"Table1[[#This Row],['# Books]]*Table1[[#This Row],[QTY]]","v":0},{"$f":"Table1[[#This Row],[QTY]]*Table1[[#This Row],[S&L Price]]","v":0}]
[null,null,27,null,"Jungle Animals",1,"Crocodiles","Library Bound Book","978-1-4824-1748-7",2015,"January 2015","Library","7.625 X 7.125","Author","Rob Ryndak",0.9,0.5,null,null,"C",null,"Grade K","Grade K - 2","Crocodiles spend lots of time in the water, which makes them perfect jungle animals. Whether on land or in rivers and streams, these fierce animals love to hunt whatever jungle critters get in their way. With their sharp teeth and strong, long bodies, these crocs are waiting to make a meal out of anything unfortunate enough to get close to their strong jaws. Readers will love diving into the jungle waters and getting a look at crocodiles with the help of detailed photographs that show just how dangerous—and interesting—these jungle animals really are.","English",22.6,16.95,"597.98","24 pp.",{"$f":"Table1[[#This Row],['# Books]]*Table1[[#This Row],[QTY]]","v":0},{"$f":"Table1[[#This Row],[QTY]]*Table1[[#This Row],[S&L Price]]","v":0}]
[null,null,27,null,"Jungle Animals",1,"Crocodiles","eBook","978-1-4824-1751-7",2015,"January 2015",null,null,"Author","Rob Ryndak",0.9,0.5,null,null,"C",null,"Grade K","Grade K - 2","Crocodiles spend lots of time in the water, which makes them perfect jungle animals. Whether on land or in rivers and streams, these fierce animals love to hunt whatever jungle critters get in their way. With their sharp teeth and strong, long bodies, these crocs are waiting to make a meal out of anything unfortunate enough to get close to their strong jaws. Readers will love diving into the jungle waters and getting a look at crocodiles with the help of detailed photographs that show just how dangerous—and interesting—these jungle animals really are.","English",22.6,16.95,"597.98","24 pp.",{"$f":"Table1[[#This Row],['# Books]]*Table1[[#This Row],[QTY]]","v":0},{"$f":"Table1[[#This Row],[QTY]]*Table1[[#This Row],[S&L Price]]","v":0}]
[null,null,27,null,"Jungle Animals",1,"Monkeys","Library Bound Book","978-1-4824-1752-4",2015,"January 2015","Library","7.625 X 7.125","Author","Rob Ryndak",0.9,0.5,null,null,"C",null,"Grade K","Grade K - 2","Many different kinds of monkeys call the trees in the jungle home. Beginning readers will love the amazing photographs of the many varieties featured in this book. From the loud howler monkeys to the distinctive colors and behaviors of the many other jungle primates, this book will take readers deep into the heart of the jungle environment and show them what’s living among the dense foliage.","English",22.6,16.95,"599.8","24 pp.",{"$f":"Table1[[#This Row],['# Books]]*Table1[[#This Row],[QTY]]","v":0},{"$f":"Table1[[#This Row],[QTY]]*Table1[[#This Row],[S&L Price]]","v":0}]
[null,null,27,null,"Jungle Animals",1,"Monkeys","eBook","978-1-4824-1755-5",2015,"January 2015",null,null,"Author","Rob Ryndak",0.9,0.5,null,null,"C",null,"Grade K","Grade K - 2","Many different kinds of monkeys call the trees in the jungle home. Beginning readers will love the amazing photographs of the many varieties featured in this book. From the loud howler monkeys to the distinctive colors and behaviors of the many other jungle primates, this book will take readers deep into the heart of the jungle environment and show them what’s living among the dense foliage.","English",22.6,16.95,"599.8","24 pp.",{"$f":"Table1[[#This Row],['# Books]]*Table1[[#This Row],[QTY]]","v":0},{"$f":"Table1[[#This Row],[QTY]]*Table1[[#This Row],[S&L Price]]","v":0}]
[null,null,27,null,"Jungle Animals",1,"Parrots","Library Bound Book","978-1-4824-1756-2",2015,"January 2015","Library","7.625 X 7.125","Author","Rob Ryndak",0.9,0.5,null,null,"C",null,"Grade K","Grade K - 2","Parrots are colorful birds that live an exciting life in the jungle. With more than 350 kinds of parrots on Earth, there’s a lot to learn about these creatures. From their diet of nuts and fruits to a look at the parrots that sing and talk, early readers will love the color photographs and accessible text that will teach them all about these feathered friends.","English",22.6,16.95,"598.7","24 pp.",{"$f":"Table1[[#This Row],['# Books]]*Table1[[#This Row],[QTY]]","v":0},{"$f":"Table1[[#This Row],[QTY]]*Table1[[#This Row],[S&L Price]]","v":0}]
[null,null,27,null,"Jungle Animals",1,"Parrots","eBook","978-1-4824-1759-3",2015,"January 2015",null,null,"Author","Rob Ryndak",0.9,0.5,null,null,"C",null,"Grade K","Grade K - 2","Parrots are colorful birds that live an exciting life in the jungle. With more than 350 kinds of parrots on Earth, there’s a lot to learn about these creatures. From their diet of nuts and fruits to a look at the parrots that sing and talk, early readers will love the color photographs and accessible text that will teach them all about these feathered friends.","English",22.6,16.95,"598.7","24 pp.",{"$f":"Table1[[#This Row],['# Books]]*Table1[[#This Row],[QTY]]","v":0},{"$f":"Table1[[#This Row],[QTY]]*Table1[[#This Row],[S&L Price]]","v":0}]
[null,null,27,null,"Jungle Animals",1,"Sloths","Library Bound Book","978-1-4824-1760-9",2015,"January 2015","Library","7.625 X 7.125","Author","Rob Ryndak",0.9,0.5,null,null,"C",null,"Grade K","Grade K - 2","Long ago, giant sloths taller than humans roamed the Earth. Today’s much smaller sloths are just as interesting—and very cute! Through great photographs and accessible text, beginning readers will love exploring the world of sloths. That means spending lots of time in the jungle’s dense trees because sloths’ legs aren’t very strong! These animals love to hang out and find food for their babies in the trees they call home. Readers will learn that these sleepy creatures do leave trees sometimes: they love to go for a swim!","English",22.6,16.95,"599.3","24 pp.",{"$f":"Table1[[#This Row],['# Books]]*Table1[[#This Row],[QTY]]","v":0},{"$f":"Table1[[#This Row],[QTY]]*Table1[[#This Row],[S&L Price]]","v":0}]
[null,null,27,null,"Jungle Animals",1,"Sloths","eBook","978-1-4824-1763-0",2015,"January 2015",null,null,"Author","Rob Ryndak",0.9,0.5,null,null,"C",null,"Grade K","Grade K - 2","Long ago, giant sloths taller than humans roamed the Earth. Today’s much smaller sloths are just as interesting—and very cute! Through great photographs and accessible text, beginning readers will love exploring the world of sloths. That means spending lots of time in the jungle’s dense trees because sloths’ legs aren’t very strong! These animals love to hang out and find food for their babies in the trees they call home. Readers will learn that these sleepy creatures do leave trees sometimes: they love to go for a swim!","English",22.6,16.95,"599.3","24 pp.",{"$f":"Table1[[#This Row],['# Books]]*Table1[[#This Row],[QTY]]","v":0},{"$f":"Table1[[#This Row],[QTY]]*Table1[[#This Row],[S&L Price]]","v":0}]
[null,null,27,null,"Jungle Animals",1,"Toucans","Library Bound Book","978-1-4824-1764-7",2015,"January 2015","Library","7.625 X 7.125","Author","Rob Ryndak",0.9,0.5,null,null,"C",null,"Grade K","Grade K - 2","Toucans are most known for their bright, colorful beaks, but there is plenty more to learn about these interesting jungle birds. For instance, toucans like to play! They sometimes throw their food back and forth using their big, striped bills. Early readers will love learning about baby toucans, which don’t grow colorful bills until later in life. With the help of color photographs and accessible text, young readers will be captivated by life among the toucan flock in this exciting book.","English",22.6,16.95,"598.7","24 pp.",{"$f":"Table1[[#This Row],['# Books]]*Table1[[#This Row],[QTY]]","v":0},{"$f":"Table1[[#This Row],[QTY]]*Table1[[#This Row],[S&L Price]]","v":0}]
[null,null,27,null,"Jungle Animals",1,"Toucans","eBook","978-1-4824-1767-8",2015,"January 2015",null,null,"Author","Rob Ryndak",0.9,0.5,null,null,"C",null,"Grade K","Grade K - 2","Toucans are most known for their bright, colorful beaks, but there is plenty more to learn about these interesting jungle birds. For instance, toucans like to play! They sometimes throw their food back and forth using their big, striped bills. Early readers will love learning about baby toucans, which don’t grow colorful bills until later in life. With the help of color photographs and accessible text, young readers will be captivated by life among the toucan flock in this exciting book.","English",22.6,16.95,"598.7","24 pp.",{"$f":"Table1[[#This Row],['# Books]]*Table1[[#This Row],[QTY]]","v":0},{"$f":"Table1[[#This Row],[QTY]]*Table1[[#This Row],[S&L Price]]","v":0}]
[null,null,28,null,"Itty Bitty Animals",6,"Itty Bitty Animals","Library Set","978-1-4339-9904-8",2014,"January 2014","Library","7.125 X 7.625",null,"",null,null,null,null,null,null,"Grade K","Grade K - 2","Small animals aren’t always babies. Some of the most interesting animals on Earth could fit in your hand when they’re fully grown! From bitty but dangerous tree frogs to entire armies of tiny ants and guppies in all colors of the rainbow, this series spotlights some of the world’s smallest—and coolest—animals. Young readers will explore beginning life science concepts through accessible text and crisp full-color photographs of itty bitty animals. A picture glossary reinforces vocabulary.    • Strong picture-text correlation aids in comprehension • Reading level supports beginning readers • Picture glossary helps develop vocabulary skills • Comprehendible index guides readers through each book  ","English",135.6,101.7,null,"24 pp.",{"$f":"Table1[[#This Row],['# Books]]*Table1[[#This Row],[QTY]]","v":0},{"$f":"Table1[[#This Row],[QTY]]*Table1[[#This Row],[S&L Price]]","v":0}]
[null,null,28,null,"Itty Bitty Animals",1,"Itty Bitty Ants","Library Bound Book","978-1-4339-9874-4",2014,"January 2014","Library","7.625 X 7.125","Author","Jasper Baer",1.1000000000000001,0.5,3,null,"C",null,"Grade K","Grade K - 2","Ants are some of the most interesting—and bountiful—animals on the planet. With thousands of different kinds, there’s plenty to learn about these little insects. Learn how army ants work together to find food, how fire ants can float on water, and how these animals group together to survive in this engaging book for young readers. With great science content and a fun picture gallery, early readers will love learning about the tiny world below their feet.    • Strong picture-text correlation aids in comprehension • Reading level supports beginning readers • Picture glossary helps develop vocabulary skills • Comprehendible index guides readers through each book  ","English",22.6,16.95,"597.878","24 pp.",{"$f":"Table1[[#This Row],['# Books]]*Table1[[#This Row],[QTY]]","v":0},{"$f":"Table1[[#This Row],[QTY]]*Table1[[#This Row],[S&L Price]]","v":0}]
[null,null,28,null,"Itty Bitty Animals",1,"Itty Bitty Ants","eBook","978-1-4339-9875-1",2014,"January 2014",null,null,"Author","Jasper Baer",1.1000000000000001,0.5,3,null,"C",null,"Grade K","Grade K - 2","Ants are some of the most interesting—and bountiful—animals on the planet. With thousands of different kinds, there’s plenty to learn about these little insects. Learn how army ants work together to find food, how fire ants can float on water, and how these animals group together to survive in this engaging book for young readers. With great science content and a fun picture gallery, early readers will love learning about the tiny world below their feet.    • Strong picture-text correlation aids in comprehension • Reading level supports beginning readers • Picture glossary helps develop vocabulary skills • Comprehendible index guides readers through each book  ","English",22.6,16.95,"597.878","24 pp.",{"$f":"Table1[[#This Row],['# Books]]*Table1[[#This Row],[QTY]]","v":0},{"$f":"Table1[[#This Row],[QTY]]*Table1[[#This Row],[S&L Price]]","v":0}]
[null,null,28,null,"Itty Bitty Animals",1,"Itty Bitty Geckos","Library Bound Book","978-1-4339-9878-2",2014,"January 2014","Library","7.625 X 7.125","Author","T. H. Baer",1.1000000000000001,0.5,3,null,"C",null,"Grade K","Grade K - 2","There are thousands of kinds of itty bitty geckos, and each one of them has a story behind their lives. In this awesome early concepts book, learn how geckos stay safe thanks to their bright colors and use their amazing feet to climb all over the place. What happens when a gecko loses its tail? What if it gets something in its eye? This exciting book filled with scientific facts and a fun picture glossary has all the answers, and more!    • Strong picture-text correlation aids in comprehension • Reading level supports beginning readers • Picture glossary helps develop vocabulary skills • Comprehendible index guides readers through each book  ","English",22.6,16.95,"597.952","24 pp.",{"$f":"Table1[[#This Row],['# Books]]*Table1[[#This Row],[QTY]]","v":0},{"$f":"Table1[[#This Row],[QTY]]*Table1[[#This Row],[S&L Price]]","v":0}]
[null,null,28,null,"Itty Bitty Animals",1,"Itty Bitty Geckos","eBook","978-1-4339-9879-9",2014,"January 2014",null,"7.125 X 7.625","Author","T. H. Baer",1.1000000000000001,0.5,3,null,"C",null,"Grade K","Grade K - 2","There are thousands of kinds of itty bitty geckos, and each one of them has a story behind their lives. In this awesome early concepts book, learn how geckos stay safe thanks to their bright colors and use their amazing feet to climb all over the place. What happens when a gecko loses its tail? What if it gets something in its eye? This exciting book filled with scientific facts and a fun picture glossary has all the answers, and more!    • Strong picture-text correlation aids in comprehension • Reading level supports beginning readers • Picture glossary helps develop vocabulary skills • Comprehendible index guides readers through each book  ","English",22.6,16.95,"597.952","24 pp.",{"$f":"Table1[[#This Row],['# Books]]*Table1[[#This Row],[QTY]]","v":0},{"$f":"Table1[[#This Row],[QTY]]*Table1[[#This Row],[S&L Price]]","v":0}]
[null,null,28,null,"Itty Bitty Animals",1,"Itty Bitty Guppies","Library Bound Book","978-1-4339-9882-9",2014,"January 2014","Library","7.625 X 7.125","Author","Alex Lumpy",1.1000000000000001,0.5,3,null,"C",null,"Grade K","Grade K - 2","Guppies are tiny little fish, but they have a big story to tell. These colorful creatures were discovered in 1866 and come in many shapes and sizes. Some have even become pets for people all over the world. In this exciting book filled with scientific facts and an awesome picture gallery, learn more about the tiny world of guppies.    • Strong picture-text correlation aids in comprehension • Reading level supports beginning readers • Picture glossary helps develop vocabulary skills • Comprehendible index guides readers through each book  ","English",22.6,16.95,"639.3757","24 pp.",{"$f":"Table1[[#This Row],['# Books]]*Table1[[#This Row],[QTY]]","v":0},{"$f":"Table1[[#This Row],[QTY]]*Table1[[#This Row],[S&L Price]]","v":0}]
[null,null,28,null,"Itty Bitty Animals",1,"Itty Bitty Guppies","eBook","978-1-4339-9883-6",2014,"January 2014",null,null,"Author","Alex Lumpy",1.1000000000000001,0.5,3,null,"C",null,"Grade K","Grade K - 2","Guppies are tiny little fish, but they have a big story to tell. These colorful creatures were discovered in 1866 and come in many shapes and sizes. Some have even become pets for people all over the world. In this exciting book filled with scientific facts and an awesome picture gallery, learn more about the tiny world of guppies.    • Strong picture-text correlation aids in comprehension • Reading level supports beginning readers • Picture glossary helps develop vocabulary skills • Comprehendible index guides readers through each book  ","English",22.6,16.95,"639.3757","24 pp.",{"$f":"Table1[[#This Row],['# Books]]*Table1[[#This Row],[QTY]]","v":0},{"$f":"Table1[[#This Row],[QTY]]*Table1[[#This Row],[S&L Price]]","v":0}]
[null,null,28,null,"Itty Bitty Animals",1,"Itty Bitty Hummingbirds","Library Bound Book","978-1-4339-9886-7",2014,"January 2014","Library","7.625 X 7.125","Author","Peter Griff",1.2,0.5,3,null,"C",null,"Grade K","Grade K - 2","Hummingbirds are some of the smallest and most interesting animals on the planet. With more than 300 kinds floating and fluttering, there’s lots to learn about these tiny birds. Learn what causes them to hum and what they like to eat. The smallest birds on earth are full of fun facts, and an awesome picture glossary will help young readers learn concepts and definitions with this great book.    • Strong picture-text correlation aids in comprehension • Reading level supports beginning readers • Picture glossary helps develop vocabulary skills • Comprehendible index guides readers through each book  ","English",22.6,16.95,"598.764","24 pp.",{"$f":"Table1[[#This Row],['# Books]]*Table1[[#This Row],[QTY]]","v":0},{"$f":"Table1[[#This Row],[QTY]]*Table1[[#This Row],[S&L Price]]","v":0}]
[null,null,28,null,"Itty Bitty Animals",1,"Itty Bitty Hummingbirds","eBook","978-1-4339-9887-4",2014,"January 2014",null,null,"Author","Peter Griff",1.2,0.5,3,null,"C",null,"Grade K","Grade K - 2","Hummingbirds are some of the smallest and most interesting animals on the planet. With more than 300 kinds floating and fluttering, there’s lots to learn about these tiny birds. Learn what causes them to hum and what they like to eat. The smallest birds on earth are full of fun facts, and an awesome picture glossary will help young readers learn concepts and definitions with this great book.    • Strong picture-text correlation aids in comprehension • Reading level supports beginning readers • Picture glossary helps develop vocabulary skills • Comprehendible index guides readers through each book  ","English",22.6,16.95,"598.764","24 pp.",{"$f":"Table1[[#This Row],['# Books]]*Table1[[#This Row],[QTY]]","v":0},{"$f":"Table1[[#This Row],[QTY]]*Table1[[#This Row],[S&L Price]]","v":0}]
[null,null,28,null,"Itty Bitty Animals",1,"Itty Bitty Mice","Library Bound Book","978-1-4339-9890-4",2014,"January 2014","Library","7.625 X 7.125","Author","Jay Moose",1,0.5,3,null,"C",null,"Grade K","Grade K - 2","Some people are afraid of mice, but these tiny critters are full of interesting facts. Learn how little mice are taken care of and how some of these itty bitty animals are even kept as pets or used to run tests. From tiny pink pups to wild mice invading your home, these animals will help readers learn definitions and early concepts with the use of full-color pictures and a great picture glossary.    • Strong picture-text correlation aids in comprehension • Reading level supports beginning readers • Picture glossary helps develop vocabulary skills • Comprehendible index guides readers through each book  ","English",22.6,16.95,"599.353","24 pp.",{"$f":"Table1[[#This Row],['# Books]]*Table1[[#This Row],[QTY]]","v":0},{"$f":"Table1[[#This Row],[QTY]]*Table1[[#This Row],[S&L Price]]","v":0}]
[null,null,28,null,"Itty Bitty Animals",1,"Itty Bitty Mice","eBook","978-1-4339-9891-1",2014,"January 2014",null,null,"Author","Jay Moose",1,0.5,3,null,"C",null,"Grade K","Grade K - 2","Some people are afraid of mice, but these tiny critters are full of interesting facts. Learn how little mice are taken care of and how some of these itty bitty animals are even kept as pets or used to run tests. From tiny pink pups to wild mice invading your home, these animals will help readers learn definitions and early concepts with the use of full-color pictures and a great picture glossary.    • Strong picture-text correlation aids in comprehension • Reading level supports beginning readers • Picture glossary helps develop vocabulary skills • Comprehendible index guides readers through each book  ","English",22.6,16.95,"599.353","24 pp.",{"$f":"Table1[[#This Row],['# Books]]*Table1[[#This Row],[QTY]]","v":0},{"$f":"Table1[[#This Row],[QTY]]*Table1[[#This Row],[S&L Price]]","v":0}]
[null,null,28,null,"Itty Bitty Animals",1,"Itty Bitty Tree Frogs","Library Bound Book","978-1-4339-9894-2",2014,"January 2014","Library","7.625 X 7.125","Author","Gunner Quick",1.1000000000000001,0.5,3,null,"C",null,"Grade K","Grade K - 2","Tree frogs are some of the smallest—and most dangerous—animals in a rain forest. Learn more about these bright creatures and how they use their long legs to leap all over the place. Toxic poison dart frogs are dangerous, but many of these itty bitty creatures are kept as pets and admired for their sticky feet and ability to change colors!    • Strong picture-text correlation aids in comprehension • Reading level supports beginning readers • Picture glossary helps develop vocabulary skills • Comprehendible index guides readers through each book  ","English",22.6,16.95,"597.878","24 pp.",{"$f":"Table1[[#This Row],['# Books]]*Table1[[#This Row],[QTY]]","v":0},{"$f":"Table1[[#This Row],[QTY]]*Table1[[#This Row],[S&L Price]]","v":0}]
[null,null,28,null,"Itty Bitty Animals",1,"Itty Bitty Tree Frogs","eBook","978-1-4339-9895-9",2014,"January 2014",null,null,"Author","Gunner Quick",1.1000000000000001,0.5,3,null,"C",null,"Grade K","Grade K - 2","Tree frogs are some of the smallest—and most dangerous—animals in a rain forest. Learn more about these bright creatures and how they use their long legs to leap all over the place. Toxic poison dart frogs are dangerous, but many of these itty bitty creatures are kept as pets and admired for their sticky feet and ability to change colors!    • Strong picture-text correlation aids in comprehension • Reading level supports beginning readers • Picture glossary helps develop vocabulary skills • Comprehendible index guides readers through each book  ","English",22.6,16.95,"597.878","24 pp.",{"$f":"Table1[[#This Row],['# Books]]*Table1[[#This Row],[QTY]]","v":0},{"$f":"Table1[[#This Row],[QTY]]*Table1[[#This Row],[S&L Price]]","v":0}]
[null,null,28,null,"Zoo Animals",6,"Zoo Animals","Library Set","978-1-4824-2539-0",2016,"August 2015","Library","7.625 X 7.125",null,"",null,null,null,null,null,null,"Grade K","Grade K - 2","A trip to the zoo is an exciting experience for anyone. Beginning readers will love exploring the lives of giraffes, gorillas, ostriches, and other spectacular animals often found at zoos. Young learners will explore the lives of many different zoo creatures, taking a look inside different habitats to find out just how these animals spend their days in various zoo environments. Vibrant photos help show favorite animals living and playing in their amazing zoo homes.\n\n\n\n•          ATOS reading level below 1.0\n\n•           High-interest topic will appeal to even reluctant readers\n\n•           Introduction to informational-text features, such as an index and table of contents\n\n","English",135.6,101.7,null,"24 pp.",{"$f":"Table1[[#This Row],['# Books]]*Table1[[#This Row],[QTY]]","v":0},{"$f":"Table1[[#This Row],[QTY]]*Table1[[#This Row],[S&L Price]]","v":0}]
[null,null,28,null,"Zoo Animals",1,"Elephants at the Zoo","Library Bound Book","978-1-4824-2591-8",2016,"August 2015","Library","7.625 X 7.125","Author","Finn Ward",0.9,0.5,null,null,"C",null,"Grade K","Grade K - 2","Elephants are incredibly large animals that need lots of space to roam. Making them feel at home in a zoo is a tough job, but lots of people work hard every day to keep these amazing creatures happy. Through accessible text and vibrant photographs, budding readers will learn about the zookeepers that feed and care for elephants, as well as help them raise their young. From their big ears to their big appetites, there’s a lot to learn about elephants at the zoo.","English",22.6,16.95,"599.67","24 pp.",{"$f":"Table1[[#This Row],['# Books]]*Table1[[#This Row],[QTY]]","v":0},{"$f":"Table1[[#This Row],[QTY]]*Table1[[#This Row],[S&L Price]]","v":0}]
[null,null,28,null,"Zoo Animals",1,"Elephants at the Zoo","eBook","978-1-4824-2592-5",2016,"August 2015",null,null,"Author","Finn Ward",0.9,0.5,null,null,"C",null,"Grade K","Grade K - 2","Elephants are incredibly large animals that need lots of space to roam. Making them feel at home in a zoo is a tough job, but lots of people work hard every day to keep these amazing creatures happy. Through accessible text and vibrant photographs, budding readers will learn about the zookeepers that feed and care for elephants, as well as help them raise their young. From their big ears to their big appetites, there’s a lot to learn about elephants at the zoo.","English",22.6,16.95,"599.67","24 pp.",{"$f":"Table1[[#This Row],['# Books]]*Table1[[#This Row],[QTY]]","v":0},{"$f":"Table1[[#This Row],[QTY]]*Table1[[#This Row],[S&L Price]]","v":0}]
[null,null,28,null,"Zoo Animals",1,"Giraffes at the Zoo","Library Bound Book","978-1-4824-2595-6",2016,"August 2015","Library","7.625 X 7.125","Author","Finn Ward",0.9,0.5,null,null,"C",null,"Grade K","Grade K - 2","Giraffes are the tallest land animals on Earth, and these big creatures have a lot to teach readers about zoo life. Through simple text and well-chosen photographs, beginning readers will love learning about a day in the life of a giraffe at the zoo. From their love of munching leaves to raising their young, giraffes are some of young readers’ favorite animals to see at the zoo.","English",22.6,16.95,"599.638","24 pp.",{"$f":"Table1[[#This Row],['# Books]]*Table1[[#This Row],[QTY]]","v":0},{"$f":"Table1[[#This Row],[QTY]]*Table1[[#This Row],[S&L Price]]","v":0}]
[null,null,28,null,"Zoo Animals",1,"Giraffes at the Zoo","eBook","978-1-4824-2596-3",2016,"August 2015",null,null,"Author","Finn Ward",0.9,0.5,null,null,"C",null,"Grade K","Grade K - 2","Giraffes are the tallest land animals on Earth, and these big creatures have a lot to teach readers about zoo life. Through simple text and well-chosen photographs, beginning readers will love learning about a day in the life of a giraffe at the zoo. From their love of munching leaves to raising their young, giraffes are some of young readers’ favorite animals to see at the zoo.","English",22.6,16.95,"599.638","24 pp.",{"$f":"Table1[[#This Row],['# Books]]*Table1[[#This Row],[QTY]]","v":0},{"$f":"Table1[[#This Row],[QTY]]*Table1[[#This Row],[S&L Price]]","v":0}]
[null,null,28,null,"Zoo Animals",1,"Gorillas at the Zoo","Library Bound Book","978-1-4824-2599-4",2016,"August 2015","Library","7.625 X 7.125","Author","Finn Ward",0.9,0.5,null,null,"C",null,"Grade K","Grade K - 2","Giraffes are the tallest land animals on Earth, and these big creatures have a lot to teach readers about zoo life. Through simple text and well-chosen photographs, beginning readers will love learning about a day in the life of a giraffe at the zoo. From their love of munching leaves to raising their young, giraffes are some of young readers’ favorite animals to see at the zoo.","English",22.6,16.95,"599.884","24 pp.",{"$f":"Table1[[#This Row],['# Books]]*Table1[[#This Row],[QTY]]","v":0},{"$f":"Table1[[#This Row],[QTY]]*Table1[[#This Row],[S&L Price]]","v":0}]
[null,null,28,null,"Zoo Animals",1,"Gorillas at the Zoo","eBook","978-1-4824-2600-7",2016,"August 2015",null,null,"Author","Finn Ward",0.9,0.5,null,null,"C",null,"Grade K","Grade K - 2","Giraffes are the tallest land animals on Earth, and these big creatures have a lot to teach readers about zoo life. Through simple text and well-chosen photographs, beginning readers will love learning about a day in the life of a giraffe at the zoo. From their love of munching leaves to raising their young, giraffes are some of young readers’ favorite animals to see at the zoo.","English",22.6,16.95,"599.884","24 pp.",{"$f":"Table1[[#This Row],['# Books]]*Table1[[#This Row],[QTY]]","v":0},{"$f":"Table1[[#This Row],[QTY]]*Table1[[#This Row],[S&L Price]]","v":0}]
[null,null,28,null,"Zoo Animals",1,"Ostriches at the Zoo","Library Bound Book","978-1-4824-2603-8",2016,"August 2015","Library","7.625 X 7.125","Author","Finn Ward",0.9,0.5,null,null,"C",null,"Grade K","Grade K - 2","Ostriches are the largest birds on Earth, and many of these supersized animals call zoos home. These big birds don’t bury their heads in the sand like many believe, but they do all sorts of amazing things. Running more than 40 miles (64.4 km) per hour and using their wings to steer as they go, these big birds will wow beginning readers with their lives inside their zoo habitats. Through simple text and full-color photography readers will also learn how zookeepers take care of ostriches and make sure they live long, happy lives.","English",22.6,16.95,"598.5","24 pp.",{"$f":"Table1[[#This Row],['# Books]]*Table1[[#This Row],[QTY]]","v":0},{"$f":"Table1[[#This Row],[QTY]]*Table1[[#This Row],[S&L Price]]","v":0}]
[null,null,28,null,"Zoo Animals",1,"Ostriches at the Zoo","eBook","978-1-4824-2604-5",2016,"August 2015",null,null,"Author","Finn Ward",0.9,0.5,null,null,"C",null,"Grade K","Grade K - 2","Ostriches are the largest birds on Earth, and many of these supersized animals call zoos home. These big birds don’t bury their heads in the sand like many believe, but they do all sorts of amazing things. Running more than 40 miles (64.4 km) per hour and using their wings to steer as they go, these big birds will wow beginning readers with their lives inside their zoo habitats. Through simple text and full-color photography readers will also learn how zookeepers take care of ostriches and make sure they live long, happy lives.","English",22.6,16.95,"598.5","24 pp.",{"$f":"Table1[[#This Row],['# Books]]*Table1[[#This Row],[QTY]]","v":0},{"$f":"Table1[[#This Row],[QTY]]*Table1[[#This Row],[S&L Price]]","v":0}]
[null,null,28,null,"Zoo Animals",1,"Penguins at the Zoo","Library Bound Book","978-1-4824-2607-6",2016,"August 2015","Library","7.625 X 7.125","Author","Finn Ward",0.9,0.5,null,null,"C",null,"Grade K","Grade K - 2","Penguins are fun animals that love to swim and play. Early readers will love taking a look at penguins’ lives inside the zoo, where the fish are plentiful at mealtime and predators can’t take a bite out of them when they go for a dive. With zookeepers taking care of these amazing waterproof birds, they live long lives entertaining countless zoo patrons with their quick swimming and playful ways inside their zoo habitats. Accessible text paired with supporting photographs offer a glimpse of readers’ favorite zoo friends!","English",22.6,16.95,"598.47","24 pp.",{"$f":"Table1[[#This Row],['# Books]]*Table1[[#This Row],[QTY]]","v":0},{"$f":"Table1[[#This Row],[QTY]]*Table1[[#This Row],[S&L Price]]","v":0}]
[null,null,28,null,"Zoo Animals",1,"Penguins at the Zoo","eBook","978-1-4824-2608-3",2016,"August 2015",null,null,"Author","Finn Ward",0.9,0.5,null,null,"C",null,"Grade K","Grade K - 2","Penguins are fun animals that love to swim and play. Early readers will love taking a look at penguins’ lives inside the zoo, where the fish are plentiful at mealtime and predators can’t take a bite out of them when they go for a dive. With zookeepers taking care of these amazing waterproof birds, they live long lives entertaining countless zoo patrons with their quick swimming and playful ways inside their zoo habitats. Accessible text paired with supporting photographs offer a glimpse of readers’ favorite zoo friends!","English",22.6,16.95,"598.47","24 pp.",{"$f":"Table1[[#This Row],['# Books]]*Table1[[#This Row],[QTY]]","v":0},{"$f":"Table1[[#This Row],[QTY]]*Table1[[#This Row],[S&L Price]]","v":0}]
[null,null,28,null,"Zoo Animals",1,"Polar Bears at the Zoo","Library Bound Book","978-1-4824-2611-3",2016,"August 2015","Library","7.625 X 7.125","Author","Finn Ward",0.8,0.5,null,null,"C",null,"Grade K","Grade K - 2","Polar bears are huge, menacing mammals that hunt for food in the wild. In the zoo, though, these big, furry animals are almost cute! Beginning readers will love learning about these big bears as trainers take care of them and their adorable bear cubs. Polar bears love to spend their time in zoos munching on carrots and fish, or even playing on rocks before going for a swim. Through simple text and supporting photographs, readers discover fun facts about these impressive predators within the safe setting of a hometown zoo. Learning about these great animals is an exciting way to gain a better understanding of nature from the comfort of your hometown zoo.","English",22.6,16.95,"599.786","24 pp.",{"$f":"Table1[[#This Row],['# Books]]*Table1[[#This Row],[QTY]]","v":0},{"$f":"Table1[[#This Row],[QTY]]*Table1[[#This Row],[S&L Price]]","v":0}]
[null,null,28,null,"Zoo Animals",1,"Polar Bears at the Zoo","eBook","978-1-4824-2612-0",2016,"August 2015",null,null,"Author","Finn Ward",0.8,0.5,null,null,"C",null,"Grade K","Grade K - 2","Polar bears are huge, menacing mammals that hunt for food in the wild. In the zoo, though, these big, furry animals are almost cute! Beginning readers will love learning about these big bears as trainers take care of them and their adorable bear cubs. Polar bears love to spend their time in zoos munching on carrots and fish, or even playing on rocks before going for a swim. Through simple text and supporting photographs, readers discover fun facts about these impressive predators within the safe setting of a hometown zoo. Learning about these great animals is an exciting way to gain a better understanding of nature from the comfort of your hometown zoo.","English",22.6,16.95,"599.786","24 pp.",{"$f":"Table1[[#This Row],['# Books]]*Table1[[#This Row],[QTY]]","v":0},{"$f":"Table1[[#This Row],[QTY]]*Table1[[#This Row],[S&L Price]]","v":0}]
[null,null,29,null,"Farm Animals",6,"Farm Animals","Library Set","978-1-4339-7674-2",2013,"August 2012","Library","7.625 X 7.125",null,"",null,null,null,null,null,null,"Grade K","Grade K - 2","Through the use of easy-to-follow text, readers discover fun facts about amazing animals found on farms. Beginning readers learn about all the things that people get from farm animals—including a chicken’s eggs and a cow’s milk. Bright photographs bring readers face-to-face with these fun farm animals. • Strong picture-text correlation aids in comprehension • High-interest topic excites young readers • Reading level provides support for beginning readers • Picture glossary aids in vocabulary development • Easy-to-use index guides readers as they navigate each book ","English",135.6,101.7,null,"24 pp.",{"$f":"Table1[[#This Row],['# Books]]*Table1[[#This Row],[QTY]]","v":0},{"$f":"Table1[[#This Row],[QTY]]*Table1[[#This Row],[S&L Price]]","v":0}]
[null,null,29,null,"Farm Animals",1,"Chickens on the Farm","Library Bound Book","978-1-4339-7344-4",2013,"August 2012","Library","7.625 X 7.125","Author","Rose Carraway",0.9,0.5,3,4,"C",null,"Grade K","Grade K - 2","Chickens are very important animals on a farm. Beginning readers discover what farmers get from chickens and many other fun facts about these birds. Easy-to-follow, accessible text allows young readers to learn where chickens live, how they sleep, and what they eat. A helpful picture glossary aids in the development of vocabulary skills, and bright photographs show what life is like for these fascinating farm animals.","English",22.6,16.95,"636.5","24 pp.",{"$f":"Table1[[#This Row],['# Books]]*Table1[[#This Row],[QTY]]","v":0},{"$f":"Table1[[#This Row],[QTY]]*Table1[[#This Row],[S&L Price]]","v":0}]
[null,null,29,null,"Farm Animals",1,"Chickens on the Farm","eBook","978-1-4339-7347-5",2013,"August 2012",null,null,"Author","Rose Carraway",0.9,0.5,3,4,"C",null,"Grade K","Grade K - 2","Chickens are very important animals on a farm. Beginning readers discover what farmers get from chickens and many other fun facts about these birds. Easy-to-follow, accessible text allows young readers to learn where chickens live, how they sleep, and what they eat. A helpful picture glossary aids in the development of vocabulary skills, and bright photographs show what life is like for these fascinating farm animals.","English",22.6,16.95,"636.5","24 pp.",{"$f":"Table1[[#This Row],['# Books]]*Table1[[#This Row],[QTY]]","v":0},{"$f":"Table1[[#This Row],[QTY]]*Table1[[#This Row],[S&L Price]]","v":0}]
[null,null,29,null,"Farm Animals",1,"Chickens on the Farm","Interactive eBook","978-1-4339-7925-5",2013,"August 2012",null,null,"Author","Rose Carraway",0.9,0.5,3,4,"C",null,"Grade K","Grade K - 2","Chickens are very important animals on a farm. Beginning readers discover what farmers get from chickens and many other fun facts about these birds. Easy-to-follow, accessible text allows young readers to learn where chickens live, how they sleep, and what they eat. A helpful picture glossary aids in the development of vocabulary skills, and bright photographs show what life is like for these fascinating farm animals.","English",33.25,24.95,"636.5","24 pp.",{"$f":"Table1[[#This Row],['# Books]]*Table1[[#This Row],[QTY]]","v":0},{"$f":"Table1[[#This Row],[QTY]]*Table1[[#This Row],[S&L Price]]","v":0}]
[null,null,29,null,"Farm Animals",1,"Cows on the Farm","Library Bound Book","978-1-4339-7348-2",2013,"August 2012","Library","7.625 X 7.125","Author","Rose Carraway",0.9,0.5,3,4,"C",null,"Grade K","Grade K - 2","Beginning readers will discover that the milk we drink comes mainly from cows, as well as other fun facts about these animals. Engaging and accessible text describes what life is like for cows on a farm as well as why cows are important to people. A picture glossary is included to help readers build strong vocabularies. Colorful photographs show a variety of farm cows, including small calves and spotted dairy cows.","English",22.6,16.95,"636.2","24 pp.",{"$f":"Table1[[#This Row],['# Books]]*Table1[[#This Row],[QTY]]","v":0},{"$f":"Table1[[#This Row],[QTY]]*Table1[[#This Row],[S&L Price]]","v":0}]
[null,null,29,null,"Farm Animals",1,"Cows on the Farm","eBook","978-1-4339-7351-2",2013,"August 2012",null,null,"Author","Rose Carraway",0.9,0.5,3,4,"C",null,"Grade K","Grade K - 2","Beginning readers will discover that the milk we drink comes mainly from cows, as well as other fun facts about these animals. Engaging and accessible text describes what life is like for cows on a farm as well as why cows are important to people. A picture glossary is included to help readers build strong vocabularies. Colorful photographs show a variety of farm cows, including small calves and spotted dairy cows.","English",22.6,16.95,"636.2","24 pp.",{"$f":"Table1[[#This Row],['# Books]]*Table1[[#This Row],[QTY]]","v":0},{"$f":"Table1[[#This Row],[QTY]]*Table1[[#This Row],[S&L Price]]","v":0}]
[null,null,29,null,"Farm Animals",1,"Cows on the Farm","Interactive eBook","978-1-4339-7927-9",2013,"August 2012",null,null,"Author","Rose Carraway",0.9,0.5,3,4,"C",null,"Grade K","Grade K - 2","Beginning readers will discover that the milk we drink comes mainly from cows, as well as other fun facts about these animals. Engaging and accessible text describes what life is like for cows on a farm as well as why cows are important to people. A picture glossary is included to help readers build strong vocabularies. Colorful photographs show a variety of farm cows, including small calves and spotted dairy cows.","English",33.25,24.95,"636.2","24 pp.",{"$f":"Table1[[#This Row],['# Books]]*Table1[[#This Row],[QTY]]","v":0},{"$f":"Table1[[#This Row],[QTY]]*Table1[[#This Row],[S&L Price]]","v":0}]
[null,null,29,null,"Farm Animals",1,"Goats on the Farm","Library Bound Book","978-1-4339-7352-9",2013,"August 2012","Library","7.625 X 7.125","Author","Rose Carraway",0.9,0.5,3,4,"C",null,"Grade K","Grade K - 2","Readers will discover what life is like on a farm for goats and about how they provide milk to make cheese and wool to make clothes. Readers learn what goats look like, what they eat, and even what their babies are called. Accessible text allows readers to learn these fun facts on their own, and a picture glossary helps clarify new words and strengthen vocabulary skills. Bright photographs illustrate the world of these smart animals and the farms they call home.","English",22.6,16.95,"636.3","24 pp.",{"$f":"Table1[[#This Row],['# Books]]*Table1[[#This Row],[QTY]]","v":0},{"$f":"Table1[[#This Row],[QTY]]*Table1[[#This Row],[S&L Price]]","v":0}]
[null,null,29,null,"Farm Animals",1,"Goats on the Farm","eBook","978-1-4339-7355-0",2013,"August 2012",null,null,"Author","Rose Carraway",0.9,0.5,3,4,"C",null,"Grade K","Grade K - 2","Readers will discover what life is like on a farm for goats and about how they provide milk to make cheese and wool to make clothes. Readers learn what goats look like, what they eat, and even what their babies are called. Accessible text allows readers to learn these fun facts on their own, and a picture glossary helps clarify new words and strengthen vocabulary skills. Bright photographs illustrate the world of these smart animals and the farms they call home.","English",22.6,16.95,"636.3","24 pp.",{"$f":"Table1[[#This Row],['# Books]]*Table1[[#This Row],[QTY]]","v":0},{"$f":"Table1[[#This Row],[QTY]]*Table1[[#This Row],[S&L Price]]","v":0}]
[null,null,29,null,"Farm Animals",1,"Goats on the Farm","Interactive eBook","978-1-4339-7929-3",2013,"August 2012",null,null,"Author","Rose Carraway",0.9,0.5,3,4,"C",null,"Grade K","Grade K - 2","Readers will discover what life is like on a farm for goats and about how they provide milk to make cheese and wool to make clothes. Readers learn what goats look like, what they eat, and even what their babies are called. Accessible text allows readers to learn these fun facts on their own, and a picture glossary helps clarify new words and strengthen vocabulary skills. Bright photographs illustrate the world of these smart animals and the farms they call home.","English",33.25,24.95,"636.3","24 pp.",{"$f":"Table1[[#This Row],['# Books]]*Table1[[#This Row],[QTY]]","v":0},{"$f":"Table1[[#This Row],[QTY]]*Table1[[#This Row],[S&L Price]]","v":0}]
[null,null,29,null,"Farm Animals",1,"Horses on the Farm","Library Bound Book","978-1-4339-7356-7",2013,"August 2012","Library","7.625 X 7.125","Author","Rose Carraway",0.9,0.5,3,4,"C",null,"Grade K","Grade K - 2","Readers discover why horses are truly captivating animals. Accessible language guides readers as they explore the world of horses that live and work on a farm, and learn what it is like to ride one of these amazing animals. Fun facts about horses engage readers in a way that is both enjoyable and educational. A picture glossary helps build a strong vocabulary, and colorful photographs show beautiful horses in striking detail.","English",22.6,16.95,"636.1","24 pp.",{"$f":"Table1[[#This Row],['# Books]]*Table1[[#This Row],[QTY]]","v":0},{"$f":"Table1[[#This Row],[QTY]]*Table1[[#This Row],[S&L Price]]","v":0}]
[null,null,29,null,"Farm Animals",1,"Horses on the Farm","eBook","978-1-4339-7359-8",2013,"August 2012",null,null,"Author","Rose Carraway",0.9,0.5,3,4,"C",null,"Grade K","Grade K - 2","Readers discover why horses are truly captivating animals. Accessible language guides readers as they explore the world of horses that live and work on a farm, and learn what it is like to ride one of these amazing animals. Fun facts about horses engage readers in a way that is both enjoyable and educational. A picture glossary helps build a strong vocabulary, and colorful photographs show beautiful horses in striking detail.","English",22.6,16.95,"636.1","24 pp.",{"$f":"Table1[[#This Row],['# Books]]*Table1[[#This Row],[QTY]]","v":0},{"$f":"Table1[[#This Row],[QTY]]*Table1[[#This Row],[S&L Price]]","v":0}]
[null,null,29,null,"Farm Animals",1,"Horses on the Farm","Interactive eBook","978-1-4339-7931-6",2013,"August 2012",null,null,"Author","Rose Carraway",0.9,0.5,3,4,"C",null,"Grade K","Grade K - 2","Readers discover why horses are truly captivating animals. Accessible language guides readers as they explore the world of horses that live and work on a farm, and learn what it is like to ride one of these amazing animals. Fun facts about horses engage readers in a way that is both enjoyable and educational. A picture glossary helps build a strong vocabulary, and colorful photographs show beautiful horses in striking detail.","English",33.25,24.95,"636.1","24 pp.",{"$f":"Table1[[#This Row],['# Books]]*Table1[[#This Row],[QTY]]","v":0},{"$f":"Table1[[#This Row],[QTY]]*Table1[[#This Row],[S&L Price]]","v":0}]
[null,null,29,null,"Farm Animals",1,"Pigs on the Farm","Library Bound Book","978-1-4339-7360-4",2013,"August 2012","Library","7.625 X 7.125","Author","Rose Carraway",0.9,0.5,3,4,"C",null,"Grade K","Grade K - 2","Beginning readers learn what life is like for pigs on a farm, including what they eat, why they like to roll in the mud, and how to they communicate with each other. Fun facts are presented in simple text to allow readers the chance to discover new information about these well-known farm animals. Detailed photographs of a variety of pigs, as well as a picture glossary designed to aid in vocabulary development, accompany the informative text.","English",22.6,16.95,"636.4","24 pp.",{"$f":"Table1[[#This Row],['# Books]]*Table1[[#This Row],[QTY]]","v":0},{"$f":"Table1[[#This Row],[QTY]]*Table1[[#This Row],[S&L Price]]","v":0}]
[null,null,29,null,"Farm Animals",1,"Pigs on the Farm","eBook","978-1-4339-7363-5",2013,"August 2012",null,null,"Author","Rose Carraway",0.9,0.5,3,4,"C",null,"Grade K","Grade K - 2","Beginning readers learn what life is like for pigs on a farm, including what they eat, why they like to roll in the mud, and how to they communicate with each other. Fun facts are presented in simple text to allow readers the chance to discover new information about these well-known farm animals. Detailed photographs of a variety of pigs, as well as a picture glossary designed to aid in vocabulary development, accompany the informative text.","English",22.6,16.95,"636.4","24 pp.",{"$f":"Table1[[#This Row],['# Books]]*Table1[[#This Row],[QTY]]","v":0},{"$f":"Table1[[#This Row],[QTY]]*Table1[[#This Row],[S&L Price]]","v":0}]
[null,null,29,null,"Farm Animals",1,"Pigs on the Farm","Interactive eBook","978-1-4339-7933-0",2013,"August 2012",null,null,"Author","Rose Carraway",0.9,0.5,3,4,"C",null,"Grade K","Grade K - 2","Beginning readers learn what life is like for pigs on a farm, including what they eat, why they like to roll in the mud, and how to they communicate with each other. Fun facts are presented in simple text to allow readers the chance to discover new information about these well-known farm animals. Detailed photographs of a variety of pigs, as well as a picture glossary designed to aid in vocabulary development, accompany the informative text.","English",33.25,24.95,"636.4","24 pp.",{"$f":"Table1[[#This Row],['# Books]]*Table1[[#This Row],[QTY]]","v":0},{"$f":"Table1[[#This Row],[QTY]]*Table1[[#This Row],[S&L Price]]","v":0}]
[null,null,29,null,"Farm Animals",1,"Sheep on the Farm","Library Bound Book","978-1-4339-7364-2",2013,"August 2012","Library","7.625 X 7.125","Author","Rose Carraway",0.9,0.5,3,4,"C",null,"Grade K","Grade K - 2","Beginning readers get up-close to shy sheep in this engaging and educational book. They discover the important things that farmers get from sheep, such as wool for clothing. They also learn fun facts including what they eat and when their babies are born. Simple, accessible text and a picture glossary help beginning readers build their vocabularies with each turn of the page. Bright photographs make readers feel as if they are on a farm alongside a variety of sheep.","English",22.6,16.95,"636.3","24 pp.",{"$f":"Table1[[#This Row],['# Books]]*Table1[[#This Row],[QTY]]","v":0},{"$f":"Table1[[#This Row],[QTY]]*Table1[[#This Row],[S&L Price]]","v":0}]
[null,null,29,null,"Farm Animals",1,"Sheep on the Farm","eBook","978-1-4339-7367-3",2013,"August 2012",null,null,"Author","Rose Carraway",0.9,0.5,3,4,"C",null,"Grade K","Grade K - 2","Beginning readers get up-close to shy sheep in this engaging and educational book. They discover the important things that farmers get from sheep, such as wool for clothing. They also learn fun facts including what they eat and when their babies are born. Simple, accessible text and a picture glossary help beginning readers build their vocabularies with each turn of the page. Bright photographs make readers feel as if they are on a farm alongside a variety of sheep.","English",22.6,16.95,"636.3","24 pp.",{"$f":"Table1[[#This Row],['# Books]]*Table1[[#This Row],[QTY]]","v":0},{"$f":"Table1[[#This Row],[QTY]]*Table1[[#This Row],[S&L Price]]","v":0}]
[null,null,29,null,"Farm Animals",1,"Sheep on the Farm","Interactive eBook","978-1-4339-7935-4",2013,"August 2012",null,null,"Author","Rose Carraway",0.9,0.5,3,4,"C",null,"Grade K","Grade K - 2","Beginning readers get up-close to shy sheep in this engaging and educational book. They discover the important things that farmers get from sheep, such as wool for clothing. They also learn fun facts including what they eat and when their babies are born. Simple, accessible text and a picture glossary help beginning readers build their vocabularies with each turn of the page. Bright photographs make readers feel as if they are on a farm alongside a variety of sheep.","English",33.25,24.95,"636.3","24 pp.",{"$f":"Table1[[#This Row],['# Books]]*Table1[[#This Row],[QTY]]","v":0},{"$f":"Table1[[#This Row],[QTY]]*Table1[[#This Row],[S&L Price]]","v":0}]
[null,null,29,null,"Great Big Animals",6,"Great Big Animals: Set 1","Library Set","978-1-4339-9671-9",2014,"August 2013","Library","7.625 X 7.125",null,"",null,null,null,null,null,null,"Grade K","Grade K - 2","Big animals live big, exciting lives! Early readers will be fascinated by the lives of some of the biggest animals on Earth, such as incredibly tall giraffes, big grizzly bears, and huge hippos. These superstars of the animal kingdom take center stage and make learning about primary life science concepts fun, and amazing full-color photographs bring beginning readers face-to-face with some of their favorite great big animals. Accessible text makes the reading experience gratifying and engaging.  • High-interest topic engages readers • Strong picture-text correlation aids in comprehension • Reading level supports beginning readers • Picture glossary helps develop vocabulary skills • Comprehendible index guides readers through each book","English",135.6,101.7,null,"24 pp.",{"$f":"Table1[[#This Row],['# Books]]*Table1[[#This Row],[QTY]]","v":0},{"$f":"Table1[[#This Row],[QTY]]*Table1[[#This Row],[S&L Price]]","v":0}]
[null,null,29,null,"Great Big Animals",1,"Awesome Ostriches","Library Bound Book","978-1-4339-9416-6",2014,"August 2013","Library","7.625 X 7.125","Author","Ryan Nagelhout",0.7,0.5,2,2,"B",null,"Grade K","Grade K - 2","Ostriches are the biggest birds on Earth, and they’re also some of the strangest. Early readers will learn more about a herd of ostrich with the help of full-color photographs and easy-to-read text. What does an ostrich eat? How many toes does it have? Why does it kick other animals? Readers discover what these flightless birds do with their wings and other facts that highlight early life science concepts. Accessible text gives early learners plenty of facts about these big birds, while a picture glossary reinforces vocabulary with colorful imagery.  • High-interest topic engages young readers • Strong picture-text correlation aids in comprehension • Reading level supports beginning readers • Picture glossary helps develop vocabulary skills • Comprehendible index guides readers through each book  ","English",22.6,16.95,"598.524","24 pp.",{"$f":"Table1[[#This Row],['# Books]]*Table1[[#This Row],[QTY]]","v":0},{"$f":"Table1[[#This Row],[QTY]]*Table1[[#This Row],[S&L Price]]","v":0}]
[null,null,29,null,"Great Big Animals",1,"Awesome Ostriches","eBook","978-1-4339-9419-7",2014,"August 2013",null,null,"Author","Ryan Nagelhout",0.7,0.5,2,2,"B",null,"Grade K","Grade K - 2","Ostriches are the biggest birds on Earth, and they’re also some of the strangest. Early readers will learn more about a herd of ostrich with the help of full-color photographs and easy-to-read text. What does an ostrich eat? How many toes does it have? Why does it kick other animals? Readers discover what these flightless birds do with their wings and other facts that highlight early life science concepts. Accessible text gives early learners plenty of facts about these big birds, while a picture glossary reinforces vocabulary with colorful imagery.  • High-interest topic engages young readers • Strong picture-text correlation aids in comprehension • Reading level supports beginning readers • Picture glossary helps develop vocabulary skills • Comprehendible index guides readers through each book  ","English",22.6,16.95,"598.524","24 pp.",{"$f":"Table1[[#This Row],['# Books]]*Table1[[#This Row],[QTY]]","v":0},{"$f":"Table1[[#This Row],[QTY]]*Table1[[#This Row],[S&L Price]]","v":0}]
[null,null,29,null,"Great Big Animals",1,"Big Bison","Library Bound Book","978-1-4339-9420-3",2014,"August 2013","Library","7.625 X 7.125","Author","Ryan Nagelhout",0.9,0.5,3,4,"C",null,"Grade K","Grade K - 2","Bison are huge animals, but that doesn’t mean they are slow! Some bison run up to 40 miles per hour, and with sharp horns on their head they can be dangerous, too. Filled with full-color photographs and accessible text, early readers will be fascinated by the lives and habits of a bison herd. Facts and figures will captivate even the most reluctant of readers, as they discover where bison live, what they eat, and the special term for a female bison in this exciting book.  • High-interest topic engages young readers • Strong picture-text correlation aids in comprehension • Reading level supports beginning readers • Picture glossary helps develop vocabulary skills • Comprehendible index guides readers through each book    ","English",22.6,16.95,"599.643","24 pp.",{"$f":"Table1[[#This Row],['# Books]]*Table1[[#This Row],[QTY]]","v":0},{"$f":"Table1[[#This Row],[QTY]]*Table1[[#This Row],[S&L Price]]","v":0}]
[null,null,29,null,"Great Big Animals",1,"Big Bison","eBook","978-1-4339-9423-4",2014,"August 2013",null,null,"Author","Ryan Nagelhout",0.9,0.5,3,4,"C",null,"Grade K","Grade K - 2","Bison are huge animals, but that doesn’t mean they are slow! Some bison run up to 40 miles per hour, and with sharp horns on their head they can be dangerous, too. Filled with full-color photographs and accessible text, early readers will be fascinated by the lives and habits of a bison herd. Facts and figures will captivate even the most reluctant of readers, as they discover where bison live, what they eat, and the special term for a female bison in this exciting book.  • High-interest topic engages young readers • Strong picture-text correlation aids in comprehension • Reading level supports beginning readers • Picture glossary helps develop vocabulary skills • Comprehendible index guides readers through each book    ","English",22.6,16.95,"599.643","24 pp.",{"$f":"Table1[[#This Row],['# Books]]*Table1[[#This Row],[QTY]]","v":0},{"$f":"Table1[[#This Row],[QTY]]*Table1[[#This Row],[S&L Price]]","v":0}]
[null,null,29,null,"Great Big Animals",1,"Enormous Elephants","Library Bound Book","978-1-4339-9424-1",2014,"August 2013","Library","7.625 X 7.125","Author","Ryan Nagelhout",0.9,0.5,3,4,"C",null,"Grade K","Grade K - 2","Why are elephants’ ears so big? Early readers will learn that and more in this exciting first concepts book filled with fun information and full-color photographs. Through easy-to-read text, readers will discover the difference between African and Asian elephants, and what they do with their large trunks. The biggest land animals on Earth will captivate even the most reluctant of readers as they come along on this exciting elephant adventure!    • High-interest topic engages young readers • Strong picture-text correlation aids in comprehension • Reading level supports beginning readers • Picture glossary helps develop vocabulary skills • Comprehendible index guides readers through each book    ","English",22.6,16.95,"599.61","24 pp.",{"$f":"Table1[[#This Row],['# Books]]*Table1[[#This Row],[QTY]]","v":0},{"$f":"Table1[[#This Row],[QTY]]*Table1[[#This Row],[S&L Price]]","v":0}]
[null,null,29,null,"Great Big Animals",1,"Enormous Elephants","eBook","978-1-4339-9427-2",2014,"August 2013",null,null,"Author","Ryan Nagelhout",0.9,0.5,3,4,"C",null,"Grade K","Grade K - 2","Why are elephants’ ears so big? Early readers will learn that and more in this exciting first concepts book filled with fun information and full-color photographs. Through easy-to-read text, readers will discover the difference between African and Asian elephants, and what they do with their large trunks. The biggest land animals on Earth will captivate even the most reluctant of readers as they come along on this exciting elephant adventure!    • High-interest topic engages young readers • Strong picture-text correlation aids in comprehension • Reading level supports beginning readers • Picture glossary helps develop vocabulary skills • Comprehendible index guides readers through each book    ","English",22.6,16.95,"599.61","24 pp.",{"$f":"Table1[[#This Row],['# Books]]*Table1[[#This Row],[QTY]]","v":0},{"$f":"Table1[[#This Row],[QTY]]*Table1[[#This Row],[S&L Price]]","v":0}]
[null,null,29,null,"Great Big Animals",1,"Giant Giraffes","Library Bound Book","978-1-4339-9428-9",2014,"August 2013","Library","7.625 X 7.125","Author","Ryan Nagelhout",0.9,0.5,3,4,"C",null,"Grade K","Grade K - 2","Giraffes are the tallest animals on Earth. Through the use of bright photographs and easy-to-read text, early readers will be fascinated by the lives of these big mammals. They'll discover how giraffes use their long necks, and how they use their giant tongues to reach leaves on tall trees! The exciting lives of these giant animals will offer plenty of facts that highlight early life science concepts for beginning readers.   • High-interest topic engages young readers • Strong picture-text correlation aids in comprehension • Reading level supports beginning readers • Picture glossary helps develop vocabulary skills • Comprehendible index guides readers through each book    ","English",22.6,16.95,"599.638","24 pp.",{"$f":"Table1[[#This Row],['# Books]]*Table1[[#This Row],[QTY]]","v":0},{"$f":"Table1[[#This Row],[QTY]]*Table1[[#This Row],[S&L Price]]","v":0}]
[null,null,29,null,"Great Big Animals",1,"Giant Giraffes","eBook","978-1-4339-9431-9",2014,"August 2013",null,null,"Author","Ryan Nagelhout",0.9,0.5,3,4,"C",null,"Grade K","Grade K - 2","Giraffes are the tallest animals on Earth. Through the use of bright photographs and easy-to-read text, early readers will be fascinated by the lives of these big mammals. They'll discover how giraffes use their long necks, and how they use their giant tongues to reach leaves on tall trees! The exciting lives of these giant animals will offer plenty of facts that highlight early life science concepts for beginning readers.   • High-interest topic engages young readers • Strong picture-text correlation aids in comprehension • Reading level supports beginning readers • Picture glossary helps develop vocabulary skills • Comprehendible index guides readers through each book    ","English",22.6,16.95,"599.638","24 pp.",{"$f":"Table1[[#This Row],['# Books]]*Table1[[#This Row],[QTY]]","v":0},{"$f":"Table1[[#This Row],[QTY]]*Table1[[#This Row],[S&L Price]]","v":0}]
[null,null,29,null,"Great Big Animals",1,"Great Big Grizzlies","Library Bound Book","978-1-4339-9432-6",2014,"August 2013","Library","7.625 X 7.125","Author","Ryan Nagelhout",0.9,0.5,3,3,"C",null,"Grade K","Grade K - 2","A great big grizzly is much different than your ordinary teddy bear! Grizzlies are huge and hungry. With the help of full-color photographs and easy-to-read text, early readers will be fascinated by the lives of these big bears, and will discover what they like to eat and what they like to do in winter when the weather gets cold. Accessible text gives early learners basic but fun facts about grizzlies while highlighting early life science concepts in an engaging way.  • High-interest topic engages young readers • Strong picture-text correlation aids in comprehension • Reading level supports beginning readers • Picture glossary helps develop vocabulary skills • Comprehendible index guides readers through each book    ","English",22.6,16.95,"599.784","24 pp.",{"$f":"Table1[[#This Row],['# Books]]*Table1[[#This Row],[QTY]]","v":0},{"$f":"Table1[[#This Row],[QTY]]*Table1[[#This Row],[S&L Price]]","v":0}]
[null,null,29,null,"Great Big Animals",1,"Great Big Grizzlies","eBook","978-1-4339-9435-7",2014,"August 2013",null,null,"Author","Ryan Nagelhout",0.9,0.5,3,3,"C",null,"Grade K","Grade K - 2","A great big grizzly is much different than your ordinary teddy bear! Grizzlies are huge and hungry. With the help of full-color photographs and easy-to-read text, early readers will be fascinated by the lives of these big bears, and will discover what they like to eat and what they like to do in winter when the weather gets cold. Accessible text gives early learners basic but fun facts about grizzlies while highlighting early life science concepts in an engaging way.  • High-interest topic engages young readers • Strong picture-text correlation aids in comprehension • Reading level supports beginning readers • Picture glossary helps develop vocabulary skills • Comprehendible index guides readers through each book    ","English",22.6,16.95,"599.784","24 pp.",{"$f":"Table1[[#This Row],['# Books]]*Table1[[#This Row],[QTY]]","v":0},{"$f":"Table1[[#This Row],[QTY]]*Table1[[#This Row],[S&L Price]]","v":0}]
[null,null,29,null,"Great Big Animals",1,"Huge Hippos","Library Bound Book","978-1-4339-9436-4",2014,"August 2013","Library","7.625 X 7.125","Author","Ryan Nagelhout",0.9,0.5,3,4,"C",null,"Grade K","Grade K - 2","Hippos love to lie in the water, and they lounge for hours at a time! Through easy-to-read text and vivid full-color photographs, early readers will learn why these huge animals love to lounge as well as why they hunt at night, and just how much food can fill their big bellies! Accessible text offers facts that highlight early life science concepts for beginning readers, and makes learning about these great big animals fun and educational. A picture glossary reinforces vocabulary with colorful photographs to further enhance reading comprehension.    • High-interest topic engages young readers • Strong picture-text correlation aids in comprehension • Reading level supports beginning readers • Picture glossary helps develop vocabulary skills • Comprehendible index guides readers through each book","English",22.6,16.95,"599.635","24 pp.",{"$f":"Table1[[#This Row],['# Books]]*Table1[[#This Row],[QTY]]","v":0},{"$f":"Table1[[#This Row],[QTY]]*Table1[[#This Row],[S&L Price]]","v":0}]
[null,null,29,null,"Great Big Animals",1,"Huge Hippos","eBook","978-1-4339-9439-5",2014,"August 2013",null,null,"Author","Ryan Nagelhout",0.9,0.5,3,4,"C",null,"Grade K","Grade K - 2","Hippos love to lie in the water, and they lounge for hours at a time! Through easy-to-read text and vivid full-color photographs, early readers will learn why these huge animals love to lounge as well as why they hunt at night, and just how much food can fill their big bellies! Accessible text offers facts that highlight early life science concepts for beginning readers, and makes learning about these great big animals fun and educational. A picture glossary reinforces vocabulary with colorful photographs to further enhance reading comprehension.    • High-interest topic engages young readers • Strong picture-text correlation aids in comprehension • Reading level supports beginning readers • Picture glossary helps develop vocabulary skills • Comprehendible index guides readers through each book","English",22.6,16.95,"599.635","24 pp.",{"$f":"Table1[[#This Row],['# Books]]*Table1[[#This Row],[QTY]]","v":0},{"$f":"Table1[[#This Row],[QTY]]*Table1[[#This Row],[S&L Price]]","v":0}]
[null,null,29,null,"Great Big Animals",12,"Great Big Animals: Sets 1 – 2","Library Set","978-1-5382-1415-2",2018,"January 2018","Library","7.625 X 7.125"," "," ",null,null,null,null,null,null,"Grade K","Grade K - 2","The biggest animals on Earth often live the most exciting lives. Whether exploring the lives of gigantic blue whales or enormous elephants, early readers will be fascinated by the lives of the biggest animals on Earth. Incredibly tall giraffes and great big grizzly bears highlight early science concepts for beginning readers, while fun facts about enthralling creatures such as ostriches and hippos fill every exciting page. Through the use of full-color photographs and easy-to-read text, readers see how huge animals like bison and rhinos live their lives in Earth's many biomes.","English",271.2,203.4,null,"24 pp.",{"$f":"Table1[[#This Row],['# Books]]*Table1[[#This Row],[QTY]]","v":0},{"$f":"Table1[[#This Row],[QTY]]*Table1[[#This Row],[S&L Price]]","v":0}]
[null,null,29,null,"Great Big Animals",6,"Great Big Animals: Set 2","Library Set","978-1-5382-1281-3",2018,"January 2018","Library","7.625 X 7.125"," "," ",null,null,null,null,null,null,"Grade K","Grade K - 2","Some of the coolest animals on Earth are huge. This series brings early readers up close and personal with crocodiles, whale sharks, and even the gigantic blue whale. Readers explore the world of massive mammals such as huge rhinos and arctic polar bears through full-color photographs and easy-to-read text that offers an accessible yet scientific look at their lives. Fun facts about large crocodiles lurking in swamp water and slithering anacondas highlight early concepts for beginning readers and engage them in the exciting world of humongous animals, creating lifelong readers.","English",135.6,101.7,null,"24 pp.",{"$f":"Table1[[#This Row],['# Books]]*Table1[[#This Row],[QTY]]","v":0},{"$f":"Table1[[#This Row],[QTY]]*Table1[[#This Row],[S&L Price]]","v":0}]
[null,null,29,null,"Great Big Animals",1,"Colossal Crocodiles","Library Bound Book","978-1-5382-0897-7",2018,"January 2018","Library","7.625 X 7.125","Author","Francis MacIntire",null,null,null,null,"C",null,"Grade K","Grade K - 2","Crocodiles are massive eating machines that lurk in shallow waters. Their big, powerful jaws make them fearsome creatures to all kinds of animals, even humans. Through full-color photographs and easy-to-read text, young readers explore the aquatic world of these huge animals and see just how they live and eat. From their skin to their sharp teeth, they'll learn how these animals catch prey and the special advantages their bodies have that make these big creatures to survive. Early readers will love exploring the world of this unique animal in its home habitat.","English",22.6,16.95,"597.98'2--dc23","24 pp.",{"$f":"Table1[[#This Row],['# Books]]*Table1[[#This Row],[QTY]]","v":0},{"$f":"Table1[[#This Row],[QTY]]*Table1[[#This Row],[S&L Price]]","v":0}]
[null,null,29,null,"Great Big Animals",1,"Colossal Crocodiles","eBook","978-1-5382-0898-4",2018,"January 2018",null,null,"Author","Francis MacIntire",null,null,null,null,"C",null,"Grade K","Grade K - 2","Crocodiles are massive eating machines that lurk in shallow waters. Their big, powerful jaws make them fearsome creatures to all kinds of animals, even humans. Through full-color photographs and easy-to-read text, young readers explore the aquatic world of these huge animals and see just how they live and eat. From their skin to their sharp teeth, they'll learn how these animals catch prey and the special advantages their bodies have that make these big creatures to survive. Early readers will love exploring the world of this unique animal in its home habitat.","English",22.6,16.95,"597.98'2--dc23","24 pp.",{"$f":"Table1[[#This Row],['# Books]]*Table1[[#This Row],[QTY]]","v":0},{"$f":"Table1[[#This Row],[QTY]]*Table1[[#This Row],[S&L Price]]","v":0}]
[null,null,29,null,"Great Big Animals",1,"Gigantic Whale Sharks","Library Bound Book","978-1-5382-0901-1",2018,"January 2018","Library","7.625 X 7.125","Author","Stephanie Carrington",null,null,null,null,"C",null,"Grade K","Grade K - 2","Whale sharks live in an ocean full of amazing creatures, but these massive aquatic beasts stand apart because of their size, and with that comes fascinating features, such as having 3,000 tiny teeth. Through full-color photographs and easy-to-read text, young readers explore the seas through their eyes, seeing for themselves how these astonishingly large animals survive in the wild. These fascinating animals truly are the largest fish in the sea, and readers will explore the habitats and habits of these strange sharks with ease thanks to this innovative book.","English",22.6,16.95,"597.3--dc23","24 pp.",{"$f":"Table1[[#This Row],['# Books]]*Table1[[#This Row],[QTY]]","v":0},{"$f":"Table1[[#This Row],[QTY]]*Table1[[#This Row],[S&L Price]]","v":0}]
[null,null,29,null,"Great Big Animals",1,"Gigantic Whale Sharks","eBook","978-1-5382-0902-8",2018,"January 2018",null,null,"Author","Stephanie Carrington",null,null,null,null,"C",null,"Grade K","Grade K - 2","Whale sharks live in an ocean full of amazing creatures, but these massive aquatic beasts stand apart because of their size, and with that comes fascinating features, such as having 3,000 tiny teeth. Through full-color photographs and easy-to-read text, young readers explore the seas through their eyes, seeing for themselves how these astonishingly large animals survive in the wild. These fascinating animals truly are the largest fish in the sea, and readers will explore the habitats and habits of these strange sharks with ease thanks to this innovative book.","English",22.6,16.95,"597.3--dc23","24 pp.",{"$f":"Table1[[#This Row],['# Books]]*Table1[[#This Row],[QTY]]","v":0},{"$f":"Table1[[#This Row],[QTY]]*Table1[[#This Row],[S&L Price]]","v":0}]
[null,null,29,null,"Great Big Animals",1,"Huge Polar Bears","Library Bound Book","978-1-5382-0905-9",2018,"January 2018","Library","7.625 X 7.125","Author","Stephanie Carrington",null,null,null,null,"C",null,"Grade K","Grade K - 2","Polar bears are some of the most interesting animals in the world. Though their territory is shrinking, these fierce creatures are fighting for survival with all their might. Young readers will be wowed by this book full of colorful photographs paired with accessible text describing these massive mammals. They'll experience what it's like to live in a polar wilderness searching for food, on the hunt with some of the largest and most fearsome predators on the planet.","English",22.6,16.95,"599.786--dc23","24 pp.",{"$f":"Table1[[#This Row],['# Books]]*Table1[[#This Row],[QTY]]","v":0},{"$f":"Table1[[#This Row],[QTY]]*Table1[[#This Row],[S&L Price]]","v":0}]
[null,null,29,null,"Great Big Animals",1,"Huge Polar Bears","eBook","978-1-5382-0906-6",2018,"January 2018",null,null,"Author","Stephanie Carrington",null,null,null,null,"C",null,"Grade K","Grade K - 2","Polar bears are some of the most interesting animals in the world. Though their territory is shrinking, these fierce creatures are fighting for survival with all their might. Young readers will be wowed by this book full of colorful photographs paired with accessible text describing these massive mammals. They'll experience what it's like to live in a polar wilderness searching for food, on the hunt with some of the largest and most fearsome predators on the planet.","English",22.6,16.95,"599.786--dc23","24 pp.",{"$f":"Table1[[#This Row],['# Books]]*Table1[[#This Row],[QTY]]","v":0},{"$f":"Table1[[#This Row],[QTY]]*Table1[[#This Row],[S&L Price]]","v":0}]
[null,null,29,null,"Great Big Animals",1,"Jumbo Blue Whales","Library Bound Book","978-1-5382-0909-7",2018,"January 2018","Library","7.625 X 7.125","Author","Francis MacIntire",null,null,null,null,"C",null,"Grade K","Grade K - 2","Imagine an animal whose tongue can weigh as much as an elephant, and whose heart can weigh as much as a car. Blue whales are amazing animals that we have to weigh in tons, not pounds. This book explores the aquatic lives of the largest animals on Earth, from what they eat to where they live and just how big they really are. Through full-color photographs paired with accessible text, young readers will be amazed to learn that these massive animals survive by eating tiny plankton.","English",22.6,16.95,"599.5'248--dc23","24 pp.",{"$f":"Table1[[#This Row],['# Books]]*Table1[[#This Row],[QTY]]","v":0},{"$f":"Table1[[#This Row],[QTY]]*Table1[[#This Row],[S&L Price]]","v":0}]
[null,null,29,null,"Great Big Animals",1,"Jumbo Blue Whales","eBook","978-1-5382-0910-3",2018,"January 2018",null,null,"Author","Francis MacIntire",null,null,null,null,"C",null,"Grade K","Grade K - 2","Imagine an animal whose tongue can weigh as much as an elephant, and whose heart can weigh as much as a car. Blue whales are amazing animals that we have to weigh in tons, not pounds. This book explores the aquatic lives of the largest animals on Earth, from what they eat to where they live and just how big they really are. Through full-color photographs paired with accessible text, young readers will be amazed to learn that these massive animals survive by eating tiny plankton.","English",22.6,16.95,"599.5'248--dc23","24 pp.",{"$f":"Table1[[#This Row],['# Books]]*Table1[[#This Row],[QTY]]","v":0},{"$f":"Table1[[#This Row],[QTY]]*Table1[[#This Row],[S&L Price]]","v":0}]
[null,null,29,null,"Great Big Animals",1,"Massive Rhinos","Library Bound Book","978-1-5382-0913-4",2018,"January 2018","Library","7.625 X 7.125","Author","Charles M. Jones",null,null,null,null,"C",null,"Grade K","Grade K - 2","Rhinoceroses look powerful and scary, but they need our help to stay alive despite their massive size. This book is all about these great big creatures roaming free in Africa. From their amazing horns to their huge size, rhinos are full of amazing features. Young readers learn about these creatures and why they need to be kept safe to save the species. With amazing full-color photographs paired with accessible text, readers discover the difference between black and white rhinos and what they like to eat.","English",22.6,16.95,"599.66'8--dc23","24 pp.",{"$f":"Table1[[#This Row],['# Books]]*Table1[[#This Row],[QTY]]","v":0},{"$f":"Table1[[#This Row],[QTY]]*Table1[[#This Row],[S&L Price]]","v":0}]
[null,null,29,null,"Great Big Animals",1,"Massive Rhinos","eBook","978-1-5382-0914-1",2018,"January 2018",null,null,"Author","Charles M. Jones",null,null,null,null,"C",null,"Grade K","Grade K - 2","Rhinoceroses look powerful and scary, but they need our help to stay alive despite their massive size. This book is all about these great big creatures roaming free in Africa. From their amazing horns to their huge size, rhinos are full of amazing features. Young readers learn about these creatures and why they need to be kept safe to save the species. With amazing full-color photographs paired with accessible text, readers discover the difference between black and white rhinos and what they like to eat.","English",22.6,16.95,"599.66'8--dc23","24 pp.",{"$f":"Table1[[#This Row],['# Books]]*Table1[[#This Row],[QTY]]","v":0},{"$f":"Table1[[#This Row],[QTY]]*Table1[[#This Row],[S&L Price]]","v":0}]
[null,null,29,null,"Great Big Animals",1,"Superlong Anacondas","Library Bound Book","978-1-5382-0917-2",2018,"January 2018","Library","7.625 X 7.125","Author","Charles M. Jones",null,null,null,null,"C",null,"Grade K","Grade K - 2","Anacondas are some of the most interesting snake species on the planet. These long, slithering serpents are big and more than a bit scary. Young readers experience the world through snake eyes with this book featuring full-color photographs that show off these scaly snakes in all their glory. From what they eat to how they slither from place to place searching for that meal, readers get up close and personal with one of the largest animals in the world.","English",22.6,16.95,"597.96'7--dc23","24 pp.",{"$f":"Table1[[#This Row],['# Books]]*Table1[[#This Row],[QTY]]","v":0},{"$f":"Table1[[#This Row],[QTY]]*Table1[[#This Row],[S&L Price]]","v":0}]
[null,null,29,null,"Great Big Animals",1,"Superlong Anacondas","eBook","978-1-5382-0918-9",2018,"January 2018",null,null,"Author","Charles M. Jones",null,null,null,null,"C",null,"Grade K","Grade K - 2","Anacondas are some of the most interesting snake species on the planet. These long, slithering serpents are big and more than a bit scary. Young readers experience the world through snake eyes with this book featuring full-color photographs that show off these scaly snakes in all their glory. From what they eat to how they slither from place to place searching for that meal, readers get up close and personal with one of the largest animals in the world.","English",22.6,16.95,"597.96'7--dc23","24 pp.",{"$f":"Table1[[#This Row],['# Books]]*Table1[[#This Row],[QTY]]","v":0},{"$f":"Table1[[#This Row],[QTY]]*Table1[[#This Row],[S&L Price]]","v":0}]
[null,null,30,null,"In My Backyard",6,"In My Backyard","Library Set","978-1-4339-8587-4",2013,"January 2013","Library","7.625 X 7.125",null,"",null,null,null,null,null,null,"Grade K","Grade K - 2","Some of the most fascinating animals on Earth can be found just outside of the back door. Through the use of accessible text, readers discover fun facts about amazing animals, such as frogs, squirrels, and birds. Beginning readers learn about the unique traits of each animal, including a chipmunk’s food-storing cheeks and a ladybug’s brightly spotted body. Colorful photographs bring readers face-to-face with these fun animals in their natural habitat—right outside the window.  • Strong picture-text correlation aids in comprehension • Reading level provides support for beginning readers • High-interest topic excites young readers • Picture glossary helps develop vocabulary • Index guides readers through each book  ","English",135.6,101.7,null,"24 pp.",{"$f":"Table1[[#This Row],['# Books]]*Table1[[#This Row],[QTY]]","v":0},{"$f":"Table1[[#This Row],[QTY]]*Table1[[#This Row],[S&L Price]]","v":0}]
[null,null,30,null,"In My Backyard",1,"I See a Bird","Library Bound Book","978-1-4339-8539-3",2013,"January 2013","Library","7.625 X 7.125","Author","Alex Appleby",0.9,0.5,3,4,"C",null,"Grade K","Grade K - 2","Birds of every shape and color soar through the sky, and many like to rest in backyards. Through the use of accessible text, readers take an exciting trip through the skies and into the lives of these bright creatures. A picture glossary helps beginning readers strengthen their vocabulary skills, and vibrant, full-color photographs show birds in flight and in the nest.","English",22.6,16.95,"598","24 pp.",{"$f":"Table1[[#This Row],['# Books]]*Table1[[#This Row],[QTY]]","v":0},{"$f":"Table1[[#This Row],[QTY]]*Table1[[#This Row],[S&L Price]]","v":0}]
[null,null,30,null,"In My Backyard",1,"I See a Bird","eBook","978-1-4339-8542-3",2013,"January 2013",null,null,"Author","Alex Appleby",0.9,0.5,3,4,"C",null,"Grade K","Grade K - 2","Birds of every shape and color soar through the sky, and many like to rest in backyards. Through the use of accessible text, readers take an exciting trip through the skies and into the lives of these bright creatures. A picture glossary helps beginning readers strengthen their vocabulary skills, and vibrant, full-color photographs show birds in flight and in the nest.","English",22.6,16.95,"598","24 pp.",{"$f":"Table1[[#This Row],['# Books]]*Table1[[#This Row],[QTY]]","v":0},{"$f":"Table1[[#This Row],[QTY]]*Table1[[#This Row],[S&L Price]]","v":0}]
[null,null,30,null,"In My Backyard",1,"I See a Butterfly","Library Bound Book","978-1-4339-8543-0",2013,"January 2013","Library","7.625 X 7.125","Author","Alex Appleby",0.9,0.5,3,4,"C",null,"Grade K","Grade K - 2","If you look close enough, a butterfly can grow up right before your eyes. Through the use of accessible text, readers take an exciting look at the journey butterflies make. A picture glossary helps beginning readers strengthen their vocabulary skills, and vibrant, full-color photographs show caterpillars grow to adulthood, taking flight to travel around the world.","English",22.6,16.95,"595.78","24 pp.",{"$f":"Table1[[#This Row],['# Books]]*Table1[[#This Row],[QTY]]","v":0},{"$f":"Table1[[#This Row],[QTY]]*Table1[[#This Row],[S&L Price]]","v":0}]
[null,null,30,null,"In My Backyard",1,"I See a Butterfly","eBook","978-1-4339-8546-1",2013,"January 2013",null,null,"Author","Alex Appleby",0.9,0.5,3,4,"C",null,"Grade K","Grade K - 2","If you look close enough, a butterfly can grow up right before your eyes. Through the use of accessible text, readers take an exciting look at the journey butterflies make. A picture glossary helps beginning readers strengthen their vocabulary skills, and vibrant, full-color photographs show caterpillars grow to adulthood, taking flight to travel around the world.","English",22.6,16.95,"595.78","24 pp.",{"$f":"Table1[[#This Row],['# Books]]*Table1[[#This Row],[QTY]]","v":0},{"$f":"Table1[[#This Row],[QTY]]*Table1[[#This Row],[S&L Price]]","v":0}]
[null,null,30,null,"In My Backyard",1,"I See a Chipmunk","Library Bound Book","978-1-4339-8547-8",2013,"January 2013","Library","7.625 X 7.125","Author","Alex Appleby",0.9,0.5,3,4,"C",null,"Grade K","Grade K - 2","Chipmunks know that winter is always right around the corner, and it’s never too early to start gathering food. Through the use of accessible text, readers take an exciting look at the life of these cheerful animals in their backyard. A picture glossary helps beginning readers strengthen their vocabulary skills, and vibrant, full-color photographs show chipmunks at home and abroad, filling their cheeks with nuts for a long winter of hibernation.","English",22.6,16.95,"599.36","24 pp.",{"$f":"Table1[[#This Row],['# Books]]*Table1[[#This Row],[QTY]]","v":0},{"$f":"Table1[[#This Row],[QTY]]*Table1[[#This Row],[S&L Price]]","v":0}]
[null,null,30,null,"In My Backyard",1,"I See a Chipmunk","eBook","978-1-4339-8550-8",2013,"January 2013",null,null,"Author","Alex Appleby",0.9,0.5,3,4,"C",null,"Grade K","Grade K - 2","Chipmunks know that winter is always right around the corner, and it’s never too early to start gathering food. Through the use of accessible text, readers take an exciting look at the life of these cheerful animals in their backyard. A picture glossary helps beginning readers strengthen their vocabulary skills, and vibrant, full-color photographs show chipmunks at home and abroad, filling their cheeks with nuts for a long winter of hibernation.","English",22.6,16.95,"599.36","24 pp.",{"$f":"Table1[[#This Row],['# Books]]*Table1[[#This Row],[QTY]]","v":0},{"$f":"Table1[[#This Row],[QTY]]*Table1[[#This Row],[S&L Price]]","v":0}]
[null,null,30,null,"In My Backyard",1,"I See a Frog","Library Bound Book","978-1-4339-8551-5",2013,"January 2013","Library","7.625 X 7.125","Author","Alex Appleby",0.9,0.5,3,4,"C",null,"Grade K","Grade K - 2","Hopping from house to house, frogs are one of the most interesting animals you’ll find in a neighborhood. Through the use of accessible text, readers take an exciting look at the life of these dynamic animals in their backyard. A picture glossary helps beginning readers strengthen their vocabulary skills, and vibrant, full-color photographs show the life cycle of a frog and how they interact with the world around them.","English",22.6,16.95,"597.8","24 pp.",{"$f":"Table1[[#This Row],['# Books]]*Table1[[#This Row],[QTY]]","v":0},{"$f":"Table1[[#This Row],[QTY]]*Table1[[#This Row],[S&L Price]]","v":0}]
[null,null,30,null,"In My Backyard",1,"I See a Frog","eBook","978-1-4339-8554-6",2013,"January 2013",null,null,"Author","Alex Appleby",0.9,0.5,3,4,"C",null,"Grade K","Grade K - 2","Hopping from house to house, frogs are one of the most interesting animals you’ll find in a neighborhood. Through the use of accessible text, readers take an exciting look at the life of these dynamic animals in their backyard. A picture glossary helps beginning readers strengthen their vocabulary skills, and vibrant, full-color photographs show the life cycle of a frog and how they interact with the world around them.","English",22.6,16.95,"597.8","24 pp.",{"$f":"Table1[[#This Row],['# Books]]*Table1[[#This Row],[QTY]]","v":0},{"$f":"Table1[[#This Row],[QTY]]*Table1[[#This Row],[S&L Price]]","v":0}]
[null,null,30,null,"In My Backyard",1,"I See a Ladybug","Library Bound Book","978-1-4339-8555-3",2013,"January 2013","Library","7.625 X 7.125","Author","Alex Appleby",0.9,0.5,3,4,"C",null,"Grade K","Grade K - 2","Ladybugs are full of mystery. Through the use of accessible text, readers take an exciting look at the life of these little red and black creatures flitting behind houses. A picture glossary helps beginning readers strengthen their vocabulary skills, and vibrant, full-color photographs show the how ladybugs frolic in the summer and stay warm in the winter.","English",22.6,16.95,"595.76","24 pp.",{"$f":"Table1[[#This Row],['# Books]]*Table1[[#This Row],[QTY]]","v":0},{"$f":"Table1[[#This Row],[QTY]]*Table1[[#This Row],[S&L Price]]","v":0}]
[null,null,30,null,"In My Backyard",1,"I See a Ladybug","eBook","978-1-4339-8558-4",2013,"January 2013",null,null,"Author","Alex Appleby",0.9,0.5,3,4,"C",null,"Grade K","Grade K - 2","Ladybugs are full of mystery. Through the use of accessible text, readers take an exciting look at the life of these little red and black creatures flitting behind houses. A picture glossary helps beginning readers strengthen their vocabulary skills, and vibrant, full-color photographs show the how ladybugs frolic in the summer and stay warm in the winter.","English",22.6,16.95,"595.76","24 pp.",{"$f":"Table1[[#This Row],['# Books]]*Table1[[#This Row],[QTY]]","v":0},{"$f":"Table1[[#This Row],[QTY]]*Table1[[#This Row],[S&L Price]]","v":0}]
[null,null,30,null,"In My Backyard",1,"I See a Squirrel","Library Bound Book","978-1-4339-8559-1",2013,"January 2013","Library","7.625 X 7.125","Author","Alex Appleby",0.9,0.5,3,4,"C",null,"Grade K","Grade K - 2","Squirrels are some of the more versatile creatures you’ll find in a backyard. Through the use of accessible text, readers take an exciting look at the life of these quick little rodents. A picture glossary helps beginning readers strengthen their vocabulary skills, and vibrant, full-color photographs show the many ways squirrels can live. From flying through trees to nursing their young in dens, this book is sure to educate and excite.","English",22.6,16.95,"599.36","24 pp.",{"$f":"Table1[[#This Row],['# Books]]*Table1[[#This Row],[QTY]]","v":0},{"$f":"Table1[[#This Row],[QTY]]*Table1[[#This Row],[S&L Price]]","v":0}]
[null,null,30,null,"In My Backyard",1,"I See a Squirrel","eBook","978-1-4339-8562-1",2013,"January 2013",null,null,"Author","Alex Appleby",0.9,0.5,3,4,"C",null,"Grade K","Grade K - 2","Squirrels are some of the more versatile creatures you’ll find in a backyard. Through the use of accessible text, readers take an exciting look at the life of these quick little rodents. A picture glossary helps beginning readers strengthen their vocabulary skills, and vibrant, full-color photographs show the many ways squirrels can live. From flying through trees to nursing their young in dens, this book is sure to educate and excite.","English",22.6,16.95,"599.36","24 pp.",{"$f":"Table1[[#This Row],['# Books]]*Table1[[#This Row],[QTY]]","v":0},{"$f":"Table1[[#This Row],[QTY]]*Table1[[#This Row],[S&L Price]]","v":0}]
[null,null,30,null,"Underwater World",6,"Underwater World","Library Set","978-1-4339-8586-7",2013,"January 2013","Library","7.625 X 7.125",null,"",null,null,null,null,null,null,"Grade K","Grade K - 2","Beginning readers unlock the mysteries of the ocean in this exciting series featuring the most fascinating aquatic life on Earth. Through the use of accessible text, they discover fun facts about amazing animals such as sea stars, crabs, and turtles. Whale tales and shark stories highlight an engaging look at the cast of characters living in the depths of the sea, while colorful photos give readers an up-close look at each creature and the waters they call home.  • Strong picture-text correlation aids in comprehension • Reading level provides support for beginning readers • High-interest topic excites readers • Picture glossary helps develop vocabulary • Index guides readers through each book ","English",135.6,101.7,null,"24 pp.",{"$f":"Table1[[#This Row],['# Books]]*Table1[[#This Row],[QTY]]","v":0},{"$f":"Table1[[#This Row],[QTY]]*Table1[[#This Row],[S&L Price]]","v":0}]
[null,null,30,null,"Underwater World",1,"Clownfish","Library Bound Book","978-1-4339-8563-8",2013,"January 2013","Library","7.625 X 7.125","Author","Ryan Nagelhout",0.9,0.5,3,4,"C","220L","Grade K","Grade K - 2","The bright and colorful clownfish lives an exciting life in the coral reef. Through the use of accessible text, readers take an exciting look at the world clownfish call home. A picture glossary helps beginning readers strengthen their vocabulary skills, and vibrant, full-color photographs shows how these stunning animals survive under the sea.","English",22.6,16.95,"597","24 pp.",{"$f":"Table1[[#This Row],['# Books]]*Table1[[#This Row],[QTY]]","v":0},{"$f":"Table1[[#This Row],[QTY]]*Table1[[#This Row],[S&L Price]]","v":0}]
[null,null,30,null,"Underwater World",1,"Clownfish","eBook","978-1-4339-8566-9",2013,"January 2013",null,null,"Author","Ryan Nagelhout",0.9,0.5,3,4,"C","220L","Grade K","Grade K - 2","The bright and colorful clownfish lives an exciting life in the coral reef. Through the use of accessible text, readers take an exciting look at the world clownfish call home. A picture glossary helps beginning readers strengthen their vocabulary skills, and vibrant, full-color photographs shows how these stunning animals survive under the sea.","English",22.6,16.95,"597","24 pp.",{"$f":"Table1[[#This Row],['# Books]]*Table1[[#This Row],[QTY]]","v":0},{"$f":"Table1[[#This Row],[QTY]]*Table1[[#This Row],[S&L Price]]","v":0}]
[null,null,30,null,"Underwater World",1,"Crabs","Library Bound Book","978-1-4339-8567-6",2013,"January 2013","Library","7.625 X 7.125","Author","Ryan Nagelhout",0.9,0.5,3,4,"C","140L","Grade K","Grade K - 2","Crabs can live all over the world, but many call the ocean home. Through the use of accessible text, readers take an exciting look at the wet world crabs call home. A picture glossary helps beginning readers strengthen their vocabulary skills, and vibrant, full-color photographs shows how these stunning animals survive by the sea.","English",22.6,16.95,"595.3","24 pp.",{"$f":"Table1[[#This Row],['# Books]]*Table1[[#This Row],[QTY]]","v":0},{"$f":"Table1[[#This Row],[QTY]]*Table1[[#This Row],[S&L Price]]","v":0}]
[null,null,30,null,"Underwater World",1,"Crabs","eBook","978-1-4339-8570-6",2013,"January 2013",null,null,"Author","Ryan Nagelhout",0.9,0.5,3,4,"C","140L","Grade K","Grade K - 2","Crabs can live all over the world, but many call the ocean home. Through the use of accessible text, readers take an exciting look at the wet world crabs call home. A picture glossary helps beginning readers strengthen their vocabulary skills, and vibrant, full-color photographs shows how these stunning animals survive by the sea.","English",22.6,16.95,"595.3","24 pp.",{"$f":"Table1[[#This Row],['# Books]]*Table1[[#This Row],[QTY]]","v":0},{"$f":"Table1[[#This Row],[QTY]]*Table1[[#This Row],[S&L Price]]","v":0}]
[null,null,30,null,"Underwater World",1,"Sea Stars","Library Bound Book","978-1-4339-8571-3",2013,"January 2013","Library","7.625 X 7.125","Author","Ryan Nagelhout",0.9,0.5,3,4,"C","180L","Grade K","Grade K - 2","A sea star is one of the most durable creatures in the world. Through the use of accessible text, readers take an exciting look at the wet world these curious creatures call home. A picture glossary helps beginning readers strengthen their vocabulary skills, and vibrant, full-color photographs shows how these stunning animals survive under the waves.","English",22.6,16.95,"593.9","24 pp.",{"$f":"Table1[[#This Row],['# Books]]*Table1[[#This Row],[QTY]]","v":0},{"$f":"Table1[[#This Row],[QTY]]*Table1[[#This Row],[S&L Price]]","v":0}]
[null,null,30,null,"Underwater World",1,"Sea Stars","eBook","978-1-4339-8574-4",2013,"January 2013",null,null,"Author","Ryan Nagelhout",0.9,0.5,3,4,"C","180L","Grade K","Grade K - 2","A sea star is one of the most durable creatures in the world. Through the use of accessible text, readers take an exciting look at the wet world these curious creatures call home. A picture glossary helps beginning readers strengthen their vocabulary skills, and vibrant, full-color photographs shows how these stunning animals survive under the waves.","English",22.6,16.95,"593.9","24 pp.",{"$f":"Table1[[#This Row],['# Books]]*Table1[[#This Row],[QTY]]","v":0},{"$f":"Table1[[#This Row],[QTY]]*Table1[[#This Row],[S&L Price]]","v":0}]
[null,null,30,null,"Underwater World",1,"Sharks","Library Bound Book","978-1-4339-8575-1",2013,"January 2013","Library","7.625 X 7.125","Author","Ryan Nagelhout",0.9,0.5,3,4,"C",null,"Grade K","Grade K - 2","Sharks are famous for their bite, but there’s plenty of variety in these dangerous creatures. Through the use of accessible text, readers take an exciting look at the wet world these toothy creatures call home. A picture glossary helps beginning readers strengthen their vocabulary skills, and vibrant, full-color photographs shows how these stunning animals make a home under the waves.","English",22.6,16.95,"597.3","24 pp.",{"$f":"Table1[[#This Row],['# Books]]*Table1[[#This Row],[QTY]]","v":0},{"$f":"Table1[[#This Row],[QTY]]*Table1[[#This Row],[S&L Price]]","v":0}]
[null,null,30,null,"Underwater World",1,"Sharks","eBook","978-1-4339-8847-9",2013,"January 2013",null,null,"Author","Ryan Nagelhout",0.9,0.5,3,4,"C",null,"Grade K","Grade K - 2","Sharks are famous for their bite, but there’s plenty of variety in these dangerous creatures. Through the use of accessible text, readers take an exciting look at the wet world these toothy creatures call home. A picture glossary helps beginning readers strengthen their vocabulary skills, and vibrant, full-color photographs shows how these stunning animals make a home under the waves.","English",22.6,16.95,"597.3","24 pp.",{"$f":"Table1[[#This Row],['# Books]]*Table1[[#This Row],[QTY]]","v":0},{"$f":"Table1[[#This Row],[QTY]]*Table1[[#This Row],[S&L Price]]","v":0}]
[null,null,30,null,"Underwater World",1,"Turtles","Library Bound Book","978-1-4339-8578-2",2013,"January 2013","Library","7.625 X 7.125","Author","Ryan Nagelhout",0.9,0.5,3,4,"C","270L","Grade K","Grade K - 2","The most dangerous swim of a sea turtle’s life is its first, a race from egg to ocean that very few survive. Through the use of accessible text, readers take an exciting look at the life cycle of the ocean’s most unique swimmer. A picture glossary helps beginning readers strengthen their vocabulary skills, and vibrant, full-color photographs shows how these animals make a home both under and above the waves.","English",22.6,16.95,"597.92","24 pp.",{"$f":"Table1[[#This Row],['# Books]]*Table1[[#This Row],[QTY]]","v":0},{"$f":"Table1[[#This Row],[QTY]]*Table1[[#This Row],[S&L Price]]","v":0}]
[null,null,30,null,"Underwater World",1,"Turtles","eBook","978-1-4339-8581-2",2013,"January 2013",null,null,"Author","Ryan Nagelhout",0.9,0.5,3,4,"C","270L","Grade K","Grade K - 2","The most dangerous swim of a sea turtle’s life is its first, a race from egg to ocean that very few survive. Through the use of accessible text, readers take an exciting look at the life cycle of the ocean’s most unique swimmer. A picture glossary helps beginning readers strengthen their vocabulary skills, and vibrant, full-color photographs shows how these animals make a home both under and above the waves.","English",22.6,16.95,"597.92","24 pp.",{"$f":"Table1[[#This Row],['# Books]]*Table1[[#This Row],[QTY]]","v":0},{"$f":"Table1[[#This Row],[QTY]]*Table1[[#This Row],[S&L Price]]","v":0}]
[null,null,30,null,"Underwater World",1,"Whales","Library Bound Book","978-1-4339-8582-9",2013,"January 2013","Library","7.625 X 7.125","Author","Ryan Nagelhout",0.9,0.5,3,4,"C","220L","Grade K","Grade K - 2","Whales are some of the largest creatures on the planet, yet they eat some of the smallest creatures in the ocean. Through the use of accessible text, readers take an exciting look at the life cycle of the ocean’s giants. A picture glossary helps beginning readers strengthen their vocabulary skills, and vibrant, full-color photographs shows how these spectacular animals live and survive in their the ocean home.","English",22.6,16.95,"599.5","24 pp.",{"$f":"Table1[[#This Row],['# Books]]*Table1[[#This Row],[QTY]]","v":0},{"$f":"Table1[[#This Row],[QTY]]*Table1[[#This Row],[S&L Price]]","v":0}]
[null,null,30,null,"Underwater World",1,"Whales","eBook","978-1-4339-8585-0",2013,"January 2013",null,null,"Author","Ryan Nagelhout",0.9,0.5,3,4,"C","220L","Grade K","Grade K - 2","Whales are some of the largest creatures on the planet, yet they eat some of the smallest creatures in the ocean. Through the use of accessible text, readers take an exciting look at the life cycle of the ocean’s giants. A picture glossary helps beginning readers strengthen their vocabulary skills, and vibrant, full-color photographs shows how these spectacular animals live and survive in their the ocean home.","English",22.6,16.95,"599.5","24 pp.",{"$f":"Table1[[#This Row],['# Books]]*Table1[[#This Row],[QTY]]","v":0},{"$f":"Table1[[#This Row],[QTY]]*Table1[[#This Row],[S&L Price]]","v":0}]
[null,null,31,null,"Four Super Seasons",4,"Four Super Seasons","Library Set","978-1-4824-0134-9",2014,"January 2014","Library","7.625 X 7.125",null,"",null,null,null,null,null,null,"Grade K","Grade K - 2","With each new season comes a new kind of weather and different things to do! Whether it’s swimming at the beach under the warm summer sun or building a snowman in winter, this exciting series is perfect for beginning readers looking to learn about our changing weather patterns. Each of the four seasons has its unique qualities, and young readers will learn about the differences between each with the help of accessible text and full-color photographs. A picture glossary and index reinforce comprehension for early readers.    • Strong picture-text correlation aids in comprehension • Reading level supports beginning readers • Picture glossary helps develop vocabulary skills   ","English",90.4,67.8,null,"24 pp.",{"$f":"Table1[[#This Row],['# Books]]*Table1[[#This Row],[QTY]]","v":0},{"$f":"Table1[[#This Row],[QTY]]*Table1[[#This Row],[S&L Price]]","v":0}]
[null,null,31,null,"Four Super Seasons",1,"What Happens in Fall?","Library Bound Book","978-1-4824-0607-8",2014,"January 2014","Library","7.625 X 7.125","Author","Alex Appleby",0.9,0.5,3,null,"C","240L","Grade K","Grade K - 2","Why do the leaves fall off trees in autumn? Through the use of accessible text, readers learn the basic science of fall and understand why the weather gets colder as the year goes on. Each season has its unique qualities, and this series explains to young readers what makes fall unique in its own way.    • Strong picture-text correlation aids in comprehension • Reading level supports beginning readers • Picture glossary helps develop vocabulary skills   ","English",22.6,16.95,"508.2","24 pp.",{"$f":"Table1[[#This Row],['# Books]]*Table1[[#This Row],[QTY]]","v":0},{"$f":"Table1[[#This Row],[QTY]]*Table1[[#This Row],[S&L Price]]","v":0}]
[null,null,31,null,"Four Super Seasons",1,"What Happens in Fall?","eBook","978-1-4824-0103-5",2014,"January 2014",null,null,"Author","Alex Appleby",0.9,0.5,3,null,"C","240L","Grade K","Grade K - 2","Why do the leaves fall off trees in autumn? Through the use of accessible text, readers learn the basic science of fall and understand why the weather gets colder as the year goes on. Each season has its unique qualities, and this series explains to young readers what makes fall unique in its own way.    • Strong picture-text correlation aids in comprehension • Reading level supports beginning readers • Picture glossary helps develop vocabulary skills   ","English",22.6,16.95,"508.2","24 pp.",{"$f":"Table1[[#This Row],['# Books]]*Table1[[#This Row],[QTY]]","v":0},{"$f":"Table1[[#This Row],[QTY]]*Table1[[#This Row],[S&L Price]]","v":0}]
[null,null,31,null,"Four Super Seasons",1,"What Happens in Spring?","Library Bound Book","978-1-4824-0105-9",2014,"January 2014","Library","7.625 X 7.125","Author","Alex Appleby",1,0.5,3,null,"C","200L","Grade K","Grade K - 2","After a cold winter, spring is an exciting season no matter where you live. Young readers learn about the science behind spring in simple, easily accessible text. Readers will explore the growth of new plants, animals coming out of hibernation, and the regrowth of nature that occurs when the weather starts to get warmer in this fun book.    • Strong picture-text correlation aids in comprehension • Reading level supports beginning readers • Picture glossary helps develop vocabulary skills   ","English",22.6,16.95,"508.2","24 pp.",{"$f":"Table1[[#This Row],['# Books]]*Table1[[#This Row],[QTY]]","v":0},{"$f":"Table1[[#This Row],[QTY]]*Table1[[#This Row],[S&L Price]]","v":0}]
[null,null,31,null,"Four Super Seasons",1,"What Happens in Spring?","eBook","978-1-4824-0107-3",2014,"January 2014",null,null,"Author","Alex Appleby",1,0.5,3,null,"C","200L","Grade K","Grade K - 2","After a cold winter, spring is an exciting season no matter where you live. Young readers learn about the science behind spring in simple, easily accessible text. Readers will explore the growth of new plants, animals coming out of hibernation, and the regrowth of nature that occurs when the weather starts to get warmer in this fun book.    • Strong picture-text correlation aids in comprehension • Reading level supports beginning readers • Picture glossary helps develop vocabulary skills   ","English",22.6,16.95,"508.2","24 pp.",{"$f":"Table1[[#This Row],['# Books]]*Table1[[#This Row],[QTY]]","v":0},{"$f":"Table1[[#This Row],[QTY]]*Table1[[#This Row],[S&L Price]]","v":0}]
[null,null,31,null,"Four Super Seasons",1,"What Happens in Summer?","Library Bound Book","978-1-4824-0109-7",2014,"January 2014","Library","7.625 X 7.125","Author","Alex Appleby",1,0.5,3,null,"C","140L","Grade K","Grade K - 2","There’s lots to do when the weather is nice in summer. This book explores the warm weather that summer brings, including the activities of nature and fun ways to fill a summer day. Through the use of accessible text and simple science content, readers will learn why summer is unique from the other seasons.    • Strong picture-text correlation aids in comprehension • Reading level supports beginning readers • Picture glossary helps develop vocabulary skills   ","English",22.6,16.95,"508.2","24 pp.",{"$f":"Table1[[#This Row],['# Books]]*Table1[[#This Row],[QTY]]","v":0},{"$f":"Table1[[#This Row],[QTY]]*Table1[[#This Row],[S&L Price]]","v":0}]
[null,null,31,null,"Four Super Seasons",1,"What Happens in Summer?","eBook","978-1-4824-0111-0",2014,"January 2014",null,null,"Author","Alex Appleby",1,0.5,3,null,"C","140L","Grade K","Grade K - 2","There’s lots to do when the weather is nice in summer. This book explores the warm weather that summer brings, including the activities of nature and fun ways to fill a summer day. Through the use of accessible text and simple science content, readers will learn why summer is unique from the other seasons.    • Strong picture-text correlation aids in comprehension • Reading level supports beginning readers • Picture glossary helps develop vocabulary skills   ","English",22.6,16.95,"508.2","24 pp.",{"$f":"Table1[[#This Row],['# Books]]*Table1[[#This Row],[QTY]]","v":0},{"$f":"Table1[[#This Row],[QTY]]*Table1[[#This Row],[S&L Price]]","v":0}]
[null,null,31,null,"Four Super Seasons",1,"What Happens in Winter?","Library Bound Book","978-1-4824-0113-4",2014,"January 2014","Library","7.625 X 7.125","Author","Alex Appleby",1,0.5,3,null,"C","180L","Grade K","Grade K - 2","Winter is a special season because the weather can be very different from the others. Whether it’s snow or just the cold that comes, it’s a very interesting season all over the world. Through the use of accessible text and a great picture glossary, early readers will explore the super season of winter and learn the science behind Mother Nature’s coldest season.    • Strong picture-text correlation aids in comprehension • Reading level supports beginning readers • Picture glossary helps develop vocabulary skills   ","English",22.6,16.95,"508.2","24 pp.",{"$f":"Table1[[#This Row],['# Books]]*Table1[[#This Row],[QTY]]","v":0},{"$f":"Table1[[#This Row],[QTY]]*Table1[[#This Row],[S&L Price]]","v":0}]
[null,null,31,null,"Four Super Seasons",1,"What Happens in Winter?","eBook","978-1-4824-0115-8",2014,"January 2014",null,null,"Author","Alex Appleby",1,0.5,3,null,"C","180L","Grade K","Grade K - 2","Winter is a special season because the weather can be very different from the others. Whether it’s snow or just the cold that comes, it’s a very interesting season all over the world. Through the use of accessible text and a great picture glossary, early readers will explore the super season of winter and learn the science behind Mother Nature’s coldest season.    • Strong picture-text correlation aids in comprehension • Reading level supports beginning readers • Picture glossary helps develop vocabulary skills   ","English",22.6,16.95,"508.2","24 pp.",{"$f":"Table1[[#This Row],['# Books]]*Table1[[#This Row],[QTY]]","v":0},{"$f":"Table1[[#This Row],[QTY]]*Table1[[#This Row],[S&L Price]]","v":0}]
[null,null,31,null,"How Do I Feel?",6,"How Do I Feel?","Library Set","978-1-4339-8191-3",2013,"January 2013","Library","7.625 X 7.125",null,"",null,null,null,null,null,null,"Grade K","Grade K - 2","Young readers experience a variety of strong emotions in their everyday lives. In this charming series, they are introduced to engaging stories about children dealing with their feelings in realistic ways. Using a fictionalized approach, this series explores the ways children express their feelings—from anger and happiness to fear and loneliness—in a relatable manner. With the help of accessible text, beginning readers learn for themselves what can cause them to feel certain emotions and how to best deal with the feelings they experience during common situations, such as a birthday party and the first day of school. Colorful illustrations are sure to captivate young readers, keeping them entertained as they learn.     • Strong picture-text correlation aids in comprehension • High-interest topic appeals to young readers • Reading level supports beginning readers  ","English",135.6,101.7,null,"24 pp.",{"$f":"Table1[[#This Row],['# Books]]*Table1[[#This Row],[QTY]]","v":0},{"$f":"Table1[[#This Row],[QTY]]*Table1[[#This Row],[S&L Price]]","v":0}]
[null,null,31,null,"How Do I Feel?",1,"I Feel Happy","Library Bound Book","978-1-4339-8107-4",2013,"January 2013","Library","7.625 X 7.125","Author","Katie Kawa",0.9,0.5,3,4,"C",null,"Grade K","Grade K - 2","A child’s birthday party is a very happy occasion, and beginning readers get to experience that happiness for themselves inside this book. This fictional story told through a relatable narrator details the happy events surrounding an exciting birthday party. Accessible text allows young readers to discover for themselves what could cause someone to feel happy—from a day with friends to a fun-filled bike ride. A picture glossary also aids young readers in the development of important vocabulary skills. With its combination of educational and enjoyable text as well as its charming illustrations this book is sure to bring happiness to all readers.","English",22.6,16.95,"152.4","24 pp.",{"$f":"Table1[[#This Row],['# Books]]*Table1[[#This Row],[QTY]]","v":0},{"$f":"Table1[[#This Row],[QTY]]*Table1[[#This Row],[S&L Price]]","v":0}]
[null,null,31,null,"How Do I Feel?",1,"I Feel Happy","eBook","978-1-4339-8110-4",2013,"January 2013",null,null,"Author","Katie Kawa",0.9,0.5,3,4,"C",null,"Grade K","Grade K - 2","A child’s birthday party is a very happy occasion, and beginning readers get to experience that happiness for themselves inside this book. This fictional story told through a relatable narrator details the happy events surrounding an exciting birthday party. Accessible text allows young readers to discover for themselves what could cause someone to feel happy—from a day with friends to a fun-filled bike ride. A picture glossary also aids young readers in the development of important vocabulary skills. With its combination of educational and enjoyable text as well as its charming illustrations this book is sure to bring happiness to all readers.","English",22.6,16.95,"152.4","24 pp.",{"$f":"Table1[[#This Row],['# Books]]*Table1[[#This Row],[QTY]]","v":0},{"$f":"Table1[[#This Row],[QTY]]*Table1[[#This Row],[S&L Price]]","v":0}]
[null,null,31,null,"How Do I Feel?",1,"I Feel Lonely","Library Bound Book","978-1-4339-8111-1",2013,"January 2013","Library","7.625 X 7.125","Author","Katie Kawa",0.9,0.5,3,4,"C",null,"Grade K","Grade K - 2","Loneliness can be an overwhelming emotion, but this engaging book teaches beginning readers healthy ways to deal with feeling lonely. Using a fictional approach, this book details the story of a child’s trip to the park—from the lonely feeling of watching other children play together to the joy of making a new friend. With the help of simple text and a useful picture glossary, young readers discover for themselves how easy it is to conquer loneliness by beginning a new friendship. Charming illustrations will draw beginning readers to this relatable story.","English",22.6,16.95,"152.4","24 pp.",{"$f":"Table1[[#This Row],['# Books]]*Table1[[#This Row],[QTY]]","v":0},{"$f":"Table1[[#This Row],[QTY]]*Table1[[#This Row],[S&L Price]]","v":0}]
[null,null,31,null,"How Do I Feel?",1,"I Feel Lonely","eBook","978-1-4339-8114-2",2013,"January 2013",null,null,"Author","Katie Kawa",0.9,0.5,3,4,"C",null,"Grade K","Grade K - 2","Loneliness can be an overwhelming emotion, but this engaging book teaches beginning readers healthy ways to deal with feeling lonely. Using a fictional approach, this book details the story of a child’s trip to the park—from the lonely feeling of watching other children play together to the joy of making a new friend. With the help of simple text and a useful picture glossary, young readers discover for themselves how easy it is to conquer loneliness by beginning a new friendship. Charming illustrations will draw beginning readers to this relatable story.","English",22.6,16.95,"152.4","24 pp.",{"$f":"Table1[[#This Row],['# Books]]*Table1[[#This Row],[QTY]]","v":0},{"$f":"Table1[[#This Row],[QTY]]*Table1[[#This Row],[S&L Price]]","v":0}]
[null,null,31,null,"How Do I Feel?",1,"I Feel Mad","Library Bound Book","978-1-4339-8115-9",2013,"January 2013","Library","7.625 X 7.125","Author","Katie Kawa",0.9,0.5,3,4,"C",null,"Grade K","Grade K - 2","Young readers discover the healthy and unhealthy ways we deal with feeling mad in this educational and engaging book. Using accessible text and fictional approach, this story of a fight between siblings is a relatable situation that teaches young readers about how to handle anger in a healthy way. This approach keeps beginning readers entertained as they learn about powerful emotions. Colorful illustrations and a vocabulary-building picture glossary guide readers through this helpful book.","English",22.6,16.95,"152.4","24 pp.",{"$f":"Table1[[#This Row],['# Books]]*Table1[[#This Row],[QTY]]","v":0},{"$f":"Table1[[#This Row],[QTY]]*Table1[[#This Row],[S&L Price]]","v":0}]
[null,null,31,null,"How Do I Feel?",1,"I Feel Mad","eBook","978-1-4339-8118-0",2013,"January 2013",null,null,"Author","Katie Kawa",0.9,0.5,3,4,"C",null,"Grade K","Grade K - 2","Young readers discover the healthy and unhealthy ways we deal with feeling mad in this educational and engaging book. Using accessible text and fictional approach, this story of a fight between siblings is a relatable situation that teaches young readers about how to handle anger in a healthy way. This approach keeps beginning readers entertained as they learn about powerful emotions. Colorful illustrations and a vocabulary-building picture glossary guide readers through this helpful book.","English",22.6,16.95,"152.4","24 pp.",{"$f":"Table1[[#This Row],['# Books]]*Table1[[#This Row],[QTY]]","v":0},{"$f":"Table1[[#This Row],[QTY]]*Table1[[#This Row],[S&L Price]]","v":0}]
[null,null,31,null,"How Do I Feel?",1,"I Feel Sad","Library Bound Book","978-1-4339-8119-7",2013,"January 2013","Library","7.625 X 7.125","Author","Katie Kawa",1,0.5,3,4,"C",null,"Grade K","Grade K - 2","There are many things in life that can make us feel sad, but sadness does not have to last forever. Beginning readers explore a healthy way to deal with feelings of sadness through the use of a fictional approach to a common childhood experience. They follow along as friends say goodbye when one of them moves to a new town. With the help of accessible text and a useful picture glossary, young readers discover how feelings of sadness can change to happiness over time. Charming illustrations accompany this engaging text.","English",22.6,16.95,"152.4","24 pp.",{"$f":"Table1[[#This Row],['# Books]]*Table1[[#This Row],[QTY]]","v":0},{"$f":"Table1[[#This Row],[QTY]]*Table1[[#This Row],[S&L Price]]","v":0}]
[null,null,31,null,"How Do I Feel?",1,"I Feel Sad","eBook","978-1-4339-8122-7",2013,"January 2013",null,null,"Author","Katie Kawa",1,0.5,3,4,"C",null,"Grade K","Grade K - 2","There are many things in life that can make us feel sad, but sadness does not have to last forever. Beginning readers explore a healthy way to deal with feelings of sadness through the use of a fictional approach to a common childhood experience. They follow along as friends say goodbye when one of them moves to a new town. With the help of accessible text and a useful picture glossary, young readers discover how feelings of sadness can change to happiness over time. Charming illustrations accompany this engaging text.","English",22.6,16.95,"152.4","24 pp.",{"$f":"Table1[[#This Row],['# Books]]*Table1[[#This Row],[QTY]]","v":0},{"$f":"Table1[[#This Row],[QTY]]*Table1[[#This Row],[S&L Price]]","v":0}]
[null,null,31,null,"How Do I Feel?",1,"I Feel Scared","Library Bound Book","978-1-4339-8123-4",2013,"January 2013","Library","7.625 X 7.125","Author","Katie Kawa",0.9,0.5,3,4,"C",null,"Grade K","Grade K - 2","Beginning readers discover that it’s normal to feel scared sometimes, and they learn that others can help us when we feel afraid. Using a fictionalized approach, this book presents young readers with the story of a relatable child on a stormy night. Darkness, thunder, and lightning are common fears for children, and this helpful book allows readers to see a child like them work through these fears with the help of a parent. Accessible text allows readers to follow the story all by themselves, and a helpful picture glossary builds strong vocabulary skills. Bright illustrations accompany these other features to provide a reading experience that is as enjoyable as it is enlightening.","English",22.6,16.95,"152.4","24 pp.",{"$f":"Table1[[#This Row],['# Books]]*Table1[[#This Row],[QTY]]","v":0},{"$f":"Table1[[#This Row],[QTY]]*Table1[[#This Row],[S&L Price]]","v":0}]
[null,null,31,null,"How Do I Feel?",1,"I Feel Scared","eBook","978-1-4339-8126-5",2013,"January 2013",null,null,"Author","Katie Kawa",0.9,0.5,3,4,"C",null,"Grade K","Grade K - 2","Beginning readers discover that it’s normal to feel scared sometimes, and they learn that others can help us when we feel afraid. Using a fictionalized approach, this book presents young readers with the story of a relatable child on a stormy night. Darkness, thunder, and lightning are common fears for children, and this helpful book allows readers to see a child like them work through these fears with the help of a parent. Accessible text allows readers to follow the story all by themselves, and a helpful picture glossary builds strong vocabulary skills. Bright illustrations accompany these other features to provide a reading experience that is as enjoyable as it is enlightening.","English",22.6,16.95,"152.4","24 pp.",{"$f":"Table1[[#This Row],['# Books]]*Table1[[#This Row],[QTY]]","v":0},{"$f":"Table1[[#This Row],[QTY]]*Table1[[#This Row],[S&L Price]]","v":0}]
[null,null,31,null,"How Do I Feel?",1,"I Feel Worried","Library Bound Book","978-1-4339-8127-2",2013,"January 2013","Library","7.625 X 7.125","Author","Katie Kawa",0.9,0.5,3,4,"C",null,"Grade K","Grade K - 2","The first day of school is a situation that often makes children nervous. Beginning readers discover ways to work through those feelings of worry to see that starting school can be a fun experience. Using a fictionalized approach, this book introduces children to common anxieties about school–from meeting the teacher to making friends. Told through the eyes of a relatable young narrator, this story helps beginning readers work through these worries by themselves with the help of accessible text. A picture glossary aids in the development of strong vocabulary skills as well. Colorful illustrations enhance the learning experience for all young readers.","English",22.6,16.95,"616.85","24 pp.",{"$f":"Table1[[#This Row],['# Books]]*Table1[[#This Row],[QTY]]","v":0},{"$f":"Table1[[#This Row],[QTY]]*Table1[[#This Row],[S&L Price]]","v":0}]
[null,null,31,null,"How Do I Feel?",1,"I Feel Worried","eBook","978-1-4339-8130-2",2013,"January 2013",null,null,"Author","Katie Kawa",0.9,0.5,3,4,"C",null,"Grade K","Grade K - 2","The first day of school is a situation that often makes children nervous. Beginning readers discover ways to work through those feelings of worry to see that starting school can be a fun experience. Using a fictionalized approach, this book introduces children to common anxieties about school–from meeting the teacher to making friends. Told through the eyes of a relatable young narrator, this story helps beginning readers work through these worries by themselves with the help of accessible text. A picture glossary aids in the development of strong vocabulary skills as well. Colorful illustrations enhance the learning experience for all young readers.","English",22.6,16.95,"616.85","24 pp.",{"$f":"Table1[[#This Row],['# Books]]*Table1[[#This Row],[QTY]]","v":0},{"$f":"Table1[[#This Row],[QTY]]*Table1[[#This Row],[S&L Price]]","v":0}]
[null,null,32,null,"My Favorite Sports",6,"My Favorite Sports","Library Set","978-1-4824-0773-0",2015,"August 2014","Library","7.625 X 7.125",null,"",null,null,null,null,null,null,"Grade K","Grade K - 2","Beginning readers get in the game with this exhilarating series that highlights the fast-paced action and thrills of different sports. They learn how to have fun with their friends no matter what sport they pick. Whether they want to be an Olympic gymnast or a soccer star, these books are sure to engage and inspire. Readers learn how to shoot hoops, get their kicks on the soccer field, and even get their thrills on ice! Accessible content and colorful photographs make these books a must for any collection.     • Leveled informational text supports the Common Core standards  • Introduces basic sports terminology  • Picture glossary helps to develop vocabulary skills","English",135.6,101.7,null,"24 pp.",{"$f":"Table1[[#This Row],['# Books]]*Table1[[#This Row],[QTY]]","v":0},{"$f":"Table1[[#This Row],[QTY]]*Table1[[#This Row],[S&L Price]]","v":0}]
[null,null,32,null,"My Favorite Sports",1,"I Love Baseball","Library Bound Book","978-1-4824-0719-8",2015,"August 2014","Library","7.625 X 7.125","Author","Ryan Nagelhout",0.8,0.5,3,null,"C",null,"Grade K","Grade K - 2","Baseball is a great sport for young readers to fall in love with. Beginning readers get in the game with this exciting book. Readers learn the basics of the game, like throwing and catching, and also teaching about the equipment athletes use on the diamond every day. With accessible content and great color photographs, readers can dig into the dirt, hear the crack of a bat, and fall in love with America’s pastime!","English",22.6,16.95,"796.357","24 pp.",{"$f":"Table1[[#This Row],['# Books]]*Table1[[#This Row],[QTY]]","v":0},{"$f":"Table1[[#This Row],[QTY]]*Table1[[#This Row],[S&L Price]]","v":0}]
[null,null,32,null,"My Favorite Sports",1,"I Love Baseball","eBook","978-1-4824-0721-1",2015,"August 2014",null,null,"Author","Ryan Nagelhout",0.8,0.5,3,null,"C",null,"Grade K","Grade K - 2","Baseball is a great sport for young readers to fall in love with. Beginning readers get in the game with this exciting book. Readers learn the basics of the game, like throwing and catching, and also teaching about the equipment athletes use on the diamond every day. With accessible content and great color photographs, readers can dig into the dirt, hear the crack of a bat, and fall in love with America’s pastime!","English",22.6,16.95,"796.357","24 pp.",{"$f":"Table1[[#This Row],['# Books]]*Table1[[#This Row],[QTY]]","v":0},{"$f":"Table1[[#This Row],[QTY]]*Table1[[#This Row],[S&L Price]]","v":0}]
[null,null,32,null,"My Favorite Sports",1,"I Love Basketball","Library Bound Book","978-1-4824-0722-8",2015,"August 2014","Library","7.625 X 7.125","Author","Ryan Nagelhout",0.9,0.5,3,null,"C",null,"Grade K","Grade K - 2","Basketball is the perfect sport for a young sports enthusiast to dive into. The fast-paced game makes for an exciting sport, and early readers will jump right in and experience a big game atmosphere in this exciting book. Readers learn the basics of the game such as dribbling and shooting, readers will experience the joys of sports and establish early ideas about teamwork while establishing literacy skills that will help them develop new skills with every page!","English",22.6,16.95,"796.323","24 pp.",{"$f":"Table1[[#This Row],['# Books]]*Table1[[#This Row],[QTY]]","v":0},{"$f":"Table1[[#This Row],[QTY]]*Table1[[#This Row],[S&L Price]]","v":0}]
[null,null,32,null,"My Favorite Sports",1,"I Love Basketball","eBook","978-1-4824-0723-5",2015,"August 2014",null,null,"Author","Ryan Nagelhout",0.9,0.5,3,null,"C",null,"Grade K","Grade K - 2","Basketball is the perfect sport for a young sports enthusiast to dive into. The fast-paced game makes for an exciting sport, and early readers will jump right in and experience a big game atmosphere in this exciting book. Readers learn the basics of the game such as dribbling and shooting, readers will experience the joys of sports and establish early ideas about teamwork while establishing literacy skills that will help them develop new skills with every page!","English",22.6,16.95,"796.323","24 pp.",{"$f":"Table1[[#This Row],['# Books]]*Table1[[#This Row],[QTY]]","v":0},{"$f":"Table1[[#This Row],[QTY]]*Table1[[#This Row],[S&L Price]]","v":0}]
[null,null,32,null,"My Favorite Sports",1,"I Love Football","Library Bound Book","978-1-4824-0726-6",2015,"August 2014","Library","7.625 X 7.125","Author","Ryan Nagelhout",0.9,0.5,3,null,"C",null,"Grade K","Grade K - 2","Football is the most popular sport in America, and this first look at the sport shows why. Early readers will be taken into the huddle and into the end zone while developing basic literacy skills and a foundation for future reading success. From running to passing and big plays on defense, readers will learn the ins and outs of life on the gridiron.","English",22.6,16.95,"796.332","24 pp.",{"$f":"Table1[[#This Row],['# Books]]*Table1[[#This Row],[QTY]]","v":0},{"$f":"Table1[[#This Row],[QTY]]*Table1[[#This Row],[S&L Price]]","v":0}]
[null,null,32,null,"My Favorite Sports",1,"I Love Football","eBook","978-1-4824-0725-9",2015,"August 2014",null,null,"Author","Ryan Nagelhout",0.9,0.5,3,null,"C",null,"Grade K","Grade K - 2","Football is the most popular sport in America, and this first look at the sport shows why. Early readers will be taken into the huddle and into the end zone while developing basic literacy skills and a foundation for future reading success. From running to passing and big plays on defense, readers will learn the ins and outs of life on the gridiron.","English",22.6,16.95,"796.332","24 pp.",{"$f":"Table1[[#This Row],['# Books]]*Table1[[#This Row],[QTY]]","v":0},{"$f":"Table1[[#This Row],[QTY]]*Table1[[#This Row],[S&L Price]]","v":0}]
[null,null,32,null,"My Favorite Sports",1,"I Love Gymnastics","Library Bound Book","978-1-4824-0728-0",2015,"August 2014","Library","7.625 X 7.125","Author","Ryan Nagelhout",0.9,0.5,3,null,"C",null,"Grade K","Grade K - 2","Gymnastics are a great way for kids to get active at an early age. The rolling, tumbling, and flipping in a safe environment can one day lead to big moves and exciting Olympic performances. Starting small, though, is a great way to build both reading and gymnastic skills and establish the foundation for future greatness. Early readers get an inside look at the gymnastics studio, building strength and learning new moves while also learning about mat safety. Technical terminology and fun, full-color photographs provide strong picture-text correlation and help readers build a love for gymnastics with every page.","English",22.6,16.95,"796.44","24 pp.",{"$f":"Table1[[#This Row],['# Books]]*Table1[[#This Row],[QTY]]","v":0},{"$f":"Table1[[#This Row],[QTY]]*Table1[[#This Row],[S&L Price]]","v":0}]
[null,null,32,null,"My Favorite Sports",1,"I Love Gymnastics","eBook","978-1-4824-0729-7",2015,"August 2014",null,null,"Author","Ryan Nagelhout",0.9,0.5,3,null,"C",null,"Grade K","Grade K - 2","Gymnastics are a great way for kids to get active at an early age. The rolling, tumbling, and flipping in a safe environment can one day lead to big moves and exciting Olympic performances. Starting small, though, is a great way to build both reading and gymnastic skills and establish the foundation for future greatness. Early readers get an inside look at the gymnastics studio, building strength and learning new moves while also learning about mat safety. Technical terminology and fun, full-color photographs provide strong picture-text correlation and help readers build a love for gymnastics with every page.","English",22.6,16.95,"796.44","24 pp.",{"$f":"Table1[[#This Row],['# Books]]*Table1[[#This Row],[QTY]]","v":0},{"$f":"Table1[[#This Row],[QTY]]*Table1[[#This Row],[S&L Price]]","v":0}]
[null,null,32,null,"My Favorite Sports",1,"I Love Hockey","Library Bound Book","978-1-4824-0731-0",2015,"August 2014","Library","7.625 X 7.125","Author","Ryan Nagelhout",0.9,0.5,3,null,"C",null,"Grade K","Grade K - 2","The sights and sounds of ice hockey are unlike any other sport. From the playing surface to the big cheers from a goal, hockey is an easy sport to fall in love with. In this exhilarating book, readers will establish first concepts while exploring the world of ice hockey. From the pucks and sticks a player needs to play and the teamwork it takes to win, readers will fall for the fast pace of the game while building literacy skills and establishing a strong skill set for future reading success.","English",22.6,16.95,"796.962","24 pp.",{"$f":"Table1[[#This Row],['# Books]]*Table1[[#This Row],[QTY]]","v":0},{"$f":"Table1[[#This Row],[QTY]]*Table1[[#This Row],[S&L Price]]","v":0}]
[null,null,32,null,"My Favorite Sports",1,"I Love Hockey","eBook","978-1-4824-0733-4",2015,"August 2014",null,null,"Author","Ryan Nagelhout",0.9,0.5,3,null,"C",null,"Grade K","Grade K - 2","The sights and sounds of ice hockey are unlike any other sport. From the playing surface to the big cheers from a goal, hockey is an easy sport to fall in love with. In this exhilarating book, readers will establish first concepts while exploring the world of ice hockey. From the pucks and sticks a player needs to play and the teamwork it takes to win, readers will fall for the fast pace of the game while building literacy skills and establishing a strong skill set for future reading success.","English",22.6,16.95,"796.962","24 pp.",{"$f":"Table1[[#This Row],['# Books]]*Table1[[#This Row],[QTY]]","v":0},{"$f":"Table1[[#This Row],[QTY]]*Table1[[#This Row],[S&L Price]]","v":0}]
[null,null,32,null,"My Favorite Sports",1,"I Love Soccer","Library Bound Book","978-1-4824-0734-1",2015,"August 2014","Library","7.625 X 7.125","Author","Ryan Nagelhout",0.9,0.5,3,null,"C",null,"Grade K","Grade K - 2","Soccer is a fast and fun sport to read about and even more fun to play! From the big saves to the even bigger goals, taking the pitch with friends is a great way to get active and have fun. In this exciting book readers will establish first concepts and literacy skills while exploring the world of soccer. Whether you want to play defense, defend the net, or score goals, soccer is a great sport to fall in love with, and full-color photographs and picture glossary helps readers learn about the sport while establishing basic literacy skills to prepare them for a lifetime of fun, both with books and a soccer ball.","English",22.6,16.95,"796.334","24 pp.",{"$f":"Table1[[#This Row],['# Books]]*Table1[[#This Row],[QTY]]","v":0},{"$f":"Table1[[#This Row],[QTY]]*Table1[[#This Row],[S&L Price]]","v":0}]
[null,null,32,null,"My Favorite Sports",1,"I Love Soccer","eBook","978-1-4824-0736-5",2015,"August 2014",null,null,"Author","Ryan Nagelhout",0.9,0.5,3,null,"C",null,"Grade K","Grade K - 2","Soccer is a fast and fun sport to read about and even more fun to play! From the big saves to the even bigger goals, taking the pitch with friends is a great way to get active and have fun. In this exciting book readers will establish first concepts and literacy skills while exploring the world of soccer. Whether you want to play defense, defend the net, or score goals, soccer is a great sport to fall in love with, and full-color photographs and picture glossary helps readers learn about the sport while establishing basic literacy skills to prepare them for a lifetime of fun, both with books and a soccer ball.","English",22.6,16.95,"796.334","24 pp.",{"$f":"Table1[[#This Row],['# Books]]*Table1[[#This Row],[QTY]]","v":0},{"$f":"Table1[[#This Row],[QTY]]*Table1[[#This Row],[S&L Price]]","v":0}]
[null,null,32,null,"My Five Senses",5,"My Five Senses","Library Set","978-1-4824-1036-5",2015,"August 2014","Library","7.625 X 7.125","Author","Alex Appleby",0.8,0.5,3,null,"C",null,"Grade K","Grade K - 2","Every day we use the five senses to learn more about the world around us. Whether we taste ice cream, touch a furry dog, or smell delicious food in the oven, our senses guide us in everything we do. Beginning readers will have the chance to learn about our five senses—touch, taste, smell, hearing, and sight—and learn how they use their senses and why they are important. Colorful photographs show our five senses at work, and accessible text aids in reading comprehension.     • Introduces basic science concepts  • Leveled informational text supports the Common Core standards  • Picture glossary helps to develop vocabulary skills","English",113,84.75,"612.8","24 pp.",{"$f":"Table1[[#This Row],['# Books]]*Table1[[#This Row],[QTY]]","v":0},{"$f":"Table1[[#This Row],[QTY]]*Table1[[#This Row],[S&L Price]]","v":0}]
[null,null,32,null,"My Five Senses",1,"What I Hear","Library Bound Book","978-1-4824-0778-5",2015,"August 2014","Library","7.625 X 7.125","Author","Alex Appleby",0.8,0.5,3,null,"C",null,"Grade K","Grade K - 2","Hearing is an important sense for those just beginning to explore the world. From the chirping of birds to the sound of cars and trucks, a good sense of hearing can teach people a lot about the beauty and dangers of the world around them. In this exciting book, early readers learn how hearing impacts their world. Full-color photographs also provide a strong picture-text correlation, while a picture glossary helps enhance vocabulary skills.","English",22.6,16.95,"612.8","24 pp.",{"$f":"Table1[[#This Row],['# Books]]*Table1[[#This Row],[QTY]]","v":0},{"$f":"Table1[[#This Row],[QTY]]*Table1[[#This Row],[S&L Price]]","v":0}]
[null,null,32,null,"My Five Senses",1,"What I Hear","eBook","978-1-4824-0777-8",2015,"August 2014",null,null,"Author","Alex Appleby",0.8,0.5,3,null,"C",null,"Grade K","Grade K - 2","Hearing is an important sense for those just beginning to explore the world. From the chirping of birds to the sound of cars and trucks, a good sense of hearing can teach people a lot about the beauty and dangers of the world around them. In this exciting book, early readers learn how hearing impacts their world. Full-color photographs also provide a strong picture-text correlation, while a picture glossary helps enhance vocabulary skills.","English",22.6,16.95,"612.8","24 pp.",{"$f":"Table1[[#This Row],['# Books]]*Table1[[#This Row],[QTY]]","v":0},{"$f":"Table1[[#This Row],[QTY]]*Table1[[#This Row],[S&L Price]]","v":0}]
[null,null,32,null,"My Five Senses",1,"What I See","Library Bound Book","978-1-4824-0808-9",2015,"August 2014","Library","7.625 X 7.125","Author","Alex Appleby",0.7,0.5,3,null,"C",null,"Grade K","Grade K - 2","From the moment we open our eyes in the morning to the time we turn out the lights at night, there’s lots to see in our world. In this exciting early concepts book, beginning readers learn to take what they see and learn from it. Through accessible text and strong picture-text correlation aided by full color photographs, budding readers’ eyes will be opened to the world around them as they learn about this vital sense.","English",22.6,16.95,"612.8","24 pp.",{"$f":"Table1[[#This Row],['# Books]]*Table1[[#This Row],[QTY]]","v":0},{"$f":"Table1[[#This Row],[QTY]]*Table1[[#This Row],[S&L Price]]","v":0}]
[null,null,32,null,"My Five Senses",1,"What I See","eBook","978-1-4824-0811-9",2015,"August 2014",null,null,"Author","Alex Appleby",0.7,0.5,3,null,"C",null,"Grade K","Grade K - 2","From the moment we open our eyes in the morning to the time we turn out the lights at night, there’s lots to see in our world. In this exciting early concepts book, beginning readers learn to take what they see and learn from it. Through accessible text and strong picture-text correlation aided by full color photographs, budding readers’ eyes will be opened to the world around them as they learn about this vital sense.","English",22.6,16.95,"612.8","24 pp.",{"$f":"Table1[[#This Row],['# Books]]*Table1[[#This Row],[QTY]]","v":0},{"$f":"Table1[[#This Row],[QTY]]*Table1[[#This Row],[S&L Price]]","v":0}]
[null,null,32,null,"My Five Senses",1,"What I Smell","Library Bound Book","978-1-4824-0813-3",2015,"August 2014","Library","7.625 X 7.125","Author","Alex Appleby",0.9,0.5,3,null,"C",null,"Grade K","Grade K - 2","How do we know when it’s time to eat? Sometimes, it’s because we smell something yummy cooking! Early readers dive nose-first into the world of the smells around them, including bad smells like a garbage dump or good smells like apple pie. Accessible language and strong picture-text correlation introduces readers to all of the things the nose knows!","English",22.6,16.95,"612.8","24 pp.",{"$f":"Table1[[#This Row],['# Books]]*Table1[[#This Row],[QTY]]","v":0},{"$f":"Table1[[#This Row],[QTY]]*Table1[[#This Row],[S&L Price]]","v":0}]
[null,null,32,null,"My Five Senses",1,"What I Smell","eBook","978-1-4824-0816-4",2015,"August 2014",null,null,"Author","Alex Appleby",0.9,0.5,3,null,"C",null,"Grade K","Grade K - 2","How do we know when it’s time to eat? Sometimes, it’s because we smell something yummy cooking! Early readers dive nose-first into the world of the smells around them, including bad smells like a garbage dump or good smells like apple pie. Accessible language and strong picture-text correlation introduces readers to all of the things the nose knows!","English",22.6,16.95,"612.8","24 pp.",{"$f":"Table1[[#This Row],['# Books]]*Table1[[#This Row],[QTY]]","v":0},{"$f":"Table1[[#This Row],[QTY]]*Table1[[#This Row],[S&L Price]]","v":0}]
[null,null,32,null,"My Five Senses",1,"What I Taste","Library Bound Book","978-1-4824-0818-8",2015,"August 2014","Library","7.625 X 7.125","Author","Alex Appleby",0.8,0.5,3,null,"C",null,"Grade K","Grade K - 2","Who doesn’t love to dive into a good meal? Our sense of taste is important—without it, how would we know what we like to eat? Early readers take a tour of their taste buds and explore worlds of flavor. From a fresh, sweet orange to a yummy slice of pizza, readers will learn all about this savory sense. Strong picture-text correlation enhanced by full-color photographs helps build early reading skills in budding, hungry readers.","English",22.6,16.95,"612.8","24 pp.",{"$f":"Table1[[#This Row],['# Books]]*Table1[[#This Row],[QTY]]","v":0},{"$f":"Table1[[#This Row],[QTY]]*Table1[[#This Row],[S&L Price]]","v":0}]
[null,null,32,null,"My Five Senses",1,"What I Taste","eBook","978-1-4824-0821-8",2015,"August 2014",null,null,"Author","Alex Appleby",0.8,0.5,3,null,"C",null,"Grade K","Grade K - 2","Who doesn’t love to dive into a good meal? Our sense of taste is important—without it, how would we know what we like to eat? Early readers take a tour of their taste buds and explore worlds of flavor. From a fresh, sweet orange to a yummy slice of pizza, readers will learn all about this savory sense. Strong picture-text correlation enhanced by full-color photographs helps build early reading skills in budding, hungry readers.","English",22.6,16.95,"612.8","24 pp.",{"$f":"Table1[[#This Row],['# Books]]*Table1[[#This Row],[QTY]]","v":0},{"$f":"Table1[[#This Row],[QTY]]*Table1[[#This Row],[S&L Price]]","v":0}]
[null,null,32,null,"My Five Senses",1,"What I Touch","Library Bound Book","978-1-4824-0826-3",2015,"August 2014","Library","7.625 X 7.125","Author","Alex Appleby",0.7,0.5,3,null,"C",null,"Grade K","Grade K - 2","Touch is one of the earliest senses we develop. It’s easy to understand: just reach out and grab it! Beginning readers are given an opportunity to explore a world of textures in this book. From rough surfaces like sand to smooth cloths and silks, the contrast between sensations makes for a learning experience at every turn. Full-color photographs provide strong picture-text correlation to enhance comprehension of this basic science concept.","English",22.6,16.95,"612.8","24 pp.",{"$f":"Table1[[#This Row],['# Books]]*Table1[[#This Row],[QTY]]","v":0},{"$f":"Table1[[#This Row],[QTY]]*Table1[[#This Row],[S&L Price]]","v":0}]
[null,null,32,null,"My Five Senses",1,"What I Touch","eBook","978-1-4824-0825-6",2015,"August 2014",null,null,"Author","Alex Appleby",0.7,0.5,3,null,"C",null,"Grade K","Grade K - 2","Touch is one of the earliest senses we develop. It’s easy to understand: just reach out and grab it! Beginning readers are given an opportunity to explore a world of textures in this book. From rough surfaces like sand to smooth cloths and silks, the contrast between sensations makes for a learning experience at every turn. Full-color photographs provide strong picture-text correlation to enhance comprehension of this basic science concept.","English",22.6,16.95,"612.8","24 pp.",{"$f":"Table1[[#This Row],['# Books]]*Table1[[#This Row],[QTY]]","v":0},{"$f":"Table1[[#This Row],[QTY]]*Table1[[#This Row],[S&L Price]]","v":0}]
[null,null,32,null,"What's the Weather?",6,"What's the Weather?","Library Set","978-1-4339-9669-6",2014,"August 2013","Library","7.625 X 7.125",null,"",null,null,null,null,null,null,"Grade K","Grade K - 2","Beginning readers are introduced to the wild world of weather in this fun, storytelling approach to primary weather concepts. Bright illustrations of children experiencing different kinds of weather will draw early readers in, and accessible text will teach them essential earth science information in a fun, engaging way. Whether they’re reading about a sunny day, a gray and rainy one, or a day with giant hailstones or gusty winds, readers will delight in these stories that enhance their own experience of weather and the world around them.    • High-interest topic engages young readers  • Strong picture-text correlation aids in comprehension  • Reading level supports beginning readers  • Picture glossary helps develop vocabulary skills  • Comprehendible index guides readers through each book","English",135.6,101.7,null,"24 pp.",{"$f":"Table1[[#This Row],['# Books]]*Table1[[#This Row],[QTY]]","v":0},{"$f":"Table1[[#This Row],[QTY]]*Table1[[#This Row],[S&L Price]]","v":0}]
[null,null,32,null,"What's the Weather?",1,"It's Hailing!","Library Bound Book","978-1-4339-9392-3",2014,"August 2013","Library","7.625 X 7.125","Author","Alex Appleby",0.7,0.5,2,1,"B",null,"Grade K","Grade K - 2","Rain and snow can be fun, but hail can be downright dangerous! Big balls of ice falling from the clouds onto your head means it’s time to get inside. Colorful illustrated characters show early readers what hail is made from, and what to do when the sky gets dark and golf ball-sized hail starts to fall. Through accessible text, early readers will explore the sometimes-strange weather in the world around them.   • High-interest topic engages young readers • Strong picture-text correlation aids in comprehension • Reading level supports beginning readers • Picture glossary helps develop vocabulary skills • Comprehendible index guides readers through each book    ","English",22.6,16.95,"551.57","24 pp.",{"$f":"Table1[[#This Row],['# Books]]*Table1[[#This Row],[QTY]]","v":0},{"$f":"Table1[[#This Row],[QTY]]*Table1[[#This Row],[S&L Price]]","v":0}]
[null,null,32,null,"What's the Weather?",1,"It's Hailing!","eBook","978-1-4339-9395-4",2014,"August 2013",null,null,"Author","Alex Appleby",0.7,0.5,2,1,"B",null,"Grade K","Grade K - 2","Rain and snow can be fun, but hail can be downright dangerous! Big balls of ice falling from the clouds onto your head means it’s time to get inside. Colorful illustrated characters show early readers what hail is made from, and what to do when the sky gets dark and golf ball-sized hail starts to fall. Through accessible text, early readers will explore the sometimes-strange weather in the world around them.   • High-interest topic engages young readers • Strong picture-text correlation aids in comprehension • Reading level supports beginning readers • Picture glossary helps develop vocabulary skills • Comprehendible index guides readers through each book    ","English",22.6,16.95,"551.57","24 pp.",{"$f":"Table1[[#This Row],['# Books]]*Table1[[#This Row],[QTY]]","v":0},{"$f":"Table1[[#This Row],[QTY]]*Table1[[#This Row],[S&L Price]]","v":0}]
[null,null,32,null,"What's the Weather?",1,"It's Rainy!","Library Bound Book","978-1-4339-9396-1",2014,"August 2013","Library","7.625 X 7.125","Author","Alex Appleby",0.8,0.5,2,3,"C",null,"Grade K","Grade K - 2","Dark skies usually mean bad weather is coming. When it’s warm out, that usually means rain! Early readers learn about rainstorms through colorful illustrated characters that splash through puddles and make the most out of a rainy afternoon. This exciting fictional approach to the topic of weather introduces the water cycle, and shows how rainwater makes flowers grow. Easy-to-read text helps early readers comprehend the sights and sounds of a rainstorm.  • High-interest topic engages young readers • Strong picture-text correlation aids in comprehension • Reading level supports beginning readers • Picture glossary helps develop vocabulary skills • Comprehendible index guides readers through each book    ","English",22.6,16.95,"551.577","24 pp.",{"$f":"Table1[[#This Row],['# Books]]*Table1[[#This Row],[QTY]]","v":0},{"$f":"Table1[[#This Row],[QTY]]*Table1[[#This Row],[S&L Price]]","v":0}]
[null,null,32,null,"What's the Weather?",1,"It's Rainy!","eBook","978-1-4339-9399-2",2014,"August 2013",null,null,"Author","Alex Appleby",0.8,0.5,2,3,"C",null,"Grade K","Grade K - 2","Dark skies usually mean bad weather is coming. When it’s warm out, that usually means rain! Early readers learn about rainstorms through colorful illustrated characters that splash through puddles and make the most out of a rainy afternoon. This exciting fictional approach to the topic of weather introduces the water cycle, and shows how rainwater makes flowers grow. Easy-to-read text helps early readers comprehend the sights and sounds of a rainstorm.  • High-interest topic engages young readers • Strong picture-text correlation aids in comprehension • Reading level supports beginning readers • Picture glossary helps develop vocabulary skills • Comprehendible index guides readers through each book    ","English",22.6,16.95,"551.577","24 pp.",{"$f":"Table1[[#This Row],['# Books]]*Table1[[#This Row],[QTY]]","v":0},{"$f":"Table1[[#This Row],[QTY]]*Table1[[#This Row],[S&L Price]]","v":0}]
[null,null,32,null,"What's the Weather?",1,"It's Snowing!","Library Bound Book","978-1-4339-9400-5",2014,"August 2013","Library","7.625 X 7.125","Author","Alex Appleby",0.9,0.5,3,4,"C",null,"Grade K","Grade K - 2","What’s that fluffy stuff coming from the clouds? It’s snow! The first snowfall is always an exciting time. In this book, a colorful illustrated character bundles up to battle the cold weather before shoveling the fresh snow. With easy-to-read text, early readers will watch snow become a snowman with the help of some hard work and a big hat! The experience of a winter snowstorm is highlighted by bright illustrations of a child experiencing the weather patterns just outside his home.  • High-interest topic engages young readers • Strong picture-text correlation aids in comprehension • Reading level supports beginning readers • Picture glossary helps develop vocabulary skills • Comprehendible index guides readers through each book    ","English",22.6,16.95,"551.5784","24 pp.",{"$f":"Table1[[#This Row],['# Books]]*Table1[[#This Row],[QTY]]","v":0},{"$f":"Table1[[#This Row],[QTY]]*Table1[[#This Row],[S&L Price]]","v":0}]
[null,null,32,null,"What's the Weather?",1,"It's Snowing!","eBook","978-1-4339-9403-6",2014,"August 2013",null,null,"Author","Alex Appleby",0.9,0.5,3,4,"C",null,"Grade K","Grade K - 2","What’s that fluffy stuff coming from the clouds? It’s snow! The first snowfall is always an exciting time. In this book, a colorful illustrated character bundles up to battle the cold weather before shoveling the fresh snow. With easy-to-read text, early readers will watch snow become a snowman with the help of some hard work and a big hat! The experience of a winter snowstorm is highlighted by bright illustrations of a child experiencing the weather patterns just outside his home.  • High-interest topic engages young readers • Strong picture-text correlation aids in comprehension • Reading level supports beginning readers • Picture glossary helps develop vocabulary skills • Comprehendible index guides readers through each book    ","English",22.6,16.95,"551.5784","24 pp.",{"$f":"Table1[[#This Row],['# Books]]*Table1[[#This Row],[QTY]]","v":0},{"$f":"Table1[[#This Row],[QTY]]*Table1[[#This Row],[S&L Price]]","v":0}]
[null,null,32,null,"What's the Weather?",1,"It's Stormy!","Library Bound Book","978-1-4339-9404-3",2014,"August 2013","Library","7.625 X 7.125","Author","Alex Appleby",0.8,0.5,3,3,"C",null,"Grade K","Grade K - 2","Some days it’s just not safe to go outside! Stormy weather is best enjoyed indoors, where we can watch the lightning, hear thunder, and not get wet. Colorful illustrations and accessible text introduces early readers to the basics of stormy weather, showing a big storm in action. Readers learn that when dark clouds appear, it’s time to go inside!   • High-interest topic engages young readers • Strong picture-text correlation aids in comprehension • Reading level supports beginning readers • Picture glossary helps develop vocabulary skills • Comprehendible index guides readers through each book    ","English",22.6,16.95,"551.55","24 pp.",{"$f":"Table1[[#This Row],['# Books]]*Table1[[#This Row],[QTY]]","v":0},{"$f":"Table1[[#This Row],[QTY]]*Table1[[#This Row],[S&L Price]]","v":0}]
[null,null,32,null,"What's the Weather?",1,"It's Stormy!","eBook","978-1-4339-9407-4",2014,"August 2013",null,null,"Author","Alex Appleby",0.8,0.5,3,3,"C",null,"Grade K","Grade K - 2","Some days it’s just not safe to go outside! Stormy weather is best enjoyed indoors, where we can watch the lightning, hear thunder, and not get wet. Colorful illustrations and accessible text introduces early readers to the basics of stormy weather, showing a big storm in action. Readers learn that when dark clouds appear, it’s time to go inside!   • High-interest topic engages young readers • Strong picture-text correlation aids in comprehension • Reading level supports beginning readers • Picture glossary helps develop vocabulary skills • Comprehendible index guides readers through each book    ","English",22.6,16.95,"551.55","24 pp.",{"$f":"Table1[[#This Row],['# Books]]*Table1[[#This Row],[QTY]]","v":0},{"$f":"Table1[[#This Row],[QTY]]*Table1[[#This Row],[S&L Price]]","v":0}]
[null,null,32,null,"What's the Weather?",1,"It's Sunny!","Library Bound Book","978-1-4339-9408-1",2014,"August 2013","Library","7.625 X 7.125","Author","Alex Appleby",0.9,0.5,3,4,"C",null,"Grade K","Grade K - 2","When the sun is out, it’s time to play outside! Sunny days are perfect for early readers to explore the world and weather outside their windows. In this book, bright, illustrated characters take a trip to the beach to play with crabs, make sand castles, and even search for shells! A picture glossary reinforces new vocabulary, and through easy-to-read text, readers will experience a true day of fun under the sun.  • High-interest topic engages young readers • Strong picture-text correlation aids in comprehension • Reading level supports beginning readers • Picture glossary helps develop vocabulary skills • Comprehendible index guides readers through each book    ","English",22.6,16.95,"551.5271","24 pp.",{"$f":"Table1[[#This Row],['# Books]]*Table1[[#This Row],[QTY]]","v":0},{"$f":"Table1[[#This Row],[QTY]]*Table1[[#This Row],[S&L Price]]","v":0}]
[null,null,32,null,"What's the Weather?",1,"It's Sunny!","eBook","978-1-4339-9411-1",2014,"August 2013",null,null,"Author","Alex Appleby",0.9,0.5,3,4,"C",null,"Grade K","Grade K - 2","When the sun is out, it’s time to play outside! Sunny days are perfect for early readers to explore the world and weather outside their windows. In this book, bright, illustrated characters take a trip to the beach to play with crabs, make sand castles, and even search for shells! A picture glossary reinforces new vocabulary, and through easy-to-read text, readers will experience a true day of fun under the sun.  • High-interest topic engages young readers • Strong picture-text correlation aids in comprehension • Reading level supports beginning readers • Picture glossary helps develop vocabulary skills • Comprehendible index guides readers through each book    ","English",22.6,16.95,"551.5271","24 pp.",{"$f":"Table1[[#This Row],['# Books]]*Table1[[#This Row],[QTY]]","v":0},{"$f":"Table1[[#This Row],[QTY]]*Table1[[#This Row],[S&L Price]]","v":0}]
[null,null,32,null,"What's the Weather?",1,"It's Windy!","Library Bound Book","978-1-4339-9412-8",2014,"August 2013","Library","7.625 X 7.125","Author","Alex Appleby",0.9,0.5,3,4,"C",null,"Grade K","Grade K - 2","Wind may be invisible, but it can be a big part of the weather. Wind gusts can knock down trees and even blow the hat off your head. Through the use of colorful illustrations and easy-to-read text, early readers will explore what happens when the wind picks up in their neighborhood. The sights and sounds of a windstorm are highlighted by illustrations of a young girl experiencing a windy day just outside her home.  • High-interest topic engages young readers • Strong picture-text correlation aids in comprehension • Reading level supports beginning readers • Picture glossary helps develop vocabulary skills • Comprehendible index guides readers through each book  ","English",22.6,16.95,"551.518","24 pp.",{"$f":"Table1[[#This Row],['# Books]]*Table1[[#This Row],[QTY]]","v":0},{"$f":"Table1[[#This Row],[QTY]]*Table1[[#This Row],[S&L Price]]","v":0}]
[null,null,32,null,"What's the Weather?",1,"It's Windy!","eBook","978-1-4339-9415-9",2014,"August 2013",null,null,"Author","Alex Appleby",0.9,0.5,3,4,"C",null,"Grade K","Grade K - 2","Wind may be invisible, but it can be a big part of the weather. Wind gusts can knock down trees and even blow the hat off your head. Through the use of colorful illustrations and easy-to-read text, early readers will explore what happens when the wind picks up in their neighborhood. The sights and sounds of a windstorm are highlighted by illustrations of a young girl experiencing a windy day just outside her home.  • High-interest topic engages young readers • Strong picture-text correlation aids in comprehension • Reading level supports beginning readers • Picture glossary helps develop vocabulary skills • Comprehendible index guides readers through each book  ","English",22.6,16.95,"551.518","24 pp.",{"$f":"Table1[[#This Row],['# Books]]*Table1[[#This Row],[QTY]]","v":0},{"$f":"Table1[[#This Row],[QTY]]*Table1[[#This Row],[S&L Price]]","v":0}]
[null,null,33,null,"To the Rescue!",6,"To the Rescue!","Library Set","978-1-4824-4522-0",2017,"August 2016","Library","7.625 X 7.125",null,"",null,null,null,null,null,null,"Grade K","Grade K - 2","When there’s trouble, we call for help. But how does help get to where the trouble is? They use rescue vehicles! From ambulances to fire trucks, emergency workers need wheels to help those in need. This series pairs accessible, kindergarten-level text with vibrant photographs to show the these great machines in action. Whether braving winter weather to reach difficult places in a snowmobile or soaring overhead in a rescue helicopter, this exciting series brings the intense world of search and rescue to readers’ fingertips.","English",135.6,101.7,null,"24 pp.",{"$f":"Table1[[#This Row],['# Books]]*Table1[[#This Row],[QTY]]","v":0},{"$f":"Table1[[#This Row],[QTY]]*Table1[[#This Row],[S&L Price]]","v":0}]
[null,null,33,null,"To the Rescue!",1,"Ambulances","Library Bound Book","978-1-4824-4659-3",2017,"August 2016","Library","7.625 X 7.125","Author","Lois Fortuna",0.9,0.5,null,null,"C",null,"Grade K","Grade K - 2","Ambulances are amazing vehicles used to help people in their time of need. When someone is sick or injured, an ambulance is called and paramedics help get that person to the nearest hospital. But these vehicles are different all over the world. While some are bright red in one city, a few states away an ambulance might be neon yellow or even green! This book takes a look at these very fast and high-tech vehicles, giving beginning readers a glimpse of a rescue vehicle they might not ever need, but will always be there just in case.","English",22.6,16.95,"362.18’8--dc23","24 pp.",{"$f":"Table1[[#This Row],['# Books]]*Table1[[#This Row],[QTY]]","v":0},{"$f":"Table1[[#This Row],[QTY]]*Table1[[#This Row],[S&L Price]]","v":0}]
[null,null,33,null,"To the Rescue!",1,"Ambulances","eBook","978-1-4824-4653-1",2017,"August 2016",null,null,"Author","Lois Fortuna",null,null,null,null,"C",null,"Grade K","Grade K - 2","Ambulances are amazing vehicles used to help people in their time of need. When someone is sick or injured, an ambulance is called and paramedics help get that person to the nearest hospital. But these vehicles are different all over the world. While some are bright red in one city, a few states away an ambulance might be neon yellow or even green! This book takes a look at these very fast and high-tech vehicles, giving beginning readers a glimpse of a rescue vehicle they might not ever need, but will always be there just in case.","English",22.6,16.95,"362.18’8--dc23","24 pp.",{"$f":"Table1[[#This Row],['# Books]]*Table1[[#This Row],[QTY]]","v":0},{"$f":"Table1[[#This Row],[QTY]]*Table1[[#This Row],[S&L Price]]","v":0}]
[null,null,33,null,"To the Rescue!",1,"Fire Trucks","Library Bound Book","978-1-4824-4660-9",2017,"August 2016","Library","7.625 X 7.125","Author","Lois Fortuna",0.9,0.5,null,null,"C",null,"Grade K","Grade K - 2","Fire trucks are fast, loud, and big rescue machines. These vehicles rush to the scene of a fire, bringing firefighters along to help put out a blaze and help rescue people in their time of need. But there are many different kinds of fire trucks. From the ladder trucks firefighters use to reach high floors on buildings to the fire engines used to toss lots of water on a blaze, each fire truck is unique. Beginning readers will love exploring these important vehicles and learning how they help people when fire strikes.","English",22.6,16.95,"628.9’25--dc23","24 pp.",{"$f":"Table1[[#This Row],['# Books]]*Table1[[#This Row],[QTY]]","v":0},{"$f":"Table1[[#This Row],[QTY]]*Table1[[#This Row],[S&L Price]]","v":0}]
[null,null,33,null,"To the Rescue!",1,"Fire Trucks","eBook","978-1-4824-4654-8",2017,"August 2016",null,null,"Author","Lois Fortuna",null,null,null,null,"C",null,"Grade K","Grade K - 2","Fire trucks are fast, loud, and big rescue machines. These vehicles rush to the scene of a fire, bringing firefighters along to help put out a blaze and help rescue people in their time of need. But there are many different kinds of fire trucks. From the ladder trucks firefighters use to reach high floors on buildings to the fire engines used to toss lots of water on a blaze, each fire truck is unique. Beginning readers will love exploring these important vehicles and learning how they help people when fire strikes.","English",22.6,16.95,"628.9’25--dc23","24 pp.",{"$f":"Table1[[#This Row],['# Books]]*Table1[[#This Row],[QTY]]","v":0},{"$f":"Table1[[#This Row],[QTY]]*Table1[[#This Row],[S&L Price]]","v":0}]
[null,null,33,null,"To the Rescue!",1,"Police Cars","Library Bound Book","978-1-4824-4661-6",2017,"August 2016","Library","7.625 X 7.125","Author","Lois Fortuna",0.9,0.5,null,null,"C",null,"Grade K","Grade K - 2","Police cars are a common sight in cities, but not many people know just how they work. From their supercharged engines to their special equipment for chasing down vehicles, police cars are full of unique features. From patrol cars policing the streets to vehicles used on highways to chase down speeding drivers, beginning readers learn that there are many different makes and models of these important vehicles.","English",22.6,16.95,"629.225--dc23","24 pp.",{"$f":"Table1[[#This Row],['# Books]]*Table1[[#This Row],[QTY]]","v":0},{"$f":"Table1[[#This Row],[QTY]]*Table1[[#This Row],[S&L Price]]","v":0}]
[null,null,33,null,"To the Rescue!",1,"Police Cars","eBook","978-1-4824-4655-5",2017,"August 2016",null,null,"Author","Lois Fortuna",null,null,null,null,"C",null,"Grade K","Grade K - 2","Police cars are a common sight in cities, but not many people know just how they work. From their supercharged engines to their special equipment for chasing down vehicles, police cars are full of unique features. From patrol cars policing the streets to vehicles used on highways to chase down speeding drivers, beginning readers learn that there are many different makes and models of these important vehicles.","English",22.6,16.95,"629.225--dc23","24 pp.",{"$f":"Table1[[#This Row],['# Books]]*Table1[[#This Row],[QTY]]","v":0},{"$f":"Table1[[#This Row],[QTY]]*Table1[[#This Row],[S&L Price]]","v":0}]
[null,null,33,null,"To the Rescue!",1,"Rescue Boats","Library Bound Book","978-1-4824-4662-3",2017,"August 2016","Library","7.625 X 7.125","Author","Lois Fortuna",0.9,0.5,null,null,"C",null,"Grade K","Grade K - 2","When trouble strikes on the water, rescue boats are there to help. These aquatic vehicles have special tools to help those in need. Whether someone’s lost on the water or a boat is having engine trouble, these quick rescue vehicles can get the job done. This book for beginning readers explores the boats police, fire, and other emergency departments use when people are most in need. Whether inflatable rafts or specialty rescue boats for specific purposes, these amazing watercraft are out there waiting to help lend a helping hand.","English",22.6,16.95,"623.826--dc23","24 pp.",{"$f":"Table1[[#This Row],['# Books]]*Table1[[#This Row],[QTY]]","v":0},{"$f":"Table1[[#This Row],[QTY]]*Table1[[#This Row],[S&L Price]]","v":0}]
[null,null,33,null,"To the Rescue!",1,"Rescue Boats","eBook","978-1-4824-4656-2",2017,"August 2016",null,null,"Author","Lois Fortuna",null,null,null,null,"C",null,"Grade K","Grade K - 2","When trouble strikes on the water, rescue boats are there to help. These aquatic vehicles have special tools to help those in need. Whether someone’s lost on the water or a boat is having engine trouble, these quick rescue vehicles can get the job done. This book for beginning readers explores the boats police, fire, and other emergency departments use when people are most in need. Whether inflatable rafts or specialty rescue boats for specific purposes, these amazing watercraft are out there waiting to help lend a helping hand.","English",22.6,16.95,"623.826--dc23","24 pp.",{"$f":"Table1[[#This Row],['# Books]]*Table1[[#This Row],[QTY]]","v":0},{"$f":"Table1[[#This Row],[QTY]]*Table1[[#This Row],[S&L Price]]","v":0}]
[null,null,33,null,"To the Rescue!",1,"Rescue Helicopters","Library Bound Book","978-1-4824-5198-6",2017,"August 2016","Library","7.625 X 7.125","Author","Lois Fortuna",0.9,0.5,null,null,"C",null,"Grade K","Grade K - 2","Helicopters are important assets for emergency crews when things go wrong. Taking to the air, helicopters use a different angle to get to those in trouble. Whether because of bad weather or natural disasters like earthquakes or forest fires, the brave crews working with rescue helicopters often put their own lives at risk to help those in need. This book for beginning readers looks at these special helicopters, explaining some important design features that make them different from ordinary helicopters.","English",22.6,16.95,"629.133/352--dc23","24 pp.",{"$f":"Table1[[#This Row],['# Books]]*Table1[[#This Row],[QTY]]","v":0},{"$f":"Table1[[#This Row],[QTY]]*Table1[[#This Row],[S&L Price]]","v":0}]
[null,null,33,null,"To the Rescue!",1,"Rescue Helicopters","eBook","978-1-4824-4657-9",2017,"August 2016",null,null,"Author","Lois Fortuna",null,null,null,null,"C",null,"Grade K","Grade K - 2","Helicopters are important assets for emergency crews when things go wrong. Taking to the air, helicopters use a different angle to get to those in trouble. Whether because of bad weather or natural disasters like earthquakes or forest fires, the brave crews working with rescue helicopters often put their own lives at risk to help those in need. This book for beginning readers looks at these special helicopters, explaining some important design features that make them different from ordinary helicopters.","English",22.6,16.95,"629.133/352--dc23","24 pp.",{"$f":"Table1[[#This Row],['# Books]]*Table1[[#This Row],[QTY]]","v":0},{"$f":"Table1[[#This Row],[QTY]]*Table1[[#This Row],[S&L Price]]","v":0}]
[null,null,33,null,"To the Rescue!",1,"Snowmobiles","Library Bound Book","978-1-4824-5199-3",2017,"August 2016","Library","7.625 X 7.125","Author","Lois Fortuna",0.9,0.5,null,null,"C",null,"Grade K","Grade K - 2","Snowmobiles might not immediately come to mind when thinking of rescue vehicles, but these motorized sleds are important tools for rescue workers when the weather outside gets frightful. When trouble strikes in remote, snowy areas, snowmobiles are there to cut through the powdery stuff and rescue those in need. This book for early readers explores the unique features of snowmobiles and how emergency crews utilize them to get to an accident and transport people back to safety.","English",22.6,16.95,"796.94--dc23","24 pp.",{"$f":"Table1[[#This Row],['# Books]]*Table1[[#This Row],[QTY]]","v":0},{"$f":"Table1[[#This Row],[QTY]]*Table1[[#This Row],[S&L Price]]","v":0}]
[null,null,33,null,"To the Rescue!",1,"Snowmobiles","eBook","978-1-4824-4658-6",2017,"August 2016",null,null,"Author","Lois Fortuna",null,null,null,null,"C",null,"Grade K","Grade K - 2","Snowmobiles might not immediately come to mind when thinking of rescue vehicles, but these motorized sleds are important tools for rescue workers when the weather outside gets frightful. When trouble strikes in remote, snowy areas, snowmobiles are there to cut through the powdery stuff and rescue those in need. This book for early readers explores the unique features of snowmobiles and how emergency crews utilize them to get to an accident and transport people back to safety.","English",22.6,16.95,"796.94--dc23","24 pp.",{"$f":"Table1[[#This Row],['# Books]]*Table1[[#This Row],[QTY]]","v":0},{"$f":"Table1[[#This Row],[QTY]]*Table1[[#This Row],[S&L Price]]","v":0}]
[null,null,33,null,"We Can Do It!",6,"We Can Do It!","Library Set","978-1-4824-4282-3",2016,"January 2016","Library","7.625 X 7.125",null,"",null,null,null,null,null,null,"Grade K","Grade K - 2","Learning how to complete everyday tasks is an important part of growing up. This innovative early readers series helps beginning readers learn how to do a variety of tasks, including taking care of a pet and helping to make a meal. Even simple tasks like getting ready for school or helping a friend provide valuable lessons in responsibility and caring for others, creating a sense of responsibility and strong work ethic. With colorful photographs and accessible, engaging text, this series gives readers a new perspective on their growing world.\n\n•ATOS reading level below 1.0\n\n•High-interest topic will appeal to even reluctant readers\n\n•Introduction to informational-text features, such as an index and table of contents","English",135.6,101.7,null,"24 pp.",{"$f":"Table1[[#This Row],['# Books]]*Table1[[#This Row],[QTY]]","v":0},{"$f":"Table1[[#This Row],[QTY]]*Table1[[#This Row],[S&L Price]]","v":0}]
[null,null,33,null,"We Can Do It!",1,"Caring for a Pet","Library Bound Book","978-1-4824-3797-3",2016,"January 2016","Library","7.625 X 7.125","Author","Lois Fortuna",0.8,0.5,null,null,"C",null,"Grade K","Grade K - 2","Pets are wonderful and loving members of any family, but they need special care. Through colorful photographs and accessible text, early readers learn how to care for their special animal friends. Dogs, cats, and fish are great pets for young children, and teaching them how to care for a pet lets them learn responsibility and how to complete tasks at a young age. By watching others take care of pets, readers gain knowledge they can put to good use with the pets in their own home.","English",22.6,16.95,"636.088'7—dc23","24 pp.",{"$f":"Table1[[#This Row],['# Books]]*Table1[[#This Row],[QTY]]","v":0},{"$f":"Table1[[#This Row],[QTY]]*Table1[[#This Row],[S&L Price]]","v":0}]
[null,null,33,null,"We Can Do It!",1,"Caring for a Pet","eBook","978-1-4824-3798-0",2016,"January 2016",null,null,"Author","Lois Fortuna",0.8,0.5,null,null,"C",null,"Grade K","Grade K - 2","Pets are wonderful and loving members of any family, but they need special care. Through colorful photographs and accessible text, early readers learn how to care for their special animal friends. Dogs, cats, and fish are great pets for young children, and teaching them how to care for a pet lets them learn responsibility and how to complete tasks at a young age. By watching others take care of pets, readers gain knowledge they can put to good use with the pets in their own home.","English",22.6,16.95,"636.088'7—dc23","24 pp.",{"$f":"Table1[[#This Row],['# Books]]*Table1[[#This Row],[QTY]]","v":0},{"$f":"Table1[[#This Row],[QTY]]*Table1[[#This Row],[S&L Price]]","v":0}]
[null,null,33,null,"We Can Do It!",1,"Getting Ready for School","Library Bound Book","978-1-4824-3801-7",2016,"January 2016","Library","7.625 X 7.125","Author","Lois Fortuna",0.9,0.5,null,null,"C",null,"Grade K","Grade K - 2","Whether wearing a uniform or picking out their own clothes, it’s not always easy for children to get up and get ready in the morning. In this book, early readers learn about this essential part of everyday life, learning how they can help their own families get the day started. This glimpse at a typical morning in a house sending its two children off to school is aided by colorful photographs matched with accessible text, showing readers how peers prepare for school by getting dressed and taking care of basic hygiene like brushing their hair.","English",22.6,16.95,"372—dc23","24 pp.",{"$f":"Table1[[#This Row],['# Books]]*Table1[[#This Row],[QTY]]","v":0},{"$f":"Table1[[#This Row],[QTY]]*Table1[[#This Row],[S&L Price]]","v":0}]
[null,null,33,null,"We Can Do It!",1,"Getting Ready for School","eBook","978-1-4824-3802-4",2016,"January 2016",null,null,"Author","Lois Fortuna",0.9,0.5,null,null,"C",null,"Grade K","Grade K - 2","Whether wearing a uniform or picking out their own clothes, it’s not always easy for children to get up and get ready in the morning. In this book, early readers learn about this essential part of everyday life, learning how they can help their own families get the day started. This glimpse at a typical morning in a house sending its two children off to school is aided by colorful photographs matched with accessible text, showing readers how peers prepare for school by getting dressed and taking care of basic hygiene like brushing their hair.","English",22.6,16.95,"372—dc23","24 pp.",{"$f":"Table1[[#This Row],['# Books]]*Table1[[#This Row],[QTY]]","v":0},{"$f":"Table1[[#This Row],[QTY]]*Table1[[#This Row],[S&L Price]]","v":0}]
[null,null,33,null,"We Can Do It!",1,"Growing Plants","Library Bound Book","978-1-4824-3805-5",2016,"January 2016","Library","7.625 X 7.125","Author","Lois Fortuna",0.8,0.5,null,null,"C",null,"Grade K","Grade K - 2","There are lots of different kinds of plants. From the grass beneath our feet to the fruits and vegetables we eat, plant life surrounds us. This engaging book gives budding readers a guide to growing plants of their own. Whether planting a vegetable garden or planting flowers, most plants come from tiny seeds. From there, readers learn how to water these seeds and tend to what soon comes out of the ground, learning an essential life process with the help of colorful photographs paired with simple text.","English",22.6,16.95,"630—d23","24 pp.",{"$f":"Table1[[#This Row],['# Books]]*Table1[[#This Row],[QTY]]","v":0},{"$f":"Table1[[#This Row],[QTY]]*Table1[[#This Row],[S&L Price]]","v":0}]
[null,null,33,null,"We Can Do It!",1,"Growing Plants","eBook","978-1-4824-3806-2",2016,"January 2016",null,null,"Author","Lois Fortuna",0.8,0.5,null,null,"C",null,"Grade K","Grade K - 2","There are lots of different kinds of plants. From the grass beneath our feet to the fruits and vegetables we eat, plant life surrounds us. This engaging book gives budding readers a guide to growing plants of their own. Whether planting a vegetable garden or planting flowers, most plants come from tiny seeds. From there, readers learn how to water these seeds and tend to what soon comes out of the ground, learning an essential life process with the help of colorful photographs paired with simple text.","English",22.6,16.95,"630—d23","24 pp.",{"$f":"Table1[[#This Row],['# Books]]*Table1[[#This Row],[QTY]]","v":0},{"$f":"Table1[[#This Row],[QTY]]*Table1[[#This Row],[S&L Price]]","v":0}]
[null,null,33,null,"We Can Do It!",1,"Helping a Friend","Library Bound Book","978-1-4824-3809-3",2016,"January 2016","Library","7.625 X 7.125","Author","Lois Fortuna",0.9,0.5,null,null,"C",null,"Grade K","Grade K - 2","Whether they’re stuck on a homework question or just need a push on a swing, friends need each other! This book shows budding readers that not only could friends use a hand, but it can be rewarding and even fun to help out. Pairing accessible text with colorful photographs of friends lending others their time and effort, readers learn how their peers help their friends clean up their neighborhood or learn how to read. They even discover how they can team up with their own friends to stay safe or clean up trash in their neighborhood.","English",22.6,16.95,"177'.62—dc23","24 pp.",{"$f":"Table1[[#This Row],['# Books]]*Table1[[#This Row],[QTY]]","v":0},{"$f":"Table1[[#This Row],[QTY]]*Table1[[#This Row],[S&L Price]]","v":0}]
[null,null,33,null,"We Can Do It!",1,"Helping a Friend","eBook","978-1-4824-3810-9",2016,"January 2016",null,null,"Author","Lois Fortuna",0.9,0.5,null,null,"C",null,"Grade K","Grade K - 2","Whether they’re stuck on a homework question or just need a push on a swing, friends need each other! This book shows budding readers that not only could friends use a hand, but it can be rewarding and even fun to help out. Pairing accessible text with colorful photographs of friends lending others their time and effort, readers learn how their peers help their friends clean up their neighborhood or learn how to read. They even discover how they can team up with their own friends to stay safe or clean up trash in their neighborhood.","English",22.6,16.95,"177'.62—dc23","24 pp.",{"$f":"Table1[[#This Row],['# Books]]*Table1[[#This Row],[QTY]]","v":0},{"$f":"Table1[[#This Row],[QTY]]*Table1[[#This Row],[S&L Price]]","v":0}]
[null,null,33,null,"We Can Do It!",1,"Helping with Dinner","Library Bound Book","978-1-4824-3830-7",2016,"January 2016","Library","7.625 X 7.125","Author","Lois Fortuna",0.9,0.5,null,null,"C",null,"Grade K","Grade K - 2","Everyone loves a good meal, and this book puts the chef’s hat on beginning readers as they get a firsthand look at helping prepare a healthy meal. Colorful photographs paired with simple text lets readers join the fun as peers chop vegetables and prepare a salad. They also get a look at how to make pasta, using a wooden spoon to stir as it cooks. This hands-on look at putting food on the dinner table is sure to excite emerging readers—and maybe even make them hungry!","English",22.6,16.95,"641.5—dc23","24 pp.",{"$f":"Table1[[#This Row],['# Books]]*Table1[[#This Row],[QTY]]","v":0},{"$f":"Table1[[#This Row],[QTY]]*Table1[[#This Row],[S&L Price]]","v":0}]
[null,null,33,null,"We Can Do It!",1,"Helping with Dinner","eBook","978-1-4824-3812-3",2016,"January 2016",null,null,"Author","Lois Fortuna",0.9,0.5,null,null,"C",null,"Grade K","Grade K - 2","Everyone loves a good meal, and this book puts the chef’s hat on beginning readers as they get a firsthand look at helping prepare a healthy meal. Colorful photographs paired with simple text lets readers join the fun as peers chop vegetables and prepare a salad. They also get a look at how to make pasta, using a wooden spoon to stir as it cooks. This hands-on look at putting food on the dinner table is sure to excite emerging readers—and maybe even make them hungry!","English",22.6,16.95,"641.5—dc23","24 pp.",{"$f":"Table1[[#This Row],['# Books]]*Table1[[#This Row],[QTY]]","v":0},{"$f":"Table1[[#This Row],[QTY]]*Table1[[#This Row],[S&L Price]]","v":0}]
[null,null,33,null,"We Can Do It!",1,"Let's Clean Up!","Library Bound Book","978-1-4824-3815-4",2016,"January 2016","Library","7.625 X 7.125","Author","Lois Fortuna",0.9,0.5,null,null,"C",null,"Grade K","Grade K - 2","Cleaning sounds like a tough and dirty job, but it can be fun! Budding readers learn how to take the tough task of cleaning up and make the most of it, helping their families and the environment along the way. Through vivid photographs paired with accessible text, readers see how a family cleans up bedrooms, the kitchen, the car, and even the front yard. This engaging book is sure to get readers on a spring cleaning kick, as they learn the value of a clean home and a job well done.","English",22.6,16.95,"648—dc23","24 pp.",{"$f":"Table1[[#This Row],['# Books]]*Table1[[#This Row],[QTY]]","v":0},{"$f":"Table1[[#This Row],[QTY]]*Table1[[#This Row],[S&L Price]]","v":0}]
[null,null,33,null,"We Can Do It!",1,"Let's Clean Up!","eBook","978-1-4824-3816-1",2016,"January 2016",null,null,"Author","Lois Fortuna",0.9,0.5,null,null,"C",null,"Grade K","Grade K - 2","Cleaning sounds like a tough and dirty job, but it can be fun! Budding readers learn how to take the tough task of cleaning up and make the most of it, helping their families and the environment along the way. Through vivid photographs paired with accessible text, readers see how a family cleans up bedrooms, the kitchen, the car, and even the front yard. This engaging book is sure to get readers on a spring cleaning kick, as they learn the value of a clean home and a job well done.","English",22.6,16.95,"648—dc23","24 pp.",{"$f":"Table1[[#This Row],['# Books]]*Table1[[#This Row],[QTY]]","v":0},{"$f":"Table1[[#This Row],[QTY]]*Table1[[#This Row],[S&L Price]]","v":0}]
[null,null,34,null,"Fun in Fall",6,"Fun in Fall","Library Set","978-1-4824-1631-2",2015,"January 2015","Library","7.625 X 7.125",null,"",null,null,null,null,null,null,"Grade K","Grade K - 2","When the leaves start to fall, the fun is just beginning in these books! From a fun fall festival to a trip to the pumpkin patch, captivating photographs are paired with rich and age-appropriate text to ensure young readers learn all about this exciting season. With accessible content and fun themes, these books are sure to get readers excited about autumn.    • ATOS reading level below 1.0  • High-interest topic that will appeal to even reluctant readers  • Introduction to informational-text features, such as an index and table of contents  ","English",135.6,101.7,null,"24 pp.",{"$f":"Table1[[#This Row],['# Books]]*Table1[[#This Row],[QTY]]","v":0},{"$f":"Table1[[#This Row],[QTY]]*Table1[[#This Row],[S&L Price]]","v":0}]
[null,null,34,null,"Fun in Fall",1,"A Fall Festival","Library Bound Book","978-1-4824-1768-5",2015,"January 2015","Library","7.625 X 7.125","Author","Cliff Griswold",0.9,0.5,null,null,"C",null,"Grade K","Grade K - 2","When the weather gets cooler, it’s time to celebrate the change in seasons! From picking out fall crops or eating great festival food like popcorn to fun music and dancing, there’s something for everyone at a fall festival. Captivating photographs paired with rich and age-appropriate text guide early readers through a fun trip to the local town fall festival loaded with exciting sights and sounds. As a family takes in the scenery at the fall festival, they’ll learn just how much fun fall can be in this exciting book.","English",22.6,16.95,"394.2","24 pp.",{"$f":"Table1[[#This Row],['# Books]]*Table1[[#This Row],[QTY]]","v":0},{"$f":"Table1[[#This Row],[QTY]]*Table1[[#This Row],[S&L Price]]","v":0}]
[null,null,34,null,"Fun in Fall",1,"A Fall Festival","eBook","978-1-4824-1771-5",2015,"January 2015",null,null,"Author","Cliff Griswold",0.9,0.5,null,null,"C",null,"Grade K","Grade K - 2","When the weather gets cooler, it’s time to celebrate the change in seasons! From picking out fall crops or eating great festival food like popcorn to fun music and dancing, there’s something for everyone at a fall festival. Captivating photographs paired with rich and age-appropriate text guide early readers through a fun trip to the local town fall festival loaded with exciting sights and sounds. As a family takes in the scenery at the fall festival, they’ll learn just how much fun fall can be in this exciting book.","English",22.6,16.95,"394.2","24 pp.",{"$f":"Table1[[#This Row],['# Books]]*Table1[[#This Row],[QTY]]","v":0},{"$f":"Table1[[#This Row],[QTY]]*Table1[[#This Row],[S&L Price]]","v":0}]
[null,null,34,null,"Fun in Fall",1,"Dressing Up for Halloween","Library Bound Book","978-1-4824-1772-2",2015,"January 2015","Library","7.625 X 7.125","Author","Cliff Griswold",0.9,0.5,null,null,"C",null,"Grade K","Grade K - 2","Dressing up for Halloween is a tradition at any age. Whether you’re a ghost, witch, or policeman, dressing like someone else for a night is part of what makes every October 31 so much fun. With captivating photographs and rich text, readers will follow a group of friends as they compare costumes and even go to a Halloween party. With accessible content and a fun Halloween theme, beginning readers are sure to love this look at one of the coolest holidays on the calendar.","English",22.6,16.95,"394.2646","24 pp.",{"$f":"Table1[[#This Row],['# Books]]*Table1[[#This Row],[QTY]]","v":0},{"$f":"Table1[[#This Row],[QTY]]*Table1[[#This Row],[S&L Price]]","v":0}]
[null,null,34,null,"Fun in Fall",1,"Dressing Up for Halloween","eBook","978-1-4824-1775-3",2015,"January 2015",null,null,"Author","Cliff Griswold",0.9,0.5,null,null,"C",null,"Grade K","Grade K - 2","Dressing up for Halloween is a tradition at any age. Whether you’re a ghost, witch, or policeman, dressing like someone else for a night is part of what makes every October 31 so much fun. With captivating photographs and rich text, readers will follow a group of friends as they compare costumes and even go to a Halloween party. With accessible content and a fun Halloween theme, beginning readers are sure to love this look at one of the coolest holidays on the calendar.","English",22.6,16.95,"394.2646","24 pp.",{"$f":"Table1[[#This Row],['# Books]]*Table1[[#This Row],[QTY]]","v":0},{"$f":"Table1[[#This Row],[QTY]]*Table1[[#This Row],[S&L Price]]","v":0}]
[null,null,34,null,"Fun in Fall",1,"Fall Leaves","Library Bound Book","978-1-4824-1776-0",2015,"January 2015","Library","7.625 X 7.125","Author","Cliff Griswold",0.9,0.5,null,null,"C",null,"Grade K","Grade K - 2","When the weather gets cooler, it’s time to celebrate the change in seasons! From picking out fall crops or eating great festival food like popcorn to fun music and dancing, there’s something for everyone at a fall festival. Captivating photographs paired with rich and age-appropriate text guide early readers through a fun trip to the local town fall festival loaded with exciting sights and sounds. As a family takes in the scenery at the fall festival, they’ll learn just how much fun fall can be in this exciting book.","English",22.6,16.95,"575.5","24 pp.",{"$f":"Table1[[#This Row],['# Books]]*Table1[[#This Row],[QTY]]","v":0},{"$f":"Table1[[#This Row],[QTY]]*Table1[[#This Row],[S&L Price]]","v":0}]
[null,null,34,null,"Fun in Fall",1,"Fall Leaves","eBook","978-1-4824-1779-1",2015,"January 2015",null,null,"Author","Cliff Griswold",0.9,0.5,null,null,"C",null,"Grade K","Grade K - 2","When the weather gets cooler, it’s time to celebrate the change in seasons! From picking out fall crops or eating great festival food like popcorn to fun music and dancing, there’s something for everyone at a fall festival. Captivating photographs paired with rich and age-appropriate text guide early readers through a fun trip to the local town fall festival loaded with exciting sights and sounds. As a family takes in the scenery at the fall festival, they’ll learn just how much fun fall can be in this exciting book.","English",22.6,16.95,"575.5","24 pp.",{"$f":"Table1[[#This Row],['# Books]]*Table1[[#This Row],[QTY]]","v":0},{"$f":"Table1[[#This Row],[QTY]]*Table1[[#This Row],[S&L Price]]","v":0}]
[null,null,34,null,"Fun in Fall",1,"Let's Go Apple Picking!","Library Bound Book","978-1-4824-1780-7",2015,"January 2015","Library","7.625 X 7.125","Author","Cliff Griswold",0.8,0.5,null,null,"C",null,"Grade K","Grade K - 2","It may get cooler when the season changes from summer to fall, but everyone knows that the food gets better and better. Going apple picking is a great fall activity, and it sure is delicious! Whether you use a ladder, climb a tree, or grab them off some low branches, there’s nothing like biting into a fresh apple. With accessible text and exciting color photographs, beginning readers will head to the apple orchards and see what it’s like to go apple picking for themselves in this exciting book.","English",22.6,16.95,"634","24 pp.",{"$f":"Table1[[#This Row],['# Books]]*Table1[[#This Row],[QTY]]","v":0},{"$f":"Table1[[#This Row],[QTY]]*Table1[[#This Row],[S&L Price]]","v":0}]
[null,null,34,null,"Fun in Fall",1,"Let's Go Apple Picking!","eBook","978-1-4824-1783-8",2015,"January 2015",null,null,"Author","Cliff Griswold",0.8,0.5,null,null,"C",null,"Grade K","Grade K - 2","It may get cooler when the season changes from summer to fall, but everyone knows that the food gets better and better. Going apple picking is a great fall activity, and it sure is delicious! Whether you use a ladder, climb a tree, or grab them off some low branches, there’s nothing like biting into a fresh apple. With accessible text and exciting color photographs, beginning readers will head to the apple orchards and see what it’s like to go apple picking for themselves in this exciting book.","English",22.6,16.95,"634","24 pp.",{"$f":"Table1[[#This Row],['# Books]]*Table1[[#This Row],[QTY]]","v":0},{"$f":"Table1[[#This Row],[QTY]]*Table1[[#This Row],[S&L Price]]","v":0}]
[null,null,34,null,"Fun in Fall",1,"Let's Go on a Hayride!","Library Bound Book","978-1-4824-1787-6",2015,"January 2015","Library","7.625 X 7.125","Author","Cliff Griswold",0.9,0.5,null,null,"C",null,"Grade K","Grade K - 2","Life on a farm only gets better when summer becomes fall. All the work of tending crops and driving tractors suddenly becomes an exciting hayride when the weather gets cooler. Young readers will grab some friends and hop on some bales of hay to check out the fall sights on a farm. Maybe if their hayride happens around Halloween it will be haunted! With accessible text and stunning photographs, this book is sure to get readers excited about their own trip to the farm in fall.","English",22.6,16.95,"394.2","24 pp.",{"$f":"Table1[[#This Row],['# Books]]*Table1[[#This Row],[QTY]]","v":0},{"$f":"Table1[[#This Row],[QTY]]*Table1[[#This Row],[S&L Price]]","v":0}]
[null,null,34,null,"Fun in Fall",1,"Let's Go on a Hayride!","eBook","978-1-4824-1784-5",2015,"January 2015",null,null,"Author","Cliff Griswold",0.9,0.5,null,null,"C",null,"Grade K","Grade K - 2","Life on a farm only gets better when summer becomes fall. All the work of tending crops and driving tractors suddenly becomes an exciting hayride when the weather gets cooler. Young readers will grab some friends and hop on some bales of hay to check out the fall sights on a farm. Maybe if their hayride happens around Halloween it will be haunted! With accessible text and stunning photographs, this book is sure to get readers excited about their own trip to the farm in fall.","English",22.6,16.95,"394.2","24 pp.",{"$f":"Table1[[#This Row],['# Books]]*Table1[[#This Row],[QTY]]","v":0},{"$f":"Table1[[#This Row],[QTY]]*Table1[[#This Row],[S&L Price]]","v":0}]
[null,null,34,null,"Fun in Fall",1,"The Pumpkin Patch","Library Bound Book","978-1-4824-1788-3",2015,"January 2015","Library","7.625 X 7.125","Author","Cliff Griswold",0.9,0.5,null,null,"C",null,"Grade K","Grade K - 2","One of the best things about fall is going to the farm and picking out a pumpkin. Whether making pumpkin pie or decorating for the harvest season, pumpkins are a fun way to get into the fall spirit. Deciding what size pumpkin is important when going to a pumpkin patch. From huge pumpkins too heavy to lift to those just right for carving into jack-o-lanterns, farms have everything needed to make the most of fall. With accessible text and great photographs, this book will show readers that no trip to the pumpkin patch is boring in fall.","English",22.6,16.95,"635","24 pp.",{"$f":"Table1[[#This Row],['# Books]]*Table1[[#This Row],[QTY]]","v":0},{"$f":"Table1[[#This Row],[QTY]]*Table1[[#This Row],[S&L Price]]","v":0}]
[null,null,34,null,"Fun in Fall",1,"The Pumpkin Patch","eBook","978-1-4824-1790-6",2015,"January 2015",null,null,"Author","Cliff Griswold",0.9,0.5,null,null,"C",null,"Grade K","Grade K - 2","One of the best things about fall is going to the farm and picking out a pumpkin. Whether making pumpkin pie or decorating for the harvest season, pumpkins are a fun way to get into the fall spirit. Deciding what size pumpkin is important when going to a pumpkin patch. From huge pumpkins too heavy to lift to those just right for carving into jack-o-lanterns, farms have everything needed to make the most of fall. With accessible text and great photographs, this book will show readers that no trip to the pumpkin patch is boring in fall.","English",22.6,16.95,"635","24 pp.",{"$f":"Table1[[#This Row],['# Books]]*Table1[[#This Row],[QTY]]","v":0},{"$f":"Table1[[#This Row],[QTY]]*Table1[[#This Row],[S&L Price]]","v":0}]
[null,null,34,null,"Winter Fun",6,"Winter Fun","Library Set","978-1-4824-4280-9",2016,"January 2016","Library","7.625 X 7.125",null,"",null,null,null,null,null,null,"Grade K","Grade K - 2","Just because it’s cold outside doesn’t mean you can’t have fun! This series lets beginning readers explore the wonders of winter through accessible text and full-color photographs showing cold but creative ways to enjoy the outdoors during winter months. From building a snowman with fresh snowfall to ice-skating and sledding with friends, this engaging early reader series will show readers the coldest season can also be the most fun.\n\n•          ATOS reading level below 1.0\n\n•           High-interest topic will appeal to even reluctant readers\n\n•           Introduction to informational-text features, such as an index and table of contents","English",135.6,101.7,null,"24 pp.",{"$f":"Table1[[#This Row],['# Books]]*Table1[[#This Row],[QTY]]","v":0},{"$f":"Table1[[#This Row],[QTY]]*Table1[[#This Row],[S&L Price]]","v":0}]
[null,null,34,null,"Winter Fun",1,"Building a Snowman","Library Bound Book","978-1-4824-3749-2",2016,"January 2016","Library","7.625 X 7.125","Author","Jasper Bix",0.8,0.5,null,null,"C",null,"Grade K","Grade K - 2","The best way to cure the winter blues is to go outside and build a snowman! In this book, beginning readers join a happy family on a trip through the snow to find some winter fun. Rolling snowballs is just the start of things for their snowman friend. Early readers are taken through the step-by-step process with colorful photographs and accessible text, watching as a pile of snow transforms into a friendly winter character complete with its own eyes, hat, and even a carrot for a nose!","English",22.6,16.95,"508.2—d23","24 pp.",{"$f":"Table1[[#This Row],['# Books]]*Table1[[#This Row],[QTY]]","v":0},{"$f":"Table1[[#This Row],[QTY]]*Table1[[#This Row],[S&L Price]]","v":0}]
[null,null,34,null,"Winter Fun",1,"Building a Snowman","eBook","978-1-4824-3750-8",2016,"January 2016",null,null,"Author","Jasper Bix",0.8,0.5,null,null,"C",null,"Grade K","Grade K - 2","The best way to cure the winter blues is to go outside and build a snowman! In this book, beginning readers join a happy family on a trip through the snow to find some winter fun. Rolling snowballs is just the start of things for their snowman friend. Early readers are taken through the step-by-step process with colorful photographs and accessible text, watching as a pile of snow transforms into a friendly winter character complete with its own eyes, hat, and even a carrot for a nose!","English",22.6,16.95,"508.2—d23","24 pp.",{"$f":"Table1[[#This Row],['# Books]]*Table1[[#This Row],[QTY]]","v":0},{"$f":"Table1[[#This Row],[QTY]]*Table1[[#This Row],[S&L Price]]","v":0}]
[null,null,34,null,"Winter Fun",1,"Dressing for the Cold","Library Bound Book","978-1-4824-3753-9",2016,"January 2016","Library","7.625 X 7.125","Author","Jasper Bix",0.9,0.5,null,null,"C",null,"Grade K","Grade K - 2","Getting ready for a trip outside can take a little extra time in the winter months. This book helps budding readers understand how important dressing warmly is, but also how it can be fun! Hats, scarfs, and gloves all play a part in staying warm in the snow. Through colorful photographs and simple text, beginning readers learn why we bundle up in the cold, staying safe and warm in even the most extreme winter weather.","English",22.6,16.95,"391—d23","24 pp.",{"$f":"Table1[[#This Row],['# Books]]*Table1[[#This Row],[QTY]]","v":0},{"$f":"Table1[[#This Row],[QTY]]*Table1[[#This Row],[S&L Price]]","v":0}]
[null,null,34,null,"Winter Fun",1,"Dressing for the Cold","eBook","978-1-4824-3754-6",2016,"January 2016",null,null,"Author","Jasper Bix",0.9,0.5,null,null,"C",null,"Grade K","Grade K - 2","Getting ready for a trip outside can take a little extra time in the winter months. This book helps budding readers understand how important dressing warmly is, but also how it can be fun! Hats, scarfs, and gloves all play a part in staying warm in the snow. Through colorful photographs and simple text, beginning readers learn why we bundle up in the cold, staying safe and warm in even the most extreme winter weather.","English",22.6,16.95,"391—d23","24 pp.",{"$f":"Table1[[#This Row],['# Books]]*Table1[[#This Row],[QTY]]","v":0},{"$f":"Table1[[#This Row],[QTY]]*Table1[[#This Row],[S&L Price]]","v":0}]
[null,null,34,null,"Winter Fun",1,"Let's Go Ice-Skating!","Library Bound Book","978-1-4824-3757-7",2016,"January 2016","Library","7.625 X 7.125","Author","Jasper Bix",0.9,0.5,null,null,"C",null,"Grade K","Grade K - 2","Even on the coldest winter days it’s easy to have fun outside! Early readers learn all they need is a pair of ice skates and a bit of patience, and they can enjoy the winter weather in style. From lacing up a pair of skates tightly to wearing a helmet for safety, readers learn all the basics needed to get on the ice and give skating a try for themselves! Accessible text presented alongside colorful photographs showing young children skating helps budding readers get motivated to stay active and have fun no matter what the weather outside.","English",22.6,16.95,"796.91—dc23","24 pp.",{"$f":"Table1[[#This Row],['# Books]]*Table1[[#This Row],[QTY]]","v":0},{"$f":"Table1[[#This Row],[QTY]]*Table1[[#This Row],[S&L Price]]","v":0}]
[null,null,34,null,"Winter Fun",1,"Let's Go Ice-Skating!","eBook","978-1-4824-3758-4",2016,"January 2016",null,null,"Author","Jasper Bix",0.9,0.5,null,null,"C",null,"Grade K","Grade K - 2","Even on the coldest winter days it’s easy to have fun outside! Early readers learn all they need is a pair of ice skates and a bit of patience, and they can enjoy the winter weather in style. From lacing up a pair of skates tightly to wearing a helmet for safety, readers learn all the basics needed to get on the ice and give skating a try for themselves! Accessible text presented alongside colorful photographs showing young children skating helps budding readers get motivated to stay active and have fun no matter what the weather outside.","English",22.6,16.95,"796.91—dc23","24 pp.",{"$f":"Table1[[#This Row],['# Books]]*Table1[[#This Row],[QTY]]","v":0},{"$f":"Table1[[#This Row],[QTY]]*Table1[[#This Row],[S&L Price]]","v":0}]
[null,null,34,null,"Winter Fun",1,"Let's Go Sledding!","Library Bound Book","978-1-4824-3761-4",2016,"January 2016","Library","7.625 X 7.125","Author","Jasper Bix",0.9,0.5,null,null,"C",null,"Grade K","Grade K - 2","Even on the coldest winter days it’s easy to have fun outside! Early readers learn all they need is a pair of ice skates and a bit of patience, and they can enjoy the winter weather in style. From lacing up a pair of skates tightly to wearing a helmet for safety, readers learn all the basics needed to get on the ice and give skating a try for themselves! Accessible text presented alongside colorful photographs showing young children skating helps budding readers get motivated to stay active and have fun no matter what the weather outside.","English",22.6,16.95,"796.9'5—dc23","24 pp.",{"$f":"Table1[[#This Row],['# Books]]*Table1[[#This Row],[QTY]]","v":0},{"$f":"Table1[[#This Row],[QTY]]*Table1[[#This Row],[S&L Price]]","v":0}]
[null,null,34,null,"Winter Fun",1,"Let's Go Sledding!","eBook","978-1-4824-3762-1",2016,"January 2016",null,null,"Author","Jasper Bix",0.9,0.5,null,null,"C",null,"Grade K","Grade K - 2","Even on the coldest winter days it’s easy to have fun outside! Early readers learn all they need is a pair of ice skates and a bit of patience, and they can enjoy the winter weather in style. From lacing up a pair of skates tightly to wearing a helmet for safety, readers learn all the basics needed to get on the ice and give skating a try for themselves! Accessible text presented alongside colorful photographs showing young children skating helps budding readers get motivated to stay active and have fun no matter what the weather outside.","English",22.6,16.95,"796.9'5—dc23","24 pp.",{"$f":"Table1[[#This Row],['# Books]]*Table1[[#This Row],[QTY]]","v":0},{"$f":"Table1[[#This Row],[QTY]]*Table1[[#This Row],[S&L Price]]","v":0}]
[null,null,34,null,"Winter Fun",1,"Winter Holidays","Library Bound Book","978-1-4824-3765-2",2016,"January 2016","Library","7.625 X 7.125","Author","Jasper Bix",0.8,0.5,null,null,"C",null,"Grade K","Grade K - 2","Even in winter, there’s always something to celebrate! Budding readers are immersed in a variety of winter holidays and their traditions, from the cards and candy of Valentine’s Day to the New Year’s Eve parties that precede New Year’s Day. Color photographs paired with accessible text help early readers understand how others celebrate Christmas with evergreen trees and presents, adding holiday cheer to the snowy days that fill our coldest months.","English",22.6,16.95,"508.2—d23","24 pp.",{"$f":"Table1[[#This Row],['# Books]]*Table1[[#This Row],[QTY]]","v":0},{"$f":"Table1[[#This Row],[QTY]]*Table1[[#This Row],[S&L Price]]","v":0}]
[null,null,34,null,"Winter Fun",1,"Winter Holidays","eBook","978-1-4824-3766-9",2016,"January 2016",null,null,"Author","Jasper Bix",0.8,0.5,null,null,"C",null,"Grade K","Grade K - 2","Even in winter, there’s always something to celebrate! Budding readers are immersed in a variety of winter holidays and their traditions, from the cards and candy of Valentine’s Day to the New Year’s Eve parties that precede New Year’s Day. Color photographs paired with accessible text help early readers understand how others celebrate Christmas with evergreen trees and presents, adding holiday cheer to the snowy days that fill our coldest months.","English",22.6,16.95,"508.2—d23","24 pp.",{"$f":"Table1[[#This Row],['# Books]]*Table1[[#This Row],[QTY]]","v":0},{"$f":"Table1[[#This Row],[QTY]]*Table1[[#This Row],[S&L Price]]","v":0}]
[null,null,34,null,"Winter Fun",1,"Winter Weather","Library Bound Book","978-1-4824-3769-0",2016,"January 2016","Library","7.625 X 7.125","Author","Jasper Bix",0.9,0.5,null,null,"C",null,"Grade K","Grade K - 2","Winter months feature some of the most interesting—and unpredictable—weather. When the winds grow colder and the lakes and rivers freeze, early readers discover what starts falling from the dark clouds overhead—snow! Accessible text paired with vivid photographs take readers on a journey through a winter’s day and the weather it brings. From snow and wind to icy sleet, budding readers take a bundled-up stroll through the meteorological wonders that come with nature’s coldest season.","English",22.6,16.95,"508.2—d23","24 pp.",{"$f":"Table1[[#This Row],['# Books]]*Table1[[#This Row],[QTY]]","v":0},{"$f":"Table1[[#This Row],[QTY]]*Table1[[#This Row],[S&L Price]]","v":0}]
[null,null,34,null,"Winter Fun",1,"Winter Weather","eBook","978-1-4824-3770-6",2016,"January 2016",null,null,"Author","Jasper Bix",0.9,0.5,null,null,"C",null,"Grade K","Grade K - 2","Winter months feature some of the most interesting—and unpredictable—weather. When the winds grow colder and the lakes and rivers freeze, early readers discover what starts falling from the dark clouds overhead—snow! Accessible text paired with vivid photographs take readers on a journey through a winter’s day and the weather it brings. From snow and wind to icy sleet, budding readers take a bundled-up stroll through the meteorological wonders that come with nature’s coldest season.","English",22.6,16.95,"508.2—d23","24 pp.",{"$f":"Table1[[#This Row],['# Books]]*Table1[[#This Row],[QTY]]","v":0},{"$f":"Table1[[#This Row],[QTY]]*Table1[[#This Row],[S&L Price]]","v":0}]
[null,null,35,null,"Going Places",6,"Going Places","Library Set","978-1-4339-6777-1",2012,"January 2012","Library","7.625 X 7.125",null,"",null,null,null,null,null,null,"Grade K","Grade K - 2","Beginning readers get an up-close look at the many ways people get around in this exciting series. These high-interest books allow readers to explore the variety of transportation forms used around the world—from bikes to planes. Through the use of accessible text, young readers learn many fun facts about how these modes of transportation work. Detailed photographs show these vehicles—from the coolest cars to the fastest trains—working hard to get people from place to place.  • Reading level provides support for beginning readers • Strong picture-text correlation aids in comprehension • Picture glossary supports vocabulary development • Simple index guides readers in navigating each book • High-interest topic appeals to young readers  ","English",135.6,101.7,null,"24 pp.",{"$f":"Table1[[#This Row],['# Books]]*Table1[[#This Row],[QTY]]","v":0},{"$f":"Table1[[#This Row],[QTY]]*Table1[[#This Row],[S&L Price]]","v":0}]
[null,null,35,null,"Going Places",1,"In a Car","Library Bound Book","978-1-4339-6261-5",2012,"January 2012","Library","7.625 X 7.125","Author","Robert M. Hamilton",0.9,0.5,2,3,"C",null,"Grade K","Grade K - 2","Beginning readers learn new facts about cars, including how cars work, the gasoline that makes them run, and the speed limits that help to keep drivers, passengers, and pedestrians safe. Through the use of easy-to-follow text, beginning readers also explore the parts of a car. Colorful photographs show these machines in great detail allowing beginning readers to see a familiar vehicle in a new light.","English",22.6,16.95,"388.3","24 pp.",{"$f":"Table1[[#This Row],['# Books]]*Table1[[#This Row],[QTY]]","v":0},{"$f":"Table1[[#This Row],[QTY]]*Table1[[#This Row],[S&L Price]]","v":0}]
[null,null,35,null,"Going Places",1,"In a Car","eBook","978-1-4339-6262-2",2012,"January 2012",null,null,"Author","Robert M. Hamilton",0.9,0.5,2,3,"C",null,"Grade K","Grade K - 2","Beginning readers learn new facts about cars, including how cars work, the gasoline that makes them run, and the speed limits that help to keep drivers, passengers, and pedestrians safe. Through the use of easy-to-follow text, beginning readers also explore the parts of a car. Colorful photographs show these machines in great detail allowing beginning readers to see a familiar vehicle in a new light.","English",22.6,16.95,"388.3","24 pp.",{"$f":"Table1[[#This Row],['# Books]]*Table1[[#This Row],[QTY]]","v":0},{"$f":"Table1[[#This Row],[QTY]]*Table1[[#This Row],[S&L Price]]","v":0}]
[null,null,35,null,"Going Places",1,"In a Car","Interactive eBook","978-1-4339-6874-7",2012,"January 2012",null,null,"Author","Robert M. Hamilton",0.9,0.5,2,3,"C",null,"Grade K","Grade K - 2","Beginning readers learn new facts about cars, including how cars work, the gasoline that makes them run, and the speed limits that help to keep drivers, passengers, and pedestrians safe. Through the use of easy-to-follow text, beginning readers also explore the parts of a car. Colorful photographs show these machines in great detail allowing beginning readers to see a familiar vehicle in a new light.","English",33.25,24.95,"388.3","24 pp.",{"$f":"Table1[[#This Row],['# Books]]*Table1[[#This Row],[QTY]]","v":0},{"$f":"Table1[[#This Row],[QTY]]*Table1[[#This Row],[S&L Price]]","v":0}]
[null,null,35,null,"Going Places",1,"On a Bike","Library Bound Book","978-1-4339-6265-3",2012,"January 2012","Library","7.625 X 7.125","Author","Robert M. Hamilton",0.9,0.5,2,3,"C","270L","Grade K","Grade K - 2","People love to ride bikes for fun, for exercise, and even for racing. Beginning readers discover the different kinds of bikes used for these different purposes and more in this book. Readers also explore the mechanics of bicycles with the help of accessible language, making it fun to learn what makes a bike move. Detailed photographs highlight the parts of a bike and how they work together to get a bike moving.","English",22.6,16.95,"388.3","24 pp.",{"$f":"Table1[[#This Row],['# Books]]*Table1[[#This Row],[QTY]]","v":0},{"$f":"Table1[[#This Row],[QTY]]*Table1[[#This Row],[S&L Price]]","v":0}]
[null,null,35,null,"Going Places",1,"On a Bike","eBook","978-1-4339-6266-0",2012,"January 2012",null,null,"Author","Robert M. Hamilton",0.9,0.5,2,3,"C","270L","Grade K","Grade K - 2","People love to ride bikes for fun, for exercise, and even for racing. Beginning readers discover the different kinds of bikes used for these different purposes and more in this book. Readers also explore the mechanics of bicycles with the help of accessible language, making it fun to learn what makes a bike move. Detailed photographs highlight the parts of a bike and how they work together to get a bike moving.","English",22.6,16.95,"388.3","24 pp.",{"$f":"Table1[[#This Row],['# Books]]*Table1[[#This Row],[QTY]]","v":0},{"$f":"Table1[[#This Row],[QTY]]*Table1[[#This Row],[S&L Price]]","v":0}]
[null,null,35,null,"Going Places",1,"On a Bike","Interactive eBook","978-1-4339-6875-4",2012,"January 2012",null,null,"Author","Robert M. Hamilton",0.9,0.5,2,3,"C",null,"Grade K","Grade K - 2","People love to ride bikes for fun, for exercise, and even for racing. Beginning readers discover the different kinds of bikes used for these different purposes and more in this book. Readers also explore the mechanics of bicycles with the help of accessible language, making it fun to learn what makes a bike move. Detailed photographs highlight the parts of a bike and how they work together to get a bike moving.","English",33.25,24.95,"388.3","24 pp.",{"$f":"Table1[[#This Row],['# Books]]*Table1[[#This Row],[QTY]]","v":0},{"$f":"Table1[[#This Row],[QTY]]*Table1[[#This Row],[S&L Price]]","v":0}]
[null,null,35,null,"Going Places",1,"On a Boat","Library Bound Book","978-1-4339-6269-1",2012,"January 2012","Library","7.625 X 7.125","Author","Robert M. Hamilton",0.9,0.5,2,3,"C","200L","Grade K","Grade K - 2","There are many kinds of boats that work on the water, and beginning readers are able to see exactly how they work in this fun and informative book. Small sailboats and huge ships are a few that readers discover as they learn how different boats move, look, and help people around the world. Accessible text helps beginning readers uncover fun facts about the parts and purposes of various boats, and vibrant photographs make these facts even more exciting.","English",22.6,16.95,"623.82","24 pp.",{"$f":"Table1[[#This Row],['# Books]]*Table1[[#This Row],[QTY]]","v":0},{"$f":"Table1[[#This Row],[QTY]]*Table1[[#This Row],[S&L Price]]","v":0}]
[null,null,35,null,"Going Places",1,"On a Boat","eBook","978-1-4339-6270-7",2012,"January 2012",null,null,"Author","Robert M. Hamilton",0.9,0.5,2,3,"C","200L","Grade K","Grade K - 2","There are many kinds of boats that work on the water, and beginning readers are able to see exactly how they work in this fun and informative book. Small sailboats and huge ships are a few that readers discover as they learn how different boats move, look, and help people around the world. Accessible text helps beginning readers uncover fun facts about the parts and purposes of various boats, and vibrant photographs make these facts even more exciting.","English",22.6,16.95,"623.82","24 pp.",{"$f":"Table1[[#This Row],['# Books]]*Table1[[#This Row],[QTY]]","v":0},{"$f":"Table1[[#This Row],[QTY]]*Table1[[#This Row],[S&L Price]]","v":0}]
[null,null,35,null,"Going Places",1,"On a Boat","Interactive eBook","978-1-4339-6876-1",2012,"January 2012",null,null,"Author","Robert M. Hamilton",0.9,0.5,2,3,"C",null,"Grade K","Grade K - 2","There are many kinds of boats that work on the water, and beginning readers are able to see exactly how they work in this fun and informative book. Small sailboats and huge ships are a few that readers discover as they learn how different boats move, look, and help people around the world. Accessible text helps beginning readers uncover fun facts about the parts and purposes of various boats, and vibrant photographs make these facts even more exciting.","English",33.25,24.95,"623.82","24 pp.",{"$f":"Table1[[#This Row],['# Books]]*Table1[[#This Row],[QTY]]","v":0},{"$f":"Table1[[#This Row],[QTY]]*Table1[[#This Row],[S&L Price]]","v":0}]
[null,null,35,null,"Going Places",1,"On a Bus","Library Bound Book","978-1-4339-6273-8",2012,"January 2012","Library","7.625 X 7.125","Author","Robert M. Hamilton",0.9,0.5,2,3,"C","220L","Grade K","Grade K - 2","Beginning readers learn many fun facts about buses in this informative book. Easy-to-follow text makes new information about these familiar vehicles accessible for even the most reluctant of readers. Bright photographs show different types of buses on the road, and make identifying what kind of bus has a bathroom inside a fun exercise.","English",22.6,16.95,"388.3","24 pp.",{"$f":"Table1[[#This Row],['# Books]]*Table1[[#This Row],[QTY]]","v":0},{"$f":"Table1[[#This Row],[QTY]]*Table1[[#This Row],[S&L Price]]","v":0}]
[null,null,35,null,"Going Places",1,"On a Bus","eBook","978-1-4339-6274-5",2012,"January 2012",null,null,"Author","Robert M. Hamilton",0.9,0.5,2,3,"C","220L","Grade K","Grade K - 2","Beginning readers learn many fun facts about buses in this informative book. Easy-to-follow text makes new information about these familiar vehicles accessible for even the most reluctant of readers. Bright photographs show different types of buses on the road, and make identifying what kind of bus has a bathroom inside a fun exercise.","English",22.6,16.95,"388.3","24 pp.",{"$f":"Table1[[#This Row],['# Books]]*Table1[[#This Row],[QTY]]","v":0},{"$f":"Table1[[#This Row],[QTY]]*Table1[[#This Row],[S&L Price]]","v":0}]
[null,null,35,null,"Going Places",1,"On a Bus","Interactive eBook","978-1-4339-6877-8",2012,"January 2012",null,null,"Author","Robert M. Hamilton",0.9,0.5,2,3,"C",null,"Grade K","Grade K - 2","Beginning readers learn many fun facts about buses in this informative book. Easy-to-follow text makes new information about these familiar vehicles accessible for even the most reluctant of readers. Bright photographs show different types of buses on the road, and make identifying what kind of bus has a bathroom inside a fun exercise.","English",33.25,24.95,"388.3","24 pp.",{"$f":"Table1[[#This Row],['# Books]]*Table1[[#This Row],[QTY]]","v":0},{"$f":"Table1[[#This Row],[QTY]]*Table1[[#This Row],[S&L Price]]","v":0}]
[null,null,35,null,"Going Places",1,"On a Plane","Library Bound Book","978-1-4339-6277-6",2012,"January 2012","Library","7.625 X 7.125","Author","Robert M. Hamilton",0.9,0.5,2,3,"C","130L","Grade K","Grade K - 2","Beginning readers will feel the excitement with the turn of every page as they learn to answer the question of how planes make their way into the sky. Accessible text will help readers explore how planes work—from takeoff to landing. Colorful photographs show readers a variety of planes, including biplanes and seaplanes.","English",22.6,16.95,"387.7","24 pp.",{"$f":"Table1[[#This Row],['# Books]]*Table1[[#This Row],[QTY]]","v":0},{"$f":"Table1[[#This Row],[QTY]]*Table1[[#This Row],[S&L Price]]","v":0}]
[null,null,35,null,"Going Places",1,"On a Plane","eBook","978-1-4339-6278-3",2012,"January 2012",null,null,"Author","Robert M. Hamilton",0.9,0.5,2,3,"C","130L","Grade K","Grade K - 2","Beginning readers will feel the excitement with the turn of every page as they learn to answer the question of how planes make their way into the sky. Accessible text will help readers explore how planes work—from takeoff to landing. Colorful photographs show readers a variety of planes, including biplanes and seaplanes.","English",22.6,16.95,"387.7","24 pp.",{"$f":"Table1[[#This Row],['# Books]]*Table1[[#This Row],[QTY]]","v":0},{"$f":"Table1[[#This Row],[QTY]]*Table1[[#This Row],[S&L Price]]","v":0}]
[null,null,35,null,"Going Places",1,"On a Plane","Interactive eBook","978-1-4339-6878-5",2012,"January 2012",null,null,"Author","Robert M. Hamilton",0.9,0.5,2,3,"C",null,"Grade K","Grade K - 2","Beginning readers will feel the excitement with the turn of every page as they learn to answer the question of how planes make their way into the sky. Accessible text will help readers explore how planes work—from takeoff to landing. Colorful photographs show readers a variety of planes, including biplanes and seaplanes.","English",33.25,24.95,"387.7","24 pp.",{"$f":"Table1[[#This Row],['# Books]]*Table1[[#This Row],[QTY]]","v":0},{"$f":"Table1[[#This Row],[QTY]]*Table1[[#This Row],[S&L Price]]","v":0}]
[null,null,35,null,"Going Places",1,"On a Train","Library Bound Book","978-1-4339-6281-3",2012,"January 2012","Library","7.625 X 7.125","Author","Robert M. Hamilton",0.9,0.5,2,3,"C","210L","Grade K","Grade K - 2","Beginning readers discover fun facts about trains—from their history to what makes them work, readers will learn how the first trains moved, which kind of train carries people, what a bullet train is, and more. Through easy-to-follow text, readers will explore for themselves the world of this popular mode of transportation. Detailed photographs give beginning readers an up-close look at a variety of trains in motion.","English",22.6,16.95,"385","24 pp.",{"$f":"Table1[[#This Row],['# Books]]*Table1[[#This Row],[QTY]]","v":0},{"$f":"Table1[[#This Row],[QTY]]*Table1[[#This Row],[S&L Price]]","v":0}]
[null,null,35,null,"Going Places",1,"On a Train","eBook","978-1-4339-6282-0",2012,"January 2012",null,null,"Author","Robert M. Hamilton",0.9,0.5,2,3,"C","210L","Grade K","Grade K - 2","Beginning readers discover fun facts about trains—from their history to what makes them work, readers will learn how the first trains moved, which kind of train carries people, what a bullet train is, and more. Through easy-to-follow text, readers will explore for themselves the world of this popular mode of transportation. Detailed photographs give beginning readers an up-close look at a variety of trains in motion.","English",22.6,16.95,"385","24 pp.",{"$f":"Table1[[#This Row],['# Books]]*Table1[[#This Row],[QTY]]","v":0},{"$f":"Table1[[#This Row],[QTY]]*Table1[[#This Row],[S&L Price]]","v":0}]
[null,null,35,null,"Going Places",1,"On a Train","Interactive eBook","978-1-4339-6879-2",2012,"January 2012",null,null,"Author","Robert M. Hamilton",0.9,0.5,2,3,"C",null,"Grade K","Grade K - 2","Beginning readers discover fun facts about trains—from their history to what makes them work, readers will learn how the first trains moved, which kind of train carries people, what a bullet train is, and more. Through easy-to-follow text, readers will explore for themselves the world of this popular mode of transportation. Detailed photographs give beginning readers an up-close look at a variety of trains in motion.","English",33.25,24.95,"385","24 pp.",{"$f":"Table1[[#This Row],['# Books]]*Table1[[#This Row],[QTY]]","v":0},{"$f":"Table1[[#This Row],[QTY]]*Table1[[#This Row],[S&L Price]]","v":0}]
[null,null,35,null,"Inside My World",6,"Inside My World","Library Set","978-1-4824-1632-9",2015,"January 2015","Library","7.625 X 7.125",null,"",null,null,null,null,null,null,"Grade K","Grade K - 2","With fun and relatable themes like school, family, and neighborhoods, young readers will dive into the everyday world and learn about the lives of others. Colorful photographs and accessible content combine to bring to life ordinary places and set the stage for learning early concepts and improving vocabulary. From exploring first pets to experiencing a birthday party, readers will be eager to take a look Inside My World.    • ATOS reading level below 1.0  • High-interest topic that will appeal to even reluctant readers  • Introduction to informational-text features, such as an index and table of contents  • Clear explanations of domain-specific words and phrases  ","English",135.6,101.7,null,"24 pp.",{"$f":"Table1[[#This Row],['# Books]]*Table1[[#This Row],[QTY]]","v":0},{"$f":"Table1[[#This Row],[QTY]]*Table1[[#This Row],[S&L Price]]","v":0}]
[null,null,35,null,"Inside My World",1,"It's My Birthday!","Library Bound Book","978-1-4824-1793-7",2015,"January 2015","Library","7.625 X 7.125","Author","Tina Benjamin",0.9,0.5,null,null,"C","210L","Grade K","Grade K - 2","For a young child, there’s nothing more exciting than a birthday party. This book takes a fun look at a child’s birthday with the help of color photographs and strong picture/text correlation. With a strong narrative set in a family environment, beginning readers will love diving into a birthday party filled with friends, family, and presents! Games and a birthday cake highlight what is always a special day for a young child.","English",22.6,16.95,"392","24 pp.",{"$f":"Table1[[#This Row],['# Books]]*Table1[[#This Row],[QTY]]","v":0},{"$f":"Table1[[#This Row],[QTY]]*Table1[[#This Row],[S&L Price]]","v":0}]
[null,null,35,null,"Inside My World",1,"It's My Birthday!","eBook","978-1-4824-1795-1",2015,"January 2015",null,null,"Author","Tina Benjamin",0.9,0.5,null,null,"C","210L","Grade K","Grade K - 2","For a young child, there’s nothing more exciting than a birthday party. This book takes a fun look at a child’s birthday with the help of color photographs and strong picture/text correlation. With a strong narrative set in a family environment, beginning readers will love diving into a birthday party filled with friends, family, and presents! Games and a birthday cake highlight what is always a special day for a young child.","English",22.6,16.95,"392","24 pp.",{"$f":"Table1[[#This Row],['# Books]]*Table1[[#This Row],[QTY]]","v":0},{"$f":"Table1[[#This Row],[QTY]]*Table1[[#This Row],[S&L Price]]","v":0}]
[null,null,35,null,"Inside My World",1,"Meet My Pet","Library Bound Book","978-1-4824-1797-5",2015,"January 2015","Library","7.625 X 7.125","Author","Tina Benjamin",0.8,0.5,null,null,"B",null,"Grade K","Grade K - 2","Having a pet is one of the biggest responsibilities a young child can have. Early readers will love learning about Lucy, the pet parrot that loves to give her owner kisses. With exciting facts about what Lucy eats and what she likes to do, readers will love learning how to take care of and love a pet of their own. They’ll also learn about Jordan’s pet dog, Lucky, with the help of color photographs and engaging, accessible text.","English",22.6,16.95,"636","24 pp.",{"$f":"Table1[[#This Row],['# Books]]*Table1[[#This Row],[QTY]]","v":0},{"$f":"Table1[[#This Row],[QTY]]*Table1[[#This Row],[S&L Price]]","v":0}]
[null,null,35,null,"Inside My World",1,"Meet My Pet","eBook","978-1-4824-1799-9",2015,"January 2015",null,null,"Author","Tina Benjamin",0.8,0.5,null,null,"B",null,"Grade K","Grade K - 2","Having a pet is one of the biggest responsibilities a young child can have. Early readers will love learning about Lucy, the pet parrot that loves to give her owner kisses. With exciting facts about what Lucy eats and what she likes to do, readers will love learning how to take care of and love a pet of their own. They’ll also learn about Jordan’s pet dog, Lucky, with the help of color photographs and engaging, accessible text.","English",22.6,16.95,"636","24 pp.",{"$f":"Table1[[#This Row],['# Books]]*Table1[[#This Row],[QTY]]","v":0},{"$f":"Table1[[#This Row],[QTY]]*Table1[[#This Row],[S&L Price]]","v":0}]
[null,null,35,null,"Inside My World",1,"My Day at School","Library Bound Book","978-1-4824-1801-9",2015,"January 2015","Library","7.625 X 7.125","Author","Tina Benjamin",0.8,0.5,null,null,"C","70L","Grade K","Grade K - 2","There’s so much to explore at a school. From the books, backpacks, and classrooms to the friends made while in class, a trip to school is a great way for engaged readers to take a look inside a familiar world. With the help of accessible text and vibrant color photographs, readers will love taking a walk in someone else’s shoes to explore their lunchroom, gym class, and even a bus ride home!","English",22.6,16.95,"372","24 pp.",{"$f":"Table1[[#This Row],['# Books]]*Table1[[#This Row],[QTY]]","v":0},{"$f":"Table1[[#This Row],[QTY]]*Table1[[#This Row],[S&L Price]]","v":0}]
[null,null,35,null,"Inside My World",1,"My Day at School","eBook","978-1-4824-1803-3",2015,"January 2015",null,null,"Author","Tina Benjamin",0.8,0.5,null,null,"C","70L","Grade K","Grade K - 2","There’s so much to explore at a school. From the books, backpacks, and classrooms to the friends made while in class, a trip to school is a great way for engaged readers to take a look inside a familiar world. With the help of accessible text and vibrant color photographs, readers will love taking a walk in someone else’s shoes to explore their lunchroom, gym class, and even a bus ride home!","English",22.6,16.95,"372","24 pp.",{"$f":"Table1[[#This Row],['# Books]]*Table1[[#This Row],[QTY]]","v":0},{"$f":"Table1[[#This Row],[QTY]]*Table1[[#This Row],[S&L Price]]","v":0}]
[null,null,35,null,"Inside My World",1,"My Family","Library Bound Book","978-1-4824-1805-7",2015,"January 2015","Library","7.625 X 7.125","Author","Tina Benjamin",0.9,0.5,null,null,"C","130L","Grade K","Grade K - 2","Every family is different. That’s why it’s so much fun to spend time with different people and learn how they live. Beginning readers will love getting a look at what this family does on a day-to-day basis. From making dinner with the grandparents or taking a family walk, accessible text and color photographs show an active and healthy family enjoying the time they spend together. Readers will also learn about interpersonal relationships between parents, grandparents, and children.","English",22.6,16.95,"306.85","24 pp.",{"$f":"Table1[[#This Row],['# Books]]*Table1[[#This Row],[QTY]]","v":0},{"$f":"Table1[[#This Row],[QTY]]*Table1[[#This Row],[S&L Price]]","v":0}]
[null,null,35,null,"Inside My World",1,"My Family","eBook","978-1-4824-1807-1",2015,"January 2015",null,null,"Author","Tina Benjamin",0.9,0.5,null,null,"C","130L","Grade K","Grade K - 2","Every family is different. That’s why it’s so much fun to spend time with different people and learn how they live. Beginning readers will love getting a look at what this family does on a day-to-day basis. From making dinner with the grandparents or taking a family walk, accessible text and color photographs show an active and healthy family enjoying the time they spend together. Readers will also learn about interpersonal relationships between parents, grandparents, and children.","English",22.6,16.95,"306.85","24 pp.",{"$f":"Table1[[#This Row],['# Books]]*Table1[[#This Row],[QTY]]","v":0},{"$f":"Table1[[#This Row],[QTY]]*Table1[[#This Row],[S&L Price]]","v":0}]
[null,null,35,null,"Inside My World",1,"My Piggy Bank","Library Bound Book","978-1-4824-1808-8",2015,"January 2015","Library","7.625 X 7.125","Author","Tina Benjamin",0.9,0.5,null,null,"C","220L","Grade K","Grade K - 2","Why are piggy banks shaped like pigs? And more importantly, do they help us save money? Early readers will learn all about piggy banks in this fun book that takes a look at saving money with the help of a tiny pig-shaped friend. From coins like nickels and dimes to larger amounts of money, color photographs and accessible text explore one child’s quest to save for and buy a baseball glove. Readers will learn that sometimes you have to break the bank if you want to buy something new!","English",22.6,16.95,"332.024","24 pp.",{"$f":"Table1[[#This Row],['# Books]]*Table1[[#This Row],[QTY]]","v":0},{"$f":"Table1[[#This Row],[QTY]]*Table1[[#This Row],[S&L Price]]","v":0}]
[null,null,35,null,"Inside My World",1,"My Piggy Bank","eBook","978-1-4824-1810-1",2015,"January 2015",null,null,"Author","Tina Benjamin",0.9,0.5,null,null,"C","220L","Grade K","Grade K - 2","Why are piggy banks shaped like pigs? And more importantly, do they help us save money? Early readers will learn all about piggy banks in this fun book that takes a look at saving money with the help of a tiny pig-shaped friend. From coins like nickels and dimes to larger amounts of money, color photographs and accessible text explore one child’s quest to save for and buy a baseball glove. Readers will learn that sometimes you have to break the bank if you want to buy something new!","English",22.6,16.95,"332.024","24 pp.",{"$f":"Table1[[#This Row],['# Books]]*Table1[[#This Row],[QTY]]","v":0},{"$f":"Table1[[#This Row],[QTY]]*Table1[[#This Row],[S&L Price]]","v":0}]
[null,null,35,null,"Inside My World",1,"Where I Live","Library Bound Book","978-1-4824-1813-2",2015,"January 2015","Library","7.625 X 7.125","Author","Tina Benjamin",0.9,0.5,null,null,"C","120L","Grade K","Grade K - 2","Exploring your hometown can be like a vacation in your backyard, and learning about someone else’s city is a great way to expand your concept of home. This fun book takes a trip through the narrator’s town, complete with a trip through their backyard pool, school, and even the fire station. From the fountain in the town square to shopping on Main Street, beginning readers will love the accessible text and color photographs that leap off the page and bring a narrator’s hometown to life.","English",22.6,16.95,"307.76","24 pp.",{"$f":"Table1[[#This Row],['# Books]]*Table1[[#This Row],[QTY]]","v":0},{"$f":"Table1[[#This Row],[QTY]]*Table1[[#This Row],[S&L Price]]","v":0}]
[null,null,35,null,"Inside My World",1,"Where I Live","eBook","978-1-4824-1815-6",2015,"January 2015",null,null,"Author","Tina Benjamin",0.9,0.5,null,null,"C","120L","Grade K","Grade K - 2","Exploring your hometown can be like a vacation in your backyard, and learning about someone else’s city is a great way to expand your concept of home. This fun book takes a trip through the narrator’s town, complete with a trip through their backyard pool, school, and even the fire station. From the fountain in the town square to shopping on Main Street, beginning readers will love the accessible text and color photographs that leap off the page and bring a narrator’s hometown to life.","English",22.6,16.95,"307.76","24 pp.",{"$f":"Table1[[#This Row],['# Books]]*Table1[[#This Row],[QTY]]","v":0},{"$f":"Table1[[#This Row],[QTY]]*Table1[[#This Row],[S&L Price]]","v":0}]
[null,null,36,null,"Happy Holidays!",6,"Happy Holidays!","Library Set","978-1-4339-9955-0",2014,"January 2014","Library","7.625 X 7.125",null,"",null,null,null,null,null,null,"Grade K","Grade K - 2","Why do we dress up in spooky and fun costumes at the end of October? Who decided we should celebrate the first day of January? Why do we have fireworks and picnics on the Fourth of July? These special days all happen for a reason, and beginning readers will learn more about their favorite days of the year in this interesting and enlightening series. Beginning readers will explore the facts and history behind their most beloved holidays with the help of full-color photographs and fun, easy-to-understand text.     • Strong picture-text correlation aids in comprehension • Reading level supports beginning readers • Picture glossary helps develop vocabulary skills  ","English",135.6,101.7,null,"24 pp.",{"$f":"Table1[[#This Row],['# Books]]*Table1[[#This Row],[QTY]]","v":0},{"$f":"Table1[[#This Row],[QTY]]*Table1[[#This Row],[S&L Price]]","v":0}]
[null,null,36,null,"Happy Holidays!",1,"Happy Earth Day!","Library Bound Book","978-1-4339-9935-2",2014,"January 2014","Library","7.625 X 7.125","Author","Alex Appleby",1,0.5,3,null,"C",null,"Grade K","Grade K - 2","Some of our favorite days of the year are holidays. Earth Day was established to help people learn about conservation. With this great book, learn how recycling can help save the Earth and what people do to celebrate Earth Day around the globe. A picture glossary will help readers develop vocabulary skills while learning early concepts and gaining a better understanding about holidays we celebrate every year.    • Strong picture-text correlation aids in comprehension • Reading level supports beginning readers • Picture glossary helps develop vocabulary skills","English",22.6,16.95,"394.262","24 pp.",{"$f":"Table1[[#This Row],['# Books]]*Table1[[#This Row],[QTY]]","v":0},{"$f":"Table1[[#This Row],[QTY]]*Table1[[#This Row],[S&L Price]]","v":0}]
[null,null,36,null,"Happy Holidays!",1,"Happy Earth Day!","eBook","978-1-4339-9936-9",2014,"January 2014",null,null,"Author","Alex Appleby",1,0.5,3,null,"C",null,"Grade K","Grade K - 2","Some of our favorite days of the year are holidays. Earth Day was established to help people learn about conservation. With this great book, learn how recycling can help save the Earth and what people do to celebrate Earth Day around the globe. A picture glossary will help readers develop vocabulary skills while learning early concepts and gaining a better understanding about holidays we celebrate every year.    • Strong picture-text correlation aids in comprehension • Reading level supports beginning readers • Picture glossary helps develop vocabulary skills","English",22.6,16.95,"394.262","24 pp.",{"$f":"Table1[[#This Row],['# Books]]*Table1[[#This Row],[QTY]]","v":0},{"$f":"Table1[[#This Row],[QTY]]*Table1[[#This Row],[S&L Price]]","v":0}]
[null,null,36,null,"Happy Holidays!",1,"Happy Fourth of July!","Library Bound Book","978-1-4824-0207-0",2014,"January 2014","Library","7.625 X 7.125","Author","Alex Appleby",1,0.5,3,null,"C",null,"Grade K","Grade K - 2","The Fourth of July is one of the most important holidays of the year. Readers will learn why we set off fireworks to celebrate America’s birthday and what other people do to honor the country on this fun holiday. From sparklers and hot dogs to parades and fun floats, readers will learn why the Fourth of July is a great holiday.    • Strong picture-text correlation aids in comprehension • Reading level supports beginning readers • Picture glossary helps develop vocabulary skills  ","English",22.6,16.95,"394.263","24 pp.",{"$f":"Table1[[#This Row],['# Books]]*Table1[[#This Row],[QTY]]","v":0},{"$f":"Table1[[#This Row],[QTY]]*Table1[[#This Row],[S&L Price]]","v":0}]
[null,null,36,null,"Happy Holidays!",1,"Happy Fourth of July!","eBook","978-1-4824-0208-7",2014,"January 2014",null,null,"Author","Alex Appleby",1,0.5,3,null,"C",null,"Grade K","Grade K - 2","The Fourth of July is one of the most important holidays of the year. Readers will learn why we set off fireworks to celebrate America’s birthday and what other people do to honor the country on this fun holiday. From sparklers and hot dogs to parades and fun floats, readers will learn why the Fourth of July is a great holiday.    • Strong picture-text correlation aids in comprehension • Reading level supports beginning readers • Picture glossary helps develop vocabulary skills  ","English",22.6,16.95,"394.263","24 pp.",{"$f":"Table1[[#This Row],['# Books]]*Table1[[#This Row],[QTY]]","v":0},{"$f":"Table1[[#This Row],[QTY]]*Table1[[#This Row],[S&L Price]]","v":0}]
[null,null,36,null,"Happy Holidays!",1,"Happy Halloween!","Library Bound Book","978-1-4339-9939-0",2014,"January 2014","Library","7.625 X 7.125","Author","Alex Appleby",1,0.5,3,null,"C",null,"Grade K","Grade K - 2","Halloween is a spooky and fun holiday for people of all ages. From its roots as All Hallow’s Eve to its fun traditions today, readers will learn all about how Halloween makes the end of October one of the most fun times of the year. Learn why people dress up in costumes and throw parties on October 31, and what trick or treating is all about with this great book.    • Strong picture-text correlation aids in comprehension • Reading level supports beginning readers • Picture glossary helps develop vocabulary skills  ","English",22.6,16.95,"394.2614","24 pp.",{"$f":"Table1[[#This Row],['# Books]]*Table1[[#This Row],[QTY]]","v":0},{"$f":"Table1[[#This Row],[QTY]]*Table1[[#This Row],[S&L Price]]","v":0}]
[null,null,36,null,"Happy Holidays!",1,"Happy Halloween!","eBook","978-1-4339-9940-6",2014,"January 2014",null,null,"Author","Alex Appleby",1,0.5,3,null,"C",null,"Grade K","Grade K - 2","Halloween is a spooky and fun holiday for people of all ages. From its roots as All Hallow’s Eve to its fun traditions today, readers will learn all about how Halloween makes the end of October one of the most fun times of the year. Learn why people dress up in costumes and throw parties on October 31, and what trick or treating is all about with this great book.    • Strong picture-text correlation aids in comprehension • Reading level supports beginning readers • Picture glossary helps develop vocabulary skills  ","English",22.6,16.95,"394.2614","24 pp.",{"$f":"Table1[[#This Row],['# Books]]*Table1[[#This Row],[QTY]]","v":0},{"$f":"Table1[[#This Row],[QTY]]*Table1[[#This Row],[S&L Price]]","v":0}]
[null,null,36,null,"Happy Holidays!",1,"Happy New Year!","Library Bound Book","978-1-4339-9943-7",2014,"January 2014","Library","7.625 X 7.125","Author","Alex Appleby",1,0.5,3,null,"C",null,"Grade K","Grade K - 2","The start of each year is a celebration, but why? In this great book, readers will learn all about the fun parties and gatherings we have to mark the end and beginning of every year. From ball drops to parties and even football games, everyone should learn how to have a happy new year! With accessible text presented in English and standard Latin-American Spanish, readers will learn all about the traditions and fun resolutions that each new year brings    • Strong picture-text correlation aids in comprehension • Reading level supports beginning readers • Picture glossary helps develop vocabulary skills","English",22.6,16.95,"394.2614","24 pp.",{"$f":"Table1[[#This Row],['# Books]]*Table1[[#This Row],[QTY]]","v":0},{"$f":"Table1[[#This Row],[QTY]]*Table1[[#This Row],[S&L Price]]","v":0}]
[null,null,36,null,"Happy Holidays!",1,"Happy New Year!","eBook","978-1-4339-9944-4",2014,"January 2014",null,null,"Author","Alex Appleby",1,0.5,3,null,"C",null,"Grade K","Grade K - 2","The start of each year is a celebration, but why? In this great book, readers will learn all about the fun parties and gatherings we have to mark the end and beginning of every year. From ball drops to parties and even football games, everyone should learn how to have a happy new year! With accessible text presented in English and standard Latin-American Spanish, readers will learn all about the traditions and fun resolutions that each new year brings    • Strong picture-text correlation aids in comprehension • Reading level supports beginning readers • Picture glossary helps develop vocabulary skills","English",22.6,16.95,"394.2614","24 pp.",{"$f":"Table1[[#This Row],['# Books]]*Table1[[#This Row],[QTY]]","v":0},{"$f":"Table1[[#This Row],[QTY]]*Table1[[#This Row],[S&L Price]]","v":0}]
[null,null,36,null,"Happy Holidays!",1,"Happy Thanksgiving!","Library Bound Book","978-1-4339-9947-5",2014,"January 2014","Library","7.625 X 7.125","Author","Alex Appleby",1,0.5,3,null,"C",null,"Grade K","Grade K - 2","Thanksgiving is a tradition passed down by people for hundreds of years. This great book explores why a day of thanks in November has become an American tradition. Why do we eat turkey on Thanksgiving? Why do we play football? Find out all this, and more about this great holiday while developing early reading skills and vocabulary thanks to a colorful picture glossary.    • Strong picture-text correlation aids in comprehension • Reading level supports beginning readers • Picture glossary helps develop vocabulary skills  ","English",22.6,16.95,"394.2618","24 pp.",{"$f":"Table1[[#This Row],['# Books]]*Table1[[#This Row],[QTY]]","v":0},{"$f":"Table1[[#This Row],[QTY]]*Table1[[#This Row],[S&L Price]]","v":0}]
[null,null,36,null,"Happy Holidays!",1,"Happy Thanksgiving!","eBook","978-1-4339-9948-2",2014,"January 2014",null,null,"Author","Alex Appleby",1,0.5,3,null,"C",null,"Grade K","Grade K - 2","Thanksgiving is a tradition passed down by people for hundreds of years. This great book explores why a day of thanks in November has become an American tradition. Why do we eat turkey on Thanksgiving? Why do we play football? Find out all this, and more about this great holiday while developing early reading skills and vocabulary thanks to a colorful picture glossary.    • Strong picture-text correlation aids in comprehension • Reading level supports beginning readers • Picture glossary helps develop vocabulary skills  ","English",22.6,16.95,"394.2618","24 pp.",{"$f":"Table1[[#This Row],['# Books]]*Table1[[#This Row],[QTY]]","v":0},{"$f":"Table1[[#This Row],[QTY]]*Table1[[#This Row],[S&L Price]]","v":0}]
[null,null,36,null,"Happy Holidays!",1,"Happy Valentine's Day!","Library Bound Book","978-1-4339-9951-2",2014,"January 2014","Library","7.625 X 7.125","Author","Alex Appleby",1,0.5,3,null,"C",null,"Grade K","Grade K - 2","Valentine’s Day is a day of love. February 14 is a special day to celebrate the people you care about, but how did we pick that day? In this interesting book, learn about the history and traditions of Valentine’s Day around the world. From hearts and roses to eating lots of chocolate, there’s plenty to love about Valentine’s Day!    • Strong picture-text correlation aids in comprehension • Reading level supports beginning readers • Picture glossary helps develop vocabulary skills  ","English",22.6,16.95,"394.2618","24 pp.",{"$f":"Table1[[#This Row],['# Books]]*Table1[[#This Row],[QTY]]","v":0},{"$f":"Table1[[#This Row],[QTY]]*Table1[[#This Row],[S&L Price]]","v":0}]
[null,null,36,null,"Happy Holidays!",1,"Happy Valentine's Day!","eBook","978-1-4339-9952-9",2014,"January 2014",null,null,"Author","Alex Appleby",1,0.5,3,null,"C",null,"Grade K","Grade K - 2","Valentine’s Day is a day of love. February 14 is a special day to celebrate the people you care about, but how did we pick that day? In this interesting book, learn about the history and traditions of Valentine’s Day around the world. From hearts and roses to eating lots of chocolate, there’s plenty to love about Valentine’s Day!    • Strong picture-text correlation aids in comprehension • Reading level supports beginning readers • Picture glossary helps develop vocabulary skills  ","English",22.6,16.95,"394.2618","24 pp.",{"$f":"Table1[[#This Row],['# Books]]*Table1[[#This Row],[QTY]]","v":0},{"$f":"Table1[[#This Row],[QTY]]*Table1[[#This Row],[S&L Price]]","v":0}]
[null,null,36,null,"My First Adventures",12,"My First Adventures","Library Set","978-1-4339-7778-7",2013,"August 2012","Library","7.625 X 7.125",null,"",null,null,null,null,null,null,"Grade K","Grade K - 2","The world is full of new things to discover. In this collection of our popular series, readers are guided in discovery through stories of everyday adventures. Using a fictionalized approach, beginning readers explore the fun behind real-life experiences, including a trip on an airplane and a visit to the library. Easy-to-follow text and colorful illustrations take beginning readers on many journeys to fun places—such as an aquarium, a doctor’s office, and even a farm. • Strong picture-text correlation aids in comprehension • High-interest topic appeals to young readers • Colorful illustrations excite readers • Picture glossary helps develop vocabulary skills • Reading level supports beginning readers • Easy-to-use index helps readers as they navigate each book ","English",271.2,203.4,null,"24 pp.",{"$f":"Table1[[#This Row],['# Books]]*Table1[[#This Row],[QTY]]","v":0},{"$f":"Table1[[#This Row],[QTY]]*Table1[[#This Row],[S&L Price]]","v":0}]
[null,null,36,null,"My First Adventures",1,"My First Trip on an Airplane","Library Bound Book","978-1-4339-7296-6",2013,"August 2012","Library","7.625 X 7.125","Author","Katie Kawa",0.9,0.5,3,4,"C",null,"Grade K","Grade K - 2","Using a fictionalized approach, readers follow one family’s journey from the airport to the air, learning new words and fun facts with each turn of the page. Colorful illustrations and accessible text show readers how much fun it is to fly in an airplane. A picture glossary helps strengthen vocabulary skills and encourages deeper learning development.","English",22.6,16.95,"387.7","24 pp.",{"$f":"Table1[[#This Row],['# Books]]*Table1[[#This Row],[QTY]]","v":0},{"$f":"Table1[[#This Row],[QTY]]*Table1[[#This Row],[S&L Price]]","v":0}]
[null,null,36,null,"My First Adventures",1,"My First Trip on an Airplane","eBook","978-1-4339-7299-7",2013,"August 2012",null,null,"Author","Katie Kawa",0.9,0.5,3,4,"C",null,"Grade K","Grade K - 2","Using a fictionalized approach, readers follow one family’s journey from the airport to the air, learning new words and fun facts with each turn of the page. Colorful illustrations and accessible text show readers how much fun it is to fly in an airplane. A picture glossary helps strengthen vocabulary skills and encourages deeper learning development.","English",22.6,16.95,"387.7","24 pp.",{"$f":"Table1[[#This Row],['# Books]]*Table1[[#This Row],[QTY]]","v":0},{"$f":"Table1[[#This Row],[QTY]]*Table1[[#This Row],[S&L Price]]","v":0}]
[null,null,36,null,"My First Adventures",1,"My First Trip on an Airplane","Interactive eBook","978-1-4339-7937-8",2013,"August 2012",null,null,"Author","Katie Kawa",0.9,0.5,3,4,"C",null,"Grade K","Grade K - 2","Using a fictionalized approach, readers follow one family’s journey from the airport to the air, learning new words and fun facts with each turn of the page. Colorful illustrations and accessible text show readers how much fun it is to fly in an airplane. A picture glossary helps strengthen vocabulary skills and encourages deeper learning development.","English",33.25,24.95,"387.7","24 pp.",{"$f":"Table1[[#This Row],['# Books]]*Table1[[#This Row],[QTY]]","v":0},{"$f":"Table1[[#This Row],[QTY]]*Table1[[#This Row],[S&L Price]]","v":0}]
[null,null,36,null,"My First Adventures",1,"My First Trip to a Baseball Game","Library Bound Book","978-1-4339-7307-9",2013,"August 2012","Library","7.625 X 7.125","Author","Katie Kawa",0.9,0.5,3,4,"C",null,"Grade K","Grade K - 2","Beginning readers follow along as one family experiences the fun and excitement of a trip to the ballpark—from the first bite of a hot dog to the last home run. This fictionalized approach to a common childhood experience helps young readers find enjoyment on each page while strengthening vocabulary skills. Accessible text and a helpful picture glossary are accompanied by bright illustrations that bring the thrill of a great baseball game to all readers.","English",22.6,16.95,"796.357","24 pp.",{"$f":"Table1[[#This Row],['# Books]]*Table1[[#This Row],[QTY]]","v":0},{"$f":"Table1[[#This Row],[QTY]]*Table1[[#This Row],[S&L Price]]","v":0}]
[null,null,36,null,"My First Adventures",1,"My First Trip to a Baseball Game","eBook","978-1-4339-7306-2",2013,"August 2012",null,null,"Author","Katie Kawa",0.9,0.5,3,4,"C",null,"Grade K","Grade K - 2","Beginning readers follow along as one family experiences the fun and excitement of a trip to the ballpark—from the first bite of a hot dog to the last home run. This fictionalized approach to a common childhood experience helps young readers find enjoyment on each page while strengthening vocabulary skills. Accessible text and a helpful picture glossary are accompanied by bright illustrations that bring the thrill of a great baseball game to all readers.","English",22.6,16.95,"796.357","24 pp.",{"$f":"Table1[[#This Row],['# Books]]*Table1[[#This Row],[QTY]]","v":0},{"$f":"Table1[[#This Row],[QTY]]*Table1[[#This Row],[S&L Price]]","v":0}]
[null,null,36,null,"My First Adventures",1,"My First Trip to a Baseball Game","Interactive eBook","978-1-4339-7941-5",2013,"August 2012",null,null,"Author","Katie Kawa",0.9,0.5,3,4,"C",null,"Grade K","Grade K - 2","Beginning readers follow along as one family experiences the fun and excitement of a trip to the ballpark—from the first bite of a hot dog to the last home run. This fictionalized approach to a common childhood experience helps young readers find enjoyment on each page while strengthening vocabulary skills. Accessible text and a helpful picture glossary are accompanied by bright illustrations that bring the thrill of a great baseball game to all readers.","English",33.25,24.95,"796.357","24 pp.",{"$f":"Table1[[#This Row],['# Books]]*Table1[[#This Row],[QTY]]","v":0},{"$f":"Table1[[#This Row],[QTY]]*Table1[[#This Row],[S&L Price]]","v":0}]
[null,null,36,null,"My First Adventures",1,"My First Trip to the Aquarium","Library Bound Book","978-1-4339-7300-0",2013,"August 2012","Library","7.625 X 7.125","Author","Katie Kawa",0.9,0.5,3,4,"C",null,"Grade K","Grade K - 2","Beginning readers take an exciting and educational look at sea creatures using a fictionalized approach. Readers will follow along as one family visits an aquarium and discovers the incredible marine life that is waiting to be seen inside. Through the use of accessible text and a helpful picture glossary, early learners are introduced to the world of animals such as turtles, dolphins, and blue crabs. Vibrant illustrations give readers the incredible experience of seeing these amazing animals up close.","English",22.6,16.95,"597.073","24 pp.",{"$f":"Table1[[#This Row],['# Books]]*Table1[[#This Row],[QTY]]","v":0},{"$f":"Table1[[#This Row],[QTY]]*Table1[[#This Row],[S&L Price]]","v":0}]
[null,null,36,null,"My First Adventures",1,"My First Trip to the Aquarium","eBook","978-1-4339-7303-1",2013,"August 2012",null,null,"Author","Katie Kawa",0.9,0.5,3,4,"C",null,"Grade K","Grade K - 2","Beginning readers take an exciting and educational look at sea creatures using a fictionalized approach. Readers will follow along as one family visits an aquarium and discovers the incredible marine life that is waiting to be seen inside. Through the use of accessible text and a helpful picture glossary, early learners are introduced to the world of animals such as turtles, dolphins, and blue crabs. Vibrant illustrations give readers the incredible experience of seeing these amazing animals up close.","English",22.6,16.95,"597.073","24 pp.",{"$f":"Table1[[#This Row],['# Books]]*Table1[[#This Row],[QTY]]","v":0},{"$f":"Table1[[#This Row],[QTY]]*Table1[[#This Row],[S&L Price]]","v":0}]
[null,null,36,null,"My First Adventures",1,"My First Trip to the Aquarium","Interactive eBook","978-1-4339-7939-2",2013,"August 2012",null,null,"Author","Katie Kawa",0.9,0.5,3,4,"C",null,"Grade K","Grade K - 2","Beginning readers take an exciting and educational look at sea creatures using a fictionalized approach. Readers will follow along as one family visits an aquarium and discovers the incredible marine life that is waiting to be seen inside. Through the use of accessible text and a helpful picture glossary, early learners are introduced to the world of animals such as turtles, dolphins, and blue crabs. Vibrant illustrations give readers the incredible experience of seeing these amazing animals up close.","English",33.25,24.95,"597.073","24 pp.",{"$f":"Table1[[#This Row],['# Books]]*Table1[[#This Row],[QTY]]","v":0},{"$f":"Table1[[#This Row],[QTY]]*Table1[[#This Row],[S&L Price]]","v":0}]
[null,null,36,null,"My First Adventures",1,"My First Trip to the Bank","Library Bound Book","978-1-4339-6236-3",2012,"January 2012","Library","7.625 X 7.125","Author, Illustrated by","Katie Kawa, Jessica Livingston",0.9,0.5,3,4,"C",null,"Grade K","Grade K - 2","Beginning readers discover the answer to how money goes from a piggy bank to a bank vault, and many more in this book. Using a fictionalized approach, this book teaches young readers about how a bank works through the story of one child’s visit. Readers see how they can save their own money at the bank with the help of a friendly teller. Featuring easy-to-follow language and colorful illustrations, this book makes an everyday experience exciting for beginning readers.","English",22.6,16.95,"332.1","24 pp.",{"$f":"Table1[[#This Row],['# Books]]*Table1[[#This Row],[QTY]]","v":0},{"$f":"Table1[[#This Row],[QTY]]*Table1[[#This Row],[S&L Price]]","v":0}]
[null,null,36,null,"My First Adventures",1,"My First Trip to the Bank","eBook","978-1-4339-6237-0",2012,"January 2012",null,null,"Author, Illustrated by","Katie Kawa, Jessica Livingston",0.9,0.5,3,4,"C",null,"Grade K","Grade K - 2","Beginning readers discover the answer to how money goes from a piggy bank to a bank vault, and many more in this book. Using a fictionalized approach, this book teaches young readers about how a bank works through the story of one child’s visit. Readers see how they can save their own money at the bank with the help of a friendly teller. Featuring easy-to-follow language and colorful illustrations, this book makes an everyday experience exciting for beginning readers.","English",22.6,16.95,"332.1","24 pp.",{"$f":"Table1[[#This Row],['# Books]]*Table1[[#This Row],[QTY]]","v":0},{"$f":"Table1[[#This Row],[QTY]]*Table1[[#This Row],[S&L Price]]","v":0}]
[null,null,36,null,"My First Adventures",1,"My First Trip to the Bank","Interactive eBook","978-1-4339-6868-6",2012,"January 2012",null,null,"Author, Illustrated by","Katie Kawa, Jessica Livingston",0.9,0.5,3,4,"C",null,"Grade K","Grade K - 2","Beginning readers discover the answer to how money goes from a piggy bank to a bank vault, and many more in this book. Using a fictionalized approach, this book teaches young readers about how a bank works through the story of one child’s visit. Readers see how they can save their own money at the bank with the help of a friendly teller. Featuring easy-to-follow language and colorful illustrations, this book makes an everyday experience exciting for beginning readers.","English",33.25,24.95,"332.1","24 pp.",{"$f":"Table1[[#This Row],['# Books]]*Table1[[#This Row],[QTY]]","v":0},{"$f":"Table1[[#This Row],[QTY]]*Table1[[#This Row],[S&L Price]]","v":0}]
[null,null,36,null,"My First Adventures",1,"My First Trip to the Beach","Library Bound Book","978-1-4339-7308-6",2013,"August 2012","Library","7.625 X 7.125","Author","Katie Kawa",0.8,0.5,3,4,"C",null,"Grade K","Grade K - 2","Using a fictionalized approach, readers join a family as they explore the sand, sun, and waves at the beach for the first time. Colorful illustrations capture the vibrancy of the beach in a way that is sure to captivate beginning readers. Easy-to-follow, accessible text and a useful picture glossary aid in the development of vocabulary skills and the retention of new facts.","English",22.6,16.95,"551.45","24 pp.",{"$f":"Table1[[#This Row],['# Books]]*Table1[[#This Row],[QTY]]","v":0},{"$f":"Table1[[#This Row],[QTY]]*Table1[[#This Row],[S&L Price]]","v":0}]
[null,null,36,null,"My First Adventures",1,"My First Trip to the Beach","eBook","978-1-4339-7311-6",2013,"August 2012",null,null,"Author","Katie Kawa",0.8,0.5,3,4,"C",null,"Grade K","Grade K - 2","Using a fictionalized approach, readers join a family as they explore the sand, sun, and waves at the beach for the first time. Colorful illustrations capture the vibrancy of the beach in a way that is sure to captivate beginning readers. Easy-to-follow, accessible text and a useful picture glossary aid in the development of vocabulary skills and the retention of new facts.","English",22.6,16.95,"551.45","24 pp.",{"$f":"Table1[[#This Row],['# Books]]*Table1[[#This Row],[QTY]]","v":0},{"$f":"Table1[[#This Row],[QTY]]*Table1[[#This Row],[S&L Price]]","v":0}]
[null,null,36,null,"My First Adventures",1,"My First Trip to the Beach","Interactive eBook","978-1-4339-7943-9",2013,"August 2012",null,null,"Author","Katie Kawa",0.8,0.5,3,4,"C",null,"Grade K","Grade K - 2","Using a fictionalized approach, readers join a family as they explore the sand, sun, and waves at the beach for the first time. Colorful illustrations capture the vibrancy of the beach in a way that is sure to captivate beginning readers. Easy-to-follow, accessible text and a useful picture glossary aid in the development of vocabulary skills and the retention of new facts.","English",33.25,24.95,"551.45","24 pp.",{"$f":"Table1[[#This Row],['# Books]]*Table1[[#This Row],[QTY]]","v":0},{"$f":"Table1[[#This Row],[QTY]]*Table1[[#This Row],[S&L Price]]","v":0}]
[null,null,36,null,"My First Adventures",1,"My First Trip to the Dentist","Library Bound Book","978-1-4339-6241-7",2012,"January 2012","Library","7.625 X 7.125","Author, Illustrated by","Katie Kawa, Jessica Livingston",0.9,0.5,3,4,"C",null,"Grade K","Grade K - 2","Healthy teeth are very important, and a trip to the dentist helps keep them shiny and strong. Beginning readers get a firsthand glance at the people who work hard to keep our teeth looking and feeling their best. Presented in a fictionalized manner, this book allows young readers to follow along on a child’s visit to the dentist. Accessible text helps readers see what happens during a dental exam and learn about the people and tools that work together to clean our teeth. Bright, fun illustrations guide readers through the story.","English",22.6,16.95,"617","24 pp.",{"$f":"Table1[[#This Row],['# Books]]*Table1[[#This Row],[QTY]]","v":0},{"$f":"Table1[[#This Row],[QTY]]*Table1[[#This Row],[S&L Price]]","v":0}]
[null,null,36,null,"My First Adventures",1,"My First Trip to the Dentist","eBook","978-1-4339-6242-4",2012,"January 2012",null,null,"Author, Illustrated by","Katie Kawa, Jessica Livingston",0.9,0.5,3,4,"C",null,"Grade K","Grade K - 2","Healthy teeth are very important, and a trip to the dentist helps keep them shiny and strong. Beginning readers get a firsthand glance at the people who work hard to keep our teeth looking and feeling their best. Presented in a fictionalized manner, this book allows young readers to follow along on a child’s visit to the dentist. Accessible text helps readers see what happens during a dental exam and learn about the people and tools that work together to clean our teeth. Bright, fun illustrations guide readers through the story.","English",22.6,16.95,"617","24 pp.",{"$f":"Table1[[#This Row],['# Books]]*Table1[[#This Row],[QTY]]","v":0},{"$f":"Table1[[#This Row],[QTY]]*Table1[[#This Row],[S&L Price]]","v":0}]
[null,null,36,null,"My First Adventures",1,"My First Trip to the Dentist","Interactive eBook","978-1-4339-7849-4",2012,"January 2012",null,null,"Author, Illustrated by","Katie Kawa, Jessica Livingston",0.9,0.5,3,4,"C",null,"Grade K","Grade K - 2","Healthy teeth are very important, and a trip to the dentist helps keep them shiny and strong. Beginning readers get a firsthand glance at the people who work hard to keep our teeth looking and feeling their best. Presented in a fictionalized manner, this book allows young readers to follow along on a child’s visit to the dentist. Accessible text helps readers see what happens during a dental exam and learn about the people and tools that work together to clean our teeth. Bright, fun illustrations guide readers through the story.","English",33.25,24.95,"617","24 pp.",{"$f":"Table1[[#This Row],['# Books]]*Table1[[#This Row],[QTY]]","v":0},{"$f":"Table1[[#This Row],[QTY]]*Table1[[#This Row],[S&L Price]]","v":0}]
[null,null,36,null,"My First Adventures",1,"My First Trip to the Doctor","Library Bound Book","978-1-4339-6245-5",2012,"January 2012","Library","7.625 X 7.125","Author, Illustrated by","Katie Kawa, Jessica Livingston",0.9,0.5,3,4,"C",null,"Grade K","Grade K - 2","Beginning readers visit the doctor in a fictionalized approach to this common childhood experience. Readers will follow a child through the process of getting an annual checkup, an easily relatable experience for young readers. Easy-to-follow text explains the steps taken by both doctors and nurses to make sure children are growing healthy and strong. Illustrations help beginning readers view a trip to the doctor as a fun and educational experience.","English",22.6,16.95,"618.92","24 pp.",{"$f":"Table1[[#This Row],['# Books]]*Table1[[#This Row],[QTY]]","v":0},{"$f":"Table1[[#This Row],[QTY]]*Table1[[#This Row],[S&L Price]]","v":0}]
[null,null,36,null,"My First Adventures",1,"My First Trip to the Doctor","eBook","978-1-4339-6246-2",2012,"January 2012",null,null,"Author, Illustrated by","Katie Kawa, Jessica Livingston",0.9,0.5,3,4,"C",null,"Grade K","Grade K - 2","Beginning readers visit the doctor in a fictionalized approach to this common childhood experience. Readers will follow a child through the process of getting an annual checkup, an easily relatable experience for young readers. Easy-to-follow text explains the steps taken by both doctors and nurses to make sure children are growing healthy and strong. Illustrations help beginning readers view a trip to the doctor as a fun and educational experience.","English",22.6,16.95,"618.92","24 pp.",{"$f":"Table1[[#This Row],['# Books]]*Table1[[#This Row],[QTY]]","v":0},{"$f":"Table1[[#This Row],[QTY]]*Table1[[#This Row],[S&L Price]]","v":0}]
[null,null,36,null,"My First Adventures",1,"My First Trip to the Doctor","Interactive eBook","978-1-4339-6870-9",2012,"January 2012",null,null,"Author, Illustrated by","Katie Kawa, Jessica Livingston",0.9,0.5,3,4,"C",null,"Grade K","Grade K - 2","Beginning readers visit the doctor in a fictionalized approach to this common childhood experience. Readers will follow a child through the process of getting an annual checkup, an easily relatable experience for young readers. Easy-to-follow text explains the steps taken by both doctors and nurses to make sure children are growing healthy and strong. Illustrations help beginning readers view a trip to the doctor as a fun and educational experience.","English",33.25,24.95,"618.92","24 pp.",{"$f":"Table1[[#This Row],['# Books]]*Table1[[#This Row],[QTY]]","v":0},{"$f":"Table1[[#This Row],[QTY]]*Table1[[#This Row],[S&L Price]]","v":0}]
[null,null,36,null,"My First Adventures",1,"My First Trip to the Farm","Library Bound Book","978-1-4339-7312-3",2013,"August 2012","Library","7.625 X 7.125","Author","Katie Kawa",0.8,0.5,3,4,"C",null,"Grade K","Grade K - 2","A farm is a very busy place, and beginning readers discover why with the story of one class’s visit to a working farm. They learn fun facts about the food that we get from farms and the animals that call a farm their home. Using a fictionalized approach, readers discover all that this exciting place has to offer, including a trip to a pumpkin patch and a hayride. Accessible text and a picture glossary allow beginning readers to see for themselves what a trip to a farm is like, and bright illustrations guide them through this charming book.","English",22.6,16.95,"636","24 pp.",{"$f":"Table1[[#This Row],['# Books]]*Table1[[#This Row],[QTY]]","v":0},{"$f":"Table1[[#This Row],[QTY]]*Table1[[#This Row],[S&L Price]]","v":0}]
[null,null,36,null,"My First Adventures",1,"My First Trip to the Farm","eBook","978-1-4339-7315-4",2013,"August 2012",null,null,"Author","Katie Kawa",0.8,0.5,3,4,"C",null,"Grade K","Grade K - 2","A farm is a very busy place, and beginning readers discover why with the story of one class’s visit to a working farm. They learn fun facts about the food that we get from farms and the animals that call a farm their home. Using a fictionalized approach, readers discover all that this exciting place has to offer, including a trip to a pumpkin patch and a hayride. Accessible text and a picture glossary allow beginning readers to see for themselves what a trip to a farm is like, and bright illustrations guide them through this charming book.","English",22.6,16.95,"636","24 pp.",{"$f":"Table1[[#This Row],['# Books]]*Table1[[#This Row],[QTY]]","v":0},{"$f":"Table1[[#This Row],[QTY]]*Table1[[#This Row],[S&L Price]]","v":0}]
[null,null,36,null,"My First Adventures",1,"My First Trip to the Farm","Interactive eBook","978-1-4339-7945-3",2013,"August 2012",null,null,"Author","Katie Kawa",0.8,0.5,3,4,"C",null,"Grade K","Grade K - 2","A farm is a very busy place, and beginning readers discover why with the story of one class’s visit to a working farm. They learn fun facts about the food that we get from farms and the animals that call a farm their home. Using a fictionalized approach, readers discover all that this exciting place has to offer, including a trip to a pumpkin patch and a hayride. Accessible text and a picture glossary allow beginning readers to see for themselves what a trip to a farm is like, and bright illustrations guide them through this charming book.","English",33.25,24.95,"636","24 pp.",{"$f":"Table1[[#This Row],['# Books]]*Table1[[#This Row],[QTY]]","v":0},{"$f":"Table1[[#This Row],[QTY]]*Table1[[#This Row],[S&L Price]]","v":0}]
[null,null,36,null,"My First Adventures",1,"My First Trip to the Fire Station","Library Bound Book","978-1-4339-7316-1",2013,"August 2012","Library","7.625 X 7.125","Author","Katie Kawa",0.9,0.5,3,4,"C",null,"Grade K","Grade K - 2","Beginning readers will be continually engaged as they find answers to questions regarding firefighters and how they put out fires. Vibrant illustrations give readers a detailed look at a fire station while learning fun facts about the people who fight fires. This educational and exciting book uses a fictionalized approach to present a fire station and the people who work there through the eyes of a relatable child. Easy-to-follow text helps readers discover new information for themselves, and a picture glossary helps strengthen vocabulary skills.","English",22.6,16.95,"628.9","24 pp.",{"$f":"Table1[[#This Row],['# Books]]*Table1[[#This Row],[QTY]]","v":0},{"$f":"Table1[[#This Row],[QTY]]*Table1[[#This Row],[S&L Price]]","v":0}]
[null,null,36,null,"My First Adventures",1,"My First Trip to the Fire Station","eBook","978-1-4339-7319-2",2013,"August 2012",null,null,"Author","Katie Kawa",0.9,0.5,3,4,"C",null,"Grade K","Grade K - 2","Beginning readers will be continually engaged as they find answers to questions regarding firefighters and how they put out fires. Vibrant illustrations give readers a detailed look at a fire station while learning fun facts about the people who fight fires. This educational and exciting book uses a fictionalized approach to present a fire station and the people who work there through the eyes of a relatable child. Easy-to-follow text helps readers discover new information for themselves, and a picture glossary helps strengthen vocabulary skills.","English",22.6,16.95,"628.9","24 pp.",{"$f":"Table1[[#This Row],['# Books]]*Table1[[#This Row],[QTY]]","v":0},{"$f":"Table1[[#This Row],[QTY]]*Table1[[#This Row],[S&L Price]]","v":0}]
[null,null,36,null,"My First Adventures",1,"My First Trip to the Fire Station","Interactive eBook","978-1-4339-7947-7",2013,"August 2012",null,null,"Author","Katie Kawa",0.9,0.5,3,4,"C",null,"Grade K","Grade K - 2","Beginning readers will be continually engaged as they find answers to questions regarding firefighters and how they put out fires. Vibrant illustrations give readers a detailed look at a fire station while learning fun facts about the people who fight fires. This educational and exciting book uses a fictionalized approach to present a fire station and the people who work there through the eyes of a relatable child. Easy-to-follow text helps readers discover new information for themselves, and a picture glossary helps strengthen vocabulary skills.","English",33.25,24.95,"628.9","24 pp.",{"$f":"Table1[[#This Row],['# Books]]*Table1[[#This Row],[QTY]]","v":0},{"$f":"Table1[[#This Row],[QTY]]*Table1[[#This Row],[S&L Price]]","v":0}]
[null,null,36,null,"My First Adventures",1,"My First Trip to the Library","Library Bound Book","978-1-4339-6249-3",2012,"January 2012","Library","7.625 X 7.125","Author, Illustrated by","Katie Kawa, Jessica Livingston",0.9,0.5,3,4,"C",null,"Grade K","Grade K - 2","Readers learn how fascinating a trip to the library can be as they read about one child’s exciting visit. This fictionalized approach to a popular childhood experience allows readers to learn important facts about the library in an accessible way. Easy-to-follow text and colorful illustrations keep readers entertained as they learn. Beginning readers will be eager to go to the library to find more books.","English",22.6,16.95,"020","24 pp.",{"$f":"Table1[[#This Row],['# Books]]*Table1[[#This Row],[QTY]]","v":0},{"$f":"Table1[[#This Row],[QTY]]*Table1[[#This Row],[S&L Price]]","v":0}]
[null,null,36,null,"My First Adventures",1,"My First Trip to the Library","eBook","978-1-4339-6250-9",2012,"January 2012",null,null,"Author, Illustrated by","Katie Kawa, Jessica Livingston",0.9,0.5,3,4,"C",null,"Grade K","Grade K - 2","Readers learn how fascinating a trip to the library can be as they read about one child’s exciting visit. This fictionalized approach to a popular childhood experience allows readers to learn important facts about the library in an accessible way. Easy-to-follow text and colorful illustrations keep readers entertained as they learn. Beginning readers will be eager to go to the library to find more books.","English",22.6,16.95,"020","24 pp.",{"$f":"Table1[[#This Row],['# Books]]*Table1[[#This Row],[QTY]]","v":0},{"$f":"Table1[[#This Row],[QTY]]*Table1[[#This Row],[S&L Price]]","v":0}]
[null,null,36,null,"My First Adventures",1,"My First Trip to the Library","Interactive eBook","978-1-4339-7852-4",2012,"January 2012",null,null,"Author, Illustrated by","Katie Kawa, Jessica Livingston",0.9,0.5,3,4,"C",null,"Grade K","Grade K - 2","Readers learn how fascinating a trip to the library can be as they read about one child’s exciting visit. This fictionalized approach to a popular childhood experience allows readers to learn important facts about the library in an accessible way. Easy-to-follow text and colorful illustrations keep readers entertained as they learn. Beginning readers will be eager to go to the library to find more books.","English",33.25,24.95,"020","24 pp.",{"$f":"Table1[[#This Row],['# Books]]*Table1[[#This Row],[QTY]]","v":0},{"$f":"Table1[[#This Row],[QTY]]*Table1[[#This Row],[S&L Price]]","v":0}]
[null,null,36,null,"My First Adventures",1,"My First Trip to the Post Office","Library Bound Book","978-1-4339-6253-0",2012,"January 2012","Library","7.625 X 7.125","Author, Illustrated by","Katie Kawa, Jessica Livingston",0.8,0.5,3,4,"C",null,"Grade K","Grade K - 2","This engaging book explains how a letter gets from one person to another in a way that beginning readers will find educational and enjoyable. Using a fictionalized approach, this book follows a child’s letter from the day it is written to the day it is delivered. Through a relatable story, bright illustrations, and accessible text—young readers follow along as the letter is taken to the post office.","English",22.6,16.95,"383","24 pp.",{"$f":"Table1[[#This Row],['# Books]]*Table1[[#This Row],[QTY]]","v":0},{"$f":"Table1[[#This Row],[QTY]]*Table1[[#This Row],[S&L Price]]","v":0}]
[null,null,36,null,"My First Adventures",1,"My First Trip to the Post Office","eBook","978-1-4339-6254-7",2012,"January 2012",null,null,"Author, Illustrated by","Katie Kawa, Jessica Livingston",0.8,0.5,3,4,"C",null,"Grade K","Grade K - 2","This engaging book explains how a letter gets from one person to another in a way that beginning readers will find educational and enjoyable. Using a fictionalized approach, this book follows a child’s letter from the day it is written to the day it is delivered. Through a relatable story, bright illustrations, and accessible text—young readers follow along as the letter is taken to the post office.","English",22.6,16.95,"383","24 pp.",{"$f":"Table1[[#This Row],['# Books]]*Table1[[#This Row],[QTY]]","v":0},{"$f":"Table1[[#This Row],[QTY]]*Table1[[#This Row],[S&L Price]]","v":0}]
[null,null,36,null,"My First Adventures",1,"My First Trip to the Post Office","Interactive eBook","978-1-4339-6872-3",2012,"January 2012",null,null,"Author, Illustrated by","Katie Kawa, Jessica Livingston",0.8,0.5,3,4,"C",null,"Grade K","Grade K - 2","This engaging book explains how a letter gets from one person to another in a way that beginning readers will find educational and enjoyable. Using a fictionalized approach, this book follows a child’s letter from the day it is written to the day it is delivered. Through a relatable story, bright illustrations, and accessible text—young readers follow along as the letter is taken to the post office.","English",33.25,24.95,"383","24 pp.",{"$f":"Table1[[#This Row],['# Books]]*Table1[[#This Row],[QTY]]","v":0},{"$f":"Table1[[#This Row],[QTY]]*Table1[[#This Row],[S&L Price]]","v":0}]
[null,null,36,null,"My First Adventures",1,"My First Trip to the Zoo","Library Bound Book","978-1-4339-6257-8",2012,"January 2012","Library","7.625 X 7.125","Author, Illustrated by","Katie Kawa, Jessica Livingston",0.9,0.5,3,4,"C",null,"Grade K","Grade K - 2","Beginning readers discover the animals that can be seen during a day at the zoo. Using a fictionalized approach, this book takes readers on a journey as they follow one family’s trip to see their favorite animals. This book also provides the answer to how elephants stay cool in the hot sun and more. Vibrant illustrations of popular zoo animals and accessible text help beginning readers discover new facts about zoos and the animals that live in them. ","English",22.6,16.95,"590.73","24 pp.",{"$f":"Table1[[#This Row],['# Books]]*Table1[[#This Row],[QTY]]","v":0},{"$f":"Table1[[#This Row],[QTY]]*Table1[[#This Row],[S&L Price]]","v":0}]
[null,null,36,null,"My First Adventures",1,"My First Trip to the Zoo","eBook","978-1-4339-6258-5",2012,"January 2012",null,null,"Author, Illustrated by","Katie Kawa, Jessica Livingston",0.9,0.5,3,4,"C",null,"Grade K","Grade K - 2","Beginning readers discover the animals that can be seen during a day at the zoo. Using a fictionalized approach, this book takes readers on a journey as they follow one family’s trip to see their favorite animals. This book also provides the answer to how elephants stay cool in the hot sun and more. Vibrant illustrations of popular zoo animals and accessible text help beginning readers discover new facts about zoos and the animals that live in them. ","English",22.6,16.95,"590.73","24 pp.",{"$f":"Table1[[#This Row],['# Books]]*Table1[[#This Row],[QTY]]","v":0},{"$f":"Table1[[#This Row],[QTY]]*Table1[[#This Row],[S&L Price]]","v":0}]
[null,null,36,null,"My First Adventures",1,"My First Trip to the Zoo","Interactive eBook","978-1-4339-7854-8",2012,"January 2012",null,null,"Author, Illustrated by","Katie Kawa, Jessica Livingston",0.9,0.5,3,4,"C",null,"Grade K","Grade K - 2","Beginning readers discover the animals that can be seen during a day at the zoo. Using a fictionalized approach, this book takes readers on a journey as they follow one family’s trip to see their favorite animals. This book also provides the answer to how elephants stay cool in the hot sun and more. Vibrant illustrations of popular zoo animals and accessible text help beginning readers discover new facts about zoos and the animals that live in them. ","English",33.25,24.95,"590.73","24 pp.",{"$f":"Table1[[#This Row],['# Books]]*Table1[[#This Row],[QTY]]","v":0},{"$f":"Table1[[#This Row],[QTY]]*Table1[[#This Row],[S&L Price]]","v":0}]
[null,null,37,null,"People Around Town",12,"People Around Town","Library Set","978-1-4339-9694-8",2014,"August 2013","Library","7.625 X 7.125",null,"",null,null,null,null,null,null,"Grade K","Grade K - 2","Our cities and towns are filled with hardworking people doing important jobs. In this series, beginning readers get the opportunity to meet many of these community helpers, and learn just how essential they are to our everyday lives.  Accessible text paired with colorful, carefully correlated photographs shows community helpers such as pilots, farmers, construction workers, and veterinarians in action and hard at work, and introduce readers to this important part of the early elementary curriculum.  • High-interest topic engages young readers • Strong picture-text correlation aids in comprehension • Reading level supports beginning readers • Picture glossary helps develop vocabulary skills • Comprehendible index guides readers through each book","English",271.2,203.4,null,"24 pp.",{"$f":"Table1[[#This Row],['# Books]]*Table1[[#This Row],[QTY]]","v":0},{"$f":"Table1[[#This Row],[QTY]]*Table1[[#This Row],[S&L Price]]","v":0}]
[null,null,37,null,"People Around Town",1,"Meet the Baker","Library Bound Book","978-1-4339-7320-8",2013,"August 2012","Library","7.625 X 7.125","Author","Joyce Jeffries",0.9,0.5,3,4,"C","250L","Grade K","Grade K - 2","How a baker makes the breads, pies, and cakes that we love to eat is revealed though fun, engaging text. Beginning readers get an enjoyable and educational look at the work that bakers do every day—including mixing the batter and slicing the bread. Readers are introduced to the tools bakers need to do their jobs, and a picture glossary helps develop a stronger vocabulary. Bright photographs show bakers hard at work making delicious treats.","English",22.6,16.95,"641.81","24 pp.",{"$f":"Table1[[#This Row],['# Books]]*Table1[[#This Row],[QTY]]","v":0},{"$f":"Table1[[#This Row],[QTY]]*Table1[[#This Row],[S&L Price]]","v":0}]
[null,null,37,null,"People Around Town",1,"Meet the Baker","eBook","978-1-4339-7323-9",2013,"August 2012",null,null,"Author","Joyce Jeffries",0.9,0.5,3,4,"C","250L","Grade K","Grade K - 2","How a baker makes the breads, pies, and cakes that we love to eat is revealed though fun, engaging text. Beginning readers get an enjoyable and educational look at the work that bakers do every day—including mixing the batter and slicing the bread. Readers are introduced to the tools bakers need to do their jobs, and a picture glossary helps develop a stronger vocabulary. Bright photographs show bakers hard at work making delicious treats.","English",22.6,16.95,"641.81","24 pp.",{"$f":"Table1[[#This Row],['# Books]]*Table1[[#This Row],[QTY]]","v":0},{"$f":"Table1[[#This Row],[QTY]]*Table1[[#This Row],[S&L Price]]","v":0}]
[null,null,37,null,"People Around Town",1,"Meet the Baker","Interactive eBook","978-1-4339-7949-1",2013,"August 2012",null,null,"Author","Joyce Jeffries",0.9,0.5,3,4,"C",null,"Grade K","Grade K - 2","How a baker makes the breads, pies, and cakes that we love to eat is revealed though fun, engaging text. Beginning readers get an enjoyable and educational look at the work that bakers do every day—including mixing the batter and slicing the bread. Readers are introduced to the tools bakers need to do their jobs, and a picture glossary helps develop a stronger vocabulary. Bright photographs show bakers hard at work making delicious treats.","English",33.25,24.95,"641.81","24 pp.",{"$f":"Table1[[#This Row],['# Books]]*Table1[[#This Row],[QTY]]","v":0},{"$f":"Table1[[#This Row],[QTY]]*Table1[[#This Row],[S&L Price]]","v":0}]
[null,null,37,null,"People Around Town",1,"Meet the Bus Driver","Library Bound Book","978-1-4339-7324-6",2013,"August 2012","Library","7.625 X 7.125","Author","Joyce Jeffries",0.9,0.5,3,4,"C","220L","Grade K","Grade K - 2","Beginning readers discover why bus drivers are a very important part of a community. A variety of bus drivers are introduced with their own special job, including a school bus driver and a tour bus driver. Through fun, accessible text and a helpful picture glossary, young readers learn important facts about bus drivers and the vehicles they drive. Colorful photographs allow early learners to feel as if they are on an exciting bus ride, making this a reading experience they are sure to enjoy.","English",22.6,16.95,"388.3","24 pp.",{"$f":"Table1[[#This Row],['# Books]]*Table1[[#This Row],[QTY]]","v":0},{"$f":"Table1[[#This Row],[QTY]]*Table1[[#This Row],[S&L Price]]","v":0}]
[null,null,37,null,"People Around Town",1,"Meet the Bus Driver","eBook","978-1-4339-7327-7",2013,"August 2012",null,null,"Author","Joyce Jeffries",0.9,0.5,3,4,"C","220L","Grade K","Grade K - 2","Beginning readers discover why bus drivers are a very important part of a community. A variety of bus drivers are introduced with their own special job, including a school bus driver and a tour bus driver. Through fun, accessible text and a helpful picture glossary, young readers learn important facts about bus drivers and the vehicles they drive. Colorful photographs allow early learners to feel as if they are on an exciting bus ride, making this a reading experience they are sure to enjoy.","English",22.6,16.95,"388.3","24 pp.",{"$f":"Table1[[#This Row],['# Books]]*Table1[[#This Row],[QTY]]","v":0},{"$f":"Table1[[#This Row],[QTY]]*Table1[[#This Row],[S&L Price]]","v":0}]
[null,null,37,null,"People Around Town",1,"Meet the Bus Driver","Interactive eBook","978-1-4339-7951-4",2013,"August 2012",null,null,"Author","Joyce Jeffries",0.9,0.5,3,4,"C",null,"Grade K","Grade K - 2","Beginning readers discover why bus drivers are a very important part of a community. A variety of bus drivers are introduced with their own special job, including a school bus driver and a tour bus driver. Through fun, accessible text and a helpful picture glossary, young readers learn important facts about bus drivers and the vehicles they drive. Colorful photographs allow early learners to feel as if they are on an exciting bus ride, making this a reading experience they are sure to enjoy.","English",33.25,24.95,"388.3","24 pp.",{"$f":"Table1[[#This Row],['# Books]]*Table1[[#This Row],[QTY]]","v":0},{"$f":"Table1[[#This Row],[QTY]]*Table1[[#This Row],[S&L Price]]","v":0}]
[null,null,37,null,"People Around Town",1,"Meet the Construction Worker","Library Bound Book","978-1-4339-9364-0",2014,"August 2013","Library","7.625 X 7.125","Author","Joyce Jeffries",0.9,0.5,3,4,"C",null,"Grade K","Grade K - 2","Construction workers build our towns and cities! In this book, beginning readers will get to meet the community helpers who turn wood and metal into houses and schools. Readers will meet roofers, pipe fitters, and other essential builders that make the places we call home. Full-color photographs depict people hard at work, and a picture glossary reinforces vocabulary with vivid photographs of buildings and supplies, ready for work! • High-interest topic engages young readers • Strong picture-text correlation aids in comprehension • Reading level supports beginning readers • Picture glossary helps develop vocabulary skills • Comprehendible index guides readers through each book  ","English",22.6,16.95,"624","24 pp.",{"$f":"Table1[[#This Row],['# Books]]*Table1[[#This Row],[QTY]]","v":0},{"$f":"Table1[[#This Row],[QTY]]*Table1[[#This Row],[S&L Price]]","v":0}]
[null,null,37,null,"People Around Town",1,"Meet the Construction Worker","eBook","978-1-4339-9365-7",2014,"August 2013",null,null,"Author","Joyce Jeffries",0.9,0.5,3,4,"C",null,"Grade K","Grade K - 2","Construction workers build our towns and cities! In this book, beginning readers will get to meet the community helpers who turn wood and metal into houses and schools. Readers will meet roofers, pipe fitters, and other essential builders that make the places we call home. Full-color photographs depict people hard at work, and a picture glossary reinforces vocabulary with vivid photographs of buildings and supplies, ready for work! • High-interest topic engages young readers • Strong picture-text correlation aids in comprehension • Reading level supports beginning readers • Picture glossary helps develop vocabulary skills • Comprehendible index guides readers through each book  ","English",22.6,16.95,"624","24 pp.",{"$f":"Table1[[#This Row],['# Books]]*Table1[[#This Row],[QTY]]","v":0},{"$f":"Table1[[#This Row],[QTY]]*Table1[[#This Row],[S&L Price]]","v":0}]
[null,null,37,null,"People Around Town",1,"Meet the Farmer","Library Bound Book","978-1-4339-9367-1",2014,"August 2013","Library","7.625 X 7.125","Author","Joyce Jeffries",0.9,0.5,3,4,"C","250L","Grade K","Grade K - 2","Farmers know how to get the most out of the land, whether with crops or big farm animals. Readers learn more about the lives of these important community helpers with the help of full-color photographs and easy-to-read text. Readers discover how big tractors help farmers work quickly, and what kinds of animals call a farm home. Accessible text helps early readers grasp concepts, while a picture glossary pairs vocabulary with colorful photographs to help enhance comprehension.     • High-interest topic engages young readers • Strong picture-text correlation aids in comprehension • Reading level supports beginning readers • Picture glossary helps develop vocabulary skills • Comprehendible index guides readers through each book    ","English",22.6,16.95,"331.7","24 pp.",{"$f":"Table1[[#This Row],['# Books]]*Table1[[#This Row],[QTY]]","v":0},{"$f":"Table1[[#This Row],[QTY]]*Table1[[#This Row],[S&L Price]]","v":0}]
[null,null,37,null,"People Around Town",1,"Meet the Farmer","eBook","978-1-4339-9370-1",2014,"August 2013",null,null,"Author","Joyce Jeffries",0.9,0.5,3,4,"C","250L","Grade K","Grade K - 2","Farmers know how to get the most out of the land, whether with crops or big farm animals. Readers learn more about the lives of these important community helpers with the help of full-color photographs and easy-to-read text. Readers discover how big tractors help farmers work quickly, and what kinds of animals call a farm home. Accessible text helps early readers grasp concepts, while a picture glossary pairs vocabulary with colorful photographs to help enhance comprehension.     • High-interest topic engages young readers • Strong picture-text correlation aids in comprehension • Reading level supports beginning readers • Picture glossary helps develop vocabulary skills • Comprehendible index guides readers through each book    ","English",22.6,16.95,"331.7","24 pp.",{"$f":"Table1[[#This Row],['# Books]]*Table1[[#This Row],[QTY]]","v":0},{"$f":"Table1[[#This Row],[QTY]]*Table1[[#This Row],[S&L Price]]","v":0}]
[null,null,37,null,"People Around Town",1,"Meet the Fireman","Library Bound Book","978-1-4339-7328-4",2013,"August 2012","Library","7.625 X 7.125","Author","Joyce Jeffries",0.9,0.5,3,4,"C","240L","Grade K","Grade K - 2","A fireman works very hard to keep people safe, and early learners discover for themselves what the life of a firefighter is really like. Through the use of accessible text, readers take an exciting trip through a fire station and are introduced to the equipment firemen use to put out fires and save lives. A picture glossary helps beginning readers strengthen their vocabulary skills, and vibrant photographs show firemen working hard in a variety of thrilling situations.","English",22.6,16.95,"363.37","24 pp.",{"$f":"Table1[[#This Row],['# Books]]*Table1[[#This Row],[QTY]]","v":0},{"$f":"Table1[[#This Row],[QTY]]*Table1[[#This Row],[S&L Price]]","v":0}]
[null,null,37,null,"People Around Town",1,"Meet the Fireman","eBook","978-1-4339-7331-4",2013,"August 2012",null,null,"Author","Joyce Jeffries",0.9,0.5,3,4,"C","240L","Grade K","Grade K - 2","A fireman works very hard to keep people safe, and early learners discover for themselves what the life of a firefighter is really like. Through the use of accessible text, readers take an exciting trip through a fire station and are introduced to the equipment firemen use to put out fires and save lives. A picture glossary helps beginning readers strengthen their vocabulary skills, and vibrant photographs show firemen working hard in a variety of thrilling situations.","English",22.6,16.95,"363.37","24 pp.",{"$f":"Table1[[#This Row],['# Books]]*Table1[[#This Row],[QTY]]","v":0},{"$f":"Table1[[#This Row],[QTY]]*Table1[[#This Row],[S&L Price]]","v":0}]
[null,null,37,null,"People Around Town",1,"Meet the Fireman","Interactive eBook","978-1-4339-7953-8",2013,"August 2012",null,null,"Author","Joyce Jeffries",0.9,0.5,3,4,"C",null,"Grade K","Grade K - 2","A fireman works very hard to keep people safe, and early learners discover for themselves what the life of a firefighter is really like. Through the use of accessible text, readers take an exciting trip through a fire station and are introduced to the equipment firemen use to put out fires and save lives. A picture glossary helps beginning readers strengthen their vocabulary skills, and vibrant photographs show firemen working hard in a variety of thrilling situations.","English",33.25,24.95,"363.37","24 pp.",{"$f":"Table1[[#This Row],['# Books]]*Table1[[#This Row],[QTY]]","v":0},{"$f":"Table1[[#This Row],[QTY]]*Table1[[#This Row],[S&L Price]]","v":0}]
[null,null,37,null,"People Around Town",1,"Meet the Librarian","Library Bound Book","978-1-4339-9372-5",2014,"August 2013","Library","7.625 X 7.125","Author","Joyce Jeffries",0.9,0.5,3,4,"C","220L","Grade K","Grade K - 2","Librarians love working with books, but people can find all kinds of things at the library! Beginning readers will learn all about life among the stacks in this engaging first concepts book. Readers discover how a library is organized and what kinds of things people can borrow from the library. They’ll also find out where the name “librarian” comes from and learn all about lending with the help of full-color photographs and accessible text. A picture glossary helps reinforce concepts and vocabulary with colorful photographs, while strong picture-text correlation aids in reading comprehension.    • High-interest topic engages young readers • Strong picture-text correlation aids in comprehension • Reading level supports beginning readers • Picture glossary helps develop vocabulary skills • Comprehendible index guides readers through each book    ","English",22.6,16.95,"371.425","24 pp.",{"$f":"Table1[[#This Row],['# Books]]*Table1[[#This Row],[QTY]]","v":0},{"$f":"Table1[[#This Row],[QTY]]*Table1[[#This Row],[S&L Price]]","v":0}]
[null,null,37,null,"People Around Town",1,"Meet the Librarian","eBook","978-1-4339-9375-6",2014,"August 2013",null,null,"Author","Joyce Jeffries",0.9,0.5,3,4,"C","220L","Grade K","Grade K - 2","Librarians love working with books, but people can find all kinds of things at the library! Beginning readers will learn all about life among the stacks in this engaging first concepts book. Readers discover how a library is organized and what kinds of things people can borrow from the library. They’ll also find out where the name “librarian” comes from and learn all about lending with the help of full-color photographs and accessible text. A picture glossary helps reinforce concepts and vocabulary with colorful photographs, while strong picture-text correlation aids in reading comprehension.    • High-interest topic engages young readers • Strong picture-text correlation aids in comprehension • Reading level supports beginning readers • Picture glossary helps develop vocabulary skills • Comprehendible index guides readers through each book    ","English",22.6,16.95,"371.425","24 pp.",{"$f":"Table1[[#This Row],['# Books]]*Table1[[#This Row],[QTY]]","v":0},{"$f":"Table1[[#This Row],[QTY]]*Table1[[#This Row],[S&L Price]]","v":0}]
[null,null,37,null,"People Around Town",1,"Meet the Mayor","Library Bound Book","978-1-4339-9377-0",2014,"August 2013","Library","7.625 X 7.125","Author","Joyce Jeffries",0.9,0.5,3,4,"C",null,"Grade K","Grade K - 2","Every mayor is different, but they all want to help make towns and cities better places to live! Beginning readers learn what mayors can do to help everyday citizens with the help of full-color photographs and accessible text. They’ll discover how mayors help make laws, raise money for their towns and cities, and keep citizens safe. Strong picture-text correlation aids in reading comprehension, and a picture glossary reinforces vocabulary and concepts related to these important community leaders.    • High-interest topic engages young readers • Strong picture-text correlation aids in comprehension • Reading level supports beginning readers • Picture glossary helps develop vocabulary skills • Comprehendible index guides readers through each book  ","English",22.6,16.95,"352.23","24 pp.",{"$f":"Table1[[#This Row],['# Books]]*Table1[[#This Row],[QTY]]","v":0},{"$f":"Table1[[#This Row],[QTY]]*Table1[[#This Row],[S&L Price]]","v":0}]
[null,null,37,null,"People Around Town",1,"Meet the Mayor","eBook","978-1-4339-9380-0",2014,"August 2013",null,null,"Author","Joyce Jeffries",0.9,0.5,3,4,"C",null,"Grade K","Grade K - 2","Every mayor is different, but they all want to help make towns and cities better places to live! Beginning readers learn what mayors can do to help everyday citizens with the help of full-color photographs and accessible text. They’ll discover how mayors help make laws, raise money for their towns and cities, and keep citizens safe. Strong picture-text correlation aids in reading comprehension, and a picture glossary reinforces vocabulary and concepts related to these important community leaders.    • High-interest topic engages young readers • Strong picture-text correlation aids in comprehension • Reading level supports beginning readers • Picture glossary helps develop vocabulary skills • Comprehendible index guides readers through each book  ","English",22.6,16.95,"352.23","24 pp.",{"$f":"Table1[[#This Row],['# Books]]*Table1[[#This Row],[QTY]]","v":0},{"$f":"Table1[[#This Row],[QTY]]*Table1[[#This Row],[S&L Price]]","v":0}]
[null,null,37,null,"People Around Town",1,"Meet the Nurse","Library Bound Book","978-1-4339-7332-1",2013,"August 2012","Library","7.625 X 7.125","Author","Joyce Jeffries",0.9,0.5,3,4,"C","140L","Grade K","Grade K - 2","Beginning readers discover the many ways nurses work to help people stay healthy. Nurses work with doctors and on their own in diverse environments. Achievable content introduces readers to some of the important tools nurses use every day. Easy-to-follow text and a helpful picture glossary aid in the retention of fun facts about nurses and the development of strong vocabulary skills. Colorful photographs provide young readers with a detailed look at nurses and the valuable work they do.","English",22.6,16.95,"610.73","24 pp.",{"$f":"Table1[[#This Row],['# Books]]*Table1[[#This Row],[QTY]]","v":0},{"$f":"Table1[[#This Row],[QTY]]*Table1[[#This Row],[S&L Price]]","v":0}]
[null,null,37,null,"People Around Town",1,"Meet the Nurse","eBook","978-1-4339-7335-2",2013,"August 2012",null,null,"Author","Joyce Jeffries",0.9,0.5,3,4,"C","140L","Grade K","Grade K - 2","Beginning readers discover the many ways nurses work to help people stay healthy. Nurses work with doctors and on their own in diverse environments. Achievable content introduces readers to some of the important tools nurses use every day. Easy-to-follow text and a helpful picture glossary aid in the retention of fun facts about nurses and the development of strong vocabulary skills. Colorful photographs provide young readers with a detailed look at nurses and the valuable work they do.","English",22.6,16.95,"610.73","24 pp.",{"$f":"Table1[[#This Row],['# Books]]*Table1[[#This Row],[QTY]]","v":0},{"$f":"Table1[[#This Row],[QTY]]*Table1[[#This Row],[S&L Price]]","v":0}]
[null,null,37,null,"People Around Town",1,"Meet the Nurse","Interactive eBook","978-1-4339-7955-2",2013,"August 2012",null,null,"Author","Joyce Jeffries",0.9,0.5,3,4,"C",null,"Grade K","Grade K - 2","Beginning readers discover the many ways nurses work to help people stay healthy. Nurses work with doctors and on their own in diverse environments. Achievable content introduces readers to some of the important tools nurses use every day. Easy-to-follow text and a helpful picture glossary aid in the retention of fun facts about nurses and the development of strong vocabulary skills. Colorful photographs provide young readers with a detailed look at nurses and the valuable work they do.","English",33.25,24.95,"610.73","24 pp.",{"$f":"Table1[[#This Row],['# Books]]*Table1[[#This Row],[QTY]]","v":0},{"$f":"Table1[[#This Row],[QTY]]*Table1[[#This Row],[S&L Price]]","v":0}]
[null,null,37,null,"People Around Town",1,"Meet the Pilot","Library Bound Book","978-1-4339-9382-4",2014,"August 2013","Library","7.625 X 7.125","Author","Joyce Jeffries",0.9,0.5,3,4,"C","150L","Grade K","Grade K - 2","Not many people know that the first pilots took to the skies in hot air balloons. Today, professional pilots use fast jets and helicopters to get from place to place in style. Through the use of accessible text and colorful photographs, early readers will learn all about the people who soar high above their towns and cities every day, and will have fun exploring the cockpit of the world’s fastest vehicles. A picture glossary helps reinforce essential vocabulary related to these high-flying community helpers. • High-interest topic engages young readers • Strong picture-text correlation aids in comprehension • Reading level supports beginning readers • Picture glossary helps develop vocabulary skills • Comprehendible index guides readers through each book","English",22.6,16.95,"629.13","24 pp.",{"$f":"Table1[[#This Row],['# Books]]*Table1[[#This Row],[QTY]]","v":0},{"$f":"Table1[[#This Row],[QTY]]*Table1[[#This Row],[S&L Price]]","v":0}]
[null,null,37,null,"People Around Town",1,"Meet the Pilot","eBook","978-1-4339-9385-5",2014,"August 2013",null,null,"Author","Joyce Jeffries",0.9,0.5,3,4,"C","150L","Grade K","Grade K - 2","Not many people know that the first pilots took to the skies in hot air balloons. Today, professional pilots use fast jets and helicopters to get from place to place in style. Through the use of accessible text and colorful photographs, early readers will learn all about the people who soar high above their towns and cities every day, and will have fun exploring the cockpit of the world’s fastest vehicles. A picture glossary helps reinforce essential vocabulary related to these high-flying community helpers. • High-interest topic engages young readers • Strong picture-text correlation aids in comprehension • Reading level supports beginning readers • Picture glossary helps develop vocabulary skills • Comprehendible index guides readers through each book","English",22.6,16.95,"629.13","24 pp.",{"$f":"Table1[[#This Row],['# Books]]*Table1[[#This Row],[QTY]]","v":0},{"$f":"Table1[[#This Row],[QTY]]*Table1[[#This Row],[S&L Price]]","v":0}]
[null,null,37,null,"People Around Town",1,"Meet the Policeman","Library Bound Book","978-1-4339-7336-9",2013,"August 2012","Library","7.625 X 7.125","Author","Joyce Jeffries",0.9,0.5,3,4,"C","230L","Grade K","Grade K - 2","Beginning readers discover what a day at work is like for a policeman and many more exciting and educational facts of a police officer’s duties. Readers get a detailed look at the way policemen work to keep people safe—including the special cars they drive and the special animals they occasionally work with. Through the use of achievable text, readers learn fun facts about these important community workers. A detailed picture glossary strengthens vocabulary skills, and bright photographs make this a thrilling and educational reading experience for learners.","English",22.6,16.95,"363.2","24 pp.",{"$f":"Table1[[#This Row],['# Books]]*Table1[[#This Row],[QTY]]","v":0},{"$f":"Table1[[#This Row],[QTY]]*Table1[[#This Row],[S&L Price]]","v":0}]
[null,null,37,null,"People Around Town",1,"Meet the Policeman","eBook","978-1-4339-7339-0",2013,"August 2012",null,null,"Author","Joyce Jeffries",0.9,0.5,3,4,"C","230L","Grade K","Grade K - 2","Beginning readers discover what a day at work is like for a policeman and many more exciting and educational facts of a police officer’s duties. Readers get a detailed look at the way policemen work to keep people safe—including the special cars they drive and the special animals they occasionally work with. Through the use of achievable text, readers learn fun facts about these important community workers. A detailed picture glossary strengthens vocabulary skills, and bright photographs make this a thrilling and educational reading experience for learners.","English",22.6,16.95,"363.2","24 pp.",{"$f":"Table1[[#This Row],['# Books]]*Table1[[#This Row],[QTY]]","v":0},{"$f":"Table1[[#This Row],[QTY]]*Table1[[#This Row],[S&L Price]]","v":0}]
[null,null,37,null,"People Around Town",1,"Meet the Policeman","Interactive eBook","978-1-4339-7957-6",2013,"August 2012",null,null,"Author","Joyce Jeffries",0.9,0.5,3,4,"C",null,"Grade K","Grade K - 2","Beginning readers discover what a day at work is like for a policeman and many more exciting and educational facts of a police officer’s duties. Readers get a detailed look at the way policemen work to keep people safe—including the special cars they drive and the special animals they occasionally work with. Through the use of achievable text, readers learn fun facts about these important community workers. A detailed picture glossary strengthens vocabulary skills, and bright photographs make this a thrilling and educational reading experience for learners.","English",33.25,24.95,"363.2","24 pp.",{"$f":"Table1[[#This Row],['# Books]]*Table1[[#This Row],[QTY]]","v":0},{"$f":"Table1[[#This Row],[QTY]]*Table1[[#This Row],[S&L Price]]","v":0}]
[null,null,37,null,"People Around Town",1,"Meet the Teacher","Library Bound Book","978-1-4339-7340-6",2013,"August 2012","Library","7.625 X 7.125","Author","Joyce Jeffries",0.9,0.5,3,4,"C","130L","Grade K","Grade K - 2","A teacher is a familiar figure in the lives of many readers, but readers discover new information about the hard work teachers do every day through achievable content. Beginning readers are introduced to a variety of teachers and the tools they use to help their students learn. Accessible text and a picture glossary allow readers to see for themselves what a teacher’s job is like as they learn fun facts and build a stronger vocabulary with each turn of the page. Colorful photographs show teachers working hard in the classroom.","English",22.6,16.95,"371.1","24 pp.",{"$f":"Table1[[#This Row],['# Books]]*Table1[[#This Row],[QTY]]","v":0},{"$f":"Table1[[#This Row],[QTY]]*Table1[[#This Row],[S&L Price]]","v":0}]
[null,null,37,null,"People Around Town",1,"Meet the Teacher","eBook","978-1-4339-7343-7",2013,"August 2012",null,null,"Author","Joyce Jeffries",0.9,0.5,3,4,"C","130L","Grade K","Grade K - 2","A teacher is a familiar figure in the lives of many readers, but readers discover new information about the hard work teachers do every day through achievable content. Beginning readers are introduced to a variety of teachers and the tools they use to help their students learn. Accessible text and a picture glossary allow readers to see for themselves what a teacher’s job is like as they learn fun facts and build a stronger vocabulary with each turn of the page. Colorful photographs show teachers working hard in the classroom.","English",22.6,16.95,"371.1","24 pp.",{"$f":"Table1[[#This Row],['# Books]]*Table1[[#This Row],[QTY]]","v":0},{"$f":"Table1[[#This Row],[QTY]]*Table1[[#This Row],[S&L Price]]","v":0}]
[null,null,37,null,"People Around Town",1,"Meet the Teacher","Interactive eBook","978-1-4339-7959-0",2013,"August 2012",null,null,"Author","Joyce Jeffries",0.9,0.5,3,4,"C",null,"Grade K","Grade K - 2","A teacher is a familiar figure in the lives of many readers, but readers discover new information about the hard work teachers do every day through achievable content. Beginning readers are introduced to a variety of teachers and the tools they use to help their students learn. Accessible text and a picture glossary allow readers to see for themselves what a teacher’s job is like as they learn fun facts and build a stronger vocabulary with each turn of the page. Colorful photographs show teachers working hard in the classroom.","English",33.25,24.95,"371.1","24 pp.",{"$f":"Table1[[#This Row],['# Books]]*Table1[[#This Row],[QTY]]","v":0},{"$f":"Table1[[#This Row],[QTY]]*Table1[[#This Row],[S&L Price]]","v":0}]
[null,null,37,null,"People Around Town",1,"Meet the Vet","Library Bound Book","978-1-4339-9387-9",2014,"August 2013","Library","7.625 X 7.125","Author","Joyce Jeffries",0.9,0.5,3,4,"C",null,"Grade K","Grade K - 2","When our pets are sick, we take them to the vet! Readers learn all about what these helpful community heroes do each day to make sure our cats and dogs stay safe in this exciting book filled with full-color photographs. Through the use of accessible text, early readers are introduced to many types of vets. From horse vets to small animal vets that take care of cats and dogs, readers explore the lives of the professionals that help take care of our animal family members!   • High-interest topic engages young readers • Strong picture-text correlation aids in comprehension • Reading level supports beginning readers • Picture glossary helps develop vocabulary skills • Comprehendible index guides readers through each book  ","English",22.6,16.95,"636.089","24 pp.",{"$f":"Table1[[#This Row],['# Books]]*Table1[[#This Row],[QTY]]","v":0},{"$f":"Table1[[#This Row],[QTY]]*Table1[[#This Row],[S&L Price]]","v":0}]
[null,null,37,null,"People Around Town",1,"Meet the Vet","eBook","978-1-4339-9390-9",2014,"August 2013",null,null,"Author","Joyce Jeffries",0.9,0.5,3,4,"C",null,"Grade K","Grade K - 2","When our pets are sick, we take them to the vet! Readers learn all about what these helpful community heroes do each day to make sure our cats and dogs stay safe in this exciting book filled with full-color photographs. Through the use of accessible text, early readers are introduced to many types of vets. From horse vets to small animal vets that take care of cats and dogs, readers explore the lives of the professionals that help take care of our animal family members!   • High-interest topic engages young readers • Strong picture-text correlation aids in comprehension • Reading level supports beginning readers • Picture glossary helps develop vocabulary skills • Comprehendible index guides readers through each book  ","English",22.6,16.95,"636.089","24 pp.",{"$f":"Table1[[#This Row],['# Books]]*Table1[[#This Row],[QTY]]","v":0},{"$f":"Table1[[#This Row],[QTY]]*Table1[[#This Row],[S&L Price]]","v":0}]
[null,null,37,null,"When I Grow Up",6,"When I Grow Up","Library Set","978-1-4824-1035-8",2015,"August 2014","Library","7.625 X 7.125",null,"",null,null,null,null,null,null,"Grade K","Grade K - 2","In this series, beginning readers get to dig deep into a variety of jobs and decide what career path to explore. Whether they want to go to the moon, run the country, paint beautiful pictures, or serenade an audience, these titles show what it takes to accomplish your goals. With accessible content suitable for early readers and full-color photographs, readers learn they can be anything they want when they grow up.       • Introduction to careers  • Leveled informational text supports the Common Core standards  • Develops goals for beginning readers  This series published subject to a trademark license with WIGU Publishing, LLC.","English",135.6,101.7,null,"24 pp.",{"$f":"Table1[[#This Row],['# Books]]*Table1[[#This Row],[QTY]]","v":0},{"$f":"Table1[[#This Row],[QTY]]*Table1[[#This Row],[S&L Price]]","v":0}]
[null,null,37,null,"When I Grow Up",1,"I Can Be a Ballerina","Library Bound Book","978-1-4824-0745-7",2015,"August 2014","Library","7.625 X 7.125","Author","Alex Appleby",0.9,0.5,3,null,"C",null,"Grade K","Grade K - 2","Being a ballerina requires lots of hard work and dedication, but early readers learn that you can be anything you want when you grow up. Full-color photographs of a ballerina’s graceful steps provide strong picture-text correlation, and accessible text helps readers establish early reading skills in this dynamic look at the world of ballet. This title published subject to a trademark license with WIGU Publishing, LLC.","English",22.6,16.95,"792.8","24 pp.",{"$f":"Table1[[#This Row],['# Books]]*Table1[[#This Row],[QTY]]","v":0},{"$f":"Table1[[#This Row],[QTY]]*Table1[[#This Row],[S&L Price]]","v":0}]
[null,null,37,null,"When I Grow Up",1,"I Can Be a Ballerina","eBook","978-1-4824-0747-1",2015,"August 2014",null,null,"Author","Alex Appleby",0.9,0.5,3,null,"C",null,"Grade K","Grade K - 2","Being a ballerina requires lots of hard work and dedication, but early readers learn that you can be anything you want when you grow up. Full-color photographs of a ballerina’s graceful steps provide strong picture-text correlation, and accessible text helps readers establish early reading skills in this dynamic look at the world of ballet. This title published subject to a trademark license with WIGU Publishing, LLC.","English",22.6,16.95,"792.8","24 pp.",{"$f":"Table1[[#This Row],['# Books]]*Table1[[#This Row],[QTY]]","v":0},{"$f":"Table1[[#This Row],[QTY]]*Table1[[#This Row],[S&L Price]]","v":0}]
[null,null,37,null,"When I Grow Up",1,"I Can Be a Football Player","Library Bound Book","978-1-4824-0748-8",2015,"August 2014","Library","7.625 X 7.125","Author","Alex Appleby",0.9,0.5,3,null,"C",null,"Grade K","Grade K - 2","It takes a lot of hard work and years of practice to become a professional football player. Lots of people dream of getting drafted, but early readers learn that they can do anything if they dream big enough. From backyard football games with friends to football practices, readers learn how to pursue their football dreams. Full-color photographs provide strong picture-text correlation, and accessible text lays basic literacy skills and a foundation for future reading success. This title published subject to a trademark license with WIGU Publishing, LLC.","English",22.6,16.95,"796.33","24 pp.",{"$f":"Table1[[#This Row],['# Books]]*Table1[[#This Row],[QTY]]","v":0},{"$f":"Table1[[#This Row],[QTY]]*Table1[[#This Row],[S&L Price]]","v":0}]
[null,null,37,null,"When I Grow Up",1,"I Can Be a Football Player","eBook","978-1-4824-0750-1",2015,"August 2014",null,null,"Author","Alex Appleby",0.9,0.5,3,null,"C",null,"Grade K","Grade K - 2","It takes a lot of hard work and years of practice to become a professional football player. Lots of people dream of getting drafted, but early readers learn that they can do anything if they dream big enough. From backyard football games with friends to football practices, readers learn how to pursue their football dreams. Full-color photographs provide strong picture-text correlation, and accessible text lays basic literacy skills and a foundation for future reading success. This title published subject to a trademark license with WIGU Publishing, LLC.","English",22.6,16.95,"796.33","24 pp.",{"$f":"Table1[[#This Row],['# Books]]*Table1[[#This Row],[QTY]]","v":0},{"$f":"Table1[[#This Row],[QTY]]*Table1[[#This Row],[S&L Price]]","v":0}]
[null,null,37,null,"When I Grow Up",1,"I Can Be a Singer","Library Bound Book","978-1-4824-0757-0",2015,"August 2014","Library","7.625 X 7.125","Author","Alex Appleby",0.8,0.5,3,null,"C",null,"Grade K","Grade K - 2","Many people dream of singing in front of millions of people. In this book, early readers see they can stop singing in their showers and can bring their voice to the stage. With strong picture-text correlation and an innovative approach to learning basic vocabulary and literacy skills, readers learn that they can be anything they want when they grow up. This title published subject to a trademark license with WIGU Publishing, LLC.","English",22.6,16.95,"784","24 pp.",{"$f":"Table1[[#This Row],['# Books]]*Table1[[#This Row],[QTY]]","v":0},{"$f":"Table1[[#This Row],[QTY]]*Table1[[#This Row],[S&L Price]]","v":0}]
[null,null,37,null,"When I Grow Up",1,"I Can Be a Singer","eBook","978-1-4824-0759-4",2015,"August 2014",null,null,"Author","Alex Appleby",0.8,0.5,3,null,"C",null,"Grade K","Grade K - 2","Many people dream of singing in front of millions of people. In this book, early readers see they can stop singing in their showers and can bring their voice to the stage. With strong picture-text correlation and an innovative approach to learning basic vocabulary and literacy skills, readers learn that they can be anything they want when they grow up. This title published subject to a trademark license with WIGU Publishing, LLC.","English",22.6,16.95,"784","24 pp.",{"$f":"Table1[[#This Row],['# Books]]*Table1[[#This Row],[QTY]]","v":0},{"$f":"Table1[[#This Row],[QTY]]*Table1[[#This Row],[S&L Price]]","v":0}]
[null,null,37,null,"When I Grow Up",1,"I Can Be an Artist","Library Bound Book","978-1-4824-0751-8",2015,"August 2014","Library","7.625 X 7.125","Author","Alex Appleby",0.9,0.5,3,null,"C",null,"Grade K","Grade K - 2","Lots of students doodle in the margins of their schoolwork, but the truly creative are destined for a career in the arts. In this exciting book, early readers learn how make a career out of their artistic talents. Whether they like to draw, paint, or sculpt, readers explore the various arts with the help of vivid full-color photographs. Strong picture-text correlation and accessible text shows readers how they can help make the world a beautiful place. This title published subject to a trademark license with WIGU Publishing, LLC.","English",22.6,16.95,"709","24 pp.",{"$f":"Table1[[#This Row],['# Books]]*Table1[[#This Row],[QTY]]","v":0},{"$f":"Table1[[#This Row],[QTY]]*Table1[[#This Row],[S&L Price]]","v":0}]
[null,null,37,null,"When I Grow Up",1,"I Can Be an Artist","eBook","978-1-4824-0753-2",2015,"August 2014",null,null,"Author","Alex Appleby",0.9,0.5,3,null,"C",null,"Grade K","Grade K - 2","Lots of students doodle in the margins of their schoolwork, but the truly creative are destined for a career in the arts. In this exciting book, early readers learn how make a career out of their artistic talents. Whether they like to draw, paint, or sculpt, readers explore the various arts with the help of vivid full-color photographs. Strong picture-text correlation and accessible text shows readers how they can help make the world a beautiful place. This title published subject to a trademark license with WIGU Publishing, LLC.","English",22.6,16.95,"709","24 pp.",{"$f":"Table1[[#This Row],['# Books]]*Table1[[#This Row],[QTY]]","v":0},{"$f":"Table1[[#This Row],[QTY]]*Table1[[#This Row],[S&L Price]]","v":0}]
[null,null,37,null,"When I Grow Up",1,"I Can Be an Astronaut","Library Bound Book","978-1-4824-0754-9",2015,"August 2014","Library","7.625 X 7.125","Author","Alex Appleby",0.9,0.5,3,null,"C",null,"Grade K","Grade K - 2","A dozen people have set foot on the moon, and many people dream of being the next person to see what Earth looks like from space. Beginning readers learn what it takes to make it to space as an astronaut, conducting training missions and taking flight to study the universe among the stars. With great full-color pictures to provide strong picture-text correlation and enhance reading skills, this book is sure to be a hit with readers looking for an out-of-this-world career. This title published subject to a trademark license with WIGU Publishing, LLC.","English",22.6,16.95,"629.45","24 pp.",{"$f":"Table1[[#This Row],['# Books]]*Table1[[#This Row],[QTY]]","v":0},{"$f":"Table1[[#This Row],[QTY]]*Table1[[#This Row],[S&L Price]]","v":0}]
[null,null,37,null,"When I Grow Up",1,"I Can Be an Astronaut","eBook","978-1-4824-0756-3",2015,"August 2014",null,null,"Author","Alex Appleby",0.9,0.5,3,null,"C",null,"Grade K","Grade K - 2","A dozen people have set foot on the moon, and many people dream of being the next person to see what Earth looks like from space. Beginning readers learn what it takes to make it to space as an astronaut, conducting training missions and taking flight to study the universe among the stars. With great full-color pictures to provide strong picture-text correlation and enhance reading skills, this book is sure to be a hit with readers looking for an out-of-this-world career. This title published subject to a trademark license with WIGU Publishing, LLC.","English",22.6,16.95,"629.45","24 pp.",{"$f":"Table1[[#This Row],['# Books]]*Table1[[#This Row],[QTY]]","v":0},{"$f":"Table1[[#This Row],[QTY]]*Table1[[#This Row],[S&L Price]]","v":0}]
[null,null,37,null,"When I Grow Up",1,"I Can Be the President","Library Bound Book","978-1-4824-1030-3",2015,"August 2014","Library","7.625 X 7.125","Author","Alex Appleby",0.9,0.5,3,null,"C",null,"Grade K","Grade K - 2","Being the president isn’t easy, and neither is getting elected! For young readers hoping for a future in politics, this exciting book takes them on a journey all the way to the White House. Through accessible text and great full-color photographs showing life inside the White House, readers will get a great look at what the president does each day. This title published subject to a trademark license with WIGU Publishing, LLC.","English",22.6,16.95,"352.23","24 pp.",{"$f":"Table1[[#This Row],['# Books]]*Table1[[#This Row],[QTY]]","v":0},{"$f":"Table1[[#This Row],[QTY]]*Table1[[#This Row],[S&L Price]]","v":0}]
[null,null,37,null,"When I Grow Up",1,"I Can Be the President","eBook","978-1-4824-1033-4",2015,"August 2014",null,null,"Author","Alex Appleby",0.9,0.5,3,null,"C",null,"Grade K","Grade K - 2","Being the president isn’t easy, and neither is getting elected! For young readers hoping for a future in politics, this exciting book takes them on a journey all the way to the White House. Through accessible text and great full-color photographs showing life inside the White House, readers will get a great look at what the president does each day. This title published subject to a trademark license with WIGU Publishing, LLC.","English",22.6,16.95,"352.23","24 pp.",{"$f":"Table1[[#This Row],['# Books]]*Table1[[#This Row],[QTY]]","v":0},{"$f":"Table1[[#This Row],[QTY]]*Table1[[#This Row],[S&L Price]]","v":0}]
[null,null,38,null,"Let's Get a Pet!",6,"Let's Get a Pet!","Library Set","978-1-5382-0200-5",2018,"August 2017","Library","7.000 X 7.000",null,"",null,null,null,null,null,null,"Grade 1 - 2","Grade 1 - 3","Having a pet is an exciting adventure! Young readers can learn about responsibility, science, and nature by having an animal in the home, or even have their curiosity sparked by a pet in a friend or family member’s home! This series will help readers understand and connect to their new little friend, whatever the kind—bird, bunny, cat, dog, fish, or hamster! They’ll also learn the essentials of pet care and the many rewards of pet ownership. Full-color photographs give life to the age-appropriate content for any young pet lover.","English",135.6,101.7,null,"24 pp.",{"$f":"Table1[[#This Row],['# Books]]*Table1[[#This Row],[QTY]]","v":0},{"$f":"Table1[[#This Row],[QTY]]*Table1[[#This Row],[S&L Price]]","v":0}]
[null,null,38,null,"Let's Get a Pet!",1,"My First Bird","Library Bound Book","978-1-4824-6439-9",2018,"August 2017","Library","7.000 X 7.000","Author","Joan Stoltman",null,null,null,null,"H",null,"Grade 1 - 2","Grade 1 - 3","Getting a pet for the first time is so much fun, but also means new responsibilities. Birds are a popular pet to choose, especially if parents have prior experience. But how does a young reader learn bird care? With the help of this practical, helpful book! This volume provides everything a new bird owner needs to care for and bond with their new feathered friend! From bathing to whistling and everything in between, all the needs of a bird are communicated to young readers through fun facts, colorful graphic organizers, and concise step-by-step instructions. All that’s missing now is the bird!","English",22.6,16.95,"636.6’8--dc23","24 pp.",{"$f":"Table1[[#This Row],['# Books]]*Table1[[#This Row],[QTY]]","v":0},{"$f":"Table1[[#This Row],[QTY]]*Table1[[#This Row],[S&L Price]]","v":0}]
[null,null,38,null,"Let's Get a Pet!",1,"My First Bird","eBook","978-1-4824-6440-5",2018,"August 2017",null,null,"Author","Joan Stoltman",null,null,null,null,"H",null,"Grade 1 - 2","Grade 1 - 3","Getting a pet for the first time is so much fun, but also means new responsibilities. Birds are a popular pet to choose, especially if parents have prior experience. But how does a young reader learn bird care? With the help of this practical, helpful book! This volume provides everything a new bird owner needs to care for and bond with their new feathered friend! From bathing to whistling and everything in between, all the needs of a bird are communicated to young readers through fun facts, colorful graphic organizers, and concise step-by-step instructions. All that’s missing now is the bird!","English",22.6,16.95,"636.6’8--dc23","24 pp.",{"$f":"Table1[[#This Row],['# Books]]*Table1[[#This Row],[QTY]]","v":0},{"$f":"Table1[[#This Row],[QTY]]*Table1[[#This Row],[S&L Price]]","v":0}]
[null,null,38,null,"Let's Get a Pet!",1,"My First Bunny","Library Bound Book","978-1-4824-6443-6",2018,"August 2017","Library","7.000 X 7.000","Author","Joan Stoltman",null,null,null,null,"H",null,"Grade 1 - 2","Grade 1 - 3","Bunnies are a great first pet! This book teaches young, first-time pet owners how to care for and bond with their new furry, hopping friend! It details in simple, clean text exactly what a young reader should do to help their bunny friend thrive in a new home, including information about food and treats, activity and sleep, cage environment and cleanup! From the amusing—such as popular names for pet rabbits—to the useful—such as safety around rabbits— this book provides all the essential rabbit care information in one concise, engaging book!","English",22.6,16.95,"636.9’322--dc23","24 pp.",{"$f":"Table1[[#This Row],['# Books]]*Table1[[#This Row],[QTY]]","v":0},{"$f":"Table1[[#This Row],[QTY]]*Table1[[#This Row],[S&L Price]]","v":0}]
[null,null,38,null,"Let's Get a Pet!",1,"My First Bunny","eBook","978-1-4824-6444-3",2018,"August 2017",null,null,"Author","Joan Stoltman",null,null,null,null,"H",null,"Grade 1 - 2","Grade 1 - 3","Bunnies are a great first pet! This book teaches young, first-time pet owners how to care for and bond with their new furry, hopping friend! It details in simple, clean text exactly what a young reader should do to help their bunny friend thrive in a new home, including information about food and treats, activity and sleep, cage environment and cleanup! From the amusing—such as popular names for pet rabbits—to the useful—such as safety around rabbits— this book provides all the essential rabbit care information in one concise, engaging book!","English",22.6,16.95,"636.9’322--dc23","24 pp.",{"$f":"Table1[[#This Row],['# Books]]*Table1[[#This Row],[QTY]]","v":0},{"$f":"Table1[[#This Row],[QTY]]*Table1[[#This Row],[S&L Price]]","v":0}]
[null,null,38,null,"Let's Get a Pet!",1,"My First Cat","Library Bound Book","978-1-4824-6447-4",2018,"August 2017","Library","7.000 X 7.000","Author","Joan Stoltman",null,null,null,null,"H",null,"Grade 1 - 2","Grade 1 - 3","Cats are commonly one of the first animals young readers will encounter in their lives, often in their own homes! Learning to care for, live with, and understand the needs of a cat requires guidance, and that’s where this essential book comes in! Easily understood, clear instructions and explanations of their food, sleep, play, and other needs are included in this book in practical, age-appropriate language. A full-color guide to popular cat breeds is included, as well as a fun and funny list of popular cat names!","English",22.6,16.95,"636.8--dc23","24 pp.",{"$f":"Table1[[#This Row],['# Books]]*Table1[[#This Row],[QTY]]","v":0},{"$f":"Table1[[#This Row],[QTY]]*Table1[[#This Row],[S&L Price]]","v":0}]
[null,null,38,null,"Let's Get a Pet!",1,"My First Cat","eBook","978-1-4824-6448-1",2018,"August 2017",null,null,"Author","Joan Stoltman",null,null,null,null,"H",null,"Grade 1 - 2","Grade 1 - 3","Cats are commonly one of the first animals young readers will encounter in their lives, often in their own homes! Learning to care for, live with, and understand the needs of a cat requires guidance, and that’s where this essential book comes in! Easily understood, clear instructions and explanations of their food, sleep, play, and other needs are included in this book in practical, age-appropriate language. A full-color guide to popular cat breeds is included, as well as a fun and funny list of popular cat names!","English",22.6,16.95,"636.8--dc23","24 pp.",{"$f":"Table1[[#This Row],['# Books]]*Table1[[#This Row],[QTY]]","v":0},{"$f":"Table1[[#This Row],[QTY]]*Table1[[#This Row],[S&L Price]]","v":0}]
[null,null,38,null,"Let's Get a Pet!",1,"My First Dog","Library Bound Book","978-1-4824-6451-1",2018,"August 2017","Library","7.000 X 7.000","Author","Joan Stoltman",null,null,null,null,"H",null,"Grade 1 - 2","Grade 1 - 3","According to the ASPCA, 37 to 47 percent of all US households have a dog, so there couldn’t be a more topical pet to learn about than dogs. This book is an essential read for any reader preparing to bring a dog into their home, connecting them in new ways to their pet through both understanding the dog’s needs and their own, new responsibilities. Full-color photographs and graphic organizers are paired with concise, practical information about caring for all a dog’s needs from morning to night, and birth to old age. The book includes a chart of popular dog breeds from largest to smallest and accompanying text on popular names for dogs!","English",22.6,16.95,"636.7--dc23","24 pp.",{"$f":"Table1[[#This Row],['# Books]]*Table1[[#This Row],[QTY]]","v":0},{"$f":"Table1[[#This Row],[QTY]]*Table1[[#This Row],[S&L Price]]","v":0}]
[null,null,38,null,"Let's Get a Pet!",1,"My First Dog","eBook","978-1-4824-6452-8",2018,"August 2017",null,null,"Author","Joan Stoltman",null,null,null,null,"H",null,"Grade 1 - 2","Grade 1 - 3","According to the ASPCA, 37 to 47 percent of all US households have a dog, so there couldn’t be a more topical pet to learn about than dogs. This book is an essential read for any reader preparing to bring a dog into their home, connecting them in new ways to their pet through both understanding the dog’s needs and their own, new responsibilities. Full-color photographs and graphic organizers are paired with concise, practical information about caring for all a dog’s needs from morning to night, and birth to old age. The book includes a chart of popular dog breeds from largest to smallest and accompanying text on popular names for dogs!","English",22.6,16.95,"636.7--dc23","24 pp.",{"$f":"Table1[[#This Row],['# Books]]*Table1[[#This Row],[QTY]]","v":0},{"$f":"Table1[[#This Row],[QTY]]*Table1[[#This Row],[S&L Price]]","v":0}]
[null,null,38,null,"Let's Get a Pet!",1,"My First Fish","Library Bound Book","978-1-4824-6455-9",2018,"August 2017","Library","7.000 X 7.000","Author","Joan Stoltman",null,null,null,null,"H",null,"Grade 1 - 2","Grade 1 - 3","Several recent animated movies have sparked fervor in young readers to have an aquarium in their own home. But maintaining a fish tank ecosystem isn’t a walk in the park. This book can help! Age-appropriate information on what fish need abounds in this practical yet engaging book, a valuable part of any library collection. Advice and instructions—on everything from cleaning the tank to feeding schedules to choosing a name—fill the pages of this colorful book that every young fish lover is sure to enjoy!","English",22.6,16.95,"639.34--dc23","24 pp.",{"$f":"Table1[[#This Row],['# Books]]*Table1[[#This Row],[QTY]]","v":0},{"$f":"Table1[[#This Row],[QTY]]*Table1[[#This Row],[S&L Price]]","v":0}]
[null,null,38,null,"Let's Get a Pet!",1,"My First Fish","eBook","978-1-4824-6456-6",2018,"August 2017",null,null,"Author","Joan Stoltman",null,null,null,null,"H",null,"Grade 1 - 2","Grade 1 - 3","Several recent animated movies have sparked fervor in young readers to have an aquarium in their own home. But maintaining a fish tank ecosystem isn’t a walk in the park. This book can help! Age-appropriate information on what fish need abounds in this practical yet engaging book, a valuable part of any library collection. Advice and instructions—on everything from cleaning the tank to feeding schedules to choosing a name—fill the pages of this colorful book that every young fish lover is sure to enjoy!","English",22.6,16.95,"639.34--dc23","24 pp.",{"$f":"Table1[[#This Row],['# Books]]*Table1[[#This Row],[QTY]]","v":0},{"$f":"Table1[[#This Row],[QTY]]*Table1[[#This Row],[S&L Price]]","v":0}]
[null,null,38,null,"Let's Get a Pet!",1,"My First Hamster","Library Bound Book","978-1-4824-6459-7",2018,"August 2017","Library","7.000 X 7.000","Author","Joan Stoltman",null,null,null,null,"H",null,"Grade 1 - 2","Grade 1 - 3","Having a classroom hamster is one thing, but having one at home as a pet requires young readers to have a more mature understanding of the rodent’s needs. This book provides information perfect to fill that gap. An essential guide for any library, this book gives concise, easy explanations of the needs of a hamster and how readers can meet them. Full-color photographs are paired with understandable, age-appropriate information and instructions on how to care for this new furry friend, including explanations of how it sleeps, eats, plays, and more!","English",22.6,16.95,"636.935--dc23","24 pp.",{"$f":"Table1[[#This Row],['# Books]]*Table1[[#This Row],[QTY]]","v":0},{"$f":"Table1[[#This Row],[QTY]]*Table1[[#This Row],[S&L Price]]","v":0}]
[null,null,38,null,"Let's Get a Pet!",1,"My First Hamster","eBook","978-1-4824-6460-3",2018,"August 2017",null,null,"Author","Joan Stoltman",null,null,null,null,"H",null,"Grade 1 - 2","Grade 1 - 3","Having a classroom hamster is one thing, but having one at home as a pet requires young readers to have a more mature understanding of the rodent’s needs. This book provides information perfect to fill that gap. An essential guide for any library, this book gives concise, easy explanations of the needs of a hamster and how readers can meet them. Full-color photographs are paired with understandable, age-appropriate information and instructions on how to care for this new furry friend, including explanations of how it sleeps, eats, plays, and more!","English",22.6,16.95,"636.935--dc23","24 pp.",{"$f":"Table1[[#This Row],['# Books]]*Table1[[#This Row],[QTY]]","v":0},{"$f":"Table1[[#This Row],[QTY]]*Table1[[#This Row],[S&L Price]]","v":0}]
[null,null,39,null,"World's Longest-Living Animals",6,"World's Longest-Living Animals","Library Set","978-1-4824-5891-6",2017,"January 2017","Library","7.000 X 7.000",null,"",null,null,null,null,null,null,"Grade 1 - 2","Grade 1 - 3","Some animals have very short lives, but many live for decades. Some amazing creatures can even live for centuries! Bowhead whales, for example, often live more than 200 years, and some parrots can outlive their human owners! Some surprising animals live incredible long lives, and this series features some of the amazingly old creatures that make young readers marvel. With fun facts and handy charts, early readers will experience the science and fun of century-old tortoises and elephants old enough to be their great-grandparents!","English",135.6,101.7,null,"24 pp.",{"$f":"Table1[[#This Row],['# Books]]*Table1[[#This Row],[QTY]]","v":0},{"$f":"Table1[[#This Row],[QTY]]*Table1[[#This Row],[S&L Price]]","v":0}]
[null,null,39,null,"World's Longest-Living Animals",1,"100-Year-Old Tortoises","Library Bound Book","978-1-4824-5622-6",2017,"January 2017","Library","7.000 X 7.000","Author","Topper Evans",3.3,0.5,null,null,"H",null,"Grade 1 - 2","Grade 1 - 3","Turtles can live for a long time, but tortoises can live for even longer! These slow-moving animals can live for hundreds of years in many places on Earth, from Galapagos tortoises outliving the explorers who discovered them to Seychelles giant tortoises that may be nearly 200 years old! With the help of full-color photographs, readers learn about the many different tortoises that have life-spans longer than most humans’ and how their bodies are built to live long, leisurely lives. They also explore how zoos take care of these special animals to ensure their lives are not cut short in captivity.","English",22.6,16.95,"597.92’4--dc23","24 pp.",{"$f":"Table1[[#This Row],['# Books]]*Table1[[#This Row],[QTY]]","v":0},{"$f":"Table1[[#This Row],[QTY]]*Table1[[#This Row],[S&L Price]]","v":0}]
[null,null,39,null,"World's Longest-Living Animals",1,"100-Year-Old Tortoises","eBook","978-1-4824-5623-3",2017,"January 2017",null,null,"Author","Topper Evans",null,null,null,null,"H",null,"Grade 1 - 2","Grade 1 - 3","Turtles can live for a long time, but tortoises can live for even longer! These slow-moving animals can live for hundreds of years in many places on Earth, from Galapagos tortoises outliving the explorers who discovered them to Seychelles giant tortoises that may be nearly 200 years old! With the help of full-color photographs, readers learn about the many different tortoises that have life-spans longer than most humans’ and how their bodies are built to live long, leisurely lives. They also explore how zoos take care of these special animals to ensure their lives are not cut short in captivity.","English",22.6,16.95,"597.92’4--dc23","24 pp.",{"$f":"Table1[[#This Row],['# Books]]*Table1[[#This Row],[QTY]]","v":0},{"$f":"Table1[[#This Row],[QTY]]*Table1[[#This Row],[S&L Price]]","v":0}]
[null,null,39,null,"World's Longest-Living Animals",1,"100-Year-Old Tuataras!","Library Bound Book","978-1-4824-5626-4",2017,"January 2017","Library","7.000 X 7.000","Author","Topper Evans",3.7,0.5,null,null,"H",null,"Grade 1 - 2","Grade 1 - 3","Tuataras are special animals because they’re old in many ways. They’re part of an order of reptiles that first appeared more than 200 million years ago! They can also live more than 100 years! Readers fascinated by these odd animals will love learning why they’re only found in New Zealand and how they adapted characteristics of many different kinds of animals, including amphibians, reptiles, and even fish! With full-color photographs showing off these features in great detail, this book is sure to impress young readers.","English",22.6,16.95,"597.9’45--dc23","24 pp.",{"$f":"Table1[[#This Row],['# Books]]*Table1[[#This Row],[QTY]]","v":0},{"$f":"Table1[[#This Row],[QTY]]*Table1[[#This Row],[S&L Price]]","v":0}]
[null,null,39,null,"World's Longest-Living Animals",1,"100-Year-Old Tuataras!","eBook","978-1-4824-5629-5",2017,"January 2017",null,null,"Author","Topper Evans",null,null,null,null,"H",null,"Grade 1 - 2","Grade 1 - 3","Tuataras are special animals because they’re old in many ways. They’re part of an order of reptiles that first appeared more than 200 million years ago! They can also live more than 100 years! Readers fascinated by these odd animals will love learning why they’re only found in New Zealand and how they adapted characteristics of many different kinds of animals, including amphibians, reptiles, and even fish! With full-color photographs showing off these features in great detail, this book is sure to impress young readers.","English",22.6,16.95,"597.9’45--dc23","24 pp.",{"$f":"Table1[[#This Row],['# Books]]*Table1[[#This Row],[QTY]]","v":0},{"$f":"Table1[[#This Row],[QTY]]*Table1[[#This Row],[S&L Price]]","v":0}]
[null,null,39,null,"World's Longest-Living Animals",1,"200-Year-Old Bowhead Whales!","Library Bound Book","978-1-4824-5635-6",2017,"January 2017","Library","7.000 X 7.000","Author","Leonard Atlantic",3.5,0.5,null,null,"H",null,"Grade 1 - 2","Grade 1 - 3","Bowhead whales are amazing creatures that often live lives longer than humans! These whales live in Arctic waters near the North Pole, smashing through thick ice to reach the surface to breathe. Using their baleen, these large mammals feed on tiny animals swimming in the cold waters, while thick blubber keeps them warm in frigid temperatures. Readers explore their everyday lives using the latest scientific research about these long-living animals, and colorful photographs show these gigantic creatures and their unique features up close and personal.","English",22.6,16.95,"599.5/276--dc23","24 pp.",{"$f":"Table1[[#This Row],['# Books]]*Table1[[#This Row],[QTY]]","v":0},{"$f":"Table1[[#This Row],[QTY]]*Table1[[#This Row],[S&L Price]]","v":0}]
[null,null,39,null,"World's Longest-Living Animals",1,"200-Year-Old Bowhead Whales!","eBook","978-1-4824-5637-0",2017,"January 2017",null,null,"Author","Leonard Atlantic",null,null,null,null,"H",null,"Grade 1 - 2","Grade 1 - 3","Bowhead whales are amazing creatures that often live lives longer than humans! These whales live in Arctic waters near the North Pole, smashing through thick ice to reach the surface to breathe. Using their baleen, these large mammals feed on tiny animals swimming in the cold waters, while thick blubber keeps them warm in frigid temperatures. Readers explore their everyday lives using the latest scientific research about these long-living animals, and colorful photographs show these gigantic creatures and their unique features up close and personal.","English",22.6,16.95,"599.5/276--dc23","24 pp.",{"$f":"Table1[[#This Row],['# Books]]*Table1[[#This Row],[QTY]]","v":0},{"$f":"Table1[[#This Row],[QTY]]*Table1[[#This Row],[S&L Price]]","v":0}]
[null,null,39,null,"World's Longest-Living Animals",1,"200-Year-Old Red Sea Urchins!","Library Bound Book","978-1-4824-5597-7",2017,"January 2017","Library","7.000 X 7.000","Author","Topper Evans",3.7,0.5,null,null,"H",null,"Grade 1 - 2","Grade 1 - 3","The ocean is full of amazing creatures we know little about. Red sea urchins are one of those creatures. Previously thought to only live a few decades, scientists now think they can live up to 200 years! Through colorful photographs showing these bright creatures living in their shallow ocean habitats, readers learn exactly how these animals sustain long lives in the water. They also discover how scientists used atomic bomb testing research to decide these animals can live well over a century.","English",22.6,16.95,"593.9’5--dc23","24 pp.",{"$f":"Table1[[#This Row],['# Books]]*Table1[[#This Row],[QTY]]","v":0},{"$f":"Table1[[#This Row],[QTY]]*Table1[[#This Row],[S&L Price]]","v":0}]
[null,null,39,null,"World's Longest-Living Animals",1,"200-Year-Old Red Sea Urchins!","eBook","978-1-4824-5598-4",2017,"January 2017",null,null,"Author","Topper Evans",null,null,null,null,"H",null,"Grade 1 - 2","Grade 1 - 3","The ocean is full of amazing creatures we know little about. Red sea urchins are one of those creatures. Previously thought to only live a few decades, scientists now think they can live up to 200 years! Through colorful photographs showing these bright creatures living in their shallow ocean habitats, readers learn exactly how these animals sustain long lives in the water. They also discover how scientists used atomic bomb testing research to decide these animals can live well over a century.","English",22.6,16.95,"593.9’5--dc23","24 pp.",{"$f":"Table1[[#This Row],['# Books]]*Table1[[#This Row],[QTY]]","v":0},{"$f":"Table1[[#This Row],[QTY]]*Table1[[#This Row],[S&L Price]]","v":0}]
[null,null,39,null,"World's Longest-Living Animals",1,"80-Year-Old Elephants!","Library Bound Book","978-1-4824-5613-4",2017,"January 2017","Library","7.000 X 7.000","Author","Leonard Atlantic",3.4,0.5,null,null,"H",null,"Grade 1 - 2","Grade 1 - 3","Elephants are smart animals often put in danger because of their large ivory tusks. Left alone, however, these amazing creatures can live for more than 80 years! Through innovative graphics and colorful photographs bringing the lives of these stunning animals into sharp focus, readers explore the differences between Asian and African elephants, their diets, and how they live their lives in different parts of the world.","English",22.6,16.95,"599.67--dc23","24 pp.",{"$f":"Table1[[#This Row],['# Books]]*Table1[[#This Row],[QTY]]","v":0},{"$f":"Table1[[#This Row],[QTY]]*Table1[[#This Row],[S&L Price]]","v":0}]
[null,null,39,null,"World's Longest-Living Animals",1,"80-Year-Old Elephants!","eBook","978-1-4824-5615-8",2017,"January 2017",null,null,"Author","Leonard Atlantic",null,null,null,null,"H",null,"Grade 1 - 2","Grade 1 - 3","Elephants are smart animals often put in danger because of their large ivory tusks. Left alone, however, these amazing creatures can live for more than 80 years! Through innovative graphics and colorful photographs bringing the lives of these stunning animals into sharp focus, readers explore the differences between Asian and African elephants, their diets, and how they live their lives in different parts of the world.","English",22.6,16.95,"599.67--dc23","24 pp.",{"$f":"Table1[[#This Row],['# Books]]*Table1[[#This Row],[QTY]]","v":0},{"$f":"Table1[[#This Row],[QTY]]*Table1[[#This Row],[S&L Price]]","v":0}]
[null,null,39,null,"World's Longest-Living Animals",1,"95-Year-Old Parrots!","Library Bound Book","978-1-4824-5618-9",2017,"January 2017","Library","7.000 X 7.000","Author","Leonard Atlantic",3.3,0.5,null,null,"H",null,"Grade 1 - 2","Grade 1 - 3","Parrots are common pets, but not many people know that some parrots may outlive their owners! These amazing animals are the world’s longest-living birds. Readers will learn why parrots are not often prey for other animals, and how taking care of them in captivity can extend their lives even longer. Colorful photographs show off these bright, feathered birds at all ages, showing where they live and how they stay alive in some of the most dangerous places on Earth.","English",22.6,16.95,"598.7’1--dc23","24 pp.",{"$f":"Table1[[#This Row],['# Books]]*Table1[[#This Row],[QTY]]","v":0},{"$f":"Table1[[#This Row],[QTY]]*Table1[[#This Row],[S&L Price]]","v":0}]
[null,null,39,null,"World's Longest-Living Animals",1,"95-Year-Old Parrots!","eBook","978-1-4824-5619-6",2017,"January 2017",null,null,"Author","Leonard Atlantic",null,null,null,null,"H",null,"Grade 1 - 2","Grade 1 - 3","Parrots are common pets, but not many people know that some parrots may outlive their owners! These amazing animals are the world’s longest-living birds. Readers will learn why parrots are not often prey for other animals, and how taking care of them in captivity can extend their lives even longer. Colorful photographs show off these bright, feathered birds at all ages, showing where they live and how they stay alive in some of the most dangerous places on Earth.","English",22.6,16.95,"598.7’1--dc23","24 pp.",{"$f":"Table1[[#This Row],['# Books]]*Table1[[#This Row],[QTY]]","v":0},{"$f":"Table1[[#This Row],[QTY]]*Table1[[#This Row],[S&L Price]]","v":0}]
[null,null,40,null,"Backyard Biomes",6,"Backyard Biomes","Library Set","978-1-4824-5870-1",2017,"January 2017","Library","7.000 X 7.000",null,"",null,null,null,null,null,null,"Grade 1 - 2","Grade 1 - 3","People have found ways to live in most of Earth’s diverse environments. But they’re not the only ones who live there! Birds, bugs, mammals, reptiles, and more make their homes in the dry desert heat, near the ocean, and in swamps all over the world. Readers learn about these biomes and more through understandable language perfect for young readers. The main content includes an introduction to the special features of each biome and where they can be found around the globe. Full-color photographs show readers the unique environments as well as the animals and plants living there.","English",135.6,101.7,null,"24 pp.",{"$f":"Table1[[#This Row],['# Books]]*Table1[[#This Row],[QTY]]","v":0},{"$f":"Table1[[#This Row],[QTY]]*Table1[[#This Row],[S&L Price]]","v":0}]
[null,null,40,null,"Backyard Biomes",1,"There Are Grasslands in My Backyard!","Library Bound Book","978-1-4824-5553-3",2017,"January 2017","Library","7.000 X 7.000","Author","Walter LaPlante",3.5,0.5,null,null,"H",null,"Grade 1 - 2","Grade 1 - 3","In North America, grasslands are called the “prairie.” In South America, they’re called the “pampas.” Whatever they’re called, grasslands are a vibrant biome! Readers are introduced to grasslands through their unique features, climate, and the plants and animals that live there. With information on both tropical and temperate grasslands, the main content includes themes of conservation and ecosystem balance. Full-color photographs supplement the science content with examples of grasslands from around the world. Accessible language makes this book a perfect supplement to classroom learning about biomes.","English",22.6,16.95,"578.75/54--dc23","24 pp.",{"$f":"Table1[[#This Row],['# Books]]*Table1[[#This Row],[QTY]]","v":0},{"$f":"Table1[[#This Row],[QTY]]*Table1[[#This Row],[S&L Price]]","v":0}]
[null,null,40,null,"Backyard Biomes",1,"There Are Grasslands in My Backyard!","eBook","978-1-4824-5554-0",2017,"January 2017",null,null,"Author","Walter LaPlante",null,null,null,null,"H",null,"Grade 1 - 2","Grade 1 - 3","In North America, grasslands are called the “prairie.” In South America, they’re called the “pampas.” Whatever they’re called, grasslands are a vibrant biome! Readers are introduced to grasslands through their unique features, climate, and the plants and animals that live there. With information on both tropical and temperate grasslands, the main content includes themes of conservation and ecosystem balance. Full-color photographs supplement the science content with examples of grasslands from around the world. Accessible language makes this book a perfect supplement to classroom learning about biomes.","English",22.6,16.95,"578.75/54--dc23","24 pp.",{"$f":"Table1[[#This Row],['# Books]]*Table1[[#This Row],[QTY]]","v":0},{"$f":"Table1[[#This Row],[QTY]]*Table1[[#This Row],[S&L Price]]","v":0}]
[null,null,40,null,"Backyard Biomes",1,"There's a Desert in My Backyard!","Library Bound Book","978-1-4824-5557-1",2017,"January 2017","Library","7.000 X 7.000","Author","Walter LaPlante",3.2,0.5,null,null,"H",null,"Grade 1 - 2","Grade 1 - 3","Deserts are the driest places on Earth, but they’re full of life! Cacti, kangaroo rats, shrubs, foxes, and more have found ways to adapt to the extreme temperatures and dry conditions of deserts around the world. Readers learn about many of these adaptations as well as the major features of the desert biome. Simple maps highlight some of the biggest deserts, helping readers learn map skills. Full-color photographs reinforce accessible information about the desert ecosystem, including a concluding message of conservation.","English",22.6,16.95,"577.54--dc23","24 pp.",{"$f":"Table1[[#This Row],['# Books]]*Table1[[#This Row],[QTY]]","v":0},{"$f":"Table1[[#This Row],[QTY]]*Table1[[#This Row],[S&L Price]]","v":0}]
[null,null,40,null,"Backyard Biomes",1,"There's a Desert in My Backyard!","eBook","978-1-4824-5558-8",2017,"January 2017",null,null,"Author","Walter LaPlante",null,null,null,null,"H",null,"Grade 1 - 2","Grade 1 - 3","Deserts are the driest places on Earth, but they’re full of life! Cacti, kangaroo rats, shrubs, foxes, and more have found ways to adapt to the extreme temperatures and dry conditions of deserts around the world. Readers learn about many of these adaptations as well as the major features of the desert biome. Simple maps highlight some of the biggest deserts, helping readers learn map skills. Full-color photographs reinforce accessible information about the desert ecosystem, including a concluding message of conservation.","English",22.6,16.95,"577.54--dc23","24 pp.",{"$f":"Table1[[#This Row],['# Books]]*Table1[[#This Row],[QTY]]","v":0},{"$f":"Table1[[#This Row],[QTY]]*Table1[[#This Row],[S&L Price]]","v":0}]
[null,null,40,null,"Backyard Biomes",1,"There's a Forest in My Backyard!","Library Bound Book","978-1-4824-5561-8",2017,"January 2017","Library","7.000 X 7.000","Author","Walter LaPlante",3,0.5,null,null,"H",null,"Grade 1 - 2","Grade 1 - 3","Many people around the world live in the forest biome. That’s because temperate forests grow in places where winter isn’t too cold and summer isn’t too hot. Readers learn that we need to care for this biome that’s in so many backyards. Simple, accessible language describes common trees and characteristics of both evergreen and deciduous forests, and full-color photographs highlight their beauty. Animals and their adaptations to this biome are addressed in the main content as well.","English",22.6,16.95,"577.3--dc23","24 pp.",{"$f":"Table1[[#This Row],['# Books]]*Table1[[#This Row],[QTY]]","v":0},{"$f":"Table1[[#This Row],[QTY]]*Table1[[#This Row],[S&L Price]]","v":0}]
[null,null,40,null,"Backyard Biomes",1,"There's a Forest in My Backyard!","eBook","978-1-4824-5562-5",2017,"January 2017",null,null,"Author","Walter LaPlante",null,null,null,null,"H",null,"Grade 1 - 2","Grade 1 - 3","Many people around the world live in the forest biome. That’s because temperate forests grow in places where winter isn’t too cold and summer isn’t too hot. Readers learn that we need to care for this biome that’s in so many backyards. Simple, accessible language describes common trees and characteristics of both evergreen and deciduous forests, and full-color photographs highlight their beauty. Animals and their adaptations to this biome are addressed in the main content as well.","English",22.6,16.95,"577.3--dc23","24 pp.",{"$f":"Table1[[#This Row],['# Books]]*Table1[[#This Row],[QTY]]","v":0},{"$f":"Table1[[#This Row],[QTY]]*Table1[[#This Row],[S&L Price]]","v":0}]
[null,null,40,null,"Backyard Biomes",1,"There's a Lake in My Backyard!","Library Bound Book","978-1-4824-5565-6",2017,"January 2017","Library","7.000 X 7.000","Author","Seth Lynch",3,0.5,null,null,"H",null,"Grade 1 - 2","Grade 1 - 3","Lakes can be hundreds of miles long and thousands of miles deep—or small enough to swim across! It’s common for homes and roads to be built near lakes because they offer such beautiful scenery as well as needed resources. Readers are introduced to the lake biome that may be in their backyard through lakes’ main features, animals and plants that may live there, and examples of some of the largest lakes on Earth. Full-color photographs and small maps highlight this special biome as the main content simply touches on key science curriculum topics including food webs and water conservation.","English",22.6,16.95,"577.63--dc23","24 pp.",{"$f":"Table1[[#This Row],['# Books]]*Table1[[#This Row],[QTY]]","v":0},{"$f":"Table1[[#This Row],[QTY]]*Table1[[#This Row],[S&L Price]]","v":0}]
[null,null,40,null,"Backyard Biomes",1,"There's a Lake in My Backyard!","eBook","978-1-4824-5566-3",2017,"January 2017",null,null,"Author","Seth Lynch",null,null,null,null,"H",null,"Grade 1 - 2","Grade 1 - 3","Lakes can be hundreds of miles long and thousands of miles deep—or small enough to swim across! It’s common for homes and roads to be built near lakes because they offer such beautiful scenery as well as needed resources. Readers are introduced to the lake biome that may be in their backyard through lakes’ main features, animals and plants that may live there, and examples of some of the largest lakes on Earth. Full-color photographs and small maps highlight this special biome as the main content simply touches on key science curriculum topics including food webs and water conservation.","English",22.6,16.95,"577.63--dc23","24 pp.",{"$f":"Table1[[#This Row],['# Books]]*Table1[[#This Row],[QTY]]","v":0},{"$f":"Table1[[#This Row],[QTY]]*Table1[[#This Row],[S&L Price]]","v":0}]
[null,null,40,null,"Backyard Biomes",1,"There's a Swamp in My Backyard!","Library Bound Book","978-1-4824-5573-1",2017,"January 2017","Library","7.000 X 7.000","Author","Seth Lynch",3.2,0.5,null,null,"H",null,"Grade 1 - 2","Grade 1 - 3","Swamps are one kind of wetland biome. Like other wetland biomes, a swamp’s water must be clean in order for the wildlife in it to thrive. Readers learn the main features of both freshwater and saltwater swamps, as well as where some of the biggest swamps are on Earth. Science curriculum topics such as food chains and conservation make the main content a great complement to classroom learning. Full-color photographs and inset maps aid readers in identifying this interesting biome in the world around them.","English",22.6,16.95,"577.68--dc23","24 pp.",{"$f":"Table1[[#This Row],['# Books]]*Table1[[#This Row],[QTY]]","v":0},{"$f":"Table1[[#This Row],[QTY]]*Table1[[#This Row],[S&L Price]]","v":0}]
[null,null,40,null,"Backyard Biomes",1,"There's a Swamp in My Backyard!","eBook","978-1-4824-5574-8",2017,"January 2017",null,null,"Author","Seth Lynch",null,null,null,null,"H",null,"Grade 1 - 2","Grade 1 - 3","Swamps are one kind of wetland biome. Like other wetland biomes, a swamp’s water must be clean in order for the wildlife in it to thrive. Readers learn the main features of both freshwater and saltwater swamps, as well as where some of the biggest swamps are on Earth. Science curriculum topics such as food chains and conservation make the main content a great complement to classroom learning. Full-color photographs and inset maps aid readers in identifying this interesting biome in the world around them.","English",22.6,16.95,"577.68--dc23","24 pp.",{"$f":"Table1[[#This Row],['# Books]]*Table1[[#This Row],[QTY]]","v":0},{"$f":"Table1[[#This Row],[QTY]]*Table1[[#This Row],[S&L Price]]","v":0}]
[null,null,40,null,"Backyard Biomes",1,"There's an Ocean in My Backyard!","Library Bound Book","978-1-4824-5569-4",2017,"January 2017","Library","7.000 X 7.000","Author","Seth Lynch",3.3,0.5,null,null,"H",null,"Grade 1 - 2","Grade 1 - 3","The ocean covers about 70 percent of Earth. That makes it the planet’s largest biome! With millions of species of plants and animals living in it, this biome needs special care as climate change affects Earth. Readers learn about the five named oceans and where they are on a simple map. Important concepts from the science curriculum are introduced in age-appropriate language, including food webs, animal adaptations, and conservation. Full-color photographs of ocean life further emphasize the diversity and interconnectedness of the ocean biome.","English",22.6,16.95,"577.7’22--dc23","24 pp.",{"$f":"Table1[[#This Row],['# Books]]*Table1[[#This Row],[QTY]]","v":0},{"$f":"Table1[[#This Row],[QTY]]*Table1[[#This Row],[S&L Price]]","v":0}]
[null,null,40,null,"Backyard Biomes",1,"There's an Ocean in My Backyard!","eBook","978-1-4824-5570-0",2017,"January 2017",null,null,"Author","Seth Lynch",null,null,null,null,"H",null,"Grade 1 - 2","Grade 1 - 3","The ocean covers about 70 percent of Earth. That makes it the planet’s largest biome! With millions of species of plants and animals living in it, this biome needs special care as climate change affects Earth. Readers learn about the five named oceans and where they are on a simple map. Important concepts from the science curriculum are introduced in age-appropriate language, including food webs, animal adaptations, and conservation. Full-color photographs of ocean life further emphasize the diversity and interconnectedness of the ocean biome.","English",22.6,16.95,"577.7’22--dc23","24 pp.",{"$f":"Table1[[#This Row],['# Books]]*Table1[[#This Row],[QTY]]","v":0},{"$f":"Table1[[#This Row],[QTY]]*Table1[[#This Row],[S&L Price]]","v":0}]
[null,null,41,null,"Super Science Tools",6,"Super Science Tools","Library Set","978-1-5382-0227-2",2018,"August 2017","Library","7.000 X 7.000",null,"",null,null,null,null,null,null,"Grade 1 - 2","Grade 1 - 3","Instilling a passion for science and curiosity for technology lays a solid foundation for future STEM education. This important and accessible series introduces some of the basic tools of science and how scientists—professional and amateur—use them every day. After learning about these key instruments, including scales, thermometers, and measuring cups, readers will want to explore them in their own experiments, encouraging fun hands-on learning experiences.","English",135.6,101.7,null,"24 pp.",{"$f":"Table1[[#This Row],['# Books]]*Table1[[#This Row],[QTY]]","v":0},{"$f":"Table1[[#This Row],[QTY]]*Table1[[#This Row],[S&L Price]]","v":0}]
[null,null,41,null,"Super Science Tools",1,"Using a Ruler","Library Bound Book","978-1-4824-6403-0",2018,"August 2017","Library","7.000 X 7.000","Author","Nora Roman",null,null,null,null,"H",null,"Grade 1 - 2","Grade 1 - 3","Rulers seem like such simple tools, but their importance can’t be overstated. Without rulers—and the knowledge of how to use them—so many inventions, buildings, and other man-made achievements would just fall apart. In this volume, readers will review the basics of rulers and observe them being used by young student-scientists as well as by professionals in the working world. They’ll even test out their own ruler skills as they find out that rulers rule the world of science!","English",22.6,16.95,"530.8--dc23","24 pp.",{"$f":"Table1[[#This Row],['# Books]]*Table1[[#This Row],[QTY]]","v":0},{"$f":"Table1[[#This Row],[QTY]]*Table1[[#This Row],[S&L Price]]","v":0}]
[null,null,41,null,"Super Science Tools",1,"Using a Ruler","eBook","978-1-4824-6404-7",2018,"August 2017",null,null,"Author","Nora Roman",null,null,null,null,"H",null,"Grade 1 - 2","Grade 1 - 3","Rulers seem like such simple tools, but their importance can’t be overstated. Without rulers—and the knowledge of how to use them—so many inventions, buildings, and other man-made achievements would just fall apart. In this volume, readers will review the basics of rulers and observe them being used by young student-scientists as well as by professionals in the working world. They’ll even test out their own ruler skills as they find out that rulers rule the world of science!","English",22.6,16.95,"530.8--dc23","24 pp.",{"$f":"Table1[[#This Row],['# Books]]*Table1[[#This Row],[QTY]]","v":0},{"$f":"Table1[[#This Row],[QTY]]*Table1[[#This Row],[S&L Price]]","v":0}]
[null,null,41,null,"Super Science Tools",1,"Using a Scale","Library Bound Book","978-1-4824-6407-8",2018,"August 2017","Library","7.000 X 7.000","Author","Nora Roman",null,null,null,null,"I",null,"Grade 1 - 2","Grade 1 - 3","We use scales more than we might notice in our daily lives. We weigh our food at stores, weigh our packages at the post office, and even weigh ourselves. Scientists use scales for important experiments, too. In this essential introduction to this super science tool, future scientists will learn about different kinds of scales. They’ll learn how to use scales to investigate objects in their everyday lives and come to appreciate how this often-used instrument helps us in so many ways.","English",22.6,16.95,"681.2--dc23","24 pp.",{"$f":"Table1[[#This Row],['# Books]]*Table1[[#This Row],[QTY]]","v":0},{"$f":"Table1[[#This Row],[QTY]]*Table1[[#This Row],[S&L Price]]","v":0}]
[null,null,41,null,"Super Science Tools",1,"Using a Scale","eBook","978-1-4824-6408-5",2018,"August 2017",null,null,"Author","Nora Roman",null,null,null,null,"I",null,"Grade 1 - 2","Grade 1 - 3","We use scales more than we might notice in our daily lives. We weigh our food at stores, weigh our packages at the post office, and even weigh ourselves. Scientists use scales for important experiments, too. In this essential introduction to this super science tool, future scientists will learn about different kinds of scales. They’ll learn how to use scales to investigate objects in their everyday lives and come to appreciate how this often-used instrument helps us in so many ways.","English",22.6,16.95,"681.2--dc23","24 pp.",{"$f":"Table1[[#This Row],['# Books]]*Table1[[#This Row],[QTY]]","v":0},{"$f":"Table1[[#This Row],[QTY]]*Table1[[#This Row],[S&L Price]]","v":0}]
[null,null,41,null,"Super Science Tools",1,"Using a Thermometer","Library Bound Book","978-1-4824-6411-5",2018,"August 2017","Library","7.000 X 7.000","Author","Abigail B. Roberts",null,null,null,null,"I",null,"Grade 1 - 2","Grade 1 - 3","Thermometers are so important in our daily lives. We consult them to know how to dress before going outside. We check our temperature when we think we’re sick. We even use thermometers when we’re cooking and baking in the kitchen. Thermometers are everywhere, but they’re also important tools of science. In this engaging volume, with the aid of appealing photographs and an instructive activity, readers will learn how scientists of all ages use thermometers and how they can, too.","English",22.6,16.95,"536’.50287--dc23","24 pp.",{"$f":"Table1[[#This Row],['# Books]]*Table1[[#This Row],[QTY]]","v":0},{"$f":"Table1[[#This Row],[QTY]]*Table1[[#This Row],[S&L Price]]","v":0}]
[null,null,41,null,"Super Science Tools",1,"Using a Thermometer","eBook","978-1-4824-6412-2",2018,"August 2017",null,null,"Author","Abigail B. Roberts",null,null,null,null,"I",null,"Grade 1 - 2","Grade 1 - 3","Thermometers are so important in our daily lives. We consult them to know how to dress before going outside. We check our temperature when we think we’re sick. We even use thermometers when we’re cooking and baking in the kitchen. Thermometers are everywhere, but they’re also important tools of science. In this engaging volume, with the aid of appealing photographs and an instructive activity, readers will learn how scientists of all ages use thermometers and how they can, too.","English",22.6,16.95,"536’.50287--dc23","24 pp.",{"$f":"Table1[[#This Row],['# Books]]*Table1[[#This Row],[QTY]]","v":0},{"$f":"Table1[[#This Row],[QTY]]*Table1[[#This Row],[S&L Price]]","v":0}]
[null,null,41,null,"Super Science Tools",1,"Using Lenses","Library Bound Book","978-1-4824-6391-0",2018,"August 2017","Library","7.000 X 7.000","Author","Abigail B. Roberts",null,null,null,null,"I",null,"Grade 1 - 2","Grade 1 - 3","Observing objects closely is an important part of being a scientist. That’s why lenses are so important in the laboratory and in the science classroom. Young scientists may be surprised to learn that they’ve probably already used lenses—in the form of a magnifying glass. This tool and others, such as microscopes, help scientists see details of objects up close. This invaluable book introduces lenses and the concept of optics in an easy to understand way and encourages readers to experiment with lenses themselves!","English",22.6,16.95,"535--dc23","24 pp.",{"$f":"Table1[[#This Row],['# Books]]*Table1[[#This Row],[QTY]]","v":0},{"$f":"Table1[[#This Row],[QTY]]*Table1[[#This Row],[S&L Price]]","v":0}]
[null,null,41,null,"Super Science Tools",1,"Using Lenses","eBook","978-1-4824-6392-7",2018,"August 2017",null,null,"Author","Abigail B. Roberts",null,null,null,null,"I",null,"Grade 1 - 2","Grade 1 - 3","Observing objects closely is an important part of being a scientist. That’s why lenses are so important in the laboratory and in the science classroom. Young scientists may be surprised to learn that they’ve probably already used lenses—in the form of a magnifying glass. This tool and others, such as microscopes, help scientists see details of objects up close. This invaluable book introduces lenses and the concept of optics in an easy to understand way and encourages readers to experiment with lenses themselves!","English",22.6,16.95,"535--dc23","24 pp.",{"$f":"Table1[[#This Row],['# Books]]*Table1[[#This Row],[QTY]]","v":0},{"$f":"Table1[[#This Row],[QTY]]*Table1[[#This Row],[S&L Price]]","v":0}]
[null,null,41,null,"Super Science Tools",1,"Using Magnets","Library Bound Book","978-1-4824-6395-8",2018,"August 2017","Library","7.000 X 7.000","Author","Nora Roman",null,null,null,null,"I",null,"Grade 1 - 2","Grade 1 - 3","Few natural forces seem as much like magic as magnets. Perhaps that’s why magnets are so fun! Young scientists will love learning about amazing magnets, both natural and man-made. They’ll discover how magnetism is harnessed to help us in many ways. This STEM-supportive volume contains comprehensible text and photographs of students and scientists utilizing magnets. It also includes a simple, fun concluding activity to encourage readers to use this super science tool themselves.","English",22.6,16.95,"538--dc23","24 pp.",{"$f":"Table1[[#This Row],['# Books]]*Table1[[#This Row],[QTY]]","v":0},{"$f":"Table1[[#This Row],[QTY]]*Table1[[#This Row],[S&L Price]]","v":0}]
[null,null,41,null,"Super Science Tools",1,"Using Magnets","eBook","978-1-4824-6396-5",2018,"August 2017",null,null,"Author","Nora Roman",null,null,null,null,"I",null,"Grade 1 - 2","Grade 1 - 3","Few natural forces seem as much like magic as magnets. Perhaps that’s why magnets are so fun! Young scientists will love learning about amazing magnets, both natural and man-made. They’ll discover how magnetism is harnessed to help us in many ways. This STEM-supportive volume contains comprehensible text and photographs of students and scientists utilizing magnets. It also includes a simple, fun concluding activity to encourage readers to use this super science tool themselves.","English",22.6,16.95,"538--dc23","24 pp.",{"$f":"Table1[[#This Row],['# Books]]*Table1[[#This Row],[QTY]]","v":0},{"$f":"Table1[[#This Row],[QTY]]*Table1[[#This Row],[S&L Price]]","v":0}]
[null,null,41,null,"Super Science Tools",1,"Using Measuring Cups","Library Bound Book","978-1-4824-6399-6",2018,"August 2017","Library","7.000 X 7.000","Author","Abigail B. Roberts",null,null,null,null,"H",null,"Grade 1 - 2","Grade 1 - 3","Measuring cups are essential in the kitchen, but they’re also crucial in the science lab. Scientists need to be precise in their experiments to test their hypotheses, and science tools such as cylinders for measuring volume aid them in their important research. This appealing book shows that young scientists, too, can use measuring containers for their own science experiments. Important STEM concepts such as volume and units of measurement are explained in a comprehensible manner.","English",22.6,16.95,"681’.2--dc23","24 pp.",{"$f":"Table1[[#This Row],['# Books]]*Table1[[#This Row],[QTY]]","v":0},{"$f":"Table1[[#This Row],[QTY]]*Table1[[#This Row],[S&L Price]]","v":0}]
[null,null,41,null,"Super Science Tools",1,"Using Measuring Cups","eBook","978-1-4824-6400-9",2018,"August 2017",null,null,"Author","Abigail B. Roberts",null,null,null,null,"H",null,"Grade 1 - 2","Grade 1 - 3","Measuring cups are essential in the kitchen, but they’re also crucial in the science lab. Scientists need to be precise in their experiments to test their hypotheses, and science tools such as cylinders for measuring volume aid them in their important research. This appealing book shows that young scientists, too, can use measuring containers for their own science experiments. Important STEM concepts such as volume and units of measurement are explained in a comprehensible manner.","English",22.6,16.95,"681’.2--dc23","24 pp.",{"$f":"Table1[[#This Row],['# Books]]*Table1[[#This Row],[QTY]]","v":0},{"$f":"Table1[[#This Row],[QTY]]*Table1[[#This Row],[S&L Price]]","v":0}]
[null,null,42,null,"Your Body at Its Grossest",6,"Your Body at Its Grossest","Library Set","978-1-5382-0480-1",2018,"August 2017","Library","7.000 X 7.000",null,"",null,null,null,null,null,null,"Grade 1 - 2","Grade 1 - 3","If there’s one thing we all have in common, it’s that our bodies do some truly weird things. Whether readers are sick and throwing up, watching cuts heal with pus and scabs, or wondering why they sweat when it’s hot, there are lots of questions they need answered about their bodies. Readers will love getting gross with this series that covers the odd noises and smelly things that come out of us all. From the scientific purposes behind spit and phlegm to the reasons we all pee and poop, young readers will pair learning with laughing as full-color photographs help chart the human experience.","English",135.6,101.7,null,"24 pp.",{"$f":"Table1[[#This Row],['# Books]]*Table1[[#This Row],[QTY]]","v":0},{"$f":"Table1[[#This Row],[QTY]]*Table1[[#This Row],[S&L Price]]","v":0}]
[null,null,42,null,"Your Body at Its Grossest",1,"Earwax and Boogers!","Library Bound Book","978-1-4824-6463-4",2018,"August 2017","Library","7.000 X 7.000","Author","Melvin Hightower",null,null,null,null,"H",null,"Grade 1 - 2","Grade 1 - 3","Earwax and boogers come from different places, but they’re equally gross. This book explores why the body makes these icky, sticky substances and what it means when you find more than usual hanging around your ears and nose. Whether it means someone is getting sick or they just haven’t taken a bath in a few days, this book explores good hygiene while also explaining the scientific reasons behind these important body processes.","English",22.6,16.95,"612.8--dc23","24 pp.",{"$f":"Table1[[#This Row],['# Books]]*Table1[[#This Row],[QTY]]","v":0},{"$f":"Table1[[#This Row],[QTY]]*Table1[[#This Row],[S&L Price]]","v":0}]
[null,null,42,null,"Your Body at Its Grossest",1,"Earwax and Boogers!","eBook","978-1-4824-6464-1",2018,"August 2017",null,null,"Author","Melvin Hightower",null,null,null,null,"H",null,"Grade 1 - 2","Grade 1 - 3","Earwax and boogers come from different places, but they’re equally gross. This book explores why the body makes these icky, sticky substances and what it means when you find more than usual hanging around your ears and nose. Whether it means someone is getting sick or they just haven’t taken a bath in a few days, this book explores good hygiene while also explaining the scientific reasons behind these important body processes.","English",22.6,16.95,"612.8--dc23","24 pp.",{"$f":"Table1[[#This Row],['# Books]]*Table1[[#This Row],[QTY]]","v":0},{"$f":"Table1[[#This Row],[QTY]]*Table1[[#This Row],[S&L Price]]","v":0}]
[null,null,42,null,"Your Body at Its Grossest",1,"Pee and Poop!","Library Bound Book","978-1-4824-6467-2",2018,"August 2017","Library","7.000 X 7.000","Author","Sam Crispin",null,null,null,null,"H",null,"Grade 1 - 2","Grade 1 - 3","It’s true: everyone poops. While urine and feces may be good for gross-out fun, these body functions are an important way we stay healthy. Readers will put toilet humor aside and explore the science of bowel movements in a fun and interesting way, learning about the digestive system, kidneys, and more. Through tasteful images and fun graphics, this title allows readers to look at the science behind the taboos and learn more about how their bodies work.","English",22.6,16.95,"612.4’6--dc23","24 pp.",{"$f":"Table1[[#This Row],['# Books]]*Table1[[#This Row],[QTY]]","v":0},{"$f":"Table1[[#This Row],[QTY]]*Table1[[#This Row],[S&L Price]]","v":0}]
[null,null,42,null,"Your Body at Its Grossest",1,"Pee and Poop!","eBook","978-1-4824-6468-9",2018,"August 2017",null,null,"Author","Sam Crispin",null,null,null,null,"H",null,"Grade 1 - 2","Grade 1 - 3","It’s true: everyone poops. While urine and feces may be good for gross-out fun, these body functions are an important way we stay healthy. Readers will put toilet humor aside and explore the science of bowel movements in a fun and interesting way, learning about the digestive system, kidneys, and more. Through tasteful images and fun graphics, this title allows readers to look at the science behind the taboos and learn more about how their bodies work.","English",22.6,16.95,"612.4’6--dc23","24 pp.",{"$f":"Table1[[#This Row],['# Books]]*Table1[[#This Row],[QTY]]","v":0},{"$f":"Table1[[#This Row],[QTY]]*Table1[[#This Row],[S&L Price]]","v":0}]
[null,null,42,null,"Your Body at Its Grossest",1,"Pus and Scabs!","Library Bound Book","978-1-4824-6493-1",2018,"August 2017","Library","7.000 X 7.000","Author","Melvin Hightower",null,null,null,null,"H",null,"Grade 1 - 2","Grade 1 - 3","Cuts and scrapes are no fun, and their end result can be gross. Wounds can leak pus and scabs are often tempting to pull and tear, but these gross by-products of cuts are an important part of the healing process. In this book, readers pair the science with the gross to discover just why the body makes and leaks pus. It also explores ways to prevent permanent scarring and the proper way to take care of skin injuries with bandages and other medicine to help the body heal correctly.","English",22.6,16.95,"617.1--dc23","24 pp.",{"$f":"Table1[[#This Row],['# Books]]*Table1[[#This Row],[QTY]]","v":0},{"$f":"Table1[[#This Row],[QTY]]*Table1[[#This Row],[S&L Price]]","v":0}]
[null,null,42,null,"Your Body at Its Grossest",1,"Pus and Scabs!","eBook","978-1-4824-6471-9",2018,"August 2017",null,null,"Author","Melvin Hightower",null,null,null,null,"H",null,"Grade 1 - 2","Grade 1 - 3","Cuts and scrapes are no fun, and their end result can be gross. Wounds can leak pus and scabs are often tempting to pull and tear, but these gross by-products of cuts are an important part of the healing process. In this book, readers pair the science with the gross to discover just why the body makes and leaks pus. It also explores ways to prevent permanent scarring and the proper way to take care of skin injuries with bandages and other medicine to help the body heal correctly.","English",22.6,16.95,"617.1--dc23","24 pp.",{"$f":"Table1[[#This Row],['# Books]]*Table1[[#This Row],[QTY]]","v":0},{"$f":"Table1[[#This Row],[QTY]]*Table1[[#This Row],[S&L Price]]","v":0}]
[null,null,42,null,"Your Body at Its Grossest",1,"Spit and Phlegm!","Library Bound Book","978-1-4824-6474-0",2018,"August 2017","Library","7.000 X 7.000","Author","Anthony Capicola",null,null,null,null,"H",null,"Grade 1 - 2","Grade 1 - 3","The human body is pretty gross when it gets sick. The nose gets stuffed up, and some people go through boxes of tissues trying to get it clear. But what is all that stuff in the ears, nose, and throat anyway? It’s phlegm! This sometimes gross and always fascinating book explores why our bodies make spit and phlegm through colorful photographs and insightful explanations of bodily functions. Readers will discover the science behind the gross—studying why we need saliva to eat and phlegm to protect ourselves from bacteria and illness.","English",22.6,16.95,"612.3’13--dc23","24 pp.",{"$f":"Table1[[#This Row],['# Books]]*Table1[[#This Row],[QTY]]","v":0},{"$f":"Table1[[#This Row],[QTY]]*Table1[[#This Row],[S&L Price]]","v":0}]
[null,null,42,null,"Your Body at Its Grossest",1,"Spit and Phlegm!","eBook","978-1-4824-6475-7",2018,"August 2017",null,null,"Author","Anthony Capicola",null,null,null,null,"H",null,"Grade 1 - 2","Grade 1 - 3","The human body is pretty gross when it gets sick. The nose gets stuffed up, and some people go through boxes of tissues trying to get it clear. But what is all that stuff in the ears, nose, and throat anyway? It’s phlegm! This sometimes gross and always fascinating book explores why our bodies make spit and phlegm through colorful photographs and insightful explanations of bodily functions. Readers will discover the science behind the gross—studying why we need saliva to eat and phlegm to protect ourselves from bacteria and illness.","English",22.6,16.95,"612.3’13--dc23","24 pp.",{"$f":"Table1[[#This Row],['# Books]]*Table1[[#This Row],[QTY]]","v":0},{"$f":"Table1[[#This Row],[QTY]]*Table1[[#This Row],[S&L Price]]","v":0}]
[null,null,42,null,"Your Body at Its Grossest",1,"Sweat!","Library Bound Book","978-1-4824-6478-8",2018,"August 2017","Library","7.000 X 7.000","Author","Anthony Capicola",null,null,null,null,"H",null,"Grade 1 - 2","Grade 1 - 3","No matter what the temperature is outside, some people just can’t stop sweating. This book explores the how and why of a natural body process that is entirely normal but is still a bit gross. From the sweat bodies expel when they’re exercising to the sweaty palms caused by nerves, readers explore all the ways the body perspires. Through simple but informative explanations to drive home scientific insight in a fun way, readers will love exploring the gross while learning about important body functions.","English",22.6,16.95,"612.7’93--dc23","24 pp.",{"$f":"Table1[[#This Row],['# Books]]*Table1[[#This Row],[QTY]]","v":0},{"$f":"Table1[[#This Row],[QTY]]*Table1[[#This Row],[S&L Price]]","v":0}]
[null,null,42,null,"Your Body at Its Grossest",1,"Sweat!","eBook","978-1-4824-6479-5",2018,"August 2017",null,null,"Author","Anthony Capicola",null,null,null,null,"H",null,"Grade 1 - 2","Grade 1 - 3","No matter what the temperature is outside, some people just can’t stop sweating. This book explores the how and why of a natural body process that is entirely normal but is still a bit gross. From the sweat bodies expel when they’re exercising to the sweaty palms caused by nerves, readers explore all the ways the body perspires. Through simple but informative explanations to drive home scientific insight in a fun way, readers will love exploring the gross while learning about important body functions.","English",22.6,16.95,"612.7’93--dc23","24 pp.",{"$f":"Table1[[#This Row],['# Books]]*Table1[[#This Row],[QTY]]","v":0},{"$f":"Table1[[#This Row],[QTY]]*Table1[[#This Row],[S&L Price]]","v":0}]
[null,null,42,null,"Your Body at Its Grossest",1,"Vomit!","Library Bound Book","978-1-4824-6482-5",2018,"August 2017","Library","7.000 X 7.000","Author","Sam Crispin",null,null,null,null,"H",null,"Grade 1 - 2","Grade 1 - 3","No one likes vomit. It smells, it gets everywhere, and it means someone definitely isn’t feeling well. But hidden in all that grossness is a human necessity—if a body is throwing up, it needs to get something out, and fast. This book looks at the how and why of vomit, taking readers through the reasons people spew and what to do when it feels like they need to hurl. With full-color photographs and graphics illustrating the science behind the gross, this book is sure to wow readers curious about bodily functions.","English",22.6,16.95,"616.047--dc23","24 pp.",{"$f":"Table1[[#This Row],['# Books]]*Table1[[#This Row],[QTY]]","v":0},{"$f":"Table1[[#This Row],[QTY]]*Table1[[#This Row],[S&L Price]]","v":0}]
[null,null,42,null,"Your Body at Its Grossest",1,"Vomit!","eBook","978-1-4824-6483-2",2018,"August 2017",null,null,"Author","Sam Crispin",null,null,null,null,"H",null,"Grade 1 - 2","Grade 1 - 3","No one likes vomit. It smells, it gets everywhere, and it means someone definitely isn’t feeling well. But hidden in all that grossness is a human necessity—if a body is throwing up, it needs to get something out, and fast. This book looks at the how and why of vomit, taking readers through the reasons people spew and what to do when it feels like they need to hurl. With full-color photographs and graphics illustrating the science behind the gross, this book is sure to wow readers curious about bodily functions.","English",22.6,16.95,"616.047--dc23","24 pp.",{"$f":"Table1[[#This Row],['# Books]]*Table1[[#This Row],[QTY]]","v":0},{"$f":"Table1[[#This Row],[QTY]]*Table1[[#This Row],[S&L Price]]","v":0}]
[null,null,43,null,"Adventures in Culture",6,"Adventures in Culture","Library Set","978-1-4824-5866-4",2017,"January 2017","Library","7.000 X 7.000",null,"",null,null,null,null,null,null,"Grade 1 - 2","Grade 1 - 3","In today’s interconnected world, it's vital for students to understand and embrace cultural diversity, both around the globe and in their own community. Each vibrant volume of this valuable series is an appreciation of various customs, traditions, and ways of life. Readers will immerse themselves in different cultures in the context of familiar topics such as clothing, foods, and schools, supported by attractive photographs that aid in reading comprehension. They’ll discover that there’s adventure to experience in every culture.","English",135.6,101.7,null,"24 pp.",{"$f":"Table1[[#This Row],['# Books]]*Table1[[#This Row],[QTY]]","v":0},{"$f":"Table1[[#This Row],[QTY]]*Table1[[#This Row],[S&L Price]]","v":0}]
[null,null,43,null,"Adventures in Culture",1,"Celebrations Around the World","Library Bound Book","978-1-4824-5577-9",2017,"January 2017","Library","7.000 X 7.000","Author","Charles Murphy",null,null,null,null,"K",null,"Grade 1 - 2","Grade 1 - 3","It's time to party with people around the world! Readers will want to celebrate with the fascinating, diverse peoples featured in this culturally enriching book. Día de los Muertos in Latin America, Festima in West Africa, Loy Krathong in Southeast Asia, and Japan’s Obon are just some of the festivals featured. Important vocabulary and cultural concepts are stressed in the accessible text, while striking photographs highlight important associated events.","English",22.6,16.95,"394.26--dc23","24 pp.",{"$f":"Table1[[#This Row],['# Books]]*Table1[[#This Row],[QTY]]","v":0},{"$f":"Table1[[#This Row],[QTY]]*Table1[[#This Row],[S&L Price]]","v":0}]
[null,null,43,null,"Adventures in Culture",1,"Celebrations Around the World","eBook","978-1-4824-5578-6",2017,"January 2017",null,null,"Author","Charles Murphy",null,null,null,null,"K",null,"Grade 1 - 2","Grade 1 - 3","It's time to party with people around the world! Readers will want to celebrate with the fascinating, diverse peoples featured in this culturally enriching book. Día de los Muertos in Latin America, Festima in West Africa, Loy Krathong in Southeast Asia, and Japan’s Obon are just some of the festivals featured. Important vocabulary and cultural concepts are stressed in the accessible text, while striking photographs highlight important associated events.","English",22.6,16.95,"394.26--dc23","24 pp.",{"$f":"Table1[[#This Row],['# Books]]*Table1[[#This Row],[QTY]]","v":0},{"$f":"Table1[[#This Row],[QTY]]*Table1[[#This Row],[S&L Price]]","v":0}]
[null,null,43,null,"Adventures in Culture",1,"Clothing Around the World","Library Bound Book","978-1-4824-5880-0",2017,"January 2017","Library","7.000 X 7.000","Author","Charles Murphy",null,null,null,null,"K",null,"Grade 1 - 2","Grade 1 - 3","It’s time to get dressed! In this increasingly connected world, numerous peoples around the world share modern fashions. However, many cultures reserve distinctive outfits for special occasions. This intriguing volume, a valuable addition to any social studies collection, showcases clothing from West Africa, Mexico, India, South Korea, Scotland, and other places. Traditional apparel, some of which is now seen in western countries, is displayed in vivid photographs.","English",22.6,16.95,"391--dc23","24 pp.",{"$f":"Table1[[#This Row],['# Books]]*Table1[[#This Row],[QTY]]","v":0},{"$f":"Table1[[#This Row],[QTY]]*Table1[[#This Row],[S&L Price]]","v":0}]
[null,null,43,null,"Adventures in Culture",1,"Clothing Around the World","eBook","978-1-4824-5581-6",2017,"January 2017",null,null,"Author","Charles Murphy",null,null,null,null,"K",null,"Grade 1 - 2","Grade 1 - 3","It’s time to get dressed! In this increasingly connected world, numerous peoples around the world share modern fashions. However, many cultures reserve distinctive outfits for special occasions. This intriguing volume, a valuable addition to any social studies collection, showcases clothing from West Africa, Mexico, India, South Korea, Scotland, and other places. Traditional apparel, some of which is now seen in western countries, is displayed in vivid photographs.","English",22.6,16.95,"391--dc23","24 pp.",{"$f":"Table1[[#This Row],['# Books]]*Table1[[#This Row],[QTY]]","v":0},{"$f":"Table1[[#This Row],[QTY]]*Table1[[#This Row],[S&L Price]]","v":0}]
[null,null,43,null,"Adventures in Culture",1,"Food Around the World","Library Bound Book","978-1-4824-5584-7",2017,"January 2017","Library","7.000 X 7.000","Author","Charles Murphy",null,null,null,null,"K",null,"Grade 1 - 2","Grade 1 - 3","Tamales, falafel, moussaka, Peking duck . . . hungry yet? These culinary treasures are traditional dishes in various countries, though they have gained popularity in other regions as well. Readers will be ravenous to find out more about these delicacies and ones less familiar. They’ll discover through appetizing, accessible text and mouth-watering photographs that their sense of taste is a great way to ingest cultural concepts!","English",22.6,16.95,"394.1’2 --dc23","24 pp.",{"$f":"Table1[[#This Row],['# Books]]*Table1[[#This Row],[QTY]]","v":0},{"$f":"Table1[[#This Row],[QTY]]*Table1[[#This Row],[S&L Price]]","v":0}]
[null,null,43,null,"Adventures in Culture",1,"Food Around the World","eBook","978-1-4824-5585-4",2017,"January 2017",null,null,"Author","Charles Murphy",null,null,null,null,"K",null,"Grade 1 - 2","Grade 1 - 3","Tamales, falafel, moussaka, Peking duck . . . hungry yet? These culinary treasures are traditional dishes in various countries, though they have gained popularity in other regions as well. Readers will be ravenous to find out more about these delicacies and ones less familiar. They’ll discover through appetizing, accessible text and mouth-watering photographs that their sense of taste is a great way to ingest cultural concepts!","English",22.6,16.95,"394.1’2 --dc23","24 pp.",{"$f":"Table1[[#This Row],['# Books]]*Table1[[#This Row],[QTY]]","v":0},{"$f":"Table1[[#This Row],[QTY]]*Table1[[#This Row],[S&L Price]]","v":0}]
[null,null,43,null,"Adventures in Culture",1,"Homes Around the World","Library Bound Book","978-1-4824-5881-7",2017,"January 2017","Library","7.000 X 7.000","Author","Eleanor O'Connell",null,null,null,null,"J",null,"Grade 1 - 2","Grade 1 - 3","Apartments, houses, log cabins, and houseboats are all kinds of homes, though they can look vastly different. Around the world, families settle into homes that can look quite different than these, yet serve the same purpose: to shelter. This volume will capture readers’ imaginations, allowing them to view various types of homes, including the yaodongs of China and Queenslanders of Australia. Beautiful photographs serve to illustrate both architectural and cultural concepts.","English",22.6,16.95,"643’.1--dc23","24 pp.",{"$f":"Table1[[#This Row],['# Books]]*Table1[[#This Row],[QTY]]","v":0},{"$f":"Table1[[#This Row],[QTY]]*Table1[[#This Row],[S&L Price]]","v":0}]
[null,null,43,null,"Adventures in Culture",1,"Homes Around the World","eBook","978-1-4824-5588-5",2017,"January 2017",null,null,"Author","Eleanor O'Connell",null,null,null,null,"J",null,"Grade 1 - 2","Grade 1 - 3","Apartments, houses, log cabins, and houseboats are all kinds of homes, though they can look vastly different. Around the world, families settle into homes that can look quite different than these, yet serve the same purpose: to shelter. This volume will capture readers’ imaginations, allowing them to view various types of homes, including the yaodongs of China and Queenslanders of Australia. Beautiful photographs serve to illustrate both architectural and cultural concepts.","English",22.6,16.95,"643’.1--dc23","24 pp.",{"$f":"Table1[[#This Row],['# Books]]*Table1[[#This Row],[QTY]]","v":0},{"$f":"Table1[[#This Row],[QTY]]*Table1[[#This Row],[S&L Price]]","v":0}]
[null,null,43,null,"Adventures in Culture",1,"Schools Around the World","Library Bound Book","978-1-4824-5591-5",2017,"January 2017","Library","7.000 X 7.000","Author","Eleanor O'Connell",null,null,null,null,"J",null,"Grade 1 - 2","Grade 1 - 3","Going to school on a boat or even a moving school bus aren’t the settings for a fictional story, but real-life scenarios for some children around the world. Readers will love learning about different schools and cultures—and picturing what their lives would be like in similar circumstances. This beneficial volume, with its bright, colorful images, is a worthy addition to any social studies collection.","English",22.6,16.95,"371--dc23","24 pp.",{"$f":"Table1[[#This Row],['# Books]]*Table1[[#This Row],[QTY]]","v":0},{"$f":"Table1[[#This Row],[QTY]]*Table1[[#This Row],[S&L Price]]","v":0}]
[null,null,43,null,"Adventures in Culture",1,"Schools Around the World","eBook","978-1-4824-5592-2",2017,"January 2017",null,null,"Author","Eleanor O'Connell",null,null,null,null,"J",null,"Grade 1 - 2","Grade 1 - 3","Going to school on a boat or even a moving school bus aren’t the settings for a fictional story, but real-life scenarios for some children around the world. Readers will love learning about different schools and cultures—and picturing what their lives would be like in similar circumstances. This beneficial volume, with its bright, colorful images, is a worthy addition to any social studies collection.","English",22.6,16.95,"371--dc23","24 pp.",{"$f":"Table1[[#This Row],['# Books]]*Table1[[#This Row],[QTY]]","v":0},{"$f":"Table1[[#This Row],[QTY]]*Table1[[#This Row],[S&L Price]]","v":0}]
[null,null,43,null,"Adventures in Culture",1,"Transportation Around the World","Library Bound Book","978-1-4824-5595-3",2017,"January 2017","Library","7.000 X 7.000","Author","Eleanor O'Connell",null,null,null,null,"J",null,"Grade 1 - 2","Grade 1 - 3","Traveling a distance for many means taking a bus, car, train, or maybe a bicycle. In other parts of the world, however, forms of transportation may include rickshaws, gondolas, hovercraft, or cable cars. This fast-paced volume invites readers to hop aboard on a journey to test out some of the most fascinating modes of travel around the globe. Lively, accessible text and vivid photographs emphasize this interesting aspect of world cultures.","English",22.6,16.95,"388--dc23","24 pp.",{"$f":"Table1[[#This Row],['# Books]]*Table1[[#This Row],[QTY]]","v":0},{"$f":"Table1[[#This Row],[QTY]]*Table1[[#This Row],[S&L Price]]","v":0}]
[null,null,43,null,"Adventures in Culture",1,"Transportation Around the World","eBook","978-1-4824-5596-0",2017,"January 2017",null,null,"Author","Eleanor O'Connell",null,null,null,null,"J",null,"Grade 1 - 2","Grade 1 - 3","Traveling a distance for many means taking a bus, car, train, or maybe a bicycle. In other parts of the world, however, forms of transportation may include rickshaws, gondolas, hovercraft, or cable cars. This fast-paced volume invites readers to hop aboard on a journey to test out some of the most fascinating modes of travel around the globe. Lively, accessible text and vivid photographs emphasize this interesting aspect of world cultures.","English",22.6,16.95,"388--dc23","24 pp.",{"$f":"Table1[[#This Row],['# Books]]*Table1[[#This Row],[QTY]]","v":0},{"$f":"Table1[[#This Row],[QTY]]*Table1[[#This Row],[S&L Price]]","v":0}]
[null,null,44,null,"Where on Earth? Mapping Parts of the World",6,"Where on Earth? Mapping Parts of the World","Library Set","978-1-5382-0238-8",2018,"August 2017","Library","7.000 X 7.000",null,"",null,null,null,null,null,null,"Grade 1 - 2","Grade 1 - 3","It’s exciting to learn just where you are in the world—literally! Developing an understanding of geography and maps is key to grasping more advanced topics such as cultures, economics, politics, and current events. This series explores the hemispheres, continents, equator, and poles in a unique and exciting way that is perfect for young readers.","English",135.6,101.7,null,"24 pp.",{"$f":"Table1[[#This Row],['# Books]]*Table1[[#This Row],[QTY]]","v":0},{"$f":"Table1[[#This Row],[QTY]]*Table1[[#This Row],[S&L Price]]","v":0}]
[null,null,44,null,"Where on Earth? Mapping Parts of the World",1,"Earth's Continents","Library Bound Book","978-1-4824-6415-3",2018,"August 2017","Library","7.000 X 7.000","Author","Todd Bluthenthal",null,null,null,null,"H",null,"Grade 1 - 2","Grade 1 - 3","Why do continents matter? From economics to weather science—and everything in between—knowing the characteristics of the continents expands readers’ perspectives in every school subject. This fundamental information is a building block of many future lessons and an essential part of elementary education. This book presents a focused, clear, age-appropriate look at Earth’s continents that young readers are sure to find both informative and interesting. This volume is also packed with colorful maps that are labeled and explained to foster young readers’ comprehension of this important topic.","English",22.6,16.95,"551.41--dc23","24 pp.",{"$f":"Table1[[#This Row],['# Books]]*Table1[[#This Row],[QTY]]","v":0},{"$f":"Table1[[#This Row],[QTY]]*Table1[[#This Row],[S&L Price]]","v":0}]
[null,null,44,null,"Where on Earth? Mapping Parts of the World",1,"Earth's Continents","eBook","978-1-4824-6416-0",2018,"August 2017",null,null,"Author","Todd Bluthenthal",null,null,null,null,"H",null,"Grade 1 - 2","Grade 1 - 3","Why do continents matter? From economics to weather science—and everything in between—knowing the characteristics of the continents expands readers’ perspectives in every school subject. This fundamental information is a building block of many future lessons and an essential part of elementary education. This book presents a focused, clear, age-appropriate look at Earth’s continents that young readers are sure to find both informative and interesting. This volume is also packed with colorful maps that are labeled and explained to foster young readers’ comprehension of this important topic.","English",22.6,16.95,"551.41--dc23","24 pp.",{"$f":"Table1[[#This Row],['# Books]]*Table1[[#This Row],[QTY]]","v":0},{"$f":"Table1[[#This Row],[QTY]]*Table1[[#This Row],[S&L Price]]","v":0}]
[null,null,44,null,"Where on Earth? Mapping Parts of the World",1,"Earth's Hemispheres","Library Bound Book","978-1-4824-6419-1",2018,"August 2017","Library","7.000 X 7.000","Author","Todd Bluthenthal",null,null,null,null,"I",null,"Grade 1 - 2","Grade 1 - 3","The division of the Earth into hemispheres isn’t the easiest concept to teach or grasp. It involves geography, spatial awareness, map-reading abilities, and more. This volume makes it easy for any reader to develop a solid comprehension of this critical social studies lesson! Vivid, full-color maps and photographs are integrated with accessible main text to aid young readers’ understanding of this sometimes-tough topic. This essential book is a useful and valuable addition to any library’s collection!","English",22.6,16.95,"526’.61--dc23","24 pp.",{"$f":"Table1[[#This Row],['# Books]]*Table1[[#This Row],[QTY]]","v":0},{"$f":"Table1[[#This Row],[QTY]]*Table1[[#This Row],[S&L Price]]","v":0}]
[null,null,44,null,"Where on Earth? Mapping Parts of the World",1,"Earth's Hemispheres","eBook","978-1-4824-6420-7",2018,"August 2017",null,null,"Author","Todd Bluthenthal",null,null,null,null,"I",null,"Grade 1 - 2","Grade 1 - 3","The division of the Earth into hemispheres isn’t the easiest concept to teach or grasp. It involves geography, spatial awareness, map-reading abilities, and more. This volume makes it easy for any reader to develop a solid comprehension of this critical social studies lesson! Vivid, full-color maps and photographs are integrated with accessible main text to aid young readers’ understanding of this sometimes-tough topic. This essential book is a useful and valuable addition to any library’s collection!","English",22.6,16.95,"526’.61--dc23","24 pp.",{"$f":"Table1[[#This Row],['# Books]]*Table1[[#This Row],[QTY]]","v":0},{"$f":"Table1[[#This Row],[QTY]]*Table1[[#This Row],[S&L Price]]","v":0}]
[null,null,44,null,"Where on Earth? Mapping Parts of the World",1,"Making Maps","Library Bound Book","978-1-4824-6427-6",2018,"August 2017","Library","7.000 X 7.000","Author","Todd Bluthenthal",null,null,null,null,"H",null,"Grade 1 - 2","Grade 1 - 3","Is there such a thing as a fun way to develop spatial awareness? Yes—and readers can do so by reading this book! Readers will engage in and expand their understanding of the world around them through a creative, rewarding map-making activity developed with learning and fun in mind! Step-by-step instructions guide them through this rewarding exercise, while a simple history and explanation of cartography allows them to feel a part of something both fascinating and epic.","English",22.6,16.95,"526--dc23","24 pp.",{"$f":"Table1[[#This Row],['# Books]]*Table1[[#This Row],[QTY]]","v":0},{"$f":"Table1[[#This Row],[QTY]]*Table1[[#This Row],[S&L Price]]","v":0}]
[null,null,44,null,"Where on Earth? Mapping Parts of the World",1,"Making Maps","eBook","978-1-4824-6428-3",2018,"August 2017",null,null,"Author","Todd Bluthenthal",null,null,null,null,"H",null,"Grade 1 - 2","Grade 1 - 3","Is there such a thing as a fun way to develop spatial awareness? Yes—and readers can do so by reading this book! Readers will engage in and expand their understanding of the world around them through a creative, rewarding map-making activity developed with learning and fun in mind! Step-by-step instructions guide them through this rewarding exercise, while a simple history and explanation of cartography allows them to feel a part of something both fascinating and epic.","English",22.6,16.95,"526--dc23","24 pp.",{"$f":"Table1[[#This Row],['# Books]]*Table1[[#This Row],[QTY]]","v":0},{"$f":"Table1[[#This Row],[QTY]]*Table1[[#This Row],[S&L Price]]","v":0}]
[null,null,44,null,"Where on Earth? Mapping Parts of the World",1,"The Equator","Library Bound Book","978-1-4824-6423-8",2018,"August 2017","Library","7.000 X 7.000","Author","Todd Bluthenthal",null,null,null,null,"I",null,"Grade 1 - 2","Grade 1 - 3","“The Earth is wearing a belt” is an age-old visual device teachers have used to explain the equator. In this volume, young readers will expand their comprehension of this important concept. With an understanding of the equator comes a grasping of the rotation of the Earth, climate, weather, and many other age-appropriate science concepts. Clean, accessible art on every spread—including diagrams, maps, and full-color photographs—help readers grasp these curriculum topics. That important main line of latitude we call the equator is made familiar through clean text and graphics in a way that every elementary reader is sure to understand!","English",22.6,16.95,"526’.6--dc23","24 pp.",{"$f":"Table1[[#This Row],['# Books]]*Table1[[#This Row],[QTY]]","v":0},{"$f":"Table1[[#This Row],[QTY]]*Table1[[#This Row],[S&L Price]]","v":0}]
[null,null,44,null,"Where on Earth? Mapping Parts of the World",1,"The Equator","eBook","978-1-4824-6424-5",2018,"August 2017",null,null,"Author","Todd Bluthenthal",null,null,null,null,"I",null,"Grade 1 - 2","Grade 1 - 3","“The Earth is wearing a belt” is an age-old visual device teachers have used to explain the equator. In this volume, young readers will expand their comprehension of this important concept. With an understanding of the equator comes a grasping of the rotation of the Earth, climate, weather, and many other age-appropriate science concepts. Clean, accessible art on every spread—including diagrams, maps, and full-color photographs—help readers grasp these curriculum topics. That important main line of latitude we call the equator is made familiar through clean text and graphics in a way that every elementary reader is sure to understand!","English",22.6,16.95,"526’.6--dc23","24 pp.",{"$f":"Table1[[#This Row],['# Books]]*Table1[[#This Row],[QTY]]","v":0},{"$f":"Table1[[#This Row],[QTY]]*Table1[[#This Row],[S&L Price]]","v":0}]
[null,null,44,null,"Where on Earth? Mapping Parts of the World",1,"The North Pole","Library Bound Book","978-1-4824-6431-3",2018,"August 2017","Library","7.000 X 7.000","Author","Todd Bluthenthal",null,null,null,null,"H",null,"Grade 1 - 2","Grade 1 - 3","Many young readers think of the North Pole as the place where Santa Claus lives with his wife, reindeer, and elves. The North Pole presents the geography and science of this polar region to young readers in an age-appropriate way. The clear language and easy-to-read, colorful maps and photographs of the North Pole will engage and expand any young reader’s grasp on the concepts of continents, climate, Earth’s rotation, and more! The fascinating history of the remarkable explorers of this frigid landscape is also included in the main text, introducing a part of history that’s sure to inspire!","English",22.6,16.95,"971.9--dc23","24 pp.",{"$f":"Table1[[#This Row],['# Books]]*Table1[[#This Row],[QTY]]","v":0},{"$f":"Table1[[#This Row],[QTY]]*Table1[[#This Row],[S&L Price]]","v":0}]
[null,null,44,null,"Where on Earth? Mapping Parts of the World",1,"The North Pole","eBook","978-1-4824-6432-0",2018,"August 2017",null,null,"Author","Todd Bluthenthal",null,null,null,null,"H",null,"Grade 1 - 2","Grade 1 - 3","Many young readers think of the North Pole as the place where Santa Claus lives with his wife, reindeer, and elves. The North Pole presents the geography and science of this polar region to young readers in an age-appropriate way. The clear language and easy-to-read, colorful maps and photographs of the North Pole will engage and expand any young reader’s grasp on the concepts of continents, climate, Earth’s rotation, and more! The fascinating history of the remarkable explorers of this frigid landscape is also included in the main text, introducing a part of history that’s sure to inspire!","English",22.6,16.95,"971.9--dc23","24 pp.",{"$f":"Table1[[#This Row],['# Books]]*Table1[[#This Row],[QTY]]","v":0},{"$f":"Table1[[#This Row],[QTY]]*Table1[[#This Row],[S&L Price]]","v":0}]
[null,null,44,null,"Where on Earth? Mapping Parts of the World",1,"The South Pole","Library Bound Book","978-1-4824-6435-1",2018,"August 2017","Library","7.000 X 7.000","Author","Todd Bluthenthal",null,null,null,null,"H",null,"Grade 1 - 2","Grade 1 - 3","The South Pole is cold, but there’s more to it than that! This book presents the cartography and earth science of this polar region to young readers in an engaging yet informative way. Several spreads are dedicated to the fascinating history of the brave explorers of this icy landscape, a part of history that is sure to impress all elementary readers! The colorful, easily understood maps and vivid photographs of the South Pole will expand reader’s grasp on the concepts of poles, continents, climate, Earth’s rotation, and so much more!","English",22.6,16.95,"919.89--dc23","24 pp.",{"$f":"Table1[[#This Row],['# Books]]*Table1[[#This Row],[QTY]]","v":0},{"$f":"Table1[[#This Row],[QTY]]*Table1[[#This Row],[S&L Price]]","v":0}]
[null,null,44,null,"Where on Earth? Mapping Parts of the World",1,"The South Pole","eBook","978-1-4824-6436-8",2018,"August 2017",null,null,"Author","Todd Bluthenthal",null,null,null,null,"H",null,"Grade 1 - 2","Grade 1 - 3","The South Pole is cold, but there’s more to it than that! This book presents the cartography and earth science of this polar region to young readers in an engaging yet informative way. Several spreads are dedicated to the fascinating history of the brave explorers of this icy landscape, a part of history that is sure to impress all elementary readers! The colorful, easily understood maps and vivid photographs of the South Pole will expand reader’s grasp on the concepts of poles, continents, climate, Earth’s rotation, and so much more!","English",22.6,16.95,"919.89--dc23","24 pp.",{"$f":"Table1[[#This Row],['# Books]]*Table1[[#This Row],[QTY]]","v":0},{"$f":"Table1[[#This Row],[QTY]]*Table1[[#This Row],[S&L Price]]","v":0}]
[null,null,45,null,"A Look at Dinosaurs",6,"A Look at Dinosaurs","Library Set","978-1-4824-1633-6",2015,"January 2015","Library","7.000 X 7.000",null,"",null,null,null,null,null,null,"Grade 1 - 2","Grade 1 - 3","Dinosaurs once ruled Earth, and they still rule in the imaginations of many fascinated readers. This motivating series presents several popular dinosaur species, including Tyrannosaurus Rex, Triceratops, and Stegosaurus. Readers will discover what these dinosaurs looked like, what they ate, and their special adaptations and behaviors. Colorful, imaginative illustrations of dinosaurs in action and accessible text will inspire young paleontologists everywhere.    • Size-comparison images help readers comprehend actual measurements  • High-interest subjects address topics of the elementary science curriculum  • Comprehension of science texts is a benchmark of the Common Core standards  • Age-appropriate content and high-interest subject matter that captivates readers’ attention    ","English",135.6,101.7,null,"24 pp.",{"$f":"Table1[[#This Row],['# Books]]*Table1[[#This Row],[QTY]]","v":0},{"$f":"Table1[[#This Row],[QTY]]*Table1[[#This Row],[S&L Price]]","v":0}]
[null,null,45,null,"A Look at Dinosaurs",1,"Allosaurus","Library Bound Book","978-1-4824-1818-7",2015,"January 2015","Library","7.000 X 7.000","Author","Nina Theresa",3.1,0.5,null,null,"J",null,"Grade 1 - 2","Grade 1 - 3","Allosaurus lived a long time ago, but scientists have learned a lot about how this creature lived and what it looked like. “Allosaurus” means “different lizard,” and this creature’s bones are different than those of other dinosaurs. Unlike some dinosaurs, it also lived all over the world. Readers will love exploring the prehistoric world of dinosaurs and find out just what’s so “different” about Allosaurus in this exciting book with amazing illustrations.","English",22.6,16.95,"567.912","24 pp.",{"$f":"Table1[[#This Row],['# Books]]*Table1[[#This Row],[QTY]]","v":0},{"$f":"Table1[[#This Row],[QTY]]*Table1[[#This Row],[S&L Price]]","v":0}]
[null,null,45,null,"A Look at Dinosaurs",1,"Allosaurus","eBook","978-1-4824-1820-0",2015,"January 2015",null,null,"Author","Nina Theresa",3.1,0.5,null,null,"J",null,"Grade 1 - 2","Grade 1 - 3","Allosaurus lived a long time ago, but scientists have learned a lot about how this creature lived and what it looked like. “Allosaurus” means “different lizard,” and this creature’s bones are different than those of other dinosaurs. Unlike some dinosaurs, it also lived all over the world. Readers will love exploring the prehistoric world of dinosaurs and find out just what’s so “different” about Allosaurus in this exciting book with amazing illustrations.","English",22.6,16.95,"567.912","24 pp.",{"$f":"Table1[[#This Row],['# Books]]*Table1[[#This Row],[QTY]]","v":0},{"$f":"Table1[[#This Row],[QTY]]*Table1[[#This Row],[S&L Price]]","v":0}]
[null,null,45,null,"A Look at Dinosaurs",1,"Diplodocus","Library Bound Book","978-1-4824-1823-1",2015,"January 2015","Library","7.000 X 7.000","Author","Thomas George",3.2,0.5,null,null,"I",null,"Grade 1 - 2","Grade 1 - 3","Diplodocus may have called prehistoric North America home, but there’s not much about his world that’s similar to ours. Diplodocus, which means “double beam,” is named after its bones. It knew how to fight off predators with a tail whip that was moved at 800 miles per hour! These fascinating creatures lived interesting lives long ago, and readers will love learning about them with the help of fantastic illustrations that show us just what these animals looked like.","English",22.6,16.95,"567.913","24 pp.",{"$f":"Table1[[#This Row],['# Books]]*Table1[[#This Row],[QTY]]","v":0},{"$f":"Table1[[#This Row],[QTY]]*Table1[[#This Row],[S&L Price]]","v":0}]
[null,null,45,null,"A Look at Dinosaurs",1,"Diplodocus","eBook","978-1-4824-1824-8",2015,"January 2015",null,null,"Author","Thomas George",3.2,0.5,null,null,"I",null,"Grade 1 - 2","Grade 1 - 3","Diplodocus may have called prehistoric North America home, but there’s not much about his world that’s similar to ours. Diplodocus, which means “double beam,” is named after its bones. It knew how to fight off predators with a tail whip that was moved at 800 miles per hour! These fascinating creatures lived interesting lives long ago, and readers will love learning about them with the help of fantastic illustrations that show us just what these animals looked like.","English",22.6,16.95,"567.913","24 pp.",{"$f":"Table1[[#This Row],['# Books]]*Table1[[#This Row],[QTY]]","v":0},{"$f":"Table1[[#This Row],[QTY]]*Table1[[#This Row],[S&L Price]]","v":0}]
[null,null,45,null,"A Look at Dinosaurs",1,"Stegosaurus","Library Bound Book","978-1-4824-1826-2",2015,"January 2015","Library","7.000 X 7.000","Author","Brian Thomas",3.4,0.5,null,null,"J",null,"Grade 1 - 2","Grade 1 - 3","Stegosaurus means “roofed lizard,” and everyone knows about the bony plates on its back. Scientists know a lot about these animals and their special plates, and now readers will learn how the plates kept Stegosaurus safe and even kept it warm when the weather outside was colder. From its spiky tail used to fight off other dinosaurs to the eggs it laid to have babies, Stegosaurus is an incredible animal readers will love learning about with the help of color illustrations showing what it likely looked like millions of years ago.","English",22.6,16.95,"567.915","24 pp.",{"$f":"Table1[[#This Row],['# Books]]*Table1[[#This Row],[QTY]]","v":0},{"$f":"Table1[[#This Row],[QTY]]*Table1[[#This Row],[S&L Price]]","v":0}]
[null,null,45,null,"A Look at Dinosaurs",1,"Stegosaurus","eBook","978-1-4824-1828-6",2015,"January 2015",null,null,"Author","Brian Thomas",3.4,0.5,null,null,"J",null,"Grade 1 - 2","Grade 1 - 3","Stegosaurus means “roofed lizard,” and everyone knows about the bony plates on its back. Scientists know a lot about these animals and their special plates, and now readers will learn how the plates kept Stegosaurus safe and even kept it warm when the weather outside was colder. From its spiky tail used to fight off other dinosaurs to the eggs it laid to have babies, Stegosaurus is an incredible animal readers will love learning about with the help of color illustrations showing what it likely looked like millions of years ago.","English",22.6,16.95,"567.915","24 pp.",{"$f":"Table1[[#This Row],['# Books]]*Table1[[#This Row],[QTY]]","v":0},{"$f":"Table1[[#This Row],[QTY]]*Table1[[#This Row],[S&L Price]]","v":0}]
[null,null,45,null,"A Look at Dinosaurs",1,"Triceratops","Library Bound Book","978-1-4824-1830-9",2015,"January 2015","Library","7.000 X 7.000","Author","Daisy Allyn",3,0.5,null,null,"J",null,"Grade 1 - 2","Grade 1 - 3","Triceratops lived millions of years ago, but its distinctive “three-horned face” has made it a favorite dinosaur for many. Readers will love learning about this creature with the help of colorful illustrations that show how Triceratops lived and what it looked like among the fauna of prehistoric Earth. With a body 30 feet long and weighing as much as three cars, readers will explore the life and times of this fascinating prehistoric creature.","English",22.6,16.95,"567.9158","24 pp.",{"$f":"Table1[[#This Row],['# Books]]*Table1[[#This Row],[QTY]]","v":0},{"$f":"Table1[[#This Row],[QTY]]*Table1[[#This Row],[S&L Price]]","v":0}]
[null,null,45,null,"A Look at Dinosaurs",1,"Triceratops","eBook","978-1-4824-1832-3",2015,"January 2015",null,null,"Author","Daisy Allyn",3,0.5,null,null,"J",null,"Grade 1 - 2","Grade 1 - 3","Triceratops lived millions of years ago, but its distinctive “three-horned face” has made it a favorite dinosaur for many. Readers will love learning about this creature with the help of colorful illustrations that show how Triceratops lived and what it looked like among the fauna of prehistoric Earth. With a body 30 feet long and weighing as much as three cars, readers will explore the life and times of this fascinating prehistoric creature.","English",22.6,16.95,"567.9158","24 pp.",{"$f":"Table1[[#This Row],['# Books]]*Table1[[#This Row],[QTY]]","v":0},{"$f":"Table1[[#This Row],[QTY]]*Table1[[#This Row],[S&L Price]]","v":0}]
[null,null,45,null,"A Look at Dinosaurs",1,"Tyrannosaurus Rex","Library Bound Book","978-1-4824-1834-7",2015,"January 2015","Library","7.000 X 7.000","Author","Daisy Allyn",3.6,0.5,null,null,"J",null,"Grade 1 - 2","Grade 1 - 3","Scientists consider Tyrannosaurus rex the king of dinosaurs, and readers will find out exactly why in this exciting book. With amazing color illustrations showing the fierce Tyrannosaurus rex hunting and eating on two legs, readers will see just how powerful and scary this prehistoric creature was. With razor-sharp teeth and more than 40 feet long, readers will be happy the T-rex lived long ago and isn’t around to snack on anything today!","English",22.6,16.95,"567.912","24 pp.",{"$f":"Table1[[#This Row],['# Books]]*Table1[[#This Row],[QTY]]","v":0},{"$f":"Table1[[#This Row],[QTY]]*Table1[[#This Row],[S&L Price]]","v":0}]
[null,null,45,null,"A Look at Dinosaurs",1,"Tyrannosaurus Rex","eBook","978-1-4824-1836-1",2015,"January 2015",null,null,"Author","Daisy Allyn",3.6,0.5,null,null,"J",null,"Grade 1 - 2","Grade 1 - 3","Scientists consider Tyrannosaurus rex the king of dinosaurs, and readers will find out exactly why in this exciting book. With amazing color illustrations showing the fierce Tyrannosaurus rex hunting and eating on two legs, readers will see just how powerful and scary this prehistoric creature was. With razor-sharp teeth and more than 40 feet long, readers will be happy the T-rex lived long ago and isn’t around to snack on anything today!","English",22.6,16.95,"567.912","24 pp.",{"$f":"Table1[[#This Row],['# Books]]*Table1[[#This Row],[QTY]]","v":0},{"$f":"Table1[[#This Row],[QTY]]*Table1[[#This Row],[S&L Price]]","v":0}]
[null,null,45,null,"A Look at Dinosaurs",1,"Velociraptor","Library Bound Book","978-1-4824-1838-5",2015,"January 2015","Library","7.000 X 7.000","Author","Cory Lee",3.6,0.5,null,null,"J",null,"Grade 1 - 2","Grade 1 - 3","Velociraptor fossils were first discovered in 1923 and quickly became known as one of the fiercest—and feathered—predators of the prehistoric age. Only about 6 feet long as an adult, these amazing animals hunted in groups and used their brains to steal eggs and find other food. Readers will love learning what these creatures looked like with the help of colorful illustrations, and detailed text explains just how these dangerous dinosaurs lived millions of years ago.","English",22.6,16.95,"567.912","24 pp.",{"$f":"Table1[[#This Row],['# Books]]*Table1[[#This Row],[QTY]]","v":0},{"$f":"Table1[[#This Row],[QTY]]*Table1[[#This Row],[S&L Price]]","v":0}]
[null,null,45,null,"A Look at Dinosaurs",1,"Velociraptor","eBook","978-1-4824-1840-8",2015,"January 2015",null,null,"Author","Cory Lee",3.6,0.5,null,null,"J",null,"Grade 1 - 2","Grade 1 - 3","Velociraptor fossils were first discovered in 1923 and quickly became known as one of the fiercest—and feathered—predators of the prehistoric age. Only about 6 feet long as an adult, these amazing animals hunted in groups and used their brains to steal eggs and find other food. Readers will love learning what these creatures looked like with the help of colorful illustrations, and detailed text explains just how these dangerous dinosaurs lived millions of years ago.","English",22.6,16.95,"567.912","24 pp.",{"$f":"Table1[[#This Row],['# Books]]*Table1[[#This Row],[QTY]]","v":0},{"$f":"Table1[[#This Row],[QTY]]*Table1[[#This Row],[S&L Price]]","v":0}]
[null,null,45,null,"Guess That Animal!",6,"Guess That Animal!","Library Set","978-1-4824-4587-9",2017,"August 2016","Library","7.000 X 7.000",null,"",null,null,null,null,null,null,"Grade 1 - 2","Grade 1 - 3","When we take a close look at a small part of a picture of an animal, it might be hard to guess what kind of animal it is. But since mammals have body hair, reptiles have scales, and birds have feathers, there are always clues we can use to figure it out. Readers get a chance to do just that! Each book introduces one of the main animal groups, including their defining characteristics. Then, up-close photographs and brief descriptions invite readers to guess various animals, which are revealed on subsequent pages.","English",135.6,101.7,null,"24 pp.",{"$f":"Table1[[#This Row],['# Books]]*Table1[[#This Row],[QTY]]","v":0},{"$f":"Table1[[#This Row],[QTY]]*Table1[[#This Row],[S&L Price]]","v":0}]
[null,null,45,null,"Guess That Animal!",1,"Name That Amphibian!","Library Bound Book","978-1-4824-4741-5",2017,"August 2016","Library","7.000 X 7.000","Author","Demi Jackson",3,0.5,null,null,"H","530L","Grade 1 - 2","Grade 1 - 3","Amphibians share many characteristics, including slimy-looking skin and a life cycle that includes time in the water and time on land. Many species of these fascinating animals have their own unique look. In this book, readers are introduced to the amphibian group and then are shown a super close-up of an animal. The following spread reveals what amphibian it is as well as more information about it. With cool images of amphibians such as the purple frog and the mysterious caecilian, this book is sure to intrigue readers with awesome, understandable biology information.","English",22.6,16.95,"597.8--dc23","24 pp.",{"$f":"Table1[[#This Row],['# Books]]*Table1[[#This Row],[QTY]]","v":0},{"$f":"Table1[[#This Row],[QTY]]*Table1[[#This Row],[S&L Price]]","v":0}]
[null,null,45,null,"Guess That Animal!",1,"Name That Amphibian!","eBook","978-1-4824-4722-4",2017,"August 2016",null,null,"Author","Demi Jackson",null,null,null,null,"H","530L","Grade 1 - 2","Grade 1 - 3","Amphibians share many characteristics, including slimy-looking skin and a life cycle that includes time in the water and time on land. Many species of these fascinating animals have their own unique look. In this book, readers are introduced to the amphibian group and then are shown a super close-up of an animal. The following spread reveals what amphibian it is as well as more information about it. With cool images of amphibians such as the purple frog and the mysterious caecilian, this book is sure to intrigue readers with awesome, understandable biology information.","English",22.6,16.95,"597.8--dc23","24 pp.",{"$f":"Table1[[#This Row],['# Books]]*Table1[[#This Row],[QTY]]","v":0},{"$f":"Table1[[#This Row],[QTY]]*Table1[[#This Row],[S&L Price]]","v":0}]
[null,null,45,null,"Guess That Animal!",1,"Name That Bird!","Library Bound Book","978-1-4824-4742-2",2017,"August 2016","Library","7.000 X 7.000","Author","Demi Jackson",2.6,0.5,null,null,"H","530L","Grade 1 - 2","Grade 1 - 3","There may be no bird’s plumage more recognizable than the pink feathers of the flamingo! But, if you saw its feathers super close up, could you still guess the bird? Readers learn all about many kinds of birds through uniquely formatted photographs and science content. They’ll first encounter a full-color close-up of some cool feature of a bird, such as a webbed foot or sharp beak, and a bit of information about the bird. When they turn the page, the name of the bird is revealed, as is the whole beautiful photograph of it in the wild.","English",22.6,16.95,"598--dc23","24 pp.",{"$f":"Table1[[#This Row],['# Books]]*Table1[[#This Row],[QTY]]","v":0},{"$f":"Table1[[#This Row],[QTY]]*Table1[[#This Row],[S&L Price]]","v":0}]
[null,null,45,null,"Guess That Animal!",1,"Name That Bird!","eBook","978-1-4824-4726-2",2017,"August 2016",null,null,"Author","Demi Jackson",null,null,null,null,"H","530L","Grade 1 - 2","Grade 1 - 3","There may be no bird’s plumage more recognizable than the pink feathers of the flamingo! But, if you saw its feathers super close up, could you still guess the bird? Readers learn all about many kinds of birds through uniquely formatted photographs and science content. They’ll first encounter a full-color close-up of some cool feature of a bird, such as a webbed foot or sharp beak, and a bit of information about the bird. When they turn the page, the name of the bird is revealed, as is the whole beautiful photograph of it in the wild.","English",22.6,16.95,"598--dc23","24 pp.",{"$f":"Table1[[#This Row],['# Books]]*Table1[[#This Row],[QTY]]","v":0},{"$f":"Table1[[#This Row],[QTY]]*Table1[[#This Row],[S&L Price]]","v":0}]
[null,null,45,null,"Guess That Animal!",1,"Name That Bug!","Library Bound Book","978-1-4824-4744-6",2017,"August 2016","Library","7.000 X 7.000","Author","Demi Jackson",2.7,0.5,null,null,"H","560L","Grade 1 - 2","Grade 1 - 3","One of the easiest ways to tell what animal group a bug belongs in is to count its legs. However, there are many other interesting bug body parts that give clues as to what kind of living thing it is. Readers learn all about insects and arachnids in a fun format in which they’re shown a close-up photograph and given a few facts about the pictured creature. The answer is revealed on the following pages. Wings, legs, mouths, and exoskeletons are shown in full-color and complemented by science text hinting at what awaits readers when they turn the page!","English",22.6,16.95,"595.7--dc23","24 pp.",{"$f":"Table1[[#This Row],['# Books]]*Table1[[#This Row],[QTY]]","v":0},{"$f":"Table1[[#This Row],[QTY]]*Table1[[#This Row],[S&L Price]]","v":0}]
[null,null,45,null,"Guess That Animal!",1,"Name That Bug!","eBook","978-1-4824-4728-6",2017,"August 2016",null,null,"Author","Demi Jackson",null,null,null,null,"H","560L","Grade 1 - 2","Grade 1 - 3","One of the easiest ways to tell what animal group a bug belongs in is to count its legs. However, there are many other interesting bug body parts that give clues as to what kind of living thing it is. Readers learn all about insects and arachnids in a fun format in which they’re shown a close-up photograph and given a few facts about the pictured creature. The answer is revealed on the following pages. Wings, legs, mouths, and exoskeletons are shown in full-color and complemented by science text hinting at what awaits readers when they turn the page!","English",22.6,16.95,"595.7--dc23","24 pp.",{"$f":"Table1[[#This Row],['# Books]]*Table1[[#This Row],[QTY]]","v":0},{"$f":"Table1[[#This Row],[QTY]]*Table1[[#This Row],[S&L Price]]","v":0}]
[null,null,45,null,"Guess That Animal!",1,"Name That Fish!","Library Bound Book","978-1-4824-4745-3",2017,"August 2016","Library","7.000 X 7.000","Author","Santana Hunt",2.8,0.5,null,null,"H","580L","Grade 1 - 2","Grade 1 - 3","Fish come in all shapes, sizes, and colors. Their fins are uniquely shaped for what kind of swimming they do, and other body parts are adapted to shallow water habitats or life deep in the ocean. Through hints and close-up photographs of one feature of a fish, readers are introduced to many kinds of fish from all over the world. All they need to do is turn the page to find out which fish it is! Full-color photographs highlight the amazing marine environments fish are found in as well as the special parts of each species.","English",22.6,16.95,"597--dc23","24 pp.",{"$f":"Table1[[#This Row],['# Books]]*Table1[[#This Row],[QTY]]","v":0},{"$f":"Table1[[#This Row],[QTY]]*Table1[[#This Row],[S&L Price]]","v":0}]
[null,null,45,null,"Guess That Animal!",1,"Name That Fish!","eBook","978-1-4824-4731-6",2017,"August 2016",null,null,"Author","Santana Hunt",null,null,null,null,"H","580L","Grade 1 - 2","Grade 1 - 3","Fish come in all shapes, sizes, and colors. Their fins are uniquely shaped for what kind of swimming they do, and other body parts are adapted to shallow water habitats or life deep in the ocean. Through hints and close-up photographs of one feature of a fish, readers are introduced to many kinds of fish from all over the world. All they need to do is turn the page to find out which fish it is! Full-color photographs highlight the amazing marine environments fish are found in as well as the special parts of each species.","English",22.6,16.95,"597--dc23","24 pp.",{"$f":"Table1[[#This Row],['# Books]]*Table1[[#This Row],[QTY]]","v":0},{"$f":"Table1[[#This Row],[QTY]]*Table1[[#This Row],[S&L Price]]","v":0}]
[null,null,45,null,"Guess That Animal!",1,"Name That Mammal!","Library Bound Book","978-1-4824-4746-0",2017,"August 2016","Library","7.000 X 7.000","Author","Santana Hunt",2.8,0.5,null,null,"H","560L","Grade 1 - 2","Grade 1 - 3","In order to be classified as a mammal, animals must have fur or hair, be warm-blooded, and mothers must give birth to live young. In this specially formatted book, readers learn about this animal group as well as many example of mammal species. Full-color photographs illustrate  interesting body adaptations of each animal, first in close-up, along with facts about the animal that might clue readers in to what it is. The next pages reveal the whole animal and much more fun science information about it.","English",22.6,16.95,"599--dc23","24 pp.",{"$f":"Table1[[#This Row],['# Books]]*Table1[[#This Row],[QTY]]","v":0},{"$f":"Table1[[#This Row],[QTY]]*Table1[[#This Row],[S&L Price]]","v":0}]
[null,null,45,null,"Guess That Animal!",1,"Name That Mammal!","eBook","978-1-4824-4738-5",2017,"August 2016",null,null,"Author","Santana Hunt",null,null,null,null,"H","560L","Grade 1 - 2","Grade 1 - 3","In order to be classified as a mammal, animals must have fur or hair, be warm-blooded, and mothers must give birth to live young. In this specially formatted book, readers learn about this animal group as well as many example of mammal species. Full-color photographs illustrate  interesting body adaptations of each animal, first in close-up, along with facts about the animal that might clue readers in to what it is. The next pages reveal the whole animal and much more fun science information about it.","English",22.6,16.95,"599--dc23","24 pp.",{"$f":"Table1[[#This Row],['# Books]]*Table1[[#This Row],[QTY]]","v":0},{"$f":"Table1[[#This Row],[QTY]]*Table1[[#This Row],[S&L Price]]","v":0}]
[null,null,45,null,"Guess That Animal!",1,"Name That Reptile!","Library Bound Book","978-1-4824-4747-7",2017,"August 2016","Library","7.000 X 7.000","Author","Santana Hunt",2.8,0.5,null,null,"H","580L","Grade 1 - 2","Grade 1 - 3","If you saw a reptile’s scales up close, could you guess what animal they belonged to? What about sharp teeth or long claws? In this uniquely laid out book, readers learn the characteristics of reptiles and then are introduced to several different kinds. First, an up-close photograph highlight some special feature of the reptile, such as a fat tail or long snout, and fun facts start to describe the reptile’s habits and home. Readers only need to turn the page to find out what animal it is and even more great science information about it!","English",22.6,16.95,"597.9--dc23","24 pp.",{"$f":"Table1[[#This Row],['# Books]]*Table1[[#This Row],[QTY]]","v":0},{"$f":"Table1[[#This Row],[QTY]]*Table1[[#This Row],[S&L Price]]","v":0}]
[null,null,45,null,"Guess That Animal!",1,"Name That Reptile!","eBook","978-1-4824-4740-8",2017,"August 2016",null,null,"Author","Santana Hunt",null,null,null,null,"H","580L","Grade 1 - 2","Grade 1 - 3","If you saw a reptile’s scales up close, could you guess what animal they belonged to? What about sharp teeth or long claws? In this uniquely laid out book, readers learn the characteristics of reptiles and then are introduced to several different kinds. First, an up-close photograph highlight some special feature of the reptile, such as a fat tail or long snout, and fun facts start to describe the reptile’s habits and home. Readers only need to turn the page to find out what animal it is and even more great science information about it!","English",22.6,16.95,"597.9--dc23","24 pp.",{"$f":"Table1[[#This Row],['# Books]]*Table1[[#This Row],[QTY]]","v":0},{"$f":"Table1[[#This Row],[QTY]]*Table1[[#This Row],[S&L Price]]","v":0}]
[null,null,46,null,"Animal Look-Alikes",6,"Animal Look-Alikes","Library Set","978-1-4824-2544-4",2016,"August 2015","Library","7.000 X 7.000",null,"",null,null,null,null,null,null,"Grade 1 - 2","Grade 1 - 3","Lots of animals are easy to spot, but sometimes it can get a bit tricky. Readers will take a close look at similar-looking creatures and learn what makes each unique. Readers will dive into the sea and explore the differences between dolphins and porpoises as well as seals and sea lions. They’ll also explore the depths of the jungle and learn how to tell a jaguar and leopard apart with the help of vibrant photographs that show every detail of these amazing animals.\n\n\n\n•\tAccessible graphics and charts show differences between animals\n\n•\tHigh-interest subjects address topics of the elementary life science curriculum\n\n• \tComprehension of science texts is a benchmark of the Common Core Standards\n\n","English",135.6,101.7,null,"24 pp.",{"$f":"Table1[[#This Row],['# Books]]*Table1[[#This Row],[QTY]]","v":0},{"$f":"Table1[[#This Row],[QTY]]*Table1[[#This Row],[S&L Price]]","v":0}]
[null,null,46,null,"Animal Look-Alikes",1,"Alligator or Crocodile?","Library Bound Book","978-1-4824-2710-3",2016,"August 2015","Library","7.000 X 7.000","Author","Rob Ryndak",3.8,0.5,null,null,"I","810L","Grade 1 - 2","Grade 1 - 3","If a person were ever face-to-face with a huge, hungry animal with sharp teeth, they probably wouldn’t care exactly what that animal was! But from a safe location, can we tell whether it was a crocodile or alligator that wanted to take a bite? By examining their jaw structure, teeth, and other physical features, we can easily tell these two animals apart! Graphic organizers and amazing images highlight each animal’s habitat and other small differences between the two fearsome creatures, showing readers just what creature is lurking below the waters.","English",22.6,16.95,"597.98","24 pp.",{"$f":"Table1[[#This Row],['# Books]]*Table1[[#This Row],[QTY]]","v":0},{"$f":"Table1[[#This Row],[QTY]]*Table1[[#This Row],[S&L Price]]","v":0}]
[null,null,46,null,"Animal Look-Alikes",1,"Alligator or Crocodile?","eBook","978-1-4824-2711-0",2016,"August 2015",null,null,"Author","Rob Ryndak",3.8,0.5,null,null,"I","810L","Grade 1 - 2","Grade 1 - 3","If a person were ever face-to-face with a huge, hungry animal with sharp teeth, they probably wouldn’t care exactly what that animal was! But from a safe location, can we tell whether it was a crocodile or alligator that wanted to take a bite? By examining their jaw structure, teeth, and other physical features, we can easily tell these two animals apart! Graphic organizers and amazing images highlight each animal’s habitat and other small differences between the two fearsome creatures, showing readers just what creature is lurking below the waters.","English",22.6,16.95,"597.98","24 pp.",{"$f":"Table1[[#This Row],['# Books]]*Table1[[#This Row],[QTY]]","v":0},{"$f":"Table1[[#This Row],[QTY]]*Table1[[#This Row],[S&L Price]]","v":0}]
[null,null,46,null,"Animal Look-Alikes",1,"Dolphin or Porpoise?","Library Bound Book","978-1-4824-2714-1",2016,"August 2015","Library","7.000 X 7.000","Author","Rob Ryndak",3.7,0.5,null,null,"I","730L","Grade 1 - 2","Grade 1 - 3","Dolphins and porpoises look very similar, but while these mammals share some features they aren’t even in the same family! From tooth and jaw shape to the way they chat with one another, these amazing ocean animals are unique in many ways. It may be tough to tell them apart when catching a glimpse of a fin or nose in the water, but this book offers a closer look, transforming readers into dolphin and porpoise experts in no time!","English",22.6,16.95,"599.53","24 pp.",{"$f":"Table1[[#This Row],['# Books]]*Table1[[#This Row],[QTY]]","v":0},{"$f":"Table1[[#This Row],[QTY]]*Table1[[#This Row],[S&L Price]]","v":0}]
[null,null,46,null,"Animal Look-Alikes",1,"Dolphin or Porpoise?","eBook","978-1-4824-2715-8",2016,"August 2015",null,null,"Author","Rob Ryndak",3.7,0.5,null,null,"I","730L","Grade 1 - 2","Grade 1 - 3","Dolphins and porpoises look very similar, but while these mammals share some features they aren’t even in the same family! From tooth and jaw shape to the way they chat with one another, these amazing ocean animals are unique in many ways. It may be tough to tell them apart when catching a glimpse of a fin or nose in the water, but this book offers a closer look, transforming readers into dolphin and porpoise experts in no time!","English",22.6,16.95,"599.53","24 pp.",{"$f":"Table1[[#This Row],['# Books]]*Table1[[#This Row],[QTY]]","v":0},{"$f":"Table1[[#This Row],[QTY]]*Table1[[#This Row],[S&L Price]]","v":0}]
[null,null,46,null,"Animal Look-Alikes",1,"Frog or Toad?","Library Bound Book","978-1-4824-2718-9",2016,"August 2015","Library","7.000 X 7.000","Author","Rob Ryndak",3,0.5,null,null,"I","640L","Grade 1 - 2","Grade 1 - 3","Frogs and toads are some of the most confusing amphibians to classify. While some of their physical attributes are easy to tell apart, if we take a deeper look at these animals we find it’s not quite that simple. From poisonous skin and bulging eyes to their amazing life cycles, these creatures are as interesting to study as they are difficult to categorize. Once we break down the difference between “true” frogs and “true” toads, it’s easy to see why so many have trouble telling the two creatures apart!","English",22.6,16.95,"597.8","24 pp.",{"$f":"Table1[[#This Row],['# Books]]*Table1[[#This Row],[QTY]]","v":0},{"$f":"Table1[[#This Row],[QTY]]*Table1[[#This Row],[S&L Price]]","v":0}]
[null,null,46,null,"Animal Look-Alikes",1,"Frog or Toad?","eBook","978-1-4824-2719-6",2016,"August 2015",null,null,"Author","Rob Ryndak",3,0.5,null,null,"I","640L","Grade 1 - 2","Grade 1 - 3","Frogs and toads are some of the most confusing amphibians to classify. While some of their physical attributes are easy to tell apart, if we take a deeper look at these animals we find it’s not quite that simple. From poisonous skin and bulging eyes to their amazing life cycles, these creatures are as interesting to study as they are difficult to categorize. Once we break down the difference between “true” frogs and “true” toads, it’s easy to see why so many have trouble telling the two creatures apart!","English",22.6,16.95,"597.8","24 pp.",{"$f":"Table1[[#This Row],['# Books]]*Table1[[#This Row],[QTY]]","v":0},{"$f":"Table1[[#This Row],[QTY]]*Table1[[#This Row],[S&L Price]]","v":0}]
[null,null,46,null,"Animal Look-Alikes",1,"Leopard or Jaguar?","Library Bound Book","978-1-4824-2722-6",2016,"August 2015","Library","7.000 X 7.000","Author","Rob Ryndak",3.2,0.5,null,null,"I","690L","Grade 1 - 2","Grade 1 - 3","Jungle cats can be tough to tell apart, but often it’s the spots that give an animal away. With leopards and jaguars, knowing where the animal lives can be a big hint as to which cat is stalking its prey. Telling the two animals apart is easy once we take a closer look. Jaguars are heavier than leopards and their features are unique when you take a good look at their heads. Amazing full-color photographs ensure readers don’t have to tell these magnificent animals apart!","English",22.6,16.95,"599.75","24 pp.",{"$f":"Table1[[#This Row],['# Books]]*Table1[[#This Row],[QTY]]","v":0},{"$f":"Table1[[#This Row],[QTY]]*Table1[[#This Row],[S&L Price]]","v":0}]
[null,null,46,null,"Animal Look-Alikes",1,"Leopard or Jaguar?","eBook","978-1-4824-2723-3",2016,"August 2015",null,null,"Author","Rob Ryndak",3.2,0.5,null,null,"I","690L","Grade 1 - 2","Grade 1 - 3","Jungle cats can be tough to tell apart, but often it’s the spots that give an animal away. With leopards and jaguars, knowing where the animal lives can be a big hint as to which cat is stalking its prey. Telling the two animals apart is easy once we take a closer look. Jaguars are heavier than leopards and their features are unique when you take a good look at their heads. Amazing full-color photographs ensure readers don’t have to tell these magnificent animals apart!","English",22.6,16.95,"599.75","24 pp.",{"$f":"Table1[[#This Row],['# Books]]*Table1[[#This Row],[QTY]]","v":0},{"$f":"Table1[[#This Row],[QTY]]*Table1[[#This Row],[S&L Price]]","v":0}]
[null,null,46,null,"Animal Look-Alikes",1,"Seal or Sea Lion?","Library Bound Book","978-1-4824-2726-4",2016,"August 2015","Library","7.000 X 7.000","Author","Rob Ryndak",3.3,0.5,null,null,"I","710L","Grade 1 - 2","Grade 1 - 3","What’s the difference between a seal and a sea lion? These “second cousins” of the sea look similar, but there are many ways to tell these creatures apart. From ear shape to the noises they make to communicate, seals and sea lions are amazing creatures with both shared features and many truly unique attributes. They both share an ocean habitat, but when readers take a closer look, it’s easy to discover how they each fight off predators, mate, and raise their young in different ways. Captivating full-color photographs help to bring these marvelous mammals to vivid life.","English",22.6,16.95,"599.79—dc23","24 pp.",{"$f":"Table1[[#This Row],['# Books]]*Table1[[#This Row],[QTY]]","v":0},{"$f":"Table1[[#This Row],[QTY]]*Table1[[#This Row],[S&L Price]]","v":0}]
[null,null,46,null,"Animal Look-Alikes",1,"Seal or Sea Lion?","eBook","978-1-4824-2727-1",2016,"August 2015",null,null,"Author","Rob Ryndak",3.3,0.5,null,null,"I","710L","Grade 1 - 2","Grade 1 - 3","What’s the difference between a seal and a sea lion? These “second cousins” of the sea look similar, but there are many ways to tell these creatures apart. From ear shape to the noises they make to communicate, seals and sea lions are amazing creatures with both shared features and many truly unique attributes. They both share an ocean habitat, but when readers take a closer look, it’s easy to discover how they each fight off predators, mate, and raise their young in different ways. Captivating full-color photographs help to bring these marvelous mammals to vivid life.","English",22.6,16.95,"599.79—dc23","24 pp.",{"$f":"Table1[[#This Row],['# Books]]*Table1[[#This Row],[QTY]]","v":0},{"$f":"Table1[[#This Row],[QTY]]*Table1[[#This Row],[S&L Price]]","v":0}]
[null,null,46,null,"Animal Look-Alikes",1,"Turtle or Tortoise?","Library Bound Book","978-1-4824-2730-1",2016,"August 2015","Library","7.000 X 7.000","Author","Rob Ryndak",3.2,0.5,null,null,"I","660L","Grade 1 - 2","Grade 1 - 3","Both turtles and tortoises have shells and move pretty slowly. So what makes them different? And where to terrapins fit in? There’s much more going on with these amazing creatures than just carapaces and plastrons. From their family ties and foot size to their habitats, these animals look, live, and even eat differently. Some of these awesome animals can live for centuries! Readers will discover which of these reptiles can survive hundreds of years longer than humans, along with a host of other fun facts. Vivid photographs of turtles and tortoises in their natural habitat add further fascination for readers ready to tackle the differences between these two reptiles.","English",22.6,16.95,"597.92—dc23","24 pp.",{"$f":"Table1[[#This Row],['# Books]]*Table1[[#This Row],[QTY]]","v":0},{"$f":"Table1[[#This Row],[QTY]]*Table1[[#This Row],[S&L Price]]","v":0}]
[null,null,46,null,"Animal Look-Alikes",1,"Turtle or Tortoise?","eBook","978-1-4824-2731-8",2016,"August 2015",null,null,"Author","Rob Ryndak",3.2,0.5,null,null,"I","660L","Grade 1 - 2","Grade 1 - 3","Both turtles and tortoises have shells and move pretty slowly. So what makes them different? And where to terrapins fit in? There’s much more going on with these amazing creatures than just carapaces and plastrons. From their family ties and foot size to their habitats, these animals look, live, and even eat differently. Some of these awesome animals can live for centuries! Readers will discover which of these reptiles can survive hundreds of years longer than humans, along with a host of other fun facts. Vivid photographs of turtles and tortoises in their natural habitat add further fascination for readers ready to tackle the differences between these two reptiles.","English",22.6,16.95,"597.92—dc23","24 pp.",{"$f":"Table1[[#This Row],['# Books]]*Table1[[#This Row],[QTY]]","v":0},{"$f":"Table1[[#This Row],[QTY]]*Table1[[#This Row],[S&L Price]]","v":0}]
[null,null,46,null,"Nature's Grossest",6,"Nature's Grossest: Set 1","Library Set","978-1-4824-1634-3",2015,"January 2015","Library","7.000 X 7.000",null,"",null,null,null,null,null,null,"Grade 1 - 2","Grade 1 - 3","Horned lizards shoot a stinging blood out of their eyes. Octopuses disguise themselves with a black inky cloud. Snails leave behind a trail of slime. Creatures in the natural world do some pretty disgusting things! They're not trying to be gross. Rather, these adaptations help them survive in the tough conditions of the wild. This accessible, fun series will delight readers while introducing them to essential science curriculum concepts.     • High-interest topics engage reluctant readers  • Dynamic photographs feature animals in their native habitats and aid in reading comprehension  • Provides opportunities for examining informational text elements, an important facet of the Common Core English/Language Arts Standards  • Encourages scientific understanding of animals and their habitats  ","English",135.6,101.7,null,"24 pp.",{"$f":"Table1[[#This Row],['# Books]]*Table1[[#This Row],[QTY]]","v":0},{"$f":"Table1[[#This Row],[QTY]]*Table1[[#This Row],[S&L Price]]","v":0}]
[null,null,46,null,"Nature's Grossest",1,"Lizard Blood","Library Bound Book","978-1-4824-1843-9",2015,"January 2015","Library","7.000 X 7.000","Author","Roberto Betances",3.2,0.5,16,null,"I",null,"Grade 1 - 2","Grade 1 - 3","The horned lizard has one of the most astonishing ways of defending itself in the wild. It can shoot blood out of its eyes at its enemies! And that's not the only trick that this remarkable reptile performs. Readers will love learning about lizard adaptations in this entertaining look at one of nature's coolest, and weirdest, animals. Important science content is linked with fun, informative photographs and brightly written, achievable text.","English",22.6,16.95,"567.913","24 pp.",{"$f":"Table1[[#This Row],['# Books]]*Table1[[#This Row],[QTY]]","v":0},{"$f":"Table1[[#This Row],[QTY]]*Table1[[#This Row],[S&L Price]]","v":0}]
[null,null,46,null,"Nature's Grossest",1,"Lizard Blood","eBook","978-1-4824-1844-6",2015,"January 2015",null,null,"Author","Roberto Betances",3.2,0.5,16,null,"I",null,"Grade 1 - 2","Grade 1 - 3","The horned lizard has one of the most astonishing ways of defending itself in the wild. It can shoot blood out of its eyes at its enemies! And that's not the only trick that this remarkable reptile performs. Readers will love learning about lizard adaptations in this entertaining look at one of nature's coolest, and weirdest, animals. Important science content is linked with fun, informative photographs and brightly written, achievable text.","English",22.6,16.95,"567.913","24 pp.",{"$f":"Table1[[#This Row],['# Books]]*Table1[[#This Row],[QTY]]","v":0},{"$f":"Table1[[#This Row],[QTY]]*Table1[[#This Row],[S&L Price]]","v":0}]
[null,null,46,null,"Nature's Grossest",1,"Octopus Ink","Library Bound Book","978-1-4824-1845-3",2015,"January 2015","Library","7.000 X 7.000","Author","Kate Shoemaker",3.3,0.5,16,null,"I",null,"Grade 1 - 2","Grade 1 - 3","The octopus is a perfect animal to demonstrate the extraordinary adaptations that some animals possess to help them survive in their habitats. An octopus's abilities to camouflage itself and squeeze into tight places are great ways to hide from fearsome predators. They even have a few more bizarre talents. They can squirt ink clouds to screen their getaway or even create an inky image of another octopus! Readers will want to learn even more high-interest octopus facts after this colorful look at one of nature's grossest, and coolest, marine creatures.","English",22.6,16.95,"594","24 pp.",{"$f":"Table1[[#This Row],['# Books]]*Table1[[#This Row],[QTY]]","v":0},{"$f":"Table1[[#This Row],[QTY]]*Table1[[#This Row],[S&L Price]]","v":0}]
[null,null,46,null,"Nature's Grossest",1,"Octopus Ink","eBook","978-1-4824-1848-4",2015,"January 2015",null,null,"Author","Kate Shoemaker",3.3,0.5,16,null,"I",null,"Grade 1 - 2","Grade 1 - 3","The octopus is a perfect animal to demonstrate the extraordinary adaptations that some animals possess to help them survive in their habitats. An octopus's abilities to camouflage itself and squeeze into tight places are great ways to hide from fearsome predators. They even have a few more bizarre talents. They can squirt ink clouds to screen their getaway or even create an inky image of another octopus! Readers will want to learn even more high-interest octopus facts after this colorful look at one of nature's grossest, and coolest, marine creatures.","English",22.6,16.95,"594","24 pp.",{"$f":"Table1[[#This Row],['# Books]]*Table1[[#This Row],[QTY]]","v":0},{"$f":"Table1[[#This Row],[QTY]]*Table1[[#This Row],[S&L Price]]","v":0}]
[null,null,46,null,"Nature's Grossest",1,"Skunk Stench","Library Bound Book","978-1-4824-1851-4",2015,"January 2015","Library","7.000 X 7.000","Author","Kate Shoemaker",2.9,0.5,16,null,"I",null,"Grade 1 - 2","Grade 1 - 3","Phew! Luckily, a skunk's infamous stench isn't the way it smells all the time. Instead, it's a secret weapon. The black and white mammal can actually aim and squirt its stinky liquid at its enemy or create a cloud of disgusting smell as it runs away. Readers of this amusing and informative peek into one of nature's stinkiest creatures will learn there are several species of skunks and what to do to avoid being sprayed.","English",22.6,16.95,"599.76","24 pp.",{"$f":"Table1[[#This Row],['# Books]]*Table1[[#This Row],[QTY]]","v":0},{"$f":"Table1[[#This Row],[QTY]]*Table1[[#This Row],[S&L Price]]","v":0}]
[null,null,46,null,"Nature's Grossest",1,"Skunk Stench","eBook","978-1-4824-1852-1",2015,"January 2015",null,null,"Author","Kate Shoemaker",2.9,0.5,16,null,"I",null,"Grade 1 - 2","Grade 1 - 3","Phew! Luckily, a skunk's infamous stench isn't the way it smells all the time. Instead, it's a secret weapon. The black and white mammal can actually aim and squirt its stinky liquid at its enemy or create a cloud of disgusting smell as it runs away. Readers of this amusing and informative peek into one of nature's stinkiest creatures will learn there are several species of skunks and what to do to avoid being sprayed.","English",22.6,16.95,"599.76","24 pp.",{"$f":"Table1[[#This Row],['# Books]]*Table1[[#This Row],[QTY]]","v":0},{"$f":"Table1[[#This Row],[QTY]]*Table1[[#This Row],[S&L Price]]","v":0}]
[null,null,46,null,"Nature's Grossest",1,"Snail Slime","Library Bound Book","978-1-4824-1854-5",2015,"January 2015","Library","7.000 X 7.000","Author","Roberto Betances",3.3,0.5,18,null,"J",null,"Grade 1 - 2","Grade 1 - 3","Snails are definitely peculiar animals. They travel around on one foot with a spiral shell to protect them and leave a trail of slime as they go. Ew! Readers will find out why snails have this important adaptation, one that even helps them hang upside down. Vivid photographs of snails in action in the wild will help readers understand why some things we think are gross about animals are actually integral to their survival.","English",22.6,16.95,"594.3","24 pp.",{"$f":"Table1[[#This Row],['# Books]]*Table1[[#This Row],[QTY]]","v":0},{"$f":"Table1[[#This Row],[QTY]]*Table1[[#This Row],[S&L Price]]","v":0}]
[null,null,46,null,"Nature's Grossest",1,"Snail Slime","eBook","978-1-4824-1856-9",2015,"January 2015",null,null,"Author","Roberto Betances",3.3,0.5,18,null,"J",null,"Grade 1 - 2","Grade 1 - 3","Snails are definitely peculiar animals. They travel around on one foot with a spiral shell to protect them and leave a trail of slime as they go. Ew! Readers will find out why snails have this important adaptation, one that even helps them hang upside down. Vivid photographs of snails in action in the wild will help readers understand why some things we think are gross about animals are actually integral to their survival.","English",22.6,16.95,"594.3","24 pp.",{"$f":"Table1[[#This Row],['# Books]]*Table1[[#This Row],[QTY]]","v":0},{"$f":"Table1[[#This Row],[QTY]]*Table1[[#This Row],[S&L Price]]","v":0}]
[null,null,46,null,"Nature's Grossest",1,"Vulture Vomit","Library Bound Book","978-1-4824-1858-3",2015,"January 2015","Library","7.000 X 7.000","Author","Bert Wilberforce",3.3,0.5,18,null,"J",null,"Grade 1 - 2","Grade 1 - 3","Vultures have some pretty disgusting habits. Their idea of a yummy meal is carrion, or rotting meat. But they have an even grosser idea of how to protect themselves from their predators. They throw up on them! Vultures can make their acidic vomit fly several feet to burn their enemy. This also makes them lighter so they can fly away. Readers may think these adaptations are gross, but they'll keep turning the page to find out even more in this entertaining and brightly designed book.","English",22.6,16.95,"598.9","24 pp.",{"$f":"Table1[[#This Row],['# Books]]*Table1[[#This Row],[QTY]]","v":0},{"$f":"Table1[[#This Row],[QTY]]*Table1[[#This Row],[S&L Price]]","v":0}]
[null,null,46,null,"Nature's Grossest",1,"Vulture Vomit","eBook","978-1-4824-1860-6",2015,"January 2015",null,null,"Author","Bert Wilberforce",3.3,0.5,18,null,"J",null,"Grade 1 - 2","Grade 1 - 3","Vultures have some pretty disgusting habits. Their idea of a yummy meal is carrion, or rotting meat. But they have an even grosser idea of how to protect themselves from their predators. They throw up on them! Vultures can make their acidic vomit fly several feet to burn their enemy. This also makes them lighter so they can fly away. Readers may think these adaptations are gross, but they'll keep turning the page to find out even more in this entertaining and brightly designed book.","English",22.6,16.95,"598.9","24 pp.",{"$f":"Table1[[#This Row],['# Books]]*Table1[[#This Row],[QTY]]","v":0},{"$f":"Table1[[#This Row],[QTY]]*Table1[[#This Row],[S&L Price]]","v":0}]
[null,null,46,null,"Nature's Grossest",1,"Whale Poop","Library Bound Book","978-1-4824-1862-0",2015,"January 2015","Library","7.000 X 7.000","Author","Bert Wilberforce",3.3,0.5,18,null,"J",null,"Grade 1 - 2","Grade 1 - 3","Whales are awe-inspiring creatures. They move their gigantic bodies through water gracefully. But some of these majestic marine animals have an odd way of protecting themselves from bloodthirsty sharks and other predators. They can create a cloud of waste, or poop, to hide in or to confuse their pursuer. While that's amazing, perhaps it's even more incredible that one kind of whale poop is so valuable it's called \"floating gold\"! Readers will love all these facts and more in this fun, accessible book about these beautiful mammals.","English",22.6,16.95,"599.5","24 pp.",{"$f":"Table1[[#This Row],['# Books]]*Table1[[#This Row],[QTY]]","v":0},{"$f":"Table1[[#This Row],[QTY]]*Table1[[#This Row],[S&L Price]]","v":0}]
[null,null,46,null,"Nature's Grossest",1,"Whale Poop","eBook","978-1-4824-1864-4",2015,"January 2015",null,null,"Author","Bert Wilberforce",3.3,0.5,18,null,"J",null,"Grade 1 - 2","Grade 1 - 3","Whales are awe-inspiring creatures. They move their gigantic bodies through water gracefully. But some of these majestic marine animals have an odd way of protecting themselves from bloodthirsty sharks and other predators. They can create a cloud of waste, or poop, to hide in or to confuse their pursuer. While that's amazing, perhaps it's even more incredible that one kind of whale poop is so valuable it's called \"floating gold\"! Readers will love all these facts and more in this fun, accessible book about these beautiful mammals.","English",22.6,16.95,"599.5","24 pp.",{"$f":"Table1[[#This Row],['# Books]]*Table1[[#This Row],[QTY]]","v":0},{"$f":"Table1[[#This Row],[QTY]]*Table1[[#This Row],[S&L Price]]","v":0}]
[null,null,46,null,"Nature's Grossest",6,"Nature's Grossest: Sets 1 – 2","Library Set","978-1-5382-1295-0",2018,"January 2018","Library","7.000 X 7.000"," "," ",null,null,null,null,null,null,"Grade 1 - 2","Grade 1 - 3","Animals can be cute, deadly. . .and gross. In this amusing and informative collection, readers will be drawn to entertaining STEM topics and discover much about animal adaptations, an important theme in elementary science curricula. They'll learn that whales use poop to protect themselves, hyenas eat bones for nutrition, and many other crazy facts they'll be eager to share with others. Carefully chosen photographs accompany the engaging text.","English",271.2,203.4,null,"24 pp.",{"$f":"Table1[[#This Row],['# Books]]*Table1[[#This Row],[QTY]]","v":0},{"$f":"Table1[[#This Row],[QTY]]*Table1[[#This Row],[S&L Price]]","v":0}]
[null,null,46,null,"Nature's Grossest",12,"Nature's Grossest: Set 2","Library Set","978-1-5382-1284-4",2018,"January 2018","Library","7.000 X 7.000"," "," ",null,null,null,null,null,null,"Grade 1 - 2","Grade 1 - 3","Nature is a constant source of wonder, excitement, and astonishment, but it can also be disgusting. Yes, some of the animals we know and love, such as downy rabbits and fuzzy chicks, have behaviors that people find pretty gross. Young readers will find them totally captivating, though. They'll learn not only that rabbits eat excrement and chicks gobble up vomit, but, more importantly, why they have these strange adaptations. This high-interest set, a continuation of our popular series, will truly delight young zoologists.","English",135.6,101.7,null,"24 pp.",{"$f":"Table1[[#This Row],['# Books]]*Table1[[#This Row],[QTY]]","v":0},{"$f":"Table1[[#This Row],[QTY]]*Table1[[#This Row],[S&L Price]]","v":0}]
[null,null,46,null,"Nature's Grossest",1,"Caterpillars Eat Their Skin!","Library Bound Book","978-1-5382-0939-4",2018,"January 2018","Library","7.000 X 7.000","Author","Bert  Wilberforce ",null,null,null,null,"J",null,"Grade 1 - 2","Grade 1 - 3","Young naturalists learn early that when butterflies and moths first hatch from an egg, they’re in the form of caterpillars. They probably don’t know that as caterpillars grow, they shed skin, and then eat it. Readers will find this entertaining and accessible look at these ubiquitous larvae exceptionally informative. Carefully chosen photographs support the text and key science vocabulary.","English",22.6,16.95,null,"24 pp.",{"$f":"Table1[[#This Row],['# Books]]*Table1[[#This Row],[QTY]]","v":0},{"$f":"Table1[[#This Row],[QTY]]*Table1[[#This Row],[S&L Price]]","v":0}]
[null,null,46,null,"Nature's Grossest",1,"Caterpillars Eat Their Skin!","eBook","978-1-5382-0940-0",2018,"January 2018",null,null,"Author","Bert  Wilberforce ",null,null,null,null,"J",null,"Grade 1 - 2","Grade 1 - 3","Young naturalists learn early that when butterflies and moths first hatch from an egg, they’re in the form of caterpillars. They probably don’t know that as caterpillars grow, they shed skin, and then eat it. Readers will find this entertaining and accessible look at these ubiquitous larvae exceptionally informative. Carefully chosen photographs support the text and key science vocabulary.","English",22.6,16.95,null,"24 pp.",{"$f":"Table1[[#This Row],['# Books]]*Table1[[#This Row],[QTY]]","v":0},{"$f":"Table1[[#This Row],[QTY]]*Table1[[#This Row],[S&L Price]]","v":0}]
[null,null,46,null,"Nature's Grossest",1,"Chicks Eat Puke!","Library Bound Book","978-1-5382-0943-1",2018,"January 2018","Library","7.000 X 7.000","Author","Bert  Wilberforce ",null,null,null,null,"I",null,"Grade 1 - 2","Grade 1 - 3","Everyone finds some kind of food distasteful. That might be broccoli for some or olives for others. This book puts those foods into perspective, and young readers will eat it up. They’ll learn that bird parents will do anything to bring their chicks the nutrition they need and in a form they can ingest. That sometimes means chicks eat vomit. The accessible text explains this “fowl” behavior as well as other captivating facts that will motivate even reluctant readers.","English",22.6,16.95,null,"24 pp.",{"$f":"Table1[[#This Row],['# Books]]*Table1[[#This Row],[QTY]]","v":0},{"$f":"Table1[[#This Row],[QTY]]*Table1[[#This Row],[S&L Price]]","v":0}]
[null,null,46,null,"Nature's Grossest",1,"Chicks Eat Puke!","eBook","978-1-5382-0944-8",2018,"January 2018",null,null,"Author","Bert  Wilberforce ",null,null,null,null,"I",null,"Grade 1 - 2","Grade 1 - 3","Everyone finds some kind of food distasteful. That might be broccoli for some or olives for others. This book puts those foods into perspective, and young readers will eat it up. They’ll learn that bird parents will do anything to bring their chicks the nutrition they need and in a form they can ingest. That sometimes means chicks eat vomit. The accessible text explains this “fowl” behavior as well as other captivating facts that will motivate even reluctant readers.","English",22.6,16.95,null,"24 pp.",{"$f":"Table1[[#This Row],['# Books]]*Table1[[#This Row],[QTY]]","v":0},{"$f":"Table1[[#This Row],[QTY]]*Table1[[#This Row],[S&L Price]]","v":0}]
[null,null,46,null,"Nature's Grossest",1,"Hyenas Eat Bones!","Library Bound Book","978-1-5382-0947-9",2018,"January 2018","Library","7.000 X 7.000","Author","Roberto  Betances ",null,null,null,null,"I",null,"Grade 1 - 2","Grade 1 - 3","Hyenas are some of nature’s grossest creatures. These vicious creatures will claw and fight each other over a carcass, stripping an animal of its meat in under an hour. They have no problem eating other animals’ leftovers, even if that means eating hair and bones. Readers will love learning these distasteful facts and more about these gross, but intelligent, creatures in this captivating volume, full of vivid photographs that feature hyenas in their native habitats.","English",22.6,16.95,null,"24 pp.",{"$f":"Table1[[#This Row],['# Books]]*Table1[[#This Row],[QTY]]","v":0},{"$f":"Table1[[#This Row],[QTY]]*Table1[[#This Row],[S&L Price]]","v":0}]
[null,null,46,null,"Nature's Grossest",1,"Hyenas Eat Bones!","eBook","978-1-5382-0948-6",2018,"January 2018",null,null,"Author","Roberto  Betances ",null,null,null,null,"I",null,"Grade 1 - 2","Grade 1 - 3","Hyenas are some of nature’s grossest creatures. These vicious creatures will claw and fight each other over a carcass, stripping an animal of its meat in under an hour. They have no problem eating other animals’ leftovers, even if that means eating hair and bones. Readers will love learning these distasteful facts and more about these gross, but intelligent, creatures in this captivating volume, full of vivid photographs that feature hyenas in their native habitats.","English",22.6,16.95,null,"24 pp.",{"$f":"Table1[[#This Row],['# Books]]*Table1[[#This Row],[QTY]]","v":0},{"$f":"Table1[[#This Row],[QTY]]*Table1[[#This Row],[S&L Price]]","v":0}]
[null,null,46,null,"Nature's Grossest",1,"Rabbits Eat Poop!","Library Bound Book","978-1-5382-0951-6",2018,"January 2018","Library","7.000 X 7.000","Author","Roberto  Betances ",null,null,null,null,"I",null,"Grade 1 - 2","Grade 1 - 3","Everyone loves petting a rabbit. They’re so cute and fluffy . . . and gross? Readers will be delighted to find out why their favorite downy mammal actually eats its own excrement. Hint: It’s full of nutrients. This accessible volume excels at explaining rabbits’ unique digestive system, which helps them get the most vitamins possible from their herbivorous diet. This high-interest text, full of adorable images, is a fun introduction to several important elementary science topics.","English",22.6,16.95,"599.32--dc23","24 pp.",{"$f":"Table1[[#This Row],['# Books]]*Table1[[#This Row],[QTY]]","v":0},{"$f":"Table1[[#This Row],[QTY]]*Table1[[#This Row],[S&L Price]]","v":0}]
[null,null,46,null,"Nature's Grossest",1,"Rabbits Eat Poop!","eBook","978-1-5382-0952-3",2018,"January 2018",null,null,"Author","Roberto  Betances ",null,null,null,null,"I",null,"Grade 1 - 2","Grade 1 - 3","Everyone loves petting a rabbit. They’re so cute and fluffy . . . and gross? Readers will be delighted to find out why their favorite downy mammal actually eats its own excrement. Hint: It’s full of nutrients. This accessible volume excels at explaining rabbits’ unique digestive system, which helps them get the most vitamins possible from their herbivorous diet. This high-interest text, full of adorable images, is a fun introduction to several important elementary science topics.","English",22.6,16.95,"599.32--dc23","24 pp.",{"$f":"Table1[[#This Row],['# Books]]*Table1[[#This Row],[QTY]]","v":0},{"$f":"Table1[[#This Row],[QTY]]*Table1[[#This Row],[S&L Price]]","v":0}]
[null,null,46,null,"Nature's Grossest",1,"Rats Eat Toenails!","Library Bound Book","978-1-5382-0955-4",2018,"January 2018","Library","7.000 X 7.000","Author","Roberto  Betances ",null,null,null,null,"J",null,"Grade 1 - 2","Grade 1 - 3","Most people think rats are gross. So it might not be a surprise that they eat some gross things, such as paper, glue, and even toenails, but rats do this because they’re great survivors. This attention-grabbing book will motivate readers to find out about the bizarre behaviors of this remarkable rodent. Vivid photographs shed further light on the secret lives of these curious creatures.","English",22.6,16.95,"599.35'2--dc23","24 pp.",{"$f":"Table1[[#This Row],['# Books]]*Table1[[#This Row],[QTY]]","v":0},{"$f":"Table1[[#This Row],[QTY]]*Table1[[#This Row],[S&L Price]]","v":0}]
[null,null,46,null,"Nature's Grossest",1,"Rats Eat Toenails!","eBook","978-1-5382-0956-1",2018,"January 2018",null,null,"Author","Roberto  Betances ",null,null,null,null,"J",null,"Grade 1 - 2","Grade 1 - 3","Most people think rats are gross. So it might not be a surprise that they eat some gross things, such as paper, glue, and even toenails, but rats do this because they’re great survivors. This attention-grabbing book will motivate readers to find out about the bizarre behaviors of this remarkable rodent. Vivid photographs shed further light on the secret lives of these curious creatures.","English",22.6,16.95,"599.35'2--dc23","24 pp.",{"$f":"Table1[[#This Row],['# Books]]*Table1[[#This Row],[QTY]]","v":0},{"$f":"Table1[[#This Row],[QTY]]*Table1[[#This Row],[S&L Price]]","v":0}]
[null,null,46,null,"Nature's Grossest",1,"Vampire Bats Drink Blood!","Library Bound Book","978-1-5382-0959-2",2018,"January 2018","Library","7.000 X 7.000","Author","Bert  Wilberforce ",null,null,null,null,"J",null,"Grade 1 - 2","Grade 1 - 3","Certain species of bats get their chilling name from a legendary monster, the vampire, and like these revolting fantasy creatures, these bats really do drink the blood of animals. Luckily, vampire bats don’t harm people; they’re much more interested in the blood of livestock and forest animals. Their bites are so small that they’re often undetected by the animals they feed on. Readers will be fascinated by these eerie creatures as well as the awesome photographs of vampire bats in the wild.","English",22.6,16.95,"599.4'5--dc23","24 pp.",{"$f":"Table1[[#This Row],['# Books]]*Table1[[#This Row],[QTY]]","v":0},{"$f":"Table1[[#This Row],[QTY]]*Table1[[#This Row],[S&L Price]]","v":0}]
[null,null,46,null,"Nature's Grossest",1,"Vampire Bats Drink Blood!","eBook","978-1-5382-0960-8",2018,"January 2018",null,null,"Author","Bert  Wilberforce ",null,null,null,null,"J",null,"Grade 1 - 2","Grade 1 - 3","Certain species of bats get their chilling name from a legendary monster, the vampire, and like these revolting fantasy creatures, these bats really do drink the blood of animals. Luckily, vampire bats don’t harm people; they’re much more interested in the blood of livestock and forest animals. Their bites are so small that they’re often undetected by the animals they feed on. Readers will be fascinated by these eerie creatures as well as the awesome photographs of vampire bats in the wild.","English",22.6,16.95,"599.4'5--dc23","24 pp.",{"$f":"Table1[[#This Row],['# Books]]*Table1[[#This Row],[QTY]]","v":0},{"$f":"Table1[[#This Row],[QTY]]*Table1[[#This Row],[S&L Price]]","v":0}]
[null,null,47,null,"Famous Lives",12,"Famous Lives","Library Set","978-1-4824-0612-2",2014,"January 2014","Library","7.000 X 7.000",null,"",null,null,null,null,null,null,"Grade 1 - 2","Grade 1 - 4","Learning about those who shaped history begins at a young age. George Washington, Harriet Tubman, and Abraham Lincoln are just some of the names that come up in the classroom—and for good reason. Along with Ben Franklin and Rosa Parks, among others, these famous individuals improved our world during their extraordinary lives. Through both main content and a detailed timeline, readers will learn biographical information about influential historical figures, from their childhoods to their greatest triumphs. Accessible language and colorful images will draw readers into the past as they absorb the inspirational stories of some of history’s most influential people.    Historical information supports standards-based social studies curriculum • Colorful images enhance the main text • Achievable content engages younger readers • Timelines provide another way to learn information   ","English",271.2,203.4,null,"24 pp.",{"$f":"Table1[[#This Row],['# Books]]*Table1[[#This Row],[QTY]]","v":0},{"$f":"Table1[[#This Row],[QTY]]*Table1[[#This Row],[S&L Price]]","v":0}]
[null,null,47,null,"Famous Lives",1,"The Life of Abigail Adams","Library Bound Book","978-1-4339-6337-7",2012,"January 2012","Library","7.000 X 7.000","Author","Maria Nelson",2.9,0.5,24,20,"H",null,"Grade 1 - 2","Grade 1 - 4","Abigail Adams was married to one of the first US presidents. Her son was also president of the United States. In this book, readers will learn even more fascinating facts about Abigail Adams. Age-appropriate content and accessible language will help beginning readers appreciate this influential woman from early American history. With historic images, a timeline, and achievable content, this book will engage those starting to learn about the excitement surrounding the founding of the United States.","English",22.6,16.95,"973.4","24 pp.",{"$f":"Table1[[#This Row],['# Books]]*Table1[[#This Row],[QTY]]","v":0},{"$f":"Table1[[#This Row],[QTY]]*Table1[[#This Row],[S&L Price]]","v":0}]
[null,null,47,null,"Famous Lives",1,"The Life of Abigail Adams","eBook","978-1-4339-6338-4",2012,"January 2012",null,null,"Author","Maria Nelson",2.9,0.5,24,20,"H",null,"Grade 1 - 2","Grade 1 - 4","Abigail Adams was married to one of the first US presidents. Her son was also president of the United States. In this book, readers will learn even more fascinating facts about Abigail Adams. Age-appropriate content and accessible language will help beginning readers appreciate this influential woman from early American history. With historic images, a timeline, and achievable content, this book will engage those starting to learn about the excitement surrounding the founding of the United States.","English",22.6,16.95,"973.4","24 pp.",{"$f":"Table1[[#This Row],['# Books]]*Table1[[#This Row],[QTY]]","v":0},{"$f":"Table1[[#This Row],[QTY]]*Table1[[#This Row],[S&L Price]]","v":0}]
[null,null,47,null,"Famous Lives",1,"The Life of Abraham Lincoln","Library Bound Book","978-1-4339-6341-4",2012,"January 2012","Library","7.000 X 7.000","Author","Maria Nelson",2.9,0.5,20,20,"G",null,"Grade 1 - 2","Grade 1 - 4","Many consider Abraham Lincoln to be the greatest US president. This book explores Lincoln’s early life, including his self-taught education, law career, and influential presidency. Through age-appropriate language and content, beginning readers will learn about the Civil War and Lincoln’s inspiring leadership. Historical images and an informative timeline will enhance readers’ introduction to Lincoln’s extraordinary achievements and connect them to an important era in American history.","English",22.6,16.95,"973.7092","24 pp.",{"$f":"Table1[[#This Row],['# Books]]*Table1[[#This Row],[QTY]]","v":0},{"$f":"Table1[[#This Row],[QTY]]*Table1[[#This Row],[S&L Price]]","v":0}]
[null,null,47,null,"Famous Lives",1,"The Life of Abraham Lincoln","eBook","978-1-4339-6342-1",2012,"January 2012",null,null,"Author","Maria Nelson",2.9,0.5,20,20,"G",null,"Grade 1 - 2","Grade 1 - 4","Many consider Abraham Lincoln to be the greatest US president. This book explores Lincoln’s early life, including his self-taught education, law career, and influential presidency. Through age-appropriate language and content, beginning readers will learn about the Civil War and Lincoln’s inspiring leadership. Historical images and an informative timeline will enhance readers’ introduction to Lincoln’s extraordinary achievements and connect them to an important era in American history.","English",22.6,16.95,"973.7092","24 pp.",{"$f":"Table1[[#This Row],['# Books]]*Table1[[#This Row],[QTY]]","v":0},{"$f":"Table1[[#This Row],[QTY]]*Table1[[#This Row],[S&L Price]]","v":0}]
[null,null,47,null,"Famous Lives",1,"The Life of Ben Franklin","Library Bound Book","978-1-4339-6345-2",2012,"January 2012","Library","7.000 X 7.000","Author","Maria Nelson",2.5,0.5,20,20,"H",null,"Grade 1 - 2","Grade 1 - 4","Ben Franklin greatly influenced all Americans with his work as a diplomat, scientist, and inventor. He signed both the Declaration of Independence and the US Constitution. In this book, interesting biographical information written in accessible language will introduce beginning readers to one of the most famous Founding Fathers. Fascinating images of Franklin through his life and a helpful timeline of key events will connect young historians to his life and work.","English",22.6,16.95,"973.3092","24 pp.",{"$f":"Table1[[#This Row],['# Books]]*Table1[[#This Row],[QTY]]","v":0},{"$f":"Table1[[#This Row],[QTY]]*Table1[[#This Row],[S&L Price]]","v":0}]
[null,null,47,null,"Famous Lives",1,"The Life of Ben Franklin","eBook","978-1-4339-6346-9",2012,"January 2012",null,null,"Author","Maria Nelson",2.5,0.5,20,20,"H",null,"Grade 1 - 2","Grade 1 - 4","Ben Franklin greatly influenced all Americans with his work as a diplomat, scientist, and inventor. He signed both the Declaration of Independence and the US Constitution. In this book, interesting biographical information written in accessible language will introduce beginning readers to one of the most famous Founding Fathers. Fascinating images of Franklin through his life and a helpful timeline of key events will connect young historians to his life and work.","English",22.6,16.95,"973.3092","24 pp.",{"$f":"Table1[[#This Row],['# Books]]*Table1[[#This Row],[QTY]]","v":0},{"$f":"Table1[[#This Row],[QTY]]*Table1[[#This Row],[S&L Price]]","v":0}]
[null,null,47,null,"Famous Lives",1,"The Life of Clara Barton","Library Bound Book","978-1-4824-0375-6",2014,"January 2014","Library","7.000 X 7.000","Author","Kathleen Connors",3.1,0.5,16,15,"I",null,"Grade 1 - 2","Grade 1 - 4","Clara Barton made a difference in the lives of many wounded soldiers during the American Civil War. She not only cared for them in hospitals, but also helped families identify those who died or went missing during battle. As founder of the American Red Cross, Clara Barton’s life continues to affect the United States for the better. Readers will find her story engaging and inspiring. Historical images enhance accessible social studies content and language, while a timeline aids readers in biographical understanding.","English",22.6,16.95,"361.7634","24 pp.",{"$f":"Table1[[#This Row],['# Books]]*Table1[[#This Row],[QTY]]","v":0},{"$f":"Table1[[#This Row],[QTY]]*Table1[[#This Row],[S&L Price]]","v":0}]
[null,null,47,null,"Famous Lives",1,"The Life of Clara Barton","eBook","978-1-4824-0376-3",2014,"January 2014",null,null,"Author","Kathleen Connors",3.1,0.5,16,15,"I",null,"Grade 1 - 2","Grade 1 - 4","Clara Barton made a difference in the lives of many wounded soldiers during the American Civil War. She not only cared for them in hospitals, but also helped families identify those who died or went missing during battle. As founder of the American Red Cross, Clara Barton’s life continues to affect the United States for the better. Readers will find her story engaging and inspiring. Historical images enhance accessible social studies content and language, while a timeline aids readers in biographical understanding.","English",22.6,16.95,"361.7634","24 pp.",{"$f":"Table1[[#This Row],['# Books]]*Table1[[#This Row],[QTY]]","v":0},{"$f":"Table1[[#This Row],[QTY]]*Table1[[#This Row],[S&L Price]]","v":0}]
[null,null,47,null,"Famous Lives",1,"The Life of Clara Barton","Interactive eBook","978-1-4824-0377-0",2014,"January 2014",null,null,"Author","Kathleen Connors",3.1,0.5,16,15,"I",null,"Grade 1 - 2","Grade 1 - 4","Clara Barton made a difference in the lives of many wounded soldiers during the American Civil War. She not only cared for them in hospitals, but also helped families identify those who died or went missing during battle. As founder of the American Red Cross, Clara Barton’s life continues to affect the United States for the better. Readers will find her story engaging and inspiring. Historical images enhance accessible social studies content and language, while a timeline aids readers in biographical understanding.","English",33.25,24.95,"361.7634","24 pp.",{"$f":"Table1[[#This Row],['# Books]]*Table1[[#This Row],[QTY]]","v":0},{"$f":"Table1[[#This Row],[QTY]]*Table1[[#This Row],[S&L Price]]","v":0}]
[null,null,47,null,"Famous Lives",1,"The Life of Cleopatra","Library Bound Book","978-1-4824-0384-8",2014,"January 2014","Library","7.000 X 7.000","Author","Kathleen Connors",2.9,0.5,16,15,"I",null,"Grade 1 - 2","Grade 1 - 4","Cleopatra was perhaps the most powerful queen of her time and is certainly one of the best known today. Her influence over the history of the Roman Empire, exerted through her relationships with powerful men like Caesar and Mark Antony, cannot be denied, though historians don’t know much else about her life. Readers are introduced to the intrigue and excitement surrounding the last queen of Egypt as they encounter other significant historical figures. Age-appropriate language and content allow readers to understand a politically fraught time period, while historical images take them back to the death of ancient Egypt.","English",22.6,16.95,"932.021","24 pp.",{"$f":"Table1[[#This Row],['# Books]]*Table1[[#This Row],[QTY]]","v":0},{"$f":"Table1[[#This Row],[QTY]]*Table1[[#This Row],[S&L Price]]","v":0}]
[null,null,47,null,"Famous Lives",1,"The Life of Cleopatra","eBook","978-1-4824-0385-5",2014,"January 2014",null,null,"Author","Kathleen Connors",2.9,0.5,16,15,"I",null,"Grade 1 - 2","Grade 1 - 4","Cleopatra was perhaps the most powerful queen of her time and is certainly one of the best known today. Her influence over the history of the Roman Empire, exerted through her relationships with powerful men like Caesar and Mark Antony, cannot be denied, though historians don’t know much else about her life. Readers are introduced to the intrigue and excitement surrounding the last queen of Egypt as they encounter other significant historical figures. Age-appropriate language and content allow readers to understand a politically fraught time period, while historical images take them back to the death of ancient Egypt.","English",22.6,16.95,"932.021","24 pp.",{"$f":"Table1[[#This Row],['# Books]]*Table1[[#This Row],[QTY]]","v":0},{"$f":"Table1[[#This Row],[QTY]]*Table1[[#This Row],[S&L Price]]","v":0}]
[null,null,47,null,"Famous Lives",1,"The Life of Cleopatra","Interactive eBook","978-1-4824-0386-2",2014,"January 2014",null,null,"Author","Kathleen Connors",2.9,0.5,16,15,"I",null,"Grade 1 - 2","Grade 1 - 4","Cleopatra was perhaps the most powerful queen of her time and is certainly one of the best known today. Her influence over the history of the Roman Empire, exerted through her relationships with powerful men like Caesar and Mark Antony, cannot be denied, though historians don’t know much else about her life. Readers are introduced to the intrigue and excitement surrounding the last queen of Egypt as they encounter other significant historical figures. Age-appropriate language and content allow readers to understand a politically fraught time period, while historical images take them back to the death of ancient Egypt.","English",33.25,24.95,"932.021","24 pp.",{"$f":"Table1[[#This Row],['# Books]]*Table1[[#This Row],[QTY]]","v":0},{"$f":"Table1[[#This Row],[QTY]]*Table1[[#This Row],[S&L Price]]","v":0}]
[null,null,47,null,"Famous Lives",1,"The Life of Florence Nightingale","Library Bound Book","978-1-4824-0405-0",2014,"January 2014","Library","7.000 X 7.000","Author","Kathleen Connors",3.5,0.5,16,15,"I",null,"Grade 1 - 2","Grade 1 - 4","Florence Nightingale’s parents believed the nursing profession was beneath her, but she felt a calling to help the sick. By the end of her life, Florence had bettered nurses’ training around the world and elevated nursing to a noble pursuit for women of all social classes. Including social studies information and a helpful timeline, the biography of Florence Nightingale will engage readers in a world very different from their own. Historical images immerse them in Victorian England and the hospital wards so marked by the good work of the “lady with the lamp.”","English",22.6,16.95,"610.73092","24 pp.",{"$f":"Table1[[#This Row],['# Books]]*Table1[[#This Row],[QTY]]","v":0},{"$f":"Table1[[#This Row],[QTY]]*Table1[[#This Row],[S&L Price]]","v":0}]
[null,null,47,null,"Famous Lives",1,"The Life of Florence Nightingale","eBook","978-1-4824-0406-7",2014,"January 2014",null,null,"Author","Kathleen Connors",3.5,0.5,16,15,"I",null,"Grade 1 - 2","Grade 1 - 4","Florence Nightingale’s parents believed the nursing profession was beneath her, but she felt a calling to help the sick. By the end of her life, Florence had bettered nurses’ training around the world and elevated nursing to a noble pursuit for women of all social classes. Including social studies information and a helpful timeline, the biography of Florence Nightingale will engage readers in a world very different from their own. Historical images immerse them in Victorian England and the hospital wards so marked by the good work of the “lady with the lamp.”","English",22.6,16.95,"610.73092","24 pp.",{"$f":"Table1[[#This Row],['# Books]]*Table1[[#This Row],[QTY]]","v":0},{"$f":"Table1[[#This Row],[QTY]]*Table1[[#This Row],[S&L Price]]","v":0}]
[null,null,47,null,"Famous Lives",1,"The Life of Florence Nightingale","Interactive eBook","978-1-4824-0407-4",2014,"January 2014",null,null,"Author","Kathleen Connors",3.5,0.5,16,15,"I",null,"Grade 1 - 2","Grade 1 - 4","Florence Nightingale’s parents believed the nursing profession was beneath her, but she felt a calling to help the sick. By the end of her life, Florence had bettered nurses’ training around the world and elevated nursing to a noble pursuit for women of all social classes. Including social studies information and a helpful timeline, the biography of Florence Nightingale will engage readers in a world very different from their own. Historical images immerse them in Victorian England and the hospital wards so marked by the good work of the “lady with the lamp.”","English",33.25,24.95,"610.73092","24 pp.",{"$f":"Table1[[#This Row],['# Books]]*Table1[[#This Row],[QTY]]","v":0},{"$f":"Table1[[#This Row],[QTY]]*Table1[[#This Row],[S&L Price]]","v":0}]
[null,null,47,null,"Famous Lives",1,"The Life of George Washington","Library Bound Book","978-1-4339-6349-0",2012,"January 2012","Library","7.000 X 7.000","Author","Maria Nelson",3.1,0.5,18,20,"H",null,"Grade 1 - 2","Grade 1 - 4","George Washington wasn’t just the first US president. He was also the general who led the Continental army to victory over the British. Historic images will assist beginning readers in learning about Washington’s life, including his role in the founding of the United States and his presidency. Age-appropriate language and content will engage readers who are learning about Washington’s impact on the nation for the first time.","English",22.6,16.95,"973.4","24 pp.",{"$f":"Table1[[#This Row],['# Books]]*Table1[[#This Row],[QTY]]","v":0},{"$f":"Table1[[#This Row],[QTY]]*Table1[[#This Row],[S&L Price]]","v":0}]
[null,null,47,null,"Famous Lives",1,"The Life of George Washington","eBook","978-1-4339-6350-6",2012,"January 2012",null,null,"Author","Maria Nelson",3.1,0.5,18,20,"H",null,"Grade 1 - 2","Grade 1 - 4","George Washington wasn’t just the first US president. He was also the general who led the Continental army to victory over the British. Historic images will assist beginning readers in learning about Washington’s life, including his role in the founding of the United States and his presidency. Age-appropriate language and content will engage readers who are learning about Washington’s impact on the nation for the first time.","English",22.6,16.95,"973.4","24 pp.",{"$f":"Table1[[#This Row],['# Books]]*Table1[[#This Row],[QTY]]","v":0},{"$f":"Table1[[#This Row],[QTY]]*Table1[[#This Row],[S&L Price]]","v":0}]
[null,null,47,null,"Famous Lives",1,"The Life of Harriet Tubman","Library Bound Book","978-1-4824-0412-8",2014,"January 2014","Library","7.000 X 7.000","Author","Kathleen Connors",3,0.5,16,15,"I",null,"Grade 1 - 2","Grade 1 - 4","The true story of Harriet Tubman’s rise from slavery to freedom is one of the most inspirational in US history. She didn’t only free herself—she freed hundreds of others! Readers will be immersed in the amazing life of Harriet Tubman, as well as introductions to information included in the social studies curriculum, such as the Civil War and Underground Railroad. Historical images and accessible language allow readers to explore an era much different from their own and learn from a life of courage, dedication, and selflessness.","English",22.6,16.95,"973.7115","24 pp.",{"$f":"Table1[[#This Row],['# Books]]*Table1[[#This Row],[QTY]]","v":0},{"$f":"Table1[[#This Row],[QTY]]*Table1[[#This Row],[S&L Price]]","v":0}]
[null,null,47,null,"Famous Lives",1,"The Life of Harriet Tubman","eBook","978-1-4824-0413-5",2014,"January 2014",null,null,"Author","Kathleen Connors",3,0.5,16,15,"I",null,"Grade 1 - 2","Grade 1 - 4","The true story of Harriet Tubman’s rise from slavery to freedom is one of the most inspirational in US history. She didn’t only free herself—she freed hundreds of others! Readers will be immersed in the amazing life of Harriet Tubman, as well as introductions to information included in the social studies curriculum, such as the Civil War and Underground Railroad. Historical images and accessible language allow readers to explore an era much different from their own and learn from a life of courage, dedication, and selflessness.","English",22.6,16.95,"973.7115","24 pp.",{"$f":"Table1[[#This Row],['# Books]]*Table1[[#This Row],[QTY]]","v":0},{"$f":"Table1[[#This Row],[QTY]]*Table1[[#This Row],[S&L Price]]","v":0}]
[null,null,47,null,"Famous Lives",1,"The Life of Harriet Tubman","Interactive eBook","978-1-4824-0414-2",2014,"January 2014",null,null,"Author","Kathleen Connors",3,0.5,16,15,"I",null,"Grade 1 - 2","Grade 1 - 4","The true story of Harriet Tubman’s rise from slavery to freedom is one of the most inspirational in US history. She didn’t only free herself—she freed hundreds of others! Readers will be immersed in the amazing life of Harriet Tubman, as well as introductions to information included in the social studies curriculum, such as the Civil War and Underground Railroad. Historical images and accessible language allow readers to explore an era much different from their own and learn from a life of courage, dedication, and selflessness.","English",33.25,24.95,"973.7115","24 pp.",{"$f":"Table1[[#This Row],['# Books]]*Table1[[#This Row],[QTY]]","v":0},{"$f":"Table1[[#This Row],[QTY]]*Table1[[#This Row],[S&L Price]]","v":0}]
[null,null,47,null,"Famous Lives",1,"The Life of Paul Revere","Library Bound Book","978-1-4339-6353-7",2012,"January 2012","Library","7.000 X 7.000","Author","Maria Nelson",2.7,0.5,24,20,"H",null,"Grade 1 - 2","Grade 1 - 4","When Paul Revere warned colonists the British army was coming, he helped prepare a nation for battle. This exciting book will take readers through Revere’s life as a silver- and goldsmith and on his midnight ride at the start of the American Revolution. Through achievable content and language, beginning readers will engage with important historical facts and ideas. A helpful timeline of events and colorful images enhance the story of one of American history’s most famous folk heroes.","English",22.6,16.95,"974.4","24 pp.",{"$f":"Table1[[#This Row],['# Books]]*Table1[[#This Row],[QTY]]","v":0},{"$f":"Table1[[#This Row],[QTY]]*Table1[[#This Row],[S&L Price]]","v":0}]
[null,null,47,null,"Famous Lives",1,"The Life of Paul Revere","eBook","978-1-4339-6354-4",2012,"January 2012",null,null,"Author","Maria Nelson",2.7,0.5,24,20,"H",null,"Grade 1 - 2","Grade 1 - 4","When Paul Revere warned colonists the British army was coming, he helped prepare a nation for battle. This exciting book will take readers through Revere’s life as a silver- and goldsmith and on his midnight ride at the start of the American Revolution. Through achievable content and language, beginning readers will engage with important historical facts and ideas. A helpful timeline of events and colorful images enhance the story of one of American history’s most famous folk heroes.","English",22.6,16.95,"974.4","24 pp.",{"$f":"Table1[[#This Row],['# Books]]*Table1[[#This Row],[QTY]]","v":0},{"$f":"Table1[[#This Row],[QTY]]*Table1[[#This Row],[S&L Price]]","v":0}]
[null,null,47,null,"Famous Lives",1,"The Life of Rosa Parks","Library Bound Book","978-1-4824-0419-7",2014,"January 2014","Library","7.000 X 7.000","Author","Kathleen Connors",3.2,0.5,16,15,"I",null,"Grade 1 - 2","Grade 1 - 4","Known as the “mother of the civil rights movement,” Rosa Parks took a small stance that made a big impact. Just by sitting in a bus seat, she inspired thousands of black Americans to boycott buses altogether! Readers will be introduced to Rosa Parks and the civil rights movement through the details of her biography and the great change brought about by her actions. Historical photographs engage readers further, transporting them back to one of the most troubling times in American history, and a helpful timeline summarizes important events in Rosa’s life.","English",22.6,16.95,"323.092","24 pp.",{"$f":"Table1[[#This Row],['# Books]]*Table1[[#This Row],[QTY]]","v":0},{"$f":"Table1[[#This Row],[QTY]]*Table1[[#This Row],[S&L Price]]","v":0}]
[null,null,47,null,"Famous Lives",1,"The Life of Rosa Parks","eBook","978-1-4824-0420-3",2014,"January 2014",null,null,"Author","Kathleen Connors",3.2,0.5,16,15,"I",null,"Grade 1 - 2","Grade 1 - 4","Known as the “mother of the civil rights movement,” Rosa Parks took a small stance that made a big impact. Just by sitting in a bus seat, she inspired thousands of black Americans to boycott buses altogether! Readers will be introduced to Rosa Parks and the civil rights movement through the details of her biography and the great change brought about by her actions. Historical photographs engage readers further, transporting them back to one of the most troubling times in American history, and a helpful timeline summarizes important events in Rosa’s life.","English",22.6,16.95,"323.092","24 pp.",{"$f":"Table1[[#This Row],['# Books]]*Table1[[#This Row],[QTY]]","v":0},{"$f":"Table1[[#This Row],[QTY]]*Table1[[#This Row],[S&L Price]]","v":0}]
[null,null,47,null,"Famous Lives",1,"The Life of Rosa Parks","Interactive eBook","978-1-4824-0421-0",2014,"January 2014",null,null,"Author","Kathleen Connors",3.2,0.5,16,15,"I",null,"Grade 1 - 2","Grade 1 - 4","Known as the “mother of the civil rights movement,” Rosa Parks took a small stance that made a big impact. Just by sitting in a bus seat, she inspired thousands of black Americans to boycott buses altogether! Readers will be introduced to Rosa Parks and the civil rights movement through the details of her biography and the great change brought about by her actions. Historical photographs engage readers further, transporting them back to one of the most troubling times in American history, and a helpful timeline summarizes important events in Rosa’s life.","English",33.25,24.95,"323.092","24 pp.",{"$f":"Table1[[#This Row],['# Books]]*Table1[[#This Row],[QTY]]","v":0},{"$f":"Table1[[#This Row],[QTY]]*Table1[[#This Row],[S&L Price]]","v":0}]
[null,null,47,null,"Famous Lives",1,"The Life of Sacagawea","Library Bound Book","978-1-4339-6357-5",2012,"January 2012","Library","7.000 X 7.000","Author","Maria Nelson",2.8,0.5,24,20,"H",null,"Grade 1 - 2","Grade 1 - 4","The gold dollar coin bears the image of one of the most famous Native Americans in US history—Sacagawea. Though much of her life remains a mystery, this book will explore the story of the extraordinary woman who helped Lewis and Clark explore the American West. Age-appropriate language and content will help beginning readers understand this fascinating time in American history and introduce them to Sacagawea’s captivating story. Exciting photographs help draw readers in, and a timeline of important events will reinforce what they’ve learned.","English",22.6,16.95,"978.04","24 pp.",{"$f":"Table1[[#This Row],['# Books]]*Table1[[#This Row],[QTY]]","v":0},{"$f":"Table1[[#This Row],[QTY]]*Table1[[#This Row],[S&L Price]]","v":0}]
[null,null,47,null,"Famous Lives",1,"The Life of Sacagawea","eBook","978-1-4339-6358-2",2012,"January 2012",null,null,"Author","Maria Nelson",2.8,0.5,24,20,"H",null,"Grade 1 - 2","Grade 1 - 4","The gold dollar coin bears the image of one of the most famous Native Americans in US history—Sacagawea. Though much of her life remains a mystery, this book will explore the story of the extraordinary woman who helped Lewis and Clark explore the American West. Age-appropriate language and content will help beginning readers understand this fascinating time in American history and introduce them to Sacagawea’s captivating story. Exciting photographs help draw readers in, and a timeline of important events will reinforce what they’ve learned.","English",22.6,16.95,"978.04","24 pp.",{"$f":"Table1[[#This Row],['# Books]]*Table1[[#This Row],[QTY]]","v":0},{"$f":"Table1[[#This Row],[QTY]]*Table1[[#This Row],[S&L Price]]","v":0}]
[null,null,47,null,"Famous Lives",1,"The Life of Susan B. Anthony","Library Bound Book","978-1-4824-0425-8",2014,"January 2014","Library","7.000 X 7.000","Author","Kathleen Connors",3.4,0.5,16,15,"I",null,"Grade 1 - 2","Grade 1 - 4","Perhaps the best-known suffragist in US history, Susan B. Anthony was a great believer in equal rights for all. She grew up in an abolitionist family and carried those teachings throughout her life, advocating for equal labor laws, education, and, of course, women’s right to vote. The details of Susan B. Anthony’s incredible biography will fascinate readers as they also learn about the time period in which she lived. Historical images will immerse them in the world of the late 1800s, when women didn’t yet have a voice in our government.","English",22.6,16.95,"305.42","24 pp.",{"$f":"Table1[[#This Row],['# Books]]*Table1[[#This Row],[QTY]]","v":0},{"$f":"Table1[[#This Row],[QTY]]*Table1[[#This Row],[S&L Price]]","v":0}]
[null,null,47,null,"Famous Lives",1,"The Life of Susan B. Anthony","eBook","978-1-4824-0426-5",2014,"January 2014",null,null,"Author","Kathleen Connors",3.4,0.5,16,15,"I",null,"Grade 1 - 2","Grade 1 - 4","Perhaps the best-known suffragist in US history, Susan B. Anthony was a great believer in equal rights for all. She grew up in an abolitionist family and carried those teachings throughout her life, advocating for equal labor laws, education, and, of course, women’s right to vote. The details of Susan B. Anthony’s incredible biography will fascinate readers as they also learn about the time period in which she lived. Historical images will immerse them in the world of the late 1800s, when women didn’t yet have a voice in our government.","English",22.6,16.95,"305.42","24 pp.",{"$f":"Table1[[#This Row],['# Books]]*Table1[[#This Row],[QTY]]","v":0},{"$f":"Table1[[#This Row],[QTY]]*Table1[[#This Row],[S&L Price]]","v":0}]
[null,null,47,null,"Famous Lives",1,"The Life of Susan B. Anthony","Interactive eBook","978-1-4824-0427-2",2014,"January 2014",null,null,"Author","Kathleen Connors",3.4,0.5,16,15,"I",null,"Grade 1 - 2","Grade 1 - 4","Perhaps the best-known suffragist in US history, Susan B. Anthony was a great believer in equal rights for all. She grew up in an abolitionist family and carried those teachings throughout her life, advocating for equal labor laws, education, and, of course, women’s right to vote. The details of Susan B. Anthony’s incredible biography will fascinate readers as they also learn about the time period in which she lived. Historical images will immerse them in the world of the late 1800s, when women didn’t yet have a voice in our government.","English",33.25,24.95,"305.42","24 pp.",{"$f":"Table1[[#This Row],['# Books]]*Table1[[#This Row],[QTY]]","v":0},{"$f":"Table1[[#This Row],[QTY]]*Table1[[#This Row],[S&L Price]]","v":0}]
[null,null,47,null,"Sports MVPs",6,"Sports MVPs","Library Set","978-1-4824-4521-3",2017,"August 2016","Library","7.000 X 7.000",null,"",null,null,null,null,null,null,"Grade 1 - 2","Grade 1 - 3","Today’s most exciting athletes dominate their respective fields. Whether taking the court, the field, or hitting the slopes, athletes make the extraordinary seem ordinary when they top the competition. This series takes a look at the lives of today’s greatest athletes from Serena Williams’s dominance of women’s tennis to the amazing goals and great on-ice moments of Sidney Crosby. Chronicling the amazing careers of star athletes, this series takes readers inside their favorite sports.","English",135.6,101.7,null,"24 pp.",{"$f":"Table1[[#This Row],['# Books]]*Table1[[#This Row],[QTY]]","v":0},{"$f":"Table1[[#This Row],[QTY]]*Table1[[#This Row],[S&L Price]]","v":0}]
[null,null,47,null,"Sports MVPs",1,"Aaron Rodgers","Library Bound Book","978-1-4824-4967-9",2017,"August 2016","Library","7.000 X 7.000","Author","Ryan Nagelhout",3.3,0.5,null,null,"J",null,"Grade 1 - 2","Grade 1 - 3","Aaron Rodgers went from a small college in California to being named most valuable player in the Super Bowl! This quarterback’s amazing rise to become one of the top quarterbacks in the National Football League is one of the most exciting stories in sports. Rodgers excels on the field for the Green Bay Packers, making amazing throws and leading his team to glory while also helping those less fortunate than him. Truly one of the greats of the game, this book shows that Rodgers’ trophy case is as impressive as his abilities on the field.","English",22.6,16.95,"796.332092--dc23","24 pp.",{"$f":"Table1[[#This Row],['# Books]]*Table1[[#This Row],[QTY]]","v":0},{"$f":"Table1[[#This Row],[QTY]]*Table1[[#This Row],[S&L Price]]","v":0}]
[null,null,47,null,"Sports MVPs",1,"Aaron Rodgers","eBook","978-1-4824-4634-0",2017,"August 2016",null,null,"Author","Ryan Nagelhout",null,null,null,null,"J",null,"Grade 1 - 2","Grade 1 - 3","Aaron Rodgers went from a small college in California to being named most valuable player in the Super Bowl! This quarterback’s amazing rise to become one of the top quarterbacks in the National Football League is one of the most exciting stories in sports. Rodgers excels on the field for the Green Bay Packers, making amazing throws and leading his team to glory while also helping those less fortunate than him. Truly one of the greats of the game, this book shows that Rodgers’ trophy case is as impressive as his abilities on the field.","English",22.6,16.95,"796.332092--dc23","24 pp.",{"$f":"Table1[[#This Row],['# Books]]*Table1[[#This Row],[QTY]]","v":0},{"$f":"Table1[[#This Row],[QTY]]*Table1[[#This Row],[S&L Price]]","v":0}]
[null,null,47,null,"Sports MVPs",1,"Abby Wambach","Library Bound Book","978-1-4824-4639-5",2017,"August 2016","Library","7.000 X 7.000","Author","Ryan Nagelhout",3.5,0.5,null,null,"J",null,"Grade 1 - 2","Grade 1 - 3","Abby Wambach is the all-time greatest American women’s soccer player in history. This book explores the life of a World Cup champion as well as her record-setting international career. From a youth soccer standout in Rochester, New York, to an international soccer icon, Wambach has amazed soccer fans for years with her signature headers and leadership on the US Women’s National Team. From Olympic gold to World Cup glory, Wambach’s career has seen it all, and this book takes a look at her storied career and the trophies she’s collected along the way.","English",22.6,16.95,"796.334092--dc23","24 pp.",{"$f":"Table1[[#This Row],['# Books]]*Table1[[#This Row],[QTY]]","v":0},{"$f":"Table1[[#This Row],[QTY]]*Table1[[#This Row],[S&L Price]]","v":0}]
[null,null,47,null,"Sports MVPs",1,"Abby Wambach","eBook","978-1-4824-4633-3",2017,"August 2016",null,null,"Author","Ryan Nagelhout",null,null,null,null,"J",null,"Grade 1 - 2","Grade 1 - 3","Abby Wambach is the all-time greatest American women’s soccer player in history. This book explores the life of a World Cup champion as well as her record-setting international career. From a youth soccer standout in Rochester, New York, to an international soccer icon, Wambach has amazed soccer fans for years with her signature headers and leadership on the US Women’s National Team. From Olympic gold to World Cup glory, Wambach’s career has seen it all, and this book takes a look at her storied career and the trophies she’s collected along the way.","English",22.6,16.95,"796.334092--dc23","24 pp.",{"$f":"Table1[[#This Row],['# Books]]*Table1[[#This Row],[QTY]]","v":0},{"$f":"Table1[[#This Row],[QTY]]*Table1[[#This Row],[S&L Price]]","v":0}]
[null,null,47,null,"Sports MVPs",1,"LeBron James","Library Bound Book","978-1-4824-4640-1",2017,"August 2016","Library","7.000 X 7.000","Author","Ryan Nagelhout",3.1,0.5,null,null,"J",null,"Grade 1 - 2","Grade 1 - 3","LeBron James joined the NBA out of high school and was immediately one of the most exciting players in basketball. His fascinating career has been full of titles and individual awards, from the NBA’s most valuable player to Olympic gold medals and even NBA titles. This superstar’s career from Cleveland to Miami and back to his hometown Cavaliers has captivated sports fans, and this book chronicles the latest in King James’ illustrious career. Readers will love learning more about LeBron and what makes him special both on and off the court.","English",22.6,16.95,"796.323092--dc23","24 pp.",{"$f":"Table1[[#This Row],['# Books]]*Table1[[#This Row],[QTY]]","v":0},{"$f":"Table1[[#This Row],[QTY]]*Table1[[#This Row],[S&L Price]]","v":0}]
[null,null,47,null,"Sports MVPs",1,"LeBron James","eBook","978-1-4824-4635-7",2017,"August 2016",null,null,"Author","Ryan Nagelhout",null,null,null,null,"J",null,"Grade 1 - 2","Grade 1 - 3","LeBron James joined the NBA out of high school and was immediately one of the most exciting players in basketball. His fascinating career has been full of titles and individual awards, from the NBA’s most valuable player to Olympic gold medals and even NBA titles. This superstar’s career from Cleveland to Miami and back to his hometown Cavaliers has captivated sports fans, and this book chronicles the latest in King James’ illustrious career. Readers will love learning more about LeBron and what makes him special both on and off the court.","English",22.6,16.95,"796.323092--dc23","24 pp.",{"$f":"Table1[[#This Row],['# Books]]*Table1[[#This Row],[QTY]]","v":0},{"$f":"Table1[[#This Row],[QTY]]*Table1[[#This Row],[S&L Price]]","v":0}]
[null,null,47,null,"Sports MVPs",1,"Lindsey Vonn","Library Bound Book","978-1-4824-4641-8",2017,"August 2016","Library","7.000 X 7.000","Author","Ryan Nagelhout",3.3,0.5,null,null,"J",null,"Grade 1 - 2","Grade 1 - 3","Lindsey Vonn is one of the most decorated modern American athletes. This skier has won World Cups in all five alpine skiing disciplines, one of only six women to accomplish the feat. That hasn’t come easy, though. This book explores the highs and lows of Vonn’s career, from Olympic triumphs to major injuries that have taken championships and accomplishments away. Through it all, Vonn has shown herself as an American hero on the slopes, tackling all areas of skiing and proving herself a champion many times over.","English",22.6,16.95,"796.93092--dc23","24 pp.",{"$f":"Table1[[#This Row],['# Books]]*Table1[[#This Row],[QTY]]","v":0},{"$f":"Table1[[#This Row],[QTY]]*Table1[[#This Row],[S&L Price]]","v":0}]
[null,null,47,null,"Sports MVPs",1,"Lindsey Vonn","eBook","978-1-4824-4636-4",2017,"August 2016",null,null,"Author","Ryan Nagelhout",null,null,null,null,"J",null,"Grade 1 - 2","Grade 1 - 3","Lindsey Vonn is one of the most decorated modern American athletes. This skier has won World Cups in all five alpine skiing disciplines, one of only six women to accomplish the feat. That hasn’t come easy, though. This book explores the highs and lows of Vonn’s career, from Olympic triumphs to major injuries that have taken championships and accomplishments away. Through it all, Vonn has shown herself as an American hero on the slopes, tackling all areas of skiing and proving herself a champion many times over.","English",22.6,16.95,"796.93092--dc23","24 pp.",{"$f":"Table1[[#This Row],['# Books]]*Table1[[#This Row],[QTY]]","v":0},{"$f":"Table1[[#This Row],[QTY]]*Table1[[#This Row],[S&L Price]]","v":0}]
[null,null,47,null,"Sports MVPs",1,"Serena Williams","Library Bound Book","978-1-4824-4642-5",2017,"August 2016","Library","7.000 X 7.000","Author","Ryan Nagelhout",3.7,0.5,null,null,"J",null,"Grade 1 - 2","Grade 1 - 3","One of the greatest athletes alive, Serena Williams has taken the tennis world by storm in her spectacular career. From singles titles and career grand slams to doubles titles with her sister Venus, Serena has dominated women’s tennis and fought through injuries countless times. Whether it’s her victories at Wimbledon or her home Grand Slam—the US Open—Serena has shown her versatility and style on the court. This book takes a look at her stellar career and all the trophies she’s acquired with her big wins.","English",22.6,16.95,"796.342092--dc23","24 pp.",{"$f":"Table1[[#This Row],['# Books]]*Table1[[#This Row],[QTY]]","v":0},{"$f":"Table1[[#This Row],[QTY]]*Table1[[#This Row],[S&L Price]]","v":0}]
[null,null,47,null,"Sports MVPs",1,"Serena Williams","eBook","978-1-4824-4637-1",2017,"August 2016",null,null,"Author","Ryan Nagelhout",null,null,null,null,"J",null,"Grade 1 - 2","Grade 1 - 3","One of the greatest athletes alive, Serena Williams has taken the tennis world by storm in her spectacular career. From singles titles and career grand slams to doubles titles with her sister Venus, Serena has dominated women’s tennis and fought through injuries countless times. Whether it’s her victories at Wimbledon or her home Grand Slam—the US Open—Serena has shown her versatility and style on the court. This book takes a look at her stellar career and all the trophies she’s acquired with her big wins.","English",22.6,16.95,"796.342092--dc23","24 pp.",{"$f":"Table1[[#This Row],['# Books]]*Table1[[#This Row],[QTY]]","v":0},{"$f":"Table1[[#This Row],[QTY]]*Table1[[#This Row],[S&L Price]]","v":0}]
[null,null,47,null,"Sports MVPs",1,"Sidney Crosby","Library Bound Book","978-1-4824-4643-2",2017,"August 2016","Library","7.000 X 7.000","Author","Ryan Nagelhout",3.7,0.5,null,null,"J",null,"Grade 1 - 2","Grade 1 - 3","Sidney Crosby is a living hockey legend. A superstar for the Pittsburgh Penguins, Crosby is a Stanley Cup Champion and a Canadian Olympic hero. Sid the Kid’s career has featured big goals, serious injuries, and even bigger moments. This book takes a look at some big events in Crosby’s life, from his time playing junior hockey in Canada to draft day and playoff glory with the Penguins, and gives readers a look inside the trophy case of one of the most exciting athletes on the planet.","English",22.6,16.95,"796.962092--dc23","24 pp.",{"$f":"Table1[[#This Row],['# Books]]*Table1[[#This Row],[QTY]]","v":0},{"$f":"Table1[[#This Row],[QTY]]*Table1[[#This Row],[S&L Price]]","v":0}]
[null,null,47,null,"Sports MVPs",1,"Sidney Crosby","eBook","978-1-4824-4638-8",2017,"August 2016",null,null,"Author","Ryan Nagelhout",null,null,null,null,"J",null,"Grade 1 - 2","Grade 1 - 3","Sidney Crosby is a living hockey legend. A superstar for the Pittsburgh Penguins, Crosby is a Stanley Cup Champion and a Canadian Olympic hero. Sid the Kid’s career has featured big goals, serious injuries, and even bigger moments. This book takes a look at some big events in Crosby’s life, from his time playing junior hockey in Canada to draft day and playoff glory with the Penguins, and gives readers a look inside the trophy case of one of the most exciting athletes on the planet.","English",22.6,16.95,"796.962092--dc23","24 pp.",{"$f":"Table1[[#This Row],['# Books]]*Table1[[#This Row],[QTY]]","v":0},{"$f":"Table1[[#This Row],[QTY]]*Table1[[#This Row],[S&L Price]]","v":0}]
[null,null,48,null,"Graph It!",6,"Graph It!","Library Set","978-1-4824-1039-6",2015,"August 2014","Library","7.000 X 7.000",null,"",null,null,null,null,null,null,"Grade 1 - 2","Grade 1 - 3","Graphs are everywhere in our world, including on the Internet and in the news. They're a useful and easy-to-understand format to display data. In this valuable math series, each book explains how to read a kind of graph, including bar graphs, pictographs, and circle graphs. It also guides readers through the process of making their own graphs, highlighting the important elements involved in each. Colorful graphs and engaging topics make these books a fun way to present an important math concept.  • Reading and creating graphs addresses Common Core math standards, including measuring and interpreting data   •              Each book includes multiple graphs and examples  •  Question-and-answer key provides self-assessment opportunities  ","English",135.6,101.7,null,"24 pp.",{"$f":"Table1[[#This Row],['# Books]]*Table1[[#This Row],[QTY]]","v":0},{"$f":"Table1[[#This Row],[QTY]]*Table1[[#This Row],[S&L Price]]","v":0}]
[null,null,48,null,"Graph It!",1,"Making Bar Graphs","Library Bound Book","978-1-4824-0779-2",2015,"August 2014","Library","7.000 X 7.000","Author","Jagger Youssef",null,null,12,null,"G",null,"Grade 1 - 2","Grade 1 - 3","Bar graphs are an interesting and easy way to show math facts. This accessible book guides readers through the different parts of a bar graph, including its title, labels, and scale. Readers are then invited to make their own graph, mirroring the sample in the book, and encouraged to make bar graphs about many fun subjects. Questions throughout this book and an answer key enable readers to self-evaluate their understanding.","English",22.6,16.95,"510","24 pp.",{"$f":"Table1[[#This Row],['# Books]]*Table1[[#This Row],[QTY]]","v":0},{"$f":"Table1[[#This Row],[QTY]]*Table1[[#This Row],[S&L Price]]","v":0}]
[null,null,48,null,"Graph It!",1,"Making Bar Graphs","eBook","978-1-4824-0780-8",2015,"August 2014",null,null,"Author","Jagger Youssef",null,null,12,null,"G",null,"Grade 1 - 2","Grade 1 - 3","Bar graphs are an interesting and easy way to show math facts. This accessible book guides readers through the different parts of a bar graph, including its title, labels, and scale. Readers are then invited to make their own graph, mirroring the sample in the book, and encouraged to make bar graphs about many fun subjects. Questions throughout this book and an answer key enable readers to self-evaluate their understanding.","English",22.6,16.95,"510","24 pp.",{"$f":"Table1[[#This Row],['# Books]]*Table1[[#This Row],[QTY]]","v":0},{"$f":"Table1[[#This Row],[QTY]]*Table1[[#This Row],[S&L Price]]","v":0}]
[null,null,48,null,"Graph It!",1,"Making Circle Graphs","Library Bound Book","978-1-4824-0829-4",2015,"August 2014","Library","7.000 X 7.000","Author","Nora Dee",null,null,14,null,"H",null,"Grade 1 - 2","Grade 1 - 3","Understanding circle graphs, also known as pie charts, is an important math skill. This book investigates the topic using engaging and accessible examples such as sports. Readers examine several circle graphs closely and are guided step-by-step through the process of making their own. A bright design, clear text, and a self-evaluation quiz make this a valuable resource for any classroom.","English",22.6,16.95,"510","24 pp.",{"$f":"Table1[[#This Row],['# Books]]*Table1[[#This Row],[QTY]]","v":0},{"$f":"Table1[[#This Row],[QTY]]*Table1[[#This Row],[S&L Price]]","v":0}]
[null,null,48,null,"Graph It!",1,"Making Circle Graphs","eBook","978-1-4824-0832-4",2015,"August 2014",null,null,"Author","Nora Dee",null,null,14,null,"H",null,"Grade 1 - 2","Grade 1 - 3","Understanding circle graphs, also known as pie charts, is an important math skill. This book investigates the topic using engaging and accessible examples such as sports. Readers examine several circle graphs closely and are guided step-by-step through the process of making their own. A bright design, clear text, and a self-evaluation quiz make this a valuable resource for any classroom.","English",22.6,16.95,"510","24 pp.",{"$f":"Table1[[#This Row],['# Books]]*Table1[[#This Row],[QTY]]","v":0},{"$f":"Table1[[#This Row],[QTY]]*Table1[[#This Row],[S&L Price]]","v":0}]
[null,null,48,null,"Graph It!",1,"Making Line Graphs","Library Bound Book","978-1-4824-0834-8",2015,"August 2014","Library","7.000 X 7.000","Author","Mary Molly Shea",null,null,14,null,"H",null,"Grade 1 - 2","Grade 1 - 3","Line graphs are the perfect way to show how something changes over time. They can display how fast someone is growing, how many books they read each week, or how much money they make or lose over time. This book shows that line graphs are easy to read and fun to make! Questions within the text and an answer key help readers measure their understanding of this important math concept.","English",22.6,16.95,"510","24 pp.",{"$f":"Table1[[#This Row],['# Books]]*Table1[[#This Row],[QTY]]","v":0},{"$f":"Table1[[#This Row],[QTY]]*Table1[[#This Row],[S&L Price]]","v":0}]
[null,null,48,null,"Graph It!",1,"Making Line Graphs","eBook","978-1-4824-0837-9",2015,"August 2014",null,null,"Author","Mary Molly Shea",null,null,14,null,"H",null,"Grade 1 - 2","Grade 1 - 3","Line graphs are the perfect way to show how something changes over time. They can display how fast someone is growing, how many books they read each week, or how much money they make or lose over time. This book shows that line graphs are easy to read and fun to make! Questions within the text and an answer key help readers measure their understanding of this important math concept.","English",22.6,16.95,"510","24 pp.",{"$f":"Table1[[#This Row],['# Books]]*Table1[[#This Row],[QTY]]","v":0},{"$f":"Table1[[#This Row],[QTY]]*Table1[[#This Row],[S&L Price]]","v":0}]
[null,null,48,null,"Graph It!",1,"Making Pictographs","Library Bound Book","978-1-4824-0839-3",2015,"August 2014","Library","7.000 X 7.000","Author","Keiran Shah",null,null,12,null,"G",null,"Grade 1 - 2","Grade 1 - 3","Pictographs may be the most entertaining kind of graph. They use pictures or symbols to represent amounts. In this inviting book, fun pictures and colorful graphics make learning to read and interpret pictographs enjoyable. Readers will especially like learning how to create their own pictograph. This book, a valuable tool to address the Measurement and Data standards of the Common Core, also includes questions and an answer key for self-evaluation.","English",22.6,16.95,"001.4","24 pp.",{"$f":"Table1[[#This Row],['# Books]]*Table1[[#This Row],[QTY]]","v":0},{"$f":"Table1[[#This Row],[QTY]]*Table1[[#This Row],[S&L Price]]","v":0}]
[null,null,48,null,"Graph It!",1,"Making Pictographs","eBook","978-1-4824-0841-6",2015,"August 2014",null,null,"Author","Keiran Shah",null,null,12,null,"G",null,"Grade 1 - 2","Grade 1 - 3","Pictographs may be the most entertaining kind of graph. They use pictures or symbols to represent amounts. In this inviting book, fun pictures and colorful graphics make learning to read and interpret pictographs enjoyable. Readers will especially like learning how to create their own pictograph. This book, a valuable tool to address the Measurement and Data standards of the Common Core, also includes questions and an answer key for self-evaluation.","English",22.6,16.95,"001.4","24 pp.",{"$f":"Table1[[#This Row],['# Books]]*Table1[[#This Row],[QTY]]","v":0},{"$f":"Table1[[#This Row],[QTY]]*Table1[[#This Row],[S&L Price]]","v":0}]
[null,null,48,null,"Graph It!",1,"Making Tally Charts","Library Bound Book","978-1-4824-0844-7",2015,"August 2014","Library","7.000 X 7.000","Author","Elizabeth Whyte",null,null,12,null,"G",null,"Grade 1 - 2","Grade 1 - 3","Tally charts are an excellent way to organize, represent, and interpret data, a key skill in today's math classrooms. Readers will learn the components of a tally chart and how each is essential in understanding the information the chart holds. Entertaining topics, questions and answers, and a colorful design make this book a comprehensible companion to the mathematics curriculum.","English",22.6,16.95,"510","24 pp.",{"$f":"Table1[[#This Row],['# Books]]*Table1[[#This Row],[QTY]]","v":0},{"$f":"Table1[[#This Row],[QTY]]*Table1[[#This Row],[S&L Price]]","v":0}]
[null,null,48,null,"Graph It!",1,"Making Tally Charts","eBook","978-1-4824-0880-5",2015,"August 2014",null,null,"Author","Elizabeth Whyte",null,null,12,null,"G",null,"Grade 1 - 2","Grade 1 - 3","Tally charts are an excellent way to organize, represent, and interpret data, a key skill in today's math classrooms. Readers will learn the components of a tally chart and how each is essential in understanding the information the chart holds. Entertaining topics, questions and answers, and a colorful design make this book a comprehensible companion to the mathematics curriculum.","English",22.6,16.95,"510","24 pp.",{"$f":"Table1[[#This Row],['# Books]]*Table1[[#This Row],[QTY]]","v":0},{"$f":"Table1[[#This Row],[QTY]]*Table1[[#This Row],[S&L Price]]","v":0}]
[null,null,48,null,"Graph It!",1,"Making Venn Diagrams","Library Bound Book","978-1-4824-0934-5",2015,"August 2014","Library","7.000 X 7.000","Author","Therese Harasymiw",null,null,14,null,"H",null,"Grade 1 - 2","Grade 1 - 3","Venn diagrams are a visually effective method of showing how sets of data intersect. Though Venn diagrams are often used as graphic organizers in other classrooms, they are just as important to the math classroom. Readers are introduced to some kinds of Venn diagrams they may encounter and follow step-by-step instructions to make their own. Questions and an answer key help them assess their understanding of this valuable topic.","English",22.6,16.95,"511","24 pp.",{"$f":"Table1[[#This Row],['# Books]]*Table1[[#This Row],[QTY]]","v":0},{"$f":"Table1[[#This Row],[QTY]]*Table1[[#This Row],[S&L Price]]","v":0}]
[null,null,48,null,"Graph It!",1,"Making Venn Diagrams","eBook","978-1-4824-0937-6",2015,"August 2014",null,null,"Author","Therese Harasymiw",null,null,14,null,"H",null,"Grade 1 - 2","Grade 1 - 3","Venn diagrams are a visually effective method of showing how sets of data intersect. Though Venn diagrams are often used as graphic organizers in other classrooms, they are just as important to the math classroom. Readers are introduced to some kinds of Venn diagrams they may encounter and follow step-by-step instructions to make their own. Questions and an answer key help them assess their understanding of this valuable topic.","English",22.6,16.95,"511","24 pp.",{"$f":"Table1[[#This Row],['# Books]]*Table1[[#This Row],[QTY]]","v":0},{"$f":"Table1[[#This Row],[QTY]]*Table1[[#This Row],[S&L Price]]","v":0}]
[null,null,48,null,"Learn My Language! Spanish",6,"Learn My Language! Spanish","Library Set","978-1-4824-0442-5",2014,"January 2014","Library","7.000 X 7.000",null,"",null,null,null,null,null,null,"Grade 1 - 2","Grade 1 - 3","Learning a foreign language at a young age is paramount, and introducing the language in a motivating and appealing way is essential to the success of that process. This accessible series takes readers through familiar situations while presenting Spanish terms applicable to these settings. Whether they find themselves at home, at the zoo, or in the post office, readers of these inviting books will be able to practice and reinforce the everyday Spanish vocabulary they learn.     • Pronunciation included on each page for self-tutoring and correction • Colorful photos offer visual clues for vocabulary terms • Spanish is defined and interwoven into English sentences to aid and reinforce comprehension  ","English",135.6,101.7,null,"24 pp.",{"$f":"Table1[[#This Row],['# Books]]*Table1[[#This Row],[QTY]]","v":0},{"$f":"Table1[[#This Row],[QTY]]*Table1[[#This Row],[S&L Price]]","v":0}]
[null,null,48,null,"Learn My Language! Spanish",1,"Spanish Words at School","Library Bound Book","978-1-4824-0334-3",2014,"January 2014","Library","7.000 X 7.000","Author","Sydney Salazar",null,null,14,14,"H",null,"Grade 1 - 2","Grade 1 - 3","It's time for clase. That means \"class\" in Spanish. Readers of this book will find it easy to learn school-oriented Spanish vocabulary in the context of a day at school. Spanish words are introduced in an accessible way amid English text, reinforcing their meaning. A key on each page aids readers in proper pronunciation, and images labeled in Spanish add further support.","English",22.6,16.95,"468","24 pp.",{"$f":"Table1[[#This Row],['# Books]]*Table1[[#This Row],[QTY]]","v":0},{"$f":"Table1[[#This Row],[QTY]]*Table1[[#This Row],[S&L Price]]","v":0}]
[null,null,48,null,"Learn My Language! Spanish",1,"Spanish Words at School","eBook","978-1-4824-0335-0",2014,"January 2014",null,null,"Author","Sydney Salazar",null,null,14,14,"H",null,"Grade 1 - 2","Grade 1 - 3","It's time for clase. That means \"class\" in Spanish. Readers of this book will find it easy to learn school-oriented Spanish vocabulary in the context of a day at school. Spanish words are introduced in an accessible way amid English text, reinforcing their meaning. A key on each page aids readers in proper pronunciation, and images labeled in Spanish add further support.","English",22.6,16.95,"468","24 pp.",{"$f":"Table1[[#This Row],['# Books]]*Table1[[#This Row],[QTY]]","v":0},{"$f":"Table1[[#This Row],[QTY]]*Table1[[#This Row],[S&L Price]]","v":0}]
[null,null,48,null,"Learn My Language! Spanish",1,"Spanish Words at School","Interactive eBook","978-1-4824-0336-7",2014,"January 2014",null,null,"Author","Sydney Salazar",null,null,14,14,"H",null,"Grade 1 - 2","Grade 1 - 3","It's time for clase. That means \"class\" in Spanish. Readers of this book will find it easy to learn school-oriented Spanish vocabulary in the context of a day at school. Spanish words are introduced in an accessible way amid English text, reinforcing their meaning. A key on each page aids readers in proper pronunciation, and images labeled in Spanish add further support.","English",33.25,24.95,"468","24 pp.",{"$f":"Table1[[#This Row],['# Books]]*Table1[[#This Row],[QTY]]","v":0},{"$f":"Table1[[#This Row],[QTY]]*Table1[[#This Row],[S&L Price]]","v":0}]
[null,null,48,null,"Learn My Language! Spanish",1,"Spanish Words at the Park","Library Bound Book","978-1-4824-0346-6",2014,"January 2014","Library","7.000 X 7.000","Author","Johanna Leigh",null,null,14,14,"H",null,"Grade 1 - 2","Grade 1 - 3","A fun setting is a perfect way to introduce Spanish words, and few places are as fun as a park playground. Readers of this book will love learning Spanish vocabulary for their favorite park equipment, such as the pasamanos, or monkey bars. It's easy to understand the words amid the English text, and a pronunciation guide is yet another support and reinforcement for the beginning Spanish student.","English",22.6,16.95,"468","24 pp.",{"$f":"Table1[[#This Row],['# Books]]*Table1[[#This Row],[QTY]]","v":0},{"$f":"Table1[[#This Row],[QTY]]*Table1[[#This Row],[S&L Price]]","v":0}]
[null,null,48,null,"Learn My Language! Spanish",1,"Spanish Words at the Park","eBook","978-1-4824-0347-3",2014,"January 2014",null,null,"Author","Johanna Leigh",null,null,14,14,"H",null,"Grade 1 - 2","Grade 1 - 3","A fun setting is a perfect way to introduce Spanish words, and few places are as fun as a park playground. Readers of this book will love learning Spanish vocabulary for their favorite park equipment, such as the pasamanos, or monkey bars. It's easy to understand the words amid the English text, and a pronunciation guide is yet another support and reinforcement for the beginning Spanish student.","English",22.6,16.95,"468","24 pp.",{"$f":"Table1[[#This Row],['# Books]]*Table1[[#This Row],[QTY]]","v":0},{"$f":"Table1[[#This Row],[QTY]]*Table1[[#This Row],[S&L Price]]","v":0}]
[null,null,48,null,"Learn My Language! Spanish",1,"Spanish Words at the Park","Interactive eBook","978-1-4824-0348-0",2014,"January 2014",null,null,"Author","Johanna Leigh",null,null,14,14,"H",null,"Grade 1 - 2","Grade 1 - 3","A fun setting is a perfect way to introduce Spanish words, and few places are as fun as a park playground. Readers of this book will love learning Spanish vocabulary for their favorite park equipment, such as the pasamanos, or monkey bars. It's easy to understand the words amid the English text, and a pronunciation guide is yet another support and reinforcement for the beginning Spanish student.","English",33.25,24.95,"468","24 pp.",{"$f":"Table1[[#This Row],['# Books]]*Table1[[#This Row],[QTY]]","v":0},{"$f":"Table1[[#This Row],[QTY]]*Table1[[#This Row],[S&L Price]]","v":0}]
[null,null,48,null,"Learn My Language! Spanish",1,"Spanish Words at the Post Office","Library Bound Book","978-1-4824-0350-3",2014,"January 2014","Library","7.000 X 7.000","Author","Roman Patrick",null,null,14,14,"H",null,"Grade 1 - 2","Grade 1 - 3","Using new vocabulary in everyday situations is a great way to strengthen one's understanding of a language. And a trip to the post office, or oficina de correos, provides just that kind of situation in this book, an introduction to Spanish. Readers will tag along as the narrator takes mail to the post office and teaches various Spanish terms along the way. Pronunciations for each term are provided in a key in each chapter.","English",22.6,16.95,"468","24 pp.",{"$f":"Table1[[#This Row],['# Books]]*Table1[[#This Row],[QTY]]","v":0},{"$f":"Table1[[#This Row],[QTY]]*Table1[[#This Row],[S&L Price]]","v":0}]
[null,null,48,null,"Learn My Language! Spanish",1,"Spanish Words at the Post Office","eBook","978-1-4824-0351-0",2014,"January 2014",null,null,"Author","Roman Patrick",null,null,14,14,"H",null,"Grade 1 - 2","Grade 1 - 3","Using new vocabulary in everyday situations is a great way to strengthen one's understanding of a language. And a trip to the post office, or oficina de correos, provides just that kind of situation in this book, an introduction to Spanish. Readers will tag along as the narrator takes mail to the post office and teaches various Spanish terms along the way. Pronunciations for each term are provided in a key in each chapter.","English",22.6,16.95,"468","24 pp.",{"$f":"Table1[[#This Row],['# Books]]*Table1[[#This Row],[QTY]]","v":0},{"$f":"Table1[[#This Row],[QTY]]*Table1[[#This Row],[S&L Price]]","v":0}]
[null,null,48,null,"Learn My Language! Spanish",1,"Spanish Words at the Post Office","Interactive eBook","978-1-4824-0352-7",2014,"January 2014",null,null,"Author","Roman Patrick",null,null,14,14,"H",null,"Grade 1 - 2","Grade 1 - 3","Using new vocabulary in everyday situations is a great way to strengthen one's understanding of a language. And a trip to the post office, or oficina de correos, provides just that kind of situation in this book, an introduction to Spanish. Readers will tag along as the narrator takes mail to the post office and teaches various Spanish terms along the way. Pronunciations for each term are provided in a key in each chapter.","English",33.25,24.95,"468","24 pp.",{"$f":"Table1[[#This Row],['# Books]]*Table1[[#This Row],[QTY]]","v":0},{"$f":"Table1[[#This Row],[QTY]]*Table1[[#This Row],[S&L Price]]","v":0}]
[null,null,48,null,"Learn My Language! Spanish",1,"Spanish Words at the Zoo","Library Bound Book","978-1-4824-0355-8",2014,"January 2014","Library","7.000 X 7.000","Author","Nora Dee",null,null,14,14,"H",null,"Grade 1 - 2","Grade 1 - 3","A school trip to the zoo is the entertaining setting for learning high-interest Spanish vocabulary in this fun book. Readers will love knowing the Spanish words for their favorite animals, such as the jirafa (giraffe) and oso (bear). Pronunciations and a word key in each chapter further reinforce the terms, as well as carefully chosen, labeled photographs.","English",22.6,16.95,"468","24 pp.",{"$f":"Table1[[#This Row],['# Books]]*Table1[[#This Row],[QTY]]","v":0},{"$f":"Table1[[#This Row],[QTY]]*Table1[[#This Row],[S&L Price]]","v":0}]
[null,null,48,null,"Learn My Language! Spanish",1,"Spanish Words at the Zoo","eBook","978-1-4824-0356-5",2014,"January 2014",null,null,"Author","Nora Dee",null,null,14,14,"H",null,"Grade 1 - 2","Grade 1 - 3","A school trip to the zoo is the entertaining setting for learning high-interest Spanish vocabulary in this fun book. Readers will love knowing the Spanish words for their favorite animals, such as the jirafa (giraffe) and oso (bear). Pronunciations and a word key in each chapter further reinforce the terms, as well as carefully chosen, labeled photographs.","English",22.6,16.95,"468","24 pp.",{"$f":"Table1[[#This Row],['# Books]]*Table1[[#This Row],[QTY]]","v":0},{"$f":"Table1[[#This Row],[QTY]]*Table1[[#This Row],[S&L Price]]","v":0}]
[null,null,48,null,"Learn My Language! Spanish",1,"Spanish Words at the Zoo","Interactive eBook","978-1-4824-0357-2",2014,"January 2014",null,null,"Author","Nora Dee",null,null,14,14,"H",null,"Grade 1 - 2","Grade 1 - 3","A school trip to the zoo is the entertaining setting for learning high-interest Spanish vocabulary in this fun book. Readers will love knowing the Spanish words for their favorite animals, such as the jirafa (giraffe) and oso (bear). Pronunciations and a word key in each chapter further reinforce the terms, as well as carefully chosen, labeled photographs.","English",33.25,24.95,"468","24 pp.",{"$f":"Table1[[#This Row],['# Books]]*Table1[[#This Row],[QTY]]","v":0},{"$f":"Table1[[#This Row],[QTY]]*Table1[[#This Row],[S&L Price]]","v":0}]
[null,null,48,null,"Learn My Language! Spanish",1,"Spanish Words in the House","Library Bound Book","978-1-4824-0360-2",2014,"January 2014","Library","7.000 X 7.000","Author","Robert Kennedy",null,null,14,14,"H",null,"Grade 1 - 2","Grade 1 - 3","The easiest way to learn a new language is to use the vocabulary in real life as often as possible. In this book, readers are invited into a casa, or house, and learn Spanish terms that they can practice every day in their own casa. Spanish words are introduced in an accessible way, reinforced with a pronunciation guide, and featured in photographs.","English",22.6,16.95,"468","24 pp.",{"$f":"Table1[[#This Row],['# Books]]*Table1[[#This Row],[QTY]]","v":0},{"$f":"Table1[[#This Row],[QTY]]*Table1[[#This Row],[S&L Price]]","v":0}]
[null,null,48,null,"Learn My Language! Spanish",1,"Spanish Words in the House","eBook","978-1-4824-0361-9",2014,"January 2014",null,null,"Author","Robert Kennedy",null,null,14,14,"H",null,"Grade 1 - 2","Grade 1 - 3","The easiest way to learn a new language is to use the vocabulary in real life as often as possible. In this book, readers are invited into a casa, or house, and learn Spanish terms that they can practice every day in their own casa. Spanish words are introduced in an accessible way, reinforced with a pronunciation guide, and featured in photographs.","English",22.6,16.95,"468","24 pp.",{"$f":"Table1[[#This Row],['# Books]]*Table1[[#This Row],[QTY]]","v":0},{"$f":"Table1[[#This Row],[QTY]]*Table1[[#This Row],[S&L Price]]","v":0}]
[null,null,48,null,"Learn My Language! Spanish",1,"Spanish Words in the House","Interactive eBook","978-1-4824-0362-6",2014,"January 2014",null,null,"Author","Robert Kennedy",null,null,14,14,"H",null,"Grade 1 - 2","Grade 1 - 3","The easiest way to learn a new language is to use the vocabulary in real life as often as possible. In this book, readers are invited into a casa, or house, and learn Spanish terms that they can practice every day in their own casa. Spanish words are introduced in an accessible way, reinforced with a pronunciation guide, and featured in photographs.","English",33.25,24.95,"468","24 pp.",{"$f":"Table1[[#This Row],['# Books]]*Table1[[#This Row],[QTY]]","v":0},{"$f":"Table1[[#This Row],[QTY]]*Table1[[#This Row],[S&L Price]]","v":0}]
[null,null,48,null,"Learn My Language! Spanish",1,"Spanish Words on the Road","Library Bound Book","978-1-4824-0365-7",2014,"January 2014","Library","7.000 X 7.000","Author","Julia Salazar",null,null,14,14,"H",null,"Grade 1 - 2","Grade 1 - 3","Spanish is especially fun to learn on vacation. Readers are invited to hit the road in this introduction to some key Spanish vocabulary. They'll see a motocicleta (motorcycle), a lago (lake), and a venado (deer) on the way to their destination. Pronunciations, word keys, and labeled photographs add support for the accessible text. Readers will be practicing Spanish whenever they're on the road.","English",22.6,16.95,"468","24 pp.",{"$f":"Table1[[#This Row],['# Books]]*Table1[[#This Row],[QTY]]","v":0},{"$f":"Table1[[#This Row],[QTY]]*Table1[[#This Row],[S&L Price]]","v":0}]
[null,null,48,null,"Learn My Language! Spanish",1,"Spanish Words on the Road","eBook","978-1-4824-0366-4",2014,"January 2014",null,null,"Author","Julia Salazar",null,null,14,14,"H",null,"Grade 1 - 2","Grade 1 - 3","Spanish is especially fun to learn on vacation. Readers are invited to hit the road in this introduction to some key Spanish vocabulary. They'll see a motocicleta (motorcycle), a lago (lake), and a venado (deer) on the way to their destination. Pronunciations, word keys, and labeled photographs add support for the accessible text. Readers will be practicing Spanish whenever they're on the road.","English",22.6,16.95,"468","24 pp.",{"$f":"Table1[[#This Row],['# Books]]*Table1[[#This Row],[QTY]]","v":0},{"$f":"Table1[[#This Row],[QTY]]*Table1[[#This Row],[S&L Price]]","v":0}]
[null,null,48,null,"Learn My Language! Spanish",1,"Spanish Words on the Road","Interactive eBook","978-1-4824-0367-1",2014,"January 2014",null,null,"Author","Julia Salazar",null,null,14,14,"H",null,"Grade 1 - 2","Grade 1 - 3","Spanish is especially fun to learn on vacation. Readers are invited to hit the road in this introduction to some key Spanish vocabulary. They'll see a motocicleta (motorcycle), a lago (lake), and a venado (deer) on the way to their destination. Pronunciations, word keys, and labeled photographs add support for the accessible text. Readers will be practicing Spanish whenever they're on the road.","English",33.25,24.95,"468","24 pp.",{"$f":"Table1[[#This Row],['# Books]]*Table1[[#This Row],[QTY]]","v":0},{"$f":"Table1[[#This Row],[QTY]]*Table1[[#This Row],[S&L Price]]","v":0}]
[null,null,49,null,"Measure It!",6,"Measure It!","Library Set","978-1-4824-4289-2",2016,"January 2016",null,"7.000 X 7.000"," ","",null,null,null,null,null,null,"Grade 1 - 2","Grade 1 - 3","Everything in our world can be measured, but learning how and what to use can be a tough concept for young readers. This series teaches readers how to make the world easier to understand through the measurement of fun objects, distances, and much more. From the feet needed to measure the tallest skyscrapers to the pounds or kilograms that help us understand weight, readers will learn how to measure their world in a variety of ways. \n\n• Fits both math and science curriculums\n\n• Introduces STEM topics in an accessible way\n\n• Concluding graphic organizer summarizes information\n\n","English",135.6,101.7,null,"24 pp.",{"$f":"Table1[[#This Row],['# Books]]*Table1[[#This Row],[QTY]]","v":0},{"$f":"Table1[[#This Row],[QTY]]*Table1[[#This Row],[S&L Price]]","v":0}]
[null,null,49,null,"Measure It!",1,"Measuring Distance","Library Bound Book","978-1-4824-3858-1",2016,"January 2016","Library","7.000 X 7.000","Author","T. Baer",3.1,0.5,null,null,"H",null,"Grade 1 - 2","Grade 1 - 3","Math is much more than measuring the sides of a triangle. This exciting book makes readers grab their rulers and maybe even their tape measures to explore the concept of distance in exciting and unpredictable ways. Readers learn through simple text the concept of distance, what increments to use when measuring it, and why knowing the distance between two points is an important concept for any student.","English",22.6,16.95,"530.8—dc23","24 pp.",{"$f":"Table1[[#This Row],['# Books]]*Table1[[#This Row],[QTY]]","v":0},{"$f":"Table1[[#This Row],[QTY]]*Table1[[#This Row],[S&L Price]]","v":0}]
[null,null,49,null,"Measure It!",1,"Measuring Distance","eBook","978-1-4824-3859-8",2016,"January 2016",null,null,"Author","T. Baer",3.1,0.5,null,null,"H",null,"Grade 1 - 2","Grade 1 - 3","Math is much more than measuring the sides of a triangle. This exciting book makes readers grab their rulers and maybe even their tape measures to explore the concept of distance in exciting and unpredictable ways. Readers learn through simple text the concept of distance, what increments to use when measuring it, and why knowing the distance between two points is an important concept for any student.","English",22.6,16.95,"530.8—dc23","24 pp.",{"$f":"Table1[[#This Row],['# Books]]*Table1[[#This Row],[QTY]]","v":0},{"$f":"Table1[[#This Row],[QTY]]*Table1[[#This Row],[S&L Price]]","v":0}]
[null,null,49,null,"Measure It!",1,"Measuring Height","Library Bound Book","978-1-4824-3862-8",2016,"January 2016","Library","7.000 X 7.000","Author","T. Baer",2.8,0.5,null,null,"H",null,"Grade 1 - 2","Grade 1 - 3","How tall is that tree? Let’s find out! Measuring the height of things is a great way to practice mathematics. This exciting book shows readers what tools are needed to measure and how a basic understanding of length and height can be used to tackle more complex math in the future. From measuring the height of a person to a giant skyscraper, this exciting book is a fun and easy way for young readers to tackle STEM topics with ease.","English",22.6,16.95,"530.8—dc23","24 pp.",{"$f":"Table1[[#This Row],['# Books]]*Table1[[#This Row],[QTY]]","v":0},{"$f":"Table1[[#This Row],[QTY]]*Table1[[#This Row],[S&L Price]]","v":0}]
[null,null,49,null,"Measure It!",1,"Measuring Height","eBook","978-1-4824-3863-5",2016,"January 2016",null,null,"Author","T. Baer",2.8,0.5,null,null,"H",null,"Grade 1 - 2","Grade 1 - 3","How tall is that tree? Let’s find out! Measuring the height of things is a great way to practice mathematics. This exciting book shows readers what tools are needed to measure and how a basic understanding of length and height can be used to tackle more complex math in the future. From measuring the height of a person to a giant skyscraper, this exciting book is a fun and easy way for young readers to tackle STEM topics with ease.","English",22.6,16.95,"530.8—dc23","24 pp.",{"$f":"Table1[[#This Row],['# Books]]*Table1[[#This Row],[QTY]]","v":0},{"$f":"Table1[[#This Row],[QTY]]*Table1[[#This Row],[S&L Price]]","v":0}]
[null,null,49,null,"Measure It!",1,"Measuring Speed","Library Bound Book","978-1-4824-3866-6",2016,"January 2016","Library","7.000 X 7.000","Author","T. Baer",3.4,0.5,null,null,"H",null,"Grade 1 - 2","Grade 1 - 3","When a bird flies by a window or a car zooms by on the highway, we often wonder how fast the two objects traveled. This book explains the concept of speed to readers while showing them accessible ways to measure it for themselves. Learning the amount of distance traveled, and how quickly that distance was covered, is a great way to implement a variety of STEM topics while practicing this essential mathematical skill.","English",22.6,16.95,"531'.112—dc23","24 pp.",{"$f":"Table1[[#This Row],['# Books]]*Table1[[#This Row],[QTY]]","v":0},{"$f":"Table1[[#This Row],[QTY]]*Table1[[#This Row],[S&L Price]]","v":0}]
[null,null,49,null,"Measure It!",1,"Measuring Speed","eBook","978-1-4824-3867-3",2016,"January 2016",null,null,"Author","T. Baer",3.4,0.5,null,null,"H",null,"Grade 1 - 2","Grade 1 - 3","When a bird flies by a window or a car zooms by on the highway, we often wonder how fast the two objects traveled. This book explains the concept of speed to readers while showing them accessible ways to measure it for themselves. Learning the amount of distance traveled, and how quickly that distance was covered, is a great way to implement a variety of STEM topics while practicing this essential mathematical skill.","English",22.6,16.95,"531'.112—dc23","24 pp.",{"$f":"Table1[[#This Row],['# Books]]*Table1[[#This Row],[QTY]]","v":0},{"$f":"Table1[[#This Row],[QTY]]*Table1[[#This Row],[S&L Price]]","v":0}]
[null,null,49,null,"Measure It!",1,"Measuring Temperature","Library Bound Book","978-1-4824-3870-3",2016,"January 2016","Library","7.000 X 7.000","Author","T. Baer",3.1,0.5,null,null,"H","500L","Grade 1 - 2","Grade 1 - 3","The temperature outside is always changing, which means getting an accurate read on it is important. This informative book shows readers how to measure temperature with a thermometer. Knowing the temperature will keep readers from diving into a freezing cold pool, or ensure they wear light clothes on a hot summer day. Showing measurements in both Fahrenheit and Celsius gives the book added value, and means readers will know the temperature no matter what kind of thermometer they use anywhere in the world.","English",22.6,16.95,"536'.50287—dc23","24 pp.",{"$f":"Table1[[#This Row],['# Books]]*Table1[[#This Row],[QTY]]","v":0},{"$f":"Table1[[#This Row],[QTY]]*Table1[[#This Row],[S&L Price]]","v":0}]
[null,null,49,null,"Measure It!",1,"Measuring Temperature","eBook","978-1-4824-3871-0",2016,"January 2016",null,null,"Author","T. Baer",3.1,0.5,null,null,"H","500L","Grade 1 - 2","Grade 1 - 3","The temperature outside is always changing, which means getting an accurate read on it is important. This informative book shows readers how to measure temperature with a thermometer. Knowing the temperature will keep readers from diving into a freezing cold pool, or ensure they wear light clothes on a hot summer day. Showing measurements in both Fahrenheit and Celsius gives the book added value, and means readers will know the temperature no matter what kind of thermometer they use anywhere in the world.","English",22.6,16.95,"536'.50287—dc23","24 pp.",{"$f":"Table1[[#This Row],['# Books]]*Table1[[#This Row],[QTY]]","v":0},{"$f":"Table1[[#This Row],[QTY]]*Table1[[#This Row],[S&L Price]]","v":0}]
[null,null,49,null,"Measure It!",1,"Measuring Volume","Library Bound Book","978-1-4824-3874-1",2016,"January 2016","Library","7.000 X 7.000","Author","T. Baer",3.9,0.5,null,null,"H",null,"Grade 1 - 2","Grade 1 - 3","Volume is the amount of space a liquid takes up in a container. This engaging book takes a look at how to measure volume and why it’s useful. Whether using the displacement method or simple containers marked with measurements, there are many different ways to measure liquids. Readers will learn to measure volume in both U.S. and International measurements to further their learning and ensure they can measure volume no matter what kind of container they use.","English",22.6,16.95,"516.1—dc23","24 pp.",{"$f":"Table1[[#This Row],['# Books]]*Table1[[#This Row],[QTY]]","v":0},{"$f":"Table1[[#This Row],[QTY]]*Table1[[#This Row],[S&L Price]]","v":0}]
[null,null,49,null,"Measure It!",1,"Measuring Volume","eBook","978-1-4824-3875-8",2016,"January 2016",null,null,"Author","T. Baer",3.9,0.5,null,null,"H",null,"Grade 1 - 2","Grade 1 - 3","Volume is the amount of space a liquid takes up in a container. This engaging book takes a look at how to measure volume and why it’s useful. Whether using the displacement method or simple containers marked with measurements, there are many different ways to measure liquids. Readers will learn to measure volume in both U.S. and International measurements to further their learning and ensure they can measure volume no matter what kind of container they use.","English",22.6,16.95,"516.1—dc23","24 pp.",{"$f":"Table1[[#This Row],['# Books]]*Table1[[#This Row],[QTY]]","v":0},{"$f":"Table1[[#This Row],[QTY]]*Table1[[#This Row],[S&L Price]]","v":0}]
[null,null,49,null,"Measure It!",1,"Measuring Weight","Library Bound Book","978-1-4824-3878-9",2016,"January 2016","Library","7.000 X 7.000","Author","T. Baer",3.3,0.5,null,null,"H",null,"Grade 1 - 2","Grade 1 - 3","It’s usually rude to ask how much someone weighs, but in science it’s an important thing to know! Readers learn how to measure weight in a variety of different ways, from ounces or grams used for small measurements, pounds or kilograms used to measure people, and tons and metric tons we used to measure larger loads. Using simple text to explain scientific and engineering principles fulfills STEM course requirements in a fun and engaging way and colorful photographs and graphics make the content even more accessible.","English",22.6,16.95,"530.8--dc23","24 pp.",{"$f":"Table1[[#This Row],['# Books]]*Table1[[#This Row],[QTY]]","v":0},{"$f":"Table1[[#This Row],[QTY]]*Table1[[#This Row],[S&L Price]]","v":0}]
[null,null,49,null,"Measure It!",1,"Measuring Weight","eBook","978-1-4824-3881-9",2016,"January 2016",null,null,"Author","T. Baer",3.3,0.5,null,null,"H",null,"Grade 1 - 2","Grade 1 - 3","It’s usually rude to ask how much someone weighs, but in science it’s an important thing to know! Readers learn how to measure weight in a variety of different ways, from ounces or grams used for small measurements, pounds or kilograms used to measure people, and tons and metric tons we used to measure larger loads. Using simple text to explain scientific and engineering principles fulfills STEM course requirements in a fun and engaging way and colorful photographs and graphics make the content even more accessible.","English",22.6,16.95,"530.8--dc23","24 pp.",{"$f":"Table1[[#This Row],['# Books]]*Table1[[#This Row],[QTY]]","v":0},{"$f":"Table1[[#This Row],[QTY]]*Table1[[#This Row],[S&L Price]]","v":0}]
[null,null,49,null,"Animal Math",12,"Animal Math: Sets 1-2","Library Set","978-1-4339-9728-0",2014,"August 2013","Library","7.000 X 7.000",null,"",null,null,null,null,null,null,"Grade 1 - 2","Grade 1 - 3","Few topics are more motivating to readers than animals, whether the wild creatures are cute, ugly, or slimy. The irresistible combination of cool animal facts, fascinating photographs, and essential math topics will inspire readers to view mathematics for what it is, a valuable tool in the real world. Carefully selected images give readers visual clues as they practice different types of math problems. An answer key allows them to check their answers and self-assess their understanding.    •  Content drawn from Common Core Math Standards and general life science curriculum • Questions provide testing opportunities • Table of Contents, Glossary, and Index guide readers in navigating each book • For More Information section points readers to sources for further exploration of the topic • Eye-catching photographs contribute to appealing format ","English",271.2,203.4,null,"24 pp.",{"$f":"Table1[[#This Row],['# Books]]*Table1[[#This Row],[QTY]]","v":0},{"$f":"Table1[[#This Row],[QTY]]*Table1[[#This Row],[S&L Price]]","v":0}]
[null,null,49,null,"Animal Math",1,"Adding with Apes","Library Bound Book","978-1-4339-5654-6",2012,"August 2011","Library","7.000 X 7.000","Author","Adele James",2,0.5,8,9,"F",null,"Grade 1 - 2","Grade 1 - 3","Gorillas, chimpanzees, orangutans, and other apes are intelligent animals. They share many characteristics with each other, and with us. This similarity, plus the charming expressions and energy of the great apes, is used here to teach readers about addition. Engaging photographs and number sentences guide explorers through the fascinating primate world while helping them seamlessly learn about one of the most necessary math concepts.","English",22.6,16.95,"513.2/11","24 pp.",{"$f":"Table1[[#This Row],['# Books]]*Table1[[#This Row],[QTY]]","v":0},{"$f":"Table1[[#This Row],[QTY]]*Table1[[#This Row],[S&L Price]]","v":0}]
[null,null,49,null,"Animal Math",1,"Adding with Apes","eBook","978-1-4339-5655-3",2012,"August 2011",null,null,"Author","Adele James",2,0.5,8,9,"F",null,"Grade 1 - 2","Grade 1 - 3","Gorillas, chimpanzees, orangutans, and other apes are intelligent animals. They share many characteristics with each other, and with us. This similarity, plus the charming expressions and energy of the great apes, is used here to teach readers about addition. Engaging photographs and number sentences guide explorers through the fascinating primate world while helping them seamlessly learn about one of the most necessary math concepts.","English",22.6,16.95,"513.2/11","24 pp.",{"$f":"Table1[[#This Row],['# Books]]*Table1[[#This Row],[QTY]]","v":0},{"$f":"Table1[[#This Row],[QTY]]*Table1[[#This Row],[S&L Price]]","v":0}]
[null,null,49,null,"Animal Math",1,"Compare with Bears","Library Bound Book","978-1-4339-5658-4",2012,"August 2011","Library","7.000 X 7.000","Author","Kate Mineo",1.9,0.5,8,9,"F",null,"Grade 1 - 2","Grade 1 - 3","Powerful grizzlies, foraging polar bears, and serene-seeming pandas . . . bears are fascinating to watch and read about. This book uses our natural interest in bears to help readers understand the basic math concept of comparison. Vibrant photographs help students juxtapose various bears and sizes. From cute cubs to ferocious full-grown carnivores, learning about math is finally fun!","English",22.6,16.95,"511.3","24 pp.",{"$f":"Table1[[#This Row],['# Books]]*Table1[[#This Row],[QTY]]","v":0},{"$f":"Table1[[#This Row],[QTY]]*Table1[[#This Row],[S&L Price]]","v":0}]
[null,null,49,null,"Animal Math",1,"Compare with Bears","eBook","978-1-4339-5659-1",2012,"August 2011",null,null,"Author","Kate Mineo",1.9,0.5,8,9,"F",null,"Grade 1 - 2","Grade 1 - 3","Powerful grizzlies, foraging polar bears, and serene-seeming pandas . . . bears are fascinating to watch and read about. This book uses our natural interest in bears to help readers understand the basic math concept of comparison. Vibrant photographs help students juxtapose various bears and sizes. From cute cubs to ferocious full-grown carnivores, learning about math is finally fun!","English",22.6,16.95,"511.3","24 pp.",{"$f":"Table1[[#This Row],['# Books]]*Table1[[#This Row],[QTY]]","v":0},{"$f":"Table1[[#This Row],[QTY]]*Table1[[#This Row],[S&L Price]]","v":0}]
[null,null,49,null,"Animal Math",1,"Counting Lions","Library Bound Book","978-1-4339-5662-1",2012,"August 2011","Library","7.000 X 7.000","Author","Adeline Zubek",1.2,0.5,8,9,"F",null,"Grade 1 - 2","Grade 1 - 3","Predatory lions prowl the plains of Africa looking for their next meal. People have long been awestruck by these big cats. This book provides a colorful expedition into the lives of these dangerous but beautiful animals while also teaching readers how to count. Students will be able to recite interesting facts about lions while also being able to count, compare, and add whole numbers easily.","English",22.6,16.95,"513.2","24 pp.",{"$f":"Table1[[#This Row],['# Books]]*Table1[[#This Row],[QTY]]","v":0},{"$f":"Table1[[#This Row],[QTY]]*Table1[[#This Row],[S&L Price]]","v":0}]
[null,null,49,null,"Animal Math",1,"Counting Lions","eBook","978-1-4339-5663-8",2012,"August 2011",null,null,"Author","Adeline Zubek",1.2,0.5,8,9,"F",null,"Grade 1 - 2","Grade 1 - 3","Predatory lions prowl the plains of Africa looking for their next meal. People have long been awestruck by these big cats. This book provides a colorful expedition into the lives of these dangerous but beautiful animals while also teaching readers how to count. Students will be able to recite interesting facts about lions while also being able to count, compare, and add whole numbers easily.","English",22.6,16.95,"513.2","24 pp.",{"$f":"Table1[[#This Row],['# Books]]*Table1[[#This Row],[QTY]]","v":0},{"$f":"Table1[[#This Row],[QTY]]*Table1[[#This Row],[S&L Price]]","v":0}]
[null,null,49,null,"Animal Math",1,"Dolphin Doubles","Library Bound Book","978-1-4339-9306-0",2014,"August 2013","Library","7.000 X 7.000","Author","Grace Vail",null,null,10,10,"F",null,"Grade 1 - 2","Grade 1 - 3","Dolphins are cute, friendly, and smart. They're so smart they can help readers learn to add and subtract doubles. This book pairs fun dolphin facts with doubles number sentences. Different kinds of dolphins are featured, including orcas and bottlenose dolphins, and vibrant photographs offer support for math problems. Math, science, and dolphins are the perfect high-interest, educational combination.","English",22.6,16.95,"513.211","24 pp.",{"$f":"Table1[[#This Row],['# Books]]*Table1[[#This Row],[QTY]]","v":0},{"$f":"Table1[[#This Row],[QTY]]*Table1[[#This Row],[S&L Price]]","v":0}]
[null,null,49,null,"Animal Math",1,"Dolphin Doubles","eBook","978-1-4339-9305-3",2014,"August 2013",null,null,"Author","Grace Vail",null,null,10,10,"F",null,"Grade 1 - 2","Grade 1 - 3","Dolphins are cute, friendly, and smart. They're so smart they can help readers learn to add and subtract doubles. This book pairs fun dolphin facts with doubles number sentences. Different kinds of dolphins are featured, including orcas and bottlenose dolphins, and vibrant photographs offer support for math problems. Math, science, and dolphins are the perfect high-interest, educational combination.","English",22.6,16.95,"513.211","24 pp.",{"$f":"Table1[[#This Row],['# Books]]*Table1[[#This Row],[QTY]]","v":0},{"$f":"Table1[[#This Row],[QTY]]*Table1[[#This Row],[S&L Price]]","v":0}]
[null,null,49,null,"Animal Math",1,"Dolphin Doubles","Interactive eBook","978-1-4339-9307-7",2014,"August 2013",null,null,"Author","Grace Vail",null,null,10,10,"F",null,"Grade 1 - 2","Grade 1 - 3","Dolphins are cute, friendly, and smart. They're so smart they can help readers learn to add and subtract doubles. This book pairs fun dolphin facts with doubles number sentences. Different kinds of dolphins are featured, including orcas and bottlenose dolphins, and vibrant photographs offer support for math problems. Math, science, and dolphins are the perfect high-interest, educational combination.","English",33.25,24.95,"513.211","24 pp.",{"$f":"Table1[[#This Row],['# Books]]*Table1[[#This Row],[QTY]]","v":0},{"$f":"Table1[[#This Row],[QTY]]*Table1[[#This Row],[S&L Price]]","v":0}]
[null,null,49,null,"Animal Math",1,"Fractions with Fish","Library Bound Book","978-1-4339-9308-4",2014,"August 2013","Library","7.000 X 7.000","Author","Maeve T. Sisk",null,null,10,10,"F",null,"Grade 1 - 2","Grade 1 - 3","Fascinating fish are a fun way to teach about fractions. Readers will love learning about their favorite kinds of fish, such as clownfish, and be in awe of some fish they may not know about, including the gigantic whale shark. While learning fishy facts, they'll also learn about fractions and how to identify parts of a whole.","English",22.6,16.95,"513.26","24 pp.",{"$f":"Table1[[#This Row],['# Books]]*Table1[[#This Row],[QTY]]","v":0},{"$f":"Table1[[#This Row],[QTY]]*Table1[[#This Row],[S&L Price]]","v":0}]
[null,null,49,null,"Animal Math",1,"Fractions with Fish","eBook","978-1-4339-9311-4",2014,"August 2013",null,null,"Author","Maeve T. Sisk",null,null,10,10,"F",null,"Grade 1 - 2","Grade 1 - 3","Fascinating fish are a fun way to teach about fractions. Readers will love learning about their favorite kinds of fish, such as clownfish, and be in awe of some fish they may not know about, including the gigantic whale shark. While learning fishy facts, they'll also learn about fractions and how to identify parts of a whole.","English",22.6,16.95,"513.26","24 pp.",{"$f":"Table1[[#This Row],['# Books]]*Table1[[#This Row],[QTY]]","v":0},{"$f":"Table1[[#This Row],[QTY]]*Table1[[#This Row],[S&L Price]]","v":0}]
[null,null,49,null,"Animal Math",1,"Fractions with Fish","Interactive eBook","978-1-4339-9312-1",2014,"August 2013",null,null,"Author","Maeve T. Sisk",null,null,10,10,"F",null,"Grade 1 - 2","Grade 1 - 3","Fascinating fish are a fun way to teach about fractions. Readers will love learning about their favorite kinds of fish, such as clownfish, and be in awe of some fish they may not know about, including the gigantic whale shark. While learning fishy facts, they'll also learn about fractions and how to identify parts of a whole.","English",33.25,24.95,"513.26","24 pp.",{"$f":"Table1[[#This Row],['# Books]]*Table1[[#This Row],[QTY]]","v":0},{"$f":"Table1[[#This Row],[QTY]]*Table1[[#This Row],[S&L Price]]","v":0}]
[null,null,49,null,"Animal Math",1,"Graphs with Giraffes","Library Bound Book","978-1-4339-9313-8",2014,"August 2013","Library","7.000 X 7.000","Author","E. T. Weingarten",null,null,10,10,"F",null,"Grade 1 - 2","Grade 1 - 3","Giraffes are the tallest animals on land. It's easy to see how tall they are by comparing heights on a graph. This book introduces readers to several kinds of graphs, including bar graphs, pie graphs, and tally charts. While learning information about these towering African animals, readers will practice using graphs and charts to answer questions. Animals are an entertaining way to show how math is part of the real world.","English",22.6,16.95,"518.23","24 pp.",{"$f":"Table1[[#This Row],['# Books]]*Table1[[#This Row],[QTY]]","v":0},{"$f":"Table1[[#This Row],[QTY]]*Table1[[#This Row],[S&L Price]]","v":0}]
[null,null,49,null,"Animal Math",1,"Graphs with Giraffes","eBook","978-1-4339-9316-9",2014,"August 2013",null,null,"Author","E. T. Weingarten",null,null,10,10,"F",null,"Grade 1 - 2","Grade 1 - 3","Giraffes are the tallest animals on land. It's easy to see how tall they are by comparing heights on a graph. This book introduces readers to several kinds of graphs, including bar graphs, pie graphs, and tally charts. While learning information about these towering African animals, readers will practice using graphs and charts to answer questions. Animals are an entertaining way to show how math is part of the real world.","English",22.6,16.95,"518.23","24 pp.",{"$f":"Table1[[#This Row],['# Books]]*Table1[[#This Row],[QTY]]","v":0},{"$f":"Table1[[#This Row],[QTY]]*Table1[[#This Row],[S&L Price]]","v":0}]
[null,null,49,null,"Animal Math",1,"Graphs with Giraffes","Interactive eBook","978-1-4339-9317-6",2014,"August 2013",null,null,"Author","E. T. Weingarten",null,null,10,10,"F",null,"Grade 1 - 2","Grade 1 - 3","Giraffes are the tallest animals on land. It's easy to see how tall they are by comparing heights on a graph. This book introduces readers to several kinds of graphs, including bar graphs, pie graphs, and tally charts. While learning information about these towering African animals, readers will practice using graphs and charts to answer questions. Animals are an entertaining way to show how math is part of the real world.","English",33.25,24.95,"518.23","24 pp.",{"$f":"Table1[[#This Row],['# Books]]*Table1[[#This Row],[QTY]]","v":0},{"$f":"Table1[[#This Row],[QTY]]*Table1[[#This Row],[S&L Price]]","v":0}]
[null,null,49,null,"Animal Math",1,"Near and Far with Birds","Library Bound Book","978-1-4339-5666-9",2012,"August 2011","Library","7.000 X 7.000","Author","Tyrone Mineo",1.3,0.5,8,9,"F",null,"Grade 1 - 2","Grade 1 - 3","The math concept of near and far is much more interesting when wildlife is involved! Ducks, ostriches, parrots, and bald eagles are just some of the colorful, appealing birds displayed in their native habitats. Readers learn many bird facts while developing a better understanding of spatial differences.","English",22.6,16.95,"153.7","24 pp.",{"$f":"Table1[[#This Row],['# Books]]*Table1[[#This Row],[QTY]]","v":0},{"$f":"Table1[[#This Row],[QTY]]*Table1[[#This Row],[S&L Price]]","v":0}]
[null,null,49,null,"Animal Math",1,"Near and Far with Birds","eBook","978-1-4339-5667-6",2012,"August 2011",null,null,"Author","Tyrone Mineo",1.3,0.5,8,9,"F",null,"Grade 1 - 2","Grade 1 - 3","The math concept of near and far is much more interesting when wildlife is involved! Ducks, ostriches, parrots, and bald eagles are just some of the colorful, appealing birds displayed in their native habitats. Readers learn many bird facts while developing a better understanding of spatial differences.","English",22.6,16.95,"153.7","24 pp.",{"$f":"Table1[[#This Row],['# Books]]*Table1[[#This Row],[QTY]]","v":0},{"$f":"Table1[[#This Row],[QTY]]*Table1[[#This Row],[S&L Price]]","v":0}]
[null,null,49,null,"Animal Math",1,"Patterns with Pandas","Library Bound Book","978-1-4339-9318-3",2014,"August 2013","Library","7.000 X 7.000","Author","Bobby Kennedy Shea",null,null,10,10,"F",null,"Grade 1 - 2","Grade 1 - 3"," Pandas are a top attraction at zoos, and the pandas in this book show us why. Cute, furry, and playful, pandas seem like real-life teddy bears. While discovering many facts about these Asian animals, readers learn how to recognize what comes next in a pattern. Panda patterns are a fun way to practice an important part of the elementary math curriculum. Colorful photographs are carefully chosen to reflect the text. ","English",22.6,16.95,"516.15","24 pp.",{"$f":"Table1[[#This Row],['# Books]]*Table1[[#This Row],[QTY]]","v":0},{"$f":"Table1[[#This Row],[QTY]]*Table1[[#This Row],[S&L Price]]","v":0}]
[null,null,49,null,"Animal Math",1,"Patterns with Pandas","eBook","978-1-4339-9321-3",2014,"August 2013",null,null,"Author","Bobby Kennedy Shea",null,null,10,10,"F",null,"Grade 1 - 2","Grade 1 - 3"," Pandas are a top attraction at zoos, and the pandas in this book show us why. Cute, furry, and playful, pandas seem like real-life teddy bears. While discovering many facts about these Asian animals, readers learn how to recognize what comes next in a pattern. Panda patterns are a fun way to practice an important part of the elementary math curriculum. Colorful photographs are carefully chosen to reflect the text. ","English",22.6,16.95,"516.15","24 pp.",{"$f":"Table1[[#This Row],['# Books]]*Table1[[#This Row],[QTY]]","v":0},{"$f":"Table1[[#This Row],[QTY]]*Table1[[#This Row],[S&L Price]]","v":0}]
[null,null,49,null,"Animal Math",1,"Patterns with Pandas","Interactive eBook","978-1-4339-9322-0",2014,"August 2013",null,null,"Author","Bobby Kennedy Shea",null,null,10,10,"F",null,"Grade 1 - 2","Grade 1 - 3"," Pandas are a top attraction at zoos, and the pandas in this book show us why. Cute, furry, and playful, pandas seem like real-life teddy bears. While discovering many facts about these Asian animals, readers learn how to recognize what comes next in a pattern. Panda patterns are a fun way to practice an important part of the elementary math curriculum. Colorful photographs are carefully chosen to reflect the text. ","English",33.25,24.95,"516.15","24 pp.",{"$f":"Table1[[#This Row],['# Books]]*Table1[[#This Row],[QTY]]","v":0},{"$f":"Table1[[#This Row],[QTY]]*Table1[[#This Row],[S&L Price]]","v":0}]
[null,null,49,null,"Animal Math",1,"Problem Solving with Pigs","Library Bound Book","978-1-4339-9323-7",2014,"August 2013","Library","7.000 X 7.000","Author","R.P. Harasymiw",null,null,10,10,"F",null,"Grade 1 - 2","Grade 1 - 3","Word problems and problem solving are a crucial component of the elementary math classroom. Engaging readers is imperative in successfully introducing certain concepts. Readers of this book will love learning about cute pigs as they solve pig word problems. They'll find out why pigs get dirty and that they actually like to be clean. Readers can check their answers in the answer key for self-evaluation.","English",22.6,16.95,"513","24 pp.",{"$f":"Table1[[#This Row],['# Books]]*Table1[[#This Row],[QTY]]","v":0},{"$f":"Table1[[#This Row],[QTY]]*Table1[[#This Row],[S&L Price]]","v":0}]
[null,null,49,null,"Animal Math",1,"Problem Solving with Pigs","eBook","978-1-4339-9326-8",2014,"August 2013",null,null,"Author","R.P. Harasymiw",null,null,10,10,"F",null,"Grade 1 - 2","Grade 1 - 3","Word problems and problem solving are a crucial component of the elementary math classroom. Engaging readers is imperative in successfully introducing certain concepts. Readers of this book will love learning about cute pigs as they solve pig word problems. They'll find out why pigs get dirty and that they actually like to be clean. Readers can check their answers in the answer key for self-evaluation.","English",22.6,16.95,"513","24 pp.",{"$f":"Table1[[#This Row],['# Books]]*Table1[[#This Row],[QTY]]","v":0},{"$f":"Table1[[#This Row],[QTY]]*Table1[[#This Row],[S&L Price]]","v":0}]
[null,null,49,null,"Animal Math",1,"Problem Solving with Pigs","Interactive eBook","978-1-4339-9327-5",2014,"August 2013",null,null,"Author","R.P. Harasymiw",null,null,10,10,"F",null,"Grade 1 - 2","Grade 1 - 3","Word problems and problem solving are a crucial component of the elementary math classroom. Engaging readers is imperative in successfully introducing certain concepts. Readers of this book will love learning about cute pigs as they solve pig word problems. They'll find out why pigs get dirty and that they actually like to be clean. Readers can check their answers in the answer key for self-evaluation.","English",33.25,24.95,"513","24 pp.",{"$f":"Table1[[#This Row],['# Books]]*Table1[[#This Row],[QTY]]","v":0},{"$f":"Table1[[#This Row],[QTY]]*Table1[[#This Row],[S&L Price]]","v":0}]
[null,null,49,null,"Animal Math",1,"Sorting with Snakes","Library Bound Book","978-1-4339-9328-2",2014,"August 2013","Library","7.000 X 7.000","Author","Mary Rose McDonnell",null,null,10,10,"F",null,"Grade 1 - 2","Grade 1 - 3","Snakes, whether fat, skinny, long, or deadly, are always fascinating. In this fact-filled book, as readers practice their sorting math skills, they'll learn about different kinds of snakes. They'll find out that snakes shed their skin. They'll learn that some snakes jump from trees. And as they read, they'll consider which snakes belong in some groups and which belong in others. Sorting is a math skill best practiced while learning about something fun.","English",22.6,16.95,"511.322","24 pp.",{"$f":"Table1[[#This Row],['# Books]]*Table1[[#This Row],[QTY]]","v":0},{"$f":"Table1[[#This Row],[QTY]]*Table1[[#This Row],[S&L Price]]","v":0}]
[null,null,49,null,"Animal Math",1,"Sorting with Snakes","eBook","978-1-4339-9331-2",2014,"August 2013",null,null,"Author","Mary Rose McDonnell",null,null,10,10,"F",null,"Grade 1 - 2","Grade 1 - 3","Snakes, whether fat, skinny, long, or deadly, are always fascinating. In this fact-filled book, as readers practice their sorting math skills, they'll learn about different kinds of snakes. They'll find out that snakes shed their skin. They'll learn that some snakes jump from trees. And as they read, they'll consider which snakes belong in some groups and which belong in others. Sorting is a math skill best practiced while learning about something fun.","English",22.6,16.95,"511.322","24 pp.",{"$f":"Table1[[#This Row],['# Books]]*Table1[[#This Row],[QTY]]","v":0},{"$f":"Table1[[#This Row],[QTY]]*Table1[[#This Row],[S&L Price]]","v":0}]
[null,null,49,null,"Animal Math",1,"Sorting with Snakes","Interactive eBook","978-1-4339-9332-9",2014,"August 2013",null,null,"Author","Mary Rose McDonnell",null,null,10,10,"F",null,"Grade 1 - 2","Grade 1 - 3","Snakes, whether fat, skinny, long, or deadly, are always fascinating. In this fact-filled book, as readers practice their sorting math skills, they'll learn about different kinds of snakes. They'll find out that snakes shed their skin. They'll learn that some snakes jump from trees. And as they read, they'll consider which snakes belong in some groups and which belong in others. Sorting is a math skill best practiced while learning about something fun.","English",33.25,24.95,"511.322","24 pp.",{"$f":"Table1[[#This Row],['# Books]]*Table1[[#This Row],[QTY]]","v":0},{"$f":"Table1[[#This Row],[QTY]]*Table1[[#This Row],[S&L Price]]","v":0}]
[null,null,49,null,"Animal Math",1,"Subtracting with Seals","Library Bound Book","978-1-4339-5670-6",2012,"August 2011","Library","7.000 X 7.000","Author","Charles Sellers",1.8,0.5,8,9,"F",null,"Grade 1 - 2","Grade 1 - 3","The shiny nose and playful spirit of seals is combined with fun facts to present a clever way to learn subtraction. Each spread not only shows these cute creatures in their natural environment, but presents a subtraction problem that seems a natural part of learning about this jolly aquatic mammal. Photographs and pictures aid readers in better understanding this basic math concept.","English",22.6,16.95,"513.2","24 pp.",{"$f":"Table1[[#This Row],['# Books]]*Table1[[#This Row],[QTY]]","v":0},{"$f":"Table1[[#This Row],[QTY]]*Table1[[#This Row],[S&L Price]]","v":0}]
[null,null,49,null,"Animal Math",1,"Subtracting with Seals","eBook","978-1-4339-5671-3",2012,"August 2011",null,null,"Author","Charles Sellers",1.8,0.5,8,9,"F",null,"Grade 1 - 2","Grade 1 - 3","The shiny nose and playful spirit of seals is combined with fun facts to present a clever way to learn subtraction. Each spread not only shows these cute creatures in their natural environment, but presents a subtraction problem that seems a natural part of learning about this jolly aquatic mammal. Photographs and pictures aid readers in better understanding this basic math concept.","English",22.6,16.95,"513.2","24 pp.",{"$f":"Table1[[#This Row],['# Books]]*Table1[[#This Row],[QTY]]","v":0},{"$f":"Table1[[#This Row],[QTY]]*Table1[[#This Row],[S&L Price]]","v":0}]
[null,null,49,null,"Animal Math",1,"Tell Time with Turtles","Library Bound Book","978-1-4339-5674-4",2012,"August 2011","Library","7.000 X 7.000","Author","Mary Rose McDonnell",1.6,0.5,8,9,"F",null,"Grade 1 - 2","Grade 1 - 3","Learning to tell time using a clock is a basic math skill. Learning what turtles do at certain times of the day makes this math lesson a whole lot more fun! In this book, readers spend a day at the zoo learning about turtles while also practicing how to read a clock. More advanced time concepts such as adding hours and half hours are also integrated into the text. ","English",22.6,16.95,"529","24 pp.",{"$f":"Table1[[#This Row],['# Books]]*Table1[[#This Row],[QTY]]","v":0},{"$f":"Table1[[#This Row],[QTY]]*Table1[[#This Row],[S&L Price]]","v":0}]
[null,null,49,null,"Animal Math",1,"Tell Time with Turtles","eBook","978-1-4339-5675-1",2012,"August 2011",null,null,"Author","Mary Rose McDonnell",1.6,0.5,8,9,"F",null,"Grade 1 - 2","Grade 1 - 3","Learning to tell time using a clock is a basic math skill. Learning what turtles do at certain times of the day makes this math lesson a whole lot more fun! In this book, readers spend a day at the zoo learning about turtles while also practicing how to read a clock. More advanced time concepts such as adding hours and half hours are also integrated into the text. ","English",22.6,16.95,"529","24 pp.",{"$f":"Table1[[#This Row],['# Books]]*Table1[[#This Row],[QTY]]","v":0},{"$f":"Table1[[#This Row],[QTY]]*Table1[[#This Row],[S&L Price]]","v":0}]
[null,null,49,null,"Animal Math",18,"Animal Math: Sets 1 – 3","Library Set","978-1-5382-1294-3",2018,"January 2018","Library","7.000 X 7.000"," "," ",null,null,null,null,null,null,"Grade 1 - 2","Grade 1 - 3","Math is truly integrated into every aspect of life. Recognizing the shapes of road signs, paying money for a treat, and inviting a certain number of friends to a party are all activities that require knowledge of math. Animals can help us practice and understand math, too. This popular collection of books incorporates math concepts with animal facts. There's something to learn on every page through accessible text and at-level math strategies, which are accompanied by delightful photographs of favorite animals in action.\r\n","English",406.8,305.10000000000002,null,"24 pp.",{"$f":"Table1[[#This Row],['# Books]]*Table1[[#This Row],[QTY]]","v":0},{"$f":"Table1[[#This Row],[QTY]]*Table1[[#This Row],[S&L Price]]","v":0}]
[null,null,49,null,"Animal Math",6,"Animal Math: Set 3","Library Set","978-1-5382-1278-3",2018,"January 2018","Library","7.000 X 7.000"," "," ",null,null,null,null,null,null,"Grade 1 - 2","Grade 1 - 3","When doing math, some people count on their fingers, others use blocks, and still others use pencil and paper. Wouldn't math be a lot more fun using animals to solve problems? Of course. This series celebrates a unique method of modeling math strategies: utilizing high-interest animals such as elephants and otters. The accessible text includes information about the featured animals as well as displaying at-level math problems in a visual way. Young mathematicians will be motivated to check their answers using the answer key provided.","English",135.6,101.7,null,"24 pp.",{"$f":"Table1[[#This Row],['# Books]]*Table1[[#This Row],[QTY]]","v":0},{"$f":"Table1[[#This Row],[QTY]]*Table1[[#This Row],[S&L Price]]","v":0}]
[null,null,49,null,"Animal Math",1,"Estimating with Elephants","Library Bound Book","978-1-5382-0849-6",2018,"January 2018","Library","7.000 X 7.000","Author","Rory McDonnell",null,null,null,null,"G",null,"Grade 1 - 2","Grade 1 - 3","Estimation isn’t just a math standard, it’s a life skill. Young learners need practice honing this skill so they can apply it to many situations in the classroom and in the real world. This unique math book introduces estimation using fun facts about elephants. Readers will learn about the different species and their extraordinary sizes, while completing estimation exercises with the help of colorful photographs. They can check their answers with an answer key located in the back of the book.","English",22.6,16.95,"519.5'44--dc23","24 pp.",{"$f":"Table1[[#This Row],['# Books]]*Table1[[#This Row],[QTY]]","v":0},{"$f":"Table1[[#This Row],[QTY]]*Table1[[#This Row],[S&L Price]]","v":0}]
[null,null,49,null,"Animal Math",1,"Estimating with Elephants","eBook","978-1-5382-0850-2",2018,"January 2018",null,null,"Author","Rory McDonnell",null,null,null,null,"G",null,"Grade 1 - 2","Grade 1 - 3","Estimation isn’t just a math standard, it’s a life skill. Young learners need practice honing this skill so they can apply it to many situations in the classroom and in the real world. This unique math book introduces estimation using fun facts about elephants. Readers will learn about the different species and their extraordinary sizes, while completing estimation exercises with the help of colorful photographs. They can check their answers with an answer key located in the back of the book.","English",22.6,16.95,"519.5'44--dc23","24 pp.",{"$f":"Table1[[#This Row],['# Books]]*Table1[[#This Row],[QTY]]","v":0},{"$f":"Table1[[#This Row],[QTY]]*Table1[[#This Row],[S&L Price]]","v":0}]
[null,null,49,null,"Animal Math",1,"Odd and Even with Otters","Library Bound Book","978-1-5382-0853-3",2018,"January 2018","Library","7.000 X 7.000","Author","Rory McDonnell",null,null,null,null,"F",null,"Grade 1 - 2","Grade 1 - 3","Playful otters are some of the most high-interest animals in the zoo and in the wild. Finding out about otters while also learning about odd and even numbers makes math seem like play. The concept of odd and even is an important one in the elementary math curriculum. Readers will be motivated to count the otters in the colorful photographs and figure out if the sums are odd or even. Math questions are paired with an answer key for easy self-assessment.","English",22.6,16.95,"513--dc23","24 pp.",{"$f":"Table1[[#This Row],['# Books]]*Table1[[#This Row],[QTY]]","v":0},{"$f":"Table1[[#This Row],[QTY]]*Table1[[#This Row],[S&L Price]]","v":0}]
[null,null,49,null,"Animal Math",1,"Odd and Even with Otters","eBook","978-1-5382-0854-0",2018,"January 2018",null,null,"Author","Rory McDonnell",null,null,null,null,"F",null,"Grade 1 - 2","Grade 1 - 3","Playful otters are some of the most high-interest animals in the zoo and in the wild. Finding out about otters while also learning about odd and even numbers makes math seem like play. The concept of odd and even is an important one in the elementary math curriculum. Readers will be motivated to count the otters in the colorful photographs and figure out if the sums are odd or even. Math questions are paired with an answer key for easy self-assessment.","English",22.6,16.95,"513--dc23","24 pp.",{"$f":"Table1[[#This Row],['# Books]]*Table1[[#This Row],[QTY]]","v":0},{"$f":"Table1[[#This Row],[QTY]]*Table1[[#This Row],[S&L Price]]","v":0}]
[null,null,49,null,"Animal Math",1,"Shapes with Sheep","Library Bound Book","978-1-5382-0857-1",2018,"January 2018","Library","7.000 X 7.000","Author","Mary Grace Osburn",null,null,null,null,"F",null,"Grade 1 - 2","Grade 1 - 3","Shapes are an essential part of the elementary mathematics curriculum, a standard upon which students build their knowledge of geometry. It’s important to recognize both two-dimensional and three-dimensional shapes and their attributes. This beneficial and entertaining volume uses a high-interest animal, sheep, to introduce and review shape concepts, with the help of questions and an answer key. It encourages readers to see shapes in the world around them, so they will continuously reinforce what they learn in their everyday lives.","English",22.6,16.95,null,"24 pp.",{"$f":"Table1[[#This Row],['# Books]]*Table1[[#This Row],[QTY]]","v":0},{"$f":"Table1[[#This Row],[QTY]]*Table1[[#This Row],[S&L Price]]","v":0}]
[null,null,49,null,"Animal Math",1,"Shapes with Sheep","eBook","978-1-5382-0858-8",2018,"January 2018",null,null,"Author","Mary Grace Osburn",null,null,null,null,"F",null,"Grade 1 - 2","Grade 1 - 3","Shapes are an essential part of the elementary mathematics curriculum, a standard upon which students build their knowledge of geometry. It’s important to recognize both two-dimensional and three-dimensional shapes and their attributes. This beneficial and entertaining volume uses a high-interest animal, sheep, to introduce and review shape concepts, with the help of questions and an answer key. It encourages readers to see shapes in the world around them, so they will continuously reinforce what they learn in their everyday lives.","English",22.6,16.95,null,"24 pp.",{"$f":"Table1[[#This Row],['# Books]]*Table1[[#This Row],[QTY]]","v":0},{"$f":"Table1[[#This Row],[QTY]]*Table1[[#This Row],[S&L Price]]","v":0}]
[null,null,49,null,"Animal Math",1,"Two-Digit Numbers with Tadpoles","Library Bound Book","978-1-5382-0862-5",2018,"January 2018","Library","7.000 X 7.000","Author","Mary Rose Osburn",null,null,null,null,"G",null,"Grade 1 - 2","Grade 1 - 3","Learning what the two digits of a two-digit number represent is a key standard of Common Core math. Seeing these numbers represented as tadpoles will make the idea even more concrete to young mathematicians, and appealing. This valuable volume, a blending of science and math information, helps readers understand the key concept of two-digit numbers as well as helps them assess their understanding through questions in the text and an answer key.","English",22.6,16.95,"513--dc23","24 pp.",{"$f":"Table1[[#This Row],['# Books]]*Table1[[#This Row],[QTY]]","v":0},{"$f":"Table1[[#This Row],[QTY]]*Table1[[#This Row],[S&L Price]]","v":0}]
[null,null,49,null,"Animal Math",1,"Two-Digit Numbers with Tadpoles","eBook","978-1-5382-0863-2",2018,"January 2018",null,null,"Author","Mary Rose Osburn",null,null,null,null,"G",null,"Grade 1 - 2","Grade 1 - 3","Learning what the two digits of a two-digit number represent is a key standard of Common Core math. Seeing these numbers represented as tadpoles will make the idea even more concrete to young mathematicians, and appealing. This valuable volume, a blending of science and math information, helps readers understand the key concept of two-digit numbers as well as helps them assess their understanding through questions in the text and an answer key.","English",22.6,16.95,"513--dc23","24 pp.",{"$f":"Table1[[#This Row],['# Books]]*Table1[[#This Row],[QTY]]","v":0},{"$f":"Table1[[#This Row],[QTY]]*Table1[[#This Row],[S&L Price]]","v":0}]
[null,null,49,null,"Animal Math",1,"Using Money at the Zoo","Library Bound Book","978-1-5382-0866-3",2018,"January 2018","Library","7.000 X 7.000","Author","Mary Rose Osburn",null,null,null,null,"G",null,"Grade 1 - 2","Grade 1 - 3","Money and keeping track of spending are vital life skills as well as math standards. This curriculum-based book uses an entertaining setting, a zoo, and an appealing narrative to introduce and strengthen readers’ understanding of money concepts. Readers will be delighted by the many animals featured throughout, as well as the fun facts revealed about them. The cheerful text is accompanied by questions about coin values and addition with money, which can be used in combination with an answer key to assess understanding.","English",22.6,16.95,"332.024--dc23","24 pp.",{"$f":"Table1[[#This Row],['# Books]]*Table1[[#This Row],[QTY]]","v":0},{"$f":"Table1[[#This Row],[QTY]]*Table1[[#This Row],[S&L Price]]","v":0}]
[null,null,49,null,"Animal Math",1,"Using Money at the Zoo","eBook","978-1-5382-0867-0",2018,"January 2018",null,null,"Author","Mary Rose Osburn",null,null,null,null,"G",null,"Grade 1 - 2","Grade 1 - 3","Money and keeping track of spending are vital life skills as well as math standards. This curriculum-based book uses an entertaining setting, a zoo, and an appealing narrative to introduce and strengthen readers’ understanding of money concepts. Readers will be delighted by the many animals featured throughout, as well as the fun facts revealed about them. The cheerful text is accompanied by questions about coin values and addition with money, which can be used in combination with an answer key to assess understanding.","English",22.6,16.95,"332.024--dc23","24 pp.",{"$f":"Table1[[#This Row],['# Books]]*Table1[[#This Row],[QTY]]","v":0},{"$f":"Table1[[#This Row],[QTY]]*Table1[[#This Row],[S&L Price]]","v":0}]
[null,null,49,null,"Animal Math",1,"Word Problems with Wolves","Library Bound Book","978-1-5382-0870-0",2018,"January 2018","Library","7.000 X 7.000","Author","Rory McDonnell",null,null,null,null,"F",null,"Grade 1 - 2","Grade 1 - 3","Word problems are a major part of the elementary school curriculum. When word problems are paired with enlightening information about wolves, they become a major source of fun, too. This valuable book combines a high-interest topic, wolves, with accessible word problems that will motivate young mathematicians to tackle each problem, while an answer key provides assessment opportunities. Readers will especially love the many striking photographs of wolves in the wild.","English",22.6,16.95,"513.2--dc23","24 pp.",{"$f":"Table1[[#This Row],['# Books]]*Table1[[#This Row],[QTY]]","v":0},{"$f":"Table1[[#This Row],[QTY]]*Table1[[#This Row],[S&L Price]]","v":0}]
[null,null,49,null,"Animal Math",1,"Word Problems with Wolves","eBook","978-1-5382-0871-7",2018,"January 2018",null,null,"Author","Rory McDonnell",null,null,null,null,"F",null,"Grade 1 - 2","Grade 1 - 3","Word problems are a major part of the elementary school curriculum. When word problems are paired with enlightening information about wolves, they become a major source of fun, too. This valuable book combines a high-interest topic, wolves, with accessible word problems that will motivate young mathematicians to tackle each problem, while an answer key provides assessment opportunities. Readers will especially love the many striking photographs of wolves in the wild.","English",22.6,16.95,"513.2--dc23","24 pp.",{"$f":"Table1[[#This Row],['# Books]]*Table1[[#This Row],[QTY]]","v":0},{"$f":"Table1[[#This Row],[QTY]]*Table1[[#This Row],[S&L Price]]","v":0}]
[null,null,50,null,"Everyday Mysteries",12,"Everyday Mysteries","Library Set","978-1-4824-4305-9",2016,"January 2016","Library","7.000 X 7.000",null,"",null,null,null,null,null,null,"Grade 1 - 2","Grade 1 - 3","When the mail carrier picks up a stack of letters from the mailbox, they seem to disappear into a bag and then are driven away in a mail truck. What happens next? Questions like this one are answered in this 12-book set written especially for readers curious about the everyday processes happening around them. From where food comes from to why it might go bad, these books engage readers with age-appropriate language and content about questions they may have never thought to ask—but still want to know the answers to! \n\n•Shows each process in a concluding, step-by-step diagram\n\n•Addresses recycling, food and water waste, and saving electricity when appropriate \n\n•Relates each topic to readers’ daily lives through common examples","English",271.2,203.4,null,"24 pp.",{"$f":"Table1[[#This Row],['# Books]]*Table1[[#This Row],[QTY]]","v":0},{"$f":"Table1[[#This Row],[QTY]]*Table1[[#This Row],[S&L Price]]","v":0}]
[null,null,50,null,"Everyday Mysteries",1,"What Happens When I Flush the Toilet?","Library Bound Book","978-1-4824-3827-7",2016,"January 2016","Library","7.000 X 7.000","Author","Walter LaPlante",3.5,0.5,null,null,"I",null,"Grade 1 - 2","Grade 1 - 3","One person uses more than 20,000 sheets of toilet paper each year. That means a family of four uses more than 80,000 sheets! But what happens to all that used tissue? Readers follow this and other waste through the toilet to discover this very answer! Full-color photographs and a simple graphic organizer aid readers’ understanding of this everyday process, including an accessible description of common waste management. Including a brief history of the toilet, the main content is written in accessible language for curious readers!","English",22.6,16.95,"644'.6—dc23","24 pp.",{"$f":"Table1[[#This Row],['# Books]]*Table1[[#This Row],[QTY]]","v":0},{"$f":"Table1[[#This Row],[QTY]]*Table1[[#This Row],[S&L Price]]","v":0}]
[null,null,50,null,"Everyday Mysteries",1,"Where Does Electricity Come From?","eBook","978-1-4339-6314-8",2012,"January 2012",null,null,"Author","Angelo Gangemi",3,0.5,18,20,"J","610L","Grade 2","Grade 2 - 4","Electricity powers our televisions and computers. Refrigerators need it to keep our food cold, and toasters need it to make toast. Inside this volume, readers will discover where this important source of energy comes from and more. Accessible text, illustrative photographs, and a detailed diagram help readers learn all about this everyday mystery.","English",22.6,16.95,"537","24 pp.",{"$f":"Table1[[#This Row],['# Books]]*Table1[[#This Row],[QTY]]","v":0},{"$f":"Table1[[#This Row],[QTY]]*Table1[[#This Row],[S&L Price]]","v":0}]
[null,null,50,null,"Everyday Mysteries",1,"Where Does Our Food Come From?","Library Bound Book","978-1-4339-6317-9",2012,"January 2012","Library","7.000 X 7.000","Author","Debra Stilwell",2.8,0.5,18,20,"I",null,"Grade 2","Grade 2 - 4","Most of the time we buy food from stores, but stores get the food from somewhere too. With the help of easy-to-follow text and detailed diagrams, readers will visit farms and follow food on its journey to farmers markets, factories, and stores. Readers learn how fresh foods are sold in markets and are also used to make the processed foods we buy in stores. Vibrant photographs make this book a visual feast.","English",22.6,16.95,"641.3","24 pp.",{"$f":"Table1[[#This Row],['# Books]]*Table1[[#This Row],[QTY]]","v":0},{"$f":"Table1[[#This Row],[QTY]]*Table1[[#This Row],[S&L Price]]","v":0}]
[null,null,50,null,"Everyday Mysteries",1,"Where Does the Mail Go?","Library Bound Book","978-1-4339-6329-2",2012,"January 2012","Library","7.000 X 7.000","Author","Koston Meyer",3.1,0.5,18,20,"I",null,"Grade 2","Grade 2 - 4","Readers will follow the mail as it goes through the post office and processing plant, where it’s prepared for the rest of its journey. The informative text and accompanying photographs in this book bring readers along for the incredible trip. A concluding diagram helps readers summarize what they’ve read using fun and colorful images.","English",22.6,16.95,"383","24 pp.",{"$f":"Table1[[#This Row],['# Books]]*Table1[[#This Row],[QTY]]","v":0},{"$f":"Table1[[#This Row],[QTY]]*Table1[[#This Row],[S&L Price]]","v":0}]
[null,null,50,null,"Everyday Mysteries",1,"Where Does the Recycling Go?","eBook","978-1-4339-6334-6",2012,"January 2012",null,null,"Author","John M. Shea",3.5,0.5,18,20,"J","730L","Grade 2","Grade 2 - 4","Recycling is a great way to help take care of the planet. Many people recycle glass, paper, metal, and plastic instead of throwing it into the garbage. Inside this informative volume, readers will see up-close how recyclable garbage is transformed into new products. A fast-fact chart helps readers understand the importance of recycling.","English",22.6,16.95,"628.4","24 pp.",{"$f":"Table1[[#This Row],['# Books]]*Table1[[#This Row],[QTY]]","v":0},{"$f":"Table1[[#This Row],[QTY]]*Table1[[#This Row],[S&L Price]]","v":0}]
[null,null,51,null,"Fantastic Farm Machines",6,"Fantastic Farm Machines","Library Set","978-1-4824-4519-0",2017,"August 2016","Library","7.000 X 7.000",null,"",null,null,null,null,null,null,"Grade 1 - 2","Grade 1 - 3","When farm machines get to work, the roar of the engines and the immensity of moving parts transfix passersby. Essential equipment such as cultivators, planters, and tractors are among young readers’ favorite big machines. In combination with vivid, instructive photographs, these fun books inform on how certain pieces of farm equipment operate, as well as why they’re so important to farming today. This motivating series will become a favorite for future farmers and lovers of all things that go!","English",135.6,101.7,null,"24 pp.",{"$f":"Table1[[#This Row],['# Books]]*Table1[[#This Row],[QTY]]","v":0},{"$f":"Table1[[#This Row],[QTY]]*Table1[[#This Row],[S&L Price]]","v":0}]
[null,null,51,null,"Fantastic Farm Machines",1,"Crop Sprayers","Library Bound Book","978-1-4824-4581-7",2017,"August 2016","Library","7.000 X 7.000","Author","S. M. Maimone",3.4,0.5,null,null,"I",null,"Grade 1 - 2","Grade 1 - 3","Big farms need big machines, and crop sprayers are some of the biggest. Farmers use these timesaving devices to spread substances such as fertilizers, pesticides, and herbicides on their crops. While readers learn about the different kinds of crop sprayers, their many parts, and their importance to the farm industry, they’ll be impressed by the colorful photographs of the machines in action—including one in the air! The high-interest topic also touches on key science and technology topics.","English",22.6,16.95,"631.3--dc23","24 pp.",{"$f":"Table1[[#This Row],['# Books]]*Table1[[#This Row],[QTY]]","v":0},{"$f":"Table1[[#This Row],[QTY]]*Table1[[#This Row],[S&L Price]]","v":0}]
[null,null,51,null,"Fantastic Farm Machines",1,"Harvesters","eBook","978-1-4824-4577-0",2017,"August 2016",null,null,"Author","S. M. Maimone",3.3,0.5,null,null,"K",null,"Grade 1 - 2","Grade 1 - 3","After the crops are grown, it’s harvest time. On large farms, this is a huge job. Luckily, there are some huge machines to help out. Harvesters are devices that pick crops and sometimes even sort the parts of the plant we use from those we don’t. Readers will enjoy learning about these ingenious farm machines almost as much as they’ll love seeing them at work in the field in the bright photos of this fun volume.","English",22.6,16.95,"631.3--dc23","24 pp.",{"$f":"Table1[[#This Row],['# Books]]*Table1[[#This Row],[QTY]]","v":0},{"$f":"Table1[[#This Row],[QTY]]*Table1[[#This Row],[S&L Price]]","v":0}]
[null,null,51,null,"Fantastic Farm Machines",1,"Planters","eBook","978-1-4824-4579-4",2017,"August 2016",null,null,"Author","E. T. Weingarten",3.3,0.5,null,null,"I",null,"Grade 1 - 2","Grade 1 - 3","Sowing crops on a farm would be backbreaking working without the machines called planters. These tractor-pulled tools can look quite different. Some are small, sowing just one row, and some can plant as many as 48 rows at a time! Readers will find out how these machines work and see their parts in motion in labeled photographs. They’ll also discover how technology is changing this farm machine as well as some other seeding devices.","English",22.6,16.95,"681/.7631--dc23","24 pp.",{"$f":"Table1[[#This Row],['# Books]]*Table1[[#This Row],[QTY]]","v":0},{"$f":"Table1[[#This Row],[QTY]]*Table1[[#This Row],[S&L Price]]","v":0}]
[null,null,51,null,"Know Your Body",1,"Your Bones","eBook","978-1-4824-4415-5",2017,"August 2016",null,null,"Author","Cyril Bassington",3,0.5,null,null,"K",null,"Grade 1 - 2","Grade 1 - 3","We don’t often think about it, but we’d be a pile of skin and other organs without our bones. This helpful guide to the human skeleton presents readers with a key body system. They will be acquainted with groups of bones such as the spine and skull and learn what they need to do to keep their bones healthy. Carefully chosen photographs and illustrations support the accessible text, which is a valuable introduction to several key biology concepts.","English",22.6,16.95,"612.7'51--dc23","24 pp.",{"$f":"Table1[[#This Row],['# Books]]*Table1[[#This Row],[QTY]]","v":0},{"$f":"Table1[[#This Row],[QTY]]*Table1[[#This Row],[S&L Price]]","v":0}]
[null,null,51,null,"Know Your Body",1,"Your Brain","Library Bound Book","978-1-4824-4436-0",2017,"August 2016","Library","7.000 X 7.000","Author","Cyril Bassington",3.2,0.5,null,null,"K",null,"Grade 1 - 2","Grade 1 - 3","The amazing brain can send signals to body parts at a speed of 200 miles (322 km) per hour! That comes in handy when someone is in danger or needs to move fast. Readers will appreciate the mysterious, fascinating organ in their skull known as the brain as they learn about the five main parts of the brain and their special functions. They’ll also find out what they can do to keep their brain working well. Simple illustrations and bright photographs make this volume a fun and informative introduction to the nervous system.","English",22.6,16.95,"612.8'2—dc23","24 pp.",{"$f":"Table1[[#This Row],['# Books]]*Table1[[#This Row],[QTY]]","v":0},{"$f":"Table1[[#This Row],[QTY]]*Table1[[#This Row],[S&L Price]]","v":0}]
[null,null,51,null,"Know Your Body",1,"Your Muscles","Library Bound Book","978-1-4824-4421-6",2017,"August 2016","Library","7.000 X 7.000","Author","George Fittleworth",3.1,0.5,null,null,"J",null,"Grade 1 - 2","Grade 1 - 3","All our movements depend on our amazing muscles. In this lively volume, readers will discover how the three kinds of muscles—skeletal, cardiac, and smooth—work in collaboration with their other body parts to keep them moving. They’ll learn what extraordinary machines the human body’s more than 600 muscles are as well as how to keep them healthy and toned. Accessible text and supporting diagrams and photographs make this book a valuable tool in addressing an important topic of the elementary science curriculum.","English",22.6,16.95,"612.7'4—dc23","24 pp.",{"$f":"Table1[[#This Row],['# Books]]*Table1[[#This Row],[QTY]]","v":0},{"$f":"Table1[[#This Row],[QTY]]*Table1[[#This Row],[S&L Price]]","v":0}]
[null,null,51,null,"Know Your Body",1,"Your Stomach","eBook","978-1-4824-4420-9",2017,"August 2016",null,null,"Author","George Fittleworth",3.5,0.5,null,null,"J",null,"Grade 1 - 2","Grade 1 - 3","We rarely think about our stomachs until we feel hunger pangs or a stomachache. But every time we put something in our mouth and swallow, our stomach gets to work performing vital tasks to provide our body with the energy and nutrition it needs. This volume is the perfect doorway to the human digestive system. Readers will learn the basic mechanics of digestion as well as other entertaining facts through thoughtful text, colorful diagrams, and supporting photographs.","English",22.6,16.95,"612.3'2—dc23","24 pp.",{"$f":"Table1[[#This Row],['# Books]]*Table1[[#This Row],[QTY]]","v":0},{"$f":"Table1[[#This Row],[QTY]]*Table1[[#This Row],[S&L Price]]","v":0}]
[null,null,52,null,"Cycles in Nature",1,"A Year of Seasons","eBook","978-1-4824-1657-2",2016,"August 2015",null,null,"Author","George Pendergast",3.1,0.5,null,null,"J","680L","Grade 1 - 2","Grade 1 - 3","The cycle of seasons on Earth is as interesting as it is important to the way we all live. From the cold of winter to warm summer days, it’s essential to understand just what’s happening and why we always have the same weather at the same time of the year. Readers will learn what the sun’s rays are doing to different parts of Earth at different times as well as the importance of Earth’s axis, or tilt. With great photographs, diagrams, and detailed explanations of scientific concepts, readers will love learning about our year of seasons in this book.","English",22.6,16.95,"508.2","24 pp.",{"$f":"Table1[[#This Row],['# Books]]*Table1[[#This Row],[QTY]]","v":0},{"$f":"Table1[[#This Row],[QTY]]*Table1[[#This Row],[S&L Price]]","v":0}]
[null,null,52,null,"Cycles in Nature",1,"Flowers: From Seed to Bloom","Library Bound Book","978-1-4824-1658-9",2016,"August 2015","Library","7.000 X 7.000","Author","George Pendergast",2.5,0.5,null,null,"J","560L","Grade 1 - 2","Grade 1 - 3","Enjoying the view of a field of flowers on a nice day is delightful, but knowing how those beautiful flowers got there is even more interesting. Readers will follow the process seeds undergo from tiny shells to roots, stalks, and eventually flowers. These little seeds create the blooms we love to admire on nice summer days, and this book explains why water, sunlight, and other elements are necessary to create these beautiful flowers.","English",22.6,16.95,"582.13","24 pp.",{"$f":"Table1[[#This Row],['# Books]]*Table1[[#This Row],[QTY]]","v":0},{"$f":"Table1[[#This Row],[QTY]]*Table1[[#This Row],[S&L Price]]","v":0}]
[null,null,52,null,"Cycles in Nature",1,"The Rock Cycle at Work","eBook","978-1-4824-1669-5",2016,"August 2015",null,null,"Author","George Pendergast",3.6,0.5,null,null,"J","750L","Grade 1 - 2","Grade 1 - 3","Heat and energy impacts all life on our planet. Energy from the sun helps plants grow and makes it possible for us to live on Earth at all, but the heat from inside Earth impacts us as well. There are many different kinds of rocks that make up Earth’s crust, and scientists now know how Earth’s energy forms and changes these rocks. Readers will learn about the volcanoes and lava that make igneous rocks, and how heating and cooling caused by energy in Earth’s core creates metamorphic rocks. They’ll also learn how water and other elements break down rocks to create sedimentary rocks and various rock formations all over the world.","English",22.6,16.95,"552","24 pp.",{"$f":"Table1[[#This Row],['# Books]]*Table1[[#This Row],[QTY]]","v":0},{"$f":"Table1[[#This Row],[QTY]]*Table1[[#This Row],[S&L Price]]","v":0}]
[null,null,52,null,"Stories in the Stars",1,"The Story of Cassiopeia","Library Bound Book","978-1-4824-2663-2",2016,"August 2015","Library","7.000 X 7.000","Author","Ingrid Griffin",3.5,0.5,18,null,"J",null,"Grade 1 - 2","Grade 1 - 3","The vain queen of Greek myths, Cassiopeia, is forever remembered in the constellation named for her. Cassiopeia's pride earned the wrath of Poseidon, the god of the sea, and put her beautiful daughter Andromeda in the path of a sea monster! Readers will be on the edge of their seats to find out what happens in this exciting story full of imaginative illustrations and vivid photographs. They'll also learn how to locate the famous Cassiopeia constellation in the night sky.","English",22.6,16.95,"398.20937","24 pp.",{"$f":"Table1[[#This Row],['# Books]]*Table1[[#This Row],[QTY]]","v":0},{"$f":"Table1[[#This Row],[QTY]]*Table1[[#This Row],[S&L Price]]","v":0}]
[null,null,52,null,"Stories in the Stars",1,"The Story of Leo the Lion","eBook","978-1-4824-2676-2",2016,"August 2015",null,null,"Author","Blanche Roesser",2.8,0.5,16,null,"I",null,"Grade 1 - 2","Grade 1 - 3","The constellation called Leo looks like a lion, and many people recall the story of the Nemean Lion from Greek mythology when they see it. The Nemean Lion was a man-eating beast that no weapon could harm. Only one man could discover a way to kill it: the hero Hercules. This accessible, entertaining volume tells the story of Hercules and his battle with the infamous lion as well as instructs readers about when they can see Leo for themselves in the night sky.","English",22.6,16.95,"292.1","24 pp.",{"$f":"Table1[[#This Row],['# Books]]*Table1[[#This Row],[QTY]]","v":0},{"$f":"Table1[[#This Row],[QTY]]*Table1[[#This Row],[S&L Price]]","v":0}]
[null,null,52,null,"Stories in the Stars",1,"The Story of Pegasus","Library Bound Book","978-1-4824-2679-3",2016,"August 2015","Library","7.000 X 7.000","Author","Blanche Roesser",3.2,0.5,18,null,"J",null,"Grade 1 - 2","Grade 1 - 3","Many people can identify Pegasus, the winged horse from Greek myths, but they may not know that he sprung from the head of the monster Medusa! Pegasus's important roles in myths of the heroes Perseus and Bellerophon are featured in this thrilling retelling of the famous stories. Pegasus isn't just in the pages of books, though. The Pegasus constellation is one of the largest in the night sky from the end of summer through fall. Readers will learn what the constellation looks like through photographs as well as delight in the illustrations of the myths.","English",22.6,16.95,"292.1","24 pp.",{"$f":"Table1[[#This Row],['# Books]]*Table1[[#This Row],[QTY]]","v":0},{"$f":"Table1[[#This Row],[QTY]]*Table1[[#This Row],[S&L Price]]","v":0}]
[null,null,53,null,"Confusing Creature Names",6,"Confusing Creature Names","Library Set","978-1-4824-0940-6",2015,"August 2014","Library","7.000 X 7.000",null,"",null,null,null,null,null,null,"Grade 1 - 2","Grade 1 - 3","There are millions of animal species on Earth, and each has a unique name. Some animal names, however, are confusing! Guinea pigs aren’t pigs at all, they’re rodents. So why do we call them pigs? The answer to this question and many more can be found in the pages of these books. Readers are sure to enjoy learning fun facts about these crazy critters. Numerous colorful photos of animals in the wild, and in the home, help readers understand the science-based text. Graphic organizers help them remember crucial facts.   • Graphic organizer helps readers recall important information  • High-interest topic  • At-level science text with challenging yet manageable vocabulary    ","English",135.6,101.7,null,"24 pp.",{"$f":"Table1[[#This Row],['# Books]]*Table1[[#This Row],[QTY]]","v":0},{"$f":"Table1[[#This Row],[QTY]]*Table1[[#This Row],[S&L Price]]","v":0}]
[null,null,53,null,"Confusing Creature Names",1,"Glowworms Are Not Worms!","Library Bound Book","978-1-4824-0941-3",2015,"August 2014","Library","7.000 X 7.000","Author","Daisy Allyn",3.1,0.5,null,null,"J",null,"Grade 1 - 2","Grade 1 - 3","Glowworms are actually many different kinds of insects, and they live all over the world. While you’re probably most familiar with the glowing larvae and female adults we call fireflies, there are many other kinds of glowworms. Inside this informative and exciting guide, readers will learn where glowworms live, what they look like, and why they glow. Amazing and vivid photographs of numerous glowworms, as well as a graphic organizer, help readers comprehend the scientific text.","English",22.6,16.95,"595.76","24 pp.",{"$f":"Table1[[#This Row],['# Books]]*Table1[[#This Row],[QTY]]","v":0},{"$f":"Table1[[#This Row],[QTY]]*Table1[[#This Row],[S&L Price]]","v":0}]
[null,null,53,null,"Confusing Creature Names",1,"Hedgehogs Are Not Hogs!","eBook","978-1-4824-0954-3",2015,"August 2014",null,null,"Author","Lincoln James",3.2,0.5,null,null,"J",null,"Grade 1 - 2","Grade 1 - 3","What are hedgehogs? Are they hogs? Rodents? Tiny porcupines? They’re none of those. Hedgehogs are one of the most unique mammals in the world. Although shy around people, these little critters have been known to warm up to people who keep them as pets. This book is filled with amazing close-up photographs of wild and domestic hedgehogs. Readers are sure to enjoy this informative yet fun guide to one of the world’s cutest creatures.","English",22.6,16.95,"599.33","24 pp.",{"$f":"Table1[[#This Row],['# Books]]*Table1[[#This Row],[QTY]]","v":0},{"$f":"Table1[[#This Row],[QTY]]*Table1[[#This Row],[S&L Price]]","v":0}]
[null,null,53,null,"Confusing Creature Names",1,"Horned Toads Are Not Toads!","Library Bound Book","978-1-4824-0956-7",2015,"August 2014","Library","7.000 X 7.000","Author","Wes Flynn",3,0.5,null,null,"J",null,"Grade 1 - 2","Grade 1 - 3","The horned toad has become a symbol of the southwestern United States, living mainly in desert areas. However, this misnamed creature can be found from Central Mexico all the way up to Southern Canada. Many people think it’s a toad because of its wide body and short snout, but it’s really a lizard. Readers will enjoy learning about the horned toad and the crazy ways it stays safe from predators. Color photographs of horned toads in the wild are sure to amaze readers.","English",22.6,16.95,"597.95","24 pp.",{"$f":"Table1[[#This Row],['# Books]]*Table1[[#This Row],[QTY]]","v":0},{"$f":"Table1[[#This Row],[QTY]]*Table1[[#This Row],[S&L Price]]","v":0}]
[null,null,53,null,"I'm Allergic",1,"I'm Allergic to Bees","Library Bound Book","978-1-4824-0787-7",2015,"August 2014","Library","7.000 X 7.000","Author","Kristen Rajczak Nelson",null,null,16,null,"I",null,"Grade 1 - 2","Grade 1 - 3","In the United States, about 2 million people are allergic to bee stings. If not treated properly and promptly, serious reactions can be life threatening. Readers learn what to do if they or a friend are stung by a bee and have a normal reaction, as well as what to look for if an allergic reaction is occurring. The basics of allergies are clearly explained through age-appropriate science content, and the seriousness of these conditions is emphasized. Full-color photographs of normal and allergic reactions to bee stings prepare readers further for any situation they may face.","English",22.6,16.95,"616.97","24 pp.",{"$f":"Table1[[#This Row],['# Books]]*Table1[[#This Row],[QTY]]","v":0},{"$f":"Table1[[#This Row],[QTY]]*Table1[[#This Row],[S&L Price]]","v":0}]
[null,null,53,null,"I'm Allergic",1,"I'm Allergic to Peanuts","Library Bound Book","978-1-4824-0974-1",2015,"August 2014","Library","7.000 X 7.000","Author","Maria Nelson",null,null,16,null,"I",null,"Grade 1 - 2","Grade 1 - 3","Peanut allergies can be very serious. They’re the most common food allergy to cause anaphylaxis in children. There is a blood test and a skin prick test to confirm a peanut allergy, but no cure. The only way to avoid a reaction is to stay away from peanuts altogether. Readers learn the potential severity of peanut allergies and the symptoms one might experience. Full-color images alert them to food packaging labels and the possibility of peanuts on ingredients lists. Readers’ new understanding of peanut allergies and knowledge of symptoms could help save a friend’s or family member’s life.","English",22.6,16.95,"618.92","24 pp.",{"$f":"Table1[[#This Row],['# Books]]*Table1[[#This Row],[QTY]]","v":0},{"$f":"Table1[[#This Row],[QTY]]*Table1[[#This Row],[S&L Price]]","v":0}]
[null,null,53,null,"I'm Allergic",1,"I'm Allergic to Strawberries","eBook","978-1-4824-0987-1",2015,"August 2014",null,null,"Author","Maria Nelson",null,null,16,null,"I",null,"Grade 1 - 2","Grade 1 - 3","Food allergies can be difficult to deal with, especially when they’re to such a common fruit as the strawberry. While allergic reactions to this fruit are usually mild, severe stomach and respiratory problems may occur. Readers learn the cause of strawberry allergies and the most common symptoms. The concise introduction of reactions helps readers to identify a friend or family member in need or to express their own condition to others. Full-color photographs aid in preparing readers for quick action if an allergic reaction occurs.","English",22.6,16.95,"618.92","24 pp.",{"$f":"Table1[[#This Row],['# Books]]*Table1[[#This Row],[QTY]]","v":0},{"$f":"Table1[[#This Row],[QTY]]*Table1[[#This Row],[S&L Price]]","v":0}]
[null,null,53,null,"I'm Allergic",1,"I'm Allergic to Wheat","Library Bound Book","978-1-4824-0989-5",2015,"August 2014","Library","7.000 X 7.000","Author","Maria Nelson",null,null,16,null,"I",null,"Grade 1 - 2","Grade 1 - 3","Wheat allergies are some of the most common food allergies in children. They often develop in babies and toddlers, and can cause uncomfortable symptoms. Fortunately, many outgrow the allergy. However, it’s important to know how to identify a possible allergic reaction and what to do. Readers learn this and more, including the causes of wheat allergies and the difference between a wheat allergy and celiac disease. Full-color photographs augment the main content and show food labels wheat-allergic readers should look for.","English",22.6,16.95,"618.92","24 pp.",{"$f":"Table1[[#This Row],['# Books]]*Table1[[#This Row],[QTY]]","v":0},{"$f":"Table1[[#This Row],[QTY]]*Table1[[#This Row],[S&L Price]]","v":0}]
[null,null,54,null,"My Body Does Strange Stuff!",1,"How Do Cuts and Bruises Heal?","Interactive eBook","978-1-4824-0238-4",2014,"January 2014",null,null,"Author","Gary Frick",null,null,16,15,"I",null,"Grade 1 - 2","Grade 1 - 3","Cuts and bruises are often a daily occurrence for many people, so it’s a good thing our bodies know how to heal them. Readers learn the fascinating science behind how our skin keeps us safe, and how cuts and bruises heal. Clear photographs and illustrations, as well as a helpful graphic organizer, help readers understand scientific vocabulary and concepts.","English",33.25,24.95,"612","24 pp.",{"$f":"Table1[[#This Row],['# Books]]*Table1[[#This Row],[QTY]]","v":0},{"$f":"Table1[[#This Row],[QTY]]*Table1[[#This Row],[S&L Price]]","v":0}]
[null,null,54,null,"My Body Does Strange Stuff!",1,"How Do Hair and Nails Grow?","Interactive eBook","978-1-4824-0249-0",2014,"January 2014",null,null,"Author","Thomas Young",null,null,16,15,"I",null,"Grade 1 - 2","Grade 1 - 3","Did you know that hair and nails are actually forms of skin? In this book, readers will learn this and many other intriguing facts about our nails and hair. Colorful photographs and illustrations help readers understand this important science topic, and a graphic organizer helps them remember important facts from the text.","English",33.25,24.95,"612.7","24 pp.",{"$f":"Table1[[#This Row],['# Books]]*Table1[[#This Row],[QTY]]","v":0},{"$f":"Table1[[#This Row],[QTY]]*Table1[[#This Row],[S&L Price]]","v":0}]
[null,null,54,null,"My Body Does Strange Stuff!",1,"What Happens When I Cough?","Interactive eBook","978-1-4339-9337-4",2014,"August 2013",null,null,"Author","Benjamin Herbst",3.2,0.5,16,15,"I",null,"Grade 1 - 2","Grade 1 - 3","Having a cough that won’t go away can be really annoying. Sometimes it’s a cold that makes you cough, and some people with allergies cough a lot! However, there are other reasons for coughing, too. Readers learn about the human body and what causes us to cough. The accessible text is paired with relatable photographs to help readers better understand the topic, and in turn, their bodies.","English",33.25,24.95,"612.7","24 pp.",{"$f":"Table1[[#This Row],['# Books]]*Table1[[#This Row],[QTY]]","v":0},{"$f":"Table1[[#This Row],[QTY]]*Table1[[#This Row],[S&L Price]]","v":0}]
[null,null,54,null,"My Body Does Strange Stuff!",1,"What Happens When I Cry?","Library Bound Book","978-1-4824-0257-5",2014,"January 2014","Library","7.000 X 7.000","Author","Libby Landolfi",null,null,18,17,"J",null,"Grade 1 - 2","Grade 1 - 3","In this volume, readers learn the different reasons why we cry—whether it’s dirt in the air or a really strong emotion. They also learn about the parts of the body that make crying possible. Vibrant photographs and illustrations help readers make sense of a potentially difficult science topic. Readers are sure to find this book both humorous and educational.","English",22.6,16.95,"612.8","24 pp.",{"$f":"Table1[[#This Row],['# Books]]*Table1[[#This Row],[QTY]]","v":0},{"$f":"Table1[[#This Row],[QTY]]*Table1[[#This Row],[S&L Price]]","v":0}]
[null,null,54,null,"My Body Does Strange Stuff!",1,"What Happens When I Hiccup?","Interactive eBook","978-1-4339-9727-3",2014,"August 2013",null,null,"Author","Daisy Allyn",3.1,0.5,18,17,"J",null,"Grade 1 - 2","Grade 1 - 3","Everybody knows how annoying hiccups can be. They interrupt us when we’re trying to talk, read, do homework, and even sleep! But what causes hiccups? Readers discover the answer to that question inside this book. They also learn some interesting ways to cure hiccups. Colorful photographs are paired with accessible text to help readers understand this relatable scientific topic.","English",33.25,24.95,"612.74","24 pp.",{"$f":"Table1[[#This Row],['# Books]]*Table1[[#This Row],[QTY]]","v":0},{"$f":"Table1[[#This Row],[QTY]]*Table1[[#This Row],[S&L Price]]","v":0}]
[null,null,54,null,"My Body Does Strange Stuff!",1,"What Happens When I Sweat?","Library Bound Book","978-1-4339-9347-3",2014,"August 2013","Library","7.000 X 7.000","Author","Lincoln James",3.3,0.5,18,17,"J",null,"Grade 1 - 2","Grade 1 - 3","Sweating sure is gross, but everyone does it. It’s a good thing too, because it’s our body’s way of cooling us down. Readers will discover the reasons why we sweat, and how the body works to produce it. The text presents scientific terms and concepts in an accessible, relatable manner, and colorful photographs and diagrams help readers actually enjoy learning about this important body process.","English",22.6,16.95,"612.7921","24 pp.",{"$f":"Table1[[#This Row],['# Books]]*Table1[[#This Row],[QTY]]","v":0},{"$f":"Table1[[#This Row],[QTY]]*Table1[[#This Row],[S&L Price]]","v":0}]
[null,null,54,null,"My Body Does Strange Stuff!",1,"What Happens When I Throw Up?","Interactive eBook","978-1-4339-9356-5",2014,"August 2013",null,null,"Author","Greg Roza",3.4,0.5,16,15,"I",null,"Grade 1 - 2","Grade 1 - 3","There are many colorful terms for throwing up: puke, upchuck, spew, and lose your lunch, to name just a few. The words may sound funny, but anyone who has ever been sick will tell you there’s nothing funny about throwing up! This \"gross\" topic will fascinate readers, teaching them the science behind vomit and what causes it. Appropriate, relatable photographs and helpful diagrams complement the scientific yet accessible text.","English",33.25,24.95,"612.3","24 pp.",{"$f":"Table1[[#This Row],['# Books]]*Table1[[#This Row],[QTY]]","v":0},{"$f":"Table1[[#This Row],[QTY]]*Table1[[#This Row],[S&L Price]]","v":0}]
[null,null,54,null,"My Body Does Strange Stuff!",1,"What Happens When I Yawn?","Library Bound Book","978-1-4339-9357-2",2014,"August 2013","Library","7.000 X 7.000","Author","Aleaha Schwinn",3.4,0.5,18,17,"J",null,"Grade 1 - 2","Grade 1 - 3","Why do people yawn? Is it because we need oxygen? Or do we yawn to cool off our brain? The answer is, scientists aren’t totally sure just yet, but they have many great theories. The vibrant photographs and diagrams in this book help demonstrate what happens in the body when we yawn. The scientific yet accessible text was designed to both interest and enlighten readers of all ages.","English",22.6,16.95,"612.8","24 pp.",{"$f":"Table1[[#This Row],['# Books]]*Table1[[#This Row],[QTY]]","v":0},{"$f":"Table1[[#This Row],[QTY]]*Table1[[#This Row],[S&L Price]]","v":0}]
[null,null,54,null,"My Body Does Strange Stuff!",1,"What Makes Me Stinky?","Interactive eBook","978-1-4824-0303-9",2014,"January 2014",null,null,"Author","Wes Flynn",null,null,16,15,"I",null,"Grade 1 - 2","Grade 1 - 3","As people grow up, they become more active and often get involved in physical activities. This can make us sweat, and sweating can make us stink! In this book, readers will discover how exactly sweat can make us stinky. Straightforward images of age-appropriate kids, as well as a helpful graphic organizer, helps make a potentially difficult science topic accessible and fun.","English",33.25,24.95,"613","24 pp.",{"$f":"Table1[[#This Row],['# Books]]*Table1[[#This Row],[QTY]]","v":0},{"$f":"Table1[[#This Row],[QTY]]*Table1[[#This Row],[S&L Price]]","v":0}]
[null,null,54,null,"My Body Does Strange Stuff!",1,"Why Do My Teeth Fall Out?","Interactive eBook","978-1-4824-0298-8",2014,"January 2014",null,null,"Author","Isabella Willebrandt",null,null,18,17,"J",null,"Grade 1 - 2","Grade 1 - 3","Losing baby teeth is an exciting part of growing up, but how exactly does it happen? Readers are sure to enjoy reading this book about their teeth, which includes numerous colorful photographs and illustrations to help make the scientific text easier to grasp. The text also addresses the importance of dental health.","English",33.25,24.95,"611","24 pp.",{"$f":"Table1[[#This Row],['# Books]]*Table1[[#This Row],[QTY]]","v":0},{"$f":"Table1[[#This Row],[QTY]]*Table1[[#This Row],[S&L Price]]","v":0}]
[null,null,55,null,"The History of Our Holidays",1,"Halloween's Spooky History","Library Bound Book","978-1-4824-3892-5",2016,"January 2016","Library","7.000 X 7.000","Author","Theodore Jones",3.1,0.5,null,null,"I",null,"Grade 1 - 2","Grade 1 - 3","Costumes, jack-o’-lanterns, and trick-or-treating—these are all parts of the modern traditions of Halloween. Readers might wonder where this strange but fun holiday came from. This informative volume has the surprising answers. Both ancient beliefs and modern customs are covered in this comprehensible guide to Halloween’s history. Colorful, informative photographs support and enhance the text.","English",22.6,16.95,"394.2646—dc23","32 pp.",{"$f":"Table1[[#This Row],['# Books]]*Table1[[#This Row],[QTY]]","v":0},{"$f":"Table1[[#This Row],[QTY]]*Table1[[#This Row],[S&L Price]]","v":0}]
[null,null,55,null,"The History of Our Holidays",1,"Halloween's Spooky History","eBook","978-1-4824-3893-2",2016,"January 2016",null,null,"Author","Theodore Jones",3.1,0.5,null,null,"I",null,"Grade 1 - 2","Grade 1 - 3","Costumes, jack-o’-lanterns, and trick-or-treating—these are all parts of the modern traditions of Halloween. Readers might wonder where this strange but fun holiday came from. This informative volume has the surprising answers. Both ancient beliefs and modern customs are covered in this comprehensible guide to Halloween’s history. Colorful, informative photographs support and enhance the text.","English",22.6,16.95,"394.2646—dc23","32 pp.",{"$f":"Table1[[#This Row],['# Books]]*Table1[[#This Row],[QTY]]","v":0},{"$f":"Table1[[#This Row],[QTY]]*Table1[[#This Row],[S&L Price]]","v":0}]
[null,null,55,null,"The History of Our Holidays",1,"What Is Groundhog Day?","Library Bound Book","978-1-4824-3834-5",2016,"January 2016","Library","7.000 X 7.000","Author","Maximilian Smith",3.4,0.5,null,null,"J",null,"Grade 1 - 2","Grade 1 - 3","Each year on February 2, thousands of people descend on the small town of Punxsutawney, Pennsylvania. They await the weather predictions of a furry little groundhog called Punxsutawney Phil. He’s said to be able to correctly forecast if there will be 6 more weeks of winter or if spring will come early. Readers of this charming volume will learn how this tradition got started and just how accurate Phil has been over the years.","English",22.6,16.95,"394.261—dc23","32 pp.",{"$f":"Table1[[#This Row],['# Books]]*Table1[[#This Row],[QTY]]","v":0},{"$f":"Table1[[#This Row],[QTY]]*Table1[[#This Row],[S&L Price]]","v":0}]
[null,null,56,null,"US Armed Forces",1,"Join the Air Force","eBook","978-1-5382-0533-4",2018,"August 2017",null,null,"Author","P. P. Mitchell",null,null,null,null,"I",null,"Grade 1 - 2","Grade 3 - 6","Most readers will at least have a cursory awareness of the air force, the awesome, flying arm of the US military fleet. This book is the next step for readers to learn and understand how to become part of this fighting force. Readers will enter the exciting world of the air force through accessible language and focused information that appeals to even reluctant readers. Full-color photographs—and a bonus diagram of the uniforms—bring the content to life, while fact boxes throughout provide a historical frame of reference.","English",26.6,19.95,"358.40023/73--dc23","32 pp.",{"$f":"Table1[[#This Row],['# Books]]*Table1[[#This Row],[QTY]]","v":0},{"$f":"Table1[[#This Row],[QTY]]*Table1[[#This Row],[S&L Price]]","v":0}]
[null,null,56,null,"US Armed Forces",1,"Join the Marines","Library Bound Book","978-1-5382-0546-4",2018,"August 2017","Library","6.500 X 9.125","Author","P. P. Mitchell",null,null,null,null,"I",null,"Grade 1 - 2","Grade 3 - 6","The marines make headlines frequently for their daring missions and bravery. There’s no better time than now to offer this inside look into how one becomes a marine and into the life of these incredible heroes in a way that will appeal to even reluctant readers! Through age-appropriate content about duties, rankings, special ops, and even uniforms, this book fosters a deeper understanding of the men and women who serve our country at an accessible reading level. Fact boxes on each spread expand the experience by providing historical context.","English",26.6,19.95,"359.9/602373--dc23","32 pp.",{"$f":"Table1[[#This Row],['# Books]]*Table1[[#This Row],[QTY]]","v":0},{"$f":"Table1[[#This Row],[QTY]]*Table1[[#This Row],[S&L Price]]","v":0}]
[null,null,56,null,"US Armed Forces",1,"Join the Marines","eBook","978-1-5382-0547-1",2018,"August 2017",null,null,"Author","P. P. Mitchell",null,null,null,null,"I",null,"Grade 1 - 2","Grade 3 - 6","The marines make headlines frequently for their daring missions and bravery. There’s no better time than now to offer this inside look into how one becomes a marine and into the life of these incredible heroes in a way that will appeal to even reluctant readers! Through age-appropriate content about duties, rankings, special ops, and even uniforms, this book fosters a deeper understanding of the men and women who serve our country at an accessible reading level. Fact boxes on each spread expand the experience by providing historical context.","English",26.6,19.95,"359.9/602373--dc23","32 pp.",{"$f":"Table1[[#This Row],['# Books]]*Table1[[#This Row],[QTY]]","v":0},{"$f":"Table1[[#This Row],[QTY]]*Table1[[#This Row],[S&L Price]]","v":0}]
[null,null,57,null,"Would You Dare?",6,"Would You Dare?","Library Set","978-1-4824-5895-4",2017,"January 2017","Library","6.500 X 9.125",null,"",null,null,null,null,null,null,"Grade 1 - 2","Grade 3 - 6","During this age of the Internet, we can instantly view people doing some of the most jaw-dropping and heart-pounding sports and stunts. In the volumes of this exciting series, readers delve into some action-packed experiences. Their imaginations will soar in a fighter jet, tiptoe across a high-wire over Niagara Falls, and tackle a fierce adversary in the UFC. They’ll ponder whether they’d accept each challenge aided—and perhaps cautioned!—by dynamic photographs.","English",159.6,119.7,null,"32 pp.",{"$f":"Table1[[#This Row],['# Books]]*Table1[[#This Row],[QTY]]","v":0},{"$f":"Table1[[#This Row],[QTY]]*Table1[[#This Row],[S&L Price]]","v":0}]
[null,null,57,null,"Would You Dare?",1,"Would You Dare Fly a Fighter Jet?","Library Bound Book","978-1-4824-5812-1",2017,"January 2017","Library","6.500 X 9.125","Author","Robert Kennedy",4.5999999999999996,0.5,null,null,"K",null,"Grade 1 - 2","Grade 3 - 6","From the ground, piloting a fighter jet seems thrilling—but it also requires a lot of training and body conditioning. Readers’ awe for aeronautical acrobatics will only increase as they learn about the forces at work to keep a fighter jet aloft. They’ll also learn about g-forces, ejection seats, and incredible speeds that future fighter jets may achieve. Exhilarating images, stimulating STEM concepts, and fascinating fact boxes make this high-interest volume a fun and motivating experience.","English",26.6,19.95,"623.74’64--d23","32 pp.",{"$f":"Table1[[#This Row],['# Books]]*Table1[[#This Row],[QTY]]","v":0},{"$f":"Table1[[#This Row],[QTY]]*Table1[[#This Row],[S&L Price]]","v":0}]
[null,null,57,null,"Would You Dare?",1,"Would You Dare Sail Around the World?","Library Bound Book","978-1-4824-5828-2",2017,"January 2017","Library","6.500 X 9.125","Author","Siobhan Sisk",4.3,0.5,null,null,"K",null,"Grade 1 - 2","Grade 3 - 6","Every once in a while someone who is attempting to sail around the world is in the news—often because they need to be rescued! Navigating around the globe is not an easy task, as this adventurous volume explains. The essential equipment to conquer the seas, nautical vocabulary, and exhilarating true stories are all included in this comprehensible and exciting text, accompanied by illuminating and impressive images.","English",26.6,19.95,"797.1’24--dc23","32 pp.",{"$f":"Table1[[#This Row],['# Books]]*Table1[[#This Row],[QTY]]","v":0},{"$f":"Table1[[#This Row],[QTY]]*Table1[[#This Row],[S&L Price]]","v":0}]
[null,null,57,null,"Would You Dare?",1,"Would You Dare Sail Around the World?","eBook","978-1-4824-5829-9",2017,"January 2017",null,null,"Author","Siobhan Sisk",null,null,null,null,"K",null,"Grade 1 - 2","Grade 3 - 6","Every once in a while someone who is attempting to sail around the world is in the news—often because they need to be rescued! Navigating around the globe is not an easy task, as this adventurous volume explains. The essential equipment to conquer the seas, nautical vocabulary, and exhilarating true stories are all included in this comprehensible and exciting text, accompanied by illuminating and impressive images.","English",26.6,19.95,"797.1’24--dc23","32 pp.",{"$f":"Table1[[#This Row],['# Books]]*Table1[[#This Row],[QTY]]","v":0},{"$f":"Table1[[#This Row],[QTY]]*Table1[[#This Row],[S&L Price]]","v":0}]
[null,null,58,null,"Daredevil Sports",1,"Longboard Skateboarding","eBook","978-1-4824-2979-4",2016,"August 2015",null,null,"Author","Peter Castellano",4.7,0.5,16,null,"I","850L","Grade 1","Grade 3 - 6","In 2012, a skateboarder riding a longboard traveled more than 80 miles (129 km) per hour downhill to break the world record for fastest longboard speed. On the other hand, the longboard skateboard is likely the best skateboard to ride for just getting around via skateboard! Readers are introduced to the many ways of riding a longboard, including in downhill competitions and freeriding. Full-color photographs highlight the fast action of the sport, while the main content encourages caution when beginning a new, daredevil sport. Safety tips and fact boxes add even more detail about this fun emerging sport.","English",26.6,19.95,"796.22","32 pp.",{"$f":"Table1[[#This Row],['# Books]]*Table1[[#This Row],[QTY]]","v":0},{"$f":"Table1[[#This Row],[QTY]]*Table1[[#This Row],[S&L Price]]","v":0}]
[null,null,58,null,"Daredevil Sports",1,"Paintball","Library Bound Book","978-1-4824-2991-6",2016,"August 2015","Library","6.500 X 9.125","Author","Demi Jackson",4.3,0.5,16,null,"I","850L","Grade 1","Grade 3 - 6","Paintball isn’t a sport for the faint of heart. Often used as military and police training, paintball involves stalking and shooting an opposing team—and getting hit can hurt! Readers find out all about rule variation, gear, and different game play before having to hit the field, or get hit by capsules full of paint! Written in accessible language and with a colorful layout, this high-interest topic will appeal to readers of all abilities. Full-color photographs of intense paintball games and fun fact boxes highlight this daredevil sport’s most extreme moments.","English",26.6,19.95,"796.2","32 pp.",{"$f":"Table1[[#This Row],['# Books]]*Table1[[#This Row],[QTY]]","v":0},{"$f":"Table1[[#This Row],[QTY]]*Table1[[#This Row],[S&L Price]]","v":0}]
[null,null,58,null,"Daredevil Sports",1,"Roller Derby","Library Bound Book","978-1-4824-2999-2",2016,"August 2015","Library","6.500 X 9.125","Author","Demi Jackson",4.8,0.5,16,null,"I","900L","Grade 1","Grade 3 - 6","Roller derby is an extreme sport making a comeback! With a history that dates back to the 1930s, in the last decade, roller derby teams have grown in number and popularity. Readers take a turn around the track and discover that, from hard hits to fast breaks, the action in roller derby is nonstop.  Full-color photographs highlight the mostly female teams who dominate the sport and the theatrical quality of each jam, or matchup. Safety tips offer help to new skaters, as this sport can get aggressive fast.","English",26.6,19.95,"796.21","32 pp.",{"$f":"Table1[[#This Row],['# Books]]*Table1[[#This Row],[QTY]]","v":0},{"$f":"Table1[[#This Row],[QTY]]*Table1[[#This Row],[S&L Price]]","v":0}]
[null,null,58,null,"Daredevil Sports",1,"Roller Derby","eBook","978-1-4824-3000-4",2016,"August 2015",null,null,"Author","Demi Jackson",4.8,0.5,16,null,"I","900L","Grade 1","Grade 3 - 6","Roller derby is an extreme sport making a comeback! With a history that dates back to the 1930s, in the last decade, roller derby teams have grown in number and popularity. Readers take a turn around the track and discover that, from hard hits to fast breaks, the action in roller derby is nonstop.  Full-color photographs highlight the mostly female teams who dominate the sport and the theatrical quality of each jam, or matchup. Safety tips offer help to new skaters, as this sport can get aggressive fast.","English",26.6,19.95,"796.21","32 pp.",{"$f":"Table1[[#This Row],['# Books]]*Table1[[#This Row],[QTY]]","v":0},{"$f":"Table1[[#This Row],[QTY]]*Table1[[#This Row],[S&L Price]]","v":0}]
[null,null,58,null,"Daredevil Sports",1,"BASE Jumping","Library Bound Book","978-1-5382-1107-6",2018,"January 2018","Library","6.500 X 9.125","Author","Hal Garrison",null,null,null,null,"I",null,"Grade 1 - 2","Grade 3 - 6","Jumping from a long way up is incredibly dangerous. That's why BASE jumping is a sport saved for the experts. These amazing athletes take leaps from fixed places like antennas and bridges and feel the wind through their hair before using safety equipment like parachutes to make it back to Earth without harm. Sometimes these daredevils will don wingsuits and actually fly while they fall back to earth. Full-color photographs and riveting text capture this sport up close and personal and take readers into the skies.","English",26.6,19.95,"797.5--dc23","32 pp.",{"$f":"Table1[[#This Row],['# Books]]*Table1[[#This Row],[QTY]]","v":0},{"$f":"Table1[[#This Row],[QTY]]*Table1[[#This Row],[S&L Price]]","v":0}]
[null,null,58,null,"Daredevil Sports",1,"Cave Diving","eBook","978-1-5382-1116-8",2018,"January 2018",null,null,"Author","Hal Garrison",null,null,null,null,"I",null,"Grade 1 - 2","Grade 3 - 6","For some, exploring the depths of a dark cave is the ultimate rush of excitement. But what if the cave was filled with water? Readers get to experience this dangerous thrill from the safe pages of this exciting book. Readers splash through the dark and explore the world hidden deep in the water. From the equipment needed to safely participate to a few of the amazing places divers explore, this book explores the unseen and often unexplored parts of a world full of wonder.","English",26.6,19.95,null,"32 pp.",{"$f":"Table1[[#This Row],['# Books]]*Table1[[#This Row],[QTY]]","v":0},{"$f":"Table1[[#This Row],[QTY]]*Table1[[#This Row],[S&L Price]]","v":0}]
[null,null,58,null,"Daredevil Sports",1,"Ice Climbing","eBook","978-1-5382-1120-5",2018,"January 2018",null,null,"Author","Hal Garrison",null,null,null,null,"I",null,"Grade 1 - 2","Grade 3 - 6","Climbing is an exciting way to stay in shape. Ice climbing adds the thrills of rock climbing to the dangers of snow and cold, to create a brand new sport. Strapping on crampons, using ice-climbing axes, and scaling a sheer cliff of ice brings an incredible rush unlike any other. Readers dig into the thrilling world of climbing up cliffs and rock slabs in the middle of winter. From more dangerous climbs like frozen waterfalls to other ice formations, this book explores the equipment needed to safely ice climb and the history behind this amazing sport.","English",26.6,19.95,null,"32 pp.",{"$f":"Table1[[#This Row],['# Books]]*Table1[[#This Row],[QTY]]","v":0},{"$f":"Table1[[#This Row],[QTY]]*Table1[[#This Row],[S&L Price]]","v":0}]
[null,null,58,null,"Mighty Military Machines",6,"Mighty Military Machines","Library Set","978-1-4824-1649-7",2015,"January 2015","Library","6.500 X 9.125",null,"",null,null,null,null,null,null,"Grade 1","Grade 3 - 6","Few things are more exciting for readers than exploring the many machines that help power the military. Whether exploring the many decks of a gigantic aircraft carrier or cruising along in the cockpit of a fighter plane, even reluctant readers will be transfixed by the awe-inspiring power of today’s military machines.    • High-interest topic attracts reluctant readers  • Reading level appropriate for many ages   • Fact boxes provide additional insight  • Clear explanations of domain-specific words and phrases  ","English",151.5,113.7,null,"32 pp.",{"$f":"Table1[[#This Row],['# Books]]*Table1[[#This Row],[QTY]]","v":0},{"$f":"Table1[[#This Row],[QTY]]*Table1[[#This Row],[S&L Price]]","v":0}]
[null,null,58,null,"Mighty Military Machines",1,"Amphibious Vehicles","Library Bound Book","978-1-4824-2115-6",2015,"January 2015","Library","6.500 X 9.125","Author","Ryan Nagelhout",4.9000000000000004,0.5,null,null,"I",null,"Grade 1","Grade 3 - 6","Amphibious vehicles are known for their versatility in helping troops and supplies get from sea to land and back again. Starting out with boats with wheels, these machines are fast and full of technology to keep people safe and always moving. Readers will learn about how amphibious vehicles developed and see examples of modern amphibious vehicles in the military today. They’ll also get a glimpse into the future of amphibious vehicles in the military.","English",25.25,18.95,"623.7","32 pp.",{"$f":"Table1[[#This Row],['# Books]]*Table1[[#This Row],[QTY]]","v":0},{"$f":"Table1[[#This Row],[QTY]]*Table1[[#This Row],[S&L Price]]","v":0}]
[null,null,58,null,"Mighty Military Machines",1,"Military Helicopters","eBook","978-1-4824-2124-8",2015,"January 2015",null,null,"Author","Ryan Nagelhout",4.9000000000000004,0.5,null,null,"I",null,"Grade 1","Grade 3 - 6","Helicopters are special machines that can hover in place and do many different tasks that most planes can’t handle. The military uses many different kinds of helicopters all over the world, and this book will dive into what makes these mighty vehicles so special. From early helicopters to the state-of-the-art machines that power the military today, readers will explore the machines that make a difference in the various branches of the United States military.","English",25.25,18.95,"623.7","32 pp.",{"$f":"Table1[[#This Row],['# Books]]*Table1[[#This Row],[QTY]]","v":0},{"$f":"Table1[[#This Row],[QTY]]*Table1[[#This Row],[S&L Price]]","v":0}]
[null,null,59,null,"Monsters!",1,"Bigfoot","Library Bound Book","978-1-4824-4857-3",2017,"August 2016","Library","6.500 X 9.125","Author","Frances Nagle",null,null,null,null,"I",null,"Grade 1 - 2","Grade 3 - 6","It seems incredible that a huge, hairy human-ape could live in the forests of the Pacific Northwest without anyone knowing it’s there for sure. However, there’s still no real evidence for the existence of Bigfoot! Readers learn about the most famous Bigfoot sighting from 1967, which still hasn’t been proved to be a hoax. Full-color images illustrate how many envision Bigfoot today, as well as similar cryptids found around the world, such as the Yeti. Accessible language paired with fascinating content about a modern monster draws in even unenthusiastic readers.","English",26.6,19.95,"001.944--dc23","32 pp.",{"$f":"Table1[[#This Row],['# Books]]*Table1[[#This Row],[QTY]]","v":0},{"$f":"Table1[[#This Row],[QTY]]*Table1[[#This Row],[S&L Price]]","v":0}]
[null,null,59,null,"Monsters!",1,"Bigfoot","eBook","978-1-4824-4858-0",2017,"August 2016",null,null,"Author","Frances Nagle",null,null,null,null,"I",null,"Grade 1 - 2","Grade 3 - 6","It seems incredible that a huge, hairy human-ape could live in the forests of the Pacific Northwest without anyone knowing it’s there for sure. However, there’s still no real evidence for the existence of Bigfoot! Readers learn about the most famous Bigfoot sighting from 1967, which still hasn’t been proved to be a hoax. Full-color images illustrate how many envision Bigfoot today, as well as similar cryptids found around the world, such as the Yeti. Accessible language paired with fascinating content about a modern monster draws in even unenthusiastic readers.","English",26.6,19.95,"001.944--dc23","32 pp.",{"$f":"Table1[[#This Row],['# Books]]*Table1[[#This Row],[QTY]]","v":0},{"$f":"Table1[[#This Row],[QTY]]*Table1[[#This Row],[S&L Price]]","v":0}]
[null,null,59,null,"Monsters!",1,"Frankenstein","Library Bound Book","978-1-4824-4861-0",2017,"August 2016","Library","6.500 X 9.125","Author","Frances Nagle",null,null,null,null,"I",null,"Grade 1 - 2","Grade 3 - 6","In 1931, the quintessential movie version of Mary Shelley’s Frankenstein hit theaters. It starred Boris Karloff as the monster and spawned a whole series of sequels! Since then, Frankenstein’s monster has become a terrifying icon in popular culture, especially around Halloween. Readers learn the original story of Frankenstein and how the book’s content connected to the science of the day. Haunting images of the monster and movie stills from Frankenstein and other films engage readers’ imaginations as accessible language allows even reluctant readers to find out more about this modern monster!","English",26.6,19.95,"791.43’651--dc23","32 pp.",{"$f":"Table1[[#This Row],['# Books]]*Table1[[#This Row],[QTY]]","v":0},{"$f":"Table1[[#This Row],[QTY]]*Table1[[#This Row],[S&L Price]]","v":0}]
[null,null,59,null,"Monsters!",1,"Sea Creatures","eBook","978-1-4824-4094-2",2016,"January 2016",null,null,"Author","Peter Castellano",null,null,null,null,"I",null,"Grade 1 - 2","Grade 3 - 6","It’s easy to imagine something lurking beneath the deep, dark waters of a loch, river, or sea. Since even today we don’t know every animal that lives deep underwater, historical accounts of fearful creatures swimming below the surface seem to have simple explanations. This book explores the many myths and legends about sea creatures, some of which are centuries old! Full-color illustrations, paintings, and more from cultures around the world showcase the extraordinary imaginations behind some of these stories. In addition, fact boxes offer readers a chance to debunk historical accounts and understand why these tales began at all.","English",26.6,19.95,"591.77—d23","32 pp.",{"$f":"Table1[[#This Row],['# Books]]*Table1[[#This Row],[QTY]]","v":0},{"$f":"Table1[[#This Row],[QTY]]*Table1[[#This Row],[S&L Price]]","v":0}]
[null,null,59,null,"Monsters!",1,"The Loch Ness Monster","eBook","978-1-4824-4866-5",2017,"August 2016",null,null,"Author","Frances Nagle",null,null,null,null,"I",null,"Grade 1 - 2","Grade 3 - 6","In 1934, a photograph in London’s Daily Mail seemed to prove that a strange animal was living in Scotland’s Loch Ness. But 60 years later, it was said to be a fake! That image created the look of the Loch Ness monster in the minds of people around the world. Without it, is there any proof for a creature in Loch Ness? Readers dive deep into this question, learning about the history of the myth and how it survives today. Full-color illustrations and historical photographs spark readers’ imaginations, while fact boxes encourage critical thinking about a fascinating, high-interest topic.","English",26.6,19.95,"001.944--dc23","32 pp.",{"$f":"Table1[[#This Row],['# Books]]*Table1[[#This Row],[QTY]]","v":0},{"$f":"Table1[[#This Row],[QTY]]*Table1[[#This Row],[S&L Price]]","v":0}]
[null,null,59,null,"Monsters!",1,"Vampires","Library Bound Book","978-1-4824-4113-0",2016,"January 2016","Library","6.500 X 9.125","Author","Peter Castellano",null,null,null,null,"I",null,"Grade 1 - 2","Grade 3 - 6","There’s a very clear line from Bram Stoker’s Dracula to the glut of vampire stories available in bookstores today. However, tales of bloodsucking creatures predate Dracula and exist in the mythology of many cultures. Covering the history of the vampire myth as well as how it’s used today, the main content engages even reluctant readers with a high-interest topic. Full-color photographs and other images of vampires through the ages show how the depiction of this chilling creature has changed over time. Additional fact boxes add a dose of reality to a tale that’s so well known, it sometimes feels like it could be true!","English",26.6,19.95,"398'.45—dc23","32 pp.",{"$f":"Table1[[#This Row],['# Books]]*Table1[[#This Row],[QTY]]","v":0},{"$f":"Table1[[#This Row],[QTY]]*Table1[[#This Row],[S&L Price]]","v":0}]
[null,null,59,null,"Monsters!",1,"Witches","eBook","978-1-4824-4105-5",2016,"January 2016",null,null,"Author","Peter Castellano",null,null,null,null,"I",null,"Grade 1 - 2","Grade 3 - 6","Some of the most iconic pop-culture figures ever have been witches: the Wicked Witch of the West, the White Witch in The Chronicles of Narnia,  Hermione in the Harry Potter books. But there’s a long history of witch legends from around the world, including historical events condemning them, such as the Salem witch trials. This high-interest topic will engage even the most reluctant readers with tales of good and bad magic, spells, and torture. Full-color photographs and historical images show witch stories throughout the ages as fact boxes investigate the truth behind the myths and the reason behind the history.","English",26.6,19.95,"133.4'3—dc23","32 pp.",{"$f":"Table1[[#This Row],['# Books]]*Table1[[#This Row],[QTY]]","v":0},{"$f":"Table1[[#This Row],[QTY]]*Table1[[#This Row],[S&L Price]]","v":0}]
[null,null,59,null,"Outdoor Adventure",1,"Deep-Sea Fishing","eBook","978-1-4824-1394-6",2015,"August 2014",null,null,"Author","George Pendergast",3,0.5,16,null,"I",null,"Grade 1","Grade 3 - 6","Deep-sea fishermen know the big fish are always in the oceans. In this exciting book, readers are taken out on the waters of the world’s biggest oceans in search of a great catch. From marlin to swordfish, this book shows readers what kind of equipment they’ll need to catch the big one. From bait to boat, readers will be ready for an outdoor adventure of their own when they’re done!","English",25.25,18.95,"799.16","32 pp.",{"$f":"Table1[[#This Row],['# Books]]*Table1[[#This Row],[QTY]]","v":0},{"$f":"Table1[[#This Row],[QTY]]*Table1[[#This Row],[S&L Price]]","v":0}]
[null,null,59,null,"Outdoor Adventure",1,"Duck Hunting","eBook","978-1-4824-1392-2",2015,"August 2014",null,null,"Author","George Pendergast",3.1,0.5,16,null,"I",null,"Grade 1","Grade 3 - 6","Duck hunting is all about accuracy and a good duck call. It takes a long time to get good at duck hunting, which means it’s never too early to start learning about it! Readers learn all about duck hunting, from the tools and equipment they’ll need to get set up to the skills necessary to bring home a big prize. With important safety information and an overview of rules and regulations, this book is a great resource for readers to develop a base knowledge of duck hunting before heading out on their own outdoor adventures!","English",25.25,18.95,"799.2","32 pp.",{"$f":"Table1[[#This Row],['# Books]]*Table1[[#This Row],[QTY]]","v":0},{"$f":"Table1[[#This Row],[QTY]]*Table1[[#This Row],[S&L Price]]","v":0}]
[null,null,59,null,"Outdoor Adventure",1,"Fly Fishing","Library Bound Book","978-1-4824-1492-9",2015,"August 2014","Library","6.500 X 9.000","Author","George Pendergast",3.2,0.5,16,null,"I",null,"Grade 1","Grade 3 - 6","There are lots of ways to catch a fish, and fly fishing is one of the most exciting. Readers grab their wading boots and hit the shores in search of bass, trout, salmon, and more. With safety tips and an explanation of the gear they’ll need, readers learn about the different rods and equipment it takes to fly fish. Whether they’re fishing in salt or freshwater, fly fishing is a great way to spend a day, and this book is sure to get readers excited about hitting the water in search of the big one!","English",25.25,18.95,"799.12","32 pp.",{"$f":"Table1[[#This Row],['# Books]]*Table1[[#This Row],[QTY]]","v":0},{"$f":"Table1[[#This Row],[QTY]]*Table1[[#This Row],[S&L Price]]","v":0}]
[null,null,59,null,"Outdoor Adventure",1,"Turkey Hunting","eBook","978-1-4824-1389-2",2015,"August 2014",null,null,"Author","George Pendergast",3.6,0.5,16,null,"I",null,"Grade 1","Grade 3 - 6","Hunting is a great way to explore the outdoors and learn about nature. It’s also a great way to get your own dinner! In this exciting outdoor book, readers dive into the fascinating world of turkey hunting and learn to be an outdoor adventurer in search of wild turkey. Great safety tips ensure the hunt is both successful and safe, while full-color photographs provide a great look at what readers should wear and the tools they’ll need to put their own turkey on the table for dinner tonight!","English",25.25,18.95,"799.2","32 pp.",{"$f":"Table1[[#This Row],['# Books]]*Table1[[#This Row],[QTY]]","v":0},{"$f":"Table1[[#This Row],[QTY]]*Table1[[#This Row],[S&L Price]]","v":0}]
[null,null,60,null,"A Look at Earth's Rocks",1,"What Are Metamorphic Rocks?","eBook","978-1-4824-6247-0",2018,"August 2017",null,null,"Author","Kristen Rajczak Nelson",null,null,null,null,"K",null,"Grade 2","Grade 3 - 6","Within the rock cycle, the formation of metamorphic rock can be the most confusing. It’s not only formed from existing rock, but also can be formed in a few different ways. Readers learn the basics of metamorphic rock, including how to tell the difference between foliated and non-foliated varieties. The main content addresses key points of the Earth science curriculum using accessible language and brief, clear explanations, which make this book helpful to struggling readers or those just looking for a review.","English",26.6,19.95,"552/.4--dc23","32 pp.",{"$f":"Table1[[#This Row],['# Books]]*Table1[[#This Row],[QTY]]","v":0},{"$f":"Table1[[#This Row],[QTY]]*Table1[[#This Row],[S&L Price]]","v":0}]
[null,null,60,null,"A Look at Earth's Rocks",1,"What Are Minerals?","eBook","978-1-4824-6243-2",2018,"August 2017",null,null,"Author","Kristen Rajczak Nelson",null,null,null,null,"K",null,"Grade 2","Grade 3 - 6","Minerals are an essential part of the Earth science curriculum since silicate minerals make up more than 90 percent of Earth’s crust! In order to understand this fact, though, students need to know the difference between minerals and rocks, how minerals form, and how minerals are structured. This book breaks down these topics and more in simple, clear language ideal for struggling readers or those looking to review an important topic. Fact boxes elaborate on difficult concepts and define scientific terms, complementing the main content’s curriculum focus and full-color photographs of common minerals.","English",26.6,19.95,"549--dc23","32 pp.",{"$f":"Table1[[#This Row],['# Books]]*Table1[[#This Row],[QTY]]","v":0},{"$f":"Table1[[#This Row],[QTY]]*Table1[[#This Row],[S&L Price]]","v":0}]
[null,null,60,null,"A Look at Earth's Rocks",1,"What Is Erosion?","Library Bound Book","978-1-4824-6017-9",2018,"August 2017","Library","6.500 X 9.125","Author","Frances Nagle",null,null,null,null,"K",null,"Grade 2","Grade 3 - 6","Erosion has shaped the landscape all over the world. It occurs in small ways every day as wind and water move soil, rock, and other materials from place to place. Readers learn the specifics of how erosion happens and its place in the rock cycle. Full-color photographs showcase the amazing results of erosion from around the world, including waterfalls, canyons, and coastlines. Readers of all levels can use this volume to review or better understand a key area of Earth science through accessible language and simple definitions and explanations.","English",26.6,19.95,"551.3/02--dc23","32 pp.",{"$f":"Table1[[#This Row],['# Books]]*Table1[[#This Row],[QTY]]","v":0},{"$f":"Table1[[#This Row],[QTY]]*Table1[[#This Row],[S&L Price]]","v":0}]
[null,null,61,null,"A Look at US History",1,"The American Revolution","Library Bound Book","978-1-4824-6025-4",2018,"August 2017","Library","6.500 X 9.125","Author","Peter Castellano",null,null,null,null,"J",null,"Grade 2","Grade 3 - 6","Understanding the events of the American Revolution is key to learning more about the history of the United States. When readers encounter this important topic in social studies classes, they often must be able to explain the causes, main events, and results of the war. Through simple explanations and language, this book gives readers of all levels an overview of these aspects of the Revolutionary War in a format perfect for test review or quick reference. A timeline helps readers keep events in order, and fact boxes explain more difficult terms and subject matter.","English",26.6,19.95,"973.3--dc23","32 pp.",{"$f":"Table1[[#This Row],['# Books]]*Table1[[#This Row],[QTY]]","v":0},{"$f":"Table1[[#This Row],[QTY]]*Table1[[#This Row],[S&L Price]]","v":0}]
[null,null,61,null,"A Look at US History",1,"The Civil War","eBook","978-1-4824-6030-8",2018,"August 2017",null,null,"Author","Peter Castellano",null,null,null,null,"J",null,"Grade 2","Grade 3 - 6","The Civil War is a major part of the social studies curriculum. However, it can be overwhelming to cover the causes of the war, its main events, and the immediate results. This book summarizes the most important points of the Civil War in an accessible way appropriate for many reading levels. Fact boxes explain key terms and add crucial details to the main content. Historical images and a concluding timeline help both new readers and those reviewing the topic to better understand a complex sequence of events easily.","English",26.6,19.95,"973.7--dc23","32 pp.",{"$f":"Table1[[#This Row],['# Books]]*Table1[[#This Row],[QTY]]","v":0},{"$f":"Table1[[#This Row],[QTY]]*Table1[[#This Row],[S&L Price]]","v":0}]
[null,null,61,null,"A Look at US History",1,"The U.S. Constitution","Library Bound Book","978-1-4824-6045-2",2018,"August 2017","Library","6.500 X 9.125","Author","Bray Jacobson",null,null,null,null,"J",null,"Grade 2","Grade 3 - 6","The highest law in the United States isn't written in modern English. Yet students are expected to know and understand much of what it says, as well as facts about how and why it was written. Readers are presented with the most important points of the history of the Constitution and its contents in this book. The main content gives simple explanations of important social studies curriculum topics, from the compromises needed to write the Constitution to the Bill of Rights. Fact boxes, a concluding timeline, and historical images offer readers even more detail needed for a full overview of the document.","English",26.6,19.95,"342.7302/9--dc23","32 pp.",{"$f":"Table1[[#This Row],['# Books]]*Table1[[#This Row],[QTY]]","v":0},{"$f":"Table1[[#This Row],[QTY]]*Table1[[#This Row],[S&L Price]]","v":0}]
[null,null,62,null,"A Look at Your Government",1,"How Does a Bill Become a Law?","Library Bound Book","978-1-4824-6057-5",2018,"August 2017","Library","6.500 X 9.125","Author","Kathleen Connors",null,null,null,null,"K",null,"Grade 2","Grade 3 - 6","Our nation’s laws go through a long process before they are enacted. Bills are scrutinized and researched by committees in both the House and Senate and may be rewritten several times before they pass. This book breaks down the complicated process into digestible steps for readers looking to better understand an important component of the social studies curriculum. Fact boxes further clarify how the government works, supply key terms, and give more detail about congressional committees. A concluding flowchart allows readers to review the process even more easily.","English",26.6,19.95,"328.73/077--dc23","32 pp.",{"$f":"Table1[[#This Row],['# Books]]*Table1[[#This Row],[QTY]]","v":0},{"$f":"Table1[[#This Row],[QTY]]*Table1[[#This Row],[S&L Price]]","v":0}]
[null,null,62,null,"A Look at Your Government",1,"What Does Congress Do?","Library Bound Book","978-1-4824-6049-0",2018,"August 2017","Library","6.500 X 9.125","Author","Kathleen Connors",null,null,null,null,"K",null,"Grade 2","Grade 3 - 6","The Founding Fathers made Congress two houses for a reason. The Senate gives every state equal representation, while the House of Representatives allows states with a larger population a bigger voice in government. Learning how this system works is an important piece of understanding how laws are made in the United States. This book breaks down the many jobs of Congress as well as the specific qualifications needed to be a representative or senator. Written simply and clearly, the social studies content can aid any student looking to better understand how Congress works.","English",26.6,19.95,"328.73--dc23","32 pp.",{"$f":"Table1[[#This Row],['# Books]]*Table1[[#This Row],[QTY]]","v":0},{"$f":"Table1[[#This Row],[QTY]]*Table1[[#This Row],[S&L Price]]","v":0}]
[null,null,62,null,"A Look at Your Government",1,"What Does the US Supreme Court Do?","eBook","978-1-4824-6062-9",2018,"August 2017",null,null,"Author","Santana Hunt",null,null,null,null,"K",null,"Grade 2","Grade 3 - 6","The Supreme Court is the highest court in the United States. While it only hears about 80 cases out of the thousands that petition to be heard, the court’s decisions have a big impact. The most important job of the Supreme Court is to decide the constitutionality of laws and actions. This process is broken down for readers in simple terms that support their understanding of the judicial branch. The main content offers curriculum-based information about the court’s relationship with the Constitution, justice appointments, and how justices write opinions. Fact boxes supply definitions and further explanations of more complicated ideas.","English",26.6,19.95,"347.73/26--dc23","32 pp.",{"$f":"Table1[[#This Row],['# Books]]*Table1[[#This Row],[QTY]]","v":0},{"$f":"Table1[[#This Row],[QTY]]*Table1[[#This Row],[S&L Price]]","v":0}]
[null,null,63,null,"Fun Fact File (Set of 60 Titles)",60,"Fun Fact File (Set of 60 Titles)","Library Set","978-1-5382-0470-2",2018,"August 2017","Library","8.500 X 8.500",null,"",null,null,null,null,null,null,"Grade 2 - 3","Grade 2 - 5","While the books in this set cover a wide range of topics—such as sports, space, US history, world wonders, and now America’s founding fathers—it’s the fun approach to learning that binds them together. Whether readers are exploring the furthest reaches the cosmos or the life of Alexander Hamilton, each book is an invitation to an exciting new world of information. Each volume is packed with fascinating fun facts on a variety of topics. Amazing photographs and other visuals help transport readers to various times in history and to locations all over the world—and beyond!","English",1515,1137,null,"32 pp.",{"$f":"Table1[[#This Row],['# Books]]*Table1[[#This Row],[QTY]]","v":0},{"$f":"Table1[[#This Row],[QTY]]*Table1[[#This Row],[S&L Price]]","v":0}]
[null,null,63,null,"Fun Fact File: Founding Fathers",1,"20 Fun Facts About Aaron Burr","Library Bound Book","978-1-5382-0281-4",2018,"August 2017","Library","8.500 X 8.500","Author","M. H. Seeley",null,null,null,null,"N",null,"Grade 2 - 3","Grade 2 - 5","Aaron Burr is likely best known as the person who killed Alexander Hamilton in a duel, but there’s so much more to this Founding Father’s life. For starters, most people don’t know that he almost became president! He was also charged with treason. This book full of fun facts takes history buffs deep into the life of one of the most interesting Founding Fathers, presenting a unique biography that provides color to a life led at the birth of America. The book also focuses on Burr’s political career and explains why he killed Hamilton in a duel in New Jersey, forever changing American history.","English",25.25,18.95,"973.4/6092--dc23","32 pp.",{"$f":"Table1[[#This Row],['# Books]]*Table1[[#This Row],[QTY]]","v":0},{"$f":"Table1[[#This Row],[QTY]]*Table1[[#This Row],[S&L Price]]","v":0}]
[null,null,63,null,"Fun Fact File: Founding Fathers",1,"20 Fun Facts About Alexander Hamilton","eBook","978-1-5382-0276-0",2018,"August 2017",null,null,"Author","M. H. Seeley",null,null,null,null,"N",null,"Grade 2 - 3","Grade 2 - 5","Alexander Hamilton is a familiar name in American history because of the amazing life he led. From his early life as an orphan to traveling to New York City and becoming an influential Founding Father, Hamilton’s life was full of drama and achievements. This book looks at some of the most remarkable things about his life, giving a glimpse into his life in the Caribbean as well as the battles he had with other Founding Fathers to pass his financial plan for the new nation. Though his life ended in tragedy, readers will love learning about the man whose face appears on the ten-dollar bill in this engaging work full of fascinating trivia.","English",25.25,18.95,"973.4092--dc23","32 pp.",{"$f":"Table1[[#This Row],['# Books]]*Table1[[#This Row],[QTY]]","v":0},{"$f":"Table1[[#This Row],[QTY]]*Table1[[#This Row],[S&L Price]]","v":0}]
[null,null,63,null,"Fun Fact File: Founding Fathers",1,"20 Fun Facts About James Madison","Library Bound Book","978-1-5382-0285-2",2018,"August 2017","Library","8.500 X 8.500","Author","Arthur K. Britton",null,null,null,null,"N",null,"Grade 2 - 3","Grade 2 - 5","James Madison helped to ratify America’s constitution and later served as president. But there are many things readers may not know about this Founding Father. Madison, for example, was a prolific writer—helping Alexander Hamilton and John Jay in writing the Federalist Papers. From Madison’s short stature to his early days in the White House, there are plenty of fun facts and stories about America’s fourth president that readers will love. They’ll also be introduced to Madison’s wife—Dolley—who was very influential during his presidency.","English",25.25,18.95,"973.51092092--dc23","32 pp.",{"$f":"Table1[[#This Row],['# Books]]*Table1[[#This Row],[QTY]]","v":0},{"$f":"Table1[[#This Row],[QTY]]*Table1[[#This Row],[S&L Price]]","v":0}]
[null,null,63,null,"Fun Fact File: Earth Science",1,"20 Fun Facts About Astronomy","Library Bound Book","978-1-5382-1175-5",2018,"January 2018","Library","8.500 X 8.500","Author","Jill Keppeler",null,null,null,null,"N",null,"Grade 2 - 3","Grade 2 - 5","From black holes to dark matter, galaxies to supernovas, nothing could be more fascinating than outer space, especially to young readers. Every day, scientists are discovering new, mind-blowing facts about the universe's infinite mysteries. This engaging volume is filled with amazing astronomical science concepts presented at an age-appropriate level via an entertaining fun-fact layout . Brilliant, full-color photography and clear graphic organizers accompany accessible text for a reading experience that's out of this world.","English",25.25,18.95,"520--dc23","32 pp.",{"$f":"Table1[[#This Row],['# Books]]*Table1[[#This Row],[QTY]]","v":0},{"$f":"Table1[[#This Row],[QTY]]*Table1[[#This Row],[S&L Price]]","v":0}]
[null,null,63,null,"Fun Fact File: Earth Science",1,"20 Fun Facts About Earth's Resources","eBook","978-1-5382-1180-9",2018,"January 2018",null,null,"Author","Sarah Machajewski",null,null,null,null,"N",null,"Grade 2 - 3","Grade 2 - 5","Geothermal heat, made by the disintegration of the radioactive atoms in Earth's core, is not a subject young readers often get to learn about. Heavy metals and solar energy, two topics that are constantly appearing in technology news today, are typically left for more advanced readers to discover and understand. By using accessible yet exciting language and bold, colorful photography and art, this book lets young readers explore a plethora of fascinating yet digestible facts about what our planet naturally provides and how we harness it.","English",25.25,18.95,"333.7--dc23","32 pp.",{"$f":"Table1[[#This Row],['# Books]]*Table1[[#This Row],[QTY]]","v":0},{"$f":"Table1[[#This Row],[QTY]]*Table1[[#This Row],[S&L Price]]","v":0}]
[null,null,63,null,"Fun Fact File: Earth Science",1,"20 Fun Facts About Fossils","eBook","978-1-5382-1184-7",2018,"January 2018",null,null,"Author","Janey Levy",null,null,null,null,"N",null,"Grade 2 - 3","Grade 2 - 5","In this dynamic volume on a perpetually popular subject, budding paleontologists learn about a birdlike dinosaur in China, a fossilized dinosaur brain in England, and dinosaur feathers trapped in amber in Myanmar. They'll also come face-to-face with the largest dinosaur ever found, a reptile heavier than a Boeing 737, in Argentina. All of these amazing things have been discovered in just the past few years. Fossils are truly some of the most exciting things science has to offer, especially to young readers. This volume is jam-packed with the most up-to-date unearthings, all complemented by colorful art that brings these creatures to life. A detailed graphic organizer provides visual reinforcement to summarize fascinating new discoveries.","English",25.25,18.95,null,"32 pp.",{"$f":"Table1[[#This Row],['# Books]]*Table1[[#This Row],[QTY]]","v":0},{"$f":"Table1[[#This Row],[QTY]]*Table1[[#This Row],[S&L Price]]","v":0}]
[null,null,63,null,"Fun Fact File: Earth Science",1,"20 Fun Facts About Weather","Library Bound Book","978-1-5382-1195-3",2018,"January 2018","Library","8.500 X 8.500","Author","Caitie McAneney",null,null,null,null,"N",null,"Grade 2 - 3","Grade 2 - 5","News of wild, unprecedented tornado systems and freaky blizzards in Texas fill the airwaves regularly. How does Earth's weather really work? Readers will love each jam-packed page of this book, filled with not only fascinating and digestible facts, but also vibrant, full-color photography that brings Earth's atmosphere and wild weather to life. The accessible text is accompanied by age-appropriate graphic organizers to make learning about this essential science topic a breeze for readers of all levels.","English",25.25,18.95,"551.5--dc23","32 pp.",{"$f":"Table1[[#This Row],['# Books]]*Table1[[#This Row],[QTY]]","v":0},{"$f":"Table1[[#This Row],[QTY]]*Table1[[#This Row],[S&L Price]]","v":0}]
[null,null,64,null,"Fun Fact File: Animal Adaptations",1,"20 Fun Facts About Bird Adaptations","Library Bound Book","978-1-4824-4430-8",2017,"August 2016","Library","8.500 X 8.500","Author","Sarah Machajewski",4.5,0.5,null,null,"N",null,"Grade 2 - 3","Grade 2 - 5","When Darwin visited the Galapagos Islands, he found many kinds of finches there, each with a beak perfectly suited to the kind of food the bird commonly ate. The finches had adapted to their surroundings! Wing size, migration patterns, and more are all part of the fascinating bird adaptations included in this book. Readers explore all kinds of birds, bird behavior, and more in an entertaining format and colorful layout. Graphic organizers and full-color photographs complement the main content as readers fly from one fun fact to the next.","English",25.25,18.95,"597--dc23","32 pp.",{"$f":"Table1[[#This Row],['# Books]]*Table1[[#This Row],[QTY]]","v":0},{"$f":"Table1[[#This Row],[QTY]]*Table1[[#This Row],[S&L Price]]","v":0}]
[null,null,64,null,"Fun Fact File: Animal Adaptations",1,"20 Fun Facts About Insect Adaptations","Library Bound Book","978-1-4824-4431-5",2017,"August 2016","Library","8.500 X 8.500","Author","Kristen Rajczak Nelson",5.0999999999999996,0.5,null,null,"N",null,"Grade 2 - 3","Grade 2 - 5","Insects are often the same color as their surroundings. Their mouthparts developed for exactly the food they like to eat. Grasshoppers have long, strong back legs for hopping over grass, whereas the cockroach’s long, thin legs let them run very quickly. None of this is an accident! Insects have many incredible adaptations that have made them the perfect residents of their environment. Short, easily digestible information draws readers into the insect world and introduces important science concepts. Full-color photographs allow readers to see adaptations and more up close.","English",25.25,18.95,"595.702—dc23","32 pp.",{"$f":"Table1[[#This Row],['# Books]]*Table1[[#This Row],[QTY]]","v":0},{"$f":"Table1[[#This Row],[QTY]]*Table1[[#This Row],[S&L Price]]","v":0}]
[null,null,64,null,"Fun Fact File: Animal Adaptations",1,"20 Fun Facts About Mammal Adaptations","eBook","978-1-4824-4412-4",2017,"August 2016",null,null,"Author","Kristen Rajczak Nelson",5.2,0.5,null,null,"N",null,"Grade 2 - 3","Grade 2 - 5","One major adaptation of mammals is part of what differentiates them from other animals: the growth and nourishment of babies inside the mother’s body! Water-repelling fur, tough hides, camouflage, as well as the size and shape of various body parts are just a few other adaptations mammals have developed in order to better survive their environment. Readers learn many examples of how mammals have evolved to hide from predators and hunt for prey. Graphic organizers present even more information to aid readers’ understanding while full-color photographs bring them close to animals they might otherwise only see in a zoo!","English",25.25,18.95,"591.5—d23","32 pp.",{"$f":"Table1[[#This Row],['# Books]]*Table1[[#This Row],[QTY]]","v":0},{"$f":"Table1[[#This Row],[QTY]]*Table1[[#This Row],[S&L Price]]","v":0}]
[null,null,64,null,"Fun Fact File: Sports!",6,"Fun Fact File: Sports!","Library Set","978-1-4824-4294-6",2016,"January 2016","Library","8.500 X 8.500",null,"",null,null,null,null,null,null,"Grade 2 - 3","Grade 2 - 5","Sports are full of weird and wacky facts. From stories about the separate leagues of Major League Baseball to how the football got its shape, this exciting series takes the thrills of sports and packs each book full of amazing facts and stories that helped shape the games we watch and love today. Full-color photographs help illustrate the history and growth of fun sports like soccer and hockey while giving readers plenty to cheer for, whether they’re in the library or in the stands cheering for their favorite teams.\n\n•Charts, maps, and diagrams relate even more fun facts  \n\n•Engaging format appeals to reluctant readers","English",151.5,113.7,null,"32 pp.",{"$f":"Table1[[#This Row],['# Books]]*Table1[[#This Row],[QTY]]","v":0},{"$f":"Table1[[#This Row],[QTY]]*Table1[[#This Row],[S&L Price]]","v":0}]
[null,null,64,null,"Fun Fact File: Sports!",1,"20 Fun Facts About Basketball","Library Bound Book","978-1-4824-3973-1",2016,"January 2016","Library","8.500 X 8.500","Author","Ryan Nagelhout",null,null,null,null,"M","NC980L","Grade 2 - 3","Grade 2 - 5","Put the ball in the hoop and don’t let the other team score. It sounds simple, but there’s so much more to the game of basketball. This exciting book takes a look at the game in a quick and fun way that will have readers begging for more fun facts. From the highest scoring game and the greatest teams in NBA history to the greats of the women’s game, this book uses vibrant photographs to show the all-time best at the top of their game.","English",25.25,18.95,"796.323—d23","32 pp.",{"$f":"Table1[[#This Row],['# Books]]*Table1[[#This Row],[QTY]]","v":0},{"$f":"Table1[[#This Row],[QTY]]*Table1[[#This Row],[S&L Price]]","v":0}]
[null,null,64,null,"Fun Fact File: Sports!",1,"20 Fun Facts About Football","eBook","978-1-4824-3977-9",2016,"January 2016",null,null,"Author","Ryan Nagelhout",null,null,null,null,"M","NC1080L","Grade 2 - 3","Grade 2 - 5","The National Football League is America’s favorite sports league. Football is fast-paced and full of big hits and even bigger plays from its superstars. These players have set some impressive records over the years. From the amazing seasons running backs have had breaking the 2,000-yard rushing mark, or quarterbacks gunning for the single-season touchdown record, learning about the stats and facts that make up football’s history fun! Graphics and photographs show how the game’s rules, equipment, and even its field have changed over the years, letting readers dive into the huddle and explore football at their own pace.","English",25.25,18.95,"796.332’64021—d23","32 pp.",{"$f":"Table1[[#This Row],['# Books]]*Table1[[#This Row],[QTY]]","v":0},{"$f":"Table1[[#This Row],[QTY]]*Table1[[#This Row],[S&L Price]]","v":0}]
[null,null,64,null,"Fun Fact File: Sports!",1,"20 Fun Facts About Hockey","eBook","978-1-4824-4007-2",2016,"January 2016",null,null,"Author","Ryan Nagelhout",null,null,null,null,"M",null,"Grade 2 - 3","Grade 2 - 5","Hockey is a tough sport full of fascinating facts. From the fastest slap shot in National Hockey League history to the player with the most fights, readers will love exploring amazing seasons from individual athletes and some of the best teams of all time. They’ll learn why Wayne Gretzky is called “The Great One” and why today’s young talent is changing the game once again. This fast-paced book’s facts and figures show readers just why hockey is one of the coolest sports—and not just because it’s played on ice!","English",25.25,18.95,"796.962—dc23","32 pp.",{"$f":"Table1[[#This Row],['# Books]]*Table1[[#This Row],[QTY]]","v":0},{"$f":"Table1[[#This Row],[QTY]]*Table1[[#This Row],[S&L Price]]","v":0}]
[null,null,64,null,"Fun Fact File: Women in History",1,"20 Fun Facts About Native American Women","eBook","978-1-4824-2811-7",2016,"August 2015",null,null,"Author","Caitie McAneney",null,null,30,null,"N",null,"Grade 2 - 3","Grade 2 - 5","Many people know that some Native American tribes are matrilineal. That means that historically, women had power in governance and some control in her home life. For the European patriarchs that came to North America, that was quite a shock! Through short, surprising, and often amusing facts, readers learn the role of Native American women in their tribes. Including tribes from across North America, the main content emphasizes their daily lives, clothing, and marriage customs, and introduces important female figures in history. A colorful layout and full-color photographs showcase the power of the Native American woman, a power that still resonates today.","English",25.25,18.95,"305.48","32 pp.",{"$f":"Table1[[#This Row],['# Books]]*Table1[[#This Row],[QTY]]","v":0},{"$f":"Table1[[#This Row],[QTY]]*Table1[[#This Row],[S&L Price]]","v":0}]
[null,null,64,null,"Fun Fact File: Women in History",1,"20 Fun Facts About Women in Ancient Greece and Rome","Library Bound Book","978-1-4824-2818-6",2016,"August 2015","Library","8.500 X 8.500","Author","Kristen Rajczak Nelson",null,null,30,null,"N",null,"Grade 2 - 3","Grade 2 - 5","In recent years, scholars have taken a closer look at the women of the ancient world and found poets, landowners, athletes, and more—not just wives. However, for most women, their household was their domain and their husband their master. Readers learn about both perspectives in an engaging format of fun facts, as well as about famous women in power, important goddesses, and many other interesting details of the time period. Historical images of women in ancient Greece and Rome and full-color photographs of the places they lived enhance curriculum-supporting content and graphic organizers that further explore important concepts.","English",25.25,18.95,"305.40938","32 pp.",{"$f":"Table1[[#This Row],['# Books]]*Table1[[#This Row],[QTY]]","v":0},{"$f":"Table1[[#This Row],[QTY]]*Table1[[#This Row],[S&L Price]]","v":0}]
[null,null,64,null,"Fun Fact File: Women in History",1,"20 Fun Facts About Women in Colonial America","Library Bound Book","978-1-4824-2822-3",2016,"August 2015","Library","8.500 X 8.500","Author","Amy Hayes",null,null,30,null,"N",null,"Grade 2 - 3","Grade 2 - 5","Colonial women often had one goal as they grew up: to get married. They often married young and not commonly for love. Though their lives were full of hardship and hard work, they lived during interesting times! Fun, surprising, and silly facts engage readers in the lives of women during the colonial era. From plantation owners’ wives to indentured servants, the women in the colonies had varied duties and experiences that readers will find fascinating and enjoyable in this format. Colorful photographs and historical images enhance this playful perspective on history and the social studies curriculum.","English",25.25,18.95,"305.4'0973'09032—d23","32 pp.",{"$f":"Table1[[#This Row],['# Books]]*Table1[[#This Row],[QTY]]","v":0},{"$f":"Table1[[#This Row],[QTY]]*Table1[[#This Row],[S&L Price]]","v":0}]
[null,null,64,null,"Fun Fact File: Women in History",1,"20 Fun Facts About Women of the Middle Ages","eBook","978-1-4824-2827-8",2016,"August 2015",null,null,"Author","Janey Levy",null,null,30,null,"N",null,"Grade 2 - 3","Grade 2 - 5","During the Middle Ages, women often did backbreaking work. Whether they were weaving their own cloth to make clothing or helping their husbands in the fields, medieval women worked hard—and so, often didn’t live past age 40! Fascinating facts like this engage readers with women’s lives during an important historical period. Full-color photographs and historical images illustrate the daily life of both peasants and noblewomen, as readers are introduced to Fiery Joanna, Joan of Arc, and other powerful, role-challenging women of the Middle Ages.","English",25.25,18.95,"305.4009","32 pp.",{"$f":"Table1[[#This Row],['# Books]]*Table1[[#This Row],[QTY]]","v":0},{"$f":"Table1[[#This Row],[QTY]]*Table1[[#This Row],[S&L Price]]","v":0}]
[null,null,65,null,"Fun Fact File: Space!",1,"20 Fun Facts About Galaxies","eBook","978-1-4824-0999-4",2015,"August 2014",null,null,"Author","Michael Sabatino",5.8,0.5,null,null,"N",null,"Grade 2 - 3","Grade 2 - 5","The Milky Way, a galaxy about 100,000 light-years across, is our cosmic neighborhood. Scientists once thought the Milky Way was the only galaxy in the universe, but we now know it’s just one of billions. By studying galaxies and the stars and planets they contain, scientists have learned much about the universe and how it formed. Readers will be amazed when they see the stunning cosmic images of galaxies. Graphic organizers and accessible scientific text help make this volume an informative, enjoyable read.","English",25.25,18.95,"523.1","32 pp.",{"$f":"Table1[[#This Row],['# Books]]*Table1[[#This Row],[QTY]]","v":0},{"$f":"Table1[[#This Row],[QTY]]*Table1[[#This Row],[S&L Price]]","v":0}]
[null,null,65,null,"Fun Fact File: Space!",1,"20 Fun Facts About Stars","Library Bound Book","978-1-4824-1013-6",2015,"August 2014","Library","8.500 X 8.500","Author","Kristen Rajczak Nelson",5.0999999999999996,0.5,null,null,"N",null,"Grade 2 - 3","Grade 2 - 5","Have you ever looked up at the stars and wondered what ancient people thought of them? Have you ever wanted to see a star up close to study it? This book addresses both of these questions, and much more. Readers take a fascinating tour of the universe and learn all about the lives of stars, as well as constellations. Brilliant photographs and illustrations help readers understand and enjoy this at-level science text.","English",25.25,18.95,"523.8","32 pp.",{"$f":"Table1[[#This Row],['# Books]]*Table1[[#This Row],[QTY]]","v":0},{"$f":"Table1[[#This Row],[QTY]]*Table1[[#This Row],[S&L Price]]","v":0}]
[null,null,65,null,"Fun Fact File: Space!",1,"20 Fun Facts About Stars","eBook","978-1-4824-1016-7",2015,"August 2014",null,null,"Author","Kristen Rajczak Nelson",5.0999999999999996,0.5,null,null,"N",null,"Grade 2 - 3","Grade 2 - 5","Have you ever looked up at the stars and wondered what ancient people thought of them? Have you ever wanted to see a star up close to study it? This book addresses both of these questions, and much more. Readers take a fascinating tour of the universe and learn all about the lives of stars, as well as constellations. Brilliant photographs and illustrations help readers understand and enjoy this at-level science text.","English",25.25,18.95,"523.8","32 pp.",{"$f":"Table1[[#This Row],['# Books]]*Table1[[#This Row],[QTY]]","v":0},{"$f":"Table1[[#This Row],[QTY]]*Table1[[#This Row],[S&L Price]]","v":0}]
[null,null,65,null,"Fun Fact File: US History!",1,"20 Fun Facts About the Declaration of Independence","Library Bound Book","978-1-4339-9183-7",2014,"August 2013","Library","8.500 X 8.500","Author","Heather Moore Niver",5.9,0.5,30,null,"N",null,"Grade 2 - 3","Grade 2 - 5","The Declaration of Independence is one of the most famous letters in human history. Thomas Jefferson and the other Founding Fathers created this important document to announce their freedom from England. It was one of the driving forces that sparked the Revolutionary War and lead to the formation of the United States. But there’s so much more to learn about this historic document that isn't in typical history books. The age-appropriate text in this book is paired with little-known fun facts, fascinating photographs and illustrations, and helpful graphic organizers to show just how interesting this pivotal document really is.","English",25.25,18.95,"973.3","32 pp.",{"$f":"Table1[[#This Row],['# Books]]*Table1[[#This Row],[QTY]]","v":0},{"$f":"Table1[[#This Row],[QTY]]*Table1[[#This Row],[S&L Price]]","v":0}]
[null,null,65,null,"Fun Fact File: US History!",1,"20 Fun Facts About the Presidency","Interactive eBook","978-1-4339-9192-9",2014,"August 2013",null,null,"Author","Janey Levy",5.5,0.5,28,null,"M",null,"Grade 2 - 3","Grade 2 - 5","Which president had the shortest term, and which was the first to be born in the United States? Which president was the tallest? Who was the shortest? These are just a few of the fun facts readers will find the answers to inside this book. The at-level text is specially designed to make learning about the presidency engaging and fun as well as informative. The fascinating text is augmented with historical images, helpful graphic organizers, and full-color photographs.","English",33.25,24.95,"973.099","32 pp.",{"$f":"Table1[[#This Row],['# Books]]*Table1[[#This Row],[QTY]]","v":0},{"$f":"Table1[[#This Row],[QTY]]*Table1[[#This Row],[S&L Price]]","v":0}]
[null,null,65,null,"Fun Fact File: US History!",1,"20 Fun Facts About the US Flag","eBook","978-1-4339-9196-7",2014,"August 2013",null,null,"Author","Maria Nelson",5.6,0.5,28,null,"M",null,"Grade 2 - 3","Grade 2 - 5","The Stars and Stripes, with its iconic colors and patterns, has long been a symbol of freedom in the United States and all over the world. But the US flag we’re familiar with today has only been around since 1959. Before that, the flag took on many different arrangements. Readers will learn about the many versions of the US flag that came before our current version. Colorful, patriotic photographs aid readers in understanding the text, as do informative graphic organizers.","English",25.25,18.95,"352.23","32 pp.",{"$f":"Table1[[#This Row],['# Books]]*Table1[[#This Row],[QTY]]","v":0},{"$f":"Table1[[#This Row],[QTY]]*Table1[[#This Row],[S&L Price]]","v":0}]
[null,null,65,null,"Fun Fact File: US History!",1,"20 Fun Facts About the US Flag","Interactive eBook","978-1-4339-9197-4",2014,"August 2013",null,null,"Author","Maria Nelson",5.6,0.5,28,null,"M",null,"Grade 2 - 3","Grade 2 - 5","The Stars and Stripes, with its iconic colors and patterns, has long been a symbol of freedom in the United States and all over the world. But the US flag we’re familiar with today has only been around since 1959. Before that, the flag took on many different arrangements. Readers will learn about the many versions of the US flag that came before our current version. Colorful, patriotic photographs aid readers in understanding the text, as do informative graphic organizers.","English",33.25,24.95,"352.23","32 pp.",{"$f":"Table1[[#This Row],['# Books]]*Table1[[#This Row],[QTY]]","v":0},{"$f":"Table1[[#This Row],[QTY]]*Table1[[#This Row],[S&L Price]]","v":0}]
[null,null,65,null,"Fun Fact File: US History!",1,"20 Fun Facts About US Monuments","eBook","978-1-4339-9211-7",2014,"August 2013",null,null,"Author","Heather Moore Niver",6.3,0.5,30,null,"N",null,"Grade 2 - 3","Grade 2 - 5","Countless statutes, sculptures, and structures have been built to celebrate important moments and people in US history. However, some US monuments are structures build before the United States was even a country, and others are landforms produced by natural forces thousands of years ago. The dazzling photographs in this volume are sure to teach and tantalize readers. Age-appropriate text is paired with graphic organizers to help readers get the most from this entertaining guide to US monuments.","English",25.25,18.95,"973","32 pp.",{"$f":"Table1[[#This Row],['# Books]]*Table1[[#This Row],[QTY]]","v":0},{"$f":"Table1[[#This Row],[QTY]]*Table1[[#This Row],[S&L Price]]","v":0}]
[null,null,65,null,"Fun Fact File: World Wonders!",1,"20 Fun Facts About Easter Island","eBook","978-1-4824-0448-7",2014,"January 2014",null,null,"Author","Heather Moore Niver",5,0.5,28,null,"M",null,"Grade 2 - 3","Grade 2 - 5","On an island in the Pacific Ocean more than 1,000 miles from the nearest habitable location, ancient people constructed hundreds of enormous stone heads. No one is sure exactly how they moved the giant statues into place. In fact, no one really knows how people got there in the first place! Readers are sure to enjoy learning about the mystery surrounding Easter Island. Colorful images of the moai, flora, fauna, and more help transport readers to this amazing world wonder.","English",25.25,18.95,"996.18","32 pp.",{"$f":"Table1[[#This Row],['# Books]]*Table1[[#This Row],[QTY]]","v":0},{"$f":"Table1[[#This Row],[QTY]]*Table1[[#This Row],[S&L Price]]","v":0}]
[null,null,65,null,"Fun Fact File: World Wonders!",1,"20 Fun Facts About Stonehenge","Library Bound Book","978-1-4824-0457-9",2014,"January 2014","Library","8.500 X 8.500","Author","Michael Sabatino",null,null,30,null,"N",null,"Grade 2 - 3","Grade 2 - 5","The mysterious megaliths of Stonehenge have long intrigued and mystified people. Even today, opinions on the use and building of Stonehenge still differ. Most agree, however, that Stonehenge is one of the world’s greatest ancient wonders. The detailed history and archaeological evidence provided by this book are sure to engage and entertain readers, and carefully chosen photographs reinforce the text. Illustrations and graphic organizers help readers understand this absorbing topic in even more depth.","English",25.25,18.95,"936.2","32 pp.",{"$f":"Table1[[#This Row],['# Books]]*Table1[[#This Row],[QTY]]","v":0},{"$f":"Table1[[#This Row],[QTY]]*Table1[[#This Row],[S&L Price]]","v":0}]
[null,null,65,null,"Fun Fact File: World Wonders!",1,"20 Fun Facts About Stonehenge","eBook","978-1-4824-0458-6",2014,"January 2014",null,null,"Author","Michael Sabatino",null,null,30,null,"N",null,"Grade 2 - 3","Grade 2 - 5","The mysterious megaliths of Stonehenge have long intrigued and mystified people. Even today, opinions on the use and building of Stonehenge still differ. Most agree, however, that Stonehenge is one of the world’s greatest ancient wonders. The detailed history and archaeological evidence provided by this book are sure to engage and entertain readers, and carefully chosen photographs reinforce the text. Illustrations and graphic organizers help readers understand this absorbing topic in even more depth.","English",25.25,18.95,"936.2","32 pp.",{"$f":"Table1[[#This Row],['# Books]]*Table1[[#This Row],[QTY]]","v":0},{"$f":"Table1[[#This Row],[QTY]]*Table1[[#This Row],[S&L Price]]","v":0}]
[null,null,65,null,"Fun Fact File: World Wonders!",1,"20 Fun Facts About the Colosseum","Interactive eBook","978-1-4824-0464-7",2014,"January 2014",null,null,"Author","Drew Nelson",null,null,28,null,"M",null,"Grade 2 - 3","Grade 2 - 5","For thousands of years, the Roman Colosseum has been a source of entertainment and awe. Ancient Romans flocked to the amphitheater to see gladiatorial fights, exotic animals, and even naval battles. Although it fell into disuse, today people from around the world come to Rome to see this amazing historic structure in person. The colorful and in-depth photographs take readers around and inside the Colosseum, and illustrations and charts help readers make the most of their reading experience.","English",33.25,24.95,"937.6","32 pp.",{"$f":"Table1[[#This Row],['# Books]]*Table1[[#This Row],[QTY]]","v":0},{"$f":"Table1[[#This Row],[QTY]]*Table1[[#This Row],[S&L Price]]","v":0}]
[null,null,65,null,"Fun Fact File: World Wonders!",1,"20 Fun Facts About the Great Wall of China","eBook","978-1-4824-0473-9",2014,"January 2014",null,null,"Author","Therese M. Shea",null,null,28,null,"M",null,"Grade 2 - 3","Grade 2 - 5","The Great Wall of China has been an important symbol of Chinese culture for centuries. While it once served as a form of protection from enemies, today the Great Wall is one of the world’s most thrilling ancient tourist attractions. The informative text is paired with vivid photographs of the different sections of the wall, as well as helpful illustrations and graphic organizers.","English",25.25,18.95,"931","32 pp.",{"$f":"Table1[[#This Row],['# Books]]*Table1[[#This Row],[QTY]]","v":0},{"$f":"Table1[[#This Row],[QTY]]*Table1[[#This Row],[S&L Price]]","v":0}]
[null,null,66,null,"Fun Fact File: Animals!",1,"20 Fun Facts About Bats","Interactive eBook","978-1-4339-7624-7",2012,"January 2012",null,null,"Author","Heather Moore Niver",3.7,0.5,28,26,"M","600L","Grade 2 - 3","Grade 2 - 5","Facts about how bats see in the dark, if bats really drink blood, which type of bat can eat up to 1,000 mosquitoes in an hour, which bat has a tongue longer than its body, and many more will be found inside this book of fun facts about bats. This bat guidebook proves bats aren’t as creepy as many people think. Readers are sure to enjoy the up-close images of bats in the wild.","English",33.25,24.95,"599.4","32 pp.",{"$f":"Table1[[#This Row],['# Books]]*Table1[[#This Row],[QTY]]","v":0},{"$f":"Table1[[#This Row],[QTY]]*Table1[[#This Row],[S&L Price]]","v":0}]
[null,null,66,null,"Fun Fact File: Animals!",1,"20 Fun Facts About Crocodiles","Library Bound Book","978-1-4339-6509-8",2012,"January 2012","Library","8.500 X 8.500","Author","Heather Moore Niver",4.2,0.5,28,26,"L","620L","Grade 2 - 3","Grade 2 - 5","Crocodiles are the strongest and most dangerous reptiles on the planet. They’re also the smartest. They can remember what time animals come to the water to drink every day. Being both big and smart helps crocodiles rule their habitat. These are just a few of the fun facts about crocodiles readers will learn in this volume. Straightforward text is paired with dazzling photographs to give readers the chance to gain knowledge about these deadly creatures like never before.","English",25.25,18.95,"597.98/2","32 pp.",{"$f":"Table1[[#This Row],['# Books]]*Table1[[#This Row],[QTY]]","v":0},{"$f":"Table1[[#This Row],[QTY]]*Table1[[#This Row],[S&L Price]]","v":0}]
[null,null,66,null,"Fun Fact File: Animals!",1,"20 Fun Facts About Dolphins","Interactive eBook","978-1-4339-7628-5",2012,"January 2012",null,null,"Author","Heather Moore Niver",4.2,0.5,28,26,"L","620L","Grade 2 - 3","Grade 2 - 5","Many kinds of very friendly dolphins live in warm waters all around the world. In fact, dolphins are one of the few types of wild animals that seem to like being with people. Even the “killer whale,” the largest of all dolphins, is often tame and friendly around people. Inside, readers will learn many more fun facts about dolphins while seeing vibrant photographs of them in their aquatic homes.","English",33.25,24.95,"599.53","32 pp.",{"$f":"Table1[[#This Row],['# Books]]*Table1[[#This Row],[QTY]]","v":0},{"$f":"Table1[[#This Row],[QTY]]*Table1[[#This Row],[S&L Price]]","v":0}]
[null,null,66,null,"Fun Fact File: Animals!",1,"20 Fun Facts About Penguins","Library Bound Book","978-1-4339-6521-0",2012,"January 2012","Library","8.500 X 8.500","Author","Heather Moore Niver",4,0.5,28,26,"L","610L","Grade 2 - 3","Grade 2 - 5","Penguins have wings but can’t fly. They’re excellent swimmers, and they live where it’s very cold. However, penguins’ ancient relatives were very different. They had feathers and could fly. Some ancient penguins were even about 6 feet tall. Readers will find these fun facts and many more inside this volume. Accompanying the text are fun, captivating photographs of penguins in their natural habitats.","English",25.25,18.95,"598.47","32 pp.",{"$f":"Table1[[#This Row],['# Books]]*Table1[[#This Row],[QTY]]","v":0},{"$f":"Table1[[#This Row],[QTY]]*Table1[[#This Row],[S&L Price]]","v":0}]
[null,null,66,null,"Fun Fact File: Animals!",1,"20 Fun Facts About Sharks","Interactive eBook","978-1-4339-7634-6",2012,"January 2012",null,null,"Author","Heather Moore Niver",4.3,0.5,28,26,"M","610L","Grade 2 - 3","Grade 2 - 5","Sharks are one of nature’s fiercest predators. Sharks also don’t have any bones, and they can lose up to 30,000 teeth in a lifetime. Sharks have to keep swimming all the time in order to keep breathing. Inside this book, readers will discover these and many more fun sharks facts. Amazing photographs of nature’s deadliest creatures in the wild are sure to thrill readers of all ages.","English",33.25,24.95,"597.3","32 pp.",{"$f":"Table1[[#This Row],['# Books]]*Table1[[#This Row],[QTY]]","v":0},{"$f":"Table1[[#This Row],[QTY]]*Table1[[#This Row],[S&L Price]]","v":0}]
[null,null,66,null,"Fun Fact File: Bugs!",6,"Fun Fact File: Bugs!","Library Set","978-1-4339-8256-9",2013,"January 2013","Library","8.500 X 8.500",null,"",null,null,null,null,null,null,"Grade 2 - 3","Grade 2 - 5","It’s hard to hide from bugs—they live just about everywhere on the planet. In fact, more than half of the creatures on Earth are insects. Readers will be entranced by this series—filled with fascinating facts and stunning photographs of Earth’s bodacious bugs. Readers of all ages will enjoy learning about the creepy centipede, the crafty stick bug, and many more. ","English",151.5,113.7,null,"32 pp.",{"$f":"Table1[[#This Row],['# Books]]*Table1[[#This Row],[QTY]]","v":0},{"$f":"Table1[[#This Row],[QTY]]*Table1[[#This Row],[S&L Price]]","v":0}]
[null,null,66,null,"Fun Fact File: Bugs!",1,"20 Fun Facts About Centipedes","Library Bound Book","978-1-4339-8230-9",2013,"January 2013","Library","8.500 X 8.500","Author","Matthew Elkin",null,null,30,22,"N","650L","Grade 2 - 3","Grade 2 - 5","Most people are familiar with the common house centipede. This long-legged bug is often found hiding in dark closets and damp basements. However, the house centipede is just one of many kinds of centipedes living all over the world. Centipedes come in many sizes and colors, but they all have one thing in common—lots of legs. Readers will enjoy the informative and engaging text paired with brilliant photographs of the world’s most interesting centipedes.","English",25.25,18.95,"595.6/2","32 pp.",{"$f":"Table1[[#This Row],['# Books]]*Table1[[#This Row],[QTY]]","v":0},{"$f":"Table1[[#This Row],[QTY]]*Table1[[#This Row],[S&L Price]]","v":0}]
[null,null,66,null,"Fun Fact File: Bugs!",1,"20 Fun Facts About Dragonflies","Interactive eBook","978-1-4339-8239-2",2013,"January 2013",null,null,"Author","Maria Nelson",null,null,28,20,"M","850L","Grade 2 - 3","Grade 2 - 5","Few bugs can fly with the skill and precision of a dragonfly. If you have ever seen dragonflies zigzagging their way trough tall grass near a lake, it can be like watching colorfully costumed ballet dancers on stage. Spectacular photographs show colorful dragonflies soaring and hunting for food. Readers will surely enjoy discovering fascinating facts about dragonflies, including how fast they fly, what they eat, and how baby dragonflies survive underwater.","English",33.25,24.95,"595.7/33","32 pp.",{"$f":"Table1[[#This Row],['# Books]]*Table1[[#This Row],[QTY]]","v":0},{"$f":"Table1[[#This Row],[QTY]]*Table1[[#This Row],[S&L Price]]","v":0}]
[null,null,66,null,"Fun Fact File: Bugs!",1,"20 Fun Facts About Spiders","eBook","978-1-4339-8248-4",2013,"January 2013",null,null,"Author","Therese M. Shea",null,null,28,20,"M","630L","Grade 2 - 3","Grade 2 - 5","Most people know that spiders have eight legs, and that they spin intricate webs. However, many people don’t know that many spiders can smell with their legs, or that spiders make different kinds of silk depending on the job it’s used for. They also come in many shapes and sizes. The smallest can sit on the head of a pin, while the biggest would fill up a dinner plate. Numerous stunning photographs of many kinds of spiders in the wild are sure to delight readers while fun facts keep them engaged.","English",25.25,18.95,"595.4","32 pp.",{"$f":"Table1[[#This Row],['# Books]]*Table1[[#This Row],[QTY]]","v":0},{"$f":"Table1[[#This Row],[QTY]]*Table1[[#This Row],[S&L Price]]","v":0}]
[null,null,66,null,"Fun Fact File: Bugs!",1,"20 Fun Facts About Spiders","Interactive eBook","978-1-4339-8249-1",2013,"January 2013",null,null,"Author","Therese M. Shea",null,null,28,20,"M","630L","Grade 2 - 3","Grade 2 - 5","Most people know that spiders have eight legs, and that they spin intricate webs. However, many people don’t know that many spiders can smell with their legs, or that spiders make different kinds of silk depending on the job it’s used for. They also come in many shapes and sizes. The smallest can sit on the head of a pin, while the biggest would fill up a dinner plate. Numerous stunning photographs of many kinds of spiders in the wild are sure to delight readers while fun facts keep them engaged.","English",33.25,24.95,"595.4","32 pp.",{"$f":"Table1[[#This Row],['# Books]]*Table1[[#This Row],[QTY]]","v":0},{"$f":"Table1[[#This Row],[QTY]]*Table1[[#This Row],[S&L Price]]","v":0}]
[null,null,66,null,"Fun Fact File: Fierce Fish!",1,"20 Fun Facts About Anglerfish","Library Bound Book","978-1-4339-6971-3",2013,"August 2012","Library","8.500 X 8.500","Author","Heather Moore Niver",null,null,34,24,"M",null,"Grade 2 - 3","Grade 2 - 5","With fierce fangs, sharp spines, and beady eyes, anglerfish are monsters of the deep sea. Many even have a glowing lure over their heads to draw prey to them in the dark water. When the prey gets close enough, they attack. This intriguing book takes readers deep under the waves to see these strange and fascinating creatures up close. As creepy as anglerfish are, readers are sure to have fun discovering 20 fun facts about them.","English",25.25,18.95,"597/.62","32 pp.",{"$f":"Table1[[#This Row],['# Books]]*Table1[[#This Row],[QTY]]","v":0},{"$f":"Table1[[#This Row],[QTY]]*Table1[[#This Row],[S&L Price]]","v":0}]
[null,null,66,null,"Fun Fact File: Fierce Fish!",1,"20 Fun Facts About Barracudas","eBook","978-1-4339-6978-2",2013,"August 2012",null,null,"Author","Heather Moore Niver",null,null,34,34,"N",null,"Grade 2 - 3","Grade 2 - 5","The barracuda is a long, slender fish that swims with power and grace. However, it’s also strong and aggressive. Barracudas use two sets of razor-sharp teeth to catch prey and tear them to pieces. Although they usually feed on smaller fish, barracudas fearsome teeth allow them to chop larger fish in half. The fun, informative text in this book is paired with stunning photographs to give readers a unique perspective of these frightening fish. ","English",25.25,18.95,"597/.7","32 pp.",{"$f":"Table1[[#This Row],['# Books]]*Table1[[#This Row],[QTY]]","v":0},{"$f":"Table1[[#This Row],[QTY]]*Table1[[#This Row],[S&L Price]]","v":0}]
[null,null,66,null,"Fun Fact File: Fierce Fish!",1,"20 Fun Facts About Moray Eels","Library Bound Book","978-1-4339-6983-6",2013,"August 2012","Library","8.500 X 8.500","Author","Heather Moore Niver",null,null,34,24,"M",null,"Grade 2 - 3","Grade 2 - 5","Moray eels hide their long, slippery bodies among coral reefs in tropical waters all over the world. The sight of a moray eel’s head peeking out of a crevice —with its beady eyes and sharp teeth—is enough to make prey turn and flee. The amazing, full-color photographs inside this book provide readers with an up-close view of these fish. The fun facts are sure to educate and entertain fish enthusiasts of any age.","English",25.25,18.95,"597/.43","32 pp.",{"$f":"Table1[[#This Row],['# Books]]*Table1[[#This Row],[QTY]]","v":0},{"$f":"Table1[[#This Row],[QTY]]*Table1[[#This Row],[S&L Price]]","v":0}]
[null,null,66,null,"Fun Fact File: Fierce Fish!",1,"20 Fun Facts About Moray Eels","eBook","978-1-4339-6986-7",2013,"August 2012",null,null,"Author","Heather Moore Niver",null,null,34,24,"M",null,"Grade 2 - 3","Grade 2 - 5","Moray eels hide their long, slippery bodies among coral reefs in tropical waters all over the world. The sight of a moray eel’s head peeking out of a crevice —with its beady eyes and sharp teeth—is enough to make prey turn and flee. The amazing, full-color photographs inside this book provide readers with an up-close view of these fish. The fun facts are sure to educate and entertain fish enthusiasts of any age.","English",25.25,18.95,"597/.43","48 pp.",{"$f":"Table1[[#This Row],['# Books]]*Table1[[#This Row],[QTY]]","v":0},{"$f":"Table1[[#This Row],[QTY]]*Table1[[#This Row],[S&L Price]]","v":0}]
[null,null,66,null,"Fun Fact File: Fierce Fish!",1,"20 Fun Facts About Stingrays","Library Bound Book","978-1-4339-6991-1",2013,"August 2012","Library","8.500 X 8.500","Author","Heather Moore Niver",null,null,34,24,"M",null,"Grade 2 - 3","Grade 2 - 5","Stingray’s glide gracefully through the water; they seem like alien creatures with their wide, flat bodies and slender tails. They drift to the sea floor and use their flat bodies to stir up the sand and bury themselves. Many stingrays use their deadly stingers to catch prey. Some have powerful mouths for crushing shells. Astonishing photographs allow readers to see these fierce fish in their natural habitat. ","English",25.25,18.95,"597.3/5","48 pp.",{"$f":"Table1[[#This Row],['# Books]]*Table1[[#This Row],[QTY]]","v":0},{"$f":"Table1[[#This Row],[QTY]]*Table1[[#This Row],[S&L Price]]","v":0}]
[null,null,67,null,"100 Facts You Should Know",25,"100 Facts You Should Know","Library Set","978-1-4824-5033-0",2017,"August 2016","Library","8.500 X 11.00",null,"",null,null,null,null,null,null,"Grade 4 - 5","Grade 4 - 6","Take 100 super-fun facts, numerous engaging activities, and illustrative graphics and photographs and put them all in one colorful book. That describes each remarkable volume in this popular collection. The most high-interest history, social studies, and science topics are chosen for their appeal, as well as for their connection to curricula. Whether readers are learning about their favorite animals, an ancient culture, or about the solar system, they’ll be introduced to the most essential—and accessible—concepts and vocabulary. Visual aids, quizzes, and projects throughout each book encourage further consideration and reflection.","English",798.75,598.75,null,"48 pp.",{"$f":"Table1[[#This Row],['# Books]]*Table1[[#This Row],[QTY]]","v":0},{"$f":"Table1[[#This Row],[QTY]]*Table1[[#This Row],[S&L Price]]","v":0}]
[null,null,67,null,"100 Facts You Should Know",1,"Bears","eBook","978-1-4824-3193-3",2016,"August 2015",null,null,"Author","Camilla De La Bédoyère",null,null,44,null,"T",null,"Grade 4 - 5","Grade 4 - 6","There are many reasons why bears are among the most popular exhibits in zoos. These powerful mammals can seem simultaneously adorable and dangerous. This fact-filled volume offers much more knowledge than a bear lover could find in a zoo. Besides valuable scientific information about the eight species of bears remaining in the world, their habitats, life cycles, diet, and more, readers will also find out about species that are now extinct such as Arctodus, a towering bear that measured over 10 feet (3 m) in height! Colorful photographs, illustrations, and diagrams supplement this impressive collection of bear facts.","English",31.95,23.95,"599.78","48 pp.",{"$f":"Table1[[#This Row],['# Books]]*Table1[[#This Row],[QTY]]","v":0},{"$f":"Table1[[#This Row],[QTY]]*Table1[[#This Row],[S&L Price]]","v":0}]
[null,null,67,null,"100 Facts You Should Know",1,"Dinosaurs","Library Bound Book","978-1-4824-3196-4",2016,"August 2015","Library","8.500 X 11.00","Author","Steve Parker",null,null,40,null,"S",null,"Grade 4 - 5","Grade 4 - 6","The \"Age of Dinosaurs\" lasted from about 230 million to 65 million years ago. And yet, these formidable reptiles continue to captivate us even today. One hundred high-interest facts about the extinct creatures called dinosaurs cover many topics, such as evolution, adaptations, and fossils, and many species, including Spinosaurus, Tyrannosaurus rex, and Stegosaurus. Fun quizzes, clever crafts and activities, beneficial diagrams, and vivid photographs and illustrations keep readers actively engaged as they turn the colorful pages. This attention-grabbing volume is a must-read in any science collection.","English",31.95,23.95,"567.9","48 pp.",{"$f":"Table1[[#This Row],['# Books]]*Table1[[#This Row],[QTY]]","v":0},{"$f":"Table1[[#This Row],[QTY]]*Table1[[#This Row],[S&L Price]]","v":0}]
[null,null,67,null,"100 Facts You Should Know",1,"Horses and Ponies","eBook","978-1-4824-3201-5",2016,"August 2015",null,null,"Author","Camilla De La Bédoyère",null,null,44,null,"T",null,"Grade 4 - 5","Grade 4 - 6","The graceful beauty and energy of horses have long attracted people. In fact, horses have been domesticated for thousands of years. Horse lovers will find everything they want to know in this high-interest book, including the differences between horses and ponies, what horse hooves are made of, and the different gaits of a moving horse. Numerous equine vocabulary words are defined, such as colt, filly, foal, and mare. Readers will also learn about the evolution of horses and ponies, competitions, and grooming and care. A bright design and varied text elements, such as diagrams, activities, and quizzes, augment this informative volume.","English",31.95,23.95,"636.1","48 pp.",{"$f":"Table1[[#This Row],['# Books]]*Table1[[#This Row],[QTY]]","v":0},{"$f":"Table1[[#This Row],[QTY]]*Table1[[#This Row],[S&L Price]]","v":0}]
[null,null,67,null,"100 Facts You Should Know",1,"Knights and Castles","Library Bound Book","978-1-4824-2175-0",2015,"January 2015","Library","8.500 X 11.00","Author","Jane Walker",null,null,40,null,"S",null,"Grade 4 - 5","Grade 4 - 6","For those who've always wanted to live in a castle or become a knight, this engaging text presents 100 fun facts about these high-interest topics. Readers will find out what it was like to live in the Middle Ages, what it took to become a knight, and what happened on the battlefield. They'll love learning about the famous knights of fact and fiction as well as discovering the ins and outs of medieval castles, some of which are still standing today. Fun quizzes and colorful illustrations enhance the well-researched text and will inspire readers to find out more about this beguiling time period.","English",31.95,23.95,"940.1","48 pp.",{"$f":"Table1[[#This Row],['# Books]]*Table1[[#This Row],[QTY]]","v":0},{"$f":"Table1[[#This Row],[QTY]]*Table1[[#This Row],[S&L Price]]","v":0}]
[null,null,67,null,"100 Facts You Should Know",1,"Monkeys and Apes","Library Bound Book","978-1-4824-3208-4",2016,"August 2015","Library","8.500 X 11.00","Author","Camilla De La Bédoyère",null,null,40,null,"S",null,"Grade 4 - 5","Grade 4 - 6","We should learn as much as we can about our closest relatives in the animal world: apes, monkeys, and other primates. Throughout this comprehensive book, readers will discover the differences and similarities among different species of primates through 100 facts grouped by topic and their accompanying fun-fact boxes, diagrams, activities, and quizzes. Beautiful photographs of these amazing animals in their native habitats, including big-eyed tarsiers clinging to trees and teeth-baring baboons displaying their aggression, aid readers in visualizing the many important zoological details.","English",31.95,23.95,"599.8","48 pp.",{"$f":"Table1[[#This Row],['# Books]]*Table1[[#This Row],[QTY]]","v":0},{"$f":"Table1[[#This Row],[QTY]]*Table1[[#This Row],[S&L Price]]","v":0}]
[null,null,67,null,"100 Facts You Should Know",1,"Monkeys and Apes","eBook","978-1-4824-3209-1",2016,"August 2015",null,null,"Author","Camilla De La Bédoyère",null,null,40,null,"S",null,"Grade 4 - 5","Grade 4 - 6","We should learn as much as we can about our closest relatives in the animal world: apes, monkeys, and other primates. Throughout this comprehensive book, readers will discover the differences and similarities among different species of primates through 100 facts grouped by topic and their accompanying fun-fact boxes, diagrams, activities, and quizzes. Beautiful photographs of these amazing animals in their native habitats, including big-eyed tarsiers clinging to trees and teeth-baring baboons displaying their aggression, aid readers in visualizing the many important zoological details.","English",31.95,23.95,"599.8","48 pp.",{"$f":"Table1[[#This Row],['# Books]]*Table1[[#This Row],[QTY]]","v":0},{"$f":"Table1[[#This Row],[QTY]]*Table1[[#This Row],[S&L Price]]","v":0}]
[null,null,67,null,"100 Facts You Should Know",1,"Oceans","Library Bound Book","978-1-4824-1465-3",2015,"August 2014","Library","8.500 X 11.00","Author","CLARE OLIVER",null,null,40,null,"S",null,"Grade 4 - 5","Grade 4 - 6","Whether readers love a dip in the ocean or are fascinated by marine life, the information in this book will entertain, inform, and keep them turning pages. They'll learn that leopard seals sing in their sleep and that the Great Barrier Reef can be seen from space. Great action photographs and colorful illustrations make this extraordinary collection of facts come alive. Penguins, dolphins, whales, clams, sharks, and even pirates are some of the high-interest topics in this fact-filled and fun-filled dive into all things ocean.","English",31.95,23.95,"551.46","48 pp.",{"$f":"Table1[[#This Row],['# Books]]*Table1[[#This Row],[QTY]]","v":0},{"$f":"Table1[[#This Row],[QTY]]*Table1[[#This Row],[S&L Price]]","v":0}]
[null,null,67,null,"100 Facts You Should Know",1,"Pirates","eBook","978-1-4824-2184-2",2015,"January 2015",null,null,"Author","Andrew Langley",null,null,40,null,"S",null,"Grade 4 - 5","Grade 4 - 6","Many of us gathered our knowledge of pirates from books and movies. But real-life pirates were even more savage and dangerous. Through 100 facts, readers can sneak aboard various pirate ships, from ancient Greece to modern day. They'll discover pirate hideouts and how they hid their treasures. They'll learn about famous pirates, such as Black Bart, Edward Teach, Mary Read, Grace O'Malley, and others. Picture puzzles, \"I Don't Believe It!\" fact boxes, and instructive and amusing illustrations present an engrossing view of life on a pirate ship as well as a unique glimpse into several time periods of history.","English",31.95,23.95,"910.4","48 pp.",{"$f":"Table1[[#This Row],['# Books]]*Table1[[#This Row],[QTY]]","v":0},{"$f":"Table1[[#This Row],[QTY]]*Table1[[#This Row],[S&L Price]]","v":0}]
[null,null,67,null,"100 Facts You Should Know",1,"Science","eBook","978-1-4824-1357-1",2015,"August 2014",null,null,"Author","Steve Parker",null,null,44,null,"T",null,"Grade 4 - 5","Grade 4 - 6","Science buffs will find the topics that pique their curiosity in this book that spans the science spectrum, including simple machines, elements, computers, and sound, electrical, and light energy. Fun, easy projects demonstrate key concepts, while quizzes test reading comprehension. Bright diagrams, photographs, and illustrations offer support for each fact and contribute to the appeal of this wide-ranging reference.","English",31.95,23.95,"500","48 pp.",{"$f":"Table1[[#This Row],['# Books]]*Table1[[#This Row],[QTY]]","v":0},{"$f":"Table1[[#This Row],[QTY]]*Table1[[#This Row],[S&L Price]]","v":0}]
[null,null,67,null,"100 Facts You Should Know",1,"Shipwrecks","Library Bound Book","978-1-4824-2189-7",2015,"January 2015","Library","8.500 X 11.00","Author","Fiona Macdonald",null,null,40,null,"S",null,"Grade 4 - 5","Grade 4 - 6","Stories of shipwrecks are intriguing, often somber, reminders of the power the sea wields. Its waters destroy even the most invincible vessels. Ships on the seafloor also preserve historic relics. Even today, people can find treasures aboard ships that sunk hundreds of years ago! This in-depth book takes readers under the surface and into the fascinating realm of shipwrecks. Through 100 facts, a variety of topics are explored, including how wrecks are found and some tales of the most famous and mysterious wrecks of all. Additional fact boxes, activities, and diagrams aid in comprehension and contribute to this absorbing subject.","English",31.95,23.95,"910.4","48 pp.",{"$f":"Table1[[#This Row],['# Books]]*Table1[[#This Row],[QTY]]","v":0},{"$f":"Table1[[#This Row],[QTY]]*Table1[[#This Row],[S&L Price]]","v":0}]
[null,null,67,null,"100 Facts You Should Know",1,"Volcanoes","eBook","978-1-4824-1354-0",2015,"August 2014",null,null,"Author","Chris Oxlade",null,null,40,null,"S",null,"Grade 4 - 5","Grade 4 - 6","Few natural events are as formidable and fascinating as an erupting volcano. Volcanoes are reminders of the constant processes taking place below the surface of Earth. While readers may have heard of the eruptions of Mount Vesuvius and Mount St. Helens, they may not know that Yellowstone National Park is due to erupt, too! The mechanics of plate tectonics, the kinds of volcanoes, historical eruptions, and geothermal energy are the diverse topics of these 100 facts. Awe-inspiring photographs and fun quizzes add to the valuable information.  ","English",31.95,23.95,"551.21","48 pp.",{"$f":"Table1[[#This Row],['# Books]]*Table1[[#This Row],[QTY]]","v":0},{"$f":"Table1[[#This Row],[QTY]]*Table1[[#This Row],[S&L Price]]","v":0}]
[null,null,67,null,"100 Facts You Should Know",1,"Whales and Dolphins","Library Bound Book","978-1-4824-3212-1",2016,"August 2015","Library","8.500 X 11.00","Author","Steve Parker",null,null,44,null,"T",null,"Grade 4 - 5","Grade 4 - 6","Whales and dolphins are part of a group of marine mammals called cetaceans. Many species within this group are truly amazing, thanks to their sheer size, surprising intelligence, or bizarre adaptations. Readers of this in-depth volume will learn about these topics and more, including why narwhals fence with their tusks and the role of echolocation in cetacean sea life. Other notable issues including conservation are also included among the 100 essential facts in this enjoyable book, filled with fun photographs, illustrations, diagrams, activities, and quizzes.","English",31.95,23.95,"599.5","32 pp.",{"$f":"Table1[[#This Row],['# Books]]*Table1[[#This Row],[QTY]]","v":0},{"$f":"Table1[[#This Row],[QTY]]*Table1[[#This Row],[S&L Price]]","v":0}]
[null,null,68,null,"Amazing Origami (Set of 24 Titles)",24,"Amazing Origami (Set of 24 Titles)","Library Set","978-1-4824-5850-3",2017,"January 2017","Library","8.500 X 11.00",null,"",null,null,null,null,null,null,"Grade 2 - 3","Grade 2 - 5","Animals, monsters, magic tricks, games, and decorations for the holidays—no matter the subject, the ancient art of origami can be fun for experts and those new to origami alike. Each title in this growing set begins with an introduction to the basic folds needed to create each origami project. The easy-to-follow instructions make these craft projects doable by classrooms full of students as well as individual origami artists looking to pass a rainy afternoon. Full-color photographs accompany each project step to help readers make the correct folds.","English",638.4,478.8,null,"32 pp.",{"$f":"Table1[[#This Row],['# Books]]*Table1[[#This Row],[QTY]]","v":0},{"$f":"Table1[[#This Row],[QTY]]*Table1[[#This Row],[S&L Price]]","v":0}]
[null,null,68,null,"Amazing Origami (NEW Set of 6 Titles)",6,"Amazing Origami (NEW Set of 6 Titles)","Library Set","978-1-4824-5848-0",2017,"January 2017","Library","8.500 X 11.00",null,"",null,null,null,null,null,null,"Grade 2 - 3","Grade 2 - 5","In origami, a square of paper means endless possibilities. Within a few minutes, the right folds can create animals as large as a lion or rhino, and one as small as a tree frog. This latest installment in the Gareth Stevens origami library appeals to readers who love both animals and making art, including origami projects that create animals from the jungle, desert, woodlands, ocean, and arctic. Rated from easy to hard, the projects in this series can make an origami artists out of readers of all abilities!","English",159.6,119.7,null,"32 pp.",{"$f":"Table1[[#This Row],['# Books]]*Table1[[#This Row],[QTY]]","v":0},{"$f":"Table1[[#This Row],[QTY]]*Table1[[#This Row],[S&L Price]]","v":0}]
[null,null,68,null,"Amazing Origami",1,"Jungle Origami","Library Bound Book","978-1-4824-5930-2",2017,"January 2017","Library","8.500 X 11.00","Author","Joe Fullman",null,null,null,null,"L",null,"Grade 2 - 3","Grade 2 - 5","From tigers to butterflies, jungle animals are some of the most beautiful in the world. They’re almost as beautiful when fashioned out of paper through origami! In this book, readers choose from a gorilla, frog, parrot, and more jungle animals to practice their paper-folding skills. An introduction shows common folds and explains terms used in the book to help new origamists complete their first project. Each craft contains step-by-step instructions and full-color photographs of each step to guide readers through the folds to create their animal.","English",26.6,19.95,"736.982--dc23","32 pp.",{"$f":"Table1[[#This Row],['# Books]]*Table1[[#This Row],[QTY]]","v":0},{"$f":"Table1[[#This Row],[QTY]]*Table1[[#This Row],[S&L Price]]","v":0}]
[null,null,68,null,"Amazing Origami",1,"Ocean Origami","eBook","978-1-4824-5935-7",2017,"January 2017",null,null,"Author","Joe Fullman",null,null,null,null,"L",null,"Grade 2 - 3","Grade 2 - 5","Blue whales and squid aren’t usually seen on a trip to the beach. Using the ancient art of paper folding, readers can have these and other ocean animals nearby any time they want! Whether new to origami or an old pro, readers can choose a project appropriate for their skill level. A brief introduction provides the folds readers need to know and each project is ranked easy, medium, or hard to further help them choose the right one to start with. Step-by-step instructions accompanied by full-color photographs guide readers through each craft for hours of crafting fun.","English",26.6,19.95,"736.982--dc23","32 pp.",{"$f":"Table1[[#This Row],['# Books]]*Table1[[#This Row],[QTY]]","v":0},{"$f":"Table1[[#This Row],[QTY]]*Table1[[#This Row],[S&L Price]]","v":0}]
[null,null,69,null,"Amazing Origami",1,"Action Origami","eBook","978-1-4824-4174-1",2016,"January 2016",null,null,"Author","Joe Fullman",null,null,null,null,"L",null,"Grade 2 - 3","Grade 2 - 5","Origami doesn’t need to be a stationary piece of art. From a hen that can lay an egg to a beating heart, the projects in this book make origami interactive even after it’s been created! Step-by-step instructions take readers through a series of projects, each labeled easy, medium, or hard to guide origamists to the crafts appropriate for their folding skill. Full-color photographs introduce the basic origami techniques as well as add a visual reference for each step in the projects.","English",26.6,19.95,"736’.982—d23","32 pp.",{"$f":"Table1[[#This Row],['# Books]]*Table1[[#This Row],[QTY]]","v":0},{"$f":"Table1[[#This Row],[QTY]]*Table1[[#This Row],[S&L Price]]","v":0}]
[null,null,69,null,"Amazing Origami",1,"Floating Origami","Library Bound Book","978-1-4824-4167-3",2016,"January 2016","Library","8.500 X 11.00","Author","Joe Fullman",null,null,null,null,"L",null,"Grade 2 - 3","Grade 2 - 5","For many, the fun of origami projects is in the folding. However, the crafts in this book provide tons of fun even after they’re complete—they float! Use an origami canoe to carry a message to the middle of a lake, or play with a paper duck in the bathtub. Readers follow a series of steps to transform a square of paper into many cool floating origami creations, including a lotus flower. An introductory section highlights the basic folds and terms readers need to know and full-color photographs add further guidance to each step.","English",26.6,19.95,"736’.982—d23","32 pp.",{"$f":"Table1[[#This Row],['# Books]]*Table1[[#This Row],[QTY]]","v":0},{"$f":"Table1[[#This Row],[QTY]]*Table1[[#This Row],[S&L Price]]","v":0}]
[null,null,69,null,"Amazing Origami",1,"Origami Birds and Butterflies","eBook","978-1-4339-9647-4",2014,"August 2013",null,null,"Author","Lisa Miles",null,null,24,20,"L",null,"Grade 2 - 3","Grade 2 - 5","Beautiful origami birds and butterflies can be more than just short art projects—they can be lovely decorations, too! Readers will love creating their own art through step-by-step instructions with helpful pictures. An overview to common folds and origami techniques will introduce readers to the art of paper folding before they begin creating swans, doves, and butterflies out of colored paper. Full-color photographs of each delicate creature further draw readers in while they learn about each in accompanying fact boxes.","English",26.6,19.95,"736","32 pp.",{"$f":"Table1[[#This Row],['# Books]]*Table1[[#This Row],[QTY]]","v":0},{"$f":"Table1[[#This Row],[QTY]]*Table1[[#This Row],[S&L Price]]","v":0}]
[null,null,69,null,"Amazing Origami",1,"Origami Farm Animals","Library Bound Book","978-1-4339-9652-8",2014,"August 2013","Library","8.500 X 11.00","Author","Lisa Miles",null,null,24,20,"L",null,"Grade 2 - 3","Grade 2 - 5","Farm animals are some of the most familiar members of the animal kingdom. They’re also fun to make using the art of origami! Readers will learn basic folding techniques and common bases while creating ducks, pigs, roosters, and more out of paper. Fun tidbits about each animal accompany the step-by-step instructions and colorful photographs of each real animal—and its origami lookalike. Readers will progress from easy to hard folding projects and amaze their friends and family with their self-supporting paper art!","English",26.6,19.95,"736","32 pp.",{"$f":"Table1[[#This Row],['# Books]]*Table1[[#This Row],[QTY]]","v":0},{"$f":"Table1[[#This Row],[QTY]]*Table1[[#This Row],[S&L Price]]","v":0}]
[null,null,69,null,"Amazing Origami",1,"Origami Holidays","Library Bound Book","978-1-4824-2200-9",2015,"January 2015","Library","8.500 X 11.00","Author","Catherine Ard",null,null,24,null,"L",null,"Grade 2 - 3","Grade 2 - 5","Holidays are some of the most creative times of the year. Young artists often want to celebrate using their creations. This high-interest book will allow readers and artists alike to start their festivities with the Japanese paper folding art of origami. Cute Easter chicks, spooky Halloween skulls, and clever Christmas stockings are some of the inventive projects they'll want to try. They'll learn the basic folds and techniques of paper folding and build upon their skills until they can complete the most challenging project. Origami is for everyone!","English",26.6,19.95,"736.982","32 pp.",{"$f":"Table1[[#This Row],['# Books]]*Table1[[#This Row],[QTY]]","v":0},{"$f":"Table1[[#This Row],[QTY]]*Table1[[#This Row],[S&L Price]]","v":0}]
[null,null,69,null,"Amazing Origami",1,"Origami Holidays","eBook","978-1-4824-2258-0",2015,"January 2015",null,null,"Author","Catherine Ard",null,null,24,null,"L",null,"Grade 2 - 3","Grade 2 - 5","Holidays are some of the most creative times of the year. Young artists often want to celebrate using their creations. This high-interest book will allow readers and artists alike to start their festivities with the Japanese paper folding art of origami. Cute Easter chicks, spooky Halloween skulls, and clever Christmas stockings are some of the inventive projects they'll want to try. They'll learn the basic folds and techniques of paper folding and build upon their skills until they can complete the most challenging project. Origami is for everyone!","English",26.6,19.95,"736.982","32 pp.",{"$f":"Table1[[#This Row],['# Books]]*Table1[[#This Row],[QTY]]","v":0},{"$f":"Table1[[#This Row],[QTY]]*Table1[[#This Row],[S&L Price]]","v":0}]
[null,null,69,null,"Amazing Origami",1,"Origami on the Move","Library Bound Book","978-1-4824-2202-3",2015,"January 2015","Library","8.500 X 11.00","Author","Catherine Ard",null,null,24,null,"L",null,"Grade 2 - 3","Grade 2 - 5","Imagine turning a flat piece of paper into a car, bus, boat, or another vehicle. It's not that hard when an origami artist has this easy-to-follow guide at their fingertips. Each activity is presented with introductory text and numbered instructions supported by visual aids. There are even different levels of activities, so readers can choose their challenge. These hands-on projects will attract and motivate all readers and inspire them to explore more about the art of paper folding.","English",26.6,19.95,"736.982","32 pp.",{"$f":"Table1[[#This Row],['# Books]]*Table1[[#This Row],[QTY]]","v":0},{"$f":"Table1[[#This Row],[QTY]]*Table1[[#This Row],[S&L Price]]","v":0}]
[null,null,69,null,"Amazing Origami",1,"Origami Planes","eBook","978-1-4824-2265-8",2015,"January 2015",null,null,"Author","Catherine Ard",null,null,24,null,"L",null,"Grade 2 - 3","Grade 2 - 5","The angles and curves of aircraft are paramount components in their flight. Airplane enthusiasts will love the action photographs of their favorite planes and then creating their own with some paper and the art of origami. After learning just a few kinds of folds, they can produce their own models, including an orbiter, a stunt plane, and a spy aircraft. Accessible directions accompanied by labeled illustrations make this book a fantastic introduction to the revered Japanese art form.","English",26.6,19.95,"736.982","32 pp.",{"$f":"Table1[[#This Row],['# Books]]*Table1[[#This Row],[QTY]]","v":0},{"$f":"Table1[[#This Row],[QTY]]*Table1[[#This Row],[S&L Price]]","v":0}]
[null,null,69,null,"Amazing Origami",1,"Origami Space","Library Bound Book","978-1-4824-2204-7",2015,"January 2015","Library","8.500 X 11.00","Author","Catherine Ard",null,null,24,null,"L",null,"Grade 2 - 3","Grade 2 - 5","Future engineers will love using their hands to create the space-related projects in this fun book, including a rocket, a space shuttle, and even an alien and its spacecraft. They'll be amazed that a simple piece of paper can transform into such cool shapes, all through the Japanese art of paper folding. Numerous visual aids and thoughtfully explained directions guide readers through different challenges. The folds and methods they'll learn will help them establish a solid understanding for further origami endeavors. Science and art collide in this accessible and entertaining activity guide.","English",26.6,19.95,"736.982","32 pp.",{"$f":"Table1[[#This Row],['# Books]]*Table1[[#This Row],[QTY]]","v":0},{"$f":"Table1[[#This Row],[QTY]]*Table1[[#This Row],[S&L Price]]","v":0}]
[null,null,69,null,"Amazing Origami",1,"Origami Wild Animals","Library Bound Book","978-1-4339-9664-1",2014,"August 2013","Library","8.500 X 11.00","Author","Lisa Miles",null,null,24,20,"L",null,"Grade 2 - 3","Grade 2 - 5","Wild animals have some cool physical characteristics. A giraffe’s long neck, a snake’s slithery body, and a panda’s black-and-white coat are all on display when readers create them using the folding techniques of origami! Including an introduction to basic folds and common paper-art bases, step-by-step instructions will guide readers through making origami wild animals. Pictures illustrate each step of the process so readers know just what to do. Ranked from easy to hard, the projects will engage readers with cool facts about each featured animal and amazing full-color photographs.","English",26.6,19.95,"736","32 pp.",{"$f":"Table1[[#This Row],['# Books]]*Table1[[#This Row],[QTY]]","v":0},{"$f":"Table1[[#This Row],[QTY]]*Table1[[#This Row],[S&L Price]]","v":0}]
[null,null,70,null,"How to Draw Zentangle® Art",1,"Drawing Zentangle® Animals","Library Bound Book","978-1-5382-0715-4",2018,"August 2017","Library","8.500 X 11.00","Author, Illustrated by","Catherine Ard, Hannah Geddes",null,null,null,null,"M",null,"Grade 3","Grade 3 - 5","The animal kingdom is full of fascinating textures, patterns, and shapes. This Zentangle® guide teaches readers how to tap into nature’s beauty through simple design. Readers will learn basic Zentangle® patterns they can mix and match to create uniquely tangled animals. Up-close visuals teach readers complex patterns in small, easy chunks. Step-by-step instructions show readers how to divide animal outlines into smaller shapes. They’ll learn how to use repetitive patterns to create different looks, such as scales for a crocodile or funky jaguar fur. This peaceful art form allows readers to relax as they doodle. They’ll be amazed at the intricate animals they create using repetitive patterns.","English",26.6,19.95,"741.201’9--dc23","32 pp.",{"$f":"Table1[[#This Row],['# Books]]*Table1[[#This Row],[QTY]]","v":0},{"$f":"Table1[[#This Row],[QTY]]*Table1[[#This Row],[S&L Price]]","v":0}]
[null,null,70,null,"How to Draw Zentangle® Art",1,"Drawing Zentangle® Bugs and Butterflies","eBook","978-1-5382-0842-7",2018,"August 2017",null,null,"Author, Illustrated by","Catherine Ard, Hannah Geddes",null,null,null,null,"M",null,"Grade 3","Grade 3 - 5","Billions of insects buzz, swoop, and crawl all over the world, but we rarely take the time to notice their bizarre beauty. This Zentangle® guide uses the strange shapes of bees, butterflies, stage beetles, and other bugs as the basis for beautiful designs. Step-by-step instructions help readers divide the outlines of these unusual creatures into smaller shapes. Readers learn basic Zentangle® patterns they can mix and match as they fill in their insects. They’ll use essential art techniques, such as shading, to make their creatures pop off the page. This therapeutic art form relaxes readers as they doodle unique creations. They’ll be thrilled as patterns build on each other to create intricate insects.","English",26.6,19.95,"741.201’9--dc23","32 pp.",{"$f":"Table1[[#This Row],['# Books]]*Table1[[#This Row],[QTY]]","v":0},{"$f":"Table1[[#This Row],[QTY]]*Table1[[#This Row],[S&L Price]]","v":0}]
[null,null,70,null,"How to Draw Zentangle® Art",1,"Drawing Zentangle® Holidays","eBook","978-1-5382-0712-3",2018,"August 2017",null,null,"Author, Illustrated by","Catherine Ard, Hannah Geddes",null,null,null,null,"M",null,"Grade 3","Grade 3 - 5","Every holiday is full of special symbols and decorations, and this Zentangle® guide teaches readers how to bring design into the festivities. Step-by-step instructions help readers divide holiday shapes, such as jack-o-lanterns, Christmas trees, and Easter chicks, into smaller parts. Readers will learn basic Zentangle® designs they can mix and match in unique ways as they doodle each holiday symbol. Up-close visuals help readers master patterns in simple steps. This calming exercise is a perfect way to relax any time of year, and readers will love the elaborate decorative art they are able to create following these engaging instructions.","English",26.6,19.95,"741.201’9--dc23","32 pp.",{"$f":"Table1[[#This Row],['# Books]]*Table1[[#This Row],[QTY]]","v":0},{"$f":"Table1[[#This Row],[QTY]]*Table1[[#This Row],[S&L Price]]","v":0}]
[null,null,70,null,"How to Draw Zentangle® Art",1,"Drawing Zentangle® Sea Life","Library Bound Book","978-1-5382-0719-2",2018,"August 2017","Library","8.500 X 11.00","Author, Illustrated by","Catherine Ard, Hannah Geddes",null,null,null,null,"M",null,"Grade 3","Grade 3 - 5","Sea creatures are some of the most bizarre and beautiful life-forms on our planet. Readers will learn to create Zentangle® seals, jellyfish, dolphins and other marine creatures that look as intricately gorgeous as their living counterparts. This hands-on guide introduces readers to basic Zentangle® patterns they can mix and match in original designs. Simple step-by-step instructions show readers a basic outline for each creature, how to divide into smaller shapes, and suggested patterns. A therapeutic art form, Zentangle® will give readers a sense of peace as they doodle original works. They’ll be amazed at how combining patterns can lead to complex, sea-inspired designs.","English",26.6,19.95,"741.201’9--dc23","32 pp.",{"$f":"Table1[[#This Row],['# Books]]*Table1[[#This Row],[QTY]]","v":0},{"$f":"Table1[[#This Row],[QTY]]*Table1[[#This Row],[S&L Price]]","v":0}]
[null,null,71,null,"Handmade Holiday Crafts",1,"Handmade Easter Crafts","Library Bound Book","978-1-4824-6156-5",2017,"January 2017","Library","8.500 X 11.00","Author","Ruth Owen",null,null,null,null,"L",null,"Grade 3","Grade 3 - 6","Instead of wood or plastic, imagine a woven Easter basket made of duct tape! Using materials from around the house, including recycled items, the crafts in this book are sure to make preparing for Easter even more fun. Readers are guided by detailed step-by-step instructions to create table centerpieces for Easter dinner, try great twists on traditional painted eggs, and more. Spring can be a rainy time of year, but these Easter crafts can help readers pass afternoons inside with creativity, imagination, and practice reading and following directions.","English",26.6,19.95,"745.594’1--dc23","32 pp.",{"$f":"Table1[[#This Row],['# Books]]*Table1[[#This Row],[QTY]]","v":0},{"$f":"Table1[[#This Row],[QTY]]*Table1[[#This Row],[S&L Price]]","v":0}]
[null,null,71,null,"Handmade Holiday Crafts",1,"Handmade St. Patrick's Day Crafts","eBook","978-1-4824-6138-1",2017,"January 2017",null,null,"Author","Ruth Owen",null,null,null,null,"L",null,"Grade 3","Grade 3 - 6","There’s more to making St. Patrick’s Day crafts than the color green! Of course, this craft book with a St. Patrick’s Day theme features plenty of green, but readers are also led through making shamrock necklaces and bracelets, leprechaun hats filled with candy gold coins, and a “reach the rainbow” marble maze game made from Q-tips! Each project includes detailed step-by-step instructions and lots of opportunities for readers to use their own creativity to make designs that are special and individual.","English",26.6,19.95,"745.594’166--dc23","32 pp.",{"$f":"Table1[[#This Row],['# Books]]*Table1[[#This Row],[QTY]]","v":0},{"$f":"Table1[[#This Row],[QTY]]*Table1[[#This Row],[S&L Price]]","v":0}]
[null,null,71,null,"Handmade Holiday Crafts",1,"Handmade Valentine's Day Crafts","Library Bound Book","978-1-4824-6160-2",2017,"January 2017","Library","8.500 X 11.00","Author","Ruth Owen",null,null,null,null,"L",null,"Grade 3","Grade 3 - 6","Christmas can be made even more fun with lovely decorations and homemade gifts. For readers who love crafting, this book of fantastic, easy projects with a Christmas theme is perfect. With just a few basic craft supplies and even recycled materials from around the house, readers can create special crafts such as Christmas tree decorations, a homemade Advent calendar, and even snowmen made from socks. Each project includes detailed step-by-step instructions and lots of opportunities for readers to use their own creativity to make truly unique designs.","English",26.6,19.95,"745.594’1618--dc23","32 pp.",{"$f":"Table1[[#This Row],['# Books]]*Table1[[#This Row],[QTY]]","v":0},{"$f":"Table1[[#This Row],[QTY]]*Table1[[#This Row],[S&L Price]]","v":0}]
[null,null,72,null,"Design It!",6,"Design It!","Library Set","978-1-5382-0777-2",2018,"August 2017","Library","8.500 X 11.00",null,"",null,null,null,null,null,null,"Grade 3 - 4","Grade 3 - 5","Nothing instills pride as much as creating a masterpiece! Readers are encouraged to become artists and designers in this inspired – and inspiring – series. Volumes span a variety of design disciplines, including books, hairstyles, food, clothing, and even fairy gardens! There's something for every interest, and each fun project is made achievable through clearly stated, step-by-step instructions and a colorful photo of the finished product. Design tips, advice, and techniques lay a foundation for future creative endeavors – and perhaps even a career in design!","English",159.6,119.7,null,"32 pp.",{"$f":"Table1[[#This Row],['# Books]]*Table1[[#This Row],[QTY]]","v":0},{"$f":"Table1[[#This Row],[QTY]]*Table1[[#This Row],[S&L Price]]","v":0}]
[null,null,72,null,"Design It!",1,"Fashion Design","Library Bound Book","978-1-5382-0793-2",2018,"August 2017","Library","8.500 X 11.00","Author","Alix Wood",null,null,null,null,"O",null,"Grade 3 - 4","Grade 3 - 5","Some are content to simply follow the trends of fashion, but the bold are the designers who start the fads—the true fashionistas. This how-to guide presents creative readers with professional fashion designs as inspirations as well as step-by-step projects to make their own clothing and accessories. Each imaginative task utilizes easy-to-find everyday items and is accompanied by full-color photographs as visual aids.","English",26.6,19.95,"746.9'2--dc23","32 pp.",{"$f":"Table1[[#This Row],['# Books]]*Table1[[#This Row],[QTY]]","v":0},{"$f":"Table1[[#This Row],[QTY]]*Table1[[#This Row],[S&L Price]]","v":0}]
[null,null,72,null,"Design It!",1,"Hair and Makeup Design","eBook","978-1-5382-0786-4",2018,"August 2017",null,null,"Author","Alix Wood",null,null,null,null,"O",null,"Grade 3 - 4","Grade 3 - 5","Yes, hair and makeup designers can make people look beautiful—but they can also make them look like terrifying zombies! Truly, this inspiring book provides an entertaining and hands-on experience for readers of all ages and interests. The many included activities are presented with comprehensible directions paired with photographs that illustrate each concept. Whether young designers want to learn something for their everyday use or acquire career skills for a future career in the movies, there’s inspiration in this high-interest guide.","English",26.6,19.95,"646.7'24--dc23","32 pp.",{"$f":"Table1[[#This Row],['# Books]]*Table1[[#This Row],[QTY]]","v":0},{"$f":"Table1[[#This Row],[QTY]]*Table1[[#This Row],[S&L Price]]","v":0}]
[null,null,73,null,"But Is It Art?",1,"Art Installations","Library Bound Book","978-1-4824-2274-0",2015,"January 2015","Library","8.000 X 10.00","Author","Alix Wood",null,null,40,null,"S",null,"Grade 4 - 5","Grade 4 - 6","When viewers walk into an art installation, it may transport them to the bottom of the ocean, the moon, or even a child’s bedroom. Installation art changes how viewers see the space they’re in. It takes a lot of time and conceptualization to create installation art—yet some people don’t consider it genuine art! Readers are introduced to how installations are created and what they may be made up of, as well as both views on their legitimacy as art. Critical thinking questions combined with full-color photographs engage readers visually and intellectually—just as a good art installation would!","English",26.6,19.95,"709.04","32 pp.",{"$f":"Table1[[#This Row],['# Books]]*Table1[[#This Row],[QTY]]","v":0},{"$f":"Table1[[#This Row],[QTY]]*Table1[[#This Row],[S&L Price]]","v":0}]
[null,null,73,null,"But Is It Art?",1,"Art Installations","eBook","978-1-4824-2276-4",2015,"January 2015",null,null,"Author","Alix Wood",null,null,40,null,"S",null,"Grade 4 - 5","Grade 4 - 6","When viewers walk into an art installation, it may transport them to the bottom of the ocean, the moon, or even a child’s bedroom. Installation art changes how viewers see the space they’re in. It takes a lot of time and conceptualization to create installation art—yet some people don’t consider it genuine art! Readers are introduced to how installations are created and what they may be made up of, as well as both views on their legitimacy as art. Critical thinking questions combined with full-color photographs engage readers visually and intellectually—just as a good art installation would!","English",26.6,19.95,"709.04","32 pp.",{"$f":"Table1[[#This Row],['# Books]]*Table1[[#This Row],[QTY]]","v":0},{"$f":"Table1[[#This Row],[QTY]]*Table1[[#This Row],[S&L Price]]","v":0}]
[null,null,73,null,"But Is It Art?",1,"Junk Sculpture","Library Bound Book","978-1-4824-2285-6",2015,"January 2015","Library","8.000 X 10.00","Author","Alix Wood",null,null,40,null,"S",null,"Grade 4 - 5","Grade 4 - 6","Some artists believe anything can be art—even trash! Junk sculpture is a new, complex mode of art that combines the wastefulness of modern living with finding beauty in what others consider ugly. Readers learn how artists create such pieces and are asked to consider whether junk sculpture can be called art in the same way a painting or drawing is. A colorful layout full of many pictures of junk sculpture introduces readers to the many forms junk sculpture may take, such as fashion, pillars formed from plastic, and more.","English",26.6,19.95,"731","32 pp.",{"$f":"Table1[[#This Row],['# Books]]*Table1[[#This Row],[QTY]]","v":0},{"$f":"Table1[[#This Row],[QTY]]*Table1[[#This Row],[S&L Price]]","v":0}]
[null,null,73,null,"But Is It Art?",1,"Urban Street Art","eBook","978-1-4824-2294-8",2015,"January 2015",null,null,"Author","Alix Wood",5.4,1,40,null,"S",null,"Grade 4 - 5","Grade 4 - 6","Not all art is displayed in a museum. For example, yarn bombing or guerilla knitting grew out of a movement in Texas to use up old yarn. Today, city dwellers might walk outside to find trees, bike racks, or even mail boxes covered by intricately knitted covers. The result is colorful, fun, and easily removed. However, other street art—such as graffiti—isn’t seen as so harmless. Through fact boxes and pointed questions, the main content asks readers to consider whether such displays are, in fact, art. Full-color photographs and a lively layout enhance the artistic concepts addressed.","English",26.6,19.95,"709.173","32 pp.",{"$f":"Table1[[#This Row],['# Books]]*Table1[[#This Row],[QTY]]","v":0},{"$f":"Table1[[#This Row],[QTY]]*Table1[[#This Row],[S&L Price]]","v":0}]
[null,null,73,null,"Create It!",1,"Abstract Art","eBook","978-1-4824-5046-0",2017,"August 2016",null,null,"Author","Alix Wood",null,null,null,null,"Q",null,"Grade 4 - 5","Grade 4 - 6","Abstract art might seem hard to define. But, by introducing readers to the major artists of the style, they’ll have a good idea of the general characteristics of an abstract piece. In addition to biographical information about Henri Matisse, Jasper Johns, Paul Klee, and more important abstract artists, readers learn about each master’s most famous pieces and ways they were able to achieve the look of the work. Fun, colorful projects accompany each artist’s spreads, showing readers how they, too, can make cool abstract art!","English",26.6,19.95,"709.04’052--dc23","32 pp.",{"$f":"Table1[[#This Row],['# Books]]*Table1[[#This Row],[QTY]]","v":0},{"$f":"Table1[[#This Row],[QTY]]*Table1[[#This Row],[S&L Price]]","v":0}]
[null,null,73,null,"Create It!",1,"Cubist Art","eBook","978-1-4824-5042-2",2017,"August 2016",null,null,"Author","Alix Wood",null,null,null,null,"Q",null,"Grade 4 - 5","Grade 4 - 6","One artist that comes to mind in connection with cubist art is Pablo Picasso. Picasso famously painted in a cubist style from about 1909 to 1912. Readers can try out Picasso’s techniques as well as those of Paul Cezanne, Juan Gris, and others in this introduction to cubism. Biographical information of these master cubists is paired with a colorful layout sure to engage young artists. Step-by-step instructions and tip boxes guide readers through creating several cubist masterpieces based on techniques and the best-known works of these famous cubists.","English",26.6,19.95,"709’.04’032--dc23","32 pp.",{"$f":"Table1[[#This Row],['# Books]]*Table1[[#This Row],[QTY]]","v":0},{"$f":"Table1[[#This Row],[QTY]]*Table1[[#This Row],[S&L Price]]","v":0}]
[null,null,73,null,"Create It!",1,"Pop Art","Library Bound Book","978-1-4824-5026-2",2017,"August 2016","Library","8.500 X 11.00","Author","Alix Wood",null,null,null,null,"Q",null,"Grade 4 - 5","Grade 4 - 6","What made pop art special? Readers can find out the answer to this question through the colorful, fun pages of this book, which highlights the major features and figures of pop art. Profiles of Andy Warhol, Roy Lichtenstein, Richard Hamilton, and more pop artists introduce readers to famous pop art works as well as major techniques each artist used. Then, they can put this knowledge to work in accompanying art projects inspired by the work of the pop artist in that chapter. From using newspaper to make a collage to using benday dots, young artists have a multitude of styles to learn from!","English",26.6,19.95,"709.04’071--dc23","32 pp.",{"$f":"Table1[[#This Row],['# Books]]*Table1[[#This Row],[QTY]]","v":0},{"$f":"Table1[[#This Row],[QTY]]*Table1[[#This Row],[S&L Price]]","v":0}]
[null,null,73,null,"Ready, Set, Draw!",1,"Animals","Library Bound Book","978-1-4824-0907-9",2015,"August 2014","Library","8.500 X 11.00","Author","Ailin Chambers",null,null,20,null,"K",null,"Grade 2 - 3","Grade 2 - 5","Drawing animals can be hard. From body shape to details like teeth and claws, it’s tough to make a drawing look distinctly like the animal you want it to. Clear step-by-step instructions take all the guesswork out of drawing animals! Readers can take on drawing a grinning shark, suspicious snake, cute panda, and more. An introduction to the needed equipment and extra tips along the way help readers draw in a simple, cartoon style. A colorful layout and final drawing example encourage readers to finish their project with flair!","English",26.6,19.95,"743.6","32 pp.",{"$f":"Table1[[#This Row],['# Books]]*Table1[[#This Row],[QTY]]","v":0},{"$f":"Table1[[#This Row],[QTY]]*Table1[[#This Row],[S&L Price]]","v":0}]
[null,null,73,null,"Ready, Set, Draw!",1,"Fairies and Princesses","Library Bound Book","978-1-4824-0915-4",2015,"August 2014","Library","8.500 X 11.00","Author","Ailin Chambers",null,null,20,null,"K",null,"Grade 2 - 3","Grade 2 - 5","Drawing is a great way for readers to use their imagination! And princesses and fairies are two common characters in fantasy stories. Readers work through clear directions on 13 different drawing projects to create a colorful cartoon wood fairy, pirate princess, fairy godmother, and more. The step-by-step instructions include both an example of the step and a description of it, aiding readers in each part of the drawing process. Tips and an introduction to the drawing tools needed give readers knowledge they can use in other drawings, too.","English",26.6,19.95,"743.4","48 pp.",{"$f":"Table1[[#This Row],['# Books]]*Table1[[#This Row],[QTY]]","v":0},{"$f":"Table1[[#This Row],[QTY]]*Table1[[#This Row],[S&L Price]]","v":0}]
[null,null,73,null,"Ready, Set, Draw!",1,"Fairies and Princesses","eBook","978-1-4824-0917-8",2015,"August 2014",null,null,"Author","Ailin Chambers",null,null,20,null,"K",null,"Grade 2 - 3","Grade 2 - 5","Drawing is a great way for readers to use their imagination! And princesses and fairies are two common characters in fantasy stories. Readers work through clear directions on 13 different drawing projects to create a colorful cartoon wood fairy, pirate princess, fairy godmother, and more. The step-by-step instructions include both an example of the step and a description of it, aiding readers in each part of the drawing process. Tips and an introduction to the drawing tools needed give readers knowledge they can use in other drawings, too.","English",26.6,19.95,"743.4","48 pp.",{"$f":"Table1[[#This Row],['# Books]]*Table1[[#This Row],[QTY]]","v":0},{"$f":"Table1[[#This Row],[QTY]]*Table1[[#This Row],[S&L Price]]","v":0}]
[null,null,73,null,"Ready, Set, Draw!",1,"Superheroes","Library Bound Book","978-1-4824-0929-1",2015,"August 2014","Library","8.500 X 11.00","Author","Ailin Chambers",null,null,20,null,"K",null,"Grade 2 - 3","Grade 2 - 5","Superheroes aren’t just awesome because of their powers. Many are awesome because of the great artists who drew their capes, weapons, and battles in cartoons and comic books. Learning to draw inventive superheroes such as Captain Twilight and Kid Comet is a great place for readers to start their journey to comic book author. Step-by-step instructions lead readers from a sketch to a completed, colorful cartoon, including Miss Magnifico and the Blue Dragon. An introduction to drawing tools and tip boxes aid new artists while they eagerly create these sensational superheroes.","English",26.6,19.95,"743.4","48 pp.",{"$f":"Table1[[#This Row],['# Books]]*Table1[[#This Row],[QTY]]","v":0},{"$f":"Table1[[#This Row],[QTY]]*Table1[[#This Row],[S&L Price]]","v":0}]
[null,null,74,null,"Meet the Greats",1,"Florence Nightingale","Library Bound Book","978-1-4824-5950-0",2017,"January 2017","Library","7.250 X 9.250","Author","Tim Cooke",5.8,1,null,null,"U",null,"Grade 5","Grade 4 - 6","Florence Nightingale’s name is perhaps more familiar than her reputation as the founder of modern nursing. This notable biography, full of striking photographs and images, explains how this remarkable woman bucked societal pressure to become a nurse—the “Lady with the Lamp.” Nightingale’s work in military hospitals during the Crimean War was the beginning of great reforms in hospitals all over the world. Spellbound readers will be aghast to learn of the appalling conditions of hospitals of the 19th century and grateful for Nightingale’s persistence in improving medical care.","English",31.95,23.95,"610.73--dc23","48 pp.",{"$f":"Table1[[#This Row],['# Books]]*Table1[[#This Row],[QTY]]","v":0},{"$f":"Table1[[#This Row],[QTY]]*Table1[[#This Row],[S&L Price]]","v":0}]
[null,null,74,null,"Meet the Greats",1,"Mozart","eBook","978-1-4824-5959-3",2017,"January 2017",null,null,"Author","Tim Cooke",null,null,null,null,"U",null,"Grade 5","Grade 4 - 6","Mozart’s short life produced a truly impressive collection of masterworks recognizable even to those who don’t know much about classical music. This biography of the maestro, from child prodigy to his mysterious death at the age of 35, will fascinate readers, who will come to appreciate Mozart’s lasting contribution to music. Colorful illustrations and “Quick Facts” boxes are inviting elements, while carefully chosen images provide understanding about the culture of that time period in Europe.","English",31.95,23.95,"780’.92--dc23","32 pp.",{"$f":"Table1[[#This Row],['# Books]]*Table1[[#This Row],[QTY]]","v":0},{"$f":"Table1[[#This Row],[QTY]]*Table1[[#This Row],[S&L Price]]","v":0}]
[null,null,74,null,"Meet the Greats",1,"Sacagawea","eBook","978-1-4824-5963-0",2017,"January 2017",null,null,"Author","Tim Cooke",null,null,null,null,"U",null,"Grade 5","Grade 4 - 6","Sacagawea’s critical role in the Lewis and Clark Expedition of 1804 to 1806 is irrefutable. Without her, the Corps of Discovery’s exploration of the newly acquired western territory might not have been successful. However, her life before that celebrated journey is just as absorbing. This volume, with a colorful design, fun fact boxes, and historical artwork, tells the intriguing story of this Shoshone woman, including such life-changing events as her kidnapping at a young age and marriage to a French fur trapper. Readers will undoubtedly admire this woman as they learn of her courageous acts and of the Native American cultures to which she belonged.","English",31.95,23.95,"978.0049745740092--dc23","32 pp.",{"$f":"Table1[[#This Row],['# Books]]*Table1[[#This Row],[QTY]]","v":0},{"$f":"Table1[[#This Row],[QTY]]*Table1[[#This Row],[S&L Price]]","v":0}]
[null,null,75,null,"Great Artists",6,"Great Artists","Library Set","978-1-4824-1178-2",2015,"August 2014","Library","8.500 X 11.00",null,"",null,null,null,null,null,null,"Grade 4","Grade 4 - 6","Some works of art are so recognizable now that it's easy to forget that they were groundbreaking, controversial, or even failures at one time. This series is an inviting look into the remarkable creations and intriguing biographies of artists such as Vincent van Gogh, Mary Cassatt, and Leonardo da Vinci. Readers first learn about the events in the artists' lives that influenced their careers. Then they examine each artist's most celebrated pieces with particular attention to themes and techniques. Finally, readers are encouraged to pick up their brushes and create their own work of art in the style of the artist.    • Primary sources include both paintings and artists' quotations   •  Fact boxes, timelines, and labeled artwork make this an accessible introduction to the art world  • Biographies and books about the arts are cited as valuable informational texts in the Common Core English Language Arts Standards  ","English",159.6,119.7,null,"32 pp.",{"$f":"Table1[[#This Row],['# Books]]*Table1[[#This Row],[QTY]]","v":0},{"$f":"Table1[[#This Row],[QTY]]*Table1[[#This Row],[S&L Price]]","v":0}]
[null,null,75,null,"Great Artists",1,"Leonardo da Vinci","Library Bound Book","978-1-4824-1500-1",2015,"August 2014","Library","8.500 X 11.00","Author","Iain Zaczek",null,null,40,null,"R",null,"Grade 4","Grade 3 - 6","During the Renaissance, Leonardo da Vinci studied math, mapmaking, geography, and more. However, he may be best known as a painter and sculptor. The Mona Lisa remains a famous painting that is studied by art students and historians alike. Readers are introduced to this well-known work as well as The Last Supper and The Virgin of the Rocks. Da Vinci’s biography and influence are discussed throughout, supported by famous quotes and full-color photographs of his works. Readers learn how da Vinci worked, including his color palettes for various paintings.","English",26.6,19.95,"709","32 pp.",{"$f":"Table1[[#This Row],['# Books]]*Table1[[#This Row],[QTY]]","v":0},{"$f":"Table1[[#This Row],[QTY]]*Table1[[#This Row],[S&L Price]]","v":0}]
[null,null,75,null,"Great Artists",1,"Paul Cézanne","eBook","978-1-4824-1382-3",2015,"August 2014",null,null,"Author","Iain Zaczek",null,null,40,null,"R",null,"Grade 4","Grade 3 - 6","It’s strange to think that when Paul Cézanne began his work as an artist, people laughed at him! In 1874, Cézanne’s work appeared in the very first exhibition of Impressionist art. Now, he’s viewed as one of the artists to shape modern art as it is today. Readers discover this incredible artist through his biography and full-color examples of his paintings, including The Card Players. Tiny details are revealed through palette samples and close-up images of small parts of his work, like the signature at the bottom of The House of the Hanged Man.","English",26.6,19.95,"759.4","32 pp.",{"$f":"Table1[[#This Row],['# Books]]*Table1[[#This Row],[QTY]]","v":0},{"$f":"Table1[[#This Row],[QTY]]*Table1[[#This Row],[S&L Price]]","v":0}]
[null,null,75,null,"Great Artists",1,"Vincent van Gogh","Library Bound Book","978-1-4824-1505-6",2015,"August 2014","Library","8.500 X 11.00","Author","Iain Zaczek",null,null,40,null,"R",null,"Grade 4","Grade 3 - 6","Starry Night is one of the most famous paintings known today. Vincent Van Gogh’s Self-Portrait with Bandaged Ear is also very recognizable, partly because of the story behind it. Readers are introduced to Van Gogh through biography and many of his works. Each of the featured paintings is shown in full color and details are brought to the reader’s attention, such as the small signature Van Gogh put on the vase in Sunflowers. Readers learn all about Van Gogh’s signature style of thick, paint-filled brushstrokes built upon each other in uneven layers. Then, they can learn to imitate him!","English",26.6,19.95,"759.949","32 pp.",{"$f":"Table1[[#This Row],['# Books]]*Table1[[#This Row],[QTY]]","v":0},{"$f":"Table1[[#This Row],[QTY]]*Table1[[#This Row],[S&L Price]]","v":0}]
[null,null,75,null,"Heroes of Black History",1,"Buffalo Soldiers","eBook","978-1-4824-2903-9",2016,"August 2015",null,null,"Author","Christine Honders",6.3,0.5,40,null,"Q",null,"Grade 3 - 4","Grade 3 - 6","In the mid-1880s, the first black regiments of the US Army were nicknamed \"buffalo soldiers\" by Native Americans, a name that stuck. In the nearly 85 years of service that followed, buffalo soldiers served on the western frontier as well as in conflicts in Cuba, the Philippines, and Mexico. These courageous men became known for their discipline, among other admirable qualities. Sadly, they continued to face great prejudice in their own country despite stellar military records. Photographs of the soldiers, accounts of their exploits, and a timeline highlighting important moments of service further reveal the bravery of these troops.","English",26.6,19.95,"973.8","32 pp.",{"$f":"Table1[[#This Row],['# Books]]*Table1[[#This Row],[QTY]]","v":0},{"$f":"Table1[[#This Row],[QTY]]*Table1[[#This Row],[S&L Price]]","v":0}]
[null,null,75,null,"Heroes of Black History",1,"Sojourner Truth","Library Bound Book","978-1-4824-2914-5",2016,"August 2015","Library","8.500 X 11.00","Author","Heather Moore Niver",5.3,0.5,40,null,"R",null,"Grade 3 - 4","Grade 3 - 6","Sojourner Truth is best known for her famous speech at the Ohio Women's Rights Convention in 1851 in which she asked, \"Ain't I a woman?\"  Born into slavery in 1797, she escaped to freedom with her baby daughter by 1826. But freedom held hardships for Truth, too. Despite all odds, this extraordinary woman fought for rights for both blacks and women as well as other disenfranchised populations. This in-depth account of the fascinating life of the abolitionist is a must-read in any social studies collection.","English",26.6,19.95,"306.3","32 pp.",{"$f":"Table1[[#This Row],['# Books]]*Table1[[#This Row],[QTY]]","v":0},{"$f":"Table1[[#This Row],[QTY]]*Table1[[#This Row],[S&L Price]]","v":0}]
[null,null,75,null,"Heroes of Black History",1,"W. E. B. Du Bois","eBook","978-1-4824-2923-7",2016,"August 2015",null,null,"Author","Hilary Lochte",6.9,0.5,40,null,"R",null,"Grade 3 - 4","Grade 3 - 6","W. E. B. DuBois tackled the great question of the early twentieth century: How could African Americans gain equal footing with whites in the United States? He studied the social conditions of blacks for more than a decade before espousing protest and agitation as vehicles for change. This stand and black nationalist ideas put him at odds with other reformers of the day, such as Booker T. Washington. This outstanding biography of the great leader details his life as well as his roles in the Niagara Movement and the NAACP.","English",26.6,19.95,"323.092—dc23","32 pp.",{"$f":"Table1[[#This Row],['# Books]]*Table1[[#This Row],[QTY]]","v":0},{"$f":"Table1[[#This Row],[QTY]]*Table1[[#This Row],[S&L Price]]","v":0}]
[null,null,76,null,"Eyewitness to History",1,"Abigail Adams in Her Own Words","Library Bound Book","978-1-4339-9870-6",2014,"January 2014","Library","6.500 X 9.000","Author","Blair Belton",6.7,1,40,30,"T",null,"Grade 4 - 5","Grade 4 - 6","Abigail Adams holds an honored place in American history, not only for being a First Lady of the United States, but for the invaluable letters she left behind. Through her writings, people today can experience what it was like to be a woman, a mother, and an American in the early days of the United States. This fascinating look at Abigail's life uses primary sources to expose the wit, intelligence, and opinions of this early advocate for women's rights. Sidebars, fact boxes, and a timeline further provide evidence that this \"founding mother\" is a must-know.","English",26.6,19.95,"973.4","32 pp.",{"$f":"Table1[[#This Row],['# Books]]*Table1[[#This Row],[QTY]]","v":0},{"$f":"Table1[[#This Row],[QTY]]*Table1[[#This Row],[S&L Price]]","v":0}]
[null,null,76,null,"Eyewitness to History",1,"Anne Frank in Her Own Words","eBook","978-1-4824-6500-6",2014,"January 2014",null,null,"Author","Caroline Kennon",null,null,44,28,"T",null,"Grade 4 - 5","Grade 4 - 6","Anne Frank's youthful optimism was a stark contrast to the terrible monstrosities of World War II. While Anne and her family hid from the world in a secret annex, she confided in her diary, nicknamed Kitty, providing the world with an inside view of what it was like to grow up fearing the wrath of Nazi Germany. This biography uses Anne's moving writings to highlight the events of her short life. Her diary is a powerful tool and reminder of the unjust hate that caused the Holocaust. Sidebars and fact boxes offer more information about this time period.","English",26.6,19.95,"940.53","32 pp.",{"$f":"Table1[[#This Row],['# Books]]*Table1[[#This Row],[QTY]]","v":0},{"$f":"Table1[[#This Row],[QTY]]*Table1[[#This Row],[S&L Price]]","v":0}]
[null,null,76,null,"Eyewitness to History",1,"Elizabeth Cady Stanton in Her Own Words","Library Bound Book","978-1-4824-1478-3",2015,"August 2014","Library","6.500 X 9.000","Author","Nicole Shea",null,null,44,null,"T",null,"Grade 4 - 5","Grade 4 - 6","For over 50 years, Elizabeth Cady Stanton was one of the most influential leaders of the women's rights movement of the 1800s. In this book, abundant with interesting photographs and images, readers are given a glimpse of Stanton's public and personal life through her own writings. Her friendship with Susan B. Anthony, work for the women's rights convention of 1848, and connection with the antislavery movement are especially highlighted. Sidebars and fact boxes offer more about this period in US and world history.","English",26.6,19.95,"324.6","32 pp.",{"$f":"Table1[[#This Row],['# Books]]*Table1[[#This Row],[QTY]]","v":0},{"$f":"Table1[[#This Row],[QTY]]*Table1[[#This Row],[S&L Price]]","v":0}]
[null,null,76,null,"Eyewitness to History",1,"Frederick Douglass in His Own Words","eBook","978-1-4339-9899-7",2014,"January 2014",null,null,"Author","Nicole Shea",null,null,44,28,"T",null,"Grade 4 - 5","Grade 4 - 6","Frederick Douglass's life was so incredible that it took him three autobiographies to tell the whole story. His life as a slave and his daring escape are just two chapters. He was also a famous abolitionist and women's rights supporter. This biography uses Douglass's own writings in describing the key events in his life. Primary source materials shed light on key issues of the Civil War era and beyond. Historical photographs, sidebars, and fact boxes add even more relevant information about the era.","English",26.6,19.95,"973.8","32 pp.",{"$f":"Table1[[#This Row],['# Books]]*Table1[[#This Row],[QTY]]","v":0},{"$f":"Table1[[#This Row],[QTY]]*Table1[[#This Row],[S&L Price]]","v":0}]
[null,null,76,null,"Eyewitness to History",1,"Harriet Tubman in Her Own Words","Library Bound Book","978-1-4824-4067-6",2016,"January 2016","Library","6.500 X 9.125","Author","Julia McDonnell",6.2,1,null,null,"T",null,"Grade 4 - 5","Grade 4 - 6","Harriet Tubman’s fame as a conductor on the Underground Railroad led to her nickname: Moses. She displayed considerable courage leading fugitive slaves to freedom and, incredibly, never lost a “passenger.” Less well known is Tubman’s service in the Union army as a scout and spy during the Civil War. This captivating volume uses Tubman’s own remembrances as well as other primary sources to provide a greater understanding of her astonishing life story as well as major issues of the United States in the 1800s. Historic photographs, fact boxes, and sidebars add valuable information to the main text and appealing design.","English",26.6,19.95,"973.7115092—dc23","32 pp.",{"$f":"Table1[[#This Row],['# Books]]*Table1[[#This Row],[QTY]]","v":0},{"$f":"Table1[[#This Row],[QTY]]*Table1[[#This Row],[S&L Price]]","v":0}]
[null,null,76,null,"Eyewitness to History",1,"Henry Ford in His Own Words","Library Bound Book","978-1-4824-1480-6",2015,"August 2014","Library","6.500 X 9.000","Author","Ryan Nagelhout",null,null,44,null,"U",null,"Grade 4 - 5","Grade 4 - 6","Henry Ford, founder of the Ford Motor Company, didn't invent the car or even his famous assembly line. However, he was the innovator who made these things wildly successful. In fact, his practices and ideas shaped American life and business in the twentieth century, even helping the war effort in World War II, and continue to do so today. This biography uses quotations and writings to trace Henry Ford's rise from humble farm boy to thriving entrepreneur.","English",26.6,19.95,"338.7","32 pp.",{"$f":"Table1[[#This Row],['# Books]]*Table1[[#This Row],[QTY]]","v":0},{"$f":"Table1[[#This Row],[QTY]]*Table1[[#This Row],[S&L Price]]","v":0}]
[null,null,76,null,"Eyewitness to History",1,"Leonardo da Vinci in His Own Words","eBook","978-1-4824-4077-5",2016,"January 2016",null,null,"Author","Caroline Kennon",6.2,1,null,null,"U",null,"Grade 4 - 5","Grade 4 - 6","Leonardo da Vinci defies categorization. He was an artist, scientist, mathematician, engineer, and more. He truly was a Renaissance man. This comprehensive volume presents the biography of a remarkable man using his own words and works. Readers will come to appreciate the genius of the inventor who devised early airplanes and helicopters more than 300 years before flying machines would be successfully developed! His paintings, sculptures, blueprints, notebooks, and other reminders of his legacy are well represented throughout this beautifully designed and well-researched book.","English",26.6,19.95,"709.2—dc23","32 pp.",{"$f":"Table1[[#This Row],['# Books]]*Table1[[#This Row],[QTY]]","v":0},{"$f":"Table1[[#This Row],[QTY]]*Table1[[#This Row],[S&L Price]]","v":0}]
[null,null,76,null,"Eyewitness to History",1,"Martin Luther King Jr. in His Own Words","Library Bound Book","978-1-4824-0147-9",2014,"January 2014","Library","6.500 X 9.000","Author","Ryan Nagelhout",null,null,44,28,"T",null,"Grade 4 - 5","Grade 4 - 6","No discussion of the civil rights movement of the 1960s is complete without a close look at Martin Luther King Jr. This book is an invaluable source of biographical information that uses King's own immensely powerful words to tell the story of his life and the fight for equality. The Montgomery bus boycott, the March on Washington, and the Civil Rights Act are just some historic events described. Readers will find that King's words still resonate today, years after his tragic death.","English",26.6,19.95,"323","48 pp.",{"$f":"Table1[[#This Row],['# Books]]*Table1[[#This Row],[QTY]]","v":0},{"$f":"Table1[[#This Row],[QTY]]*Table1[[#This Row],[S&L Price]]","v":0}]
[null,null,76,null,"Eyewitness to History",1,"Neil Armstrong in His Own Words","Library Bound Book","978-1-4824-4080-5",2016,"January 2016","Library","6.500 X 9.125","Author","Ryan Nagelhout",6.1,1,null,null,"U",null,"Grade 4 - 5","Grade 4 - 6","Neil Armstrong, the first person to step on the moon, uttered the legendary statement: “That’s one small step for a man, one giant leap for mankind.” This thrilling book explains how a young boy from Ohio became arguably the most famous astronaut of all time. A pilot by the time he was 16, Armstrong served in the Korean War before joining the US space program. Readers will learn the amazing story of the journey to the moon and gain an understanding of how perilous that mission really was. Armstrong’s interviews, writings, and other insights are interspersed throughout this must-read volume.","English",26.6,19.95,"629.450092—dc23","48 pp.",{"$f":"Table1[[#This Row],['# Books]]*Table1[[#This Row],[QTY]]","v":0},{"$f":"Table1[[#This Row],[QTY]]*Table1[[#This Row],[S&L Price]]","v":0}]
[null,null,76,null,"Eyewitness to History",1,"Sitting Bull in His Own Words","eBook","978-1-4824-1401-1",2015,"August 2014",null,null,"Author","Julia McDonnell",null,null,44,null,"U",null,"Grade 4 - 5","Grade 4 - 6","Sitting Bull, the well-known Native American chief, united the Lakota Sioux in the northern Great Plains and led a mighty resistance of tribes who refused to be placed on reservations. This struggle resulted in violence, most famously at Little Bighorn in 1876. Though Sitting Bull fled to Canada, he ultimately returned to the United States in 1881. This book uses Sitting Bull's powerful words to examine the leader's considerable courage and determination as well as his aspirations for Native Americans.","English",26.6,19.95,"978.004","48 pp.",{"$f":"Table1[[#This Row],['# Books]]*Table1[[#This Row],[QTY]]","v":0},{"$f":"Table1[[#This Row],[QTY]]*Table1[[#This Row],[S&L Price]]","v":0}]
[null,null,77,null,"Dynamic Duos of Science",1,"Albert Einstein and Sir Arthur Eddington","eBook","978-1-4824-1351-9",2015,"August 2014",null,null,"Author","Mary Colson",null,null,44,null,"V",null,"Grade 5 - 8","Grade 5 - 8","British scientist Arthur Eddington was once more famous than Albert Einstein! Informed scientists understand how intertwined the two are. Einstein's theories are well known, but it was Eddington who proved and endorsed many of them. This book describes the rise of these two men and how their friendship fostered scientific breakthroughs and ultimately Einstein's fame. Readers will be interested in the accessible explanations of some famous theories, such as the Theory of Relativity, while the relevant photographs and fact boxes further clarify biographical details.","English",31.95,23.95,"530","48 pp.",{"$f":"Table1[[#This Row],['# Books]]*Table1[[#This Row],[QTY]]","v":0},{"$f":"Table1[[#This Row],[QTY]]*Table1[[#This Row],[S&L Price]]","v":0}]
[null,null,77,null,"Dynamic Duos of Science",1,"Jane Goodall and Mary Leakey","Library Bound Book","978-1-4824-1472-1",2015,"August 2014","Library","8.000 X 10.00","Author","Matt Anniss",7.5,1,44,null,"V",null,"Grade 5 - 6","Grade 5 - 8"," Mary Leakey's work on archaeological digs in the 1930s led her to her husband, Louis, as well as a great interest in prehistoric man. Together, the two found fossils that proved apes and humans had common ancestors. Louis Leakey hired young Jane Goodall in the 1950s to study the behavior of chimpanzees, to further prove the connection between humans and apes. Goodall was slowly accepted into a wild chimpanzee community, the first person to accomplish this. Readers will love learning about the incredible discoveries of these two extraordinary women, whose lives will forever be entwined by a mutual desire for scientific knowledge. ","English",31.95,23.95,"591","32 pp.",{"$f":"Table1[[#This Row],['# Books]]*Table1[[#This Row],[QTY]]","v":0},{"$f":"Table1[[#This Row],[QTY]]*Table1[[#This Row],[S&L Price]]","v":0}]
[null,null,77,null,"Dynamic Duos of Science",1,"Jane Goodall and Mary Leakey","eBook","978-1-4824-1348-9",2015,"August 2014",null,null,"Author","Matt Anniss",7.5,1,44,null,"V",null,"Grade 5 - 6","Grade 5 - 8"," Mary Leakey's work on archaeological digs in the 1930s led her to her husband, Louis, as well as a great interest in prehistoric man. Together, the two found fossils that proved apes and humans had common ancestors. Louis Leakey hired young Jane Goodall in the 1950s to study the behavior of chimpanzees, to further prove the connection between humans and apes. Goodall was slowly accepted into a wild chimpanzee community, the first person to accomplish this. Readers will love learning about the incredible discoveries of these two extraordinary women, whose lives will forever be entwined by a mutual desire for scientific knowledge. ","English",31.95,23.95,"591","32 pp.",{"$f":"Table1[[#This Row],['# Books]]*Table1[[#This Row],[QTY]]","v":0},{"$f":"Table1[[#This Row],[QTY]]*Table1[[#This Row],[S&L Price]]","v":0}]
[null,null,77,null,"Dynamic Duos of Science",1,"Pierre and Marie Curie","eBook","978-1-4824-1344-1",2015,"August 2014",null,null,"Author","Robyn Hardyman",null,null,44,null,"V",null,"Grade 5 - 6","Grade 5 - 8","Two-time Nobel Prize winner Marie Curie did more to promote women in science than perhaps any other person. Her story is one of determination. Curie studied \"illegally\" at Warsaw University before attending the Sorbonne in France, graduating at the top of her class. She met Pierre, a brilliant scientist, by chance. After they were married, they worked side by side, leading to the discoveries of polonium and radium as well as many other crucial scientific finds. Their pioneering work is detailed in this accessible volume full of photographs and quotes that bring the personalities of these two scientists to life.","English",31.95,23.95,"540","32 pp.",{"$f":"Table1[[#This Row],['# Books]]*Table1[[#This Row],[QTY]]","v":0},{"$f":"Table1[[#This Row],[QTY]]*Table1[[#This Row],[S&L Price]]","v":0}]
[null,null,77,null,"History's Most Murderous Villains",1,"Elizabeth Báthory: The Blood Countess","eBook","978-1-4824-4789-7",2017,"August 2016",null,null,"Author","Jill Keppeler",null,null,null,null,"T",null,"Grade 4 - 5","Grade 4 - 6","Sixteenth-century Hungarian noblewoman Elizabeth Báthory became known as the Blood Countess after being accused of torturing and killing numerous young women. She was never convicted of these crimes, but accounts of her life became intertwined with bloody folklore. Some say she bathed in her victims’ blood to stay young! This gripping biography relates the fascinating facts and the gruesome and grisly tales that hound this woman’s legacy. Sidebars, fact boxes, and photographs and illustrations provide more information about Báthory as well as the time in which she lived.","English",26.6,19.95,"364.152/3092--dc23","32 pp.",{"$f":"Table1[[#This Row],['# Books]]*Table1[[#This Row],[QTY]]","v":0},{"$f":"Table1[[#This Row],[QTY]]*Table1[[#This Row],[S&L Price]]","v":0}]
[null,null,77,null,"History's Most Murderous Villains",1,"Nero: Ruthless Roman Emperor","Library Bound Book","978-1-4824-4801-6",2017,"August 2016","Library","6.500 X 9.125","Author","Shalini Saxena",6.1,1,null,null,"S",null,"Grade 4 - 5","Grade 4 - 6","Nero was the ruthless ruler who “fiddled while Rome burned”—or was he? The fifth Roman emperor’s reputation is unsavory at best. However, in this detailed biography, Nero’s reign is thoroughly examined, casting doubt on some of the criticisms of the leader. Readers will be fascinated by the machinations of the royal Roman household that led to the rise and fall of the famous emperor. The carefully selected photographs reveal artwork and artifacts of the time period, while sidebars and fact boxes bring more valuable information about ancient Roman culture to light.","English",26.6,19.95,"937/.07092--dc23","48 pp.",{"$f":"Table1[[#This Row],['# Books]]*Table1[[#This Row],[QTY]]","v":0},{"$f":"Table1[[#This Row],[QTY]]*Table1[[#This Row],[S&L Price]]","v":0}]
[null,null,77,null,"History's Most Murderous Villains",1,"Nero: Ruthless Roman Emperor","eBook","978-1-4824-4803-0",2017,"August 2016",null,null,"Author","Shalini Saxena",null,null,null,null,"S",null,"Grade 4 - 5","Grade 4 - 6","Nero was the ruthless ruler who “fiddled while Rome burned”—or was he? The fifth Roman emperor’s reputation is unsavory at best. However, in this detailed biography, Nero’s reign is thoroughly examined, casting doubt on some of the criticisms of the leader. Readers will be fascinated by the machinations of the royal Roman household that led to the rise and fall of the famous emperor. The carefully selected photographs reveal artwork and artifacts of the time period, while sidebars and fact boxes bring more valuable information about ancient Roman culture to light.","English",26.6,19.95,"937/.07092--dc23","48 pp.",{"$f":"Table1[[#This Row],['# Books]]*Table1[[#This Row],[QTY]]","v":0},{"$f":"Table1[[#This Row],[QTY]]*Table1[[#This Row],[S&L Price]]","v":0}]
[null,null,78,null,"Superheroes of Science",1,"Louis Pasteur: Germ Destroyer","Library Bound Book","978-1-4824-3142-1",2016,"August 2015","Library","7.250 X 9.250","Author","Nancy Dickmann",7.2,1,null,null,"W",null,"Grade 6","Grade 6 - 8","The number of scientific discoveries by Louis Pasteur is astounding. From his work on fermentation that led to the process of pasteurization to the rabies vaccine, Pasteur made a huge impact on industry, medicine, and scientific theory. Detailed biography takes readers through Pasteur’s life as he makes these incredible discoveries, uncovering the original use for pasteurization—in wine! Interesting sidebars enhance the main content with understandable explanations and surprising details. Full-color photographs and historical images highlight Pasteur’s triumphs as a hardworking, influential scientist.","English",31.95,23.95,"579.092","48 pp.",{"$f":"Table1[[#This Row],['# Books]]*Table1[[#This Row],[QTY]]","v":0},{"$f":"Table1[[#This Row],[QTY]]*Table1[[#This Row],[S&L Price]]","v":0}]
[null,null,78,null,"Superheroes of Science",1,"Mary Anning: Fossil Hunter","eBook","978-1-4824-3147-6",2016,"August 2015",null,null,"Author","Robert Snedden",7.6,1,null,null,"W",null,"Grade 6","Grade 6 - 8","In 2010, the Royal Society named Mary Anning one of the 10 British women most influential in the history of science. Though she wasn’t appreciated in her time because she was a woman, Anning certainly earned this distinction. Readers are introduced to one of the premier fossil hunters of 19th century England through biography, historic images, and detailed sidebars. Anning learned how to find and clean fossils from her father and began doing so when she was a child. With this in mind, readers can find inspiration—as well as interesting scientific content—in her story.","English",31.95,23.95,"560","48 pp.",{"$f":"Table1[[#This Row],['# Books]]*Table1[[#This Row],[QTY]]","v":0},{"$f":"Table1[[#This Row],[QTY]]*Table1[[#This Row],[S&L Price]]","v":0}]
[null,null,78,null,"Superheroes of Science",1,"Stephen Hawking: Master of the Cosmos","Library Bound Book","978-1-4824-3158-2",2016,"August 2015","Library","7.250 X 9.250","Author","Robert Snedden",7.6,1,null,null,"W",null,"Grade 6","Grade 6 - 8","One of the most important physicists of all time, Stephen Hawking isn’t only a brilliant scientist—he’s an inspiration. Hawking was diagnosed with a muscular disease as a young adult, making movement and later speech very difficult. However, he still was able to make discoveries about space and time that no one could have imagined. In this detailed biography, readers learn about Hawking’s life, including his childhood, schooling, and writing of A Brief History of Time. Full-color images and sidebars help readers understand Hawking’s research as well as the inner workings of a legendary scientist.","English",31.95,23.95,"539.092","48 pp.",{"$f":"Table1[[#This Row],['# Books]]*Table1[[#This Row],[QTY]]","v":0},{"$f":"Table1[[#This Row],[QTY]]*Table1[[#This Row],[S&L Price]]","v":0}]
[null,null,78,null,"Superheroes of Science",1,"Stephen Hawking: Master of the Cosmos","eBook","978-1-4824-3159-9",null,"August 2015",null,null,"Author","Robert Snedden",7.6,1,null,null,"W",null,"Grade 6","Grade 6 - 8","One of the most important physicists of all time, Stephen Hawking isn’t only a brilliant scientist—he’s an inspiration. Hawking was diagnosed with a muscular disease as a young adult, making movement and later speech very difficult. However, he still was able to make discoveries about space and time that no one could have imagined. In this detailed biography, readers learn about Hawking’s life, including his childhood, schooling, and writing of A Brief History of Time. Full-color images and sidebars help readers understand Hawking’s research as well as the inner workings of a legendary scientist.","English",31.95,23.95,"539.092","48 pp.",{"$f":"Table1[[#This Row],['# Books]]*Table1[[#This Row],[QTY]]","v":0},{"$f":"Table1[[#This Row],[QTY]]*Table1[[#This Row],[S&L Price]]","v":0}]
[null,null,78,null,"Wanted! Famous Outlaws",1,"Blackbeard: A Notorious Pirate in the Caribbean","Library Bound Book","978-1-4824-4249-6",2016,"January 2016","Library","7.250 X 9.250","Author","Tim Cooke",null,null,null,null,"R",null,"Grade 6 - 8","Grade 6 - 8","Edward Teach, otherwise known as the pirate Blackbeard, was a terror of the seas in the 1700s. Merchant ships had little choice but to surrender to his 40-cannon Queen Anne’s Revenge. At one point, Teach accepted a pardon but couldn’t retire from piracy for good. This adventurous volume takes readers into the background of the famous figure, explains the origins of his striking monikor, and describes the bloody skirmish that ended his life. Sidebars and fact boxes offer more information about both pirates and privateers and the perils of each chosen path. Beautiful illustrations and photographs further enhance this high-interest book.","English",31.95,23.95,"910.4'5—dc23","48 pp.",{"$f":"Table1[[#This Row],['# Books]]*Table1[[#This Row],[QTY]]","v":0},{"$f":"Table1[[#This Row],[QTY]]*Table1[[#This Row],[S&L Price]]","v":0}]
[null,null,78,null,"Wanted! Famous Outlaws",1,"Butch Cassidy and the Sundance Kid: Notorious Outlaws of the West","eBook","978-1-4824-4258-8",2016,"January 2016",null,null,"Author","Tim Cooke",null,null,null,null,"S",null,"Grade 6 - 8","Grade 6 - 8","Robert Leroy Parker’s transformation into Butch Cassidy wasn’t immediate. He worked on ranches as a cowboy, was a butcher for a time, and finally chose a path of crime in the American West in the late 1800s. Cassidy’s involvement with the band of outlaws known as the Wild Bunch and later partnership with Harry Longabaugh, the “Sundance Kid,” resulted in a crime spree and a life on the run. Butch Cassidy and the Sundance Kid fled to South America, where their fate remains a mystery. This lively, well-researched volume—filled with fascinating photographs and fact boxes—provides a gripping account of a fugitive’s life and legend.","English",31.95,23.95,"364.1552092—dc23","32 pp.",{"$f":"Table1[[#This Row],['# Books]]*Table1[[#This Row],[QTY]]","v":0},{"$f":"Table1[[#This Row],[QTY]]*Table1[[#This Row],[S&L Price]]","v":0}]
[null,null,79,null,"Gareth Guides to an Extraordinary Life",6,"Gareth Guides to an Extraordinary Life","Library Set","978-1-5382-0471-9",2018,"August 2017","Library","6.500 X 9.125",null,"",null,null,null,null,null,null,"Grade 4 - 5","Grade 4 - 6","Some endeavors seem so perplexing, so demanding, or so awe-inspiring that it’s amazing that anyone actually accomplishes such feats. But people do—and readers of this compelling series will be ready to as well! Gareth Guides are a fun take on perennially popular how-to books. Each attention-grabbing volume tackles an extremely high-interest topic and breaks it down into comprehensible and useful information. Whether the subject is building a space probe, digging up dinosaur fossils, or becoming a star athlete, readers will discover the facts behind each challenge, related in the most motivating and entertaining way.","English",159.6,119.7,null,"32 pp.",{"$f":"Table1[[#This Row],['# Books]]*Table1[[#This Row],[QTY]]","v":0},{"$f":"Table1[[#This Row],[QTY]]*Table1[[#This Row],[S&L Price]]","v":0}]
[null,null,79,null,"Gareth Guides to an Extraordinary Life",1,"Gareth's Guide to Becoming a Brain Surgeon","Library Bound Book","978-1-5382-0346-0",2018,"August 2017","Library","6.500 X 9.125","Author","Joan Stoltman",null,null,null,null,"U",null,"Grade 4 - 5","Grade 4 - 6","The human brain is a powerful organ. There’s so much we don’t know about how it works; what we do know is astounding. For example, information in your brain can move as fast as 265 miles (425 km) per hour—faster than a racecar! This truly entertaining and informative volume is full of fascinating facts about the human brain for the brain surgeons of tomorrow. They’ll learn how we know about the brain, what we’re trying to learn, and even the basics of neurosurgery, preparing them to be the scientists and doctors who will crack the mysteries of the human brain!","English",26.6,19.95,"617.4’810233--dc23","32 pp.",{"$f":"Table1[[#This Row],['# Books]]*Table1[[#This Row],[QTY]]","v":0},{"$f":"Table1[[#This Row],[QTY]]*Table1[[#This Row],[S&L Price]]","v":0}]
[null,null,79,null,"Gareth Guides to an Extraordinary Life",1,"Gareth's Guide to Becoming a Star Athlete","Library Bound Book","978-1-5382-0357-6",2018,"August 2017","Library","6.500 X 9.125","Author","Ryan Nagelhout",null,null,null,null,"S",null,"Grade 4 - 5","Grade 4 - 6","Whether young athletes aspire to be football, basketball, soccer, baseball, or some other kind of sports star, this guide to all things athletic can give them a true picture of the life of a superstar athlete. It’s not all autographs and interviews! Long hours of training and even study take place off the field, often for years. This engaging volume offers plenty of advice—some from renowned athletes themselves—about how to avoid injury, hone your skills, and make a splash in the world of sports.","English",26.6,19.95,"796--dc23","32 pp.",{"$f":"Table1[[#This Row],['# Books]]*Table1[[#This Row],[QTY]]","v":0},{"$f":"Table1[[#This Row],[QTY]]*Table1[[#This Row],[S&L Price]]","v":0}]
[null,null,79,null,"Gareth Guides to an Extraordinary Life",1,"Gareth's Guide to Building a Space Probe","eBook","978-1-5382-0343-9",2018,"August 2017",null,null,"Author","Therese M. Shea",null,null,null,null,"T",null,"Grade 4 - 5","Grade 4 - 6","Unmanned spacecraft have collected much valuable information about the planets in our solar system. It seems almost miraculous that something man-made could travel thousands of miles per hour to places millions of miles away. But it’s not a miracle—it’s science! This wide-ranging book reveals the extraordinary careers of aerospace engineers and space scientists and the extraordinary technology they collaborate on. Readers will gather numerous tips about how to lead their own extraordinary tech-savvy life as they absorb STEM-related vocabulary and concepts.","English",26.6,19.95,"629.43’54--dc23","32 pp.",{"$f":"Table1[[#This Row],['# Books]]*Table1[[#This Row],[QTY]]","v":0},{"$f":"Table1[[#This Row],[QTY]]*Table1[[#This Row],[S&L Price]]","v":0}]
[null,null,80,null,"Be a Scientist!",1,"Be a Geologist","eBook","978-1-4824-1412-7",2015,"August 2014",null,null,"Author","Ryan Nagelhout",null,null,40,null,"Q",null,"Grade 3 - 4","Grade 3 - 6","While some scientists look to the stars, others look at the ground. Geologists are scientists who study the rocks under our feet, the soil in our gardens, and the many processes that make Earth continuously shape and reshape itself, such as weathering and erosion. This appealing book focuses on the different kinds of geologists and the significant work they do. It also describes the rock cycle, plate tectonics, and some other important earth-science concepts that will inspire readers to consider a career in geology.","English",26.6,19.95,"550","32 pp.",{"$f":"Table1[[#This Row],['# Books]]*Table1[[#This Row],[QTY]]","v":0},{"$f":"Table1[[#This Row],[QTY]]*Table1[[#This Row],[S&L Price]]","v":0}]
[null,null,80,null,"Be a Scientist!",1,"Be a Meteorologist","Library Bound Book","978-1-4824-1442-4",2015,"August 2014","Library","7.750 X 10.00","Author","Kristen Rajczak Nelson",null,null,40,null,"Q",null,"Grade 3 - 4","Grade 3 - 6","Meteorology is a science that deals with the always changing, always fascinating atmosphere of Earth. Meteorologists don't just deal with rain, wind, and snow; they're also on the lookout for life-altering events such as hurricanes and tornadoes. This accessible book explains the career options of a meteorologist, including television and NASA. It also delves into the past history of meteorology as well as the modern technology that meteorologists now have to aid them.","English",26.6,19.95,"551.5023","32 pp.",{"$f":"Table1[[#This Row],['# Books]]*Table1[[#This Row],[QTY]]","v":0},{"$f":"Table1[[#This Row],[QTY]]*Table1[[#This Row],[S&L Price]]","v":0}]
[null,null,80,null,"Be a Scientist!",1,"Be a Zoologist","Library Bound Book","978-1-4824-1477-6",2015,"August 2014","Library","7.750 X 10.00","Author","Blair Belton",null,null,40,null,"R",null,"Grade 3 - 4","Grade 3 - 6","People pursuing careers in zoology usually focus on certain groups of animals. Herpetologists study reptiles and amphibians, and entomologists are experts on insects. They don't just work at zoos, either. They're teachers, writers, researchers, and more. Some zoologists work in labs and classrooms, while others travel the oceans and trek over mountains. A deep interest in animals and understanding of biology is needed to succeed in this high-interest career. Animal lovers will enjoy learning about different kinds of animals as well as considering the many facets of this profession.","English",26.6,19.95,"590.92","48 pp.",{"$f":"Table1[[#This Row],['# Books]]*Table1[[#This Row],[QTY]]","v":0},{"$f":"Table1[[#This Row],[QTY]]*Table1[[#This Row],[S&L Price]]","v":0}]
[null,null,80,null,"Be a Scientist!",1,"Be an Astronomer","eBook","978-1-4824-1409-7",2015,"August 2014",null,null,"Author","Nicole Shea",null,null,40,null,"Q",null,"Grade 3 - 4","Grade 3 - 6","Stargazing may not just be a hobby. For some, it's a clue they should pursue a career in astronomy. In this intriguing book, readers will learn what it takes to become an astronomer and about several puzzles of the universe past astronomers have unlocked. Some topics include how we know a black hole is there if we can't see it, the way a star works and what happens when it dies, and the discovery that most stars we see are actually pairs of stars. Enthralling photographs serve as reminders of the beauty and vastness of the universe.","English",26.6,19.95,"520","48 pp.",{"$f":"Table1[[#This Row],['# Books]]*Table1[[#This Row],[QTY]]","v":0},{"$f":"Table1[[#This Row],[QTY]]*Table1[[#This Row],[S&L Price]]","v":0}]
[null,null,80,null,"Creative Careers",1,"Costume Designer","eBook","978-1-4824-1342-7",2015,"August 2014",null,null,"Author","Helen Mason",null,null,40,null,"S",null,"Grade 4 - 5","Grade 4 - 8","There's more than fabric and thread to the creative career of a costume designer. Theater, movie, and television costume designers do much research before they even start sketching ideas for an outfit. They also work together with set and lighting designers to make sure their ideas will complement a production. On top of this, they have to keep to a budget and a deadline. This challenging career is extensively explored in this motivating book. Future costume designers will appreciate ideas about how to break into this profession with experience, education, and their own impressive portfolio.","English",31.95,23.95,"791.4302023","48 pp.",{"$f":"Table1[[#This Row],['# Books]]*Table1[[#This Row],[QTY]]","v":0},{"$f":"Table1[[#This Row],[QTY]]*Table1[[#This Row],[S&L Price]]","v":0}]
[null,null,80,null,"Creative Careers",1,"Interior Designer","Library Bound Book","978-1-4824-1447-9",2015,"August 2014","Library","8.000 X 10.00","Author","Helen Mason",null,null,40,null,"S",null,"Grade 4 - 5","Grade 4 - 8","Interior design involves much more than just making a room look good; it also means creating a space that's comfortable and practical for clients' needs. Interior designers use creativity, organizational skills, and understanding of fabrics, furniture, color schemes, and more to create a perfect space. Readers of this valuable resource will discover the multiple kinds of interior design and find out what a day in the life of an interior designer is like. Those who aspire to this fascinating career will learn if they have what it takes to excel in the world of design.","English",31.95,23.95,"729","24 pp.",{"$f":"Table1[[#This Row],['# Books]]*Table1[[#This Row],[QTY]]","v":0},{"$f":"Table1[[#This Row],[QTY]]*Table1[[#This Row],[S&L Price]]","v":0}]
[null,null,80,null,"Creative Careers",1,"Urban Planner","Library Bound Book","978-1-4824-1451-6",2015,"August 2014","Library","8.000 X 10.00","Author","Helen Mason",null,null,40,null,"S",null,"Grade 4 - 5","Grade 4 - 8","Urban planners are problem solvers. They find out how housing, transportation, business, and recreational areas can work together to create a successful community. They consult with city officials, developers, and the public during the planning process. This fascinating career can involve restoring historic buildings and conserving natural resources as well as overseeing construction. This book examines the history of urban planning as well as the challenges these resourceful professionals face today. Readers will learn what it takes to prepare for this fascinating and influential career.","English",31.95,23.95,"307.1","24 pp.",{"$f":"Table1[[#This Row],['# Books]]*Table1[[#This Row],[QTY]]","v":0},{"$f":"Table1[[#This Row],[QTY]]*Table1[[#This Row],[S&L Price]]","v":0}]
[null,null,81,null,"Ingredients for a Healthy Life",1,"Creative Cocoa Recipes","Library Bound Book","978-1-4824-0559-0",2015,"August 2014","Library","8.500 X 8.500","Author","Kristen Rajczak Nelson",null,null,28,20,"M",null,"Grade 2 - 3","Grade 2 - 5","More than 4.4 million tons (4 million t) of cocoa beans are used to satisfy the world’s need for tasty products each year. But cocoa is used for far more than just chocolate bars. Readers will discover the history and origins of cocoa while they explore a diverse, useful culinary ingredient. Full-color photographs accompany delicious recipes that use cocoa or chocolate, including mole and a low-sugar granola. Through interesting fact boxes and plenty of food fun, readers will learn how to reap the benefits of cocoa’s healthy properties without eating too much dessert!","English",22.6,16.95,"641.6","24 pp.",{"$f":"Table1[[#This Row],['# Books]]*Table1[[#This Row],[QTY]]","v":0},{"$f":"Table1[[#This Row],[QTY]]*Table1[[#This Row],[S&L Price]]","v":0}]
[null,null,81,null,"Ingredients for a Healthy Life",1,"Great Grain Recipes","eBook","978-1-4824-6549-5",2015,"August 2014",null,null,"Author","Kristen Rajczak Nelson",null,null,28,20,"M",null,"Grade 2 - 3","Grade 2 - 5","Grains can be a healthy, tasty part of our diets, but the grains we eat should most often be whole grains. The less processed the grain, the better it is for us! Readers will learn the health benefits of whole grains and the many ways they can be enjoyed. Simple, step-by-step recipes will further readers’ interest in eating whole grains while the main content highlights different kinds of grains they may be less familiar with. Informative fact boxes and colorful photographs will whet readers’ appetite for health, science, and cooking knowledge!","English",22.6,16.95,"641.3","32 pp.",{"$f":"Table1[[#This Row],['# Books]]*Table1[[#This Row],[QTY]]","v":0},{"$f":"Table1[[#This Row],[QTY]]*Table1[[#This Row],[S&L Price]]","v":0}]
[null,null,81,null,"Ingredients for a Healthy Life",1,"Perfect Pasta Recipes","Library Bound Book","978-1-4824-0571-2",2015,"August 2014","Library","8.500 X 8.500","Author","Kristen Rajczak Nelson",null,null,28,20,"M",null,"Grade 2 - 3","Grade 2 - 5","Pasta is one of the most versatile foods in any kitchen. It can be served cold or hot, with rich and creamy sauces or a light drizzle of garlic and olive oil. Pasta is great with both vegetables and meat and pairs well with fish, too! Readers will explore many ways to use pasta to make healthy, tasty meals through step-by-step recipes. Enhanced by colorful photographs, pasta’s history and healthfulness are detailed in both the main content and cool fact boxes.","English",22.6,16.95,"641.3","32 pp.",{"$f":"Table1[[#This Row],['# Books]]*Table1[[#This Row],[QTY]]","v":0},{"$f":"Table1[[#This Row],[QTY]]*Table1[[#This Row],[S&L Price]]","v":0}]
[null,null,82,null,"What Would You Choose?",1,"Megamachines","Library Bound Book","978-1-4824-6174-9",2017,"January 2017","Library","6.500 X 9.125","Author","Helen Greathead",null,null,null,null,"R",null,"Grade 4 - 5","Grade 4 - 6","Racing a monster truck, riding a hoverboard, or using a remote-control tank are some of the crazy activities daredevils can do today because of amazing machine technology. But just because it’s possible doesn’t mean everyone wants to do it! In this book, readers are presented with cool megamachines and asked to choose between them. Readers not only learn about how superfast cars are made or how 3-D printers work but also how to weigh two options and make a decision. Full-color photographs and an action-packed design energize readers as they zoom through amazing facts and discover more about modern machines.","English",26.6,19.95,"629.04’6--d23","48 pp.",{"$f":"Table1[[#This Row],['# Books]]*Table1[[#This Row],[QTY]]","v":0},{"$f":"Table1[[#This Row],[QTY]]*Table1[[#This Row],[S&L Price]]","v":0}]
[null,null,82,null,"What Would You Choose?",1,"Supersports","Library Bound Book","978-1-4824-6178-7",2017,"January 2017","Library","6.500 X 9.125","Author","Helen Greathead",null,null,null,null,"R",null,"Grade 4 - 5","Grade 4 - 6","Running any marathon takes months of training and a bit of courage. Tackling that distance on the Great Wall of China takes the event to another level! Readers encounter incredible sports events, such as the luge and the skeleton, and choose which they would rather try. Facts about each inform the tough questions readers ask themselves in order to make the choice, helping them to exercise their decision-making skills. Full-color photographs and an action-packed design aid readers’ choices by illustrating the exciting sports, extreme athletes, and odd sports from around the world.","English",26.6,19.95,"796--d23","48 pp.",{"$f":"Table1[[#This Row],['# Books]]*Table1[[#This Row],[QTY]]","v":0},{"$f":"Table1[[#This Row],[QTY]]*Table1[[#This Row],[S&L Price]]","v":0}]
[null,null,83,null,"Mystery Hunters",1,"Aliens and UFOs","Library Bound Book","978-1-4824-5994-4",2017,"January 2017","Library","7.250 X 9.250","Author","Sarah Levete",6.7,1,null,null,"T",null,"Grade 5","Grade 4 - 6","Some think UFO lore began sometime in the 1940s with the sighting of so-called “flying saucers,” but ancient Egyptians recorded sightings of mysterious unidentified objects in the sky as well! These couldn’t have been experimental aircraft, as is so often the explanation for UFO accounts. This entertaining guide to all things alien presents the facts and lore of UFO and alien sightings. The motivating text also considers the impact and influence of alien movies and space discoveries. Readers will weigh the well-balanced evidence with the aid of fun images and photographs and assess whether they are true believers.","English",31.95,23.95,"001.942--dc23","48 pp.",{"$f":"Table1[[#This Row],['# Books]]*Table1[[#This Row],[QTY]]","v":0},{"$f":"Table1[[#This Row],[QTY]]*Table1[[#This Row],[S&L Price]]","v":0}]
[null,null,83,null,"Mystery Hunters",1,"Aliens and UFOs","eBook","978-1-4824-5995-1",2017,"January 2017",null,null,"Author","Sarah Levete",null,null,null,null,"T",null,"Grade 5","Grade 4 - 6","Some think UFO lore began sometime in the 1940s with the sighting of so-called “flying saucers,” but ancient Egyptians recorded sightings of mysterious unidentified objects in the sky as well! These couldn’t have been experimental aircraft, as is so often the explanation for UFO accounts. This entertaining guide to all things alien presents the facts and lore of UFO and alien sightings. The motivating text also considers the impact and influence of alien movies and space discoveries. Readers will weigh the well-balanced evidence with the aid of fun images and photographs and assess whether they are true believers.","English",31.95,23.95,"001.942--dc23","48 pp.",{"$f":"Table1[[#This Row],['# Books]]*Table1[[#This Row],[QTY]]","v":0},{"$f":"Table1[[#This Row],[QTY]]*Table1[[#This Row],[S&L Price]]","v":0}]
[null,null,83,null,"Mystery Hunters",1,"Lost Kings and Kingdoms","Library Bound Book","978-1-4824-6009-4",2017,"January 2017","Library","7.250 X 9.250","Author","Robyn Hardyman",6.6,1,null,null,"T",null,"Grade 5","Grade 4 - 6","Great kingdoms and rulers from the distant past can become lost over time. For some, no records survive to prove their existence. For others, the records are woven with so many fanciful details they seem like legends. How do we distinguish what’s true and what’s false? This inclusive volume offers the latest insights into familiar legends such as Arthur and his Camelot, but also equally intriguing lore and history of lost kingdoms of Africa, Asia, and the early Americas. Readers will discover that the endeavor to unearth these realms reveals much culture, history, and geography about different world regions.","English",31.95,23.95,"930.1--dc23","24 pp.",{"$f":"Table1[[#This Row],['# Books]]*Table1[[#This Row],[QTY]]","v":0},{"$f":"Table1[[#This Row],[QTY]]*Table1[[#This Row],[S&L Price]]","v":0}]
[null,null,83,null,"Mystery Hunters",1,"Tombs and Cursed Treasure","eBook","978-1-4824-6014-8",2017,"January 2017",null,null,"Author","Robyn Hardyman",null,null,null,null,"S",null,"Grade 5","Grade 4 - 6","Long-told tales of lost tombs and hidden treasure have survived even into today’s atmosphere of skepticism. Some of these artifacts definitely exist—their locations have just been forgotten. Others are truly myths. Readers want to know what is legend and which treasure to pursue. This compelling tome is their guide! There’s plenty of history to explore as they learn about lost Inca gold, cursed Egyptian crypts, poisoned tombs in China, the missing grave of Genghis Khan, and untold amounts of shipwrecked treasure. A beautiful design including historical and fantastical images serves to heighten interest in this must-read volume.","English",31.95,23.95,"930.1--dc23","24 pp.",{"$f":"Table1[[#This Row],['# Books]]*Table1[[#This Row],[QTY]]","v":0},{"$f":"Table1[[#This Row],[QTY]]*Table1[[#This Row],[S&L Price]]","v":0}]
[null,null,84,null,"Just Kidding!",1,"Jokes and More About Dogs","Library Bound Book","978-1-4824-0543-9",2015,"August 2014","Library","8.500 X 8.500","Author","Maria Nelson",null,null,20,20,"K",null,"Grade 2 - 3","Grade 2 - 5","Every dog owner knows how silly his or her pup can be. Dogs' behavior can be strange—such as barking at the vacuum cleaner—and downright sneaky, like stealing peanut butter sandwiches off the table. Readers will enjoy learning about man’s best friend, while they giggle through playful puns, ridiculous riddles, and wonderful word play. Colorful, cute illustrations and photographs complement facts about dogs—and many happen to be doggone funny!","English",22.6,16.95,"818","24 pp.",{"$f":"Table1[[#This Row],['# Books]]*Table1[[#This Row],[QTY]]","v":0},{"$f":"Table1[[#This Row],[QTY]]*Table1[[#This Row],[S&L Price]]","v":0}]
[null,null,84,null,"Just Kidding!",1,"Jokes and More About Dogs","eBook","978-1-4824-0544-6",2015,"August 2014",null,null,"Author","Maria Nelson",null,null,20,20,"K",null,"Grade 2 - 3","Grade 2 - 5","Every dog owner knows how silly his or her pup can be. Dogs' behavior can be strange—such as barking at the vacuum cleaner—and downright sneaky, like stealing peanut butter sandwiches off the table. Readers will enjoy learning about man’s best friend, while they giggle through playful puns, ridiculous riddles, and wonderful word play. Colorful, cute illustrations and photographs complement facts about dogs—and many happen to be doggone funny!","English",22.6,16.95,"818","24 pp.",{"$f":"Table1[[#This Row],['# Books]]*Table1[[#This Row],[QTY]]","v":0},{"$f":"Table1[[#This Row],[QTY]]*Table1[[#This Row],[S&L Price]]","v":0}]
[null,null,84,null,"Just Kidding!",1,"Jokes and More About Monkeys and Apes","Library Bound Book","978-1-4824-0550-7",2015,"August 2014","Library","8.500 X 8.500","Author","Maria Nelson",null,null,20,20,"K",null,"Grade 2 - 3","Grade 2 - 5","Monkeys and apes have a reputation for being funny animals. At zoos, the monkey house is one of the most popular places to visit because they do many things that seem awfully silly to people! Readers will enjoy having a whole bunch of jokes to tell about our primate friends. Cool facts, colorful photographs, and illustrations engage readers as they navigate wordplay, puns, and fun. In this case, monkeying around is a good thing!","English",22.6,16.95,"793.735","32 pp.",{"$f":"Table1[[#This Row],['# Books]]*Table1[[#This Row],[QTY]]","v":0},{"$f":"Table1[[#This Row],[QTY]]*Table1[[#This Row],[S&L Price]]","v":0}]
[null,null,84,null,"Q & A: Life's Mysteries Solved!",6,"Q & A: Life's Mysteries Solved!","Library Set","978-1-4824-4606-7",2017,"August 2016","Library","8.500 X 11.00",null,"",null,null,null,null,null,null,"Grade 3 - 4","Grade 3 - 6","Asking questions is important! How else would you learn that earwax is self-cleaning? This series takes on some of the weirdest questions out there about the human body, animals, history, and more—and doesn’t shy away from the gross stuff! Readers can giggle and learn at the same time as they discover the truth about time travel and their parents’ role in how they look. A colorful layout and playful tone present curriculum information about a variety of topics in digestible, entertaining ways.","English",159.6,119.7,null,"32 pp.",{"$f":"Table1[[#This Row],['# Books]]*Table1[[#This Row],[QTY]]","v":0},{"$f":"Table1[[#This Row],[QTY]]*Table1[[#This Row],[S&L Price]]","v":0}]
[null,null,84,null,"Q & A: Life's Mysteries Solved!",1,"How Did the Liberty Bell Get Its Crack?: And Other FAQs About History","Library Bound Book","978-1-4824-4743-9",2017,"August 2016","Library","8.500 X 11.00","Author","Michael Rajczak",5.4,0.5,null,null,"R","910L","Grade 3 - 4","Grade 3 - 6","The Liberty Bell cracked the very first time it was rung. However, the cracked Liberty Bell visitors can see on display in Philadelphia today isn’t that bell, which means another bell was made and cracked! This and a plethora of other historical facts show readers a fun, surprising, and sometimes-humorous side of history. The main content supports many parts of the social studies curriculum, while conversational language makes it even more engaging and understandable for readers. A colorful design draws readers in further with full-color photographs, maps, and fascinating fact boxes.","English",26.6,19.95,"973--dc23","48 pp.",{"$f":"Table1[[#This Row],['# Books]]*Table1[[#This Row],[QTY]]","v":0},{"$f":"Table1[[#This Row],[QTY]]*Table1[[#This Row],[S&L Price]]","v":0}]
[null,null,84,null,"Q & A: Life's Mysteries Solved!",1,"How Did the Liberty Bell Get Its Crack?: And Other FAQs About History","eBook","978-1-4824-4749-1",2017,"August 2016",null,null,"Author","Michael Rajczak",null,null,null,null,"R","910L","Grade 3 - 4","Grade 3 - 6","The Liberty Bell cracked the very first time it was rung. However, the cracked Liberty Bell visitors can see on display in Philadelphia today isn’t that bell, which means another bell was made and cracked! This and a plethora of other historical facts show readers a fun, surprising, and sometimes-humorous side of history. The main content supports many parts of the social studies curriculum, while conversational language makes it even more engaging and understandable for readers. A colorful design draws readers in further with full-color photographs, maps, and fascinating fact boxes.","English",26.6,19.95,"973--dc23","48 pp.",{"$f":"Table1[[#This Row],['# Books]]*Table1[[#This Row],[QTY]]","v":0},{"$f":"Table1[[#This Row],[QTY]]*Table1[[#This Row],[S&L Price]]","v":0}]
[null,null,84,null,"Q & A: Life's Mysteries Solved!",1,"Why Do Cars Need Gas?: And Other FAQs About Machines","Library Bound Book","978-1-4824-4775-0",2017,"August 2016","Library","8.500 X 11.00","Author","Amy Hayes",5.3,0.5,null,null,"Q","890L","Grade 3 - 4","Grade 3 - 6","So much of our days are spent inside cars—but do most people know how they work? After finishing this book, readers will know all about how cars use their fuel and move and much more about other machines! Including descriptions of simple physical science concepts and how some machines were invented, the main content is laid out in a fun, interactive way with lots of fact boxes and diagrams to aid readers’ understanding. Full-color photographs complement each spread, highlighting the information presented.","English",26.6,19.95,"629.04--dc23","48 pp.",{"$f":"Table1[[#This Row],['# Books]]*Table1[[#This Row],[QTY]]","v":0},{"$f":"Table1[[#This Row],[QTY]]*Table1[[#This Row],[S&L Price]]","v":0}]
[null,null,85,null,"Defend and Protect",1,"Police Force","Library Bound Book","978-1-4824-4114-7",2016,"January 2016","Library","7.250 X 9.250","Author","Geoff Barker",6.9,1,null,null,"S",null,"Grade 4 - 5","Grade 4 - 6","In this book, readers discover just what it takes to be a member of a law enforcement agency. This high-interest book covers many aspects of law enforcement, from 911 dispatch to investigating crimes, and everything in between. Readers can engage with mental and physical training techniques, and learn how to be a team player—a vital aspect of police work. This book closely examines what’s necessary to work in law enforcement, from physical requirements such as strength and stamina, to mental necessities such as honesty and commitment. Readers can also take a test to see if they can make the grade as a police officer.","English",31.95,23.95,"363.2—d23","48 pp.",{"$f":"Table1[[#This Row],['# Books]]*Table1[[#This Row],[QTY]]","v":0},{"$f":"Table1[[#This Row],[QTY]]*Table1[[#This Row],[S&L Price]]","v":0}]
[null,null,85,null,"Defend and Protect",1,"The Army","Library Bound Book","978-1-4824-4121-5",2016,"January 2016","Library","7.250 X 9.250","Author","Sarah Levete",6.7,1,null,null,"S",null,"Grade 4 - 5","Grade 4 - 6","Some men and women in the armed forces shoot right to the top. Special Forces are the elite troops who work alone or in small teams on special and dangerous missions around the world. These high-caliber troops are the best of the best. Green Berets, Delta Force, Navy SEALs, and others perform and engage in secret unseen missions. From training programs and tests through the missions themselves, this book introduces readers to the adventurous and action-filled world of Special Forces, and highlights what it takes to be a part of this exclusive team.","English",31.95,23.95,"355.00973—d23","96 pp.",{"$f":"Table1[[#This Row],['# Books]]*Table1[[#This Row],[QTY]]","v":0},{"$f":"Table1[[#This Row],[QTY]]*Table1[[#This Row],[S&L Price]]","v":0}]
[null,null,85,null,"Defend and Protect",1,"The Army","eBook","978-1-4824-4122-2",2016,"January 2016",null,null,"Author","Sarah Levete",6.7,1,null,null,"S",null,"Grade 4 - 5","Grade 4 - 6","Some men and women in the armed forces shoot right to the top. Special Forces are the elite troops who work alone or in small teams on special and dangerous missions around the world. These high-caliber troops are the best of the best. Green Berets, Delta Force, Navy SEALs, and others perform and engage in secret unseen missions. From training programs and tests through the missions themselves, this book introduces readers to the adventurous and action-filled world of Special Forces, and highlights what it takes to be a part of this exclusive team.","English",31.95,23.95,"355.00973—d23","96 pp.",{"$f":"Table1[[#This Row],['# Books]]*Table1[[#This Row],[QTY]]","v":0},{"$f":"Table1[[#This Row],[QTY]]*Table1[[#This Row],[S&L Price]]","v":0}]
[null,null,85,null,"Fact or Phony?",6,"Fact or Phony?","Library Set","978-1-4824-4292-2",2016,"January 2016","Library","6.000 X 9.000",null,"",null,null,null,null,null,null,"Grade 5 - 6","Grade 4 - 6","People say a lot of things that sound like facts. They might say the acid in your stomach can dissolve metal or that a goldfish can only remember 3 seconds into the past. This series explores, explains, and debunks all kinds of claims like these and so many more! Readers will laugh their way through each book as gross, silly, and absurd topics are dubbed as fact or fiction, including information about Shakespeare, animals, and pirates. Interesting fact boxes add additional material throughout a fun layout of images commenting on and complementing the main content.\n\n• Backs up each verdict of fact or fiction with specific information, demonstrating good research practices\n\n• Introduces historical and scientific subjects in an engaging, unique way\n\n• Maintains a relaxed tone to draw in even reluctant readers","English",199.5,149.69999999999999,null,"96 pp.",{"$f":"Table1[[#This Row],['# Books]]*Table1[[#This Row],[QTY]]","v":0},{"$f":"Table1[[#This Row],[QTY]]*Table1[[#This Row],[S&L Price]]","v":0}]
[null,null,85,null,"Fact or Phony?",1,"The Fact or Fiction Behind Battles and Wars","eBook","978-1-4824-4269-4",2016,"January 2016",null,null,"Author","Kay Barnham",null,null,null,null,"R",null,"Grade 5 - 6","Grade 4 - 6","It has been said that history is written by the victors, but just because someone wins a war doesn’t mean they can keep their facts straight! In this entertaining yet informative book, the facts about history’s greatest wars and battles are separated from fiction with ease. Were elephants really good warriors? This book looks at war stories and decides if they’re solid enough to be called facts. “Battle blunders” highlight some of history’s worst war mistakes, while fact boxes pack this book with information that will dazzle any history buff.","English",33.25,24.95,"133.1—d23","96 pp.",{"$f":"Table1[[#This Row],['# Books]]*Table1[[#This Row],[QTY]]","v":0},{"$f":"Table1[[#This Row],[QTY]]*Table1[[#This Row],[S&L Price]]","v":0}]
[null,null,85,null,"Fact or Phony?",1,"The Fact or Fiction Behind Shakespeare","Library Bound Book","978-1-4824-4277-9",2016,"January 2016","Library","6.000 X 9.000","Author","Kay Barnham",null,null,null,null,"R",null,"Grade 5 - 6","Grade 4 - 6","William Shakespeare wrote some of the most famous plays in history, but there is plenty of misinformation about his life and times. This book dives into those so-called “facts” and discovers what’s real and what’s fake with entertaining ease. Did Shakespeare really burn down the Globe Theatre? Did he write all of his plays on his own? Brilliant fact boxes help provide historical context to Shakespeare’s life and works, while “The Bard’s Best Bits” add Shakespeare quotes and phrases we still use in everyday life to this day.","English",33.25,24.95,"822.33—d23","48 pp.",{"$f":"Table1[[#This Row],['# Books]]*Table1[[#This Row],[QTY]]","v":0},{"$f":"Table1[[#This Row],[QTY]]*Table1[[#This Row],[S&L Price]]","v":0}]
[null,null,85,null,"Fact or Phony?",1,"The Fact or Fiction Behind Shakespeare","eBook","978-1-4824-4273-1",2016,"January 2016",null,null,"Author","Kay Barnham",null,null,null,null,"R",null,"Grade 5 - 6","Grade 4 - 6","William Shakespeare wrote some of the most famous plays in history, but there is plenty of misinformation about his life and times. This book dives into those so-called “facts” and discovers what’s real and what’s fake with entertaining ease. Did Shakespeare really burn down the Globe Theatre? Did he write all of his plays on his own? Brilliant fact boxes help provide historical context to Shakespeare’s life and works, while “The Bard’s Best Bits” add Shakespeare quotes and phrases we still use in everyday life to this day.","English",33.25,24.95,"822.33—d23","48 pp.",{"$f":"Table1[[#This Row],['# Books]]*Table1[[#This Row],[QTY]]","v":0},{"$f":"Table1[[#This Row],[QTY]]*Table1[[#This Row],[S&L Price]]","v":0}]
[null,null,85,null,"Sole Survivor",1,"Surviving the Desert","eBook","978-1-4824-5094-1",2017,"August 2016",null,null,"Author","Louise Spilsbury",null,null,null,null,"R","980L","Grade 4 - 5","Grade 4 - 6","Dehydration. Freezing night temperatures. Scorpions. These are just some of the dangers that await those traveling through the desert. With preparation, anyone can survive. But what if something goes wrong? This book introduces readers to the desert ecosystem in an inventive, fascinating way –through its perils! Real-life tales of those who have survived the hardest parts of desert living encourage readers to be prepared when visiting an area with little water, lots of sun, and quicksand! Full-color photographs accompany each story, while multiple-choice questions help readers assess each scary situation.","English",31.95,23.95,"613.6’9--dc23","48 pp.",{"$f":"Table1[[#This Row],['# Books]]*Table1[[#This Row],[QTY]]","v":0},{"$f":"Table1[[#This Row],[QTY]]*Table1[[#This Row],[S&L Price]]","v":0}]
[null,null,85,null,"Sole Survivor",1,"Surviving the Mountain","Library Bound Book","978-1-4824-5085-9",2017,"August 2016","Library","7.250 X 9.250","Author","Louise Spilsbury",null,null,null,null,"R","930L","Grade 4 - 5","Grade 4 - 6","Climbing a mountain takes bravery and training even without considering the dangers that could await climbers. Lighting strikes, avalanches, sheer cliffs, and terrible cold can all be life-threatening, and readers hoping to trek high in the mountains need to know how to handle them! Through real-life survivor stories and supplemental fact boxes about each danger, readers are introduced to what it's like to travel in the mountains. Preparation and caution are emphasized, but instructions on what to do should a disaster occur are clear and understandable. Full-color photographs and multiple-choice questions engage readers further with this exciting and suspenseful topic.","English",31.95,23.95,"796.52’2--dc23","24 pp.",{"$f":"Table1[[#This Row],['# Books]]*Table1[[#This Row],[QTY]]","v":0},{"$f":"Table1[[#This Row],[QTY]]*Table1[[#This Row],[S&L Price]]","v":0}]
[null,null,85,null,"Sole Survivor",1,"Surviving the Sea","Library Bound Book","978-1-4824-5073-6",2017,"August 2016","Library","7.250 X 9.250","Author","Louise Spilsbury",null,null,null,null,"R","950L","Grade 4 - 5","Grade 4 - 6","To reach certain places on Earth, we must cross miles of open water. Whether by plane or boat, there's always a chance of disaster, and the ocean is a dangerous place to be alone without transport. Readers learn what to do should they be left in open water or stranded on an island, including how to get food and water. True stories of those who have survived shipwreck exemplify the courage and resourcefulness needed in scary situations. Readers use their critical-thinking skills to answer multiple-choice questions about similar situations as they learn about the ocean ecosystem, including its hidden dangers.","English",31.95,23.95,"910.4’52--dc23","24 pp.",{"$f":"Table1[[#This Row],['# Books]]*Table1[[#This Row],[QTY]]","v":0},{"$f":"Table1[[#This Row],[QTY]]*Table1[[#This Row],[S&L Price]]","v":0}]
[null,null,85,null,"Sole Survivor",1,"Surviving the Sea","eBook","978-1-4824-5074-3",2017,"August 2016",null,null,"Author","Louise Spilsbury",null,null,null,null,"R","950L","Grade 4 - 5","Grade 4 - 6","To reach certain places on Earth, we must cross miles of open water. Whether by plane or boat, there's always a chance of disaster, and the ocean is a dangerous place to be alone without transport. Readers learn what to do should they be left in open water or stranded on an island, including how to get food and water. True stories of those who have survived shipwreck exemplify the courage and resourcefulness needed in scary situations. Readers use their critical-thinking skills to answer multiple-choice questions about similar situations as they learn about the ocean ecosystem, including its hidden dangers.","English",31.95,23.95,"910.4’52--dc23","24 pp.",{"$f":"Table1[[#This Row],['# Books]]*Table1[[#This Row],[QTY]]","v":0},{"$f":"Table1[[#This Row],[QTY]]*Table1[[#This Row],[S&L Price]]","v":0}]
[null,null,86,null,"Write Right!",1,"Complete Sentences with Your Family","eBook","978-1-4339-9072-4",2014,"August 2013",null,null,"Author","Kristen Rajczak Nelson",null,null,24,20,"L",null,"Grade 2 - 3","Grade 2 - 5","The foundation of a story is more than just an exciting tale to tell. It’s writing correctly and well. Part of writing well is knowing how to craft complete sentences. Readers will learn the characteristics of a complete sentence, including the punctuation marks that end them and how to find a main clause. Full-color photographs will enhance the everyday situations described in the many examples. Fact boxes add even more explanations and, with the main content, support the common core English language standards in a fun and relatable way.","English",22.6,16.95,"428.2","24 pp.",{"$f":"Table1[[#This Row],['# Books]]*Table1[[#This Row],[QTY]]","v":0},{"$f":"Table1[[#This Row],[QTY]]*Table1[[#This Row],[S&L Price]]","v":0}]
[null,null,86,null,"Write Right!",1,"Sequential Words with Your Pets","eBook","978-1-4339-9080-9",2014,"August 2013",null,null,"Author","Kristen Rajczak Nelson",null,null,24,20,"L",null,"Grade 2 - 3","Grade 2 - 5","Stories wouldn’t make much sense without transition words. One kind of transition indicator--sequential words--helps a writer order events, digress, and signal to the reader that the story will be ending soon. Readers will learn all about these important kinds of transitions, including when and how to use them. Sequential words will be introduced through relatable examples, complemented by helpful fact boxes and colorful photographs. The main content expresses a vital concept of the common core English language standards, while the everyday situations presented will engage readers with the new material in a fun way.","English",22.6,16.95,"428.2","24 pp.",{"$f":"Table1[[#This Row],['# Books]]*Table1[[#This Row],[QTY]]","v":0},{"$f":"Table1[[#This Row],[QTY]]*Table1[[#This Row],[S&L Price]]","v":0}]
[null,null,86,null,"Write Right!",1,"Writing Book Reports","Library Bound Book","978-1-4824-0804-1",2015,"August 2014","Library","8.500 X 8.500","Author","Benjamin Proudfit",null,null,24,null,"L",null,"Grade 2 - 3","Grade 2 - 5","The first step of writing a book report is simple—read the book! However, careful reading and note taking can make the writing process easier. Readers learn these skills and more included in the Common Core, such as effective description and ability to recall and write a sequence of events. Whether reporting on fiction or nonfiction, understanding the writing process of book reports is important. Fact boxes offer helpful writing tips as readers move through their writing project from beginning to end. Outlining, transitions, and good grammar are emphasized throughout the main content.","English",22.6,16.95,"372.13028","24 pp.",{"$f":"Table1[[#This Row],['# Books]]*Table1[[#This Row],[QTY]]","v":0},{"$f":"Table1[[#This Row],[QTY]]*Table1[[#This Row],[S&L Price]]","v":0}]
[null,null,86,null,"Write Right!",1,"Writing Book Reports","eBook","978-1-4824-0806-5",2015,"August 2014",null,null,"Author","Benjamin Proudfit",null,null,24,null,"L",null,"Grade 2 - 3","Grade 2 - 5","The first step of writing a book report is simple—read the book! However, careful reading and note taking can make the writing process easier. Readers learn these skills and more included in the Common Core, such as effective description and ability to recall and write a sequence of events. Whether reporting on fiction or nonfiction, understanding the writing process of book reports is important. Fact boxes offer helpful writing tips as readers move through their writing project from beginning to end. Outlining, transitions, and good grammar are emphasized throughout the main content.","English",22.6,16.95,"372.13028","24 pp.",{"$f":"Table1[[#This Row],['# Books]]*Table1[[#This Row],[QTY]]","v":0},{"$f":"Table1[[#This Row],[QTY]]*Table1[[#This Row],[S&L Price]]","v":0}]
[null,null,86,null,"Write Right!",1,"Writing Opinion Papers","Library Bound Book","978-1-4824-1128-7",2015,"August 2014","Library","8.500 X 8.500","Author","Benjamin Proudfit",null,null,24,null,"L",null,"Grade 2 - 3","Grade 2 - 5","The best way of convincing someone of your opinion is to have support for it. Appropriate vocabulary, clear transitions, and a persuasive conclusion help make the case even stronger. Through step-by-step main content, readers learn the basics of crafting opinion papers using the Common Core standards. From brainstorming to outlining to writing, the topic is covered from beginning to end with fact boxes offering tips along the way. A colorful layout keeps readers engaged with skills they can use in any subject area.","English",22.6,16.95,"808.4","32 pp.",{"$f":"Table1[[#This Row],['# Books]]*Table1[[#This Row],[QTY]]","v":0},{"$f":"Table1[[#This Row],[QTY]]*Table1[[#This Row],[S&L Price]]","v":0}]
[null,null,86,null,"Write Right!",1,"Writing Research Papers","eBook","978-1-4824-1123-2",2015,"August 2014",null,null,"Author","Benjamin Proudfit",null,null,24,null,"L",null,"Grade 2 - 3","Grade 2 - 5","Learning to evaluate sources is a key part of beginning to write research papers. Information gathered from relevant informational books and websites makes a well-written paper more authoritative. Using the Common Core standards and understandable explanations, the main content takes readers through the writing of research papers, from conceptualization of the topic to a strong conclusion. An emphasis on outlining, transitions, and word choice aids readers in making their point clearly. Full-color photographs and fun fact boxes enliven a language arts topic that can be used in classes of all kinds.","English",22.6,16.95,"808","32 pp.",{"$f":"Table1[[#This Row],['# Books]]*Table1[[#This Row],[QTY]]","v":0},{"$f":"Table1[[#This Row],[QTY]]*Table1[[#This Row],[S&L Price]]","v":0}]
[null,null,87,null,"Famous Legends (NEW Set of 6 Titles)",6,"Famous Legends (NEW Set of 6 Titles)","Library Set","978-1-5382-0466-5",2018,"August 2017","Library","8.500 X 8.500",null,"",null,null,null,null,null,null,"Grade 2 - 3","Grade 2 - 5","People of all ages never tire of reading legends. There’s something captivating about them, whether they’re about the magical, outlandish, creepy, or just plain weird. Some mix fact and fiction and make us wonder if they could be true. The tales in this continuation of our wildly popular series will truly captivate readers, whether they’re interested in fairies, pirates, or even Bigfoot. Each tale is presented along with fascinating facts about its origins and effects on popular culture today.","English",151.5,113.7,null,"32 pp.",{"$f":"Table1[[#This Row],['# Books]]*Table1[[#This Row],[QTY]]","v":0},{"$f":"Table1[[#This Row],[QTY]]*Table1[[#This Row],[S&L Price]]","v":0}]
[null,null,87,null,"Famous Legends",1,"Mermaid Legends","Library Bound Book","978-1-5382-0381-1",2018,"August 2017","Library","8.500 X 8.500","Author","Kate Light",null,null,null,null,"O",null,"Grade 2 - 3","Grade 2 - 5","Mermaid sightings pop up again and again in seafarers’ accounts. Could there be some truth to the legends? This captivating book takes readers on a high seas’ search for mermaids. They’ll read some fascinating tales of mermaids, both beautiful and hideous. They’ll learn the true story of Hans Christian Andersen’s “The Little Mermaid,” too. This high-interest volume is packed with legends and lore as well as awesome artwork.","English",25.25,18.95,"398.21--dc23","32 pp.",{"$f":"Table1[[#This Row],['# Books]]*Table1[[#This Row],[QTY]]","v":0},{"$f":"Table1[[#This Row],[QTY]]*Table1[[#This Row],[S&L Price]]","v":0}]
[null,null,87,null,"Famous Legends",1,"The Legend of Bigfoot","eBook","978-1-5382-0371-2",2018,"August 2017",null,null,"Author","Katie Kawa",null,null,null,null,"N",null,"Grade 2 - 3","Grade 2 - 5","No matter how many times sightings of Bigfoot have been discredited, this legend won’t be debunked. Diehard believers in the apelike beast take this as support that something is out there that doesn’t want to be found! Readers are invited along on the journey to track down Bigfoot. They’ll learn about some of the most famous encounters, photographic and video evidence, and recent theories. Armed with facts and lore, they can decide for themselves if they believe in Bigfoot.","English",25.25,18.95,"001.944--dc23","32 pp.",{"$f":"Table1[[#This Row],['# Books]]*Table1[[#This Row],[QTY]]","v":0},{"$f":"Table1[[#This Row],[QTY]]*Table1[[#This Row],[S&L Price]]","v":0}]
[null,null,87,null,"Famous Legends",1,"The Legend of King Arthur","Library Bound Book","978-1-4824-2738-7",2016,"August 2015","Library","8.500 X 8.500","Author","Shalini Saxena",4.5999999999999996,0.5,30,null,"N","NC760L","Grade 2 - 3","Grade 2 - 5","Stories of King Arthur and his Knights of the Round Table are rife with adventure and romance. People never tire of the many legendary exploits of the ancient king of Britain. However, readers might be surprised that many historians believe Arthur was a real person. This accessible volume includes some of the most famous tales of the legend as well as their foundations in both history and myth. Beautiful artwork and intriguing fact boxes make this a unique and valuable addition to any fiction or nonfiction collection.","English",25.25,18.95,"942.01","32 pp.",{"$f":"Table1[[#This Row],['# Books]]*Table1[[#This Row],[QTY]]","v":0},{"$f":"Table1[[#This Row],[QTY]]*Table1[[#This Row],[S&L Price]]","v":0}]
[null,null,87,null,"Famous Legends",1,"The Legend of Rip Van Winkle","Library Bound Book","978-1-4824-2746-2",2016,"August 2015","Library","8.500 X 8.500","Author","Mark J. Harasymiw",4.5999999999999996,0.5,30,null,"N","NC830L","Grade 2 - 3","Grade 2 - 5","Rip Van Winkle, the incorrigible character from the early American short story, lived in the years before and after the American Revolution. However, he slept through the war, thanks to some mysterious bearded men in the Catskill Mountains! This compelling retelling of the famous legend, first published in 1819, will entertain readers as well as inform them about the life of storyteller Washington Irving. The engaging design and text are supported by colorful photographs and illustrations of Irving's famous creation.","English",25.25,18.95,"818","40 pp.",{"$f":"Table1[[#This Row],['# Books]]*Table1[[#This Row],[QTY]]","v":0},{"$f":"Table1[[#This Row],[QTY]]*Table1[[#This Row],[S&L Price]]","v":0}]
[null,null,87,null,"Famous Legends",1,"The Legend of Rip Van Winkle","eBook","978-1-4824-2747-9",2016,"August 2015",null,null,"Author","Mark J. Harasymiw",4.5999999999999996,0.5,30,null,"N","NC830L","Grade 2 - 3","Grade 2 - 5","Rip Van Winkle, the incorrigible character from the early American short story, lived in the years before and after the American Revolution. However, he slept through the war, thanks to some mysterious bearded men in the Catskill Mountains! This compelling retelling of the famous legend, first published in 1819, will entertain readers as well as inform them about the life of storyteller Washington Irving. The engaging design and text are supported by colorful photographs and illustrations of Irving's famous creation.","English",25.25,18.95,"818","40 pp.",{"$f":"Table1[[#This Row],['# Books]]*Table1[[#This Row],[QTY]]","v":0},{"$f":"Table1[[#This Row],[QTY]]*Table1[[#This Row],[S&L Price]]","v":0}]
[null,null,87,null,"Famous Legends",1,"The Legend of the Pied Piper","Library Bound Book","978-1-4824-2742-4",2016,"August 2015","Library","8.500 X 8.500","Author","Katherine Ponka",4.9000000000000004,0.5,30,null,"N","NC890L","Grade 2 - 3","Grade 2 - 5","Most of us know something about the legend of the Pied Piper of Hamlin, but few know that it may be based on a true story. This spellbinding account tells the story according to the Brothers Grimm as well as gives details of the historic records that support it. Throughout this high-interest volume, readers will remain engaged with surprising facts such as the possible connections to the plague and the Crusades. Colorful illustrations and photographs of the actual German town will leave readers pondering what's true and what's fiction.","English",25.25,18.95,"809","40 pp.",{"$f":"Table1[[#This Row],['# Books]]*Table1[[#This Row],[QTY]]","v":0},{"$f":"Table1[[#This Row],[QTY]]*Table1[[#This Row],[S&L Price]]","v":0}]
[null,null,88,null,"Silly Stories",1,"How the Cow Jumped over the Moon and Other Silly Stories","Library Bound Book","978-1-4824-4185-7",2016,"January 2016","Library","6.500 X 9.125","Compiled by","Vic Parker",5.0999999999999996,1,null,null,"N","NC850L","Grade 2 - 3","Grade 2 - 5","In “How the Cow Jumped Over the Moon,” L. Frank Baum fills out a classic nursery rhyme with a main character named Bobby and a fairly realistic—if very silly—interpretation of how a huge animal could possibly leap the moon! Along with “Master of All Masters” and “The History of the Seven Families of the Lake Pipple-Popple,” Baum’s tale is sure to entertain imaginative readers. An excerpt from a Lewis Carroll book called “A Most Curious Country” rounds out this amusing collection, all made complete with full-color illustrations.","English",31.95,23.95,"398.2—d23","40 pp.",{"$f":"Table1[[#This Row],['# Books]]*Table1[[#This Row],[QTY]]","v":0},{"$f":"Table1[[#This Row],[QTY]]*Table1[[#This Row],[S&L Price]]","v":0}]
[null,null,88,null,"Silly Stories",1,"How the Dragon Was Tricked and Other Silly Stories","Library Bound Book","978-1-4824-4189-5",2016,"January 2016","Library","6.500 X 9.125","Compiled by","Vic Parker",4.5999999999999996,1,null,null,"N","NC820L","Grade 2 - 3","Grade 2 - 5","To the cunning young man in “How the Dragon Was Tricked,” duping a dragon is easy and fooling a king is even easier! The magic and fun of this story, as well as in “Buttercup,” “Wishing for Wings,” and “The Lad and the Devil,” engage readers with the language arts curriculum’s focus on creative word choice and storytelling. Full-color illustrations make scenes from each of the fanciful tales real, while readers’ imaginations are sparked to fill in the rest.","English",31.95,23.95,"398.2—d23","40 pp.",{"$f":"Table1[[#This Row],['# Books]]*Table1[[#This Row],[QTY]]","v":0},{"$f":"Table1[[#This Row],[QTY]]*Table1[[#This Row],[S&L Price]]","v":0}]
[null,null,88,null,"Silly Stories",1,"How the Leopard Got His Spots and Other Silly Stories","eBook","978-1-4824-4194-9",2016,"January 2016",null,null,"Compiled by","Vic Parker",5.7,1,null,null,"N","NC1160L","Grade 2 - 3","Grade 2 - 5","Rudyard Kipling was truly an innovative children’s author. In “How the Leopard Got His Spots,” Kipling introduces readers to animal adaptation and camouflage through the tale of a confused leopard trying to hunt for his dinner—only to find it hidden to him. Inventive and amusing language use will give readers the giggles, especially those reading out loud! “The Four Little Children Who Went Round the World,” “The Accomplished Lucky Teakettle,” and “Bruin and Reynard” add to the magical amusement. With full-color illustrations complementing each story, this volume adds a bit of whimsy into any reader’s library.","English",31.95,23.95,"398.2—d23","40 pp.",{"$f":"Table1[[#This Row],['# Books]]*Table1[[#This Row],[QTY]]","v":0},{"$f":"Table1[[#This Row],[QTY]]*Table1[[#This Row],[S&L Price]]","v":0}]
[null,null,88,null,"Silly Stories",1,"The Hare-Brained Crocodiles and Other Silly Stories","Library Bound Book","978-1-4824-4205-2",2016,"January 2016","Library","6.500 X 9.125","Compiled by","Vic Parker",4.9000000000000004,1,null,null,"N","930L","Grade 2 - 3","Grade 2 - 5","In the world of “The Hare-Brained Crocodiles,” hares and crocodiles not only talk, but play together in the sand! Such an imaginative tale of a clever hare and dull-witted crocodile will delight readers and spark their imagination. Other funny tales, including Hans Christian Andersen’s “The Darning Needle,” “The Farmer and the Money-Lender,” and “Mother Hulda,” demonstrate Common Core language arts skills as they amuse readers. Full-color illustrations complement each tale, providing creative depictions of the silly stories’ fantastical elements.","English",31.95,23.95,"398.2—d23","40 pp.",{"$f":"Table1[[#This Row],['# Books]]*Table1[[#This Row],[QTY]]","v":0},{"$f":"Table1[[#This Row],[QTY]]*Table1[[#This Row],[S&L Price]]","v":0}]
[null,null,88,null,"Silly Stories",1,"The Open Road and Other Silly Stories","eBook","978-1-4824-4213-7",2016,"January 2016",null,null,"Compiled by","Vic Parker",5,1,null,null,"N","860L","Grade 2 - 3","Grade 2 - 5","Through an excerpt from Kenneth Grahame’s The Wind in the Willows titled “The Open Road,” readers meet talking animals and consider life on the road. High-spirited dialogue and vivid descriptions transport readers into Grahame’s world of silly Toad, Mole, and Rat. Other funny tales engage readers’ imagination, such as “The Inchcape Rock,” “The Cat and the Mouse” and “Why the Bear Is Stumpy-Tailed,” in addition to demonstrating storytelling consistent with the standards in the Common Core language arts curriculum. Full-color illustrations make each story all the more amusing and fun.","English",31.95,23.95,"398.2—d23","40 pp.",{"$f":"Table1[[#This Row],['# Books]]*Table1[[#This Row],[QTY]]","v":0},{"$f":"Table1[[#This Row],[QTY]]*Table1[[#This Row],[S&L Price]]","v":0}]
[null,null,89,null,"Favorite Poems",1,"Calico Pie and Other Poems","Library Bound Book","978-1-4824-2166-8",2015,"January 2015","Library","6.500 X 9.125","Edited by","Tig Thomas",null,null,24,null,"L",null,"Grade 2 - 3","Grade 2 - 5","One of the great pleasures of reading and writing poetry is hearing how words sound together. “Calico Pie” takes readers to the “syllabub sea,” and the other 22 poems in this volume similarly showcase rhyme, creative word choice, and imagery that are as fun to read aloud as they are to imagine. Readers are also introduced to great writers such as Alfred, Lord Tennyson, Robert Burns, and more. Complemented by lovely illustrations, each poem helps engage readers with skills taught in the language arts curriculum.","English",31.95,23.95,"821.008","40 pp.",{"$f":"Table1[[#This Row],['# Books]]*Table1[[#This Row],[QTY]]","v":0},{"$f":"Table1[[#This Row],[QTY]]*Table1[[#This Row],[S&L Price]]","v":0}]
[null,null,89,null,"Favorite Poems",1,"Calico Pie and Other Poems","eBook","978-1-4824-2168-2",2015,"January 2015",null,null,"Edited by","Tig Thomas",null,null,24,null,"L",null,"Grade 2 - 3","Grade 2 - 5","One of the great pleasures of reading and writing poetry is hearing how words sound together. “Calico Pie” takes readers to the “syllabub sea,” and the other 22 poems in this volume similarly showcase rhyme, creative word choice, and imagery that are as fun to read aloud as they are to imagine. Readers are also introduced to great writers such as Alfred, Lord Tennyson, Robert Burns, and more. Complemented by lovely illustrations, each poem helps engage readers with skills taught in the language arts curriculum.","English",31.95,23.95,"821.008","40 pp.",{"$f":"Table1[[#This Row],['# Books]]*Table1[[#This Row],[QTY]]","v":0},{"$f":"Table1[[#This Row],[QTY]]*Table1[[#This Row],[S&L Price]]","v":0}]
[null,null,89,null,"Favorite Poems",1,"Mr. Toad and Other Poems","Library Bound Book","978-1-4824-2130-9",2015,"January 2015","Library","6.500 X 9.125","Edited by","Tig Thomas",null,null,24,null,"L",null,"Grade 2 - 3","Grade 2 - 5","The great poet Alexander Pope was asked by a prince to write a poem for a dog’s collar. He wrote just 15 words encapsulating a royal dog’s entitlement—from the dog’s perspective! In this volume of more than a dozen poems, readers learn that poems don’t need to be serious. They are introduced to lighthearted wordplay and singsong rhyme schemes that are fun to repeat over and over. With entries from Christina Rosetti and William Shakespeare, among others, the writers included are some of the best, but the works offered are understandable and enjoyable for young readers.","English",31.95,23.95,"821.008","40 pp.",{"$f":"Table1[[#This Row],['# Books]]*Table1[[#This Row],[QTY]]","v":0},{"$f":"Table1[[#This Row],[QTY]]*Table1[[#This Row],[S&L Price]]","v":0}]
[null,null,89,null,"Favorite Poems",1,"The Camel's Hump and Other Poems","eBook","978-1-4824-2165-1",2015,"January 2015",null,null,"Edited by","Tig Thomas",null,null,24,null,"L",null,"Grade 2 - 3","Grade 2 - 5","A key part of the language arts curriculum is learning the major tenets of different types of writing. This can be accomplished easily by reading lots of good poetry! Containing poems by W. B. Yeats, Rudyard Kipling, and James Whitcomb Riley, this volume offers many fun, lyrical, and image-filled works perfect for those just starting to read poetry. Full-color illustrations draw readers to turn each page as they take in the rhyme, rhythm, imagery, and unique structure of each poem.","English",31.95,23.95,"821.008","40 pp.",{"$f":"Table1[[#This Row],['# Books]]*Table1[[#This Row],[QTY]]","v":0},{"$f":"Table1[[#This Row],[QTY]]*Table1[[#This Row],[S&L Price]]","v":0}]
[null,null,89,null,"Favorite Poems",1,"The Cats Have Come to Tea and Other Poems","eBook","978-1-4824-2161-3",2015,"January 2015",null,null,"Edited by","Tig Thomas",null,null,24,null,"L",null,"Grade 2 - 3","Grade 2 - 5","Robert Louis Stevenson wrote a whole book of poems for children. Two are presented here, “The Land of Story Book” and “The Dumb Solider.” However, he’s not the only poet whose work is perfect for young readers. This volume includes poems by Robert Browning and Mary Coleridge and many other works readers will find accessible, fun, and enlightening. Colorful illustrations accompany each poem, giving readers plenty of fuel for their imaginations. Readers also learn some key concepts of writing and poetry, such as the importance of word choice, imagery, and rhythm.","English",31.95,23.95,"821.008","40 pp.",{"$f":"Table1[[#This Row],['# Books]]*Table1[[#This Row],[QTY]]","v":0},{"$f":"Table1[[#This Row],[QTY]]*Table1[[#This Row],[S&L Price]]","v":0}]
[null,null,89,null,"Favorite Poems",1,"The Land of Counterpane and Other Poems","Library Bound Book","978-1-4824-2142-2",2015,"January 2015","Library","6.500 X 9.125","Edited by","Tig Thomas",null,null,24,null,"L",null,"Grade 2 - 3","Grade 2 - 5","The words of Robert Louis Stevenson make the child in “The Land of Counterpane” seem both modern and timeless. Rhyme, rhythm, and imagery help readers experience a day sick in bed with new perspective. This volume introduces readers to other great poets, too, including Lewis Carroll, John Keats, and Alfred, Lord Tennyson. Colorful drawings help readers imagine the goings-on in each piece of writing as they encounter surprising word choices, interesting scenes, and lively characters. From “The Masque of Oberon” to “The Elves’ Goodbye,” these poems help readers learn more about writing poetry by reading it.","English",31.95,23.95,"821.008","40 pp.",{"$f":"Table1[[#This Row],['# Books]]*Table1[[#This Row],[QTY]]","v":0},{"$f":"Table1[[#This Row],[QTY]]*Table1[[#This Row],[S&L Price]]","v":0}]
[null,null,90,null,"Aesop's Fables",1,"The Boy Who Cried Wolf and Other Fables","Library Bound Book","978-1-4824-1510-0",2015,"August 2014","Library","6.500 X 9.000","Edited by","Vic Parker",null,null,24,null,"L",null,"Grade 2 - 3","Grade 2 - 5","Playing tricks can get people into trouble quickly—especially if they lie, such as in the story of “The Boy Who Cried Wolf.” In “The Donkey in the Lion’s Skin,” it’s clear that no matter what you wear on the outside, if you’re foolish, it will still show when you speak. Through these fables and many others, readers will be introduced to life lessons in an accessible way. Full-color illustrations of each fable add a bit of fun and fancy to some stories’ more serious morals.","English",31.95,23.95,"398.2","40 pp.",{"$f":"Table1[[#This Row],['# Books]]*Table1[[#This Row],[QTY]]","v":0},{"$f":"Table1[[#This Row],[QTY]]*Table1[[#This Row],[S&L Price]]","v":0}]
[null,null,90,null,"Aesop's Fables",1,"The Fox and the Stork and Other Fables","eBook","978-1-4824-1370-0",2015,"August 2014",null,null,"Edited by","Vic Parker",null,null,24,null,"L",null,"Grade 2 - 3","Grade 2 - 5","The fables of Aesop are full of wisdom garnered from life experiences: depend on yourself more than others, what goes around comes around, and always keep promises. But, learning from stories can sometimes be easier than just being told a lesson. Aesop’s fables show people’s strengths and weaknesses in action. Readers will see important character traits modeled for them in fables such as “The Lark and Her Young Ones” and “The Farmer and the Stork.” Accompanied by lovely illustrations, each fable offers another opportunity for learning lessons that can be used every day.","English",31.95,23.95,"398.2","40 pp.",{"$f":"Table1[[#This Row],['# Books]]*Table1[[#This Row],[QTY]]","v":0},{"$f":"Table1[[#This Row],[QTY]]*Table1[[#This Row],[S&L Price]]","v":0}]
[null,null,90,null,"Aesop's Fables",1,"The Goose That Laid the Golden Egg and Other Fables","eBook","978-1-4824-1368-7",2015,"August 2014",null,null,"Edited by","Vic Parker",null,null,24,null,"L",null,"Grade 2 - 3","Grade 2 - 5","Aphorisms like “slow and steady wins the race” often prove true when put to the test. Many of these common phrases are summaries of famous fables like “The Tortoise and the Hare.” Through more than a dozen short fables, readers will be introduced to tried-and-true maxims and morals. Colorful pictures and illustrations accompany each story, enhancing the world of Aesop’s talking animals and extraordinary situations. Each fable offers readers an opportunity to learn a lesson as well as use their imagination.","English",31.95,23.95,"398.2","40 pp.",{"$f":"Table1[[#This Row],['# Books]]*Table1[[#This Row],[QTY]]","v":0},{"$f":"Table1[[#This Row],[QTY]]*Table1[[#This Row],[S&L Price]]","v":0}]
[null,null,90,null,"Aesop's Fables",1,"The Lion and the Bull and Other Fables","Library Bound Book","978-1-4824-1459-2",2015,"August 2014","Library","6.500 X 9.000","Edited by","Vic Parker",null,null,24,null,"L",null,"Grade 2 - 3","Grade 2 - 5","In “The Athenian and the Theban,” a man from Athens and a man from Thebes discuss whether Hercules or Theseus was a greater hero. Ultimately, the Athenian out-argues the Theban and Theseus’s brain is chosen over Hercules’s brawn. A fable of Aesop, an ancient Greek, this story and the many others like it expose readers to Aesop’s culture while communicating morals that continue to resonate today. Readers will love the succinct, simple structure of the fables and keep turning pages to discover the colorful illustrations complementing each one.","English",31.95,23.95,"398.2","40 pp.",{"$f":"Table1[[#This Row],['# Books]]*Table1[[#This Row],[QTY]]","v":0},{"$f":"Table1[[#This Row],[QTY]]*Table1[[#This Row],[S&L Price]]","v":0}]
[null,null,90,null,"Aesop's Fables",1,"The Town Mouse and the Country Mouse and Other Fables","eBook","978-1-4824-1365-6",2015,"August 2014",null,null,"Edited by","Vic Parker",null,null,24,null,"L",null,"Grade 2 - 3","Grade 2 - 5","The classic tale of “The Town Mouse and the Country Mouse” highlights that one can live in peace and happiness in a poorer home—and appreciate it! It also shows the virtue of knowing yourself and in what environments you thrive. Such lessons can be hard to learn without living through them, but Aesop’s fables present them to readers in an understandable, lively way. Colorful illustrations spark readers’ imagination as they absorb each lesson through terrific, succinct storytelling like “The Peacock and Hera” and “The Farmer and Fortune.”","English",31.95,23.95,"398.2","40 pp.",{"$f":"Table1[[#This Row],['# Books]]*Table1[[#This Row],[QTY]]","v":0},{"$f":"Table1[[#This Row],[QTY]]*Table1[[#This Row],[S&L Price]]","v":0}]
[null,null,91,null,"Scary Fairy Tales",10,"Scary Fairy Tales","Library Set","978-1-4824-2559-8",2016,"August 2015","Library","6.500 X 9.125",null,"",null,null,null,null,null,null,"Grade 3 - 4","Grade 3 - 5","From “Little Red Riding Hood” to “The Snow Queen,” many of our best-loved fairy tales started out as dark stories filled with magic, greed, and death. While some provide readers with a moral or lesson, others simply reflect the troubles life can bring. Creepy, colorful images and design enhance the menacing mood of these classic fairy tales for both readers new to the stories and those who only know the happy endings. Each collection is written in accessible language perfect for young readers eager to fill their imaginations with witches, giants, and more. \n\n\n\n•\t\tIncludes stories from a variety of cultures, fulfilling Common Core language arts curriculum standards\n\n•\t\tEach book provides four stories, providing readers with examples of different kinds of storytelling and writing styles\n\n•\t\tFaithful adaptations to original tales allow readers to compare and contrast stories to other versions they may know \n\n","English",319.5,239.5,null,"40 pp.",{"$f":"Table1[[#This Row],['# Books]]*Table1[[#This Row],[QTY]]","v":0},{"$f":"Table1[[#This Row],[QTY]]*Table1[[#This Row],[S&L Price]]","v":0}]
[null,null,91,null,"Scary Fairy Tales",1,"The Demon with the Matted Hair and Other Stories","Library Bound Book","978-1-4824-3074-5",2016,"August 2015","Library","6.500 X 9.125","Edited by","Vic Parker",5.5,1,null,null,"R",null,"Grade 3 - 4","Grade 3 - 5","“Rapunzel” and “Cinderella” have both been imagined as movies with happy endings and positive morals. However, both stories began as haunting fairy tales long ago. In “Rushen Coatie,” a similar story to “Cinderella,” the wicked stepsisters don’t just end up without the prince, their toes are cut off! And Rapunzel’s witch? She sends Rapunzel to live in the desert! Though old, these tales will enthrall readers familiar with happier fairy tales and stimulate their imaginations with full-color images and illustrations. Other dark fairy tales from around the world, including \"The Dragon of the North\" and \"The Demon with the Matted Hair,\"  introduce readers to new tales of terror and woe.","English",31.95,23.95,"398.2","40 pp.",{"$f":"Table1[[#This Row],['# Books]]*Table1[[#This Row],[QTY]]","v":0},{"$f":"Table1[[#This Row],[QTY]]*Table1[[#This Row],[S&L Price]]","v":0}]
[null,null,91,null,"Scary Fairy Tales",1,"The Goblin Pony and Other Stories","Library Bound Book","978-1-4824-3078-3",2016,"August 2015","Library","6.500 X 9.125","Edited by","Vic Parker",5.2,1,null,null,"R",null,"Grade 3 - 4","Grade 3 - 5","The story “Beauty and the Beast” is well known to most people—or is it? In this retelling of the classic fairy tale, the dark details of the original story return. Readers who have only seen the famous movie will find the beast much harsher, but the goodness of the young woman who comes to know him remains enchanting. Richly colored images and illustrations accompany this tale as well as “The Goblin Pony,” \"Tom Tit Tot,\" \"The Goblin Pony,\" \"The Jellyfish and the Monkey,\" and \"The Strange Visitor.\" Though from other cultures, they offer the same eeriness of more familiar tales.","English",31.95,23.95,"398.2","40 pp.",{"$f":"Table1[[#This Row],['# Books]]*Table1[[#This Row],[QTY]]","v":0},{"$f":"Table1[[#This Row],[QTY]]*Table1[[#This Row],[S&L Price]]","v":0}]
[null,null,91,null,"Scary Fairy Tales",1,"The Little Mermaid and Other Stories","eBook","978-1-4824-3087-5",2016,"August 2015",null,null,"Edited by","Vic Parker",5.8,1,null,null,"R",null,"Grade 3 - 4","Grade 3 - 5","Hans Christian Andersen wrote many familiar fairy tales. However, his original stories have much scarier details than the versions many readers know. In “The Little Mermaid,” the sea witch didn’t just magically take the little mermaid’s voice to prevent her from speaking—she took her tongue! It’s tidbits like this that will give readers the chills as they enter the fantasy world of \"The Witch,\" \"Aladdin and the Wonderful Lamp,\" and \"How Bradamante Conquered the Wizard.\" Each story showcases how content and word choice can add to a story’s haunting tone, and full-color—but creepy—images and illustrations offer readers a jumping-off point to allow their imaginations to roam.","English",31.95,23.95,"398.2","40 pp.",{"$f":"Table1[[#This Row],['# Books]]*Table1[[#This Row],[QTY]]","v":0},{"$f":"Table1[[#This Row],[QTY]]*Table1[[#This Row],[S&L Price]]","v":0}]
[null,null,91,null,"Scary Fairy Tales",1,"The Rat Catcher and Other Stories","Library Bound Book","978-1-4824-3102-5",2016,"August 2015","Library","6.500 X 9.125","Edited by","Vic Parker",5.5,1,null,null,"R",null,"Grade 3 - 4","Grade 3 - 5","What could be more terrifying than a city crawling with rats? In “The Ratcatcher,” a story eerily similar to the legend of the Piped Piper, readers are taken to an old German town where that’s exactly the problem. However, by the end of the tale, it’s not just the rats that have disappeared—it’s all the town’s children! This and other terrible tales are accompanied by full-color images and illustrations that add some beauty to otherwise dark literary worlds. The fire of readers’ imaginations will be lit as they encounter unforgettable storytelling in \"Gold-tree and Silver-tree,\" \"The Devil and his Grandmother,\" and \"The King Who Would See Paradise.\"","English",31.95,23.95,"398.2","24 pp.",{"$f":"Table1[[#This Row],['# Books]]*Table1[[#This Row],[QTY]]","v":0},{"$f":"Table1[[#This Row],[QTY]]*Table1[[#This Row],[S&L Price]]","v":0}]
[null,null,91,null,"Scary Fairy Tales",1,"The Wicked Witch of the West and Other Stories","eBook","978-1-4824-3111-7",2016,"August 2015",null,null,"Edited by","Vic Parker",5.5,1,null,null,"R",null,"Grade 3 - 4","Grade 3 - 5","To many, the Wicked Witch of the West is one of the scariest literary villains of all time. Not only can she command flying monkeys to attack, but she preys upon poor, innocent Dorothy who just wanted to find her way home. Complemented by full-color images and illustrations, the story of the Wicked Witch and her enslavement of Dorothy is retold for a new generation of readers in this volume. Similarly chilling tales, including “Hansel and Gretel,” \"The Horned Women,\" and \"The Master and His Pupil\" are also included to introduce readers to mystical worlds made all the scarier by their imaginations.","English",31.95,23.95,"398.2","24 pp.",{"$f":"Table1[[#This Row],['# Books]]*Table1[[#This Row],[QTY]]","v":0},{"$f":"Table1[[#This Row],[QTY]]*Table1[[#This Row],[S&L Price]]","v":0}]
[null,null,92,null,"Solve It! Math in Space",1,"Math in the Asteroid Belt","Library Bound Book","978-1-4824-4931-0",2017,"August 2016","Library","8.500 X 8.500","Author","Mark J. Harasymiw",5.3,0.5,null,null,"M",null,"Grade 2 - 3","Grade 2 - 5","The asteroid belt between Mars and Jupiter is an intriguing area of our solar system. Scientists have counted over 670,000 known asteroids there, but there could be millions more not yet found. Readers will discover much more about the asteroid belt in this high-interest book, which blends science and math. They’ll read about several topics, such as space missions to the asteroid belt and the difference between an asteroid and a planet, and solve associated math problems—just like actual space scientists do!","English",22.6,16.95,"523.44--dc23","24 pp.",{"$f":"Table1[[#This Row],['# Books]]*Table1[[#This Row],[QTY]]","v":0},{"$f":"Table1[[#This Row],[QTY]]*Table1[[#This Row],[S&L Price]]","v":0}]
[null,null,92,null,"Solve It! Math in Space",1,"Math on Jupiter","Library Bound Book","978-1-4824-4932-7",2017,"August 2016","Library","8.500 X 8.500","Author","Barbara M. Linde",4.2,0.5,null,null,"M",null,"Grade 2 - 3","Grade 2 - 5","Jupiter, named for the mythological king of the gods, demands a lot of respect in the night sky. Young scientists are invited to travel to this gas giant while taking part in “math missions” along their journey. By completing each mission using familiar math operations, they’ll discover fascinating facts about Jupiter, its rings, and its moons. They’ll learn about the storm called the Great Red Spot and the Juno spacecraft’s mission to Jupiter. Science and math are the perfect companions in this exciting volume about the largest planet in the solar system.","English",22.6,16.95,"523.45--dc23","24 pp.",{"$f":"Table1[[#This Row],['# Books]]*Table1[[#This Row],[QTY]]","v":0},{"$f":"Table1[[#This Row],[QTY]]*Table1[[#This Row],[S&L Price]]","v":0}]
[null,null,92,null,"Solve It! Math in Space",1,"Math on Saturn","eBook","978-1-4824-4929-7",2017,"August 2016",null,null,"Author","Sarah Machajewski",null,null,null,null,"N",null,"Grade 2 - 3","Grade 2 - 5","The planet Saturn, with its magnificent rings, is one of the most jaw-dropping sights in our solar system. The striking photographs in this attractive volume invite readers to dive into the essential facts and science vocabulary in the text. They’ll also be invited to solve math problems involving Saturn in which they’ll learn more data such as about Saturn’s 29½-year trip around the sun. Saturn’s rings, moons, and atmosphere are some of the topics that future astronomers will be introduced to in this valuable volume about the sixth planet from the sun.","English",22.6,16.95,"523.46--dc23","32 pp.",{"$f":"Table1[[#This Row],['# Books]]*Table1[[#This Row],[QTY]]","v":0},{"$f":"Table1[[#This Row],[QTY]]*Table1[[#This Row],[S&L Price]]","v":0}]
[null,null,93,null,"Fairy Tale Fixers: Fixing Fairy Tale Problems with STEM",4,"Fairy Tale Fixers: Fixing Fairy Tale Problems with STEM","Library Set","978-1-5382-0616-4",2018,"August 2017","Library","8.500 X 11.00",null,"",null,null,null,null,null,null,"Grade 3 - 4","Grade 3 - 5","What if Rapunzel let down a zip wire instead of her hair? In this hands-on series, readers will tackle classic fairy tale conundrums with the magic of STEM! Beautiful illustrations immerse the reader in their favorite tales: Rapunzel, The Princess and the Pea, Goldilocks and the Three Bears, and Jack and the Beanstalk. Problem-solving activities allow readers to engage with each story and hone their critical thinking skills. Each book includes several STEM puzzles, such as testing the strength of a strand of hair against cotton thread and calculating the math of a zip line! Even readers who are reluctant to learn science and math will love engineering their way to a happily ever after. This rich, creative series will be a popular addition to any library.","English",106.4,79.8,null,"32 pp.",{"$f":"Table1[[#This Row],['# Books]]*Table1[[#This Row],[QTY]]","v":0},{"$f":"Table1[[#This Row],[QTY]]*Table1[[#This Row],[S&L Price]]","v":0}]
[null,null,93,null,"Fairy Tale Fixers: Fixing Fairy Tale Problems with STEM",1,"Goldilocks and the Three Bears: Take the Temperature Test and Solve the Porridge Puzzle!","eBook","978-1-5382-0672-0",2018,"August 2017",null,null,"Author","Jasmine Brooke",null,null,null,null,"O",null,"Grade 3 - 4","Grade 3 - 5","Too hot! Too cold! Goldilocks is one picky eater. In this retelling of Goldilocks’ classic conundrums, readers will use science, technology, engineering, and math to solve problems – such as finding that perfect porridge temperature! This unique story-driven format is “just right” for readers who are reluctant to learn STEM materials. They’ll love engineering their way to a happily ever after using critical thinking and creativity. Adorable illustrations immerse readers in this beloved fairy tale, while engaging activities allow them to strengthen their STEM skills. Unlike a certain blonde intruder, this versatile combination of literature and STEM will be at home in any library.","English",26.6,19.95,"[E]--dc23","32 pp.",{"$f":"Table1[[#This Row],['# Books]]*Table1[[#This Row],[QTY]]","v":0},{"$f":"Table1[[#This Row],[QTY]]*Table1[[#This Row],[S&L Price]]","v":0}]
[null,null,93,null,"Fairy Tale Fixers: Fixing Fairy Tale Problems with STEM",1,"Rapunzel: Let Down Your Zip Wire!","Library Bound Book","978-1-5382-0676-8",2018,"August 2017","Library","8.500 X 11.00","Author","Jasmine Brooke",null,null,null,null,"O",null,"Grade 3 - 4","Grade 3 - 5","Trapped in her tower, Rapunzel has nothing but time to kill and hair to brush. But what if she could use her long locks to engineer an escape? In this retelling of the classic fairy tale, readers will use STEM problem-solving activities to help Rapunzel reach her happy ending! Engaging projects, such as testing a strand of hair’s strength against cotton thread and designing a zip wire, introduce readers to key STEM concepts. Readers will love exercising their critical thinking and creativity to play a part in Rapunzel’s story. Charming illustrations and the interactive format make this innovative book a valuable addition to any library.","English",26.6,19.95,"[E]--dc23","32 pp.",{"$f":"Table1[[#This Row],['# Books]]*Table1[[#This Row],[QTY]]","v":0},{"$f":"Table1[[#This Row],[QTY]]*Table1[[#This Row],[S&L Price]]","v":0}]
[null,null,94,null,"Odd Adaptations",1,"Why Are Ostriches So Big?: And Other Curious Bird Adaptations","Library Bound Book","978-1-5382-0387-3",2018,"August 2017","Library","8.500 X 11.00","Author","Patricia Fletcher",null,null,null,null,"L",null,"Grade 3 - 4","Grade 3 - 6","Ostriches are the biggest birds on Earth. Not only that, they can run distances at about the same speed as a car on a city street! These adaptations are extraordinary, but other birds have even more bizarre adaptations! From gizzards to the many colorful mating displays, bird adaptations are covered in fun, engaging detail throughout this volume. The main content addresses curriculum topics such as animal body systems, life cycles, and more with an emphasis on the most fun information out there about birds and their odd adaptations.","English",26.6,19.95,"598.5’24--dc23","32 pp.",{"$f":"Table1[[#This Row],['# Books]]*Table1[[#This Row],[QTY]]","v":0},{"$f":"Table1[[#This Row],[QTY]]*Table1[[#This Row],[S&L Price]]","v":0}]
[null,null,94,null,"Odd Adaptations",1,"Why Do Mudskippers Walk?: And Other Curious Fish Adaptations","eBook","978-1-5382-0396-5",2018,"August 2017",null,null,"Author","Patricia Fletcher",null,null,null,null,"P",null,"Grade 3 - 4","Grade 3 - 6","Fish are some of the weirdest animals on Earth. Some can walk as well as swim. Others have body parts that have helped them adapt to the deepest, darkest parts of the ocean. And then there are the many amazing kinds of sharks! This book contains the most bizarre adaptations fish can have—and includes up-close, full-color photographs for readers to ogle. This framework provides a way fun way to introduce why and how adaptations happen, as well as other science curriculum topics such as ecosystems and predator-prey relationships.","English",26.6,19.95,"597.14--dc23","48 pp.",{"$f":"Table1[[#This Row],['# Books]]*Table1[[#This Row],[QTY]]","v":0},{"$f":"Table1[[#This Row],[QTY]]*Table1[[#This Row],[S&L Price]]","v":0}]
[null,null,94,null,"Odd Adaptations",1,"Why Do Platypuses Lay Eggs?: And Other Curious Mammal Adaptations","Library Bound Book","978-1-5382-0403-0",2018,"August 2017","Library","8.500 X 11.00","Author","Patricia Fletcher",null,null,null,null,"P",null,"Grade 3 - 4","Grade 3 - 6","The dictionary definition of a mammal says that mammals give birth to live young, but that’s not always true. Echidnas and platypuses, while still technically mammals, lay eggs. Why they do so is one of the strangest adaptations of mammals on Earth. Readers explore this and many other incredible and bizarre adaptations of all kinds of mammals, including the purpose of milk teeth and the hairy truth about camouflage and the coats of many animals. Full-color photographs showcase each adaptation for curious readers as they absorb information about life cycles, predator-prey relationships, and more from the main content.","English",26.6,19.95,"599.2’9--dc23","48 pp.",{"$f":"Table1[[#This Row],['# Books]]*Table1[[#This Row],[QTY]]","v":0},{"$f":"Table1[[#This Row],[QTY]]*Table1[[#This Row],[S&L Price]]","v":0}]
[null,null,94,null,"Odd Adaptations",1,"Why Do Thorny Devils Have Two Heads?: And Other Curious Reptile Adaptations","Library Bound Book","978-1-5382-0407-8",2018,"August 2017","Library","8.500 X 11.00","Author","Patricia Fletcher",null,null,null,null,"P",null,"Grade 3 - 4","Grade 3 - 6","There’s a good reason why the thorny devil has a “false head” on its shoulders. It’s an adaptation that developed to help protect the thorny devil when the reptile feels threatened. Most adaptations have a good explanation—but that doesn’t make some of them any less odd! From snakes shedding their skin a few times a year to the almost unbreakable shells of reptile eggs, reptile adaptations are made even more fascinating in this book through full-color, up-close photographs. In addition to cool adaptations, readers learn science curriculum topics such as the main features of reptiles, evolution, and life cycles.","English",26.6,19.95,"597.95’5--dc23","48 pp.",{"$f":"Table1[[#This Row],['# Books]]*Table1[[#This Row],[QTY]]","v":0},{"$f":"Table1[[#This Row],[QTY]]*Table1[[#This Row],[S&L Price]]","v":0}]
[null,null,95,null,"Flowchart Smart",1,"The Science of Electricity","eBook","978-1-4824-4134-5",2016,"January 2016",null,null,"Author","Louise Spilsbury",null,null,null,null,"T",null,"Grade 4 - 5","Grade 4 - 6","Modern living wouldn’t be possible without electricity. The history of electricity is interesting because we are constantly finding new ways to use it and searching for better ways to produce it. This book takes a look at how electricity travels, how it is stored in batteries, and the many different types of power plants that produce the electricity needed to light our homes, schools, and businesses. Bright photographs and fascinating fact boxes are paired together to make flowcharts highlighting how circuits work to move electricity, how different kinds of batteries hold charges, and much more in this fascinating science book.","English",31.95,23.95,"537—d23","48 pp.",{"$f":"Table1[[#This Row],['# Books]]*Table1[[#This Row],[QTY]]","v":0},{"$f":"Table1[[#This Row],[QTY]]*Table1[[#This Row],[S&L Price]]","v":0}]
[null,null,95,null,"Flowchart Smart",1,"The Science of Light","Library Bound Book","978-1-4824-4145-1",2016,"January 2016","Library","7.250 X 9.250","Author","Mary Colson",null,null,null,null,"T",null,"Grade 4 - 5","Grade 4 - 6","Light is an amazing thing. It allows us to see, sure, but how is it made? This book takes a look at the science behind the creation, travel, and appearance of light. From how fast light travels to the materials that create it, the science behind illumination is fascinating and essential to understanding human life. Informative flowcharts bring the context to life with bright photographs and fact boxes explaining how the human eye sees and reacts to light and how some animals can even see in the dark!","English",31.95,23.95,"535—d23","48 pp.",{"$f":"Table1[[#This Row],['# Books]]*Table1[[#This Row],[QTY]]","v":0},{"$f":"Table1[[#This Row],[QTY]]*Table1[[#This Row],[S&L Price]]","v":0}]
[null,null,95,null,"Flowchart Smart",1,"The Science of Magnetism","Library Bound Book","978-1-4824-4149-9",2016,"January 2016","Library","7.250 X 9.250","Author","Louise Spilsbury",null,null,null,null,"T",null,"Grade 4 - 5","Grade 4 - 6","Magnets are all around us, but how do they work? This innovate book delves into that question and many more, showing readers how the pushes and pulls of magnetic force impact both our planet and everyday lives. Informative flowcharts bring magnetism concepts to life with bright colors and insightful fact boxes, giving readers extra incentive to learn more about magnetic materials, how magnets are used in motors, and much more.","English",31.95,23.95,"538—d23","48 pp.",{"$f":"Table1[[#This Row],['# Books]]*Table1[[#This Row],[QTY]]","v":0},{"$f":"Table1[[#This Row],[QTY]]*Table1[[#This Row],[S&L Price]]","v":0}]
[null,null,95,null,"Flowchart Smart",1,"The Science of Sound","eBook","978-1-4824-4153-6",2016,"January 2016",null,null,"Author","Louise Spilsbury",null,null,null,null,"T",null,"Grade 4 - 5","Grade 4 - 6","Sound produces some of the greatest joys in our lives. From the music we love to the mere sound of laughter, the vibrations our ears pick up play a major role in our life experience. This book shows readers just what sound is, how it travels, and how our ears understand the sounds that surround us all. Innovative flowcharts throughout the book give readers a fun alternative to plain text, showing the science of sound with vibrant colors and interesting fact boxes.","English",31.95,23.95,"534.078—d23","48 pp.",{"$f":"Table1[[#This Row],['# Books]]*Table1[[#This Row],[QTY]]","v":0},{"$f":"Table1[[#This Row],[QTY]]*Table1[[#This Row],[S&L Price]]","v":0}]
[null,null,95,null,"Flowchart Smart",1,"The Science of the Heart and Circulatory System","Library Bound Book","978-1-5382-0693-5",2018,"August 2017","Library","7.250 X 9.250","Authors","Louise Spilsbury, Richard Spilsbury",null,null,null,null,"T",null,"Grade 4 - 5","Grade 4 - 6","What makes our hearts pump? How does blood circulate throughout our bodies? Curious readers will love this innovative look at the human heart and circulatory system. Clean, simple flowcharts located at the end of each chapter break down complex processes into bite-sized information. This allows readers to visualize and retain essential curriculum materials while having fun. Colorful graphics and clear language further ensure the accessibility of this important information. Even readers who are reluctant to study science will be eager to explore this unique, visually rich book. All libraries will have a place for this engaging look at the human heart and circulatory system.","English",31.95,23.95,"612.1--dc23","48 pp.",{"$f":"Table1[[#This Row],['# Books]]*Table1[[#This Row],[QTY]]","v":0},{"$f":"Table1[[#This Row],[QTY]]*Table1[[#This Row],[S&L Price]]","v":0}]
[null,null,95,null,"Flowchart Smart",1,"The Science of the Senses","eBook","978-1-5382-0689-8",2018,"August 2017",null,null,"Authors","Louise Spilsbury, Richard Spilsbury",null,null,null,null,"T",null,"Grade 4 - 5","Grade 4 - 6","Taste, touch, sight, hearing, and smell: these five senses help us navigate the world, process information about our surroundings, and stimulate responses in our bodies. Readers will learn the science behind our amazing senses in this innovative book. Each chapter recaps essential information through clean, simple flowcharts. This helps readers visualize and retain crucial material while having fun. Even readers who are reluctant to engage with science curriculum will gravitate to this accessible and intriguing look at the human senses. Colorful graphics, clear language, and a unique format ensure this book will be popular in any library.","English",31.95,23.95,"612.8--dc23","48 pp.",{"$f":"Table1[[#This Row],['# Books]]*Table1[[#This Row],[QTY]]","v":0},{"$f":"Table1[[#This Row],[QTY]]*Table1[[#This Row],[S&L Price]]","v":0}]
[null,null,96,null,"Crime Solvers",6,"Crime Solvers","Library Set","978-1-5382-0609-6",2018,"August 2017","Library","7.250 X 9.250",null,"",null,null,null,null,null,null,"Grade 6","Grade 6 - 8","Television and movies are rife with crime-scene detectives. But this important work—forensic science—is real, and it actually involves science. Future sleuths and scientists alike will find this foray into criminal investigations fascinating. Each truly thrilling title focuses on a branch of forensic science, transporting the reader to a crime scene and inviting them along as detectives to try to close the case. Forensic anthropology, criminal profiling, pathology, and computer forensics are some of the career paths presented with a special emphasis on science concepts used every day to get the job done.","English",191.7,143.69999999999999,null,"48 pp.",{"$f":"Table1[[#This Row],['# Books]]*Table1[[#This Row],[QTY]]","v":0},{"$f":"Table1[[#This Row],[QTY]]*Table1[[#This Row],[S&L Price]]","v":0}]
[null,null,96,null,"Crime Solvers",1,"Chasing a Serial Killer: Be a Criminal Profiler","eBook","978-1-5382-0624-9",2018,"August 2017",null,null,"Author","Alix Wood",null,null,null,null,"V",null,"Grade 6","Grade 6 - 8","Criminal profilers have the challenging task of building a profile, or description, of an unknown criminal offender. Using clues left behind at a crime scene and various investigative processes, they can discover what the culprit was feeling, planning, and perhaps even their next move. This is especially important when the perpetrator is a serial killer who will likely strike again. Readers will be engrossed in this account of a criminal profiler on a case. Vivid on-the-job photographs and images perfectly match the action of the story and support key attributes of this important career.","English",31.95,23.95,"363.25’8--dc23","48 pp.",{"$f":"Table1[[#This Row],['# Books]]*Table1[[#This Row],[QTY]]","v":0},{"$f":"Table1[[#This Row],[QTY]]*Table1[[#This Row],[S&L Price]]","v":0}]
[null,null,96,null,"Crime Solvers",1,"Mystery in the Morgue: Be a Pathologist","Library Bound Book","978-1-5382-0633-1",2018,"August 2017","Library","7.250 X 9.250","Author","Alix Wood",null,null,null,null,"V",null,"Grade 6","Grade 6 - 8","Sometimes detectives get the glory of being the crime solvers, but the true heroes are the scientists who give them the information they need to do their job. Forensic pathologists are experts in determining a person's cause of death. This unique book is part narrative and part science text, explaining how pathologists use their knowledge of the human body to help solve mysteries. Readers will learn about the different aspects of this fascinating job while trailing a pathologist working on an exciting case. The clever and inviting design includes crime-scene photographs and Solve It! quiz boxes.","English",31.95,23.95,"614.1--dc23","32 pp.",{"$f":"Table1[[#This Row],['# Books]]*Table1[[#This Row],[QTY]]","v":0},{"$f":"Table1[[#This Row],[QTY]]*Table1[[#This Row],[S&L Price]]","v":0}]
[null,null,96,null,"Crime Solvers",1,"The Unmarked Grave: Be a Forensic Anthropologist","eBook","978-1-5382-0628-7",2018,"August 2017",null,null,"Author","Alix Wood",null,null,null,null,"V",null,"Grade 6","Grade 6 - 8","A skeleton is found at a construction site. Authorities call in the person who can unearth the truth about who this was and what happened to them. This remarkable individual, a scientist, is called a forensic anthropologist. Forensic anthropology is the application of scientific methods to solve crimes involving human bodies. The impressive career is rooted in knowledge of anatomy and physiology. Readers will be riveted as they follow professional crime solvers in this book, collecting evidence to help them crack the case wide open. Important concepts are reviewed through thought-provoking quizzes and interesting activities.","English",31.95,23.95,"614.17--dc23","32 pp.",{"$f":"Table1[[#This Row],['# Books]]*Table1[[#This Row],[QTY]]","v":0},{"$f":"Table1[[#This Row],[QTY]]*Table1[[#This Row],[S&L Price]]","v":0}]
[null,null,97,null,"Backyard Bird Watchers (Set of 12 Titles)",12,"Backyard Bird Watchers (Set of 12 Titles)","Library Set","978-1-5382-0224-1",2018,"August 2017","Library","8.500 X 8.500",null,"",null,null,null,null,null,null,"Grade 2 - 3","Grade 2 - 5","There’s no need to go to the zoo to learn about animals—just look in your backyard! Readers of this high-flying series will find out about beautiful birds and their extraordinary lives in the confines of backyards, city parks, and other common places. These aren’t just nonfiction books, though. Rather, they take the form of a young bird watcher’s journal, charmingly cluing readers in on the most important facts about each bird while sharing photographs and even jokes and sketches! Readers will want to take their newfound knowledge outside with a pair of binoculars to spy these winged wonders for themselves.\n\n\n\n","English",303,227.4,null,"32 pp.",{"$f":"Table1[[#This Row],['# Books]]*Table1[[#This Row],[QTY]]","v":0},{"$f":"Table1[[#This Row],[QTY]]*Table1[[#This Row],[S&L Price]]","v":0}]
[null,null,97,null,"Backyard Bird Watchers",1,"A Bird Watcher's Guide to Cardinals","eBook","978-1-4824-3843-7",2016,"January 2016",null,null,"Author","Therese M. Shea",3.8,0.5,null,null,"L",null,"Grade 2 - 3","Grade 2 - 5","Cardinals are some of the most recognizable birds. Males are a vibrant red, and both males and females sport feathered crests on their head. There’s a lot to discover about these small songbirds. Their urge to nourish their young is so strong that they’ve been observed feeding other birds and even goldfish! This volume, written in the style of a young bird watcher’s journal, is an entertaining way to learn about the behaviors and life cycle of the cardinal. Essential science vocabulary, interesting facts, and beautiful photographs will enchant readers and inspire them to bird-watch themselves.","English",25.25,18.95,"598.8'83—dc23","32 pp.",{"$f":"Table1[[#This Row],['# Books]]*Table1[[#This Row],[QTY]]","v":0},{"$f":"Table1[[#This Row],[QTY]]*Table1[[#This Row],[S&L Price]]","v":0}]
[null,null,97,null,"Backyard Bird Watchers",1,"A Bird Watcher's Guide to Goldfinches","eBook","978-1-4824-3906-9",2016,"January 2016",null,null,"Author","Shalini Saxena",4.2,0.5,null,null,"M",null,"Grade 2 - 3","Grade 2 - 5","American goldfinches are much beloved across North America, as evidenced by their status as state bird of Iowa, New Jersey, and Washington. These acrobatic little creatures seem to bounce through the air, making them a popular subject for backyard bird watchers. The narrator of this fun journal-styled volume offers a wealth of information about these little yellow-feathered birds as well as how readers can observe their behaviors for themselves. Cool facts, diagrams, and photographs show how interesting the hobby of bird-watching can be.","English",25.25,18.95,"598.8’85—d23","32 pp.",{"$f":"Table1[[#This Row],['# Books]]*Table1[[#This Row],[QTY]]","v":0},{"$f":"Table1[[#This Row],[QTY]]*Table1[[#This Row],[S&L Price]]","v":0}]
[null,null,97,null,"Backyard Bird Watchers",1,"A Bird Watcher's Guide to Mourning Doves","Library Bound Book","978-1-5382-0325-5",2018,"August 2017","Library","8.500 X 8.500","Author","Aife Arnim",null,null,null,null,"M",null,"Grade 2 - 3","Grade 2 - 5","If you hear a mourning dove’s gentle cooing, don’t look up—look down. These graceful creatures like to forage for seeds on the ground. They’ve been known to gobble up as many as 17,000 seeds in a sitting! Young bird watchers will be fascinated by the hidden life of these birds including migration habits, habitats, mating rituals, and some awesome adaptations for survival. Their guide to all-things-birds is a young bird watcher, encouraging readers to get outside and try this hobby themselves.","English",25.25,18.95,"598.6’5--dc23","32 pp.",{"$f":"Table1[[#This Row],['# Books]]*Table1[[#This Row],[QTY]]","v":0},{"$f":"Table1[[#This Row],[QTY]]*Table1[[#This Row],[S&L Price]]","v":0}]
[null,null,97,null,"Backyard Bird Watchers",1,"A Bird Watcher's Guide to Mourning Doves","eBook","978-1-5382-0326-2",2018,"August 2017",null,null,"Author","Aife Arnim",null,null,null,null,"M",null,"Grade 2 - 3","Grade 2 - 5","If you hear a mourning dove’s gentle cooing, don’t look up—look down. These graceful creatures like to forage for seeds on the ground. They’ve been known to gobble up as many as 17,000 seeds in a sitting! Young bird watchers will be fascinated by the hidden life of these birds including migration habits, habitats, mating rituals, and some awesome adaptations for survival. Their guide to all-things-birds is a young bird watcher, encouraging readers to get outside and try this hobby themselves.","English",25.25,18.95,"598.6’5--dc23","32 pp.",{"$f":"Table1[[#This Row],['# Books]]*Table1[[#This Row],[QTY]]","v":0},{"$f":"Table1[[#This Row],[QTY]]*Table1[[#This Row],[S&L Price]]","v":0}]
[null,null,97,null,"Backyard Bird Watchers",1,"A Bird Watcher's Guide to Robins","eBook","978-1-4824-3910-6",2016,"January 2016",null,null,"Author","Rebecca Carey Rohan",3.9,0.5,null,null,"M",null,"Grade 2 - 3","Grade 2 - 5","Winter-weary people everywhere rejoice when they finally spy robins, an early sign of spring. These cheery birds can be seen hopping on lawns, tugging worms out of the ground. This delightful account of a young bird watcher’s discoveries about robins will both entertain and educate future ornithologists about the robin’s habitat, nest-making behaviors, migratory habits, and other adaptations. Beautifully designed, this volume enthusiastically promotes the hobby of bird-watching.","English",25.25,18.95,"598.8’42—d23","24 pp.",{"$f":"Table1[[#This Row],['# Books]]*Table1[[#This Row],[QTY]]","v":0},{"$f":"Table1[[#This Row],[QTY]]*Table1[[#This Row],[S&L Price]]","v":0}]
[null,null,97,null,"Backyard Bird Watchers",1,"A Bird Watcher's Guide to Wrens","Library Bound Book","978-1-5382-0351-4",2018,"August 2017","Library","8.500 X 8.500","Author","Grace Elora",null,null,null,null,"L",null,"Grade 2 - 3","Grade 2 - 5","The fat bundle of feathers called the house wren is a cute bird. It often cheerfully trills its sweet songs. However, this little fowl’s mood can turn really foul when another bird has a nesting site it wants! It may peck at larger birds to get them to move—and even push eggs out of a nest. Readers of this absorbing book will find that, with all kinds of wrens, looks can be deceiving. They’ll love the diverting narrative and fun fact boxes and especially the up-close look at wrens in their native habitats.","English",25.25,18.95,"598.072’34--dc23","24 pp.",{"$f":"Table1[[#This Row],['# Books]]*Table1[[#This Row],[QTY]]","v":0},{"$f":"Table1[[#This Row],[QTY]]*Table1[[#This Row],[S&L Price]]","v":0}]
[null,null,98,null,"Animal Invaders: Destroying Native Habitats",1,"Attack of the Bullfrogs","Library Bound Book","978-1-4824-5666-0",2017,"January 2017","Library","8.500 X 8.500","Author","Therese M. Shea",4.5,0.5,null,null,"M",null,"Grade 2 - 3","Grade 2 - 5","Bullfrogs in the United States started as a way for Californians to eat more frog legs. Now, the bullfrog population grows almost completely unchecked. In many places in the world where bullfrogs have spread, there aren’t predators to eat them! Readers are likely familiar with the bullfrog croak, but in this book, they’ll learn why hearing it is a bad sign! The main content introduces the definition of “invasive species” and explains through the bullfrog’s story the harm these animals cause. Full-color photographs help readers identity bullfrogs, and informative fact boxes add details about conservation, habitats, and food chains.","English",22.6,16.95,"597.8’92--dc23","24 pp.",{"$f":"Table1[[#This Row],['# Books]]*Table1[[#This Row],[QTY]]","v":0},{"$f":"Table1[[#This Row],[QTY]]*Table1[[#This Row],[S&L Price]]","v":0}]
[null,null,98,null,"Animal Invaders: Destroying Native Habitats",1,"Attack of the Bullfrogs","eBook","978-1-4824-5667-7",2017,"January 2017",null,null,"Author","Therese M. Shea",null,null,null,null,"M",null,"Grade 2 - 3","Grade 2 - 5","Bullfrogs in the United States started as a way for Californians to eat more frog legs. Now, the bullfrog population grows almost completely unchecked. In many places in the world where bullfrogs have spread, there aren’t predators to eat them! Readers are likely familiar with the bullfrog croak, but in this book, they’ll learn why hearing it is a bad sign! The main content introduces the definition of “invasive species” and explains through the bullfrog’s story the harm these animals cause. Full-color photographs help readers identity bullfrogs, and informative fact boxes add details about conservation, habitats, and food chains.","English",22.6,16.95,"597.8’92--dc23","24 pp.",{"$f":"Table1[[#This Row],['# Books]]*Table1[[#This Row],[QTY]]","v":0},{"$f":"Table1[[#This Row],[QTY]]*Table1[[#This Row],[S&L Price]]","v":0}]
[null,null,98,null,"Animal Invaders: Destroying Native Habitats",1,"Attack of the Stink Bugs","Library Bound Book","978-1-4824-5677-6",2017,"January 2017","Library","8.500 X 8.500","Author","Michael Rajczak",4.3,0.5,null,null,"M",null,"Grade 2 - 3","Grade 2 - 5","Though stink bugs weren’t introduced to the United States until the 1990s, this invasive species has spread to nearly every state in the country. Their biggest enemies? Farmers who don’t like them feeding on crops and fruits. Readers don’t need to smell a squished stink bug to understand the harm they can cause not only to crops, but also to native species. The main content and fact boxes discuss how the stink bugs ended up in the United States and the efforts being made to stop their population from growing even more.","English",22.6,16.95,"595.7’54--dc23","24 pp.",{"$f":"Table1[[#This Row],['# Books]]*Table1[[#This Row],[QTY]]","v":0},{"$f":"Table1[[#This Row],[QTY]]*Table1[[#This Row],[S&L Price]]","v":0}]
[null,null,99,null,"Freaky Fish",6,"Freaky Fish","Library Set","978-1-5382-0468-9",2018,"August 2017","Library","8.500 X 8.500",null,"",null,null,null,null,null,null,"Grade 2 - 3","Grade 2 - 5","The waters of the world are filled with strange, fantastic creatures that readers are sure to enjoy learning about! From the high-voltage electric eel to the poisonous pufferfish, this series has the inside scoop on the bizarre lives, shapes, and habitats of some of the freakiest ocean creatures! Each book is brought to vivid life with vibrant photographs and fact boxes full of wacky tidbits.","English",135.6,101.7,null,"24 pp.",{"$f":"Table1[[#This Row],['# Books]]*Table1[[#This Row],[QTY]]","v":0},{"$f":"Table1[[#This Row],[QTY]]*Table1[[#This Row],[S&L Price]]","v":0}]
[null,null,99,null,"Freaky Fish",1,"Frogfish","Library Bound Book","978-1-5382-0259-3",2018,"August 2017","Library","8.500 X 8.500","Edited by, Author","Joan Stoltman, Tanya Dellaccio",null,null,null,null,"L",null,"Grade 2 - 3","Grade 2 - 5","They can change color. They can strike in as little as 6 milliseconds. They can regenerate parts of their body. They are frogfish! Even reluctant readers are sure to enjoy learning all about these wacky, weird, and wonderful fish. Full-color photographs and exciting, age-appropriate text show just how varied the frogfish can be in shape, size, and color. This book provides a great opportunity to learn about evolution, ecosystems, and so much more. Fact boxes pop exciting, sensationally strange tidbits onto every page, making the readers’ experience both fun and educational.","English",22.6,16.95,"597’.62--dc23","24 pp.",{"$f":"Table1[[#This Row],['# Books]]*Table1[[#This Row],[QTY]]","v":0},{"$f":"Table1[[#This Row],[QTY]]*Table1[[#This Row],[S&L Price]]","v":0}]
[null,null,99,null,"Freaky Fish",1,"Frogfish","eBook","978-1-5382-0253-1",2018,"August 2017",null,null,"Edited by, Author","Joan Stoltman, Tanya Dellaccio",null,null,null,null,"L",null,"Grade 2 - 3","Grade 2 - 5","They can change color. They can strike in as little as 6 milliseconds. They can regenerate parts of their body. They are frogfish! Even reluctant readers are sure to enjoy learning all about these wacky, weird, and wonderful fish. Full-color photographs and exciting, age-appropriate text show just how varied the frogfish can be in shape, size, and color. This book provides a great opportunity to learn about evolution, ecosystems, and so much more. Fact boxes pop exciting, sensationally strange tidbits onto every page, making the readers’ experience both fun and educational.","English",22.6,16.95,"597’.62--dc23","24 pp.",{"$f":"Table1[[#This Row],['# Books]]*Table1[[#This Row],[QTY]]","v":0},{"$f":"Table1[[#This Row],[QTY]]*Table1[[#This Row],[S&L Price]]","v":0}]
[null,null,99,null,"Freaky Fish",1,"Pufferfish","eBook","978-1-5382-0255-5",2018,"August 2017",null,null,"Author","Therese M. Shea",null,null,null,null,"L",null,"Grade 2 - 3","Grade 2 - 5","What has 4 teeth, 120 different species, spines all over its body, and is one of the most poisonous animals in the world? The pufferfish! Avid and reluctant readers alike will quickly devour the fascinating facts about the habitat, life cycle, evolution, and more of this strange family of fish. Each spread is filled with lively, full-color photography of this incredibly diverse family of bizarre fish. Fact boxes add to the exciting learning experience by providing quick, wacky tidbits! For instance, pufferfish defend themselves by filling up like a water balloon! Biology does not get any cooler than this!","English",22.6,16.95,"597/.64--dc23","24 pp.",{"$f":"Table1[[#This Row],['# Books]]*Table1[[#This Row],[QTY]]","v":0},{"$f":"Table1[[#This Row],[QTY]]*Table1[[#This Row],[S&L Price]]","v":0}]
[null,null,100,null,"Living with the Dinosaurs",1,"Crocodiles Lived with the Dinosaurs!","eBook","978-1-4824-5648-6",2017,"January 2017",null,null,"Author","Melissa Raé Shofner",null,null,null,null,"O",null,"Grade 2 - 3","Grade 2 - 5","It’s incredible to think that crocodiles were contemporaries of the dinosaurs. Not all crocs looked like the creatures we know today, though. Some were real monsters—such as Machimosaurus rex. It was 30 feet (10 m) long! Reptile lovers and dinosaur enthusiasts will love the details and images found in this high-interest book. They’ll also review important science concepts, such as adaptation and extinction, and relish sharing the fascinating facts they absorb with their friends!","English",22.6,16.95,"597.98’2--dc23","24 pp.",{"$f":"Table1[[#This Row],['# Books]]*Table1[[#This Row],[QTY]]","v":0},{"$f":"Table1[[#This Row],[QTY]]*Table1[[#This Row],[S&L Price]]","v":0}]
[null,null,100,null,"Living with the Dinosaurs",1,"Salamanders Lived with the Dinosaurs!","Library Bound Book","978-1-4824-5663-9",2017,"January 2017","Library","8.500 X 8.500","Author","Heather Moore Niver",5.0999999999999996,0.5,null,null,"O",null,"Grade 2 - 3","Grade 2 - 5","In 2015, scientists found 200-million-year-old fossil remains of a huge salamander-like amphibian, a “super salamander,” that was a top predator of rivers and lakes. It might have even munched on early dinosaurs! Young paleozoologists will love learning about these remarkable creatures that once lived on Earth as well as seeing imaginative images of what they might have looked like. They’ll be amazed how such beasts change and adapt into the animals we know today.","English",22.6,16.95,"597.8’5--dc23","24 pp.",{"$f":"Table1[[#This Row],['# Books]]*Table1[[#This Row],[QTY]]","v":0},{"$f":"Table1[[#This Row],[QTY]]*Table1[[#This Row],[S&L Price]]","v":0}]
[null,null,100,null,"Living with the Dinosaurs",1,"Salamanders Lived with the Dinosaurs!","eBook","978-1-4824-5665-3",2017,"January 2017",null,null,"Author","Heather Moore Niver",null,null,null,null,"O",null,"Grade 2 - 3","Grade 2 - 5","In 2015, scientists found 200-million-year-old fossil remains of a huge salamander-like amphibian, a “super salamander,” that was a top predator of rivers and lakes. It might have even munched on early dinosaurs! Young paleozoologists will love learning about these remarkable creatures that once lived on Earth as well as seeing imaginative images of what they might have looked like. They’ll be amazed how such beasts change and adapt into the animals we know today.","English",22.6,16.95,"597.8’5--dc23","24 pp.",{"$f":"Table1[[#This Row],['# Books]]*Table1[[#This Row],[QTY]]","v":0},{"$f":"Table1[[#This Row],[QTY]]*Table1[[#This Row],[S&L Price]]","v":0}]
[null,null,101,null,"Spiders: Eight-Legged Terrors",6,"Spiders: Eight-Legged Terrors","Library Set","978-1-5382-0475-7",2018,"August 2017","Library","8.500 X 8.500",null,"",null,null,null,null,null,null,"Grade 2 - 3","Grade 2 - 5","Spiders are amazing creatures that live unique lives. But some spiders are truly terrifying. These murderous monsters live all over the world, building webs and catching prey. This series puts readers on the hunt with some of the world’s most interesting arthropods. Some of these spiders’ names speak for themselves—bird-eating spiders and funnel web spiders, to name a few. Others, like the black widow and trapdoor spider, just sound plain scary. With colorful photographs showing these eight-legged arachnids up close and personal, readers will love getting an in-depth look at some of the scariest-looking animals on Earth.","English",135.6,101.7,null,"24 pp.",{"$f":"Table1[[#This Row],['# Books]]*Table1[[#This Row],[QTY]]","v":0},{"$f":"Table1[[#This Row],[QTY]]*Table1[[#This Row],[S&L Price]]","v":0}]
[null,null,101,null,"Spiders: Eight-Legged Terrors",1,"Black Widows","eBook","978-1-4824-6498-6",2018,"August 2017",null,null,"Author","Jill Keppeler",null,null,null,null,"M",null,"Grade 2 - 3","Grade 2 - 5","The name “black widow” strikes fear into hearts of those living where these spiders reside. These fearsome arachnids have venom about 15 times more powerful than that of a rattlesnake! With their distinctive black bodies and red mark on their abdomens, black widows terrorize those afraid of spiders and their poisonous bites. This book explores how these creatures live, where to find them, and what they use all that venom for. It also gives readers a look at why these spiders are so feared, and what to do if they bite humans.","English",22.6,16.95,"595.4’4--dc23","24 pp.",{"$f":"Table1[[#This Row],['# Books]]*Table1[[#This Row],[QTY]]","v":0},{"$f":"Table1[[#This Row],[QTY]]*Table1[[#This Row],[S&L Price]]","v":0}]
[null,null,101,null,"Spiders: Eight-Legged Terrors",1,"Giant Huntsman Spiders","Library Bound Book","978-1-5382-0211-1",2018,"August 2017","Library","8.500 X 8.500","Author","Melissa Raé Shofner",null,null,null,null,"M",null,"Grade 2 - 3","Grade 2 - 5","If a spider has “giant” in its name, it’s bound to terrorize people of all ages. These large arachnids are the world’s largest spider by leg span. What’s more—they don’t build webs! Instead, they hunt down their prey like so many other predators. Through full-color photographs of these dazzling creatures and engaging text, readers explore the world of the giant huntsman to learn how and where they live, and just how large these monster creatures can grow.","English",22.6,16.95,"595.4’4--dc23","48 pp.",{"$f":"Table1[[#This Row],['# Books]]*Table1[[#This Row],[QTY]]","v":0},{"$f":"Table1[[#This Row],[QTY]]*Table1[[#This Row],[S&L Price]]","v":0}]
[null,null,101,null,"Spiders: Eight-Legged Terrors",1,"Giant Huntsman Spiders","eBook","978-1-5382-0212-8",2018,"August 2017",null,null,"Author","Melissa Raé Shofner",null,null,null,null,"M",null,"Grade 2 - 3","Grade 2 - 5","If a spider has “giant” in its name, it’s bound to terrorize people of all ages. These large arachnids are the world’s largest spider by leg span. What’s more—they don’t build webs! Instead, they hunt down their prey like so many other predators. Through full-color photographs of these dazzling creatures and engaging text, readers explore the world of the giant huntsman to learn how and where they live, and just how large these monster creatures can grow.","English",22.6,16.95,"595.4’4--dc23","48 pp.",{"$f":"Table1[[#This Row],['# Books]]*Table1[[#This Row],[QTY]]","v":0},{"$f":"Table1[[#This Row],[QTY]]*Table1[[#This Row],[S&L Price]]","v":0}]
[null,null,102,null,"Science on Patrol",1,"At the Poles","Library Bound Book","978-1-4824-5970-8",2017,"January 2017","Library","7.250 X 9.250","Authors","Louise Spilsbury, Richard Spilsbury",7.1,1,null,null,"T",null,"Grade 4 - 5","Grade 4 - 6","No one lives on Antarctica other than scientists who study it and those who support their work. Many live at the McMurdo Research Station, but others may do their work in mobile stations, battling the cold, dry environment while trying to make fantastic science discoveries. Readers are introduced to some of the most extreme and fascinating STEM careers there are. From climate study to research on polar plants and animals, the research done at Earth’s poles is incredible to read about. Full-color photographs show scientists at work as well as the modern technology they use to get their job done.","English",31.95,23.95,"578.0911--dc23","48 pp.",{"$f":"Table1[[#This Row],['# Books]]*Table1[[#This Row],[QTY]]","v":0},{"$f":"Table1[[#This Row],[QTY]]*Table1[[#This Row],[S&L Price]]","v":0}]
[null,null,102,null,"Science on Patrol",1,"In the Desert","eBook","978-1-4824-5979-1",2017,"January 2017",null,null,"Authors","Louise Spilsbury, Richard Spilsbury",null,null,null,null,"T",null,"Grade 4 - 5","Grade 4 - 6","As global climate change advances, more parts of Earth are becoming desert. How to slow this process is just one area of research scientists study in the desert biome. Like the animals and plants that can survive it, scientists must learn how to work in the hot, dry conditions of the desert. Readers find out their strategies for working in deserts, such as using solar power and even burning human waste! In addition, STEM topics such as robotics, drones, and climate research are described and illustrated through full-color photographs.","English",31.95,23.95,"577.54--dc23","32 pp.",{"$f":"Table1[[#This Row],['# Books]]*Table1[[#This Row],[QTY]]","v":0},{"$f":"Table1[[#This Row],[QTY]]*Table1[[#This Row],[S&L Price]]","v":0}]
[null,null,102,null,"Science on Patrol",1,"Under the Ocean","Library Bound Book","978-1-4824-5990-6",2017,"January 2017","Library","7.250 X 9.250","Authors","Louise Spilsbury, Richard Spilsbury",7.2,1,null,null,"T",null,"Grade 4 - 5","Grade 4 - 6","Scientists estimate that less than 5 percent of the ocean has been explored. That leaves a lot to be discovered—and a large amount of people needed to make those discoveries. Readers dive deep into the research being done under the ocean and the many STEM career possibilities for those interested in such research. Full-color photographs of the latest technology and scientists at work show readers an exciting world they can be part of. In addition, the main content discusses many STEM topics related to the ocean, including habitats, biodiversity, pollution, and climate change.","English",31.95,23.95,"551.46--dc23","32 pp.",{"$f":"Table1[[#This Row],['# Books]]*Table1[[#This Row],[QTY]]","v":0},{"$f":"Table1[[#This Row],[QTY]]*Table1[[#This Row],[S&L Price]]","v":0}]
[null,null,102,null,"Science on Patrol",1,"Under the Ocean","eBook","978-1-4824-5991-3",2017,"January 2017",null,null,"Authors","Louise Spilsbury, Richard Spilsbury",null,null,null,null,"T",null,"Grade 4 - 5","Grade 4 - 6","Scientists estimate that less than 5 percent of the ocean has been explored. That leaves a lot to be discovered—and a large amount of people needed to make those discoveries. Readers dive deep into the research being done under the ocean and the many STEM career possibilities for those interested in such research. Full-color photographs of the latest technology and scientists at work show readers an exciting world they can be part of. In addition, the main content discusses many STEM topics related to the ocean, including habitats, biodiversity, pollution, and climate change.","English",31.95,23.95,"551.46--dc23","32 pp.",{"$f":"Table1[[#This Row],['# Books]]*Table1[[#This Row],[QTY]]","v":0},{"$f":"Table1[[#This Row],[QTY]]*Table1[[#This Row],[S&L Price]]","v":0}]
[null,null,103,null,"Unnatural Disasters",1,"Hazardous Trash","eBook","978-1-5382-0439-9",2018,"August 2017",null,null,"Author","Melissa Raé Shofner",null,null,null,null,"S",null,"Grade 4 - 5","Grade 4 - 6","People have accumulated a frightening and environmentally devastating amount of garbage—even in outer space! This book rips from the headlines the powerful stories of some of the world’s worst dumps, including Mumbai in India, Dandora in Kenya, and more. Fact boxes chronicle the legal changes made—and not made—in each place with regard to waste management. Statistics presented in sidebars on each spread illuminate the problem for readers using frighteningly true numbers. This book reinforces lessons on recycling, littering, and community activism, and concludes with instructions on how to help with Earth’s garbage problem.","English",26.6,19.95,"363.72/88--dc23","32 pp.",{"$f":"Table1[[#This Row],['# Books]]*Table1[[#This Row],[QTY]]","v":0},{"$f":"Table1[[#This Row],[QTY]]*Table1[[#This Row],[S&L Price]]","v":0}]
[null,null,103,null,"Unnatural Disasters",1,"Smothered in Smog","Library Bound Book","978-1-5382-0524-2",2018,"August 2017","Library","6.500 X 9.125","Author","Kate Light",null,null,null,null,"S",null,"Grade 4 - 5","Grade 4 - 6","Smog is in today’s headlines regularly, with vivid photographs of hoards of people wearing masks as they commute. There aren’t many things that acutely threaten the human ecosystem like smog, as the death tolls of the London, Donora, Shanghai, and Meuse Valley disasters show. This is an unfortunately topical book, chronicling several historic episodes—some lasting days, some years—through both focused text and powerful sidebars showing real statistics. Each spread has a fact box discussing what legal changes were made—and not made—following these events. The final chapter cites specific ways readers can help.","English",26.6,19.95,"363.739’2--dc23","24 pp.",{"$f":"Table1[[#This Row],['# Books]]*Table1[[#This Row],[QTY]]","v":0},{"$f":"Table1[[#This Row],[QTY]]*Table1[[#This Row],[S&L Price]]","v":0}]
[null,null,104,null,"World's Weirdest Plants",6,"World's Weirdest Plants","Library Set","978-1-4824-5893-0",2017,"January 2017","Library","8.500 X 8.500",null,"",null,null,null,null,null,null,"Grade 2 - 3","Grade 2 - 5","The Venus flytrap is famous for luring in and eating bugs and small animals. However, it’s not the only carnivorous plant. The pitcher plant makes sweet nectar that draws insects in to their doom! Readers with a green thumb and an eye for the weird will love learning about more odd members of the plant world, including the ancient bristlecone pine, the smelly corpse flower, and underwater forests made of kelp. Each plant’s habitat, unique traits, and even prey are included in the main content, written in accessible language for curious elementary readers.","English",135.6,101.7,null,"24 pp.",{"$f":"Table1[[#This Row],['# Books]]*Table1[[#This Row],[QTY]]","v":0},{"$f":"Table1[[#This Row],[QTY]]*Table1[[#This Row],[S&L Price]]","v":0}]
[null,null,104,null,"World's Weirdest Plants",1,"Bristlecone Pines Are Ancient!","Library Bound Book","978-1-4824-5601-1",2017,"January 2017","Library","8.500 X 8.500","Author","Patricia Fletcher",5.0999999999999996,0.5,null,null,"L",null,"Grade 2 - 3","Grade 2 - 5","One of the oldest trees on our planet is named Methuselah. It’s almost 5,000 years old—and it’s a bristlecone pine tree. This book draws readers into the ancient world through the life cycle of the bristlecone pine tree. Its main features, habitat, and more are described in intriguing detail, including how it can live such a long time. Full-color photographs and fact boxes augment the main science content with fun facts and beautiful images of the majestic bristlecone pine.","English",22.6,16.95,"585/.2--dc23","24 pp.",{"$f":"Table1[[#This Row],['# Books]]*Table1[[#This Row],[QTY]]","v":0},{"$f":"Table1[[#This Row],[QTY]]*Table1[[#This Row],[S&L Price]]","v":0}]
[null,null,104,null,"World's Weirdest Plants",1,"Corpse Flowers Smell Nasty!","eBook","978-1-4824-5611-0",2017,"January 2017",null,null,"Author","Tayler Cole",null,null,null,null,"L",null,"Grade 2 - 3","Grade 2 - 5","The huge corpse flower rarely blooms. When it does, it gives off a strong smell—the smell of a rotting corpse! The gross smell has a purpose, however. Readers learn that the stink of the corpse flower has everything to do with a main subject of the science curriculum: pollination. Other science topics covered include plant life cycles and structures. Fact boxes add even more intriguing information about this weird plant while full-color photographs offer readers an up-close look at a unique flower.","English",22.6,16.95,"584/.64--dc23","48 pp.",{"$f":"Table1[[#This Row],['# Books]]*Table1[[#This Row],[QTY]]","v":0},{"$f":"Table1[[#This Row],[QTY]]*Table1[[#This Row],[S&L Price]]","v":0}]
[null,null,104,null,"World's Weirdest Plants",1,"Pitcher Plants Eat Meat!","Library Bound Book","978-1-4824-5636-3",2017,"January 2017","Library","8.500 X 8.500","Author","Barbara M. Linde",4.5999999999999996,0.5,null,null,"L",null,"Grade 2 - 3","Grade 2 - 5","Plants only make their own food—right? Not pitcher plants! Most pitcher plants draw in insects with their sweet-smelling nectar and slowly digest them. There is one kind of pitcher plant that likes to snack on tree shrews, too. The bizarre eating habits of the pitcher plant are sure to fascinate and delight readers as they learn how this plant’s digestive system works, its habitat, and more. Full-color photographs and a simple diagram allow readers to see clearly the unique structures of this weird plant.","English",22.6,16.95,"581.6--dc23","48 pp.",{"$f":"Table1[[#This Row],['# Books]]*Table1[[#This Row],[QTY]]","v":0},{"$f":"Table1[[#This Row],[QTY]]*Table1[[#This Row],[S&L Price]]","v":0}]
[null,null,105,null,"Miracles of Medicine",1,"Anesthetics","eBook","978-1-4824-6162-6",2017,"January 2017",null,null,"Author","Vic Kovacs",null,null,null,null,"U",null,"Grade 6","Grade 6 - 8","It’s hard to imagine not having an anesthetic at the dentist or during a major operation! This comprehensive volume begins with the history of anesthetics, including herbs used in ancient times. It details different kinds of anesthetics, how anesthetics work, when and where they’re used, and their complications and side effects. It concludes with some fascinating developments in anesthetics. Readers will gain an appreciation for this pain-reducing innovation, while learning more about the human body and medical technology, aided by instructive images and colorful photographs.","English",31.95,23.95,"617.96--dc23","48 pp.",{"$f":"Table1[[#This Row],['# Books]]*Table1[[#This Row],[QTY]]","v":0},{"$f":"Table1[[#This Row],[QTY]]*Table1[[#This Row],[S&L Price]]","v":0}]
[null,null,105,null,"Miracles of Medicine",1,"Antibiotics","Library Bound Book","978-1-4824-6164-0",2017,"January 2017","Library","7.250 X 9.250","Author","Vic Kovacs",null,null,null,null,"U",null,"Grade 6","Grade 6 - 8","Antibiotics, the potent medicines that fight bacterial infections, can save lives. We take these “miracle” substances for granted, but they’ve truly transformed medicine as this accessible guide relates. The major discoveries of bacteria destroyers, including penicillin, are highlighted as well as their impact. Each impressive chapter explains the most important aspects of antibiotics, including their variety, how they’re given, their side effects, and their limitations. Also addressed, ripped from the headlines, is the current controversy surrounding vaccines. Information about antibiotic resistance, misuse, superbugs, and the future of antibiotics will make readers feel like medical professionals!","English",31.95,23.95,"615.329--dc23","48 pp.",{"$f":"Table1[[#This Row],['# Books]]*Table1[[#This Row],[QTY]]","v":0},{"$f":"Table1[[#This Row],[QTY]]*Table1[[#This Row],[S&L Price]]","v":0}]
[null,null,105,null,"Miracles of Medicine",1,"Gene Therapy","eBook","978-1-4824-6169-5",2017,"January 2017",null,null,"Author","Vic Kovacs",null,null,null,null,"V",null,"Grade 6","Grade 6 - 8","Gene therapy is a perennial hot-button issue in today’s news cycle. This relatively new and experimental field involves inserting genetically altered genes into cells to replace defective genes. It can treat genetic disorders or provide a specialized disease-fighting function. The multifaceted topics surrounding gene therapy—DNA, techniques, challenges, and risks—are presented in this clear, understandable text, so that readers can grasp the ramifications and ethical concerns of this incredible technology. While gene therapy is currently only being tested for the treatment of diseases that have no cures, genetic engineering for many ailments and conditions is a very real possibility of the near future.","English",31.95,23.95,"615.8’95--dc23","32 pp.",{"$f":"Table1[[#This Row],['# Books]]*Table1[[#This Row],[QTY]]","v":0},{"$f":"Table1[[#This Row],[QTY]]*Table1[[#This Row],[S&L Price]]","v":0}]
[null,null,106,null,"Mind-Blowing Science Experiments",6,"Mind-Blowing Science Experiments","Library Set","978-1-5382-0827-4",2018,"August 2017","Library","8.500 X 11.00",null,"",null,null,null,null,null,null,"Grade 4 - 5","Grade 4 - 6","From homemade lava lamps to do-it-yourself pizza ovens, this series is bursting with brilliant experiments readers can easily do at home! Readers will learn how to apply scientific principles to the world around them. Along the way, they’ll be introduced to science curriculum topics such as forces, photosynthesis, and electricity! All of the experiments use readily available household items and are safe to carry out at home. The easy-to-follow instructions and engaging text are illustrated with clear step-by-step diagrams and exciting photographs. This hands-on series full of activities will be a perfect addition to any STEM curriculum.","English",159.6,119.7,null,"32 pp.",{"$f":"Table1[[#This Row],['# Books]]*Table1[[#This Row],[QTY]]","v":0},{"$f":"Table1[[#This Row],[QTY]]*Table1[[#This Row],[S&L Price]]","v":0}]
[null,null,106,null,"Mind-Blowing Science Experiments",1,"Cool Experiments with Heat and Cold","eBook","978-1-5382-0738-3",2018,"August 2017",null,null,"Author, Illustrated by","Thomas Canavan, Adam Linley",null,null,null,null,"T",null,"Grade 4 - 5","Grade 4 - 6","Reading about heat and cold is just the tip of the iceberg – this book lets readers create their own icebergs! Hands-on activities make learning about heat and cold both tangible and fun. Simple explanations help readers grasp complex concepts while step-by-step instructions and accompanying photographs ensure they will master each experiment. Helpful tips keep readers safe and offer suggestions for improvements! Aspiring young scientists will enjoy trying the recommended additions and twists to activities. They’ll also learn real-life applications for the same scientific principles they’re working with at home, such as how air pockets in igloos work as insulation!","English",26.6,19.95,"536.078--dc23","32 pp.",{"$f":"Table1[[#This Row],['# Books]]*Table1[[#This Row],[QTY]]","v":0},{"$f":"Table1[[#This Row],[QTY]]*Table1[[#This Row],[S&L Price]]","v":0}]
[null,null,106,null,"Mind-Blowing Science Experiments",1,"Excellent Experiments with Electricity and Magnetism","Library Bound Book","978-1-5382-0742-0",2018,"August 2017","Library","8.500 X 11.00","Author","Thomas Canavan",null,null,null,null,"T",null,"Grade 4 - 5","Grade 4 - 6","Ever wonder how astronauts are able to breathe a continuous supply of oxygen in space? This hands-on approach to electricity and magnetism lets readers conduct experiments to answer this and other fascinating questions! Readers will love learning that the scientific principles they’re applying at home have real-world applications. For example, they’ll rock out on their own “electric drums” while learning about technological advances in professional instruments. Simple step-by-step instructions accompanied by detailed photographs make each activity accessible, while handy tips ensure readers’ safety and fun. Budding scientists will enjoy exploring the recommended twists and additions to experiments.","English",26.6,19.95,"537’.078--dc23","32 pp.",{"$f":"Table1[[#This Row],['# Books]]*Table1[[#This Row],[QTY]]","v":0},{"$f":"Table1[[#This Row],[QTY]]*Table1[[#This Row],[S&L Price]]","v":0}]
[null,null,106,null,"Mind-Blowing Science Experiments",1,"Magnificent Experiments with Materials","eBook","978-1-5382-0735-2",2018,"August 2017",null,null,"Author, Illustrated by","Thomas Canavan, Adam Linley",null,null,null,null,"T",null,"Grade 4 - 5","Grade 4 - 6","Plastic milk? Carbon dragons? Readers will explore these and other whacky experiments in this awesome book on the science of materials! Accessible language breaks down complex concepts, and hands-on activities allow readers to experience science firsthand. Using supplies from around the house, they’ll stack liquids, slice ice, and build a tower on a base of eggshells! Readers will love learning about the real-life applications of scientific principles. They’ll launch vinegar rockets using the same science behind car engines! Step-by-step instructions with accompanying photographs and helpful tips make activities safe and easy to follow.","English",26.6,19.95,"530.4078--dc23","32 pp.",{"$f":"Table1[[#This Row],['# Books]]*Table1[[#This Row],[QTY]]","v":0},{"$f":"Table1[[#This Row],[QTY]]*Table1[[#This Row],[S&L Price]]","v":0}]
[null,null,107,null,"Technology Takes on Nature",6,"Technology Takes on Nature","Library Set","978-1-4824-5885-5",2017,"January 2017","Library","8.500 X 11.00",null,"",null,null,null,null,null,null,"Grade 3 - 4","Grade 3 - 6","The natural world comes with some very dangerous problems. Earthquakes, floods, and other natural disasters put lives at risk and often require human solutions to keep people safe. That’s where technology comes in handy. From earthquake-proofing buildings to the levees and seawalls that protect cities from waves and floodwaters, readers will explore the problems Mother Nature presents to scientists and the resulting engineering marvels that help us in so many ways.","English",159.6,119.7,null,"32 pp.",{"$f":"Table1[[#This Row],['# Books]]*Table1[[#This Row],[QTY]]","v":0},{"$f":"Table1[[#This Row],[QTY]]*Table1[[#This Row],[S&L Price]]","v":0}]
[null,null,107,null,"Technology Takes on Nature",1,"Earthquake-Proof Buildings","eBook","978-1-4824-5770-4",2017,"January 2017",null,null,"Author","Melissa Raé Shofner",null,null,null,null,"Q",null,"Grade 3 - 4","Grade 3 - 6","There’s no telling when an earthquake can strike, which is why engineers building in earthquake-prone places need to be careful. Earthquake-proofing buildings takes cutting-edge science and lots of testing, but these amazing creations help keep people safe and prevent further chaos in the event of disaster. Full-color photographs that chronicle the construction of simple bunker-like rooms as well as more complex buildings yet to be tested by major geological events will mesmerize readers. They’ll also get a look at how high-rises are built to combat the shaking and swaying that comes with these natural disasters.","English",26.6,19.95,"690--dc23","48 pp.",{"$f":"Table1[[#This Row],['# Books]]*Table1[[#This Row],[QTY]]","v":0},{"$f":"Table1[[#This Row],[QTY]]*Table1[[#This Row],[S&L Price]]","v":0}]
[null,null,107,null,"Technology Takes on Nature",1,"Ice Roads","Library Bound Book","978-1-4824-5773-5",2017,"January 2017","Library","8.500 X 11.00","Author","Michael Canfield",5.3,0.5,null,null,"Q",null,"Grade 3 - 4","Grade 3 - 6","Not every road can be perfectly paved and dry. In fact, some roads are made of ice! These ice roads are needed to get supplies to faraway and often dangerous places where snow and ice are constant threats. From truckers battling wintry conditions to deliver construction supplies to people in places like Alaska simply trying to get to work on time, readers will love exploring how people use ice roads to safely drive from place to place. Through full-color photographs showing how these roads are made and maintained, readers take an inside look at some impressive transportation navigation in some of Earth’s deadliest places.","English",26.6,19.95,"388.3’4409113--dc23","48 pp.",{"$f":"Table1[[#This Row],['# Books]]*Table1[[#This Row],[QTY]]","v":0},{"$f":"Table1[[#This Row],[QTY]]*Table1[[#This Row],[S&L Price]]","v":0}]
[null,null,107,null,"Technology Takes on Nature",1,"Levees and Seawalls","eBook","978-1-4824-5778-0",2017,"January 2017",null,null,"Author","Erika Edwards",null,null,null,null,"Q",null,"Grade 3 - 4","Grade 3 - 6","People change the way water moves around them in many different ways. Reclaiming land from rising ocean tides requires levees and seawalls, but few of us know how these amazing engineering tasks are actually carried out. This exciting title takes a look at famous levees on rivers and seawalls on oceans around the world, including the series of projects protecting New Orleans, Louisiana. It also explores what happens when these projects fail, and how engineers today are working to make better levees to battle the growing threat of climate change and rising water levels around the globe.","English",26.6,19.95,"627’.42--dc23","48 pp.",{"$f":"Table1[[#This Row],['# Books]]*Table1[[#This Row],[QTY]]","v":0},{"$f":"Table1[[#This Row],[QTY]]*Table1[[#This Row],[S&L Price]]","v":0}]
[null,null,108,null,"Amazing World of Science and Math",1,"Chemistry Is Explosive","eBook","978-1-4824-4993-8",2017,"August 2016",null,null,"Author","Lisa Regan",6.4,1,null,null,"T",null,"Grade 5","Grade 5 - 6","Chemical reactions are happening all around us–and inside our bodies! From a scab forming on a cut to the creation of carbon dioxide as a waste product, there are so many ways chemistry plays a part in how the human body works. Each spread of this colorful book offers readers a fascinating or surprising fact about popcorn, flour, or other familiar items and relates it to chemistry in understandable and age-appropriate language. These real-life examples and explanations of chemistry in our world engage readers with important STEM concepts such as states of matter, atoms, acids, and more. \n\n","English",31.95,23.95,"540--dc23","32 pp.",{"$f":"Table1[[#This Row],['# Books]]*Table1[[#This Row],[QTY]]","v":0},{"$f":"Table1[[#This Row],[QTY]]*Table1[[#This Row],[S&L Price]]","v":0}]
[null,null,108,null,"Amazing World of Science and Math",1,"Physics Is Out of This World","eBook","978-1-4824-4985-3",2017,"August 2016",null,null,"Author","Lisa Regan",6.1,1,null,null,"T",null,"Grade 5","Grade 5 - 6","Some of the coolest science information in our world is out of it—in space! From how the celestial bodies move around our solar system to people’s ability to travel in it, space science is endlessly fascinating. It’s also an incredible vehicle for physics learning! In this book, readers learn about space, light and sound, machines, and forces in an engaging format that introduces each new concept with a real-life, surprising fact. Colorful photographs and understandable language present STEM curriculum topics in a new way, sure to draw readers in with their gravitational pull!","English",31.95,23.95,"530--dc23","32 pp.",{"$f":"Table1[[#This Row],['# Books]]*Table1[[#This Row],[QTY]]","v":0},{"$f":"Table1[[#This Row],[QTY]]*Table1[[#This Row],[S&L Price]]","v":0}]
[null,null,108,null,"Fantastic Science Journeys",6,"Fantastic Science Journeys","Library Set","978-1-4824-1637-4",2015,"January 2015","Library","8.500 X 8.500",null,"",null,null,null,null,null,null,"Grade 2 - 3","Grade 2 - 5","Besides being a fun chance to get outside school walls, a field trip gives students an opportunity to learn something firsthand in an unforgettable way. Imagine how much people could learn if it were possible to take a field trip into the human body, into the center of Earth, or to the sun! This truly fantastic series can transport readers to these places and beyond. Each volume contains an entertaining narrative filled with facts and clear explanations of key ideas in the science curriculum.      • Topics chosen for appeal as well as importance to elementary science curriculum  • Provides opportunities for examining informational text elements, an important facet of the Common Core English/Language Arts Standards  • Each volume contains numerous “Fun Fact” boxes to supplement information  • Graphic organizers demonstrate organizational skills and enhance text  • High-interest informational text on STEM subject matter that challenges students to analyze the interactions between individuals, events, and ideas","English",151.5,113.7,null,"32 pp.",{"$f":"Table1[[#This Row],['# Books]]*Table1[[#This Row],[QTY]]","v":0},{"$f":"Table1[[#This Row],[QTY]]*Table1[[#This Row],[S&L Price]]","v":0}]
[null,null,108,null,"Fantastic Science Journeys",1,"A Trip Through the Human Body","Library Bound Book","978-1-4824-2007-4",2015,"January 2015","Library","8.500 X 8.500","Author","Christine Honders",null,null,null,null,"O","770L","Grade 2 - 3","Grade 2 - 5","If it were possible to shrink down and take a tour of a human body, would you want to go? Readers will get that chance when they explore the body of a guy named Marty, who will let them check out the body systems that keep his heart beating and his body moving every day. With the help of a tiny ship that goes through his ears and all the way through his digestive system, readers will learn exactly what they are made of with this great book.","English",25.25,18.95,"612","32 pp.",{"$f":"Table1[[#This Row],['# Books]]*Table1[[#This Row],[QTY]]","v":0},{"$f":"Table1[[#This Row],[QTY]]*Table1[[#This Row],[S&L Price]]","v":0}]
[null,null,108,null,"Fantastic Science Journeys",1,"A Trip Through the Milky Way","eBook","978-1-4824-2073-9",2015,"January 2015",null,null,"Author","Heather Moore Niver",null,null,null,null,"N","860L","Grade 2 - 3","Grade 2 - 5","When we look up at the night sky you can see millions of stars, but what do you think we could see in space if we left Earth? If we could hop into a special ship and blast off, traveling billions of miles away from Earth, we’d see the Milky Way galaxy. In this book, readers take an incredible journey through that galaxy, exploring the universe and learning how it was formed and what will one day happen to these enormous groups of stars. From mysterious dark matter to the black holes at the center of galaxies, readers will also dive into the mysteries of the universe scientists have spent years trying to decipher.","English",25.25,18.95,"523.1","32 pp.",{"$f":"Table1[[#This Row],['# Books]]*Table1[[#This Row],[QTY]]","v":0},{"$f":"Table1[[#This Row],[QTY]]*Table1[[#This Row],[S&L Price]]","v":0}]
[null,null,109,null,"Freaky True Science",1,"Freaky Animal Stories","Library Bound Book","978-1-4824-2950-3",2016,"August 2015","Library","6.500 X 9.125","Author","Michael Canfield",null,null,null,null,"T",null,"Grade 4 - 5","Grade 4 - 6","Animals are a wild and wonderful part of our world. However, some animals and their stories are a little wilder than others! This fascinating book explores some of the animal kingdom’s freakiest specimens and strangest scenarios—like the true tale of a two-headed housecat named “Frankenlouie,” and of a chicken named Mike who lived for 18 months after getting his head chopped off! High-interest subject matter and amazingly freaky photographs will captivate readers, and enthralling sidebars and fact boxes present even more unbelievable—but true!—information about some of the most outrageous animals on Earth.","English",26.6,19.95,"590","32 pp.",{"$f":"Table1[[#This Row],['# Books]]*Table1[[#This Row],[QTY]]","v":0},{"$f":"Table1[[#This Row],[QTY]]*Table1[[#This Row],[S&L Price]]","v":0}]
[null,null,109,null,"Freaky True Science",1,"Freaky Animal Stories","eBook","978-1-4824-2951-0",2016,"August 2015",null,null,"Author","Michael Canfield",null,null,null,null,"T",null,"Grade 4 - 5","Grade 4 - 6","Animals are a wild and wonderful part of our world. However, some animals and their stories are a little wilder than others! This fascinating book explores some of the animal kingdom’s freakiest specimens and strangest scenarios—like the true tale of a two-headed housecat named “Frankenlouie,” and of a chicken named Mike who lived for 18 months after getting his head chopped off! High-interest subject matter and amazingly freaky photographs will captivate readers, and enthralling sidebars and fact boxes present even more unbelievable—but true!—information about some of the most outrageous animals on Earth.","English",26.6,19.95,"590","32 pp.",{"$f":"Table1[[#This Row],['# Books]]*Table1[[#This Row],[QTY]]","v":0},{"$f":"Table1[[#This Row],[QTY]]*Table1[[#This Row],[S&L Price]]","v":0}]
[null,null,109,null,"Freaky True Science",1,"Freaky Stories About Electricity","Library Bound Book","978-1-4824-4815-3",2017,"August 2016","Library","6.500 X 9.125","Author","Amy Hayes",6,1,null,null,"T",null,"Grade 4 - 5","Grade 4 - 6","Electricity is one of the most important discoveries of the modern world. But sometimes electricity can do truly freaky things. From ball lightning to Nikola Tesla’s amazing lightning rod and other inventions, the power of lightning has fascinated many throughout history. Stories about Ben Franklin discovering electricity and how Tesla coils work will fascinate readers eager to explore the history of electricity and the technological advances scientists have discovered while working with this powerful natural force.","English",26.6,19.95,"537--dc23","32 pp.",{"$f":"Table1[[#This Row],['# Books]]*Table1[[#This Row],[QTY]]","v":0},{"$f":"Table1[[#This Row],[QTY]]*Table1[[#This Row],[S&L Price]]","v":0}]
[null,null,109,null,"Freaky True Science",1,"Freaky Stories About Our Bodies","eBook","978-1-4824-2963-3",2016,"August 2015",null,null,"Author","Kristen Rajczak Nelson",null,null,null,null,"T",null,"Grade 4 - 5","Grade 4 - 6","Today, science offers explanations of things people once found freaky, and the human body is no exception. Everything our body does has a purpose, from our seemingly gross bodily fluids to the weird and wild ways we stay healthy. Readers take a journey through the human body, learning why (almost) every organ has a purpose and how the old adage “What doesn’t kill you makes you stronger” is actually true in some ways. From the bacteria that fills our bodies to babies’ lack of kneecaps when they’re born, no stone is left unturned in this freakish compilation of all things anatomical. Vivid color images and fascinating fun facts and sidebars offer even more bodily knowledge.","English",26.6,19.95,"610.2","32 pp.",{"$f":"Table1[[#This Row],['# Books]]*Table1[[#This Row],[QTY]]","v":0},{"$f":"Table1[[#This Row],[QTY]]*Table1[[#This Row],[S&L Price]]","v":0}]
[null,null,109,null,"Freaky True Science",1,"Freaky Stories About Technology","eBook","978-1-4824-4845-0",2017,"August 2016",null,null,"Author","Ryan Nagelhout",6.2,1,null,null,"T",null,"Grade 4 - 5","Grade 4 - 6","Technology has made modern life as we know it possible, but there’s always a downside to technological advances. Some technology can be helpful, but some is downright freaky. From secret computer viruses made by the government to incredible technology that keeps buildings safe during windstorms or earthquakes, this book explores the world of technology with an eye on the weird fringes that spark some of the most useful and wild inventions in the world. After all, the weird of today just may be the ordinary of the future.","English",26.6,19.95,"602--dc23","32 pp.",{"$f":"Table1[[#This Row],['# Books]]*Table1[[#This Row],[QTY]]","v":0},{"$f":"Table1[[#This Row],[QTY]]*Table1[[#This Row],[S&L Price]]","v":0}]
[null,null,109,null,"Freaky True Science",1,"Freaky Stories About the Paranormal","Library Bound Book","978-1-4824-4849-8",2017,"August 2016","Library","6.500 X 9.125","Author","M. H. Seeley",6.4,1,null,null,"T",null,"Grade 4 - 5","Grade 4 - 6","Aliens, ghosts, and cryptids may all fall under the category of “strange” or “unusual,” but all are classified as paranormal. There are plenty of spooky and scary stories throughout history. From Abraham Lincoln’s doppelganger to the mysteries of the Bermuda Triangle and even the feeling of déjà vu, there are many unexplained phenomena. Even some aspects of history itself are still a mystery, like the Antikythera mechanism found in a Greek shipwreck. This book shows readers that there is often a blurry line between fact and the paranormal, and sometimes fact is even stranger than fiction!","English",26.6,19.95,"130--dc23","24 pp.",{"$f":"Table1[[#This Row],['# Books]]*Table1[[#This Row],[QTY]]","v":0},{"$f":"Table1[[#This Row],[QTY]]*Table1[[#This Row],[S&L Price]]","v":0}]
[null,null,109,null,"Freaky True Science",1,"Freaky Stories While You Sleep","eBook","978-1-4824-4854-2",2017,"August 2016",null,null,"Author","Caitie McAneney",5.5,1,null,null,"T",null,"Grade 4 - 5","Grade 4 - 6","Everyone needs sleep, but some of the weirdest things about living happen when people try to get some shut-eye. Sleepwalking and lucid dreams are just the start of the odd things that can happen to people when they are asleep. Exploding head syndrome, for instance, is not something people want waking them up in the middle of the night! This book explores all the weird wonders that sleep can bring. From sleep disorders to paralysis and even breathless sleep, there are plenty of freaky facts to explore about life after people close their eyes and say good night.","English",26.6,19.95,"613.7/94--dc23","24 pp.",{"$f":"Table1[[#This Row],['# Books]]*Table1[[#This Row],[QTY]]","v":0},{"$f":"Table1[[#This Row],[QTY]]*Table1[[#This Row],[S&L Price]]","v":0}]
[null,null,110,null,"Cutest Animals...That Could Kill You!",1,"Alarming Leopard Seals","eBook","978-1-4824-4903-7",2017,"August 2016",null,null,"Author","Eleanor Snyder",4.2,0.5,null,null,"L",null,"Grade 2 - 3","Grade 2 - 5","Leopard seals look so cute, but even their name gives us a clue about their true nature: They’re carnivores with a taste for penguin meat! The marine mammals’ size, sometimes exceeding 12 feet (3.7 m), makes them dangerous—even to people. This absorbing volume combines attention-grabbing text with exciting photographs of leopard seals in their native habitats. Young marine biologists will learn about the sneaky behaviors of these sea creatures as well as about other adaptations that make them such toothy terrors.","English",22.6,16.95,"599.79/6--dc23","24 pp.",{"$f":"Table1[[#This Row],['# Books]]*Table1[[#This Row],[QTY]]","v":0},{"$f":"Table1[[#This Row],[QTY]]*Table1[[#This Row],[S&L Price]]","v":0}]
[null,null,110,null,"Cutest Animals...That Could Kill You!",1,"Fierce Frogs","Library Bound Book","978-1-4824-4911-2",2017,"August 2016","Library","8.500 X 8.500","Author","Eleanor Snyder",4.9000000000000004,0.5,null,null,"L",null,"Grade 2 - 3","Grade 2 - 5","Tiny colorful frogs seem like they’d make the cutest pets—until you learn that they’re poisonous! In this riveting volume, readers head into the rainforest to meet tiny amphibians with a most deadly adaptation. They’ll learn where frog poison comes from and how perhaps just 0.0000004 ounce is enough to kill an adult man! They’ll also find out about the newly discovered species of venomous frogs that inject poison using their spiny head. Vivid photographs highlight the beauty of these creatures, while text stresses the need to keep a safe distance from all such fierce frogs.","English",22.6,16.95,"597.8/77--dc23","24 pp.",{"$f":"Table1[[#This Row],['# Books]]*Table1[[#This Row],[QTY]]","v":0},{"$f":"Table1[[#This Row],[QTY]]*Table1[[#This Row],[S&L Price]]","v":0}]
[null,null,110,null,"Cutest Animals...That Could Kill You!",1,"Intimidating Elephants","Library Bound Book","978-1-4824-4912-9",2017,"August 2016","Library","8.500 X 8.500","Author","Mary Molly Shea",4.3,0.5,null,null,"M",null,"Grade 2 - 3","Grade 2 - 5","Elephants are the largest land animals and a favorite at the zoo. They’re so loved it’s hard to imagine the gentle creatures can be very dangerous at times. In fact, they’re responsible for killing over a hundred people each year in India. This riveting book explains why such tragedies occur. As readers learn the answer, they’ll discover more about elephant trunks, tusks, behaviors, and habitats and how some of these put the mammal at risk. Beautiful photographs enhance the ideas presented in this notable volume, which supports the science curriculum.","English",22.6,16.95,"599.6’1--dc23","24 pp.",{"$f":"Table1[[#This Row],['# Books]]*Table1[[#This Row],[QTY]]","v":0},{"$f":"Table1[[#This Row],[QTY]]*Table1[[#This Row],[S&L Price]]","v":0}]
[null,null,110,null,"Cutest Animals...That Could Kill You!",1,"Menacing Chimpanzees","eBook","978-1-4824-4908-2",2017,"August 2016",null,null,"Author","Mary Molly Shea",4.5,0.5,null,null,"M",null,"Grade 2 - 3","Grade 2 - 5","The apes called chimpanzees are closely related to humans. These intelligent primates share many characteristics with their human counterparts, including sympathy, grief, and curiosity. They can solve problems and even use some tools. They also share another feature with us: they can be dangerous. Chimps are known to attack each other, and even people, with deadly results. This book answers why these mostly gentle creatures can turn violent and the dangers they face in their native habitats that have led to their endangered status. Arresting photographs and stunning facts make this high-interest volume especially appealing.","English",22.6,16.95,"599.885--dc23","24 pp.",{"$f":"Table1[[#This Row],['# Books]]*Table1[[#This Row],[QTY]]","v":0},{"$f":"Table1[[#This Row],[QTY]]*Table1[[#This Row],[S&L Price]]","v":0}]
[null,null,110,null,"Cutest Animals...That Could Kill You!",1,"Ferocious Cassowaries","Library Bound Book","978-1-5382-1086-4",2018,"January 2018","Library","8.500 X 8.500","Author","Rosie Banks",null,null,null,null,"M",null,"Grade 2 - 3","Grade 2 - 5","The cassowary is a large, flightless bird. It’s cute, though a bit clumsy-looking. Like other birds that can’t fly to escape danger, cassowaries have defensive mechanisms that help them survive in the wild, including long, sharp claws. Their terrible kick can slice open their enemies. This high-interest book reveals much more fascinating information about this interesting bird and its life in its native habitat. Wildlife enthusiasts will love the vivid photographs of the colorful creature.","English",22.6,16.95,"598.5--dc23","24 pp.",{"$f":"Table1[[#This Row],['# Books]]*Table1[[#This Row],[QTY]]","v":0},{"$f":"Table1[[#This Row],[QTY]]*Table1[[#This Row],[S&L Price]]","v":0}]
[null,null,110,null,"Cutest Animals...That Could Kill You!",1,"Perilous Pumas","Library Bound Book","978-1-5382-1093-2",2018,"January 2018","Library","8.500 X 8.500","Author","Mary Molly Shea",null,null,null,null,"L",null,"Grade 2 - 3","Grade 2 - 5","Pumas, mountain lions, cougars, panthers, catamounts, they’re all the same big, breathtaking cat, but don’t even think about petting one. No matter how cute these cats are, they kill. This wild guide tracks down these fascinating felines in their native habitats and reveals to readers their hunting strategies as well as their essential role in their ecosystems. Jaw-dropping fact boxes and a graphic organizer provide further support for the important science concepts in this valuable volume.","English",22.6,16.95,"599.75'24--dc23","24 pp.",{"$f":"Table1[[#This Row],['# Books]]*Table1[[#This Row],[QTY]]","v":0},{"$f":"Table1[[#This Row],[QTY]]*Table1[[#This Row],[S&L Price]]","v":0}]
[null,null,110,null,"Cutest Animals...That Could Kill You!",1,"Perilous Pumas","eBook","978-1-5382-1094-9",2018,"January 2018",null,null,"Author","Mary Molly Shea",null,null,null,null,"L",null,"Grade 2 - 3","Grade 2 - 5","Pumas, mountain lions, cougars, panthers, catamounts, they’re all the same big, breathtaking cat, but don’t even think about petting one. No matter how cute these cats are, they kill. This wild guide tracks down these fascinating felines in their native habitats and reveals to readers their hunting strategies as well as their essential role in their ecosystems. Jaw-dropping fact boxes and a graphic organizer provide further support for the important science concepts in this valuable volume.","English",22.6,16.95,"599.75'24--dc23","24 pp.",{"$f":"Table1[[#This Row],['# Books]]*Table1[[#This Row],[QTY]]","v":0},{"$f":"Table1[[#This Row],[QTY]]*Table1[[#This Row],[S&L Price]]","v":0}]
[null,null,110,null,"Real-Life Vampires",6,"Real-Life Vampires","Library Set","978-1-4824-4291-5",2016,"January 2016","Library","8.500 X 8.500",null,"",null,null,null,null,null,null,"Grade 2 - 3","Grade 2 - 5","Even without eerie visions of men and women bearing their fangs, the idea of drinking blood can make our blood run cold! However, there are some in the animal kingdom that thrive off the blood of other animals. Readers can sink their teeth into this high-interest topic and learn a lot about creepy creatures like lampreys, leeches, and vampire finches. Fact boxes highlight especially cool or freaky information about these animals’ habits while an eye-catching layout keeps readers turning pages. \n\n•\tFeatures up-close photographs of bloodsucking animals in action\n\n•\tReinforces important science concepts, such as the balance of an ecosystem and the predator-prey relationships\n\n•\tIncludes safety information concerning diseases carried by fleas, ticks, and mosquitoes","English",135.6,101.7,null,"24 pp.",{"$f":"Table1[[#This Row],['# Books]]*Table1[[#This Row],[QTY]]","v":0},{"$f":"Table1[[#This Row],[QTY]]*Table1[[#This Row],[S&L Price]]","v":0}]
[null,null,110,null,"Real-Life Vampires",1,"Bloodsucking Lampreys","Library Bound Book","978-1-4824-3949-6",2016,"January 2016","Library","8.500 X 8.500","Author","Ryan Nagelhout",5.4,0.5,null,null,"M",null,"Grade 2 - 3","Grade 2 - 5","Lampreys aren’t just freaky because of their funnel-shaped mouth or many species’ appetite for blood. They’re an invasive species slowly entering North American waters and causing harm to native species there. Readers learn about the problems invasive species cause as well as details about the parasitic relationships lampreys engage in with other fish. The gross truth about how they suck blood will fascinate readers as they also learn about lampreys’ life cycle, habitat, and more. Up close photographs of lampreys in action are surely as close as readers will want to get to this real-life vampire!","English",22.6,16.95,"591.53—d23","24 pp.",{"$f":"Table1[[#This Row],['# Books]]*Table1[[#This Row],[QTY]]","v":0},{"$f":"Table1[[#This Row],[QTY]]*Table1[[#This Row],[S&L Price]]","v":0}]
[null,null,110,null,"Real-Life Vampires",1,"Bloodsucking Leeches","eBook","978-1-4824-3954-0",2016,"January 2016",null,null,"Author","Tayler Cole",4.9000000000000004,0.5,null,null,"M",null,"Grade 2 - 3","Grade 2 - 5","There are over 650 different types of leeches. And most want to suck your blood! These real-life vampires are nocturnal, like dark places, and only come out when they get thirsty! But can these bloodsuckers actually help humans? The ancient Egyptians may have been on to something! Readers learn about the habitats, history, and medical uses of the bloodsucking leech. Full-color photographs offer an up close view of these thirsty worms, and fact boxes share more details about their fascinating lives.","English",22.6,16.95,"592’.66—d23","24 pp.",{"$f":"Table1[[#This Row],['# Books]]*Table1[[#This Row],[QTY]]","v":0},{"$f":"Table1[[#This Row],[QTY]]*Table1[[#This Row],[S&L Price]]","v":0}]
[null,null,110,null,"Real-Life Vampires",1,"Bloodsucking Mosquitoes","eBook","978-1-4824-3958-8",2016,"January 2016",null,null,"Author","Santana Hunt",5,0.5,null,null,"N",null,"Grade 2 - 3","Grade 2 - 5","Mosquitoes are truly more terrifying than vampires could ever be! That’s because as disease carriers, they are the deadliest animals on Earth. Mosquitoes are vectors for malaria, yellow fever, and many other diseases that kill more than a million people every year. And that’s all because they suck human blood! The fascinating reason why mosquitoes suck blood will truly surprise readers as they learn about mosquitoes’ body parts, life cycle, and many habitats. Bloodsucking monsters won’t seem like much once readers sink their teeth into the truth about mosquitoes!","English",22.6,16.95,"595.77'2—dc23","24 pp.",{"$f":"Table1[[#This Row],['# Books]]*Table1[[#This Row],[QTY]]","v":0},{"$f":"Table1[[#This Row],[QTY]]*Table1[[#This Row],[S&L Price]]","v":0}]
[null,null,111,null,"Bad to the Bone: Nastiest Animals",1,"Army Ants","eBook","978-1-4824-1952-8",2015,"January 2015",null,null,"Author","Marie Roesser",4.3,0.5,28,null,"M",null,"Grade 2 - 3","Grade 2 - 5","Army ants, with their armored bodies and knifelike jaws, are formidable insects, especially in large groups. These incredible creatures work so well together that they intertwine their bodies to create nests and even bridges across water! Readers will be engrossed by interesting information about army ant colonies and mesmerized by vivid photographs of army ants in action. \"That's Nasty!\" fact boxes augment the text with fun supplementary details, and a map and graphic organizer allow readers to review their understanding.","English",22.6,16.95,"595.79","24 pp.",{"$f":"Table1[[#This Row],['# Books]]*Table1[[#This Row],[QTY]]","v":0},{"$f":"Table1[[#This Row],[QTY]]*Table1[[#This Row],[S&L Price]]","v":0}]
[null,null,111,null,"Bad to the Bone: Nastiest Animals",1,"Mongooses","Library Bound Book","978-1-4824-1963-4",2015,"January 2015","Library","8.500 X 8.500","Author","John O'Mara",4.7,0.5,28,null,"M",null,"Grade 2 - 3","Grade 2 - 5","Mongooses, with their long body, short legs, and pointy snouts, are cute furry animals, unless you're an enemy. Then, it doesn't matter how dangerous the situation, they aren't afraid to fight. Mongooses are famous for going head-to-head with venomous king cobras and adders! Readers will discover the adaptations that equip mongooses for these battles, including lightning-quick reflexes and razor-sharp teeth. They'll also learn some odd quirks about some mongoose species, such as how they crack open eggs by throwing them at rocks. A habitat map, graphic organizer, and photographs of mongooses in action will make readers feel like mongoose experts.","English",22.6,16.95,"599.74","24 pp.",{"$f":"Table1[[#This Row],['# Books]]*Table1[[#This Row],[QTY]]","v":0},{"$f":"Table1[[#This Row],[QTY]]*Table1[[#This Row],[S&L Price]]","v":0}]
[null,null,111,null,"Bad to the Bone: Nastiest Animals",1,"Wolverines","Library Bound Book","978-1-4824-1971-9",2015,"January 2015","Library","8.500 X 8.500","Author","John O'Mara",4.5,0.5,28,null,"M",null,"Grade 2 - 3","Grade 2 - 5","Wolverines are full of nasty surprises. Not only does this rough, tough predator have razor-sharp claws, incredibly strong jaws, and killer senses of smell and hearing, it can also release a very potent \"stink bomb\" to scare away its enemies! Wolverines spend most of their time trying to fill their bellies, though. These ferocious mammals are built to survive in their northern habitats. Readers will enjoy this entertaining account of wolverines in the wild, full of hair-raising facts and stunning action photographs.","English",22.6,16.95,"599.76","24 pp.",{"$f":"Table1[[#This Row],['# Books]]*Table1[[#This Row],[QTY]]","v":0},{"$f":"Table1[[#This Row],[QTY]]*Table1[[#This Row],[S&L Price]]","v":0}]
[null,null,111,null,"Bad to the Bone: Nastiest Animals",1,"Wolverines","eBook","978-1-4824-1972-6",2015,"January 2015",null,null,"Author","John O'Mara",4.5,0.5,28,null,"M",null,"Grade 2 - 3","Grade 2 - 5","Wolverines are full of nasty surprises. Not only does this rough, tough predator have razor-sharp claws, incredibly strong jaws, and killer senses of smell and hearing, it can also release a very potent \"stink bomb\" to scare away its enemies! Wolverines spend most of their time trying to fill their bellies, though. These ferocious mammals are built to survive in their northern habitats. Readers will enjoy this entertaining account of wolverines in the wild, full of hair-raising facts and stunning action photographs.","English",22.6,16.95,"599.76","24 pp.",{"$f":"Table1[[#This Row],['# Books]]*Table1[[#This Row],[QTY]]","v":0},{"$f":"Table1[[#This Row],[QTY]]*Table1[[#This Row],[S&L Price]]","v":0}]
[null,null,111,null,"Ultimate Animal Defenses",1,"Deadly Animal Poisons","eBook","978-1-4824-4404-9",2017,"August 2016",null,null,"Author","Madeleine Fortescue",4.9000000000000004,0.5,null,null,"N",null,"Grade 2 - 3","Grade 2 - 5","Many animal species have developed a deadly adaptation to thwart their predators: poison! Some infamous spiders and snakes are feared, and rightly so, for their toxic defenses. However, many other animals are just as deadly. In this fascinating volume, readers will find out the difference between poison and venom. They’ll learn about several creatures and the toxins they use to survive in the wild, such as the pufferfish, the poison dart frog, the cone snail, and the blue-ringed octopus. Beautiful color photographs, a graphic organizer, and fact boxes with stunning information augment this exciting volume.","English",22.6,16.95,"591.6'5—dc23","24 pp.",{"$f":"Table1[[#This Row],['# Books]]*Table1[[#This Row],[QTY]]","v":0},{"$f":"Table1[[#This Row],[QTY]]*Table1[[#This Row],[S&L Price]]","v":0}]
[null,null,111,null,"Ultimate Animal Defenses",1,"Super Skin: Spines, Quills, and Plates","Library Bound Book","978-1-4824-4425-4",2017,"August 2016","Library","8.500 X 8.500","Author","Madeleine Fortescue",4.5999999999999996,0.5,null,null,"N",null,"Grade 2 - 3","Grade 2 - 5","Some species of porcupines have 30,000 quills. Sea horses have bony plates to make them less appetizing, and a sea urchin’s spines may be 1 foot (30 cm) long and venomous. These animals are definitely equipped to survive in their native habitats, much to the disappointment of their predators! In this lively volume, young zoologists will learn about various types of body coverings that help creatures, such as the echidna and the pangolin, stay alive. Photographs of animals in action and a graphic organizer further reinforce the importance of adaptations in the wild.","English",22.6,16.95,"591.47'7—dc23","24 pp.",{"$f":"Table1[[#This Row],['# Books]]*Table1[[#This Row],[QTY]]","v":0},{"$f":"Table1[[#This Row],[QTY]]*Table1[[#This Row],[S&L Price]]","v":0}]
[null,null,111,null,"Ultimate Animal Defenses",1,"Tooth and Nail: Deadly Jaws and Claws","eBook","978-1-4824-4408-7",2017,"August 2016",null,null,"Author","Agatha Gregson",4.8,0.5,null,null,"O",null,"Grade 2 - 3","Grade 2 - 5","Plenty of predators use their monstrous jaws and piercing claws to attack their prey, but many creatures wield these adaptations as defensive mechanisms, too. Readers may be surprised that an animal as cute as the red panda can fiercely protect itself from a snow leopard and that there’s a kind of frog that can jab its version of a bony claw through its skin. Every animal needs to have some kind of weapon if they want to survive in a wild world. Illustrative photographs, fun fact boxes, and a concluding graphic organizer support and enhance this high-interest volume.","English",22.6,16.95,"591.5'3--dc23","24 pp.",{"$f":"Table1[[#This Row],['# Books]]*Table1[[#This Row],[QTY]]","v":0},{"$f":"Table1[[#This Row],[QTY]]*Table1[[#This Row],[S&L Price]]","v":0}]
[null,null,112,null,"Bizarre Beast Battles",1,"Boa Constrictor vs. Grizzly Bear","Library Bound Book","978-1-4824-2782-0",2016,"August 2015","Library","8.500 X 8.500","Author","Charlotte Herriott",4.0999999999999996,0.5,28,null,"M","810L","Grade 2 - 3","Grade 2 - 5","Boa constrictors and grizzly bears are top predators in their native habitats. Imagine these two ferocious wild animals from different parts of the world battling each other! That's just what readers are invited to do in this high-interest volume, which highlights many important elementary science concepts. They'll find out the adaptations of each beast that keep them at the top of their food chain. After weighing the evidence, some of it quite surprising, the reader becomes the judge in this epic battle.","English",22.6,16.95,"590","24 pp.",{"$f":"Table1[[#This Row],['# Books]]*Table1[[#This Row],[QTY]]","v":0},{"$f":"Table1[[#This Row],[QTY]]*Table1[[#This Row],[S&L Price]]","v":0}]
[null,null,112,null,"Bizarre Beast Battles",1,"Rat vs. Cockroach","eBook","978-1-4824-2791-2",2016,"August 2015",null,null,"Author","Charlotte Herriott",3.9,0.5,28,null,"M","760L","Grade 2 - 3","Grade 2 - 5","Rats and cockroaches are definitely two of the grossest animals around. They spread disease and unfortunately flock to wherever people are living. Readers of this spine-tingling volume with vivid photographs are encouraged to decide what would happen if these two pests did battle. They'll be entertained by facts about how the creatures match up in speed, intelligence, and toughness. For example, a cockroach can move around for weeks without its head! Important science concepts such as adaptations and habitats are discussed on each informative and entertaining page.","English",22.6,16.95,"599.35","24 pp.",{"$f":"Table1[[#This Row],['# Books]]*Table1[[#This Row],[QTY]]","v":0},{"$f":"Table1[[#This Row],[QTY]]*Table1[[#This Row],[S&L Price]]","v":0}]
[null,null,112,null,"Bizarre Beast Battles",1,"Tasmanian Devil vs. Hyena","Library Bound Book","978-1-4824-2798-1",2016,"August 2015","Library","8.500 X 8.500","Author","Greg Roza",4.7,0.5,28,null,"M","870L","Grade 2 - 3","Grade 2 - 5","Famously feisty Tasmanian devils and perpetually ravenous hyenas may not seem to have a lot in common. However, both carnivores are ready to kill at a moment's notice. For those who wonder what would happen if one beast was pitted against another, this lively volume has the answers. It breaks down each hunter's adaptations that have helped it survive in its wild habitat, such as the Tasmanian devil's brawny bite and the hyena's staggering stamina. Incredible action photographs demonstrate key points in the text, giving readers a ringside seat to a wild fight to the finish.","English",22.6,16.95,"599","24 pp.",{"$f":"Table1[[#This Row],['# Books]]*Table1[[#This Row],[QTY]]","v":0},{"$f":"Table1[[#This Row],[QTY]]*Table1[[#This Row],[S&L Price]]","v":0}]
[null,null,112,null,"Things That Sting",1,"Jellyfish","Library Bound Book","978-1-4824-1702-9",2016,"August 2015","Library","8.500 X 8.500","Author","Greg Roza",4.5999999999999996,0.5,28,null,"M","840L","Grade 2 - 3","Grade 2 - 5","Box jellyfish are responsible for about 20 to 40 deaths in the Philippines each year. The sting of one species of box jellyfish can kill a person in 3 minutes! While these are some of the deadliest jellyfish, all species of jellyfish sting, both for defense and to hunt for food. Full-color photographs introduce readers to the growing population of jellyfish in Earth’s oceans. From the strange-but-cool life cycle of the jellyfish to the specifics of their stinging tentacles, the main text includes interesting science content, astonishing fact boxes, and safety information about sharing the oceans with these stinging creatures.","English",22.6,16.95,"593.5","24 pp.",{"$f":"Table1[[#This Row],['# Books]]*Table1[[#This Row],[QTY]]","v":0},{"$f":"Table1[[#This Row],[QTY]]*Table1[[#This Row],[S&L Price]]","v":0}]
[null,null,112,null,"Things That Sting",1,"Jellyfish","eBook","978-1-4824-1705-0",2016,"August 2015",null,null,"Author","Greg Roza",4.5999999999999996,0.5,28,null,"M","840L","Grade 2 - 3","Grade 2 - 5","Box jellyfish are responsible for about 20 to 40 deaths in the Philippines each year. The sting of one species of box jellyfish can kill a person in 3 minutes! While these are some of the deadliest jellyfish, all species of jellyfish sting, both for defense and to hunt for food. Full-color photographs introduce readers to the growing population of jellyfish in Earth’s oceans. From the strange-but-cool life cycle of the jellyfish to the specifics of their stinging tentacles, the main text includes interesting science content, astonishing fact boxes, and safety information about sharing the oceans with these stinging creatures.","English",22.6,16.95,"593.5","24 pp.",{"$f":"Table1[[#This Row],['# Books]]*Table1[[#This Row],[QTY]]","v":0},{"$f":"Table1[[#This Row],[QTY]]*Table1[[#This Row],[S&L Price]]","v":0}]
[null,null,112,null,"Things That Sting",1,"Scorpions","eBook","978-1-4824-1717-3",2016,"August 2015",null,null,"Author","Therese M. Shea",4.5999999999999996,0.5,28,null,"M","860L","Grade 2 - 3","Grade 2 - 5","To many, the curved tail of a scorpion is a scary sight. Though it uses a deadly poison to subdue prey and protect itself from predators, only 25 species of scorpion have a venom very harmful to people. Readers learn the particulars of the scorpion stinger as well as the arachnid’s diet and habits. Full-color photographs bring readers close to this small carnivore—which most would avoid if seen in person! Fact boxes add further detail to the main content, engaging readers with science information consistent with bug units included in the curriculum.","English",22.6,16.95,"595.4","32 pp.",{"$f":"Table1[[#This Row],['# Books]]*Table1[[#This Row],[QTY]]","v":0},{"$f":"Table1[[#This Row],[QTY]]*Table1[[#This Row],[S&L Price]]","v":0}]
[null,null,113,null,"Animals of Mass Destruction",6,"Animals of Mass Destruction","Library Set","978-1-4824-1045-7",2015,"August 2014","Library","8.500 X 8.500",null,"",null,null,null,null,null,null,"Grade 2 - 3","Grade 2 - 5","Even the smallest creatures can cause massive amounts of damage to both natural and manmade environments. Termites, beavers, and locusts are some of the subjects of this fact-filled series, which focuses on why these animals are so destructive and how people try to stop them. Besides these creatures' detrimental tendencies, their important and essential roles in their ecosystems are also stressed. Remarkable photographs support text and add interest to an already fascinating life-science topic.   • \"Chew on This!\" fact boxes highlight these animals' notable characteristics    • Graphic organizers summarize and stress significant elements of the text  • Text supports elementary science topics, including life cycles and habitats ","English",151.5,113.7,null,"32 pp.",{"$f":"Table1[[#This Row],['# Books]]*Table1[[#This Row],[QTY]]","v":0},{"$f":"Table1[[#This Row],[QTY]]*Table1[[#This Row],[S&L Price]]","v":0}]
[null,null,113,null,"Animals of Mass Destruction",1,"Gophers","Library Bound Book","978-1-4824-1046-4",2015,"August 2014","Library","8.500 X 8.500","Author","Julia McDonnell",4.5999999999999996,0.5,30,null,"N",null,"Grade 2 - 3","Grade 2 - 5","Gophers are rodents that may look cute, but they can wreck a backyard in a hurry. In fact, one small gopher can move a ton of dirt in just a year. Gophers tunneling through wild fields aren't a problem. In fact, their tunneling can be good for the environment. However, when they choose playgrounds, yards, farms, and golf courses for homes, they can become very destructive animals. So what do people do if a gopher moves in? Readers will find out in this informative book, chock full of fun facts and photographs of gophers in action.","English",25.25,18.95,"599.35","24 pp.",{"$f":"Table1[[#This Row],['# Books]]*Table1[[#This Row],[QTY]]","v":0},{"$f":"Table1[[#This Row],[QTY]]*Table1[[#This Row],[S&L Price]]","v":0}]
[null,null,113,null,"Animals of Mass Destruction",1,"Locusts","Library Bound Book","978-1-4824-1051-8",2015,"August 2014","Library","8.500 X 8.500","Author","Caitie McAneney",5.0999999999999996,0.5,30,null,"N",null,"Grade 2 - 3","Grade 2 - 5","Just the mention of locusts can strike fear into the heart of a farmer. Locust plagues wreak havoc on crops and have been the cause of millions of people going hungry. This book examines the life of a locust and what happens to cause a swarm to form. Locust swarms can contain trillions of insects and cover hundreds of miles of land, so locust control is essential to countries dependent on crops. This book offers both historical and scientific information on locusts and impresses just how detrimental these creatures can be.","English",25.25,18.95,"595.7","24 pp.",{"$f":"Table1[[#This Row],['# Books]]*Table1[[#This Row],[QTY]]","v":0},{"$f":"Table1[[#This Row],[QTY]]*Table1[[#This Row],[S&L Price]]","v":0}]
[null,null,113,null,"Animals of Mass Destruction",1,"Tent Caterpillars","eBook","978-1-4824-1059-4",2015,"August 2014",null,null,"Author","Barbara M. Linde",4.5,0.5,28,null,"M",null,"Grade 2 - 3","Grade 2 - 5","After the tent caterpillar hatches from its egg, it's hungry for leaves. It may emerge with 350 other caterpillars, so a ravenous colony can mean big trouble for a tree. Tent caterpillars are named for the silky, tent-like homes they weave. Their tents function as shelters from the elements as well as predators in the weeks before the caterpillars turn into moths. This book discusses the tent caterpillar life cycle, damaging habits, and habitats as well as how people try to fight them to save their trees.","English",25.25,18.95,"595.78","24 pp.",{"$f":"Table1[[#This Row],['# Books]]*Table1[[#This Row],[QTY]]","v":0},{"$f":"Table1[[#This Row],[QTY]]*Table1[[#This Row],[S&L Price]]","v":0}]
[null,null,113,null,"Zombie Animals: Parasites Take Control!",1,"Zombie Ants","eBook","978-1-4824-2831-5",2016,"August 2015",null,null,"Author","Frances Nagle",5.2,0.5,28,null,"M",null,"Grade 2 - 3","Grade 2 - 5","Ants are known for being industrious insects. They follow set paths to find food and are often seen walking in a straight line. If you follow them, they’ll lead you right back to their nest. When scientists found ants that were walking off course in tropical forests, they knew something was wrong. Readers learn all the latest information about these fascinating zombie ants, including what causes their strange behavior and what threat it poses to their species. Full-color photographs show the deadly end of these ants, and fact boxes offer more details about a rare parasitic phenomenon.","English",22.6,16.95,"578.6","24 pp.",{"$f":"Table1[[#This Row],['# Books]]*Table1[[#This Row],[QTY]]","v":0},{"$f":"Table1[[#This Row],[QTY]]*Table1[[#This Row],[S&L Price]]","v":0}]
[null,null,113,null,"Zombie Animals: Parasites Take Control!",1,"Zombie Fish","Library Bound Book","978-1-4824-2842-1",2016,"August 2015","Library","8.500 X 8.500","Author","Jolene Alessi",5.0999999999999996,0.5,28,null,"M",null,"Grade 2 - 3","Grade 2 - 5","Tapeworms aren’t just a problem for people. They control a fish called the stickleback, directing it to superhot water where the tapeworm has a chance to grow as big as it can. If the tapeworm gets its way—and it often does—infected fish end up with huge bellies full of a tapeworm that may be bigger than the fish! Readers learn all about this terrible parasite as well as others that turn fish into zombies. Full-color photographs enhance intriguing science content, including how the fish survives a parasitic infestation and how each parasite spreads.","English",22.6,16.95,"597","40 pp.",{"$f":"Table1[[#This Row],['# Books]]*Table1[[#This Row],[QTY]]","v":0},{"$f":"Table1[[#This Row],[QTY]]*Table1[[#This Row],[S&L Price]]","v":0}]
[null,null,113,null,"Zombie Animals: Parasites Take Control!",1,"Zombie Fish","eBook","978-1-4824-2843-8",2016,"August 2015",null,null,"Author","Jolene Alessi",5.0999999999999996,0.5,28,null,"M",null,"Grade 2 - 3","Grade 2 - 5","Tapeworms aren’t just a problem for people. They control a fish called the stickleback, directing it to superhot water where the tapeworm has a chance to grow as big as it can. If the tapeworm gets its way—and it often does—infected fish end up with huge bellies full of a tapeworm that may be bigger than the fish! Readers learn all about this terrible parasite as well as others that turn fish into zombies. Full-color photographs enhance intriguing science content, including how the fish survives a parasitic infestation and how each parasite spreads.","English",22.6,16.95,"597","40 pp.",{"$f":"Table1[[#This Row],['# Books]]*Table1[[#This Row],[QTY]]","v":0},{"$f":"Table1[[#This Row],[QTY]]*Table1[[#This Row],[S&L Price]]","v":0}]
[null,null,113,null,"Zombie Animals: Parasites Take Control!",1,"Zombie Snails","eBook","978-1-4824-2851-3",2016,"August 2015",null,null,"Author","Jolene Alessi",5,0.5,28,null,"M",null,"Grade 2 - 3","Grade 2 - 5","A worm call Leucochloridium needs to reach a bird’s stomach in order to reproduce and spread in the bird’s waste. How it gets there sounds like science fiction! By infesting a snail’s eyestalks and controlling its brain, this parasite sends the snail into the open with eyestalks that now resemble caterpillars, which are a bird’s favorite snack. Readers are introduced to the poor zombie snail and its role in the parasite-host relationship. Full-color photographs showcase the incredible changes the snail undergoes once infected by the parasite. Fascinating fact boxes and main content offer readers the gross, but cool, details!","English",22.6,16.95,"594'.3 —d23","40 pp.",{"$f":"Table1[[#This Row],['# Books]]*Table1[[#This Row],[QTY]]","v":0},{"$f":"Table1[[#This Row],[QTY]]*Table1[[#This Row],[S&L Price]]","v":0}]
[null,null,114,null,"Animals Are Wild!",1,"Deadly Animals","eBook","978-1-4824-5017-0",2017,"August 2016",null,null,"Author","Anna Claybourne",7.3,1,null,null,"N","NC1060L","Grade 3 - 4","Grade 3 - 5","The deadliest animal on Earth is also one of the smallest. The mosquito is a vector, or carrier, of diseases that kill millions of people every year. Readers learn about how and why this is, among other facts about animals with other deadly defenses. Full-color photographs highlight the powerful jaws of the grizzly bear, the huge horn of the rhino, and much more. Readers can see some of the world’s predators closer than would be possible, even in a zoo! In addition, fact boxes describe each animal’s behavior, size, and even endangered status.","English",31.95,23.95,"591.6’5--dc23","40 pp.",{"$f":"Table1[[#This Row],['# Books]]*Table1[[#This Row],[QTY]]","v":0},{"$f":"Table1[[#This Row],[QTY]]*Table1[[#This Row],[S&L Price]]","v":0}]
[null,null,114,null,"Animals Are Wild!",1,"Strange Bugs","Library Bound Book","978-1-4824-5004-0",2017,"August 2016","Library","8.500 X 11.00","Author","Steve Parker",6.8,1,null,null,"N","NC1130L","Grade 3 - 4","Grade 3 - 5","Bugs are some of the most interesting members of the animal kingdom! Some are brightly colored and quite beautiful. Many have wings, some just have legs, and still others have no limbs at all. Through full-color photographs and detailed fact boxes, readers are introduced to many members of the wonderful world of bugs. This up-close look reveals that spiders have fangs, leg and wing shape can tell a lot about a bug’s behavior, and that people have a lot to learn about bugs!","English",31.95,23.95,"595.7--dc23","32 pp.",{"$f":"Table1[[#This Row],['# Books]]*Table1[[#This Row],[QTY]]","v":0},{"$f":"Table1[[#This Row],[QTY]]*Table1[[#This Row],[S&L Price]]","v":0}]
[null,null,114,null,"Animals Are Wild!",1,"Weird Animals","Library Bound Book","978-1-4824-5000-2",2017,"August 2016","Library","8.500 X 11.00","Author","Steve Parker",6.9,1,null,null,"N","NC1170L","Grade 3 - 4","Grade 3 - 5","What could a male Jackson’s chameleon need three horns for besides fighting? Actually, this odd-looking animal has horns to scare predators and attract females more than defense! Some animals’ bodies can lead readers to question the purpose of their weird features. This book has the answers they’re looking for! From how the echidna uses its spines to keep predators away to how the hornbill uses its large beak, the main content features some of nature’s most interesting bodies. Colorful, up-close photographs and concise fact boxes introduce readers to many kinds of animal habitats, behaviors, and life cycles.","English",31.95,23.95,"591--dc23","32 pp.",{"$f":"Table1[[#This Row],['# Books]]*Table1[[#This Row],[QTY]]","v":0},{"$f":"Table1[[#This Row],[QTY]]*Table1[[#This Row],[S&L Price]]","v":0}]
[null,null,114,null,"Danger! Dinosaurs",1,"Dinosaur Defenders","Library Bound Book","978-1-4824-3026-4",2016,"August 2015","Library","8.500 X 11.00","Author","Liz Miles",6.9,1,44,null,"V",null,"Grade 4 - 5","Grade 3 - 6","With vicious and violent beasts such as Tyrannosaurus rex on the loose, the odds of a peaceful herbivore surviving an encounter with a carnivorous dinosaur seem long. However, plant-eating dinosaurs had plenty of defenses to help them battle such brutes. Pachycephalosaurids had especially thick bones to head-butt their enemies. Stegosauruses had plates and spikes to deter carnivores. Other dinosaurs, such as Ankylosaurs, had tough, plated bodies, like tanks! This dinosaur-packed volume showcases remarkable details about these creatures as well as touches upon important science topics, such as adaptations and the predator/prey relationship.","English",26.6,19.95,"567.9","32 pp.",{"$f":"Table1[[#This Row],['# Books]]*Table1[[#This Row],[QTY]]","v":0},{"$f":"Table1[[#This Row],[QTY]]*Table1[[#This Row],[S&L Price]]","v":0}]
[null,null,114,null,"Danger! Dinosaurs",1,"Dinosaurs and the Prehistoric World","eBook","978-1-4824-3035-6",2016,"August 2015",null,null,"Author","Liz Miles",6.7,1,44,null,"U",null,"Grade 4 - 5","Grade 3 - 6","Our world is in a constant state of gradual change. And Earth today is very different from the place where dinosaurs once roamed. This intriguing volume covers not just the jaw-dropping dinosaurs of the Triassic, Jurassic, and Cretaceous periods, but also the strange insects, fish, mammals, and other animal life that emerged before and after. Imaginative illustrations, captivating text, and fun fact boxes introduce readers to some of the most bizarre beasts of the prehistoric era, while a timeline aids them in tracing life-forms from their most primitive to today.","English",26.6,19.95,"567.9","24 pp.",{"$f":"Table1[[#This Row],['# Books]]*Table1[[#This Row],[QTY]]","v":0},{"$f":"Table1[[#This Row],[QTY]]*Table1[[#This Row],[S&L Price]]","v":0}]
[null,null,114,null,"Danger! Dinosaurs",1,"Sea Monsters","Library Bound Book","978-1-4824-3046-2",2016,"August 2015","Library","8.500 X 11.00","Author","Liz Miles",6.8,1,44,null,"V",null,"Grade 4 - 5","Grade 3 - 6","While land-dwelling dinosaurs get a lot of attention, prehistoric seas were teeming with weird-looking creatures, too. Some of them were just as ferocious as any T. rex, like the Megalodon with its massive teeth and bottomless appetite. Swamps, lakes, rivers, and estuaries were also dangerous places for land animals, just ask the prey of the \"super croc,\" the Sarcosuchus. Dino fans will love diving in to this fact-filled book. Exciting text and colorful images will spark their imaginations to run wild and make them happy these creatures aren't still looking for a tasty bite!","English",26.6,19.95,"591.77","24 pp.",{"$f":"Table1[[#This Row],['# Books]]*Table1[[#This Row],[QTY]]","v":0},{"$f":"Table1[[#This Row],[QTY]]*Table1[[#This Row],[S&L Price]]","v":0}]
[null,null,114,null,"Danger! Dinosaurs",1,"Sea Monsters","eBook","978-1-4824-3047-9",2016,"August 2015",null,null,"Author","Liz Miles",6.8,1,44,null,"V",null,"Grade 4 - 5","Grade 3 - 6","While land-dwelling dinosaurs get a lot of attention, prehistoric seas were teeming with weird-looking creatures, too. Some of them were just as ferocious as any T. rex, like the Megalodon with its massive teeth and bottomless appetite. Swamps, lakes, rivers, and estuaries were also dangerous places for land animals, just ask the prey of the \"super croc,\" the Sarcosuchus. Dino fans will love diving in to this fact-filled book. Exciting text and colorful images will spark their imaginations to run wild and make them happy these creatures aren't still looking for a tasty bite!","English",26.6,19.95,"591.77","24 pp.",{"$f":"Table1[[#This Row],['# Books]]*Table1[[#This Row],[QTY]]","v":0},{"$f":"Table1[[#This Row],[QTY]]*Table1[[#This Row],[S&L Price]]","v":0}]
[null,null,115,null,"Earth's Most Extreme Places",1,"Earth's Driest Places","Library Bound Book","978-1-4824-1895-8",2015,"January 2015","Library","8.500 X 8.500","Author","Mary Griffin",null,null,30,null,"N","840L","Grade 2 - 3","Grade 2 - 5","Few people enjoy a rainy day, but many places around the globe are in great need of rain. Readers will learn why rain and other forms of precipitation are so important to people, plants, and animals. They'll visit the driest places on Earth, including the Atacama Desert, Antarctica's Dry Valleys, and Death Valley. Maps and photographs of these remarkable sites and others aid in geography skills, while topics such as irrigation, water conservation, and even mummification will further interest and inform readers.","English",22.6,16.95,"551.41","24 pp.",{"$f":"Table1[[#This Row],['# Books]]*Table1[[#This Row],[QTY]]","v":0},{"$f":"Table1[[#This Row],[QTY]]*Table1[[#This Row],[S&L Price]]","v":0}]
[null,null,115,null,"Earth's Most Extreme Places",1,"Earth's Hottest Places","eBook","978-1-4824-1904-7",2015,"January 2015",null,null,"Author","Sebastian Witiw",null,null,30,null,"N","840L","Grade 2 - 3","Grade 2 - 5","Everyone has experienced hot days in which it's hard to move without sweating. Readers will realize those days were cool compared to some of the sweltering locations vividly described within the pages of this volume. Death Valley, the Sahara, and Ethiopia are highlighted in text and on maps in this trip around the globe in search of Earth's hottest places. Why some locations are so hot, different ways of measuring temperature, and the health risks of extreme heat are just a few of the topics touched upon in this book, compatible with any science and social studies collection.","English",22.6,16.95,"910.915","24 pp.",{"$f":"Table1[[#This Row],['# Books]]*Table1[[#This Row],[QTY]]","v":0},{"$f":"Table1[[#This Row],[QTY]]*Table1[[#This Row],[S&L Price]]","v":0}]
[null,null,115,null,"Where's the Water?",6,"Where's the Water?","Library Set","978-1-4824-4604-3",2017,"August 2016","Library","8.500 X 8.500",null,"",null,null,null,null,null,null,"Grade 2 - 3","Grade 2 - 5","Water makes up a great deal of our planet and plays a huge role in our daily lives. Whether it’s increased rain from a hurricane off the coast or plastic floating in Earth’s oceans, there are many environmental aspects to the simple topic of water. This series introduces valuable science concepts, such as the water cycle and cloud formation, while addressing the environmental impact of people’s actions and global climate change. Colorful photographs and diagrams aid readers’ understanding of both the reality of water crises and common scientific processes.","English",135.6,101.7,null,"24 pp.",{"$f":"Table1[[#This Row],['# Books]]*Table1[[#This Row],[QTY]]","v":0},{"$f":"Table1[[#This Row],[QTY]]*Table1[[#This Row],[S&L Price]]","v":0}]
[null,null,115,null,"Where's the Water?",1,"Deadly Droughts","eBook","978-1-4824-4683-8",2017,"August 2016",null,null,"Author","Michael Rajczak",null,null,null,null,"L",null,"Grade 2 - 3","Grade 2 - 5","The 2015 drought in California continually made national news—but it’s not the only place that’s battled a lack of water in recent years. Droughts disrupt the water cycle, crop production, and the everyday lives of people and animals living in the region. Can they be prevented? Readers are introduced to why droughts happen and how they’re dealt with when they do. An emphasis on conservation and drought-prone regions around the world encourages readers to think about this topic with a global view. Full-color photographs illustrate the devastation droughts can cause, and fascinating fact boxes complement the main content with even more science and social studies information.","English",22.6,16.95,"551.57’73--dc23","24 pp.",{"$f":"Table1[[#This Row],['# Books]]*Table1[[#This Row],[QTY]]","v":0},{"$f":"Table1[[#This Row],[QTY]]*Table1[[#This Row],[S&L Price]]","v":0}]
[null,null,115,null,"Where's the Water?",1,"Precipitation","Library Bound Book","978-1-4824-4686-9",2017,"August 2016","Library","8.500 X 8.500","Author","Caitie McAneney",4.4000000000000004,0.5,null,null,"L",null,"Grade 2 - 3","Grade 2 - 5","Despite its ability to ruin a nice day at the park, precipitation is an essential part of the water cycle on Earth. Readers learn how different kinds of precipitation occur, including snow, rain, and hail. In addition, the consequences of too much and too little precipitation are explained, with a special emphasis on conservation and global climate change. Full-color photographs and graphic organizers help readers understand this important science concept as it relates to their lives and the whole of Earth.","English",22.6,16.95,"551.57’7 --dc23","24 pp.",{"$f":"Table1[[#This Row],['# Books]]*Table1[[#This Row],[QTY]]","v":0},{"$f":"Table1[[#This Row],[QTY]]*Table1[[#This Row],[S&L Price]]","v":0}]
[null,null,115,null,"Where's the Water?",1,"Water Conservation","eBook","978-1-4824-4695-1",2017,"August 2016",null,null,"Author","Peter Castellano",null,null,null,null,"M",null,"Grade 2 - 3","Grade 2 - 5","Droughts, acid rain, and pollution are all problems found around the world. Learning about how to conserve and care for the precious water on Earth should be an important part of every person’s science background. This book introduces readers to the fundamental water issues in both first and third world countries. The main content encourages them to think both locally and globally, including real-life examples of conservation efforts complete with full-color photographs to show readers the reality of droughts and pollution. Fact boxes and a graphic organizer help readers understand important science and social studies concepts.","English",22.6,16.95,"333.91/16--dc23","24 pp.",{"$f":"Table1[[#This Row],['# Books]]*Table1[[#This Row],[QTY]]","v":0},{"$f":"Table1[[#This Row],[QTY]]*Table1[[#This Row],[S&L Price]]","v":0}]
[null,null,116,null,"Gems: Nature's Jewels",1,"Amber","eBook","978-1-4824-2855-1",2016,"August 2015",null,null,"Author","Michael Rajczak",5.0999999999999996,0.5,24,null,"L","950L","Grade 2 - 3","Grade 2 - 5","Like many gems, amber is used to make jewelry and other decorations. But it’s formed unlike any other gem. Amber is actually fossilized tree resin that’s 40 million to 60 million years old! Readers learn how this unique gem forms through accessible science content, including fun fact boxes that add even more detail. Close-up photographs of amber in full color engage readers with the fossilization process, the discovery of amber, and what this beautiful, natural gem teaches scientists about Earth’s past.","English",22.6,16.95,"553.8","24 pp.",{"$f":"Table1[[#This Row],['# Books]]*Table1[[#This Row],[QTY]]","v":0},{"$f":"Table1[[#This Row],[QTY]]*Table1[[#This Row],[S&L Price]]","v":0}]
[null,null,116,null,"Gems: Nature's Jewels",1,"Amethysts","Library Bound Book","978-1-4824-2858-2",2016,"August 2015","Library","8.500 X 8.500","Author","Emily Mahoney",5.4,0.5,24,null,"L","930L","Grade 2 - 3","Grade 2 - 5","The amethyst has been a desirable gem for thousands of years. Today, the purple stones are mined all over the world and set into brilliant jewelry. Readers learn the geologic process that creates an amethyst as well as how the presence of iron or manganese may contribute to its color. Interesting fact boxes add even more detail to the main content, which covers topics supportive of the science and social studies curriculums. Full-color photographs bring readers close to this precious gem both polished and set and in its natural state inside a geode.","English",22.6,16.95,"553.8","24 pp.",{"$f":"Table1[[#This Row],['# Books]]*Table1[[#This Row],[QTY]]","v":0},{"$f":"Table1[[#This Row],[QTY]]*Table1[[#This Row],[S&L Price]]","v":0}]
[null,null,116,null,"Gems: Nature's Jewels",1,"Emeralds","Library Bound Book","978-1-4339-4719-3",2012,"August 2011","Library","8.500 X 8.500","Author","Eric Ethan",4.5,0.5,30,28,"N",null,"Grade 2 - 3","Grade 2 - 5","Emeralds are the most expensive gems in the world, but it takes a lot of time and effort for them to get that way. Readers will discover many interesting facts about this beautiful May birthstone that takes millions of years to form. Vibrant photographs capture emeralds at all stages, from the mines to beautiful pieces of jewelry.","English",22.6,16.95,"553.8","24 pp.",{"$f":"Table1[[#This Row],['# Books]]*Table1[[#This Row],[QTY]]","v":0},{"$f":"Table1[[#This Row],[QTY]]*Table1[[#This Row],[S&L Price]]","v":0}]
[null,null,116,null,"Gems: Nature's Jewels",1,"Opals","eBook","978-1-4339-4726-1",2012,"August 2011",null,null,"Author","Eric Ethan",4.3,0.5,30,24,"M",null,"Grade 2 - 3","Grade 2 - 5","It’s hard to believe that opals come from the same element that makes sand, but it’s true. This book features that fact and many more about this beautiful gem. From the mines of southern Australia to pieces of very expensive jewelry, readers will see how opals go from raw stones to a fantastic finished product. Beautiful photographs present the rainbow of colors that brilliantly emit from these gems.","English",22.6,16.95,"553.8","24 pp.",{"$f":"Table1[[#This Row],['# Books]]*Table1[[#This Row],[QTY]]","v":0},{"$f":"Table1[[#This Row],[QTY]]*Table1[[#This Row],[S&L Price]]","v":0}]
[null,null,116,null,"Gems: Nature's Jewels",1,"Sapphires","Library Bound Book","978-1-4339-4731-5",2012,"August 2011","Library","8.500 X 8.500","Author","Eric Ethan",4.5,0.5,30,28,"N",null,"Grade 2 - 3","Grade 2 - 5","There are blue sapphires, clear sapphires, “fancy sapphires,” and star sapphires. All of these valuable gems are featured in this book, with colorful photographs to show readers their beauty. Where do most sapphires come from? How much was the most expensive sapphire worth? These questions and many more are answered in the pages of this book.","English",22.6,16.95,"553.8","32 pp.",{"$f":"Table1[[#This Row],['# Books]]*Table1[[#This Row],[QTY]]","v":0},{"$f":"Table1[[#This Row],[QTY]]*Table1[[#This Row],[S&L Price]]","v":0}]
[null,null,116,null,"Gems: Nature's Jewels",1,"Sapphires","eBook","978-1-4339-4734-6",2012,"August 2011",null,null,"Author","Eric Ethan",4.5,0.5,30,28,"N",null,"Grade 2 - 3","Grade 2 - 5","There are blue sapphires, clear sapphires, “fancy sapphires,” and star sapphires. All of these valuable gems are featured in this book, with colorful photographs to show readers their beauty. Where do most sapphires come from? How much was the most expensive sapphire worth? These questions and many more are answered in the pages of this book.","English",22.6,16.95,"553.8","32 pp.",{"$f":"Table1[[#This Row],['# Books]]*Table1[[#This Row],[QTY]]","v":0},{"$f":"Table1[[#This Row],[QTY]]*Table1[[#This Row],[S&L Price]]","v":0}]
[null,null,117,null,"Eye on the Sky",1,"When Blizzards Blow","Library Bound Book","978-1-4824-2878-0",2016,"August 2015","Library","8.500 X 11.00","Author","Therese M. Shea",null,null,40,null,"R",null,"Grade 3 - 4","Grade 3 - 6","Blizzards can be particularly dangerous weather events, especially for the unprepared. People out in the storm are at risk for hypothermia and frostbite, and those inside have to worry about power and phone outages. Cars may get stuck on the highway, and pilots may feel unsure about landing a plane. Readers learn the severity of blizzards of the past, including 2010’s “Snowmageddon,” as well as how these blizzards form. Dramatic, full-color photographs show readers blizzards’ aftermath, and safety tips help readers prepare for a blizzard should a blizzard watch be issued in their area.","English",26.6,19.95,"551.55","32 pp.",{"$f":"Table1[[#This Row],['# Books]]*Table1[[#This Row],[QTY]]","v":0},{"$f":"Table1[[#This Row],[QTY]]*Table1[[#This Row],[S&L Price]]","v":0}]
[null,null,117,null,"Eye on the Sky",1,"When Floods Flow","eBook","978-1-4824-2883-4",2016,"August 2015",null,null,"Author","Barbara M. Linde",null,null,40,null,"R",null,"Grade 3 - 4","Grade 3 - 6","In many cases, floods are a sneaky disaster. They often take awhile to occur as rain builds up over many hours or days, or a river’s volume slowly increases and overflows its banks. However, once flooding is happening, it’s very hard to stop. Additionally, flash floods don’t offer those living nearby much time to prepare or evacuate. Readers face the devastation that floods can cause as they learn how they occur. Full-color photographs show floods up close, emphasizing the importance of preparing for a flood should readers live in an area where they’re common—or not.","English",26.6,19.95,"551.48","32 pp.",{"$f":"Table1[[#This Row],['# Books]]*Table1[[#This Row],[QTY]]","v":0},{"$f":"Table1[[#This Row],[QTY]]*Table1[[#This Row],[S&L Price]]","v":0}]
[null,null,117,null,"Eye on the Sky",1,"When Lightning Strikes","Library Bound Book","978-1-4824-2894-0",2016,"August 2015","Library","8.500 X 11.00","Author","Ryan Nagelhout",null,null,40,null,"R",null,"Grade 3 - 4","Grade 3 - 6","Lightning can strike in the same place twice. It's for this reason that readers need to learn how to avoid being in dangerous places during a storm with lightning! While a spectacular weather phenomenon to witness, lightning can cause destruction and even death. Readers learn what causes lightning and other science content regarding the occurrence of lightning, including its connection to rain and thunder. Succinct sidebars add even more detail about specific, real-life lightning events complete with full-color photographs of amazing lightning strikes.","English",26.6,19.95,"551.56'32—d23","32 pp.",{"$f":"Table1[[#This Row],['# Books]]*Table1[[#This Row],[QTY]]","v":0},{"$f":"Table1[[#This Row],[QTY]]*Table1[[#This Row],[S&L Price]]","v":0}]
[null,null,117,null,"Eye on the Sky",1,"When Lightning Strikes","eBook","978-1-4824-2895-7",2016,"August 2015",null,null,"Author","Ryan Nagelhout",null,null,40,null,"R",null,"Grade 3 - 4","Grade 3 - 6","Lightning can strike in the same place twice. It's for this reason that readers need to learn how to avoid being in dangerous places during a storm with lightning! While a spectacular weather phenomenon to witness, lightning can cause destruction and even death. Readers learn what causes lightning and other science content regarding the occurrence of lightning, including its connection to rain and thunder. Succinct sidebars add even more detail about specific, real-life lightning events complete with full-color photographs of amazing lightning strikes.","English",26.6,19.95,"551.56'32—d23","32 pp.",{"$f":"Table1[[#This Row],['# Books]]*Table1[[#This Row],[QTY]]","v":0},{"$f":"Table1[[#This Row],[QTY]]*Table1[[#This Row],[S&L Price]]","v":0}]
[null,null,117,null,"From the Earth: How Resources Are Made",1,"How Coal Is Formed","Library Bound Book","978-1-4824-4707-1",2017,"August 2016","Library","8.500 X 11.00","Author","Blair Belton",5.8,0.5,null,null,"P",null,"Grade 3 - 4","Grade 3 - 6","Coal is a natural resource millions of years in the making. Since over 40 percent of the world’s electricity comes from burning coal, it remains an important, though sometimes controversial, energy source. The processes that transform organic remains into coal, coal mines, and the carbon cycle are important topics covered in this valuable volume. Readers will learn about the pollution attributed to the burning of coal as well as about coal alternatives. Graphic organizers, instructive photographs, and thoughtful sidebars help present a well-balanced look at this relevant and timely subject.","English",26.6,19.95,"553.2/4--dc23","32 pp.",{"$f":"Table1[[#This Row],['# Books]]*Table1[[#This Row],[QTY]]","v":0},{"$f":"Table1[[#This Row],[QTY]]*Table1[[#This Row],[S&L Price]]","v":0}]
[null,null,117,null,"From the Earth: How Resources Are Made",1,"How Iron Ore Forms","eBook","978-1-4824-4962-4",2017,"August 2016",null,null,"Author","Caroline Kennon",null,null,null,null,"O",null,"Grade 3 - 4","Grade 3 - 6","Without iron ore, we wouldn’t have steel, and without steel, we wouldn’t have the magnificent skyscrapers, bridges, and many other structures that demand building materials of considerable strength. In fact, about 98 percent of all mined iron ore is used in the production of steel. Future architects and engineers will discover how the mineral substance iron ore forms, where it’s found, and how it’s transformed through smelting into a useful industrial metal. Charts, diagrams, and photographs present more beneficial information, while sidebars help readers understand why iron ore is significant to their lives.","English",26.6,19.95,"553.3--dc23","48 pp.",{"$f":"Table1[[#This Row],['# Books]]*Table1[[#This Row],[QTY]]","v":0},{"$f":"Table1[[#This Row],[QTY]]*Table1[[#This Row],[S&L Price]]","v":0}]
[null,null,117,null,"From the Earth: How Resources Are Made",1,"How Precious Metals Form","Library Bound Book","978-1-4824-4730-9",2017,"August 2016","Library","8.500 X 11.00","Author","Julia McDonnell",5.9,0.5,null,null,"P",null,"Grade 3 - 4","Grade 3 - 6","What makes a metal precious? It’s rare, and it’s useful. When a metal is both these things, like gold, it’s very precious—and expensive. This book takes readers underground where they’ll discover the processes and elements that shape precious metals. They’ll learn about the features of metals that make them desirable, such as luster, ductility, and reactivity, and how certain metals are utilized. While readers may know something about gold and silver, they’ll become acquainted with other important precious metals such as rhodium and palladium. Vivid photographs, helpful graphic organizers, and interesting sidebars make this crucial science topic engaging and accessible.","English",26.6,19.95,"622/.342--dc23","48 pp.",{"$f":"Table1[[#This Row],['# Books]]*Table1[[#This Row],[QTY]]","v":0},{"$f":"Table1[[#This Row],[QTY]]*Table1[[#This Row],[S&L Price]]","v":0}]
[null,null,117,null,"From the Earth: How Resources Are Made",1,"How Precious Metals Form","eBook","978-1-4824-4732-3",2017,"August 2016",null,null,"Author","Julia McDonnell",null,null,null,null,"P",null,"Grade 3 - 4","Grade 3 - 6","What makes a metal precious? It’s rare, and it’s useful. When a metal is both these things, like gold, it’s very precious—and expensive. This book takes readers underground where they’ll discover the processes and elements that shape precious metals. They’ll learn about the features of metals that make them desirable, such as luster, ductility, and reactivity, and how certain metals are utilized. While readers may know something about gold and silver, they’ll become acquainted with other important precious metals such as rhodium and palladium. Vivid photographs, helpful graphic organizers, and interesting sidebars make this crucial science topic engaging and accessible.","English",26.6,19.95,"622/.342--dc23","48 pp.",{"$f":"Table1[[#This Row],['# Books]]*Table1[[#This Row],[QTY]]","v":0},{"$f":"Table1[[#This Row],[QTY]]*Table1[[#This Row],[S&L Price]]","v":0}]
[null,null,118,null,"Extreme Biology",1,"Eat or Be Eaten: Extreme Food Chains","Library Bound Book","978-1-4824-2238-2",2015,"January 2015","Library","8.000 X 10.00","Author","Louise Spilsbury",null,null,40,null,"R",null,"Grade 4","Grade 4 - 6","Everything about a sea lion’s body developed to make it a better hunter. Its aerodynamic shape, strong flippers, and ability to close its nostrils to remain underwater longer all contribute to this deep-sea predator. What are they hunting for? A lobster dinner! With detailed examples and full-color photographs, this volume takes on an important curriculum concept—food chains—in an engaging, fun way. Readers discover some of the violent, strange, and extraordinary eating of animals in habitats all around the world.","English",31.95,23.95,"577.16","48 pp.",{"$f":"Table1[[#This Row],['# Books]]*Table1[[#This Row],[QTY]]","v":0},{"$f":"Table1[[#This Row],[QTY]]*Table1[[#This Row],[S&L Price]]","v":0}]
[null,null,118,null,"Extreme Biology",1,"Hostile Homes: Extreme Habitats","eBook","978-1-4824-2243-6",2015,"January 2015",null,null,"Author","Angela Royston",null,null,40,null,"R",null,"Grade 4","Grade 4 - 6","Some places on Earth have very little rain. The Arctic and Antarctic are bitterly cold, and parts of the ocean have become devoid of oxygen. Yet Earth remains populated with varied plants and animals even in these horrible habitats! Readers are introduced to unique plants and animals that can exist in places most others can’t. Photographs show off the salt-loving mangrove trees, the incredibly hot Atacama Desert, and more in full color. These interesting examples engage readers with science content in a fun way that also exposes them to extreme places and creatures they might not otherwise learn about.","English",31.95,23.95,"577.58","48 pp.",{"$f":"Table1[[#This Row],['# Books]]*Table1[[#This Row],[QTY]]","v":0},{"$f":"Table1[[#This Row],[QTY]]*Table1[[#This Row],[S&L Price]]","v":0}]
[null,null,118,null,"Tiny Battlefields",6,"Tiny Battlefields","Library Set","978-1-4824-1185-0",2015,"August 2014","Library","6.500 X 9.000",null,"",null,null,null,null,null,null,"Grade 6","Grade 6 - 8","When someone has a serious illness, people say they're \"fighting\" for their health—or even their lives. This series recognizes that the war against disease doesn't just take place in science labs and doctors' offices but on the tiny battlefields within people's bodies. Each disease and illness is explained in an accessible way, with special attention given to the latest research, treatments, and scientific breakthroughs. The impact of each condition on the world is also highlighted as well as the outlook for eradication.   • Quotes serve as primary sources, reflecting the medical conditions' impact on real-life people  • Key biology concepts are a valuable addition to the science and health curriculum   • Science books are included in the range of informational text types suggested in the Common Core English Language Arts Standards ","English",191.7,143.69999999999999,null,"48 pp.",{"$f":"Table1[[#This Row],['# Books]]*Table1[[#This Row],[QTY]]","v":0},{"$f":"Table1[[#This Row],[QTY]]*Table1[[#This Row],[S&L Price]]","v":0}]
[null,null,118,null,"Tiny Battlefields",1,"Fighting AIDS","Library Bound Book","978-1-4824-1452-3",2015,"August 2014","Library","6.500 X 9.000","Author","Mary Colson",null,null,44,null,"U",null,"Grade 6","Grade 6 - 8","AIDS, acquired immunodeficiency syndrome, is the infectious disease caused by the human immunodeficiency virus (HIV). HIV attacks the immune system, sometimes with fatal consequences. Though the first reported case was only in 1959, an estimated 40 million people now live with AIDS or HIV. This valuable book discusses the history of this previously unknown disease, what scientists discovered about its transmission, and the current treatments and vaccines used to battle it. Relevant photographs and quotes from those in the field are among the highlights, as well as a focus on the critical impact of education and healthy lifestyle choices.","English",31.95,23.95,"616.97","48 pp.",{"$f":"Table1[[#This Row],['# Books]]*Table1[[#This Row],[QTY]]","v":0},{"$f":"Table1[[#This Row],[QTY]]*Table1[[#This Row],[S&L Price]]","v":0}]
[null,null,118,null,"Tiny Battlefields",1,"Fighting Malaria","Library Bound Book","978-1-4824-1454-7",2015,"August 2014","Library","6.500 X 9.000","Author","Robyn Hardyman",null,null,44,null,"U",null,"Grade 6","Grade 6 - 8","Malaria is an infectious disease caused by parasites and spread by mosquitoes. Especially dangerous to children, it's the cause of 1 million deaths annually. About half of the world is at risk of catching malaria. This thought-provoking book answers questions including what it's like to contract malaria and the groundbreaking efforts and goals of today's medical and scientific community to both prevent and treat the disease. Mosquito nets, insecticides, and medications are among the many topics featured. Photographs of professionals in action and quotations from specialists add a sense of urgency to address this global crisis.","English",31.95,23.95,"616.9","24 pp.",{"$f":"Table1[[#This Row],['# Books]]*Table1[[#This Row],[QTY]]","v":0},{"$f":"Table1[[#This Row],[QTY]]*Table1[[#This Row],[S&L Price]]","v":0}]
[null,null,118,null,"Tiny Battlefields",1,"Fighting Smallpox","eBook","978-1-4824-1321-2",2015,"August 2014",null,null,"Author","Angela Royston",null,null,44,null,"U",null,"Grade 6","Grade 6 - 8","The highly contagious disease smallpox was a frightening scourge throughout history. Up to 1959, 50 million people each year became infected with the disease. Not only did it leave terrible scars on those that were lucky enough to survive but it weakened the body and left the afflicted vulnerable to yet more deadly complications. Readers will learn about the biology of the smallpox virus, historical figures who contracted it, and the massive vaccination campaign that eradicated smallpox in just 10 years, giving us hope that a similar approach may help eliminate other fatal diseases.","English",31.95,23.95,"616.9","24 pp.",{"$f":"Table1[[#This Row],['# Books]]*Table1[[#This Row],[QTY]]","v":0},{"$f":"Table1[[#This Row],[QTY]]*Table1[[#This Row],[S&L Price]]","v":0}]
[null,null,119,null,"Bloopers of Invention",1,"The Problem with Early Cameras","eBook","978-1-4824-2759-2",2016,"August 2015",null,null,"Author","Ryan Nagelhout",null,null,null,null,"N","960L","Grade 2 - 3","Grade 2 - 5","Early commercial cameras were big, boxy, and you had to actually give your camera back to the camera maker to develop your photos. Before that, making photographs was actually even harder! Complex chemicals and long hours in darkrooms were required to develop even a single shot. Readers take a journey through photography’s history,  from solutions and glass plates to point-and-shoot cameras. The story is complex and amazing—just the like the cameras we use today!","English",22.6,16.95,"770","24 pp.",{"$f":"Table1[[#This Row],['# Books]]*Table1[[#This Row],[QTY]]","v":0},{"$f":"Table1[[#This Row],[QTY]]*Table1[[#This Row],[S&L Price]]","v":0}]
[null,null,119,null,"Bloopers of Invention",1,"The Problem with Early Cars","Library Bound Book","978-1-4824-2762-2",2016,"August 2015","Library","8.500 X 8.500","Author","Ryan Nagelhout",null,null,null,null,"N","920L","Grade 2 - 3","Grade 2 - 5","Automobiles are amazing machines that take most of us from place to place on a daily basis. From their earliest days, making them safe to drive took lots of hard work and ingenuity. From early explosions with steam and failed experiments with batteries, automobiles have come a long way. Early cars needed to lug around spare parts and extra tires just to drive a few miles. Readers find out all about the amazing inventors who worked so hard to make motor vehicles the modern marvels they are today.","English",22.6,16.95,"629.222","24 pp.",{"$f":"Table1[[#This Row],['# Books]]*Table1[[#This Row],[QTY]]","v":0},{"$f":"Table1[[#This Row],[QTY]]*Table1[[#This Row],[S&L Price]]","v":0}]
[null,null,119,null,"Bloopers of Invention",1,"The Problem with Early Flying Machines","Library Bound Book","978-1-4824-2766-0",2016,"August 2015","Library","8.500 X 8.500","Author","Ryan Nagelhout",null,null,null,null,"N","1010L","Grade 2 - 3","Grade 2 - 5","Taking to the skies has always been a dream for human beings. Watching birds and bees take flight while people remained chained to the soil provided the inspiration to experiment with machines capable of flying high overhead. But these experiments proved dangerous—and often deadly. From early helicopter designs and bicycles with wings, learning how to fly was far more than a physics experiment. Often, it was a matter of life and death! Readers are taken on a journey through the history of aviation, and discover the contributions of luminaries such as the Wright brothers and Howard Hughes.","English",22.6,16.95,"629.13","24 pp.",{"$f":"Table1[[#This Row],['# Books]]*Table1[[#This Row],[QTY]]","v":0},{"$f":"Table1[[#This Row],[QTY]]*Table1[[#This Row],[S&L Price]]","v":0}]
[null,null,119,null,"Bloopers of Invention",1,"The Problem with Early Navigation Tools","eBook","978-1-4824-2779-0",2016,"August 2015",null,null,"Author","Ryan Nagelhout",null,null,null,null,"N","980L","Grade 2 - 3","Grade 2 - 5","It’s fascinating to think about how people ever found their way around. For instance, how did people navigate hundreds or even thousands of years ago? They likely didn’t ask for directions, as they were all alone trying to explore uncharted territory. We’ve come a long way with navigation tools, whether it’s simply following a map or something a bit more advanced. Readers discover the history of navigation, from using the sun or stars to help find the way to advanced technology like GPS. This book demonstrates how important it is to learn from the mistakes and wrong turns—only bloopers and follies have helped us develop reliable methods to find our way home!","English",22.6,16.95,"623.89028'4—dc23","24 pp.",{"$f":"Table1[[#This Row],['# Books]]*Table1[[#This Row],[QTY]]","v":0},{"$f":"Table1[[#This Row],[QTY]]*Table1[[#This Row],[S&L Price]]","v":0}]
[null,null,119,null,"Engineering Our World",1,"How a Car Is Made","eBook","978-1-4824-3926-7",2016,"January 2016",null,null,"Author","Sam Aloian",4.9000000000000004,0.5,null,null,"N",null,"Grade 2 - 3","Grade 2 - 5","Automobiles are an essential part of life for many, but few really understand how that car arrives in their garage in the first place. This book takes an exciting look at just how interesting that process is, from the design phase in an engineer’s office to the floor of a factory where it is assembled piece by piece by both people and machines. Full-color photographs bring the process to life in vivid detail, and a step-by-step how-to guide explains how readers can even build their very own model car.","English",22.6,16.95,"629.2'3—dc23","24 pp.",{"$f":"Table1[[#This Row],['# Books]]*Table1[[#This Row],[QTY]]","v":0},{"$f":"Table1[[#This Row],[QTY]]*Table1[[#This Row],[S&L Price]]","v":0}]
[null,null,119,null,"Engineering Our World",1,"How a Computer Is Made","Library Bound Book","978-1-4824-3929-8",2016,"January 2016","Library","8.500 X 8.500","Author","Sam Aloian",5.3,0.5,null,null,"N",null,"Grade 2 - 3","Grade 2 - 5","Today’s computers come in all shapes and sizes, but not many people actually know how they’re made. The journey from circuits and wires to a ready-to-use computer is a fascinating exploration of science and engineering. Readers get a look inside their laptops, desktops, and even their tablets as they’re shown step-by-step how these electronic marvels are assembled. Readers will love knowing what goes on inside their own machines, and color photographs and simple instructions will show them how they can build their own computer!","English",22.6,16.95,"004—dc23","48 pp.",{"$f":"Table1[[#This Row],['# Books]]*Table1[[#This Row],[QTY]]","v":0},{"$f":"Table1[[#This Row],[QTY]]*Table1[[#This Row],[S&L Price]]","v":0}]
[null,null,119,null,"Engineering Our World",1,"How a Ship Is Built","eBook","978-1-4824-3918-2",2016,"January 2016",null,null,"Author","Sam Aloian",5.0999999999999996,0.5,null,null,"N",null,"Grade 2 - 3","Grade 2 - 5","There are many different kinds of ships—from gigantic cargo ships carrying goods around the world to the cruise ships that are like floating cities. Even aircraft carriers are gigantic ships with airports on top! But how do we make these amazing boats? This exciting book takes readers behind the scenes and into the process shipbuilders use to make monster vessels that are safe enough to tackle the open ocean. Full-color photographs document every step of the journey from dry dock to castoff, and STEM topics are introduced through engaging text and detailed graphics to make this an unforgettable look at how ships get made.","English",22.6,16.95,"623.82—dc23","48 pp.",{"$f":"Table1[[#This Row],['# Books]]*Table1[[#This Row],[QTY]]","v":0},{"$f":"Table1[[#This Row],[QTY]]*Table1[[#This Row],[S&L Price]]","v":0}]
[null,null,120,null,"Amazing Robots",1,"Robots in Industry","Library Bound Book","978-1-4824-3002-8",2016,"August 2015","Library","7.250 X 9.250","Authors","Louise Spilsbury, Richard Spilsbury",null,null,null,null,"U",null,"Grade 4 - 5","Grade 4 - 8","People tire easily and make mistakes when they work too long. They need to sleep and eat enough in order to do their best. Robots, however, can do repetitive tasks perfectly every time! They rarely need breaks and definitely don’t need naps! Readers learn how integral robots have become in many parts of industry, including in production, factories, and in situations dangerous for people. Full-color photographs provide readers with a unique look at a growing branch of science. The main content and sidebars highlight real-life examples of robots at work as well as understandable explanations of their technology.","English",31.95,23.95,"629.8","48 pp.",{"$f":"Table1[[#This Row],['# Books]]*Table1[[#This Row],[QTY]]","v":0},{"$f":"Table1[[#This Row],[QTY]]*Table1[[#This Row],[S&L Price]]","v":0}]
[null,null,120,null,"Amazing Robots",1,"Robots in Medicine","eBook","978-1-4824-3011-0",2016,"August 2015",null,null,"Authors","Louise Spilsbury, Richard Spilsbury",null,null,null,null,"U",null,"Grade 4 - 5","Grade 4 - 8","In 2000, the FDA approved the Da Vinci surgical robotic system. The Da Vinci is a robot controlled by a surgeon used to do delicate and technical surgeries, and it represents a whole segment of robots used to aid doctors, pharmacists, and others in the medical field. Readers are introduced to cutting-edge medical technology with full-color photographs of robots actually used in hospitals and doctors’ offices today. The main content offers detailed, but understandable, information about the science of these incredible machines. Additionally, readers learn about the integration of these robots into many careers in medicine, technology, and science.","English",31.95,23.95,"629.8","48 pp.",{"$f":"Table1[[#This Row],['# Books]]*Table1[[#This Row],[QTY]]","v":0},{"$f":"Table1[[#This Row],[QTY]]*Table1[[#This Row],[S&L Price]]","v":0}]
[null,null,120,null,"Amazing Robots",1,"Robots in Space","Library Bound Book","978-1-4824-3014-1",2016,"August 2015","Library","7.250 X 9.250","Authors","Louise Spilsbury, Richard Spilsbury",null,null,null,null,"U",null,"Grade 4 - 5","Grade 4 - 8","NASA wouldn’t know nearly as much about the planet Mars without space probes. A special kind of robot that can fly through space, space probes have gone to the asteroid belt and even traveled near Jupiter to take pictures of it! Readers learn all about these incredible robots as well as other space technology including robotnauts, or robot astronauts! Examples of the robots used in space are shown in full-color photographs, complete with explanations of their abilities. The main content and sidebars delve into the technological and scientific side of creating robots and how important they’ve become to space exploration.","English",31.95,23.95,"629.43","48 pp.",{"$f":"Table1[[#This Row],['# Books]]*Table1[[#This Row],[QTY]]","v":0},{"$f":"Table1[[#This Row],[QTY]]*Table1[[#This Row],[S&L Price]]","v":0}]
[null,null,120,null,"Amazing Robots",1,"Robots Underwater","eBook","978-1-4824-3023-3",2016,"August 2015",null,null,"Authors","Louise Spilsbury, Richard Spilsbury",null,null,null,null,"U",null,"Grade 4 - 5","Grade 4 - 8","Without underwater robots, people never would have been able to explore the shipwreck of the Titanic as much as they have. From mapping the ocean floor to testing water quality, the jobs these robots can do are astounding. Through many examples and full-color photographs, readers dive deep with underwater robots, learning the technology behind these amazing machines and how they help people every day. Sidebars complement the main content with information about robotics engineers, environmental issues underwater, and the truly inventive science of underwater robots.","English",31.95,23.95,"623.8","48 pp.",{"$f":"Table1[[#This Row],['# Books]]*Table1[[#This Row],[QTY]]","v":0},{"$f":"Table1[[#This Row],[QTY]]*Table1[[#This Row],[S&L Price]]","v":0}]
[null,null,120,null,"Cutting-Edge Technology",1,"Drones","eBook","978-1-4824-5150-4",2017,"August 2016",null,null,"Authors","Richard Spilsbury, Louise Spilsbury",null,null,null,null,"W",null,"Grade 6 - 8","Grade 6 - 8","Is it a bird, a plane, or maybe even a drone flying overhead? This amazing book tackles the history of drone technology and where future development will take these exciting aircraft. Known mostly for its use in the military as surveillance equipment or even in combat, these pilotless flying machines are now used all over the world by ordinary people who love remote controlled vehicles. Today, drones of all shapes and sizes can achieve amazing things, even if it’s just taking photos or some video in someone’s backyard. This book investigates the complicated role drone technology plays in our modern lives, and what future development will mean for our privacy and safety.","English",31.95,23.95,"623.74’69--dc23","48 pp.",{"$f":"Table1[[#This Row],['# Books]]*Table1[[#This Row],[QTY]]","v":0},{"$f":"Table1[[#This Row],[QTY]]*Table1[[#This Row],[S&L Price]]","v":0}]
[null,null,120,null,"Cutting-Edge Technology",1,"Lasers","eBook","978-1-4824-5152-8",2017,"August 2016",null,null,"Author","James Bow",null,null,null,null,"W",null,"Grade 6 - 8","Grade 6 - 8","Light is a powerful thing. Light from the sun gives humans life and can be used in a variety of ways using a focused beam of light called a laser. From DVD players to laser pointers, there are many different kinds of lasers. Even fiber optics communication and cutting devices use laser technology to produce great things. This book explores the possibilities of light, bringing amazing facts about lasers to the eyes of enthusiastic readers interested in this cutting-edge technology.","English",31.95,23.95,"621.36’6--dc23","24 pp.",{"$f":"Table1[[#This Row],['# Books]]*Table1[[#This Row],[QTY]]","v":0},{"$f":"Table1[[#This Row],[QTY]]*Table1[[#This Row],[S&L Price]]","v":0}]
[null,null,120,null,"Cutting-Edge Technology",1,"Maglev Trains","Library Bound Book","978-1-4824-5159-7",2017,"August 2016","Library","7.250 X 9.250","Authors","Louise Spilsbury, Richard Spilsbury",null,null,null,null,"W",null,"Grade 6 - 8","Grade 6 - 8","Maglev trains sound like the stuff of science fiction, but it’s yet another scientific marvel that engineers have made a reality. These superfast trains float above their rails, darting from place to place at remarkable speeds. This book explores how maglev trains work, the science behind the magnets at work, and the history of maglev technology. From train technology first developed in Germany to the fastest maglev trains in the world, readers will love learning about this rapidly developing mode of transportation.","English",31.95,23.95,"385’.2--dc23","24 pp.",{"$f":"Table1[[#This Row],['# Books]]*Table1[[#This Row],[QTY]]","v":0},{"$f":"Table1[[#This Row],[QTY]]*Table1[[#This Row],[S&L Price]]","v":0}]
[null,null,121,null,"My Place in History (NEW Set of 6 Titles)",6,"My Place in History (NEW Set of 6 Titles)","Library Set","978-1-5382-0472-6",2018,"August 2017","Library","8.500 X 8.500",null,"",null,null,null,null,null,null,"Grade 2 - 3","Grade 2 - 5","So much about the lives of both Pilgrim and Native American children in America is different than the lives of today’s young readers. This series uses an inventive layout of fictional journal entries, letters, and more “found ephemera” to illustrate the fascinating stories of America’s past, from the Plymouth Pilgrims to Chinese immigrants working on the Transcontinental Railroad. This continuation of our popular first-person experience books opens up early American history to young readers in a new, vivid, and relatable way!\n\n\n\n","English",135.6,101.7,null,"24 pp.",{"$f":"Table1[[#This Row],['# Books]]*Table1[[#This Row],[QTY]]","v":0},{"$f":"Table1[[#This Row],[QTY]]*Table1[[#This Row],[S&L Price]]","v":0}]
[null,null,121,null,"My Place in History",1,"My Journey on the Underground Railroad","eBook","978-1-4824-3998-4",2016,"January 2016",null,null,"Author","Lynda Arnéz",4.7,0.5,null,null,"L",null,"Grade 2 - 3","Grade 2 - 5","Perhaps one of the most harrowing journeys in US history, traveling the Underground Railroad was dangerous, long, and often very uncomfortable. Men, women, and children often had to walk hundreds of miles to safe houses, usually at night, and stay in cramped quarters until it was safe for them to keep moving. Readers learn what it was like to travel on the Underground Railroad through the eyes of a child escaping slavery. From food to traveling conditions, the narrator’s unique perspective will enhance readers’ understanding of what it was like to be a slave in early America.","English",22.6,16.95,"973.7'115—dc23","24 pp.",{"$f":"Table1[[#This Row],['# Books]]*Table1[[#This Row],[QTY]]","v":0},{"$f":"Table1[[#This Row],[QTY]]*Table1[[#This Row],[S&L Price]]","v":0}]
[null,null,121,null,"My Place in History",1,"My Life as a Pioneer","Library Bound Book","978-1-4824-3990-8",2016,"January 2016","Library","8.500 X 8.500","Author","Lynda Arnéz",4.5,0.5,null,null,"L",null,"Grade 2 - 3","Grade 2 - 5","Living on a new homestead often meant pioneer families had to start with nothing—no house, no fields, and no neighbors. Pioneer children were expected to work just as hard as their parents. They cooked, gathered firewood, and helped in the fields, as well as going to school part of the year. Readers learn just how different life was for children on the frontier during the second half of the 19th century. Told from the perspective of a young pioneer girl, the main content covers food, clothing, and community, and historical images feature common family scenes.","English",22.6,16.95,"978'.02—dc23","24 pp.",{"$f":"Table1[[#This Row],['# Books]]*Table1[[#This Row],[QTY]]","v":0},{"$f":"Table1[[#This Row],[QTY]]*Table1[[#This Row],[S&L Price]]","v":0}]
[null,null,121,null,"My Place in History",1,"My Life as a Pioneer","eBook","978-1-4824-3991-5",2016,"January 2016",null,null,"Author","Lynda Arnéz",4.5,0.5,null,null,"L",null,"Grade 2 - 3","Grade 2 - 5","Living on a new homestead often meant pioneer families had to start with nothing—no house, no fields, and no neighbors. Pioneer children were expected to work just as hard as their parents. They cooked, gathered firewood, and helped in the fields, as well as going to school part of the year. Readers learn just how different life was for children on the frontier during the second half of the 19th century. Told from the perspective of a young pioneer girl, the main content covers food, clothing, and community, and historical images feature common family scenes.","English",22.6,16.95,"978'.02—dc23","24 pp.",{"$f":"Table1[[#This Row],['# Books]]*Table1[[#This Row],[QTY]]","v":0},{"$f":"Table1[[#This Row],[QTY]]*Table1[[#This Row],[S&L Price]]","v":0}]
[null,null,121,null,"My Place in History",1,"My Life in an Algonquian Village","Library Bound Book","978-1-4824-3986-1",2016,"January 2016","Library","8.500 X 8.500","Author","Lynda Arnéz",4.5999999999999996,0.5,null,null,"L",null,"Grade 2 - 3","Grade 2 - 5","Childhood has changed exponentially since the early 1600s. From what chores one must do to the roles of men and women, children today don’t have much in common with children of Algonquian tribes. Readers learn from a unique first-person narrator about growing up as a Powhatan child. Food, clothing, and shelter are covered in the main content, as well as historical context of tribes living near the Jamestown settlement. Readers will feel transported to a different time and a whole new, exciting culture.","English",22.6,16.95,"973.04'973—dc23","24 pp.",{"$f":"Table1[[#This Row],['# Books]]*Table1[[#This Row],[QTY]]","v":0},{"$f":"Table1[[#This Row],[QTY]]*Table1[[#This Row],[S&L Price]]","v":0}]
[null,null,121,null,"My Place in History",1,"My Life in the Plymouth Colony","eBook","978-1-5382-0308-8",2018,"August 2017",null,null,"Author","Max Caswell",null,null,null,null,"L",null,"Grade 2 - 3","Grade 2 - 5","The world of the pilgrims is presented here through a captivating mixture of fact and fiction. This accessible volume chronicles how the earliest American pilgrims lived, exploring their clothing, hobbies, sleep, food, and more through carefully researched fictional \"found\" ephemera. Fact boxes throughout the text present historical events, places, and people, connecting the fiction of the main text to the social studies curriculum. The book abounds with opportunity for thoughtful comparison to modern life that young readers are sure to enjoy.","English",22.6,16.95,"974.4/02--dc23","32 pp.",{"$f":"Table1[[#This Row],['# Books]]*Table1[[#This Row],[QTY]]","v":0},{"$f":"Table1[[#This Row],[QTY]]*Table1[[#This Row],[S&L Price]]","v":0}]
[null,null,121,null,"My Place in History",1,"My Wagon Train Adventure","eBook","978-1-4824-4005-8",2016,"January 2016",null,null,"Author","Lynda Arnéz",4.5,0.5,null,null,"L",null,"Grade 2 - 3","Grade 2 - 5","Shortly after the birth of the United States, many people headed west to settle the new territory of the frontier. They journeyed by wagon for months on end and faced bad weather, sickness, and fears of hostile Native Americans. Historians know a lot about these wagon train journeys because of the many diaries kept by travelers! Readers meet a young wagon train traveler and, through this first-person account, learn about life on the Oregon Trail. Informational fact boxes add historical context to this narrative while images from the time period enhance the main content.","English",22.6,16.95,"978/.02--dc23","32 pp.",{"$f":"Table1[[#This Row],['# Books]]*Table1[[#This Row],[QTY]]","v":0},{"$f":"Table1[[#This Row],[QTY]]*Table1[[#This Row],[S&L Price]]","v":0}]
[null,null,122,null,"Exposed! Myths About Early American History",6,"Exposed! Myths About Early American History","Library Set","978-1-4824-5872-5",2017,"January 2017","Library","8.500 X 8.500",null,"",null,null,null,null,null,null,"Grade 2 - 3","Grade 2 - 5","Some myths are so entrenched in our culture that they’re passed down as facts from generation to generation. This entertaining and enlightening series takes on the most famous pieces of lore. Young historians will be surprised that George Washington did not have wooden teeth, and Betsy Ross did not make the first American flag. Readers will be eager to find out the truth about each. Every myth serves as a doorway to more facts about American history topics, including Independence Day, the Constitutional Convention, and colonial history. Relevant images and graphic organizers support and enhance each volume.","English",151.5,113.7,null,"32 pp.",{"$f":"Table1[[#This Row],['# Books]]*Table1[[#This Row],[QTY]]","v":0},{"$f":"Table1[[#This Row],[QTY]]*Table1[[#This Row],[S&L Price]]","v":0}]
[null,null,122,null,"Exposed! Myths About Early American History",1,"Paul Revere Didn't Say \"The British Are Coming!\": Exposing Myths About the American Revolution","Library Bound Book","978-1-4824-5729-2",2017,"January 2017","Library","8.500 X 8.500","Author","Shalini Saxena",6.1,0.5,null,null,"M",null,"Grade 2 - 3","Grade 2 - 5","Who yelled “The British are coming!” on the night of April 18, 1775? It wasn’t Paul Revere! He also wasn’t the only one riding to warn American patriots that night. It turns out his legendary ride is full of actual legends. This exceptional and fun book focuses on the American Revolution in an entertaining format. Each dispelled myth is paired with accessible, fact-filled information. Info boxes and historical images abound in this well-designed work.","English",25.25,18.95,"973.3--dc23","32 pp.",{"$f":"Table1[[#This Row],['# Books]]*Table1[[#This Row],[QTY]]","v":0},{"$f":"Table1[[#This Row],[QTY]]*Table1[[#This Row],[S&L Price]]","v":0}]
[null,null,122,null,"Exposed! Myths About Early American History",1,"The Pilgrims Didn't Celebrate the First Thanksgiving: Exposing Myths About Colonial History","Library Bound Book","978-1-4824-5733-9",2017,"January 2017","Library","8.500 X 8.500","Author","Julia McDonnell",5.5,0.5,null,null,"N",null,"Grade 2 - 3","Grade 2 - 5","Every student grows up hearing about the first Thanksgiving, celebrated by the Pilgrims and Native Americans in 1621. However, that wasn’t the first Thanksgiving! It wasn’t even the first one celebrated by European settlers! This is just one myth debunked in this valuable look at colonial American history. Readers will feel like real historians unearthing the truth behind the legends. Beautiful images and fun fact boxes will add to their interest.","English",25.25,18.95,"973.2--dc23","32 pp.",{"$f":"Table1[[#This Row],['# Books]]*Table1[[#This Row],[QTY]]","v":0},{"$f":"Table1[[#This Row],[QTY]]*Table1[[#This Row],[S&L Price]]","v":0}]
[null,null,123,null,"Weird America (NEW Set of 6 Titles)",6,"Weird America (NEW Set of 6 Titles)","Library Set","978-1-4824-5887-9",2017,"January 2017","Library","8.500 X 11.00",null,"",null,null,null,null,null,null,"Grade 3 - 4","Grade 3 - 6","America is a wonderful and oftentimes weird place. It’s true: some of the oddest things on Earth are found inside the 50 states. Since its founding in 1776, the United States has collected some freaky history, witnessed strange crimes, and endured wild fashion fads. Freaky topics like fads and odd American museums and weird buildings make this series full of fun and interesting stories, and unique graphics and full-color photographs help bring all of America’s weirdest nooks and crannies out in full view.","English",159.6,119.7,null,"32 pp.",{"$f":"Table1[[#This Row],['# Books]]*Table1[[#This Row],[QTY]]","v":0},{"$f":"Table1[[#This Row],[QTY]]*Table1[[#This Row],[S&L Price]]","v":0}]
[null,null,123,null,"Weird America",1,"America's Oddest Buildings","Library Bound Book","978-1-4824-5741-4",2017,"January 2017","Library","8.500 X 11.00","Author","Katie Kawa",5.9,0.5,null,null,"R",null,"Grade 3 - 4","Grade 3 - 6","Architecture is a very special kind of art, and sometimes it veers into the oddest places of our imaginations. Buildings both inspired by the past and looking ahead to the future are common sights, but America is full of goofy buildings in weird places, from a building shaped like a picnic basket in Ohio to man-made dinosaurs standing guard in California. This book takes an exciting look at some of the strangest places in the United States with colorful photographs and engaging stories about the how and why of these oftentimes massive construction projects.","English",26.6,19.95,"720--dc23","32 pp.",{"$f":"Table1[[#This Row],['# Books]]*Table1[[#This Row],[QTY]]","v":0},{"$f":"Table1[[#This Row],[QTY]]*Table1[[#This Row],[S&L Price]]","v":0}]
[null,null,123,null,"Weird America",1,"America's Oddest Fads","eBook","978-1-4824-5750-6",2017,"January 2017",null,null,"Author","M. H. Seeley",null,null,null,null,"R",null,"Grade 3 - 4","Grade 3 - 6","Fads come and go, but they’re almost always weird. From troll dolls to pet rocks and even goldfish swallowing, there are plenty of weird fads hidden in American history. Full-color photographs introduce readers to one of America’s earliest fads—drawing panoramas of towns—as well as some of the weirder phenomena like flagpole sitting or dance contests. With full-color photographs highlighting these odd toys, games, and hobbies, readers learn some of the reasons behind these trends in American history.","English",26.6,19.95,"306.0973--dc23","32 pp.",{"$f":"Table1[[#This Row],['# Books]]*Table1[[#This Row],[QTY]]","v":0},{"$f":"Table1[[#This Row],[QTY]]*Table1[[#This Row],[S&L Price]]","v":0}]
[null,null,123,null,"Weird America",1,"America's Oddest Hobbies","Library Bound Book","978-1-4824-4017-1",2016,"January 2016","Library","8.500 X 11.00","Author","Michael Canfield",5.3,0.5,null,null,"R",null,"Grade 3 - 4","Grade 3 - 6","Leisure time is for people do anything they want, but sometimes their interests are really freaky. While some people like to read books and others play board games with their families, many hobbies are a bit stranger. This wild book looks at the collections Americans treasure and the games they love—even if the collection is of their own fingernails and the game is bug fighting! Engaging subject matter and incredible photos show Americans relaxing in the oddest ways imaginable, delighting even the most reluctant of readers.","English",26.6,19.95,"790.13—d23","32 pp.",{"$f":"Table1[[#This Row],['# Books]]*Table1[[#This Row],[QTY]]","v":0},{"$f":"Table1[[#This Row],[QTY]]*Table1[[#This Row],[S&L Price]]","v":0}]
[null,null,123,null,"Weird America",1,"America's Oddest Jobs","Library Bound Book","978-1-4824-5757-5",2017,"January 2017","Library","8.500 X 11.00","Author","Therese M. Shea",5.4,0.5,null,null,"R",null,"Grade 3 - 4","Grade 3 - 6","Some of the weirdest occupations on the planet can be found right in our backyards. For every golf course near our homes, for example, there might be someone diving in its ponds searching for golf balls. Some people even collect snake venom or teach dogs how to surf! Curious readers get to explore the many odd jobs that dot the American landscape through colorful photographs and graphics that highlight some of the strangest things people do for a living.","English",26.6,16.95,"331.702--dc23","32 pp.",{"$f":"Table1[[#This Row],['# Books]]*Table1[[#This Row],[QTY]]","v":0},{"$f":"Table1[[#This Row],[QTY]]*Table1[[#This Row],[S&L Price]]","v":0}]
[null,null,123,null,"Weird America",1,"America's Oddest Jobs","eBook","978-1-4824-5758-2",2017,"January 2017",null,null,"Author","Therese M. Shea",null,null,null,null,"R",null,"Grade 3 - 4","Grade 3 - 6","Some of the weirdest occupations on the planet can be found right in our backyards. For every golf course near our homes, for example, there might be someone diving in its ponds searching for golf balls. Some people even collect snake venom or teach dogs how to surf! Curious readers get to explore the many odd jobs that dot the American landscape through colorful photographs and graphics that highlight some of the strangest things people do for a living.","English",26.6,19.95,"331.702--dc23","32 pp.",{"$f":"Table1[[#This Row],['# Books]]*Table1[[#This Row],[QTY]]","v":0},{"$f":"Table1[[#This Row],[QTY]]*Table1[[#This Row],[S&L Price]]","v":0}]
[null,null,123,null,"Weird America",1,"America's Oddest Legends","Library Bound Book","978-1-4824-4033-1",2016,"January 2016","Library","8.500 X 11.00","Author","Caitie McAneney",5.5,0.5,null,null,"R",null,"Grade 3 - 4","Grade 3 - 6","America isn’t old when compared to other countries, but it has its fair share of odd myths and legends. From the myths of Pecos Bill to the Legend of Sleepy Hollow, our history has quirks and stories spanning all 50 states in the union. Readers explore the dark depths of storytelling in this exciting book filled with high-interest tales of American legends. Full-color photographs and freaky graphics help tell the tales that terrified—or just plain weirded out—American children for generations in certain cities or states.","English",26.6,19.95,"398.20973--dc23","32 pp.",{"$f":"Table1[[#This Row],['# Books]]*Table1[[#This Row],[QTY]]","v":0},{"$f":"Table1[[#This Row],[QTY]]*Table1[[#This Row],[S&L Price]]","v":0}]
[null,null,124,null,"Hidden History",1,"Depots of the Underground Railroad","Library Bound Book","978-1-4824-5796-4",2017,"January 2017","Library","6.500 X 9.125","Author","Caroline Kennon",6.6,1,null,null,"S",null,"Grade 4 - 5","Grade 4 - 6","The Underground Railroad was the massive effort by slaves and free people to secretly bring thousands of blacks to freedom in the North during the 19th century. This thought-provoking book will capture readers’ imaginations and fill them with awe for the brave “conductors” and “passengers” on the Railroad. They’ll learn about the many safe havens, called “depots,” that housed fugitives and the secret passages within them that hid slaves from their pursuers. Information about the American Civil War and the Fugitive Slave Act, biographies of figures vital to the Underground Railroad, and stunning photographs and artwork are included in this important work about a terrible time in American history.","English",26.6,19.95,"973.7/115--dc23","32 pp.",{"$f":"Table1[[#This Row],['# Books]]*Table1[[#This Row],[QTY]]","v":0},{"$f":"Table1[[#This Row],[QTY]]*Table1[[#This Row],[S&L Price]]","v":0}]
[null,null,124,null,"Hidden History",1,"Great Lakes Shipwrecks","eBook","978-1-4824-5801-5",2017,"January 2017",null,null,"Author","Melissa Raé Shofner",null,null,null,null,"T",null,"Grade 4 - 5","Grade 4 - 6","The Great Lakes are the largest group of freshwater lakes on Earth and have always been important channels of shipping and trade. Though they are lakes, their waters have proven to be as challenging as the oceans. That’s why there are more than 6,000 shipwrecks in the Great Lakes! This captivating book relates the stories of some of these wrecks, including the Edmund Fitzgerald, Argo, and Lady Elgin, their survivors, and the not-so-lucky. It also explains how wrecks are found and what happens after their discovery. Amazing photographs and sidebar information will provoke readers’ imaginations about these undersea artifacts.","English",26.6,19.95,"917.704--dc23","32 pp.",{"$f":"Table1[[#This Row],['# Books]]*Table1[[#This Row],[QTY]]","v":0},{"$f":"Table1[[#This Row],[QTY]]*Table1[[#This Row],[S&L Price]]","v":0}]
[null,null,124,null,"Hidden History",1,"North America's First People","eBook","978-1-4824-5793-3",2017,"January 2017",null,null,"Author","Janey Levy",null,null,null,null,"T",null,"Grade 4 - 5","Grade 4 - 6","Who were the earliest Americans? When, how, and from where did they enter and spread across the continent? And what is their relationship to modern Native Americans? Anthropologists develop theories to answer these questions based on the evidence they discover. Their theories—and the discoveries that prove and disprove them—are highlighted in this fascinating volume, full of awe-inspiring facts and incredible breakthroughs. Readers will feel like anthropologists and archaeologists themselves as they read about bones and artifacts, and what they reveal about the ancient cultures that roamed North America, some more than 13,000 years ago!","English",26.6,19.95,"970.01--dc23","48 pp.",{"$f":"Table1[[#This Row],['# Books]]*Table1[[#This Row],[QTY]]","v":0},{"$f":"Table1[[#This Row],[QTY]]*Table1[[#This Row],[S&L Price]]","v":0}]
[null,null,124,null,"Hidden History",1,"Uncovering the Jamestown Colony","Library Bound Book","978-1-4824-5808-4",2017,"January 2017","Library","6.500 X 9.125","Author","Caitlin McAneney",5.9,1,null,null,"S",null,"Grade 4 - 5","Grade 4 - 6","Jamestown is celebrated as the first permanent English settlement in North America, but underneath the well-known history is a darker past. In its beginning years, Jamestown was far from successful. In fact, most colonists who came to Jamestown never left; they died shortly after arriving. This fascinating book delves into the challenges of the colony, revealing its successes, tragedies, and even horrors—cannibalism! Readers will be surprised to learn about the real-life Pocahontas and John Smith, and eager to find out more about what really happened in this Virginia colony's early days.","English",26.6,19.95,"975.5/4251--dc23","48 pp.",{"$f":"Table1[[#This Row],['# Books]]*Table1[[#This Row],[QTY]]","v":0},{"$f":"Table1[[#This Row],[QTY]]*Table1[[#This Row],[S&L Price]]","v":0}]
[null,null,125,null,"Our Basic Freedoms",1,"Freedom of Religion","Library Bound Book","978-1-4824-6184-8",2017,"January 2017","Library","7.250 X 9.250","Author","Stephanie Hoover",null,null,null,null,"W",null,"Grade 6","Grade 6 - 8","The freedom to practice religion without government interference predates the founding of the United States. The Puritans and other religions came to the New World partly so they could openly worship without persecution. While persecution certainly still existed, this idea became a big part of the First Amendment to the Constitution. This detailed volume introduces readers to the right to freedom of religion through historical context, challenges to that right, and Supreme Court rulings on cases dealing with freedom of religion. The main content is unbiased and written in clear language appropriate for readers exploring this important topic.","English",31.95,23.95,"323.44’20973--dc23","48 pp.",{"$f":"Table1[[#This Row],['# Books]]*Table1[[#This Row],[QTY]]","v":0},{"$f":"Table1[[#This Row],[QTY]]*Table1[[#This Row],[S&L Price]]","v":0}]
[null,null,125,null,"Our Basic Freedoms",1,"Freedom of Speech","Library Bound Book","978-1-4824-6186-2",2017,"January 2017","Library","7.250 X 9.250","Author","Jennifer Mason",null,null,null,null,"W",null,"Grade 6","Grade 6 - 8","Sometimes, citizens believe having freedom of speech means they can say anything with no consequences. But over time, laws and Supreme Court rulings have limited the full “freedom” of this right to exclude hate speech and other potentially harmful expressions. Through examples, historical context, and clear explanations, readers learn the full extent of their freedom of speech. Modern court cases, particularly those having to do with students, show the relevance of this right in readers’ lives. Fact boxes, sidebars, historical images, and full-color photographs add even more information about the history of the Bill of Rights and the First Amendment.","English",31.95,23.95,"342.7308’53--dc23","48 pp.",{"$f":"Table1[[#This Row],['# Books]]*Table1[[#This Row],[QTY]]","v":0},{"$f":"Table1[[#This Row],[QTY]]*Table1[[#This Row],[S&L Price]]","v":0}]
[null,null,125,null,"Our Basic Freedoms",1,"Freedom of the Press","eBook","978-1-4824-6189-3",2017,"January 2017",null,null,"Author","Stephanie Hoover",null,null,null,null,"W",null,"Grade 6","Grade 6 - 8","The press had been called the “fourth estate,” and in history has served as an important check on the US government’s power. As new technology allows who is the “press” to grow and become less certain, the right to freedom of the press is sure to continue being challenged. This book prepares readers to understand future challenges by introducing this important part of the First Amendment. Including detailed historical context on both the right to freedom of the press and the press itself, the unbiased main content supplements the social studies curriculum with clear, relevant information.","English",31.95,23.95,"342.7308’53--dc23","48 pp.",{"$f":"Table1[[#This Row],['# Books]]*Table1[[#This Row],[QTY]]","v":0},{"$f":"Table1[[#This Row],[QTY]]*Table1[[#This Row],[S&L Price]]","v":0}]
[null,null,126,null,"Crypts, Tombs, and Secret Rooms",6,"Crypts, Tombs, and Secret Rooms","Library Set","978-1-5382-0605-8",2018,"August 2017","Library","7.250 X 9.250",null,"",null,null,null,null,null,null,"Grade 4 - 5","Grade 4 - 6","It's hard not to think of tombs as creepy places – some are positively spine-tingling. However, we can also imagine that tombs, crypts, and graves are time machines! While they can't really transport us physically back to times gone by, they certainly reveal much about how cultures viewed life, death, and the afterlife. This riveting series offers both ghostly chills and historical thrills as readers tour some intriguing final resting places around the globe, including Russia's City of the Dead, the tomb of China's first emperor, Egypt's Pyramids of Giza, and England's Westminster Abbey.","English",191.7,143.69999999999999,null,"48 pp.",{"$f":"Table1[[#This Row],['# Books]]*Table1[[#This Row],[QTY]]","v":0},{"$f":"Table1[[#This Row],[QTY]]*Table1[[#This Row],[S&L Price]]","v":0}]
[null,null,126,null,"Crypts, Tombs, and Secret Rooms",1,"The Pyramids of Giza","Library Bound Book","978-1-5382-0654-6",2018,"August 2017","Library","7.250 X 9.250","Author","Enzo George",null,null,null,null,"T",null,"Grade 4 - 5","Grade 4 - 6","The Pyramids of Giza are 4,000-year-old tombs built for three Egyptian pharaohs. Though all have been looted over the years, they still hold many surprises and curiosities. And they reflect much about Egyptian culture at that time. This comprehensive volume covers the structures’ histories, including still-controversial theories about how they were built, and the latest excavations and discoveries. Modern photographs will give readers an idea of the pyramids’ magnitude, while a timeline will make them realize how truly enduring these extraordinary monuments are.","English",31.95,23.95,"932--dc23","48 pp.",{"$f":"Table1[[#This Row],['# Books]]*Table1[[#This Row],[QTY]]","v":0},{"$f":"Table1[[#This Row],[QTY]]*Table1[[#This Row],[S&L Price]]","v":0}]
[null,null,126,null,"Crypts, Tombs, and Secret Rooms",1,"The Roman Catacombs","eBook","978-1-5382-0649-2",2018,"August 2017",null,null,"Author","Enzo George",null,null,null,null,"T",null,"Grade 4 - 5","Grade 4 - 6","The subterranean tombs known as the Roman Catacombs are truly time capsules. Some tunnels date to the first century. Both Jewish and Christian graves are found there, including cremated and skeletal remains, and some have only been discovered recently. It’s challenging to receive permission to explore these tunnels. Luckily, young historians can find all they need to know in the well-researched pages of this intriguing book, full of extraordinary images and facts. They’ll learn much about the history of Rome and the different cultures that sought to bury their dead beneath the living in this ancient city.","English",31.95,23.95,"937--dc23","48 pp.",{"$f":"Table1[[#This Row],['# Books]]*Table1[[#This Row],[QTY]]","v":0},{"$f":"Table1[[#This Row],[QTY]]*Table1[[#This Row],[S&L Price]]","v":0}]
[null,null,126,null,"Crypts, Tombs, and Secret Rooms",1,"The Tomb of China's First Emperor","eBook","978-1-5382-0651-5",2018,"August 2017",null,null,"Author","Enzo George",null,null,null,null,"T",null,"Grade 4 - 5","Grade 4 - 6","The tomb of China’s First Emperor, Qin Shi Huangdi, is guarded by an army of more than 6,000 life-size terracotta warriors. Doubtless many untold treasures and secrets are sealed in the unopened burial chamber—and perhaps a deadly river of mercury, too. Young archaeologists will delight in learning about this famous ruler and his quest for eternal life. They’ll find out how the latest technology is being used to reveal more about the tomb’s contents while preserving its artifacts. Beautifully vivid photographs complement the intriguing text, while a timeline aids in summarizing key historical details.","English",31.95,23.95,"931'.04--dc23","48 pp.",{"$f":"Table1[[#This Row],['# Books]]*Table1[[#This Row],[QTY]]","v":0},{"$f":"Table1[[#This Row],[QTY]]*Table1[[#This Row],[S&L Price]]","v":0}]
[null,null,127,null,"The Great Race: Fight to the Finish",1,"Building the Transcontinental Railroad: Race of the Railroad Companies","eBook","978-1-5382-0813-7",2018,"August 2017",null,null,"Author","Kelly Wittmann",null,null,null,null,"T",null,"Grade 4 - 5","Grade 4 - 6","A railroad across the United States was once thought to be nearly impossible. The vast expanse from the Pacific to the Atlantic Oceans had so many obstacles, including towering mountain ranges and broad rivers. However, the 1862 Pacific Railroad Act tasked two railroad companies—the Central Pacific and the Union Pacific—with building a transcontinental railroad to link the coasts. How they managed to meet finally in 1869 is the important account detailed in this well-researched volume. Readers will learn about key characters, such as engineer Theodore Judah and investor Leland Stanford, and the innovations and technologies that made their extraordinary feat a reality.","English",31.95,23.95,"385.0978--dc23","48 pp.",{"$f":"Table1[[#This Row],['# Books]]*Table1[[#This Row],[QTY]]","v":0},{"$f":"Table1[[#This Row],[QTY]]*Table1[[#This Row],[S&L Price]]","v":0}]
[null,null,127,null,"The Great Race: Fight to the Finish",1,"The Nuclear Arms Race","Library Bound Book","978-1-5382-0818-2",2018,"August 2017","Library","7.250 X 9.250","Author","Jennifer Mason",null,null,null,null,"T",null,"Grade 4 - 5","Grade 4 - 6","The nuclear arms race was a competition for supremacy in nuclear weaponry between the United States, the Soviet Union, and their allies during the Cold War. This significant volume outlines how dangerous this race really was, detailing its historical origins as well as the science behind nuclear technology, and stresses the consequences of a nuclear war—reflected in the devastation of Hiroshima and Nagasaki, Japan, at the end of World War II. Though the Soviet Union is no more, readers will find out how nuclear power is still being used—and misused—around the world.","English",31.95,23.95,"355.02’17--dc23","48 pp.",{"$f":"Table1[[#This Row],['# Books]]*Table1[[#This Row],[QTY]]","v":0},{"$f":"Table1[[#This Row],[QTY]]*Table1[[#This Row],[S&L Price]]","v":0}]
[null,null,127,null,"The Great Race: Fight to the Finish",1,"The Race to Sail Around the World","Library Bound Book","978-1-5382-0819-9",2018,"August 2017","Library","7.250 X 9.250","Author","Kelly Wittmann",null,null,null,null,"T",null,"Grade 4 - 5","Grade 4 - 6","Historians are often divided into two camps when asked to name the first person to circumnavigate the world; there are those who say Ferdinand Magellan was, while others argue the victor was Francis Drake. Readers will learn the controversies surrounding these 16th-century captains and their infamous journeys. They’ll learn about the political intrigues and economic incentives to find a route and the lasting effects of the expeditions. Besides containing the thrilling accounts of Magellan’s and Drake’s adventures, this beguiling book’s historical images, maps, sidebars, and timeline complement social studies and geography curricula.","English",31.95,23.95,"910.4’10922--dc23","48 pp.",{"$f":"Table1[[#This Row],['# Books]]*Table1[[#This Row],[QTY]]","v":0},{"$f":"Table1[[#This Row],[QTY]]*Table1[[#This Row],[S&L Price]]","v":0}]
[null,null,127,null,"The Great Race: Fight to the Finish",1,"The Space Race","eBook","978-1-5382-0809-0",2018,"August 2017",null,null,"Author","Jennifer Mason",null,null,null,null,"T",null,"Grade 4 - 5","Grade 4 - 6","When the Soviet Union’s satellite Sputnik 1 entered Earth’s orbit in 1957, people in the United States demanded that Americans “catch up” with space technology. The Space Race between the two world superpowers had begun. This authoritative volume explains how the technology developed, who developed it, and the tragedies and triumphs that led to the success of Apollo 11 and subsequent missions. It also addresses the advances of space travel today and the possibility of colonization in outer space. Readers will appreciate the many crucial STEM concepts and eye-catching images included in this gripping account.","English",31.95,23.95,"629.4’109046--dc23","48 pp.",{"$f":"Table1[[#This Row],['# Books]]*Table1[[#This Row],[QTY]]","v":0},{"$f":"Table1[[#This Row],[QTY]]*Table1[[#This Row],[S&L Price]]","v":0}]
[null,null,128,null,"Rebellions, Revolts, and Uprisings",1,"Shays' Rebellion","eBook","978-1-5382-0759-8",2018,"August 2017",null,null,"Author","Ellis Roxburgh",null,null,null,null,"T",null,"Grade 5","Grade 5 - 6","The early years of the United States weren’t wholly tranquil. The new nation was on rocky economic ground. Though paper money was in circulation, it wasn’t worth much. Many people were suffering and didn’t have a voice in government. These conditions gave rise to the rebellion led by former Continental army captain Daniel Shays, beginning in 1786. This volume explains what happened when Shays and more than one thousand followers attempted to capture a Massachusetts arsenal and how this rebellion led to the formation of a new and stronger federal government.","English",31.95,23.95,"974.4'03--dc23","48 pp.",{"$f":"Table1[[#This Row],['# Books]]*Table1[[#This Row],[QTY]]","v":0},{"$f":"Table1[[#This Row],[QTY]]*Table1[[#This Row],[S&L Price]]","v":0}]
[null,null,128,null,"Rebellions, Revolts, and Uprisings",1,"The Seminole Wars","Library Bound Book","978-1-5382-0767-3",2018,"August 2017","Library","7.250 X 9.250","Author","Ellis Roxburgh",null,null,null,null,"T",null,"Grade 5","Grade 5 - 6","The Seminole Wars were comprised of three separate clashes between the United States and the Seminole Indians of Florida between 1817 and 1858. The first touched off when the US Army invaded Seminole territory in order to capture fugitive slaves living among the native people. The Seminoles were pushed farther and farther south into Florida. Ultimately, the Seminoles lost their land and Florida became American territory opened up for white settlers. This well-researched narrative provides essential facts about an important chapter in the history of Native Americans in the growing United States.","English",31.95,23.95,"973.5'7--dc23","32 pp.",{"$f":"Table1[[#This Row],['# Books]]*Table1[[#This Row],[QTY]]","v":0},{"$f":"Table1[[#This Row],[QTY]]*Table1[[#This Row],[S&L Price]]","v":0}]
[null,null,128,null,"Rebellions, Revolts, and Uprisings",1,"The Whiskey Rebellion","eBook","978-1-5382-0758-1",2018,"August 2017",null,null,"Author","Ellis Roxburgh",null,null,null,null,"T",null,"Grade 5","Grade 5 - 6","The fight over taxation wasn’t just a part of the American Revolution. It continued after the war was resolved. When the federal government placed a tax on whiskey in 1791, farmers in Pennsylvania, who depended on selling whiskey to make ends meet, were outraged. They took up arms and attacked federal tax collectors. President George Washington used several tactics to quell the insurrection. The full story of the Whiskey Rebellion, as it was called, is recounted in this volume, along with discussion of its repercussions on domestic policy. Young historians will especially appreciate the vivid images of the incident and those involved.","English",31.95,23.95,"973.4'3--dc23","32 pp.",{"$f":"Table1[[#This Row],['# Books]]*Table1[[#This Row],[QTY]]","v":0},{"$f":"Table1[[#This Row],[QTY]]*Table1[[#This Row],[S&L Price]]","v":0}]
[null,null,129,null,"World's Scariest Places",1,"Abandoned Hospitals","Library Bound Book","978-1-4824-5899-2",2017,"January 2017","Library","6.500 X 9.125","Author","Alix Wood",null,null,null,null,"S",null,"Grade 4 - 5","Grade 4 - 6","It seems peculiar that hospitals—places where people’s lives are saved—can be downright creepy once they’re abandoned. Leftover medical instruments, stained walls, and mysterious sounds all contribute to the unsettling feeling one gets once inside. Luckily, readers won’t have to travel to deserted hospitals around the world. They can tour them in the pages of this hair-raising volume. They’ll visit the Taunton State Hospital in Massachusetts, Old Changi Hospital in Singapore, and others. Plenty of history is mixed in with the odd anecdotes connected with each, and a chilling design and images add to the eerie ambience.","English",26.6,19.95,"133.1’22--dc23","32 pp.",{"$f":"Table1[[#This Row],['# Books]]*Table1[[#This Row],[QTY]]","v":0},{"$f":"Table1[[#This Row],[QTY]]*Table1[[#This Row],[S&L Price]]","v":0}]
[null,null,129,null,"World's Scariest Places",1,"Ghostly Prisons","eBook","978-1-4824-5907-4",2017,"January 2017",null,null,"Author","Alix Wood",null,null,null,null,"T",null,"Grade 4 - 5","Grade 4 - 6","They say that violent deaths beget vengeful spirits refusing to rest in peace. Anne Boleyn was beheaded with a single stroke of a sword at the Tower of London in 1536. After that vicious execution, some say she still roams the Tower grounds! Similar disturbing accounts of historical prisons around the world abound in this spine-tingling and highly motivating work. A world map, vivid photographs, and stimulating sidebars further encourage readers to understand more about the history, geography, and culture involved in each prison’s unique story.","English",26.6,19.95,"133.1’22--dc23","24 pp.",{"$f":"Table1[[#This Row],['# Books]]*Table1[[#This Row],[QTY]]","v":0},{"$f":"Table1[[#This Row],[QTY]]*Table1[[#This Row],[S&L Price]]","v":0}]
[null,null,129,null,"World's Scariest Places",1,"Spooky Hotels","Library Bound Book","978-1-4824-5918-0",2017,"January 2017","Library","6.500 X 9.125","Author","Alix Wood",null,null,null,null,"S",null,"Grade 4 - 5","Grade 4 - 6","Creaking stairs, strange sounds, a child’s laugh in an empty room . . . these are some hallmarks of a haunted hotel. Thrilled readers will become supernatural investigators as they tour the spookiest addresses on the planet. Some of the hotels, far from being abandoned, are occupied by the living as well as perhaps by specters, poltergeists, and other spirits. The Queen Mary Hotel in California and the Ancient Ram Inn in England are two such paranormally populated places. Foreboding facts mingle with history, geography, and a beautiful design in this macabre volume.","English",26.6,19.95,"133.1’22--dc23","24 pp.",{"$f":"Table1[[#This Row],['# Books]]*Table1[[#This Row],[QTY]]","v":0},{"$f":"Table1[[#This Row],[QTY]]*Table1[[#This Row],[S&L Price]]","v":0}]
[null,null,130,null,"What You Didn't Know About History",18,"What You Didn't Know About History","Library Set","978-1-4824-2353-2",2015,"January 2015","Library","8.500 X 8.500",null,"",null,null,null,null,null,null,"Grade 2 - 3","Grade 2 - 5","Many people know that Irish and Chinese immigrants played a big part in building the transcontinental railroad—but what they ate for dinner is less discussed. The harrowing journey on the Oregon Trail is often told. However, the many causes of death aren’t usually included. This growing set of history books offers readers lots of interesting, lesser-known facts to make learning about history fun! Colorful images help spark readers’ imaginations further, and fascinating fact boxes are sure to be repeated in history class! Who wouldn’t want to share what the pioneers used for toilet paper?    • Emphasizes historical figures and events included in the social studies curriculum  • Includes many time periods   • Engages readers with a playful tone and layout  • Timelines and other graphic organizers present historical information in a new way to guide readers’ understanding  • Students can use the wealth of facts, tips, and details included to write informative essays or present clearly, and effectively    ","English",406.8,305.10000000000002,null,"24 pp.",{"$f":"Table1[[#This Row],['# Books]]*Table1[[#This Row],[QTY]]","v":0},{"$f":"Table1[[#This Row],[QTY]]*Table1[[#This Row],[S&L Price]]","v":0}]
[null,null,130,null,"What You Didn't Know About History",1,"Building the White House","Library Bound Book","978-1-4824-1931-3",2015,"January 2015","Library","8.500 X 8.500","Author","Benjamin Proudfit",null,null,28,null,"M",null,"Grade 2 - 3","Grade 2 - 5","Even though millions of people visit the White House each year, it’s also a home to the president and his family. It’s a workplace for both those in the East Wing and West Wing, and it’s a place where history is made through legislation and visits from foreign dignitaries. Because of all these functions, the White House has needed maintenance and additions over the years. This unique look at the most famous building in the United States uses a lens focused on fun as well as history! Full-color photographs and surprising fact boxes engage readers through 200 years of construction.","English",22.6,16.95,"975.3","24 pp.",{"$f":"Table1[[#This Row],['# Books]]*Table1[[#This Row],[QTY]]","v":0},{"$f":"Table1[[#This Row],[QTY]]*Table1[[#This Row],[S&L Price]]","v":0}]
[null,null,130,null,"What You Didn't Know About History",1,"George Washington","eBook","978-1-4824-1936-8",2015,"January 2015",null,null,"Author","Benjamin Proudfit",null,null,28,null,"M",null,"Grade 2 - 3","Grade 2 - 5","George Washington served as the first president of the United States—and he only had one real tooth when he took office! Washington’s life is full of interesting information that gets left out when the story of the noble president is told in history classes. In this volume, readers learn what Washington liked to do, about his family, and how he dressed. Full-color photographs of Mount Vernon and portraits of Washington engage readers with perhaps the most important Founding Father, and fact boxes add truly surprising, fun bits of information about him.","English",22.6,16.95,"973.4","24 pp.",{"$f":"Table1[[#This Row],['# Books]]*Table1[[#This Row],[QTY]]","v":0},{"$f":"Table1[[#This Row],[QTY]]*Table1[[#This Row],[S&L Price]]","v":0}]
[null,null,130,null,"What You Didn't Know About History",1,"Life During the American Revolution","eBook","978-1-4339-8427-3",2013,"January 2013",null,null,"Author","Kristen Rajczak Nelson",null,null,28,20,"M",null,"Grade 2 - 3","Grade 2 - 5","The American Revolution was full of odd events not usually included in history books. Some of these events include: the tar and feathering of British supporters and battles taking place in farmers’ fields. Readers will find many new—and sometimes funny—facts in this book, such as patriot soldiers leaving the war to harvest their crops. Surprising fact boxes and distinctive historical information engage readers with a unique look at the Revolutionary War. Detailed illustrations further emphasize that whether colonists were for, against, or indifferent about independence, war affected them all.","English",22.6,16.95,"973.3","24 pp.",{"$f":"Table1[[#This Row],['# Books]]*Table1[[#This Row],[QTY]]","v":0},{"$f":"Table1[[#This Row],[QTY]]*Table1[[#This Row],[S&L Price]]","v":0}]
[null,null,130,null,"What You Didn't Know About History",1,"Life in Jamestown Colony","Library Bound Book","978-1-4824-0586-6",2014,"January 2014","Library","8.500 X 8.500","Author","Janey Levy",null,null,24,20,"L",null,"Grade 2 - 3","Grade 2 - 5","Jamestown Colony is often held up as a great achievement of colonization. It did help start the United States, after all! However, the truth of Jamestown’s beginnings is a less pleasant story of starvation, drought, and frequent quarrels with nearby Powhatans. Readers will learn lots of fascinating—and shocking—information about the settlement to enhance what they learn in the social studies curriculum. Fact boxes full of surprising details will increase interest while historical images help readers picture what life in the first permanent English colony was like.","English",22.6,16.95,"975.5","24 pp.",{"$f":"Table1[[#This Row],['# Books]]*Table1[[#This Row],[QTY]]","v":0},{"$f":"Table1[[#This Row],[QTY]]*Table1[[#This Row],[S&L Price]]","v":0}]
[null,null,130,null,"What You Didn't Know About History",1,"Life in the American Colonies","Library Bound Book","978-1-4339-8434-1",2013,"January 2013","Library","8.500 X 8.500","Author","Kristen Rajczak Nelson",null,null,28,20,"M",null,"Grade 2 - 3","Grade 2 - 5","Readers will investigate how climate and heritage shaped each colony in the new America—and the important, funny, and strange things colonists did there. Fun fact boxes offer little-known insights and details of colonial life. Detailed illustrations and photographs take readers into colonial lives from Massachusetts to Virginia.","English",22.6,16.95,"973.01","24 pp.",{"$f":"Table1[[#This Row],['# Books]]*Table1[[#This Row],[QTY]]","v":0},{"$f":"Table1[[#This Row],[QTY]]*Table1[[#This Row],[S&L Price]]","v":0}]
[null,null,130,null,"What You Didn't Know About History",1,"Life in the American Colonies","Interactive eBook","978-1-4339-8438-9",2013,"January 2013",null,null,"Author","Kristen Rajczak Nelson",null,null,28,20,"M",null,"Grade 2 - 3","Grade 2 - 5","Readers will investigate how climate and heritage shaped each colony in the new America—and the important, funny, and strange things colonists did there. Fun fact boxes offer little-known insights and details of colonial life. Detailed illustrations and photographs take readers into colonial lives from Massachusetts to Virginia.","English",33.25,24.95,"973.01","24 pp.",{"$f":"Table1[[#This Row],['# Books]]*Table1[[#This Row],[QTY]]","v":0},{"$f":"Table1[[#This Row],[QTY]]*Table1[[#This Row],[S&L Price]]","v":0}]
[null,null,130,null,"What You Didn't Know About History",1,"Life on a Wagon Train","eBook","978-1-4339-8447-1",2013,"January 2013",null,null,"Author","Kristen Rajczak Nelson",null,null,28,20,"M",null,"Grade 2 - 3","Grade 2 - 5","Readers set out on a cross-country adventure with emigrants on a wagon train in this book—but they shouldn’t expect an ordinary journey. Including the many pairs of shoes that the travelers wore through and if children had to go to school, readers will learn surprising details about the trying life on a wagon train. Historical illustrations and photographs support accessible content that moves beyond what’s learned in the social studies classroom. Fact boxes give readers even more opportunities to learn about the hardy emigrants and their habits, food, and fun.","English",22.6,16.95,"978/.02","24 pp.",{"$f":"Table1[[#This Row],['# Books]]*Table1[[#This Row],[QTY]]","v":0},{"$f":"Table1[[#This Row],[QTY]]*Table1[[#This Row],[S&L Price]]","v":0}]
[null,null,130,null,"What You Didn't Know About History",1,"Pocahontas and the Powhatans","Library Bound Book","978-1-4824-1939-9",2015,"January 2015","Library","8.500 X 8.500","Author","Reese Donaghey",null,null,28,null,"M",null,"Grade 2 - 3","Grade 2 - 5","Pocahontas’s name wasn’t originally Pocahontas. “Pocahontas” was a nickname! She was later known by another name, too. Once she began following the religion of the English, she took the name Rebecca. More of her life is uncertain. Readers learn the major accounts of Pocahontas’s life and the discrepancies among them. Full-color images and fun fact boxes help contextualize her life with that of the Powhatan culture in which she grew up. The Powhatans’ relationship with the English colored her life, and the stories that came of her dealings with the English still fascinate today.","English",22.6,16.95,"975.5","24 pp.",{"$f":"Table1[[#This Row],['# Books]]*Table1[[#This Row],[QTY]]","v":0},{"$f":"Table1[[#This Row],[QTY]]*Table1[[#This Row],[S&L Price]]","v":0}]
[null,null,130,null,"What You Didn't Know About History",1,"Pocahontas and the Powhatans","eBook","978-1-4824-1940-5",2015,"January 2015",null,null,"Author","Reese Donaghey",null,null,28,null,"M",null,"Grade 2 - 3","Grade 2 - 5","Pocahontas’s name wasn’t originally Pocahontas. “Pocahontas” was a nickname! She was later known by another name, too. Once she began following the religion of the English, she took the name Rebecca. More of her life is uncertain. Readers learn the major accounts of Pocahontas’s life and the discrepancies among them. Full-color images and fun fact boxes help contextualize her life with that of the Powhatan culture in which she grew up. The Powhatans’ relationship with the English colored her life, and the stories that came of her dealings with the English still fascinate today.","English",22.6,16.95,"975.5","24 pp.",{"$f":"Table1[[#This Row],['# Books]]*Table1[[#This Row],[QTY]]","v":0},{"$f":"Table1[[#This Row],[QTY]]*Table1[[#This Row],[S&L Price]]","v":0}]
[null,null,130,null,"What You Didn't Know About History",1,"The First Thanksgiving","Library Bound Book","978-1-4824-0581-1",2014,"January 2014","Library","8.500 X 8.500","Author","Kathleen Connors",null,null,24,20,"L",null,"Grade 2 - 3","Grade 2 - 5","It’s likely that the Pilgrims ate goose or duck at the first Thanksgiving—and didn’t eat pumpkin pie! Readers will be astonished at the myths surrounding one of the most celebrated holidays in the United States. Fun fact boxes add more surprising US history information that complements the social studies curriculum. As readers learn fact from fiction, historical images will fascinate them, especially idealizations of this storied event. As is often the case, the truth of the first Thanksgiving is more interesting than the myth—and readers will pass on their knowledge around the family turkey for many years!","English",22.6,16.95,"394.2649","24 pp.",{"$f":"Table1[[#This Row],['# Books]]*Table1[[#This Row],[QTY]]","v":0},{"$f":"Table1[[#This Row],[QTY]]*Table1[[#This Row],[S&L Price]]","v":0}]
[null,null,130,null,"What You Didn't Know About History",1,"The Transcontinental Railroad","Library Bound Book","978-1-4824-0600-9",2014,"January 2014","Library","8.500 X 8.500","Author","Michael Rajczak",null,null,24,20,"L",null,"Grade 2 - 3","Grade 2 - 5","The transcontinental railroad didn’t really cross North America. In fact, the famed rail building that took place in the 1860s only completed the stretch from Nebraska to California! Readers will learn many new facts about the transcontinental railroad to augment what they learn in the social studies classroom. Historical images drive home the reality of a 12-hour workday, poor treatment of Chinese immigrant workers, and the dangerous tunneling through the Sierra Nevada. Fact boxes will further fascinate readers with one of the greatest industrial marvels of US history.","English",22.6,16.95,"625.261","24 pp.",{"$f":"Table1[[#This Row],['# Books]]*Table1[[#This Row],[QTY]]","v":0},{"$f":"Table1[[#This Row],[QTY]]*Table1[[#This Row],[S&L Price]]","v":0}]
[null,null,130,null,"What You Didn't Know About History",1,"The Underground Railroad","Interactive eBook","978-1-4824-0605-4",2014,"January 2014",null,null,"Author","Michael Rajczak",null,null,24,20,"L",null,"Grade 2 - 3","Grade 2 - 5","The terrible truth of slavery has been well-documented since its end following the Civil War. With the everyday reality of whippings, backbreaking labor, and constant prejudice, it’s no wonder many slaves tried to escape. Fortunately, a network of people and safe houses arose in the late 1770s to help these slaves reach freedom. Readers will learn about the beginning of the Underground Railroad and the many routes slaves traveled. The main content supports readers’ classroom learning with surprising fact boxes and historical images to draw them into the dangerous, terrifying journey many slaves took.","English",33.25,24.95,"973.7115","24 pp.",{"$f":"Table1[[#This Row],['# Books]]*Table1[[#This Row],[QTY]]","v":0},{"$f":"Table1[[#This Row],[QTY]]*Table1[[#This Row],[S&L Price]]","v":0}]
[null,null,131,null,"White House Insiders",1,"What's It Like to Be the First Lady?","eBook","978-1-4824-1093-8",2015,"August 2014",null,null,"Author","Kathleen Connors",5.4,0.5,28,null,"M",null,"Grade 2 - 3","Grade 2 - 5","The First Lady has no official duties. She doesn’t even have to be the president’s wife! In fact, precedent and the personality of each First Lady have shaped the role of the First Lady. Readers will learn the jobs First Ladies have taken on during the course of US history. Including historical information supporting the social studies curriculum, the main content introduces many past First Ladies. Full-color images add to the historical context. Readers will enjoy a timeline of First Lady firsts as well as entertaining fact boxes.","English",22.6,16.95,"973","24 pp.",{"$f":"Table1[[#This Row],['# Books]]*Table1[[#This Row],[QTY]]","v":0},{"$f":"Table1[[#This Row],[QTY]]*Table1[[#This Row],[S&L Price]]","v":0}]
[null,null,131,null,"White House Insiders",1,"What's It Like to Be the President?","eBook","978-1-4824-1098-3",2015,"August 2014",null,null,"Author","Kathleen Connors",5.5,0.5,28,null,"L",null,"Grade 2 - 3","Grade 2 - 5","Some people say the US president is the most powerful leader in the world. It’s got to be a stressful job! Readers will learn the powers given to the president by the US Constitution and the presidential duties that have developed over time. Enhanced by historical and full-color photographs of past presidents, the main content gives historical context as well as fun fact boxes full of interesting tidbits about past US leaders. From family to salary, the information readers gather about the life of the president will fuel their interest in the presidency for years to come.","English",22.6,16.95,"353.03","24 pp.",{"$f":"Table1[[#This Row],['# Books]]*Table1[[#This Row],[QTY]]","v":0},{"$f":"Table1[[#This Row],[QTY]]*Table1[[#This Row],[S&L Price]]","v":0}]
[null,null,131,null,"White House Insiders",1,"What's It Like to Live in the White House?","Library Bound Book","978-1-4824-1110-2",2015,"August 2014","Library","8.500 X 8.500","Author","Kathleen Connors",5,0.5,28,null,"M",null,"Grade 2 - 3","Grade 2 - 5","US presidents have lived at the White House since 1800. Some have added amenities, such as the movie theater, while others have made their mark by preserving historic fixtures and items. Readers are introduced to the bustling life of the White House, from the business of the West Wing to the East Wing’s homey kitchen. Full-color photographs of past presidents and First Families add to the historical information about the “President’s Palace.” Fun fact boxes give additional, interesting detail. This inventive look at the best-known house in America will leave readers begging for a tour!","English",22.6,16.95,"975.3","32 pp.",{"$f":"Table1[[#This Row],['# Books]]*Table1[[#This Row],[QTY]]","v":0},{"$f":"Table1[[#This Row],[QTY]]*Table1[[#This Row],[S&L Price]]","v":0}]
[null,null,131,null,"Who's Your Candidate? Choosing Government Leaders",1,"Becoming a House Representative","Library Bound Book","978-1-4824-4037-9",2016,"January 2016","Library","8.500 X 11.00","Author","Maria Nelson",6,0.5,null,null,"Q",null,"Grade 3 - 4","Grade 3 - 6","The House of Representatives is the voice of the American people, just like the student council speaks for the student body or class. Being part of student council or taking another leadership role in school can be a great experience for students. But the road to election can seem like a long one—and even longer for those who aspire to a political career! With main content including the setup of the House, who is eligible, and how one is elected, this book uniquely relates House candidates’ experiences to readers working for student leadership positions.","English",26.6,19.95,"328.73’072—d23","32 pp.",{"$f":"Table1[[#This Row],['# Books]]*Table1[[#This Row],[QTY]]","v":0},{"$f":"Table1[[#This Row],[QTY]]*Table1[[#This Row],[S&L Price]]","v":0}]
[null,null,131,null,"Who's Your Candidate? Choosing Government Leaders",1,"Becoming a Senator","Library Bound Book","978-1-4824-4045-4",2016,"January 2016","Library","8.500 X 11.00","Author","Maria Nelson",6,0.5,null,null,"Q",null,"Grade 3 - 4","Grade 3 - 6","Called the Higher House of Congress, the US Senate is structured so that older, wiser state representatives hold office in it. The Founding Fathers wanted one part of Congress to have longer terms to take on bigger responsibilities and see them through. Similarly, students running for a leadership position in a school-wide organization need to have experience and vision. Readers explore the process of becoming a senator through the unique lens of wanting to obtain leadership themselves. Clear tie-ins to readers’ campaigns engage them with the main content, including integral parts of the social studies curriculum.","English",26.6,19.95,"328.73—d23","32 pp.",{"$f":"Table1[[#This Row],['# Books]]*Table1[[#This Row],[QTY]]","v":0},{"$f":"Table1[[#This Row],[QTY]]*Table1[[#This Row],[S&L Price]]","v":0}]
[null,null,131,null,"Who's Your Candidate? Choosing Government Leaders",1,"Becoming a State Governor","eBook","978-1-4824-4050-8",2016,"January 2016",null,null,"Author","Emily Mahoney",6.3,0.5,null,null,"Q",null,"Grade 3 - 4","Grade 3 - 6","A state governor is the leader of all the people of a state, just like a leader of an organization speaks for its people. Being a leader in a school or community organization is a great experience, but it takes a lot of work. The road to becoming a politician can seem complicated, especially when you think about being elected. With content that explores the role of the state governor, who is eligible, and how one is elected, this book uniquely relates state governors’ experiences to readers working for student leadership positions.","English",26.6,19.95,"352.23'21302373—dc23","24 pp.",{"$f":"Table1[[#This Row],['# Books]]*Table1[[#This Row],[QTY]]","v":0},{"$f":"Table1[[#This Row],[QTY]]*Table1[[#This Row],[S&L Price]]","v":0}]
[null,null,131,null,"Who's Your Candidate? Choosing Government Leaders",1,"Becoming Vice President","Library Bound Book","978-1-4824-4057-7",2016,"January 2016","Library","8.500 X 11.00","Author","Maria Nelson",6.1,0.5,null,null,"R",null,"Grade 3 - 4","Grade 3 - 6","When in a position of leadership, there’s almost nothing more valuable than a person who always supports and challenges you. The vice president of an organization, much like the vice president of the United States, aids the president in any way they can, including stepping up to the top role if the president can no longer hold it. Readers learn about how one becomes US vice president and the duties of this sometimes-overlooked position. In addition, specially designated sidebars and content relate this federal process to student elections and organizations to aid readers in pursuing their leadership ambitions.","English",26.6,19.95,"352.23'90973—dc23","24 pp.",{"$f":"Table1[[#This Row],['# Books]]*Table1[[#This Row],[QTY]]","v":0},{"$f":"Table1[[#This Row],[QTY]]*Table1[[#This Row],[S&L Price]]","v":0}]
[null,null,132,null,"Road Trip: Exploring America's Regions",1,"Let's Explore the Great Basin","eBook","978-1-4339-9127-1",2014,"August 2013",null,null,"Author","Kathleen Connors",5.7,0.5,28,20,"M",null,"Grade 2 - 3","Grade 2 - 5","Including the ancient Lehman caves and the hot, dry expanse of Death Valley, the Great Basin region has many natural wonders for visitors to explore. Salt Lake City, Utah, and old mining towns offer even more cool things to do. This book invites readers along Interstate 80 into the Great Basin with fascinating fact boxes, colorful photographs, and awesome historical content. Detailed descriptions of the diverse landscape and destinations will engage any reader looking to plan a great road trip!","English",22.6,16.95,"917.904","24 pp.",{"$f":"Table1[[#This Row],['# Books]]*Table1[[#This Row],[QTY]]","v":0},{"$f":"Table1[[#This Row],[QTY]]*Table1[[#This Row],[S&L Price]]","v":0}]
[null,null,132,null,"Road Trip: Exploring America's Regions",1,"Let's Explore the Midwest","eBook","978-1-4339-9132-5",2014,"August 2013",null,null,"Author","Kathleen Connors",5.4,0.5,28,20,"M",null,"Grade 2 - 3","Grade 2 - 5","On a road trip through the Midwest, travelers can experience the best of urban and rural living. The bright lights and bustle of Chicago, Illinois, and the beautiful rolling hills of the Great Plains are both something to enjoy. This book introduces readers to the history, culture, and geography of the American Midwest. With vivid images of the many exciting places to visit, it will engage readers with a fun format and descriptive content. Fact boxes highlight possible “pit stops” and expand on the main content, while maps help readers navigate the Great Lakes, Badlands, and all around the heartland!","English",22.6,16.95,"917.704","24 pp.",{"$f":"Table1[[#This Row],['# Books]]*Table1[[#This Row],[QTY]]","v":0},{"$f":"Table1[[#This Row],[QTY]]*Table1[[#This Row],[S&L Price]]","v":0}]
[null,null,132,null,"Road Trip: Exploring America's Regions",1,"Let's Explore the Northeast","Library Bound Book","978-1-4339-9134-9",2014,"August 2013","Library","8.500 X 8.500","Author","Kathleen Connors",5.3,0.5,28,20,"M",null,"Grade 2 - 3","Grade 2 - 5","Being home to New York City, the most populous city in the United States, is just one claim to fame of the Northeast region. These states boast beautiful Atlantic coasts, picturesque views from the towering ranges of the Appalachian Mountains, and historic sites directly tied to the founding of the nation. Readers explore the region’s fun and fascinating destinations in this book. With detailed locale descriptions, historical tidbits, and great side-trip suggestions, the content introduces readers to the great Northeast. Fact boxes and colorful photographs will persuade readers to hop in the car and really take a trip!","English",22.6,16.95,"917.404","24 pp.",{"$f":"Table1[[#This Row],['# Books]]*Table1[[#This Row],[QTY]]","v":0},{"$f":"Table1[[#This Row],[QTY]]*Table1[[#This Row],[S&L Price]]","v":0}]
[null,null,132,null,"Road Trip: Exploring America's Regions",1,"Let's Explore the Pacific Northwest","Interactive eBook","978-1-4339-9143-1",2014,"August 2013",null,null,"Author","Kathleen Connors",5.5,0.5,28,20,"M",null,"Grade 2 - 3","Grade 2 - 5","The Pacific Northwest is home to two of the most environmentally friendly cities in the nation—Seattle, Washington, and Portland, Oregon. Even a short trip through the Rocky Mountains or along the Pacific coast allows travelers to revel in the awesome beauty of one of the United States’ most fascinating regions. It’s no wonder these communities so highly regard conservation! Readers will explore the Pacific Northwest through full-color photographs and exciting fact boxes with recommended road trip destinations. Including detailed content that complements the social studies curriculum, readers are  introduced to the history, culture, and geographical diversity of the Pacific Northwest.","English",33.25,24.95,"917.9504","24 pp.",{"$f":"Table1[[#This Row],['# Books]]*Table1[[#This Row],[QTY]]","v":0},{"$f":"Table1[[#This Row],[QTY]]*Table1[[#This Row],[S&L Price]]","v":0}]
[null,null,132,null,"Road Trip: Exploring America's Regions",1,"Let's Explore the Southwest","eBook","978-1-4339-9152-3",2014,"August 2013",null,null,"Author","Kathleen Connors",5.5,0.5,28,20,"M",null,"Grade 2 - 3","Grade 2 - 5","The culture of the American Southwest blends Native American, Spanish, and Mexican traditions with a dash of US spice—and not just in the food! Readers will take a road trip across this unique US region through colorful photographs and cool destination recommendations. An introduction to the major geographic features and the region's big, bustling cities will engage readers as well as augment information learned in the classroom. Fact boxes add even more exciting trivia about one of the fastest-growing US regions!","English",22.6,16.95,"979","24 pp.",{"$f":"Table1[[#This Row],['# Books]]*Table1[[#This Row],[QTY]]","v":0},{"$f":"Table1[[#This Row],[QTY]]*Table1[[#This Row],[S&L Price]]","v":0}]
[null,null,132,null,"Road Trip: Famous Routes",6,"Road Trip: Famous Routes","Library Set","978-1-4824-4603-6",2017,"August 2016","Library","8.500 X 8.500",null,"",null,null,null,null,null,null,"Grade 2 - 3","Grade 2 - 5","Many pioneers reached Oregon Country via the Oregon Trail. Before highways, Route 66 gave cars a way to cross a big part of the country. Travel has changed a lot since the United States was born, but old well-known routes are still worth exploring! Readers learn that, even though time has passed, they can hike the Appalachian Trail or walk beside the Erie Canal. The main content includes the history of these routes, as well as the ways modern Americans travel them. Full-color photographs showcase both the past and present of famous American routes and are sure to increase readers’ appetite for travel!","English",135.6,101.7,null,"24 pp.",{"$f":"Table1[[#This Row],['# Books]]*Table1[[#This Row],[QTY]]","v":0},{"$f":"Table1[[#This Row],[QTY]]*Table1[[#This Row],[S&L Price]]","v":0}]
[null,null,132,null,"Road Trip: Famous Routes",1,"The Appalachian Trail","Library Bound Book","978-1-4824-4954-9",2017,"August 2016","Library","8.500 X 8.500","Author","Walter LaPlante",5.5,0.5,null,null,"L",null,"Grade 2 - 3","Grade 2 - 5","The man who conceived of the Appalachian Trail believed that time outdoors was good for a clear mind. Millions of people couldn’t agree more and hike the trail each year! In addition to the history of this famous trail, readers learn some of the coolest hikes they can go on along the trail as well as the national parks they might find along the way. Fact boxes introduce more information about where to go when on a road trip near the Appalachian Trail, and full-color photographs show a sneak peak of the gorgeous foliage and scenery the trail is known for.","English",22.6,16.95,"796.510974--dc23","24 pp.",{"$f":"Table1[[#This Row],['# Books]]*Table1[[#This Row],[QTY]]","v":0},{"$f":"Table1[[#This Row],[QTY]]*Table1[[#This Row],[S&L Price]]","v":0}]
[null,null,132,null,"Road Trip: Famous Routes",1,"The Oregon Trail","eBook","978-1-4824-4950-1",2017,"August 2016",null,null,"Author","Benjamin Proudfit",null,null,null,null,"L",null,"Grade 2 - 3","Grade 2 - 5","For more than three decades in the mid-1800s, the Oregon Trail was the main way settlers traveled west. Today, people can visit parts of this historic trail, and even walk where pioneers did as they made their way to new lives in the Pacific Northwest and California. Complemented by full-color photographs, the main content addresses the historical context of the trail to supplement the social studies curriculum. Fact boxes offer tips to those traveling along the trail and suggest cool, quirky, and fun destinations near it.","English",22.6,16.95,"978--dc23","24 pp.",{"$f":"Table1[[#This Row],['# Books]]*Table1[[#This Row],[QTY]]","v":0},{"$f":"Table1[[#This Row],[QTY]]*Table1[[#This Row],[S&L Price]]","v":0}]
[null,null,132,null,"Road Trip: National Parks",6,"Road Trip: National Parks","Library Set","978-1-4824-1644-2",2016,"August 2015","Library","8.500 X 8.500",null,"",null,null,null,null,null,null,"Grade 2 - 3","Grade 2 - 5","There are 401 national parks in the United States. Each offers visitors opportunities to learn about unique habitats, wildlife, and plants, as well as history, archaeology, and geography. In addition, the camping, hiking, swimming, and other outdoor activities these parks offer are second to none! Readers learn all about several different parks, including how they were established and the special features of each, from the great conservation efforts in Everglades National Park to the amazing geological details of the Grand Canyon. Full-color photographs of each park introduce readers to spectacular parts of the United States all Americans should experience.    • Presents endangered species, building development, and other important conservation topics   • Introduces key moments and important figures in park creation   • Park maps develop readers’ map-reading skills","English",135.6,101.7,null,"24 pp.",{"$f":"Table1[[#This Row],['# Books]]*Table1[[#This Row],[QTY]]","v":0},{"$f":"Table1[[#This Row],[QTY]]*Table1[[#This Row],[S&L Price]]","v":0}]
[null,null,132,null,"Road Trip: National Parks",1,"Acadia National Park","Library Bound Book","978-1-4824-1674-9",2016,"August 2015","Library","8.500 X 8.500","Author","Kathleen Connors",null,null,24,null,"L","1000L","Grade 2 - 3","Grade 2 - 5","Mount Desert Island, home to Acadia National Park, has been inhabited for more than 5,000 years and enjoyed by vacationers for more than 200! Its many plants, animals, and scenic views make the island and its famous park one of the most visited places in the United States. Colorful photographs and descriptions take readers along the historic carriage roads and to the top of Cadillac Mountain. Readers learn how the park came to be and some of the unique aspects of its geography and nature that keep visitors coming back year after year.","English",22.6,16.95,"974.1","24 pp.",{"$f":"Table1[[#This Row],['# Books]]*Table1[[#This Row],[QTY]]","v":0},{"$f":"Table1[[#This Row],[QTY]]*Table1[[#This Row],[S&L Price]]","v":0}]
[null,null,132,null,"Road Trip: National Parks",1,"Great Smoky Mountains National Park","Library Bound Book","978-1-4824-1686-2",2016,"August 2015","Library","8.500 X 8.500","Author","Santana Hunt",null,null,24,null,"L","1020L","Grade 2 - 3","Grade 2 - 5","People have inhabited the Great Smoky Mountains for thousands of years. The area was once a part of the Cherokee Nation and later farmed and logged by white settlers. Today, a good portion of this part of the Appalachian Mountains is protected as Great Smoky Mountains National Park. Through full-color photographs, readers travel to the heights of Clingmans Dome and around the hundreds of miles of hiking trails that wind through the park. An introduction to the history of the park is accompanied by information about the wildlife, plant life, and attractions found in the park today.","English",22.6,16.95,"976.8","24 pp.",{"$f":"Table1[[#This Row],['# Books]]*Table1[[#This Row],[QTY]]","v":0},{"$f":"Table1[[#This Row],[QTY]]*Table1[[#This Row],[S&L Price]]","v":0}]
[null,null,132,null,"Road Trip: National Parks",1,"Yellowstone National Park","eBook","978-1-4824-1693-0",2016,"August 2015",null,null,"Author","Frances Nagle",null,null,24,null,"L","950L","Grade 2 - 3","Grade 2 - 5","Yellowstone National Park is considered the first national park in the world! Created in 1872, the park encompasses many types of habitats but is best known for its Old Faithful Geyser. Readers join the more than 3 million yearly park visitors in discovering the beauty of Yellowstone National Park. Including important aspects of the social studies curriculum such as geography and conservation, this volume also introduces readers to the plants, wildlife, and attractions of this famous park. Enthralled by the full-color photographs of this lovely landscape, readers will certainly hope their next road trip heads to Yellowstone!","English",22.6,16.95,"979.4","24 pp.",{"$f":"Table1[[#This Row],['# Books]]*Table1[[#This Row],[QTY]]","v":0},{"$f":"Table1[[#This Row],[QTY]]*Table1[[#This Row],[S&L Price]]","v":0}]
[null,null,133,null,"Map Basics",1,"Latitude and Longitude","eBook","978-1-4824-1081-5",2015,"August 2014",null,null,"Author","Kristen Rajczak Nelson",null,null,24,null,"L",null,"Grade 2 - 3","Grade 2 - 5","Even in such a tech-savvy culture as ours, understanding latitude and longitude coordinates has many uses. Coordinates can help hikers find their way when lost on a difficult trail and geocache enthusiasts locate their treasure. Even more importantly, they can help communicate location no matter what language is being spoken. Readers learn all about the development, use, and accuracy of the grid mapping system of latitude and longitude. Covering the equator, Prime Meridian, and more, the main content complements important topics from the social studies curriculum. Full-color maps aid readers’ understanding as fact boxes clarify key information.","English",22.6,16.95,"526","24 pp.",{"$f":"Table1[[#This Row],['# Books]]*Table1[[#This Row],[QTY]]","v":0},{"$f":"Table1[[#This Row],[QTY]]*Table1[[#This Row],[S&L Price]]","v":0}]
[null,null,133,null,"Map Basics",1,"Reading Map Keys","Library Bound Book","978-1-4824-1073-0",2015,"August 2014","Library","8.500 X 8.500","Author","Therese M. Shea",null,null,20,null,"K",null,"Grade 2 - 3","Grade 2 - 5","Just as a car can’t be started without the right key, many maps would be indecipherable without their legend, or key. Map keys show what pictures and colors on a map represent and often offer clues as to the kind of map. Readers learn how map keys can illuminate all kinds of maps, from street and political maps to economic and physical maps. Common map key symbols are discussed alongside full-color examples of many kinds of maps and keys to guide readers through the use and importance of each.","English",22.6,16.95,"912.01","24 pp.",{"$f":"Table1[[#This Row],['# Books]]*Table1[[#This Row],[QTY]]","v":0},{"$f":"Table1[[#This Row],[QTY]]*Table1[[#This Row],[S&L Price]]","v":0}]
[null,null,133,null,"Map Basics",1,"The Compass Rose and Cardinal Directions","eBook","978-1-4824-1086-0",2015,"August 2014",null,null,"Author","Caitie McAneney",null,null,24,null,"L",null,"Grade 2 - 3","Grade 2 - 5","One of the most recognizable map symbols, the compass rose, is also the most useful. It shows the cardinal directions, and, when used with a compass, it can help hikers and orienteers reach their destination. Readers are introduced to the compass rose and the cardinal and intermediate directions it displays. Detailed examples lead readers through using a compass rose on a map. Full-color images accompany important map skills, engaging readers with content consistent with the social studies curriculum.","English",22.6,16.95,"912.01","24 pp.",{"$f":"Table1[[#This Row],['# Books]]*Table1[[#This Row],[QTY]]","v":0},{"$f":"Table1[[#This Row],[QTY]]*Table1[[#This Row],[S&L Price]]","v":0}]
[null,null,133,null,"Map Basics",1,"Types of Maps","eBook","978-1-4824-1066-2",2015,"August 2014",null,null,"Author","Kristen Rajczak Nelson",null,null,20,null,"K",null,"Grade 2 - 3","Grade 2 - 5","Knowing how to read common types of maps is a worthwhile skill. While computers have made paper maps seem outdated, many people still check out weather maps, road maps, and even simple political maps online. Through examples and full-color images, readers are introduced to physical maps, climate maps, and more. The main content includes basic map concepts, such as using map keys, scale, and latitude and longitude. From population to precipitation, the maps included will aid readers in understanding both mapmaking and the world around them.","English",22.6,16.95,"526","24 pp.",{"$f":"Table1[[#This Row],['# Books]]*Table1[[#This Row],[QTY]]","v":0},{"$f":"Table1[[#This Row],[QTY]]*Table1[[#This Row],[S&L Price]]","v":0}]
[null,null,133,null,"Scariest Places on Earth",1,"Devils Tower","eBook","978-1-4824-1154-6",2015,"August 2014",null,null,"Author","Roman Harasymiw",4.7,0.5,30,null,"N","NC910L","Grade 2 - 3","Grade 2 - 5","In northeastern Wyoming, a strange rock formation towers eerily over its surroundings. This place plays a significant part in many Native American legends. It became known as Devils Tower and was later named the first US national monument. Readers will be engaged by the history of Devils Tower and will be particularly interested in how it formed 65 million years ago as a result of volcanic activity. Today, it's still a sacred space as well as a challenging location for rock climbers.","English",22.6,16.95,"978.7","24 pp.",{"$f":"Table1[[#This Row],['# Books]]*Table1[[#This Row],[QTY]]","v":0},{"$f":"Table1[[#This Row],[QTY]]*Table1[[#This Row],[S&L Price]]","v":0}]
[null,null,133,null,"Scariest Places on Earth",1,"Mount Terror","Library Bound Book","978-1-4824-1156-0",2015,"August 2014","Library","8.500 X 8.500","Author","Maeve T. Sisk",4.7,0.5,28,null,"M","NC880L","Grade 2 - 3","Grade 2 - 5","Mount Terror off the coast of Antarctica was named after a ship. While there's plenty to fear about this landform, which is actually a volcano, the scariest facts of all concern the terrifying natural conditions of Antarctica. Readers will learn about Mount Terror and the explorers who risked their lives to learn about it and other parts of the frozen Antarctic. Some, such as Robert Falcon Scott, didn't live to tell the tale. Vivid photographs and frightening facts of this landscape will inspire readers' imaginations.","English",22.6,16.95,"551.2","32 pp.",{"$f":"Table1[[#This Row],['# Books]]*Table1[[#This Row],[QTY]]","v":0},{"$f":"Table1[[#This Row],[QTY]]*Table1[[#This Row],[S&L Price]]","v":0}]
[null,null,133,null,"Scariest Places on Earth",1,"The Dead Sea","Library Bound Book","978-1-4824-1166-9",2015,"August 2014","Library","8.500 X 8.500","Author","Therese M. Shea",4.7,0.5,28,null,"M","NC870L","Grade 2 - 3","Grade 2 - 5","The Dead Sea might sound like a scary place to cool off on a hot day, but many people flock to its waters. The Dead Sea got its name because its salty waters can kill any fish or plants that try to live in it. However, scientists have just recently found a kind of bacteria that live on the seafloor. Readers will find out that some truly spooky things happen around this Middle Eastern lake, like sinkholes opening around its coastline! They'll also learn the science behind these weird happenings and gain an appreciation for an amazing natural resource.","English",22.6,16.95,"956.94","32 pp.",{"$f":"Table1[[#This Row],['# Books]]*Table1[[#This Row],[QTY]]","v":0},{"$f":"Table1[[#This Row],[QTY]]*Table1[[#This Row],[S&L Price]]","v":0}]
[null,null,134,null,"Exploring the Great Lakes",1,"Conserving the Great Lakes","Library Bound Book","978-1-4824-1431-8",2015,"August 2014","Library","6.500 X 9.000","Author","Walter LaPlante",null,null,40,null,"Q",null,"Grade 3 - 4","Grade 3 - 6","The surface of the Great Lakes covers 94,250 square miles (244,106 sq km). About 40 million people in the United States and Canada drink water from the Great Lakes, and millions of birds, fish, and other animals make their homes there. Much will be lost if the lakes aren’t protected. Readers are introduced to Great Lakes conservation issues, including climate change, mining, and water quality. Full-color images and detailed sidebars accompany main content consistent with the social studies curriculum. The knowledge readers gain is sure to inspire the next generation of environmental warriors needed to save this precious ecosystem.","English",26.6,19.95,"977","32 pp.",{"$f":"Table1[[#This Row],['# Books]]*Table1[[#This Row],[QTY]]","v":0},{"$f":"Table1[[#This Row],[QTY]]*Table1[[#This Row],[S&L Price]]","v":0}]
[null,null,134,null,"Exploring the Great Lakes",1,"People of the Great Lakes","eBook","978-1-4824-1416-5",2015,"August 2014",null,null,"Author","Ryan Nagelhout",null,null,40,null,"Q",null,"Grade 3 - 4","Grade 3 - 6","Native people have been living around the Great Lakes for thousands of years. As European settlers arrived, they soon learned that the land around the Great Lakes was an ideal place to settle. Readers learn the history of Great Lakes settlement and much more. Full-color photographs showcase the lakes’ beauty, while social studies content introduces the many cities in the region. From the mammoth metropolis Toronto, Ontario, to the struggling cities of the Rust Belt, the population centers around the Great Lakes change, survive, and continue to depend on the Great Lakes for transportation, industry, and recreation.","English",26.6,19.95,"977","32 pp.",{"$f":"Table1[[#This Row],['# Books]]*Table1[[#This Row],[QTY]]","v":0},{"$f":"Table1[[#This Row],[QTY]]*Table1[[#This Row],[S&L Price]]","v":0}]
[null,null,134,null,"Exploring the Great Lakes",1,"Plants and Animals of the Great Lakes","Library Bound Book","978-1-4824-1438-7",2015,"August 2014","Library","6.500 X 9.000","Author","Walter LaPlante",null,null,40,null,"Q",null,"Grade 3 - 4","Grade 3 - 6","The importance of biodiversity in the Great Lakes watershed cannot be overemphasized. The thousands of kinds of plants and animals that live in the lakes’ habitats affect the health of the lakes, just as the lakes’ health affects the wildlife. Readers learn about the many habitats of the Great Lakes region and conservation efforts that continue to restore and protect them. Full-color photographs accompany in-depth profiles of plants and animals, such as the Canada goose and brook trout, in the region. Sidebars introduce even more wildlife information, which augments the social studies and science curriculum students learn in the classroom.","English",26.6,19.95,"578.0977","32 pp.",{"$f":"Table1[[#This Row],['# Books]]*Table1[[#This Row],[QTY]]","v":0},{"$f":"Table1[[#This Row],[QTY]]*Table1[[#This Row],[S&L Price]]","v":0}]
[null,null,134,null,"Exploring the Great Lakes",1,"Waterways of the Great Lakes","eBook","978-1-4824-1413-4",2015,"August 2014",null,null,"Author","Walter LaPlante",null,null,40,null,"Q",null,"Grade 3 - 4","Grade 3 - 6","The Great Lakes watershed can be traveled from end to end—from the St. Lawrence River all the way to Duluth, Minnesota. In order for that to happen, man-made waterways had to be constructed to bypass rapids and aid ships moving from one water depth to another. Readers travel the basin through main content that includes geography, history, and interesting details that tie it all together. Descriptive maps of the region aid understanding and complement map skills emphasized in the social studies curriculum. Readers see how all the waterways work together to make one vibrant region.","English",26.6,19.95,"917.704","32 pp.",{"$f":"Table1[[#This Row],['# Books]]*Table1[[#This Row],[QTY]]","v":0},{"$f":"Table1[[#This Row],[QTY]]*Table1[[#This Row],[S&L Price]]","v":0}]
[null,null,134,null,"Traveling Wild",1,"Journey Along the Amazon","Library Bound Book","978-1-4824-1507-0",2015,"August 2014","Library","7.750 X 10.00","Author","Alex Woolf",null,null,44,null,"T",null,"Grade 3 - 4","Grade 3 - 6","Imagine traveling thousands of miles downriver by boat and encountering deadly poison dart frogs and anacondas as well as friendly pink river dolphins and manatees. A first-person narrative guides readers through the twists and turns of South America's famous Amazon River. Colorful maps and photographs on each page aid navigation, while text offers interesting facts about the peoples and places along the route to the Atlantic Ocean. Important history, geography, and science topics are highlighted, while the uncertain future of the Amazon rainforest and its wildlife is particularly stressed.","English",26.6,19.95,"981.1","48 pp.",{"$f":"Table1[[#This Row],['# Books]]*Table1[[#This Row],[QTY]]","v":0},{"$f":"Table1[[#This Row],[QTY]]*Table1[[#This Row],[S&L Price]]","v":0}]
[null,null,134,null,"Traveling Wild",1,"Trekking in the Congo Rainforest","eBook","978-1-4824-1373-1",2015,"August 2014",null,null,"Author","Alex Woolf",null,null,44,null,"T",null,"Grade 3 - 4","Grade 3 - 6","With more than 600 tree species and 10,000 animal species, the world's second largest rainforest, the Congo rainforest in Central Africa, is truly a lively place to be. In this thoughtful text, various settlements, villages, and indigenous peoples are introduced to readers as well as fascinating, and sometimes dangerous, forest creatures. In fact, hippos cause the most human deaths of any large animal in Africa! The narrator of this Congo adventure explores not just this wild landscape but also safety tips, natural history, and conservation concerns about this important part of the world.","English",26.6,19.95,"577.34","48 pp.",{"$f":"Table1[[#This Row],['# Books]]*Table1[[#This Row],[QTY]]","v":0},{"$f":"Table1[[#This Row],[QTY]]*Table1[[#This Row],[S&L Price]]","v":0}]
[null,null,135,null,"The Land and the People",6,"The Land and the People","Library Set","978-1-4824-4975-4",2017,"August 2016","Library","8.500 X 11.00",null,"",null,null,null,null,null,null,"Grade 5","Grade 5 - 6","People love to go on exotic vacations to immerse themselves in different cultures—or at least dream about such a trip. This comprehensive series is the next best thing to booking that flight. Through each multifaceted volume, readers will be introduced to astonishing sights, mouthwatering cuisines, and fascinating customs of vibrant countries, such as Brazil, Mexico, and China. Readers will learn about significant historical events and economic issues, as well as what life is like for ordinary citizens today.","English",191.7,143.69999999999999,null,"48 pp.",{"$f":"Table1[[#This Row],['# Books]]*Table1[[#This Row],[QTY]]","v":0},{"$f":"Table1[[#This Row],[QTY]]*Table1[[#This Row],[S&L Price]]","v":0}]
[null,null,135,null,"The Land and the People",1,"China","eBook","978-1-4824-5114-6",2017,"August 2016",null,null,"Author","Anita Ganeri",null,null,null,null,"S",null,"Grade 5","Grade 5 - 6","China is a land of cultural treasures. The Forbidden City, the Great Wall, and the Terracotta Army are all found within its borders. It’s a country of amazing natural resources, including the mighty river called the Yangtze. It’s also a nation of busy cities, delectable foods, and diverse peoples. Rather than hop on a plane, readers can crack this book open to take a tour of the real China, learning about its history, economy, and geography along the way. Vibrant photographs, surprising statistics, and interesting sidebars and fact boxes make this volume an inviting addition to any social studies collection.","English",31.95,23.95,"951--dc23","48 pp.",{"$f":"Table1[[#This Row],['# Books]]*Table1[[#This Row],[QTY]]","v":0},{"$f":"Table1[[#This Row],[QTY]]*Table1[[#This Row],[S&L Price]]","v":0}]
[null,null,135,null,"The Land and the People",1,"Mexico","Library Bound Book","978-1-4824-5101-6",2017,"August 2016","Library","8.500 X 11.00","Author","Cath Senker",null,null,null,null,"S",null,"Grade 5","Grade 5 - 6","It’s time to take a tour of the enthralling country called Mexico. Along the way, readers will see rainforests, deserts, mountains, beaches, and wildlife. To understand Mexico’s people, they’ll imagine walking through street fairs, tasting traditional foods, and meet Mexicans of different backgrounds. They’ll learn what daily life is like for Mexicans of all economic backgrounds and celebrate Mexican culture with mariachi music, sugar skulls, and colorful clothes. Enthusiastic and informative text coupled with interesting sidebars and photographs give readers a comprehensive understanding of this stunning nation and its remarkable people.","English",31.95,23.95,"972--dc23","32 pp.",{"$f":"Table1[[#This Row],['# Books]]*Table1[[#This Row],[QTY]]","v":0},{"$f":"Table1[[#This Row],[QTY]]*Table1[[#This Row],[S&L Price]]","v":0}]
[null,null,136,null,"Native American Cultures",1,"The Apache People","Library Bound Book","978-1-4824-1975-7",2015,"January 2015","Library","8.500 X 8.500","Author","Mark J. Harasymiw",null,null,30,null,"N",null,"Grade 2 - 3","Grade 2 - 5","From hunting buffalo on the plains to harvesting the bulb of the agave plant in the rocky desert, the Apache have shown great resourcefulness throughout their history. This volume allows readers a glimpse into the rich culture of this native people, including the significant and sometimes tragic events that changed their traditional way of life forever. Famous Apache leaders Cochise and Geronimo are highlighted in the text as well as life on modern Apache reservations. Carefully chosen photographs and graphic organizers emphasize key ideas about Apache customs and history.","English",25.25,18.95,"979.004","32 pp.",{"$f":"Table1[[#This Row],['# Books]]*Table1[[#This Row],[QTY]]","v":0},{"$f":"Table1[[#This Row],[QTY]]*Table1[[#This Row],[S&L Price]]","v":0}]
[null,null,136,null,"Native American Cultures",1,"The Apache People","eBook","978-1-4824-1976-4",2015,"January 2015",null,null,"Author","Mark J. Harasymiw",null,null,30,null,"N",null,"Grade 2 - 3","Grade 2 - 5","From hunting buffalo on the plains to harvesting the bulb of the agave plant in the rocky desert, the Apache have shown great resourcefulness throughout their history. This volume allows readers a glimpse into the rich culture of this native people, including the significant and sometimes tragic events that changed their traditional way of life forever. Famous Apache leaders Cochise and Geronimo are highlighted in the text as well as life on modern Apache reservations. Carefully chosen photographs and graphic organizers emphasize key ideas about Apache customs and history.","English",25.25,18.95,"979.004","32 pp.",{"$f":"Table1[[#This Row],['# Books]]*Table1[[#This Row],[QTY]]","v":0},{"$f":"Table1[[#This Row],[QTY]]*Table1[[#This Row],[S&L Price]]","v":0}]
[null,null,136,null,"Native American Cultures",1,"The Hopi People","Library Bound Book","978-1-4824-1987-0",2015,"January 2015","Library","8.500 X 8.500","Author","Therese M. Shea",null,null,34,null,"O",null,"Grade 2 - 3","Grade 2 - 5","The Hopi village of Oraibi was settled around AD 1050, making it the oldest continuously inhabited village in the United States. The Hopi had to be a resilient people to survive in the hot deserts of the Southwest. Today, people are captivated with Hopi culture, which has endured despite years of forced assimilation. Historic photographs and descriptive text aid readers in entering the world of the traditional Hopi, with spotlights on ceremonies, rituals, housing, and fashion. Hopi history and modern life further make this volume a valuable addition to any social studies collection.","English",25.25,18.95,"979.1004","32 pp.",{"$f":"Table1[[#This Row],['# Books]]*Table1[[#This Row],[QTY]]","v":0},{"$f":"Table1[[#This Row],[QTY]]*Table1[[#This Row],[S&L Price]]","v":0}]
[null,null,136,null,"Native American Cultures",1,"The Shoshone People","Library Bound Book","978-1-4824-1995-5",2015,"January 2015","Library","8.500 X 8.500","Author","Kristen Rajczak Nelson",null,null,30,null,"N",null,"Grade 2 - 3","Grade 2 - 5","The Shoshone people's history is forever tied to the period known as westward expansion in the United States. Occupying lands in present-day Idaho, Wyoming, Utah, California, and Nevada, the Shoshone tribe lived in western North America for hundreds of years before white settlers were drawn there by land and gold. In fact, most Shoshone never encountered a white person until the 1800s! Readers are introduced to the Shoshone people through their history and culture. Full-color photographs and historic images highlight their nomadic lifestyle, and fact boxes add interesting detail to curriculum-supporting content.","English",25.25,18.95,"978.004","32 pp.",{"$f":"Table1[[#This Row],['# Books]]*Table1[[#This Row],[QTY]]","v":0},{"$f":"Table1[[#This Row],[QTY]]*Table1[[#This Row],[S&L Price]]","v":0}]
[null,null,136,null,"Native American Cultures",1,"Native American Art: From Totems to Textiles","eBook","978-1-5382-0875-5",2018,"January 2018",null,null,"Author","Joan Stoltman",null,null,null,null,"O",null,"Grade 2 - 3","Grade 2 - 5","Native American art encompasses a multitude of crafts, including rugs, baskets, pottery, and wood carvings. Creativity had no limits in native America. Fortunately, many artifacts and remnants exist which showcase the boundless ingenuity of past as well as modern-day artists, who continue the time-honored traditions of their people. This valuable volume, a support to cultural studies, highlights stunning artwork of various native peoples, accompanied by fascinating facts about the process of creating each impressive piece.","English",25.25,18.95,"704.03/97--dc23","32 pp.",{"$f":"Table1[[#This Row],['# Books]]*Table1[[#This Row],[QTY]]","v":0},{"$f":"Table1[[#This Row],[QTY]]*Table1[[#This Row],[S&L Price]]","v":0}]
[null,null,136,null,"Native American Cultures",1,"Native American Food: From Salmon to Succotash","Library Bound Book","978-1-5382-0878-6",2018,"January 2018","Library","8.500 X 8.500","Author","Melissa Raé Shofner",null,null,null,null,"N",null,"Grade 2 - 3","Grade 2 - 5","Native Americans hunted, fished, farmed, gathered, and raised animals for food. Depending on where they lived, this meant one tribe’s diet could be vastly different from another tribe’s. Food is always an attention-grabbing topic, and readers will find this book especially interesting as they learn about the culinary dishes and traditions of a variety of peoples across America. Fact boxes offer additional information and contribute to the eye-catching layout.","English",25.25,18.95,null,"32 pp.",{"$f":"Table1[[#This Row],['# Books]]*Table1[[#This Row],[QTY]]","v":0},{"$f":"Table1[[#This Row],[QTY]]*Table1[[#This Row],[S&L Price]]","v":0}]
[null,null,136,null,"Native American Cultures",1,"Native American Governments: From Tribal Councils to Constitutions","eBook","978-1-5382-0887-8",2018,"January 2018",null,null,"Author","Sarah Machajewski",null,null,null,null,"O",null,"Grade 2 - 3","Grade 2 - 5","Since ancient times, many native peoples across America governed themselves with a tribal council or another system of government. Many developed constitutions to codify their laws as well. This important aspect of Native American history is carefully explained in this well-researched and accessible book, which focuses on the governments of several native peoples. Historical images, interesting fact boxes, and a colorful design make this significant subject even more appealing to young historians.","English",25.25,18.95,"970.004/97--dc23","32 pp.",{"$f":"Table1[[#This Row],['# Books]]*Table1[[#This Row],[QTY]]","v":0},{"$f":"Table1[[#This Row],[QTY]]*Table1[[#This Row],[S&L Price]]","v":0}]
[null,null,136,null,"Native American Cultures",1,"Native American Homes: From Longhouses to Wigwams","Library Bound Book","978-1-5382-0894-6",2018,"January 2018","Library","8.500 X 8.500","Author","P. V. Knight",null,null,null,null,"N",null,"Grade 2 - 3","Grade 2 - 5","Most native peoples live in modern homes today, but years ago, they lived in vastly different dwellings. These inventive buildings were constructed of available natural resources, such as wood, grass, and adobe bricks, without the use of machinery we rely on today. Readers will appreciate the vivid photographs that accompany the interesting text and surprising fact boxes in this indispensable volume, beneficial to any elementary social studies classroom.","English",25.25,18.95,null,"32 pp.",{"$f":"Table1[[#This Row],['# Books]]*Table1[[#This Row],[QTY]]","v":0},{"$f":"Table1[[#This Row],[QTY]]*Table1[[#This Row],[S&L Price]]","v":0}]
[null,null,136,null,"Native Peoples of North America",1,"Native Peoples of the Arctic","eBook","978-1-4824-4769-9",2017,"August 2016",null,null,"Author","Lynda Arnéz",null,null,null,null,"M",null,"Grade 2 - 3","Grade 2 - 5","In the Arctic, survival is paramount. Yet, for thousands of years, people have made their home in present-day Canada and Alaska among the snow and ice. They value sharing and working together to make the coldest, toughest times of the year bearable. Through migration, hunting, and fishing, the peoples of the North American Arctic have made the best of their environment. Readers discover how and why people settled so far north as well as how they lived. Historical images and photographs showcase the tools, homes, and clothing of the Arctic peoples, while fact boxes offer more insight into their culture.","English",25.25,18.95,"970.004/9712--dc23","32 pp.",{"$f":"Table1[[#This Row],['# Books]]*Table1[[#This Row],[QTY]]","v":0},{"$f":"Table1[[#This Row],[QTY]]*Table1[[#This Row],[S&L Price]]","v":0}]
[null,null,136,null,"Native Peoples of North America",1,"Native Peoples of the Great Plains","Library Bound Book","978-1-4824-4811-5",2017,"August 2016","Library","8.500 X 8.500","Author","Lynda Arnéz",null,null,null,null,"M",null,"Grade 2 - 3","Grade 2 - 5","For the native peoples of the Great Plains, history is broken into two periods: before horses arrived and after. The Spanish introduced horses to these native groups around 1540, and their lives were heavily impacted. No longer did they have to hunt buffalo on foot. They could ride the speed of the herd through parts of modern-day Wisconsin, Minnesota, Missouri, Iowa, Texas, Saskatchewan, Alberta, and more! Readers learn much more about the lifestyles of the native peoples of the Great Plains, including their societal structure, relationship with early European settlers, and more. Historical images and full-color photographs illustrate the main content while fun fact boxes add even more social studies information.","English",25.25,18.95,"978.004/97--dc23","32 pp.",{"$f":"Table1[[#This Row],['# Books]]*Table1[[#This Row],[QTY]]","v":0},{"$f":"Table1[[#This Row],[QTY]]*Table1[[#This Row],[S&L Price]]","v":0}]
[null,null,136,null,"Native Peoples of North America",1,"Native Peoples of the Northwest Coast","eBook","978-1-4824-4798-9",2017,"August 2016",null,null,"Author","Janey Levy",null,null,null,null,"M",null,"Grade 2 - 3","Grade 2 - 5","The native peoples of the northwest coast are often known by the totem poles they create. Made from cedar trees, totem poles were painted bright colors and featured both animal and human forms. Why these amazing pieces of art are created is just one of the interesting details readers will learn about the many native peoples who lived in modern-day Alaska, Oregon, Washington, northern California, and British Columbia. The main content features many social studies curriculum topics, including customs, clothing, and spirituality of native peoples. Full-color photographs and historical images enhance each chapter as specific native groups are highlighted throughout the book.","English",25.25,18.95,"978.004/97","32 pp.",{"$f":"Table1[[#This Row],['# Books]]*Table1[[#This Row],[QTY]]","v":0},{"$f":"Table1[[#This Row],[QTY]]*Table1[[#This Row],[S&L Price]]","v":0}]
[null,null,136,null,"Native Peoples of North America",1,"Native Peoples of the Subarctic","Library Bound Book","978-1-4824-4821-4",2017,"August 2016","Library","8.500 X 8.500","Author","Amy Hayes",null,null,null,null,"M",null,"Grade 2 - 3","Grade 2 - 5","Much of Canada and Alaska can be called the subarctic. This area features the taiga and often cold temperatures. The native peoples of this region had to adapt to this climate in many ways, including making clothes from fur, wearing snowshoes, and carefully insulating their homes. Readers are introduced to which groups can be classified as subarctic and the traditional ways of life they practice. Full-color photographs and historical images highlight the weather’s role in their lives as fun fact boxes add more detail about how the fur trade impacted these groups, how they found food, and more.","English",25.25,18.95,"971.9’01--dc23","32 pp.",{"$f":"Table1[[#This Row],['# Books]]*Table1[[#This Row],[QTY]]","v":0},{"$f":"Table1[[#This Row],[QTY]]*Table1[[#This Row],[S&L Price]]","v":0}]
[null,null,137,null,"Discovering Ancient Civilizations",1,"The Ancient Egyptians","eBook","978-1-4824-5070-5",2017,"August 2016",null,null,"Author","David West",null,null,null,null,"N",null,"Grade 3","Grade 3 - 5","Fascination with ancient Egypt hasn’t diminished even though 2,000 years have passed since Cleopatra’s tragic concluding reign. The amazing and vibrant Egyptians were intelligent enough to build the pyramids, dedicated to their gods enough to mummify bodies, and skilled enough to leave behind the precious artifacts and artwork that tell us of their legacy. In this striking volume, readers are transported to ancient Egypt through accessible text and gorgeous artwork. Essential topics such as family life, religion, political structure, and economy—in combination with photographs of actual Egyptian artifacts—make this book a must-read for any young historian.","English",26.6,19.95,"932--dc23","32 pp.",{"$f":"Table1[[#This Row],['# Books]]*Table1[[#This Row],[QTY]]","v":0},{"$f":"Table1[[#This Row],[QTY]]*Table1[[#This Row],[S&L Price]]","v":0}]
[null,null,137,null,"Discovering Ancient Civilizations",1,"The Ancient Greeks","Library Bound Book","978-1-4824-5065-1",2017,"August 2016","Library","8.500 X 11.00","Author","David West",null,null,null,null,"N",null,"Grade 3","Grade 3 - 5","Civilization today owes much to the ancient Greeks. Greek philosophers, inventors, and mathematicians made contributions to their fields that we still recognize and utilize. This comprehensive but accessible volume offers a wealth of information about the ancient Greeks, including what their homes looked like, how they practiced their religion, what happened when they waged war, and what their theater and sports were like. Both colorful, original artwork and photographs of Greek artifacts aid readers in understanding more about this people and the times in which they lived.","English",26.6,19.95,"938--dc23","32 pp.",{"$f":"Table1[[#This Row],['# Books]]*Table1[[#This Row],[QTY]]","v":0},{"$f":"Table1[[#This Row],[QTY]]*Table1[[#This Row],[S&L Price]]","v":0}]
[null,null,137,null,"Discovering Ancient Civilizations",1,"The Aztecs","eBook","978-1-4824-5058-3",2017,"August 2016",null,null,"Author","David West",null,null,null,null,"N",null,"Grade 3","Grade 3 - 5","The native people known as the Aztec ruled a large empire in what is now Mexico. They created an amazing capital city called Tenochtitlán, where Mexico City is now located. This advanced civilization amazed Spanish explorers when they arrived in the 1500s, and it continues to captivate people today. This notable volume presents the most essential and intriguing facets of the ancient Aztec culture, including their games, arts, economy, myths—and even rites of human sacrifice! Impressive artwork and artifacts displayed on each page offer scenes of Aztec life, further educating and fascinating readers.","English",26.6,19.95,"972’.018--dc23","32 pp.",{"$f":"Table1[[#This Row],['# Books]]*Table1[[#This Row],[QTY]]","v":0},{"$f":"Table1[[#This Row],[QTY]]*Table1[[#This Row],[S&L Price]]","v":0}]
[null,null,137,null,"Discovering Ancient Civilizations",1,"The Vikings","Library Bound Book","978-1-4824-5049-1",2017,"August 2016","Library","8.500 X 11.00","Author","David West",null,null,null,null,"N",null,"Grade 3","Grade 3 - 5","The Vikings had a fierce reputation as warriors and raiders. Yet, they were a trading and farming people as well. This well-researched book lets readers visit the Viking world where they’ll glimpse life in a Viking town as well as on a longship, find out about their festivals and feasts, learn about their religion and mythology, and even attend a funeral! A map of the Viking world, from America to the Mediterranean, and stunning artwork and photographs encourage an immersive and instructive experience about the age of the Vikings.","English",26.6,19.95,"948’.022--dc23","32 pp.",{"$f":"Table1[[#This Row],['# Books]]*Table1[[#This Row],[QTY]]","v":0},{"$f":"Table1[[#This Row],[QTY]]*Table1[[#This Row],[S&L Price]]","v":0}]
[null,null,138,null,"History's Mysteries",1,"Real-Life Monsters?","eBook","978-1-4824-2096-8",2015,"January 2015",null,null,"Author","Therese M. Shea",null,null,44,null,"T",null,"Grade 4 - 5","Grade 4 - 6","It's easy to say that Bigfoot and the Loch Ness Monster don't exist. But the question remains why sightings of these creatures still occur, year after year. This gripping volume, which includes chilling photographs and illustrations, takes curious readers into the mysterious world of some popular monsters. They'll learn what makes a monster a monster and distinguish between real-life and fantasy-world creatures. Thrilling facts and fiction about mummies, vampires, werewolves, and other supernatural beings fill this absorbing text, as well as valuable information about prehistoric and modern \"monster\" animals.","English",26.6,19.95,"398","32 pp.",{"$f":"Table1[[#This Row],['# Books]]*Table1[[#This Row],[QTY]]","v":0},{"$f":"Table1[[#This Row],[QTY]]*Table1[[#This Row],[S&L Price]]","v":0}]
[null,null,138,null,"History's Mysteries",1,"Roanoke: The Lost Colony","Library Bound Book","978-1-4824-2099-9",2015,"January 2015","Library","6.500 X 9.125","Author","Janey Levy",null,null,44,null,"T",null,"Grade 4 - 5","Grade 4 - 6","Once John White stepped onto Roanoke Island in 1590, he discovered the English colony he had helped found 3 years earlier completely abandoned. Only two clues hinted at what might have happened. \"CRO\" was carved into a tree, and \"CROATOAN\" was etched into a post. Many explanations of the colony's fate have since been proposed. Young historians will be engrossed by the full account of the settlement of the Roanoke colony as well as the theories of what happened to the settlers. They'll learn much about the colonial period, Native Americans, and one of the great mysteries of American history.","English",26.6,19.95,"975.6","32 pp.",{"$f":"Table1[[#This Row],['# Books]]*Table1[[#This Row],[QTY]]","v":0},{"$f":"Table1[[#This Row],[QTY]]*Table1[[#This Row],[S&L Price]]","v":0}]
[null,null,138,null,"History's Mysteries",1,"The Prophecies of Nostradamus","eBook","978-1-4824-2092-0",2015,"January 2015",null,null,"Author","Ryan Nagelhout",null,null,44,null,"U",null,"Grade 4 - 5","Grade 4 - 6","The prophecies of sixteenth-century French astrologer Nostradamus still resonate in our world. Many of his predictions have seemed to correlate with major world events. There are more predictions that may yet come to pass. However, there's much controversy surrounding Nostradamus's complicated writings. His use of anagrams and multiple languages make some doubt whether today's translations are even accurate. Believers and nonbelievers both will be fascinated at this look at the mysterious man's life in plague-infested France as well as his most famous predictions. Readers will be able to decide for themselves whether they believe in the mystical powers of Nostradamus.","English",26.6,19.95,"133.3092","32 pp.",{"$f":"Table1[[#This Row],['# Books]]*Table1[[#This Row],[QTY]]","v":0},{"$f":"Table1[[#This Row],[QTY]]*Table1[[#This Row],[S&L Price]]","v":0}]
[null,null,138,null,"Incredible True Adventures",1,"Breaking the Sound Barrier","eBook","978-1-4824-2032-6",2015,"January 2015",null,null,"Author","Heather Moore Niver",5.3,0.5,40,null,"Q",null,"Grade 3 - 4","Grade 3 - 6","For a long time, aviation experts and pilots thought aircraft couldn’t fly faster than the speed of sound. They believed there was a point where the plane and pilot would just explode! They called it the sound barrier. In 1947, Chuck Yeager proved that to be untrue, and in 2012, a skydiver broke the sound barrier without a plane to fly in! From the challenges of airplane technology to daredevil parachutists, the story of breaking the sound barrier is one that will have readers on the edge of their seat. Full-color images and detailed sidebars take history to new heights.    ","English",26.6,19.95,"629.132","32 pp.",{"$f":"Table1[[#This Row],['# Books]]*Table1[[#This Row],[QTY]]","v":0},{"$f":"Table1[[#This Row],[QTY]]*Table1[[#This Row],[S&L Price]]","v":0}]
[null,null,138,null,"Incredible True Adventures",1,"Reaching the Ocean Floor","eBook","978-1-4824-2052-4",2015,"January 2015",null,null,"Author","Therese M. Shea",6.1,0.5,40,null,"Q",null,"Grade 3 - 4","Grade 3 - 6","To this day, the least explored part of Earth lies beneath the ocean. Covering more than 70 percent of the planet, the oceans hold many secrets that scientists and adventurers continue to uncover. From the discovery of the depths of Challenger Deep within the Mariana Trench to director James Cameron’s expedition to the ocean floor, the adventures beneath the sea are many. Readers can dive into the fascinating explorations with full-color photographs, descriptive sidebars, and plenty of mystery for future, curious scientists to ponder!","English",26.6,19.95,"551.46","32 pp.",{"$f":"Table1[[#This Row],['# Books]]*Table1[[#This Row],[QTY]]","v":0},{"$f":"Table1[[#This Row],[QTY]]*Table1[[#This Row],[S&L Price]]","v":0}]
[null,null,138,null,"Incredible True Adventures",1,"The First Moon Walk","Library Bound Book","978-1-4824-2039-5",2015,"January 2015","Library","8.000 X 10.00","Author","Ryan Nagelhout",5.7,0.5,40,null,"Q",null,"Grade 3 - 4","Grade 3 - 6","One of the most historic moments in human history happened in July 1969—the first person walked on the moon! But Neil Armstrong’s steps were only the end result of years of hard work, by both Armstrong and the whole US space program. From the beginning of the space race to the creation of the Apollo program, readers rocket through the events preceding the first moon walk and the uncertainty surrounding its completion. Diagrams of the spacecraft and full-color photographs of the moon landing aid readers’ understanding as detailed text offers interesting facts and historical context.","English",26.6,19.95,"629.45","32 pp.",{"$f":"Table1[[#This Row],['# Books]]*Table1[[#This Row],[QTY]]","v":0},{"$f":"Table1[[#This Row],[QTY]]*Table1[[#This Row],[S&L Price]]","v":0}]
[null,null,138,null,"Incredible True Adventures",1,"The Race to the South Pole","eBook","978-1-4824-2044-9",2015,"January 2015",null,null,"Author","Ryan Nagelhout",5.8,0.5,38,null,"P",null,"Grade 3 - 4","Grade 3 - 6","In 1911, two teams headed to the southernmost point on Earth: the South Pole. No one had ever been there before, and at the end of the race, not everyone would live to tell the tale. Readers go exploring with Norwegian adventurer Roald Amundsen and his team as they head south in competition with English explorer Robert Scott. Details of their adventures, full-color photographs, and the description of the impact of their perilous journey show readers what is possible with training, will, and courage.","English",26.6,19.95,"919.8","32 pp.",{"$f":"Table1[[#This Row],['# Books]]*Table1[[#This Row],[QTY]]","v":0},{"$f":"Table1[[#This Row],[QTY]]*Table1[[#This Row],[S&L Price]]","v":0}]
[null,null,139,null,"Doomed!",1,"Plague: The Black Death","eBook","978-1-4824-2943-5",2016,"August 2015",null,null,"Author","Janey Levy",6.8,1,44,null,"T",null,"Grade 4 - 5","Grade 4 - 6","The plague, aptly known as the Black Death, swept through Europe in the 1300s, killing more than 20 million people. Not only deadly but incredibly painful, the disease was characterized by black boils all over the body that oozed blood and pus. While providing more details about the plague, this book, an asset to any social studies collection, also addresses where the lethal outbreak originated and whether it could return. Aided by striking illustrations, sidebars, and fact boxes, readers will discover the conditions in the Middle Ages that made it possible for such an appalling disease to spread so easily.","English",26.6,19.95,"614.5'732094—dc23","32 pp.",{"$f":"Table1[[#This Row],['# Books]]*Table1[[#This Row],[QTY]]","v":0},{"$f":"Table1[[#This Row],[QTY]]*Table1[[#This Row],[S&L Price]]","v":0}]
[null,null,139,null,"Doomed!",1,"The Great Fire of London","eBook","978-1-4824-2935-0",2016,"August 2015",null,null,"Author","Sarah Machajewski",5.8,1,40,null,"S",null,"Grade 4 - 5","Grade 4 - 6","In September 1666, a small fire broke out at the king's bakery in London, England, in the early morning. Several fateful factors worked together to turn this small blaze into a catastrophic conflagration that changed the city forever. This riveting account of a city set ablaze is supported by primary sources such as maps, diaries, and royal proclamations. Readers will be fascinated by old-fashioned firefighting techniques and people's reactions as the fire spread and burned for days. Images of London on fire will ignite their imaginations and further enable them to understand this era and setting in European history.","English",26.6,19.95,"942.1","32 pp.",{"$f":"Table1[[#This Row],['# Books]]*Table1[[#This Row],[QTY]]","v":0},{"$f":"Table1[[#This Row],[QTY]]*Table1[[#This Row],[S&L Price]]","v":0}]
[null,null,139,null,"Doomed!",1,"The Hindenburg Disaster","Library Bound Book","978-1-4824-2938-1",2016,"August 2015","Library","6.500 X 9.125","Author","Ryan Nagelhout",6.6,1,40,null,"S",null,"Grade 4 - 5","Grade 4 - 6","The Hindenburg, the largest airship ever built and the pride of Nazi Germany, burst into flames over Lakehurst, New Jersey, in 1937. It swiftly fell from the sky and was incinerated. This incident is remembered as the most infamous airship accident, killing 36 people and sinking the dirigible transportation industry. Fascinated readers will explore why and how this giant hydrogen-filled ship was made and the reasons it may have been doomed to fail. They'll also learn conspiracy theories and surprising facts about the circumstances of the terrible disaster. Authentic photographs and thoughtful sidebars add to the historical content. \n\t\n","English",26.6,19.95,"363.12","32 pp.",{"$f":"Table1[[#This Row],['# Books]]*Table1[[#This Row],[QTY]]","v":0},{"$f":"Table1[[#This Row],[QTY]]*Table1[[#This Row],[S&L Price]]","v":0}]
[null,null,139,null,"Encounters with the Past",1,"Meet the Ancient Greeks","Library Bound Book","978-1-4824-0882-9",2015,"August 2014","Library","8.500 X 11.00","Author","Liz Miles",null,null,40,null,"R",null,"Grade 3 - 4","Grade 3 - 6","The opportunity to go back in time and experience history as it's happening would be an invaluable way to understand ancient cultures. Readers of this creative text set in the year 415 BC are invited to the city-state of Athens while it's preparing for war. After helping a slave escape, the narrator is just one step ahead of an angry overseer. However, the chase allows for chance meetings with a whole cast of characters who shed light on the Greek culture of that time, including an actor, an athlete, a Parthenon priestess, and even the famous philosopher Socrates!","English",26.6,19.95,"938","32 pp.",{"$f":"Table1[[#This Row],['# Books]]*Table1[[#This Row],[QTY]]","v":0},{"$f":"Table1[[#This Row],[QTY]]*Table1[[#This Row],[S&L Price]]","v":0}]
[null,null,139,null,"Encounters with the Past",1,"Meet the Medievals","eBook","978-1-4824-0892-8",2015,"August 2014",null,null,"Author","Liz Miles",null,null,40,null,"R",null,"Grade 3 - 4","Grade 3 - 6","Just like in the movies, mammoth castles and armored knights were parts of life in England in the thirteenth century. But European medieval culture was so much more than these romantic props. Readers of this enthralling book will encounter a leper, merchant, blacksmith, knight, and others who offer many facts about medieval life, like what it took to become a knight and how a doctor tried to cure illnesses back then. Photographs of weaponry, art, and castles augment the appealing design of this historic snapshot of a fascinating time period.","English",26.6,19.95,"940.1","32 pp.",{"$f":"Table1[[#This Row],['# Books]]*Table1[[#This Row],[QTY]]","v":0},{"$f":"Table1[[#This Row],[QTY]]*Table1[[#This Row],[S&L Price]]","v":0}]
[null,null,139,null,"Encounters with the Past",1,"Meet the Tudors","eBook","978-1-4824-0905-5",2015,"August 2014",null,null,"Author","Alex Woolf",null,null,40,null,"R",null,"Grade 3 - 4","Grade 3 - 6","The year is 1585 in Tudor England and someone has stolen the duchess's necklace. It's up to the reader of this inventive book to find it and unmask the thief. Readers will play the role of detective while interrogating various people living and working in a nobleman's house. A kitchen maid, archer, musician, actor, and soldier all provide clues as well as absorbing information about what life was like back then. Illustrations and photographs also aid in a visual understanding of this time in history.","English",26.6,19.95,"942.05","32 pp.",{"$f":"Table1[[#This Row],['# Books]]*Table1[[#This Row],[QTY]]","v":0},{"$f":"Table1[[#This Row],[QTY]]*Table1[[#This Row],[S&L Price]]","v":0}]
[null,null,139,null,"Encounters with the Past",1,"Meet the Vikings","Library Bound Book","978-1-4824-0903-1",2015,"August 2014","Library","8.500 X 11.00","Author","Alex Woolf",null,null,40,null,"R",null,"Grade 3 - 4","Grade 3 - 6","Get ready to step back in time and become a Viking in the year 1000! This imaginative text sets the readers as the main character in a story in which they question the people in a Viking community about their culture, including a baker, farmer, artisan, and slave. Viking jewelry, armor, food, and games are a part of the discussion, which is coupled with colorful photographs of characters in costume as well as scenery and artifacts that will truly transport readers back in time.","English",26.6,19.95,"948","32 pp.",{"$f":"Table1[[#This Row],['# Books]]*Table1[[#This Row],[QTY]]","v":0},{"$f":"Table1[[#This Row],[QTY]]*Table1[[#This Row],[S&L Price]]","v":0}]
[null,null,140,null,"Awfully Ancient",1,"Gory Gladiators, Savage Centurions, and Caesar's Sticky End: A Menacing History of the Unruly Romans!","Library Bound Book","978-1-4824-3114-8",2016,"August 2015","Library","8.500 X 11.00","Author","Kay Barnham",5.8,1,null,null,"U","890L","Grade 5","Grade 4 - 8","Because the Roman Army was so large, they had to be very serious about punishing those who broke the rules. For disobeying an order, a soldier would get as many as 200 lashes with a whip. And deserters? They were stoned or beaten to death. These penalties sound harsh in today’s world, but they can tell readers a lot about life during the Roman Empire! Dreadful deaths and creative killings offer a unique lens through which to examine a major historical period. Cute, full-color illustrations offer a humorous look at a bleak topic and add interesting details.","English",26.6,19.95,"937","32 pp.",{"$f":"Table1[[#This Row],['# Books]]*Table1[[#This Row],[QTY]]","v":0},{"$f":"Table1[[#This Row],[QTY]]*Table1[[#This Row],[S&L Price]]","v":0}]
[null,null,140,null,"Awfully Ancient",1,"Mangy Mummies, Menacing Pharaohs, and the Awful Afterlife: A Moth-Eaten History of the Extraordinary Egyptians!","eBook","978-1-4824-3127-8",2016,"August 2015",null,null,"Author","Kay Barnham",5.7,1,null,null,"U","910L","Grade 5","Grade 4 - 8","From feast days of gods and goddesses to victory celebrations, the ancient Egyptians looked for any excuse to throw a party. However, the largest social group included slaves, laborers, and peasants who worked really hard and likely didn’t get to enjoy these occasions as much as the pharaoh or his family. Fun facts about how mummies were created, the ins and outs of the Egyptians gods and goddesses, and more engage readers in an important historical period. A colorful layout, complete with comical illustrations, complements the main content’s lighthearted tone and entertaining take on ancient Egypt.  \n\n\n\n","English",26.6,19.95,"932","32 pp.",{"$f":"Table1[[#This Row],['# Books]]*Table1[[#This Row],[QTY]]","v":0},{"$f":"Table1[[#This Row],[QTY]]*Table1[[#This Row],[S&L Price]]","v":0}]
[null,null,140,null,"Awfully Ancient",1,"Thomas Crapper, Corsets, and Cruel Britannia: A Grim History of the Vexing Victorians!","Library Bound Book","978-1-4824-3134-6",2016,"August 2015","Library","8.500 X 11.00","Author","Peter Hepplewhite",6.2,1,null,null,"U","990L","Grade 5","Grade 4 - 8","Victorian fashion is unlikely to become popular again. Corsets were in style during the second half of the 1800s and were forced on the waists of girls as young as 5 years old! Tied too tight and the wearer might not be able to sit or breathe, and many sustained broken ribs. More fascinating truths about those living during the Victorian era, including the opium-based drugs used to keep children calm and prison-like schools, will inspire thankfulness in today’s readers! Full-color illustrations offer colorful commentary on this buttoned-up time period as well as supplementary historical details.","English",26.6,19.95,"941.081","32 pp.",{"$f":"Table1[[#This Row],['# Books]]*Table1[[#This Row],[QTY]]","v":0},{"$f":"Table1[[#This Row],[QTY]]*Table1[[#This Row],[S&L Price]]","v":0}]
[null,null,140,null,"Digging Up the Dead",6,"Digging Up the Dead","Library Set","978-1-4824-1174-4",2015,"August 2014","Library","6.500 X 9.000",null,"",null,null,null,null,null,null,"Grade 4 - 5","Grade 4 - 6","Death is a fact of life that many find hard to deal with. For centuries, people have struggled to understand death and to find ways of coping with the loss and sorrow it brings. Some age-old religious ceremonies may seem natural to some, but bizarre to others. Myths and superstitions have resulted in some of the strangest, cruelest death rituals. These books explore death and death rituals throughout human history—from the mummies of ancient Egypt to modern executions. Historic illustrations and modern photographs are sure to enthrall readers of all ages.   • Graphic organizers and charts help readers recall important information  • Amazing photographs from around the world aid reader comprehension  • At-level social studies themes with challenging but manageable language","English",159.6,119.7,null,"32 pp.",{"$f":"Table1[[#This Row],['# Books]]*Table1[[#This Row],[QTY]]","v":0},{"$f":"Table1[[#This Row],[QTY]]*Table1[[#This Row],[S&L Price]]","v":0}]
[null,null,140,null,"Digging Up the Dead",1,"Executions and Sacrifices","Library Bound Book","978-1-4824-1485-1",2015,"August 2014","Library","6.500 X 9.000","Author","Heather Moore Niver",6.3,1,null,null,"U",null,"Grade 4 - 5","Grade 4 - 6","From the walls of the Shaanxi Province in China to the murky red waters of Ireland’s peat bogs, scientists and archaeologists have found spine-chilling evidence of scary sacrifices and rituals. Throughout history, cultures have found some very creative ways of torturing their enemies and pleasing the powers that be. But some of these ghastly practices happened far more recently than we would like to think! This riveting volume offers age-appropriate insight into some of history’s mysterious and gruesome practices. Scintillating sidebars and “Grave Matters” fact boxes highlight details about surprising sacrifices and eye-opening executions.","English",26.6,19.95,"306.4","48 pp.",{"$f":"Table1[[#This Row],['# Books]]*Table1[[#This Row],[QTY]]","v":0},{"$f":"Table1[[#This Row],[QTY]]*Table1[[#This Row],[S&L Price]]","v":0}]
[null,null,140,null,"Digging Up the Dead",1,"Ossuaries and Charnel Houses","eBook","978-1-4824-1396-0",2015,"August 2014",null,null,"Author","Greg Roza",6.6,1,null,null,"U",null,"Grade 4 - 5","Grade 4 - 6","Death and burial practices vary from one culture to the next, and there’s some pretty unusual traditions out there. Have you ever heard of people saving the bones of their ancestors? That’s what happens in ossuaries and charnel houses. You might be wondering why people would do this, and there are several fascinating reasons you need to read to believe. Inside this creepy volume, readers will find amazing photographs of charnel houses and ossuaries, including the dark passages of the Paris catacombs and the ornately decorated Sedlec Ossuary. Photographs are paired with engaging passages, sidebars, and fact facts that explain ancient, and not so ancient, death traditions.","English",26.6,19.95,"363.7","48 pp.",{"$f":"Table1[[#This Row],['# Books]]*Table1[[#This Row],[QTY]]","v":0},{"$f":"Table1[[#This Row],[QTY]]*Table1[[#This Row],[S&L Price]]","v":0}]
[null,null,141,null,"Frontline Families",1,"The Afghanistan War: Frontline Soldiers and Their Families","Library Bound Book","978-1-4824-3050-9",2016,"August 2015","Library","7.250 X 9.250","Author","Sarah Levete",null,null,44,null,"T",null,"Grade 5 - 6","Grade 5 - 8","The war in Afghanistan, a conflict that continues to rage on more than a decade after it began, has changed the lives of many families both in the country itself and in the many nations that have sent soldiers to fight there, including the United States and Canada. Readers of this notable volume will learn why this war began as well as its wide-reaching consequences. Photographs and other primary sources will further enlighten about the current conflict. This commendable text contains essential content for any classroom or library concerned with keeping readers informed about current events.","English",31.95,23.95,"958.104","48 pp.",{"$f":"Table1[[#This Row],['# Books]]*Table1[[#This Row],[QTY]]","v":0},{"$f":"Table1[[#This Row],[QTY]]*Table1[[#This Row],[S&L Price]]","v":0}]
[null,null,141,null,"Frontline Families",1,"The Afghanistan War: Frontline Soldiers and Their Families","eBook","978-1-4824-3051-6",2016,"August 2015",null,null,"Author","Sarah Levete",null,null,44,null,"T",null,"Grade 5 - 6","Grade 5 - 8","The war in Afghanistan, a conflict that continues to rage on more than a decade after it began, has changed the lives of many families both in the country itself and in the many nations that have sent soldiers to fight there, including the United States and Canada. Readers of this notable volume will learn why this war began as well as its wide-reaching consequences. Photographs and other primary sources will further enlighten about the current conflict. This commendable text contains essential content for any classroom or library concerned with keeping readers informed about current events.","English",31.95,23.95,"958.104","48 pp.",{"$f":"Table1[[#This Row],['# Books]]*Table1[[#This Row],[QTY]]","v":0},{"$f":"Table1[[#This Row],[QTY]]*Table1[[#This Row],[S&L Price]]","v":0}]
[null,null,141,null,"Frontline Families",1,"The Vietnam War: Frontline Soldiers and Their Families","Library Bound Book","978-1-4824-3062-2",2016,"August 2015","Library","7.250 X 9.250","Author","Sarah Levete",null,null,44,null,"U",null,"Grade 5 - 6","Grade 5 - 8","The Vietnam War lasted just over 20 years. The conflict's impact on the people of Vietnam as well as citizens of the United States and other countries still echoes to this day. For every one of the millions who fought and died, there was a family who worried and grieved. This important book tackles the difficult nature of this war, including how the explosions, gunfire, and fear ruled the hearts of soldiers and families back home. The text carefully explains the causes and effects of the Vietnam War augmented by well-chosen primary sources and photographs.","English",31.95,23.95,"959.704","48 pp.",{"$f":"Table1[[#This Row],['# Books]]*Table1[[#This Row],[QTY]]","v":0},{"$f":"Table1[[#This Row],[QTY]]*Table1[[#This Row],[S&L Price]]","v":0}]
[null,null,141,null,"Frontline Families",1,"World War II: Frontline Soldiers and Their Families","eBook","978-1-4824-3071-4",2016,"August 2015",null,null,"Author","Nick Hunter",null,null,44,null,"V",null,"Grade 5 - 6","Grade 5 - 8","Studies of World War II often focus on the millions who fought so bravely, many of whom ultimately lost their lives. But learning only about soldiers and battlefield maneuvers doesn't give a clear picture of the full impact of war. These troops had families at home as well as working in hospitals, factories, and helping out the war effort in other ways. These people, too, should be recognized and understood for their contribution. This comprehensive book, complete with a timeline of the war and numerous primary sources, provides readers with valuable information about this terrible war, on the frontlines and at home.","English",31.95,23.95,"940.53","48 pp.",{"$f":"Table1[[#This Row],['# Books]]*Table1[[#This Row],[QTY]]","v":0},{"$f":"Table1[[#This Row],[QTY]]*Table1[[#This Row],[S&L Price]]","v":0}]
[null,null,141,null,"History's Fearless Fighters",1,"Conquistadors","eBook","978-1-4824-3163-6",2016,"August 2015",null,null,"Author","Rupert Matthews",null,null,null,null,"U",null,"Grade 5 - 6","Grade 5 - 8","The native people of the Americas never had a chance against European soldiers. The troops of the conquistadors had guns and armor, not to mention new diseases! As readers are drawn through the bloody history of early settlement in the New World, they’ll learn about the conquistadors’ wish for gold and to convert the native peoples to Christianity. Chapters focusing on major conquistadors—including de Coronado, Pizarro, Cortes, and more—incorporate major topics from the social studies curriculum. Full-color maps show the European domination of the Americas and enhance the main content’s detailed account of what they found there.","English",31.95,23.95,"970.01","48 pp.",{"$f":"Table1[[#This Row],['# Books]]*Table1[[#This Row],[QTY]]","v":0},{"$f":"Table1[[#This Row],[QTY]]*Table1[[#This Row],[S&L Price]]","v":0}]
[null,null,141,null,"History's Fearless Fighters",1,"Gladiators","eBook","978-1-4824-3167-4",2016,"August 2015",null,null,"Author","Rupert Matthews",null,null,null,null,"U",null,"Grade 5 - 6","Grade 5 - 8","The Romans who fearlessly fought in the Colosseum had varied backgrounds. Some were slaves and criminals forced to fight to the death. Others trained and volunteered for the task. Their goal was clear from the first step in the arena: the floor was sandy, so blood would be easy to clean up. Gladiator combat is a common topic when discussing the Roman Empire. Readers of this volume, however, will discover all the incredible details of gladiator life from the porridge they ate to the muscle massages they received! A glossary of gladiator terms and a timeline complement the main content.","English",31.95,23.95,"796.8","48 pp.",{"$f":"Table1[[#This Row],['# Books]]*Table1[[#This Row],[QTY]]","v":0},{"$f":"Table1[[#This Row],[QTY]]*Table1[[#This Row],[S&L Price]]","v":0}]
[null,null,141,null,"History's Fearless Fighters",1,"Samurai","Library Bound Book","978-1-4824-3178-0",2016,"August 2015","Library","7.250 X 9.250","Author","Rupert Matthews",null,null,null,null,"U",null,"Grade 5 - 6","Grade 5 - 8","Japanese samurai followed a strict code of honor called bushido. Though they were professional fighters, samurai valued courage, benevolence, and respect above all else. Many took their own lives after breaking the code. This interesting part of Japanese history will draw in readers with its mystery, brutality, and cultural significance. Full-color photographs and historical images of real samurai give faces to these fearless fighters, and photographs of samurai weapons are impressive to modern eyes. Fascinating details about samurai training and the fighters’ influence on modern Japan will engage readers with both the nation’s history and present-day reality.","English",31.95,23.95,"355.00952","48 pp.",{"$f":"Table1[[#This Row],['# Books]]*Table1[[#This Row],[QTY]]","v":0},{"$f":"Table1[[#This Row],[QTY]]*Table1[[#This Row],[S&L Price]]","v":0}]
[null,null,142,null,"History's Greatest Rivals",1,"Abraham Lincoln vs. Jefferson Davis: Presidents of a Divided Nation","Library Bound Book","978-1-4824-4221-2",2016,"January 2016","Library","7.250 X 9.250","Author","Ellis Roxburgh",null,null,null,null,"U",null,"Grade 6 - 8","Grade 6 - 8","Abraham Lincoln and Jefferson Davis rose to power during unprecedented times. What had once been a unified nation—the United States of America—was now at odds in a civil war. This volume offers a unique way to study the events of the Civil War, through the relationship between Lincoln and Davis and their fateful decisions during the bloody conflict. Readers will delve into key topics of the elementary social studies curriculum in this engaging text, which is augmented by historical paintings, photographs, primary sources, and a timeline.","English",31.95,23.95,"973.7—dc23","48 pp.",{"$f":"Table1[[#This Row],['# Books]]*Table1[[#This Row],[QTY]]","v":0},{"$f":"Table1[[#This Row],[QTY]]*Table1[[#This Row],[S&L Price]]","v":0}]
[null,null,142,null,"History's Greatest Rivals",1,"Al Capone vs. Eliot Ness: Opposite Sides of the Law","Library Bound Book","978-1-4824-2209-2",2015,"January 2015","Library","7.250 X 9.250","Author","Ellis Roxburgh",6.8,1,44,null,"U",null,"Grade 6 - 8","Grade 6 - 8","The passage of the Eighteenth Amendment in 1920 ushered in the era of Prohibition. It also induced many crime syndicates to produce and distribute alcohol. It was during this time that the infamous crime boss Al Capone rose to power through violence, cunning, and widespread bribery of government officials. Capone would ultimately meet his match in the \"untouchable\" Eliot Ness of the Prohibition Bureau. The story of how Ness took on Capone and the seedy underworld of Chicago will captivate readers from start to finish. Exceptional photographs and a colorful layout make this high-interest volume a compelling glimpse into a unique time period in US history.","English",31.95,23.95,"364.1092","48 pp.",{"$f":"Table1[[#This Row],['# Books]]*Table1[[#This Row],[QTY]]","v":0},{"$f":"Table1[[#This Row],[QTY]]*Table1[[#This Row],[S&L Price]]","v":0}]
[null,null,142,null,"History's Greatest Rivals",1,"Al Capone vs. Eliot Ness: Opposite Sides of the Law","eBook","978-1-4824-2212-2",2015,"January 2015",null,null,"Author","Ellis Roxburgh",6.8,1,44,null,"U",null,"Grade 6 - 8","Grade 6 - 8","The passage of the Eighteenth Amendment in 1920 ushered in the era of Prohibition. It also induced many crime syndicates to produce and distribute alcohol. It was during this time that the infamous crime boss Al Capone rose to power through violence, cunning, and widespread bribery of government officials. Capone would ultimately meet his match in the \"untouchable\" Eliot Ness of the Prohibition Bureau. The story of how Ness took on Capone and the seedy underworld of Chicago will captivate readers from start to finish. Exceptional photographs and a colorful layout make this high-interest volume a compelling glimpse into a unique time period in US history.","English",31.95,23.95,"364.1092","48 pp.",{"$f":"Table1[[#This Row],['# Books]]*Table1[[#This Row],[QTY]]","v":0},{"$f":"Table1[[#This Row],[QTY]]*Table1[[#This Row],[S&L Price]]","v":0}]
[null,null,142,null,"History's Greatest Rivals",1,"Elizabeth I of England vs. Mary, Queen of Scots: Battle for the Throne","Library Bound Book","978-1-4824-4229-8",2016,"January 2016","Library","7.250 X 9.250","Author","Ellis Roxburgh",null,null,null,null,"U",null,"Grade 6 - 8","Grade 6 - 8","British monarch Elizabeth I’s long reign is remembered as a period of stability for England. Yet, her relationship with her cousin, Mary, Queen of Scots, was contentious at best, leading to a fatal ending for one of the monarchs. This intrigue-filled volume transports readers into the throne rooms of Europe during the 16th century, where they’ll learn of shifting lines of succession, clashes between religions, and assassination plots. Actual quotes from the rulers themselves as well as stunning portraits and paintings mark the pages of this well-designed book, and a timeline summarizes the essential events of this historical rivalry.","English",31.95,23.95,"941.05'50922—dc23","48 pp.",{"$f":"Table1[[#This Row],['# Books]]*Table1[[#This Row],[QTY]]","v":0},{"$f":"Table1[[#This Row],[QTY]]*Table1[[#This Row],[S&L Price]]","v":0}]
[null,null,142,null,"History's Greatest Rivals",1,"Robert Peary vs. Frederick Cook: Race to the North Pole","eBook","978-1-4824-4234-2",2016,"January 2016",null,null,"Author","Ellis Roxburgh",null,null,null,null,"U",null,"Grade 6 - 8","Grade 6 - 8","When explorer Robert Peary returned from reaching the North Pole in 1909—his third attempt—he was shocked to learn Dr. Frederick Cook claimed to have reached it nearly a whole year before him. Both men’s assertions are now in doubt! That doesn’t make this exciting account of the race to the North Pole any less fascinating. Readers will immerse themselves in the world of Arctic exploration and all that entailed at the beginning of the 20th century, including adopting Inuit customs. Quotations from each explorer, a timeline, and photographs of the people and places involved in this intense rivalry will cast light on the controversial competition.","English",31.95,23.95,"910’.9163’2—d23","48 pp.",{"$f":"Table1[[#This Row],['# Books]]*Table1[[#This Row],[QTY]]","v":0},{"$f":"Table1[[#This Row],[QTY]]*Table1[[#This Row],[S&L Price]]","v":0}]
[null,null,142,null,"History's Greatest Rivals",1,"The Founding Fathers vs. King George III: The Fight for a New Nation","Library Bound Book","978-1-4824-2217-7",2015,"January 2015","Library","7.250 X 9.250","Author","Ellis Roxburgh",null,null,44,null,"U",null,"Grade 6 - 8","Grade 6 - 8","Although we rarely consider it today, it was remarkable that the small forces of the American colonies were the victors of the American Revolution. After all, England was the most powerful nation in the world at that time. This entertaining volume, an appealing way to present the important facts surrounding the Revolution, takes readers into the biographies of the Founding Fathers as well as George III and his advisors. The crucial events and decisions that ultimately led to England's loss are presented in an accessible narrative that will appeal to young historians and Revolutionary War buffs alike.","English",31.95,23.95,"973.3","48 pp.",{"$f":"Table1[[#This Row],['# Books]]*Table1[[#This Row],[QTY]]","v":0},{"$f":"Table1[[#This Row],[QTY]]*Table1[[#This Row],[S&L Price]]","v":0}]
[null,null,142,null,"History's Greatest Rivals",1,"Thomas Jefferson vs. John Adams: Founding Fathers and Political Rivals","Library Bound Book","978-1-4824-4241-0",2016,"January 2016","Library","7.250 X 9.250","Author","Ellis Roxburgh",null,null,null,null,"U",null,"Grade 6 - 8","Grade 6 - 8","It may be surprising to even history buffs that Founding Fathers Thomas Jefferson and John Adams were at odds for years after the American Revolution. Each held tightly to their opposing views of how the new nation should be governed. This absorbing text not only reviews many important benchmarks of American history—such as the writing of the US Constitution and the establishment of political parties—it also provides well-rounded analyses of these two powerful men, their relationship, and their eventual reconciliation. Their prolific writings provide many significant quotations throughout this valuable and insightful volume.","English",31.95,23.95,"973.4'6092—dc23","48 pp.",{"$f":"Table1[[#This Row],['# Books]]*Table1[[#This Row],[QTY]]","v":0},{"$f":"Table1[[#This Row],[QTY]]*Table1[[#This Row],[S&L Price]]","v":0}]
[null,null,143,null,"Why War Happened",1,"What Caused the Afghanistan War?","Library Bound Book","978-1-4824-5178-8",2017,"August 2016","Library","7.250 X 9.250","Author","Sarah Levete",null,null,null,null,"V",null,"Grade 6 - 8","Grade 6 - 8","While witnessing the continuous coverage of violence in Afghanistan, it can be difficult to remember the events that led to the ongoing conflict. However, in order to understand the struggles of today, informed people need to comprehend the events of years past. This invaluable volume, while not simplifying the Afghanistan War, provides a thoughtful and sensitive account of key events, groups, and people involved in the war, including the country’s colonial history, Al Qaeda, and Osama bin Laden. More significant information is presented in sidebars throughout the text, while photographs provide visual support for this most timely and important subject.","English",31.95,23.95,"958.104’7--dc23","48 pp.",{"$f":"Table1[[#This Row],['# Books]]*Table1[[#This Row],[QTY]]","v":0},{"$f":"Table1[[#This Row],[QTY]]*Table1[[#This Row],[S&L Price]]","v":0}]
[null,null,143,null,"Why War Happened",1,"What Caused the Civil War?","eBook","978-1-4824-5175-7",2017,"August 2016",null,null,"Author","Robyn Hardyman",null,null,null,null,"V",null,"Grade 6 - 8","Grade 6 - 8","During the American Civil War, the United States was on the brink of falling apart irrevocably. As states seceded and brother turned against brother, hope for reconciliation was dim. This conflict, an essential topic of the social studies curriculum, is skillfully presented from its origins in the Southern slave-trade economy to bloody battles and, later, Reconstruction. Striking photographs and artwork of integral events and people will resonate with readers, while interesting sidebar information gives them more to reflect on about this terrible war and the lessons it taught us.","English",31.95,23.95,"973.7--dc23","32 pp.",{"$f":"Table1[[#This Row],['# Books]]*Table1[[#This Row],[QTY]]","v":0},{"$f":"Table1[[#This Row],[QTY]]*Table1[[#This Row],[S&L Price]]","v":0}]
[null,null,143,null,"Why War Happened",1,"What Caused World War I?","eBook","978-1-4824-5205-1",2017,"August 2016",null,null,"Author","Robyn Hardyman",null,null,null,null,"V",null,"Grade 6 - 8","Grade 6 - 8","For a truly worldwide war to erupt, many conflicts and interests are at work. That’s exactly what happened in the years leading up to World War I, also called the Great War. Conflicts between empires, alliances among nations, fights over boundaries and colonies, and the 1914 assassination of the archduke Franz Ferdinand were among the myriad of causes for this widespread war. This volume, which includes remarkable photographs from the time period, gives a thorough overview of the war and its aftermath, which would pave the way for another terrible world war just two decades later.","English",31.95,23.95,"940.3--dc23","32 pp.",{"$f":"Table1[[#This Row],['# Books]]*Table1[[#This Row],[QTY]]","v":0},{"$f":"Table1[[#This Row],[QTY]]*Table1[[#This Row],[S&L Price]]","v":0}]
[null,null,143,null,"Why War Happened",1,"What Caused World War II?","Library Bound Book","978-1-4824-5183-2",2017,"August 2016","Library","7.250 X 9.250","Author","Robyn Hardyman",null,null,null,null,"V",null,"Grade 6 - 8","Grade 6 - 8","The major participants of World War II are familiar to most young historians, but less well known are the many causes of this bloody conflict. Among them is the treaty that ended World War I, originally meant to keep Germany from becoming a world power again. This and other surprising facts await readers of this notable volume, which discusses not only the causes of the war, but also the significant battles and eventual conclusion. Carefully selected photographs reflect the terrible toll of this deadly conflict.","English",31.95,23.95,"940.4--dc23","32 pp.",{"$f":"Table1[[#This Row],['# Books]]*Table1[[#This Row],[QTY]]","v":0},{"$f":"Table1[[#This Row],[QTY]]*Table1[[#This Row],[S&L Price]]","v":0}]
[null,null,144,null,"Let's Talk Sports!",1,"Talk Like a Basketball Player","Library Bound Book","978-1-4824-5698-1",2017,"January 2017","Library","8.500 X 8.500","Author","Ryan Nagelhout",4.4000000000000004,0.5,null,null,"N",null,"Grade 2 - 3","Grade 2 - 5","Basketball is a game of numbers. Scoring points is one thing, but readers might not know that each position in basketball has a number, too! It’s just one of the many fun facts about basketball a reader needs to know to sound like a pro. Full-color photographs and graphic organizers explain concepts like the difference between a small forward and a power forward while introducing new terminology that helps readers get their heads in the game and ready to take the floor.","English",25.25,18.95,"796.323’64--dc23","32 pp.",{"$f":"Table1[[#This Row],['# Books]]*Table1[[#This Row],[QTY]]","v":0},{"$f":"Table1[[#This Row],[QTY]]*Table1[[#This Row],[S&L Price]]","v":0}]
[null,null,144,null,"Let's Talk Sports!",1,"Talk Like a Hockey Player","eBook","978-1-4824-5707-0",2017,"January 2017",null,null,"Author","Ryan Nagelhout",null,null,null,null,"N",null,"Grade 2 - 3","Grade 2 - 5","Can you put the biscuit in the basket? If you don’t know your hockey lingo, that might be a hard question to answer. After reading this book full of colorful graphics and photos explaining the finer points of hockey jargon, readers will be sure to take a shot on net and try scoring a goal for themselves. From technical terms for hockey equipment to explanations of hockey rules and positions, this book has everything readers need to lace up the skates and hit the ice with confidence.","English",25.25,18.95,"796.962--dc23","32 pp.",{"$f":"Table1[[#This Row],['# Books]]*Table1[[#This Row],[QTY]]","v":0},{"$f":"Table1[[#This Row],[QTY]]*Table1[[#This Row],[S&L Price]]","v":0}]
[null,null,145,null,"Sports: What's Your Position?",6,"Sports: What's Your Position?","Library Set","978-1-5382-0476-4",2018,"August 2017","Library","8.500 X 11.00",null,"",null,null,null,null,null,null,"Grade 3 - 4","Grade 3 - 6","Playing sports is a great way to get some exercise with friends. But knowing what to do can often be tough. Learning the proper positions in sports is an important way sports fans and players learn the games they love. From the special techniques goaltenders need to know in sports like soccer, hockey, and lacrosse to the many positions on the football field, there’s lots to know about the unique positions athletes play. Full-color photographs show both professionals and kids playing these roles on a team and show readers how teams work together to win and have fun!","English",159.6,119.7,null,"32 pp.",{"$f":"Table1[[#This Row],['# Books]]*Table1[[#This Row],[QTY]]","v":0},{"$f":"Table1[[#This Row],[QTY]]*Table1[[#This Row],[S&L Price]]","v":0}]
[null,null,145,null,"Sports: What's Your Position?",1,"Baseball: Who Does What?","eBook","978-1-5382-0421-4",2018,"August 2017",null,null,"Author","Ryan Nagelhout",null,null,null,null,"R",null,"Grade 3 - 4","Grade 3 - 6","Nine is the magic number in baseball. It’s the number of innings in a standard game and the number of players each team fields when on defense. But every player on the field is different, and this book studies each unique position to explore those differences and the skills needed to play there. From turning double plays at shortstop to throwing off the pitcher’s mound, each spot on the diamond has its quirks. Readers learn how catchers help pitchers know what pitch to throw and catch runners stealing second base in this exciting title that puts them on the diamond and in the midst of this exciting game.","English",26.6,19.95,"796.357--dc23","32 pp.",{"$f":"Table1[[#This Row],['# Books]]*Table1[[#This Row],[QTY]]","v":0},{"$f":"Table1[[#This Row],[QTY]]*Table1[[#This Row],[S&L Price]]","v":0}]
[null,null,145,null,"Sports: What's Your Position?",1,"Football: Who Does What?","Library Bound Book","978-1-5382-0426-9",2018,"August 2017","Library","8.500 X 11.00","Author","Ryan Nagelhout",null,null,null,null,"R",null,"Grade 3 - 4","Grade 3 - 6","The game of football has many rules, and each position on the field is different. Whether lining up in the trenches to protect the quarterback or running the ball out of the backfield, the 11 players on each team each have special jobs to do. This book gives readers a look at each position on the gridiron, showing how cornerbacks and safeties cover wide receivers and how linebackers try to sack the quarterback. With a detailed look at each position, readers will be ready to take the field themselves and play America’s most popular game with their friends.","English",26.6,19.95,"796.332--dc23","24 pp.",{"$f":"Table1[[#This Row],['# Books]]*Table1[[#This Row],[QTY]]","v":0},{"$f":"Table1[[#This Row],[QTY]]*Table1[[#This Row],[S&L Price]]","v":0}]
[null,null,145,null,"Sports: What's Your Position?",1,"Lacrosse: Who Does What?","eBook","978-1-5382-0412-2",2018,"August 2017",null,null,"Author","Ryan Nagelhout",null,null,null,null,"R",null,"Grade 3 - 4","Grade 3 - 6","Lacrosse has elements of other sports in its gameplay, but is a sport all its own. With a rich history and fun pace to the game, it’s a growing sport that’s easy to start playing. This book explores the exciting and evolving world of field lacrosse, a sport that has many moving parts. From defenders sliding into shooting lanes to the cuts and spins that free attackers for scoring chances, lacrosse is a fast-moving game that’s exciting to watch and play. Readers will love experiencing the ins and outs of lacrosse, learning its rules and regulations, and seeing for themselves how each position is important in creating a winning team.","English",26.6,19.95,"796.36'2--dc23","24 pp.",{"$f":"Table1[[#This Row],['# Books]]*Table1[[#This Row],[QTY]]","v":0},{"$f":"Table1[[#This Row],[QTY]]*Table1[[#This Row],[S&L Price]]","v":0}]
[null,null,146,null,"Benched: Dealing with Sports Injuries",1,"What If I Break a Bone?","eBook","978-1-4824-4875-7",2017,"August 2016",null,null,"Author","Kristen Rajczak Nelson",null,null,null,null,"N",null,"Grade 2 - 3","Grade 2 - 5","No athlete wants to break a bone on the field, but injuries are bound to happen when playing sports. Learning what steps to take and how to recover from serious injuries is an important part of being an athlete. This book teaches readers what to do in case of serious injury, the differences between bone breaks and less serious sprains or bruises, and what to do if they think they’ve suffered a serious injury. With the expert help of doctors and other adults and the knowledge gained from this book, these once-injured young athletes will be back in the lineup and on the field quickly.","English",22.6,16.95,"617.1/027--dc23","24 pp.",{"$f":"Table1[[#This Row],['# Books]]*Table1[[#This Row],[QTY]]","v":0},{"$f":"Table1[[#This Row],[QTY]]*Table1[[#This Row],[S&L Price]]","v":0}]
[null,null,146,null,"Benched: Dealing with Sports Injuries",1,"What If I Break a Tooth?","Library Bound Book","978-1-4824-4886-3",2017,"August 2016","Library","8.500 X 8.500","Author","Sarah Machajewski",null,null,null,null,"N",null,"Grade 2 - 3","Grade 2 - 5","Dental work is never fun, especially after an accident on the soccer field or basketball court. Whether a tooth is chipped or broken, any sort of dental injury requires immediate attention. Dealing with the pain and blood can be hard for young athletes, but this book will help them understand just what’s happening in their mouth and what dentists need to do to help them get better. From minor capping and tooth fillings to root canals and more serious surgery, this book gives student athletes the basics on taking care of their teeth should they suffer an injury.","English",22.6,16.95,"617.1/027--dc23","24 pp.",{"$f":"Table1[[#This Row],['# Books]]*Table1[[#This Row],[QTY]]","v":0},{"$f":"Table1[[#This Row],[QTY]]*Table1[[#This Row],[S&L Price]]","v":0}]
[null,null,146,null,"Benched: Dealing with Sports Injuries",1,"What If I Get a Concussion?","Library Bound Book","978-1-4824-4888-7",2017,"August 2016","Library","8.500 X 8.500","Author","Ryan Nagelhout",null,null,null,null,"N",null,"Grade 2 - 3","Grade 2 - 5","Concussions are serious and often misunderstood injuries. This important book explores concussions from every angle, including how they happen and what to do should a reader suffer one while on the field. Unlike more physically apparent injuries, concussions are diagnosed through symptoms. Knowing what concussions do to the brain and how they affect people’s actions is important to staying healthy when playing high-impact sports. Readers will learn important health lessons that will help them understand how doctors treat concussions and get them back on the field safely after taking a bit hit.","English",22.6,16.95,"617.4’81044--dc23","32 pp.",{"$f":"Table1[[#This Row],['# Books]]*Table1[[#This Row],[QTY]]","v":0},{"$f":"Table1[[#This Row],[QTY]]*Table1[[#This Row],[S&L Price]]","v":0}]
[null,null,146,null,"Benched: Dealing with Sports Injuries",1,"What If I Need Stitches?","eBook","978-1-4824-4884-9",2017,"August 2016",null,null,"Author","Therese M. Shea",null,null,null,null,"N",null,"Grade 2 - 3","Grade 2 - 5","When a cut is too deep, it often needs stitches to heal properly. But how these stitches work and what they do isn’t easy to understand. This book dives into the why and how of stitches and the kind of injuries readers may suffer that requires a trip to the emergency room. Sports like soccer, hockey, and lacrosse may lead to cuts and bleeding that might need a few stitches to help heal. Readers also learn what to do when they get a sports injury, how to talk to doctors, and what steps they need to take in order to retake the field when their injuries heal.","English",22.6,16.95,"617.044--dc23","32 pp.",{"$f":"Table1[[#This Row],['# Books]]*Table1[[#This Row],[QTY]]","v":0},{"$f":"Table1[[#This Row],[QTY]]*Table1[[#This Row],[S&L Price]]","v":0}]
[null,null,146,null,"Going Pro",1,"Becoming a Pro Baseball Player","eBook","978-1-4824-2056-2",2015,"January 2015",null,null,"Author","Andrew Pina",5.8,0.5,40,null,"Q",null,"Grade 3 - 4","Grade 3 - 6","Baseball players can make their careers look effortless. They lob balls into the stands and sprint around the bases easily. But behind these actions are years and years of practice honing the skills that got them into the major leagues. This high-interest volume is an insider's guide of the path to the big leagues, from Little League to the MLB. Easy-to-follow drills and essential pro tips will interest the beginner and the seasoned ball player. Photographs of famous players as well as amateurs will further interest and enlighten young athletes.","English",26.6,19.95,"796.357","32 pp.",{"$f":"Table1[[#This Row],['# Books]]*Table1[[#This Row],[QTY]]","v":0},{"$f":"Table1[[#This Row],[QTY]]*Table1[[#This Row],[S&L Price]]","v":0}]
[null,null,146,null,"Going Pro",1,"Becoming a Pro Basketball Player","eBook","978-1-4824-2060-9",2015,"January 2015",null,null,"Author","Therese M. Shea",6,0.5,40,null,"Q",null,"Grade 3 - 4","Grade 3 - 6","The odds of becoming an NBA or WNBA player are daunting, but this appealing, behind-the-scenes look at the path to pro basketball might help young athletes beat the odds. Readers will learn about the youth and development leagues that can help them hone their skills. They'll find out who to contact to get into the right college and what they can do now to prepare themselves for their future career. Stories of famous basketball players who made it big will further inspire young athletes as well as open their eyes to the realities of professional sports.","English",26.6,19.95,"796.32","96 pp.",{"$f":"Table1[[#This Row],['# Books]]*Table1[[#This Row],[QTY]]","v":0},{"$f":"Table1[[#This Row],[QTY]]*Table1[[#This Row],[S&L Price]]","v":0}]
[null,null,146,null,"Going Pro",1,"Becoming a Pro Hockey Player","Library Bound Book","978-1-4824-2067-8",2015,"January 2015","Library","8.000 X 10.00","Author","Ryan Nagelhout",5.7,0.5,40,null,"Q",null,"Grade 3 - 4","Grade 3 - 6","Many professional athletes begin their journey as children. Hockey players are no different. Wayne Gretzky learned to skate when he was 2½ years old! However, hard work and practice are what allow those with talent to make it to the next level. Readers are introduced to the common paths to becoming a pro hockey player, from youth leagues all the way to the NHL. Each chapter focuses on one step of the necessary training for pros, including full-color photographs and information about hockey superstars. Aspiring players can learn a lot about what it takes to excel on the ice!","English",26.6,19.95,"796.962","96 pp.",{"$f":"Table1[[#This Row],['# Books]]*Table1[[#This Row],[QTY]]","v":0},{"$f":"Table1[[#This Row],[QTY]]*Table1[[#This Row],[S&L Price]]","v":0}]
[null,null,147,null,"Field & Stream's Guide to the Outdoors",1,"Field & Stream's Guide to Camping","Library Bound Book","978-1-4824-2298-6",2015,"January 2015","Library","5.750 X 8.250","Edited by, Author","The Editors of Field & Stream, T. Edward Nickens",null,null,44,null,"V",null,"Grade 6 - 8","Grade 6 - 8","Camping is one activity that's much more fun when one has the right skills and know-how for the outdoors. Field & Stream's editors have collected 87 essential pieces of advice about camping that will make readers into leaders of the campground. Pitching a tent, making knots, building a fire, and cooking a delicious outdoor meal are all part of this wide-ranging guide. Visual aids and numbered directions make each skill comprehensible, while beautiful color photographs will inspire readers to pack up and head outside.","English",35.950000000000003,26.95,"796.54","96 pp.",{"$f":"Table1[[#This Row],['# Books]]*Table1[[#This Row],[QTY]]","v":0},{"$f":"Table1[[#This Row],[QTY]]*Table1[[#This Row],[S&L Price]]","v":0}]
[null,null,147,null,"Field & Stream's Guide to the Outdoors",1,"Field & Stream's Guide to Fishing","eBook","978-1-4824-2301-3",2015,"January 2015",null,null,"Edited by, Author","The Editors of Field & Stream, T. Edward Nickens",null,null,44,null,"V",null,"Grade 6 - 8","Grade 6 - 8","Whether readers are proficient fishermen or just like to spend time at the end of a dock with a rod, they'll learn something on every page of this user-friendly handbook. Not only will they find out how to \"stick a fish with a fly\" in a stream, they'll also learn some boating skills that will ensure success in deeper waters. Each section is broken down into easy-to-follow segments, steps, or labeled illustrations. No tackle box is complete without the 106 essential fishing skills featured in this beneficial book.","English",35.950000000000003,26.95,"799.1","96 pp.",{"$f":"Table1[[#This Row],['# Books]]*Table1[[#This Row],[QTY]]","v":0},{"$f":"Table1[[#This Row],[QTY]]*Table1[[#This Row],[S&L Price]]","v":0}]
[null,null,147,null,"Field & Stream's Guide to the Outdoors",1,"Field & Stream's Guide to Hunting","Library Bound Book","978-1-4824-2302-0",2015,"January 2015","Library","5.750 X 8.250","Edited by, Author","The Editors of Field & Stream, T. Edward Nickens",null,null,44,null,"V",null,"Grade 6 - 8","Grade 6 - 8","Many hunters acquire the skills they need through years of accompanying more knowledgeable hunters into the outdoors. Now, seasoned hunters have compiled their best advice in this valuable handbook. Whether the interest is in hunting deer, pheasant, pig, duck, or turkey, there's advice in this indispensable guide. Young hunters and those just curious about hunting will learn how to plan for a hunt and hone their skills to ensure success. Carefully chosen illustrations, diagrams, and photographs demonstrate and depict need-to-know information that will make all the difference on the hunt.","English",35.950000000000003,26.95,"799.2","32 pp.",{"$f":"Table1[[#This Row],['# Books]]*Table1[[#This Row],[QTY]]","v":0},{"$f":"Table1[[#This Row],[QTY]]*Table1[[#This Row],[S&L Price]]","v":0}]
[null,null,147,null,"Field & Stream's Guide to the Outdoors",1,"Field & Stream's Guide to Outdoor Survival","Library Bound Book","978-1-4824-2304-4",2015,"January 2015","Library","5.750 X 8.250","Edited by, Author","The Editors of Field & Stream, T. Edward Nickens",null,null,44,null,"V",null,"Grade 6 - 8","Grade 6 - 8","Inspired by TV shows and movies, many people wonder how long they could survive in the wild. If they have this entertaining and practical guide with them, they'll be ready to tackle many kinds of challenges. These 95 survival skills will not only get the reader out of trouble, but also teach them to avoid dangerous situations in the wilderness. Map-reading skills, animal attacks, leech removal, and lightning strikes are just some of the varied topics expertly explained in the text and depicted in the illustrations and photographs. High-interest content will attract all levels of readers and outdoors enthusiasts.","English",35.950000000000003,26.95,"796.5","32 pp.",{"$f":"Table1[[#This Row],['# Books]]*Table1[[#This Row],[QTY]]","v":0},{"$f":"Table1[[#This Row],[QTY]]*Table1[[#This Row],[S&L Price]]","v":0}]
[null,null,147,null,"Wacky World of Sports",1,"Wacky and Dangerous","Library Bound Book","978-1-4824-1495-0",2015,"August 2014","Library","8.000 X 10.00","Author","Alix Wood",null,null,34,null,"O",null,"Grade 3 - 4","Grade 3 - 6","What could be more fun than jumping off a high platform attached to only a vine? The inspiration for bungee jumping, this strange and dangerous pastime comes from Vanuatu in the South Pacific. Some people get a rush from risking their lives in sport—and readers will, too, just learning about them! Full-color photographs of risky hobbies, rituals, and competitions from around the world augment the real stories about them included in the main content, fact boxes, and sidebars. From extreme caving to walking on hot coals, these wacky sports are sure to fascinate readers, fearless or not.","English",26.6,19.95,"796.04","32 pp.",{"$f":"Table1[[#This Row],['# Books]]*Table1[[#This Row],[QTY]]","v":0},{"$f":"Table1[[#This Row],[QTY]]*Table1[[#This Row],[S&L Price]]","v":0}]
[null,null,147,null,"Wacky World of Sports",1,"Wacky Moments in Sports","eBook","978-1-4824-1386-1",2015,"August 2014",null,null,"Author","Alix Wood",null,null,34,null,"O",null,"Grade 3 - 4","Grade 3 - 6","In the heat of the moment, anything can happen in sports. A British heavyweight boxer once punched himself during a match. Fans throw balls, toys, and even octopuses on the field or ice. Stories of weird sports moments engage readers with lots of detail—especially because they’re true! Colorful photographs enhance the wild moments, genuine gaffs, and a super-long soccer match that went on for 3 hours and 38 minutes with no winner. Fact boxes and sidebars add even more funny stories for readers to enjoy.","English",26.6,19.95,"796","24 pp.",{"$f":"Table1[[#This Row],['# Books]]*Table1[[#This Row],[QTY]]","v":0},{"$f":"Table1[[#This Row],[QTY]]*Table1[[#This Row],[S&L Price]]","v":0}]
[null,null,147,null,"Wacky World of Sports",1,"Wacky Races","eBook","978-1-4824-1385-4",2015,"August 2014",null,null,"Author","Alix Wood",null,null,34,null,"O",null,"Grade 3 - 4","Grade 3 - 6","Riding a horse bareback has been done throughout history. But what about buffalo riding? In Thailand, racers hop on the bare back of buffalo and try to circle a racetrack! Readers can see photographs of this strange race and many more, while learning about competitions held all over the world. Some, such as soapbox derbies, may sound familiar, while others, such as outhouse racing, are truly wacky! A colorful layout and fact boxes with additional details keep readers’ attention as they race around the world on the back of a camel, through mud pits, and even dressed as Santa!","English",26.6,19.95,"796.7","24 pp.",{"$f":"Table1[[#This Row],['# Books]]*Table1[[#This Row],[QTY]]","v":0},{"$f":"Table1[[#This Row],[QTY]]*Table1[[#This Row],[S&L Price]]","v":0}]
[null,null,147,null,"Wacky World of Sports",1,"Wacky Throwing Sports","Library Bound Book","978-1-4824-1501-8",2015,"August 2014","Library","8.000 X 10.00","Author","Alix Wood",null,null,34,null,"O",null,"Grade 3 - 4","Grade 3 - 6","If strength is measured by how much an athlete can lift, than those who compete in caber tossing must be off the charts! The Scottish sport is a big part of the Highland Games, a celebration of the Scottish heritage. Not only do athletes have to lift a caber that weighs about 175 pounds (79 kg), they have to run and throw it! Readers learn about this and other throwing sports, such as cell phone and orange throwing. The sports may seem strange, but the full-color photographs and detailed descriptions of each prove that they draw people from around the world!","English",26.6,19.95,"796","24 pp.",{"$f":"Table1[[#This Row],['# Books]]*Table1[[#This Row],[QTY]]","v":0},{"$f":"Table1[[#This Row],[QTY]]*Table1[[#This Row],[S&L Price]]","v":0}]
[null,null,148,null,"¿Dónde está…? Mapas del mundo (Where on Earth? Mapping Parts of the World)",1,"Continentes de la Tierra (Earth’s Continents)","Library Bound Book","978-1-5382-0509-9",2018,"August 2017","Library","7.000 X 7.000","Author","Todd Bluthenthal",null,null,null,null,null,null,"Grade 1 - 2","Grade 1 - 3","Why do continents matter? From economics to weather science—and everything in between—knowing the characteristics of the continents expands readers’ perspectives in every school subject. This fundamental information is a building block of many future lessons and an essential part of elementary education. This book presents a focused, clear, age-appropriate look at Earth’s continents that young readers are sure to find both informative and interesting. This volume is also packed with colorful maps that are labeled and explained to foster young readers’ comprehension of this important topic.","Spanish",22.6,16.95,"551.41--dc23","24 pp.",{"$f":"Table1[[#This Row],['# Books]]*Table1[[#This Row],[QTY]]","v":0},{"$f":"Table1[[#This Row],[QTY]]*Table1[[#This Row],[S&L Price]]","v":0}]
[null,null,148,null,"¿Dónde está…? Mapas del mundo (Where on Earth? Mapping Parts of the World)",1,"El polo norte (The North Pole)","eBook","978-1-5382-0501-3",2018,"August 2017",null,null,"Author","Todd Bluthenthal",null,null,null,null,null,null,"Grade 1 - 2","Grade 1 - 3","Many young readers think of the North Pole as the place where Santa Claus lives with his wife, reindeer, and elves. The North Pole presents the geography and science of this polar region to young readers in an age-appropriate way. The clear language and easy-to-read, colorful maps and photographs of the North Pole will engage and expand any young reader’s grasp on the concepts of continents, climate, Earth’s rotation, and more! The fascinating history of the remarkable explorers of this frigid landscape is also included in the main text, introducing a part of history that’s sure to inspire!","Spanish",22.6,16.95,"971.9--dc23","24 pp.",{"$f":"Table1[[#This Row],['# Books]]*Table1[[#This Row],[QTY]]","v":0},{"$f":"Table1[[#This Row],[QTY]]*Table1[[#This Row],[S&L Price]]","v":0}]
[null,null,148,null,"¿Dónde está…? Mapas del mundo (Where on Earth? Mapping Parts of the World)",1,"El polo sur (The South Pole)","Library Bound Book","978-1-5382-0508-2",2018,"August 2017","Library","7.000 X 7.000","Author","Todd Bluthenthal",null,null,null,null,null,null,"Grade 1 - 2","Grade 1 - 3","The South Pole is cold, but there’s more to it than that! This book presents the cartography and earth science of this polar region to young readers in an engaging yet informative way. Several spreads are dedicated to the fascinating history of the brave explorers of this icy landscape, a part of history that is sure to impress all elementary readers! The colorful, easily understood maps and vivid photographs of the South Pole will expand reader’s grasp on the concepts of poles, continents, climate, Earth’s rotation, and so much more!","Spanish",22.6,16.95,"919.89--dc23","24 pp.",{"$f":"Table1[[#This Row],['# Books]]*Table1[[#This Row],[QTY]]","v":0},{"$f":"Table1[[#This Row],[QTY]]*Table1[[#This Row],[S&L Price]]","v":0}]
[null,null,149,null,"Superherramientas científicas (Super Science Tools)",6,"Superherramientas científicas (Super Science Tools)","Library Set","978-1-5382-0477-1",2018,"August 2017","Library","7.000 X 7.000",null,"",null,null,null,null,null,null,"Grade 1 - 2","Grade 1 - 3","Instilling a passion for science and curiosity for technology lays a solid foundation for future STEM education. This important and accessible series introduces some of the basic tools of science and how scientists—professional and amateur—use them every day. After learning about these key instruments, including scales, thermometers, and measuring cups, readers will want to explore them in their own experiments, encouraging fun hands-on learning experiences.","Spanish",135.6,101.7,null,"24 pp.",{"$f":"Table1[[#This Row],['# Books]]*Table1[[#This Row],[QTY]]","v":0},{"$f":"Table1[[#This Row],[QTY]]*Table1[[#This Row],[S&L Price]]","v":0}]
[null,null,149,null,"Superherramientas científicas (Super Science Tools)",1,"Cómo utilizar un termómetro (Using a Thermometer)","Library Bound Book","978-1-5382-0594-5",2018,"August 2017","Library","7.000 X 7.000","Author","Abigail B. Roberts",null,null,null,null,null,null,"Grade 1 - 2","Grade 1 - 3","Thermometers are so important in our daily lives. We consult them to know how to dress before going outside. We check our temperature when we think we're sick. We even use thermometers when weﾒre cooking and baking in the kitchen. Thermometers are everywhere, but they're also important tools of science. In this engaging volume, with the aid of appealing photographs and an instructive activity, readers will learn how scientists of all ages use thermometers and how they can, too.","Spanish",22.6,16.95,"536’.50287--dc23","24 pp.",{"$f":"Table1[[#This Row],['# Books]]*Table1[[#This Row],[QTY]]","v":0},{"$f":"Table1[[#This Row],[QTY]]*Table1[[#This Row],[S&L Price]]","v":0}]
[null,null,149,null,"Superherramientas científicas (Super Science Tools)",1,"Cómo utilizar una jarra medidora (Using Measuring Cups)","eBook","978-1-5382-0599-0",2018,"August 2017",null,null,"Author","Abigail B. Roberts",null,null,null,null,null,null,"Grade 1 - 2","Grade 1 - 3","Measuring cups are essential in the kitchen, but they’re also crucial in the science lab. Scientists need to be precise in their experiments to test their hypotheses, and science tools such as cylinders for measuring volume aid them in their important research. This appealing book shows that young scientists, too, can use measuring containers for their own science experiments. Important STEM concepts such as volume and units of measurement are explained in a comprehensible manner.","Spanish",22.6,16.95,"681’.2--dc23","24 pp.",{"$f":"Table1[[#This Row],['# Books]]*Table1[[#This Row],[QTY]]","v":0},{"$f":"Table1[[#This Row],[QTY]]*Table1[[#This Row],[S&L Price]]","v":0}]
[null,null,149,null,"Superherramientas científicas (Super Science Tools)",1,"Cómo utilizar una regla (Using a Ruler)","Library Bound Book","978-1-5382-0586-0",2018,"August 2017","Library","7.000 X 7.000","Author","Nora Roman",null,null,null,null,null,null,"Grade 1 - 2","Grade 1 - 3","Rulers seem like such simple tools, but their importance can’t be overstated. Without rulers—and the knowledge of how to use them—so many inventions, buildings, and other man-made achievements would just fall apart. In this volume, readers will review the basics of rulers and observe them being used by young student-scientists as well as by professionals in the working world. They’ll even test out their own ruler skills as they find out that rulers rule the world of science!","Spanish",22.6,16.95,"530.8--dc23","24 pp.",{"$f":"Table1[[#This Row],['# Books]]*Table1[[#This Row],[QTY]]","v":0},{"$f":"Table1[[#This Row],[QTY]]*Table1[[#This Row],[S&L Price]]","v":0}]
[null,null,150,null,"Biomas donde yo vivo (Backyard Biomes)",1,"Vivo cerca de un desierto (There's a Desert in My Backyard!)","eBook","978-1-4824-6132-9",2017,"January 2017",null,null,"Author, Translated by","Walter LaPlante, Alberto Jiménez",null,null,null,null,null,null,"Grade 1 - 2","Grade 1 - 3","Deserts are the driest places on Earth, but they’re full of life! Cacti, kangaroo rats, shrubs, foxes, and more have found ways to adapt to the extreme temperatures and dry conditions of deserts around the world. Readers learn about many of these adaptations as well as the major features of the desert biome. Simple maps highlight some of the biggest deserts, helping readers learn map skills. Full-color photographs reinforce accessible information about the desert ecosystem, including a concluding message of conservation.","Spanish",22.6,16.95,"577.54--dc23","24 pp.",{"$f":"Table1[[#This Row],['# Books]]*Table1[[#This Row],[QTY]]","v":0},{"$f":"Table1[[#This Row],[QTY]]*Table1[[#This Row],[S&L Price]]","v":0}]
[null,null,150,null,"Biomas donde yo vivo (Backyard Biomes)",1,"Vivo cerca de un océano (There's an Ocean in My Backyard!)\t","Library Bound Book","978-1-4824-6217-3",2017,"January 2017","Library","7.000 X 7.000","Author, Translated by","Seth Lynch, Alberto Jiménez",4.8,0.5,null,null,null,null,"Grade 1 - 2","Grade 1 - 3","The ocean covers about 70 percent of Earth. That makes it the planet’s largest biome! With millions of species of plants and animals living in it, this biome needs special care as climate change affects Earth. Readers learn about the five named oceans and where they are on a simple map. Important concepts from the science curriculum are introduced in age-appropriate language, including food webs, animal adaptations, and conservation. Full-color photographs of ocean life further emphasize the diversity and interconnectedness of the ocean biome.","Spanish",22.6,16.95,"577.7’22--dc23","32 pp.",{"$f":"Table1[[#This Row],['# Books]]*Table1[[#This Row],[QTY]]","v":0},{"$f":"Table1[[#This Row],[QTY]]*Table1[[#This Row],[S&L Price]]","v":0}]
[null,null,150,null,"Biomas donde yo vivo (Backyard Biomes)",1,"Vivo cerca de una pradera (There's a Grassland in My Backyard!)","eBook","978-1-4824-6131-2",2017,"January 2017",null,null,"Author, Translated by","Walter LaPlante, Alberto Jiménez",null,null,null,null,null,null,"Grade 1 - 2","Grade 1 - 3","In North America, grasslands are called the “prairie.” In South America, they’re called the “pampas.” Whatever they’re called, grasslands are a vibrant biome! Readers are introduced to grasslands through their unique features, climate, and the plants and animals that live there. With information on both tropical and temperate grasslands, the main content includes themes of conservation and ecosystem balance. Full-color photographs supplement the science content with examples of grasslands from around the world. Accessible language makes this book a perfect supplement to classroom learning about biomes.","Spanish",22.6,16.95,"578.75/54--dc23","32 pp.",{"$f":"Table1[[#This Row],['# Books]]*Table1[[#This Row],[QTY]]","v":0},{"$f":"Table1[[#This Row],[QTY]]*Table1[[#This Row],[S&L Price]]","v":0}]
[null,null,151,null,"Conoce tu gobierno (A Look at Your Government)",6,"Conoce tu gobierno (A Look at Your Government)","Library Set","978-1-4824-6290-6",2018,"August 2017","Library","6.500 X 9.125",null,"",null,null,null,null,null,null,"Grade 2","Grade 3 - 6","There’s a lot readers need to know about how the US government works. From the division of power between three branches to the Electoral College, it can seem complicated and overwhelming. This series breaks down how the government is run to the most important points covered in the social studies curriculum. Written in accessible language for readers of all abilities, an overview of the job of the House of Representatives, Senate, Supreme Court, and president can help clarify the system for readers or simply aid in test preparation.","Spanish",159.6,119.7,null,"32 pp.",{"$f":"Table1[[#This Row],['# Books]]*Table1[[#This Row],[QTY]]","v":0},{"$f":"Table1[[#This Row],[QTY]]*Table1[[#This Row],[S&L Price]]","v":0}]
[null,null,151,null,"Conoce tu gobierno (A Look at Your Government)",1,"¿Por qué votamos? (Why Do We Vote?)","eBook","978-1-4824-6273-9",2018,"August 2017",null,null,"Author, Translated by","Santana Hunt, Esther Sarfatti",null,null,null,null,null,null,"Grade 2","Grade 3 - 6","Many Americans believe it is their civic duty to vote. However, in most elections, less than half of eligible voters show up at the polls. Readers are introduced to the many reasons why voting is an important, including how voting allows the voice of the people to be heard. The main content tackles a complex idea of citizenship with accessible language and age-appropriate subject matter. Briefly covering social studies curriculum topics such as the Electoral College, disenfranchisement, and the Voting Rights Act of 1965, this book serves as an excellent companion to classroom learning.","Spanish",26.6,19.95,"324.60973--dc23","32 pp.",{"$f":"Table1[[#This Row],['# Books]]*Table1[[#This Row],[QTY]]","v":0},{"$f":"Table1[[#This Row],[QTY]]*Table1[[#This Row],[S&L Price]]","v":0}]
[null,null,151,null,"Conoce tu gobierno (A Look at Your Government)",1,"¿Qué hace el presidente? (What Does the President Do?)","Library Bound Book","978-1-4824-6259-3",2018,"August 2017","Library","6.500 X 9.125","Author, Translated by","Kathleen Connors, Esther Sarfatti",null,null,null,null,null,null,"Grade 2","Grade 3 - 6","The US president is the face of the United States to the rest of the world. However, he or she doesn’t have unlimited power within the country. The president has certain powers given by the Constitution, including the ability to make treaties, appoint some important government officials, and veto laws. Readers learn the many duties of the president in simple, clear language appropriate for both younger readers and older readers looking for a succinct review of the topic. Fact boxes supplement the main content with important details about checks and balances, amendments, and more that affect the presidency today.","Spanish",26.6,19.95,null,"32 pp.",{"$f":"Table1[[#This Row],['# Books]]*Table1[[#This Row],[QTY]]","v":0},{"$f":"Table1[[#This Row],[QTY]]*Table1[[#This Row],[S&L Price]]","v":0}]
[null,null,152,null,"La historia oculta (Hidden History)",1,"El Cementerio Africano (The African Burial Ground)","Library Bound Book","978-1-4824-6219-7",2017,"January 2017","Library","6.500 X 9.125","Author, Translated by","Therese M. Shea, Ana Maria Garcia",7.4,1,null,null,null,null,"Grade 4 - 5","Grade 4 - 6","In 1991, preparation for the construction of a new federal office building led to a startling discovery: a skeleton. Further excavation exposed the bones of 420 men, women, and children. This area of New York had been a burial ground set aside for both free and enslaved Africans during the 1600s and 1700s. It’s thought to be one of the most important archaeological discoveries of the 20th century. This noteworthy book—which includes sidebars, fact boxes, a timeline, and maps—fills in the gaps of history books, exposing much about what life was like in colonial New York for Africans.","Spanish",26.6,19.95,"974.7/01--dc23","32 pp.",{"$f":"Table1[[#This Row],['# Books]]*Table1[[#This Row],[QTY]]","v":0},{"$f":"Table1[[#This Row],[QTY]]*Table1[[#This Row],[S&L Price]]","v":0}]
[null,null,152,null,"La historia oculta (Hidden History)",1,"El Cementerio Africano (The African Burial Ground)","eBook","978-1-4824-6220-3",2017,"January 2017",null,null,"Author, Translated by","Therese M. Shea, Ana Maria Garcia",null,null,null,null,null,null,"Grade 4 - 5","Grade 4 - 6","In 1991, preparation for the construction of a new federal office building led to a startling discovery: a skeleton. Further excavation exposed the bones of 420 men, women, and children. This area of New York had been a burial ground set aside for both free and enslaved Africans during the 1600s and 1700s. It’s thought to be one of the most important archaeological discoveries of the 20th century. This noteworthy book—which includes sidebars, fact boxes, a timeline, and maps—fills in the gaps of history books, exposing much about what life was like in colonial New York for Africans.","Spanish",26.6,19.95,"974.7/01--dc23","32 pp.",{"$f":"Table1[[#This Row],['# Books]]*Table1[[#This Row],[QTY]]","v":0},{"$f":"Table1[[#This Row],[QTY]]*Table1[[#This Row],[S&L Price]]","v":0}]
[null,null,152,null,"La historia oculta (Hidden History)",1,"Las estaciones del ferrocarril subterráneo (Depots of the Underground Railroad)","eBook","978-1-4824-6225-8",2017,"January 2017",null,null,"Author, Translated by","Caroline Kennon, Ana Maria Garcia",null,null,null,null,null,null,"Grade 4 - 5","Grade 4 - 6","The Underground Railroad was the massive effort by slaves and free people to secretly bring thousands of blacks to freedom in the North during the 19th century. This thought-provoking book will capture readers’ imaginations and fill them with awe for the brave “conductors” and “passengers” on the Railroad. They’ll learn about the many safe havens, called “depots,” that housed fugitives and the secret passages within them that hid slaves from their pursuers. Information about the American Civil War and the Fugitive Slave Act, biographies of figures vital to the Underground Railroad, and stunning photographs and artwork are included in this important work about a terrible time in American history.","Spanish",26.6,19.95,"973.7/115--dc23","24 pp.",{"$f":"Table1[[#This Row],['# Books]]*Table1[[#This Row],[QTY]]","v":0},{"$f":"Table1[[#This Row],[QTY]]*Table1[[#This Row],[S&L Price]]","v":0}]
[null,null,152,null,"La historia oculta (Hidden History)",1,"Los primeros habitantes de Norteamérica (North America's First People)","Library Bound Book","978-1-4824-6222-7",2017,"January 2017","Library","6.500 X 9.125","Author, Translated by","Janey Levy, Ana Maria Garcia",7,1,null,null,null,null,"Grade 4 - 5","Grade 4 - 6","Who were the earliest Americans? When, how, and from where did they enter and spread across the continent? And what is their relationship to modern Native Americans? Anthropologists develop theories to answer these questions based on the evidence they discover. Their theories—and the discoveries that prove and disprove them—are highlighted in this fascinating volume, full of awe-inspiring facts and incredible breakthroughs. Readers will feel like anthropologists and archaeologists themselves as they read about bones and artifacts, and what they reveal about the ancient cultures that roamed North America, some more than 13,000 years ago!","Spanish",26.6,19.95,"970.01--dc23","24 pp.",{"$f":"Table1[[#This Row],['# Books]]*Table1[[#This Row],[QTY]]","v":0},{"$f":"Table1[[#This Row],[QTY]]*Table1[[#This Row],[S&L Price]]","v":0}]
[null,null,153,null,"¡A medir! (Measure It!)",1,"Medir el volumen (Measuring Volume)","Library Bound Book","978-1-4824-4366-0",2016,"January 2016","Library","7.000 X 7.000","Translated by, Author","Esther Sarfatti, T. H. Baer",2.9,0.5,null,null,null,null,"Grade 1 - 2","Grade 1 - 3","Volume is the amount of space a liquid takes up in a container. This engaging book takes a look at how to measure volume and why it’s useful. Whether using the displacement method or simple containers marked with measurements, there are many different ways to measure liquids. Readers will learn to measure volume in both U.S. and International measurements to further their learning and ensure they can measure volume no matter what kind of container they use.","Spanish",22.6,16.95,"516.1—dc23","24 pp.",{"$f":"Table1[[#This Row],['# Books]]*Table1[[#This Row],[QTY]]","v":0},{"$f":"Table1[[#This Row],[QTY]]*Table1[[#This Row],[S&L Price]]","v":0}]
[null,null,153,null,"¡A medir! (Measure It!)",1,"Medir el volumen (Measuring Volume)","eBook","978-1-4824-4338-7",2016,"January 2016",null,null,"Translated by, Author","Esther Sarfatti, T. H. Baer",2.9,0.5,null,null,null,null,"Grade 1 - 2","Grade 1 - 3","Volume is the amount of space a liquid takes up in a container. This engaging book takes a look at how to measure volume and why it’s useful. Whether using the displacement method or simple containers marked with measurements, there are many different ways to measure liquids. Readers will learn to measure volume in both U.S. and International measurements to further their learning and ensure they can measure volume no matter what kind of container they use.","Spanish",22.6,16.95,"516.1—dc23","24 pp.",{"$f":"Table1[[#This Row],['# Books]]*Table1[[#This Row],[QTY]]","v":0},{"$f":"Table1[[#This Row],[QTY]]*Table1[[#This Row],[S&L Price]]","v":0}]
[null,null,153,null,"¡A medir! (Measure It!)",1,"Medir la distancia (Measuring Distance)","eBook","978-1-4824-4334-9",2016,"January 2016",null,null,"Author, Translated by","T. H. Baer, Esther Sarfatti",2.6,0.5,null,null,null,null,"Grade 1 - 2","Grade 1 - 3","Math is much more than measuring the sides of a triangle. This exciting book makes readers grab their rulers and maybe even their tape measures to explore the concept of distance in exciting and unpredictable ways. Readers learn through simple text the concept of distance, what increments to use when measuring it, and why knowing the distance between two points is an important concept for any student.","Spanish",22.6,16.95,"530.8—dc23","24 pp.",{"$f":"Table1[[#This Row],['# Books]]*Table1[[#This Row],[QTY]]","v":0},{"$f":"Table1[[#This Row],[QTY]]*Table1[[#This Row],[S&L Price]]","v":0}]
[null,null,153,null,"Similares pero no iguales (Animal Look-Alikes)",6,"Similares pero no iguales (Animal Look-Alikes)","Library Set","978-1-4824-2974-9",2016,"August 2015","Library","7.000 X 7.000",null,"",null,null,null,null,null,null,"Grade 1 - 2","Grade 1 - 3","Lots of animals are easy to spot, but sometimes it can get a bit tricky. Readers will take a close look at similar-looking creatures and learn what makes each unique. Readers will dive into the sea and explore the differences between dolphins and porpoises as well as seals and sea lions. They’ll also explore the depths of the jungle and learn how to tell a jaguar and leopard apart with the help of vibrant photographs that show every detail of these amazing animals.\n\n\n\n•\tAccessible graphics and charts show differences between animals\n\n•\tHigh-interest subjects address topics of the elementary life science curriculum\n\n• \tComprehension of science texts is a benchmark of the Common Core Standards\n\n","Spanish",135.6,101.7,null,"24 pp.",{"$f":"Table1[[#This Row],['# Books]]*Table1[[#This Row],[QTY]]","v":0},{"$f":"Table1[[#This Row],[QTY]]*Table1[[#This Row],[S&L Price]]","v":0}]
[null,null,153,null,"Similares pero no iguales (Animal Look-Alikes)",1,"¿Foca o león marino? (Seal or Sea Lion?)","Library Bound Book","978-1-4824-3272-5",2016,"August 2015","Library","7.000 X 7.000","Author","Rob Ryndak",null,null,null,null,null,null,"Grade 1 - 2","Grade 1 - 3","What’s the difference between a seal and a sea lion? These “second cousins” of the sea look similar, but there are many ways to tell these creatures apart. From ear shape to the noises they make to communicate, seals and sea lions are amazing creatures with both shared features and many truly unique attributes. They both share an ocean habitat, but when readers take a closer look, it’s easy to discover how they each fight off predators, mate, and raise their young in different ways. Captivating full-color photographs help to bring these marvelous mammals to vivid life.","Spanish",22.6,16.95,"599.79—dc23","24 pp.",{"$f":"Table1[[#This Row],['# Books]]*Table1[[#This Row],[QTY]]","v":0},{"$f":"Table1[[#This Row],[QTY]]*Table1[[#This Row],[S&L Price]]","v":0}]
[null,null,153,null,"Similares pero no iguales (Animal Look-Alikes)",1,"¿Foca o león marino? (Seal or Sea Lion?)","eBook","978-1-4824-3417-0",2016,"August 2015",null,null,"Author","Rob Ryndak",null,null,null,null,null,null,"Grade 1 - 2","Grade 1 - 3","What’s the difference between a seal and a sea lion? These “second cousins” of the sea look similar, but there are many ways to tell these creatures apart. From ear shape to the noises they make to communicate, seals and sea lions are amazing creatures with both shared features and many truly unique attributes. They both share an ocean habitat, but when readers take a closer look, it’s easy to discover how they each fight off predators, mate, and raise their young in different ways. Captivating full-color photographs help to bring these marvelous mammals to vivid life.","Spanish",22.6,16.95,"599.79—dc23","24 pp.",{"$f":"Table1[[#This Row],['# Books]]*Table1[[#This Row],[QTY]]","v":0},{"$f":"Table1[[#This Row],[QTY]]*Table1[[#This Row],[S&L Price]]","v":0}]
[null,null,153,null,"Similares pero no iguales (Animal Look-Alikes)",1,"¿Tortuga o galápago? (Turtle or Tortoise?)","eBook","978-1-4824-3421-7",2016,"August 2015",null,null,"Author","Rob Ryndak",null,null,null,null,null,null,"Grade 1 - 2","Grade 1 - 3","Both turtles and tortoises have shells and move pretty slowly. So what makes them different? And where to terrapins fit in? There’s much more going on with these amazing creatures than just carapaces and plastrons. From their family ties and foot size to their habitats, these animals look, live, and even eat differently. Some of these awesome animals can live for centuries! Readers will discover which of these reptiles can survive hundreds of years longer than humans, along with a host of other fun facts. Vivid photographs of turtles and tortoises in their natural habitat add further fascination for readers ready to tackle the differences between these two reptiles.","Spanish",22.6,16.95,"597.92—dc23","24 pp.",{"$f":"Table1[[#This Row],['# Books]]*Table1[[#This Row],[QTY]]","v":0},{"$f":"Table1[[#This Row],[QTY]]*Table1[[#This Row],[S&L Price]]","v":0}]
[null,null,154,null,"¡Resuelve! Matemáticas en el espacio (Solve It! Math in Space)",1,"Matemáticas en el cinturón de asteroides (Math in the Asteroid Belt)","eBook","978-1-4824-5223-5",2017,"August 2016",null,null,"Author, Translated by","Mark J. Harasymiw, Alberto Jiménez",5.2,0.5,null,null,null,null,"Grade 2 - 3","Grade 2 - 5","The asteroid belt between Mars and Jupiter is an intriguing area of our solar system. Scientists have counted over 670,000 known asteroids there, but there could be millions more not yet found. Readers will discover much more about the asteroid belt in this highinterest book, which blends science and math. They'll read about several topics, such as space missions to the asteroid belt and the difference between an asteroid and a planet, and solve associated math problems-just like actual space scientists do!","Spanish",22.6,16.95,"523.44--dc23","24 pp.",{"$f":"Table1[[#This Row],['# Books]]*Table1[[#This Row],[QTY]]","v":0},{"$f":"Table1[[#This Row],[QTY]]*Table1[[#This Row],[S&L Price]]","v":0}]
[null,null,154,null,"¡Resuelve! Matemáticas en el espacio (Solve It! Math in Space)",1,"Matemáticas en la Luna (Math on the Moon)","Library Bound Book","978-1-4824-5236-5",2017,"August 2016","Library","8.500 X 8.500","Author, Translated by","Mark J. Harasymiw, Alberto Jiménez",4.8,0.5,null,null,null,null,"Grade 2 - 3","Grade 2 - 5","The moon is the only celestial body that humans have set foot on. Some of the knowledge we have of the moon involves numbers, including measurements such as diameter and area. Science and math are complementary foci in this engaging volume, full of beautiful photographs, interesting information, and corresponding math problems. Readers will enjoy feeling like astrophysicists as they complete the lunar math missions in this unique volume.","Spanish",22.6,16.95,"523.3--dc23","24 pp.",{"$f":"Table1[[#This Row],['# Books]]*Table1[[#This Row],[QTY]]","v":0},{"$f":"Table1[[#This Row],[QTY]]*Table1[[#This Row],[S&L Price]]","v":0}]
[null,null,154,null,"¡Resuelve! Matemáticas en el espacio (Solve It! Math in Space)",1,"Matemáticas en la Luna (Math on the Moon)","eBook","978-1-4824-5237-2",2017,"August 2016",null,null,"Author, Translated by","Mark J. Harasymiw, Alberto Jiménez",4.8,0.5,null,null,null,null,"Grade 2 - 3","Grade 2 - 5","The moon is the only celestial body that humans have set foot on. Some of the knowledge we have of the moon involves numbers, including measurements such as diameter and area. Science and math are complementary foci in this engaging volume, full of beautiful photographs, interesting information, and corresponding math problems. Readers will enjoy feeling like astrophysicists as they complete the lunar math missions in this unique volume.","Spanish",22.6,16.95,"523.3--dc23","24 pp.",{"$f":"Table1[[#This Row],['# Books]]*Table1[[#This Row],[QTY]]","v":0},{"$f":"Table1[[#This Row],[QTY]]*Table1[[#This Row],[S&L Price]]","v":0}]
[null,null,154,null,"¡Resuelve! Matemáticas en el espacio (Solve It! Math in Space)",1,"Matemáticas en Saturno (Math on Saturn)","eBook","978-1-4824-5245-7",2017,"August 2016",null,null,"Author, Translated by","Mark J. Harasymiw, Alberto Jiménez",4.5,0.5,null,null,null,null,"Grade 2 - 3","Grade 2 - 5","The planet Saturn, with its magnificent rings, is one of the most jawdropping sights in our solar system. The striking photographs in this attractive volume invite readers to dive into the essential facts and science vocabulary in the text. They'll also be invited to solve math problems involving Saturn in which they'll learn more data such as about Saturn's 29 1/2 year trip around the sun. Saturn's rings, moons, and atmosphere are some of the topics that future astronomers will be introduced to in this valuable volume about the sixth planet from the sun.\n\n","Spanish",22.6,16.95,"523.46--dc23","24 pp.",{"$f":"Table1[[#This Row],['# Books]]*Table1[[#This Row],[QTY]]","v":0},{"$f":"Table1[[#This Row],[QTY]]*Table1[[#This Row],[S&L Price]]","v":0}]
[null,null,154,null,"El mundo y la ingeniería (Engineering our World)",1,"Cómo se construye un avión (How a Plane Is Made)","eBook","978-1-4824-4340-0",2016,"January 2016",null,null,"Author","Amy Hayes",5,0.5,null,null,null,null,"Grade 2 - 3","Grade 2 - 5","From the largest cargo planes and passenger jets to the smallest of single-engine crafts, airplanes are modern marvels. But just how do people build planes and what keeps them safe in the air? This exciting book takes readers inside the hangars where bolts and metal are turned into winged creations ready to take people all around the world. Amazing photographs show the aircraft construction process step-by-step, while engaging text gives a strong technical explanation of the science at work during every flight in this innovative STEM book.","Spanish",22.6,16.95,"629.134—d23","24 pp.",{"$f":"Table1[[#This Row],['# Books]]*Table1[[#This Row],[QTY]]","v":0},{"$f":"Table1[[#This Row],[QTY]]*Table1[[#This Row],[S&L Price]]","v":0}]
[null,null,154,null,"El mundo y la ingeniería (Engineering our World)",1,"Cómo se construye un rascacielos (How a Skyscraper Is Built)","Library Bound Book","978-1-4824-4345-5",2016,"January 2016","Library","8.500 X 8.500","Author","Therese M. Shea",6.2,0.5,null,null,null,null,"Grade 2 - 3","Grade 2 - 5","The towering buildings that fill our cities definitely weren’t built in a day. Skyscrapers are huge construction projects full of complicated steps. From drilling anchor holes and erecting steel beams to laying acres and acres of concrete, it takes lots of people and lots of smarts to build a vertical city. Readers will love putting on their hard hats and seeing the construction for themselves through vivid photographs and diagrams of a building on its way from its beginning on an empty lot to a monster skyscraper touching the skies.","Spanish",22.6,16.95,"720.483—dc23","24 pp.",{"$f":"Table1[[#This Row],['# Books]]*Table1[[#This Row],[QTY]]","v":0},{"$f":"Table1[[#This Row],[QTY]]*Table1[[#This Row],[S&L Price]]","v":0}]
[null,null,154,null,"El mundo y la ingeniería (Engineering our World)",1,"Cómo se construye un rascacielos (How a Skyscraper Is Built)","eBook","978-1-4824-4344-8",2016,"January 2016",null,null,"Author","Therese M. Shea",6.2,0.5,null,null,null,null,"Grade 2 - 3","Grade 2 - 5","The towering buildings that fill our cities definitely weren’t built in a day. Skyscrapers are huge construction projects full of complicated steps. From drilling anchor holes and erecting steel beams to laying acres and acres of concrete, it takes lots of people and lots of smarts to build a vertical city. Readers will love putting on their hard hats and seeing the construction for themselves through vivid photographs and diagrams of a building on its way from its beginning on an empty lot to a monster skyscraper touching the skies.","Spanish",22.6,16.95,"720.483—dc23","24 pp.",{"$f":"Table1[[#This Row],['# Books]]*Table1[[#This Row],[QTY]]","v":0},{"$f":"Table1[[#This Row],[QTY]]*Table1[[#This Row],[S&L Price]]","v":0}]
[null,null,155,null,"Lugares extremos de la Tierra (Earth's Most Extreme Places)",1,"Los lugares más altos de la Tierra (Earth’s Highest Places)","eBook","978-1-4824-1918-4",2015,"January 2015",null,null,"Author","Mary Griffin",null,null,null,null,null,null,"Grade 2 - 3","Grade 2 - 5","For those who have ever wondered what it's like to stand on top of Mount Everest, this attention-grabbing book is the closest way to visit the world's highest places without getting vertigo. But readers will be surprised to learn that the label \"highest place on Earth\" is a controversial one. They'll find out about the contenders for the prize, including Mount Everest, Hawaii's Mauna Kea, and Ecuador's Mount Chimborazo. They'll also travel to some jaw-dropping tall buildings around the world. Beautiful, vivid photographs give readers a true sense of what it would be like to visit these unique sites.","Spanish",22.6,16.95,"910","24 pp.",{"$f":"Table1[[#This Row],['# Books]]*Table1[[#This Row],[QTY]]","v":0},{"$f":"Table1[[#This Row],[QTY]]*Table1[[#This Row],[S&L Price]]","v":0}]
[null,null,155,null,"Lugares extremos de la Tierra (Earth's Most Extreme Places)",1,"Los lugares más fríos de la Tierra (Earth’s Coldest Places)","Library Bound Book","978-1-4824-1913-9",2015,"January 2015","Library","8.500 X 8.500","Author","Mary Griffin",null,null,null,null,null,null,"Grade 2 - 3","Grade 2 - 5","Many people know that Antarctica is the coldest place on Earth, but they might not know why. Readers of this globetrotting volume will learn how the sun's rays affect our planet's surface. They'll also discover other bitter cold places around the globe and how people manage to live there. In one town in Russia, people leave their glasses at home so they don't freeze to their face! Science and social studies topics combine to present some truly absorbing and chilling peeks at some of the world's most fascinating and frigid places.","Spanish",22.6,16.95,"551.6","32 pp.",{"$f":"Table1[[#This Row],['# Books]]*Table1[[#This Row],[QTY]]","v":0},{"$f":"Table1[[#This Row],[QTY]]*Table1[[#This Row],[S&L Price]]","v":0}]
[null,null,155,null,"Lugares extremos de la Tierra (Earth's Most Extreme Places)",1,"Los lugares más secos de la Tierra (Earth’s Driest Places)","Library Bound Book","978-1-4824-1915-3",2015,"January 2015","Library","8.500 X 8.500","Author","Mary Griffin",null,null,null,null,null,null,"Grade 2 - 3","Grade 2 - 5","Few people enjoy a rainy day, but many places around the globe are in great need of rain. Readers will learn why rain and other forms of precipitation are so important to people, plants, and animals. They'll visit the driest places on Earth, including the Atacama Desert, Antarctica's Dry Valleys, and Death Valley. Maps and photographs of these remarkable sites and others aid in geography skills, while topics such as irrigation, water conservation, and even mummification will further interest and inform readers.","Spanish",22.6,16.95,"551.41","32 pp.",{"$f":"Table1[[#This Row],['# Books]]*Table1[[#This Row],[QTY]]","v":0},{"$f":"Table1[[#This Row],[QTY]]*Table1[[#This Row],[S&L Price]]","v":0}]
[null,null,155,null,"Lugares extremos de la Tierra (Earth's Most Extreme Places)",1,"Los lugares más secos de la Tierra (Earth’s Driest Places)","eBook","978-1-4824-1916-0",2015,"January 2015",null,null,"Author","Mary Griffin",null,null,null,null,null,null,"Grade 2 - 3","Grade 2 - 5","Few people enjoy a rainy day, but many places around the globe are in great need of rain. Readers will learn why rain and other forms of precipitation are so important to people, plants, and animals. They'll visit the driest places on Earth, including the Atacama Desert, Antarctica's Dry Valleys, and Death Valley. Maps and photographs of these remarkable sites and others aid in geography skills, while topics such as irrigation, water conservation, and even mummification will further interest and inform readers.","Spanish",22.6,16.95,"551.41","32 pp.",{"$f":"Table1[[#This Row],['# Books]]*Table1[[#This Row],[QTY]]","v":0},{"$f":"Table1[[#This Row],[QTY]]*Table1[[#This Row],[S&L Price]]","v":0}]
[null,null,155,null,"Pueblos indígenas de Norteamérica (Native Peoples of North America)",1,"Pueblos indígenas de la costa Noroeste (Native Peoples of the Northwest Coast)","eBook","978-1-4824-5253-2",2017,"August 2016",null,null,"Author, Translated by","Janey Levy, Esther Sarfatti",null,null,null,null,null,null,"Grade 2 - 3","Grade 2 - 5","The native peoples of the northwest coast are often known by the totem poles they create. Made from cedar trees, totem poles were painted bright colors and featured both animal and human forms. Why these amazing pieces of art are created is just one of the interesting details readers will learn about the many native peoples who lived in modern-day Alaska, Oregon, Washington, northern California, and British Columbia. The main content features many social studies curriculum topics, including customs, clothing, and spirituality of native peoples. Full-color photographs and historical images enhance each chapter as specific native groups are highlighted throughout the book.","Spanish",25.25,18.95,"978.004/97--dc23","32 pp.",{"$f":"Table1[[#This Row],['# Books]]*Table1[[#This Row],[QTY]]","v":0},{"$f":"Table1[[#This Row],[QTY]]*Table1[[#This Row],[S&L Price]]","v":0}]
[null,null,155,null,"Pueblos indígenas de Norteamérica (Native Peoples of North America)",1,"Pueblos indígenas del Ártico (Native Peoples of the Arctic)","eBook","978-1-4824-5261-7",2017,"August 2016",null,null,"Author, Translated by","Lynda Arnéz, Esther Sarfatti",null,null,null,null,null,null,"Grade 2 - 3","Grade 2 - 5","In the Arctic, survival is paramount. Yet, for thousands of years, people have made their home in present-day Canada and Alaska among the snow and ice. They value sharing and working together to make the coldest, toughest times of the year bearable. Through migration, hunting, and fishing, the peoples of the North American Arctic have made the best of their environment. Readers discover how and why people settled so far north as well as how they lived. Historical images and photographs showcase the tools, homes, and clothing of the Arctic peoples, while fact boxes offer more insight into their culture.","Spanish",25.25,18.95,"970.004/9712--dc23","32 pp.",{"$f":"Table1[[#This Row],['# Books]]*Table1[[#This Row],[QTY]]","v":0},{"$f":"Table1[[#This Row],[QTY]]*Table1[[#This Row],[S&L Price]]","v":0}]
[null,null,155,null,"Pueblos indígenas de Norteamérica (Native Peoples of North America)",1,"Pueblos indígenas del Sureste (Native Peoples of the Southeast)","Library Bound Book","978-1-4824-5268-6",2017,"August 2016","Library","8.500 X 8.500","Author, Translated by","Amy Hayes, Esther Sarfatti",null,null,null,null,null,null,"Grade 2 - 3","Grade 2 - 5","The American Southeast stretches from the Atlantic Ocean to the Gulf of Mexico, including the states of Georgia, Florida, Louisiana, and Alabama as well as parts of Virginia and Maryland. But before that region was divided into states, native groups lived there. From how they found food to what their spiritual beliefs were, the book’s main content presents the traditional lifestyles of the Seminole, Choctaw, and Creek peoples, and the other groups that lived in the southeast. Readers learn even more from fun fact boxes and the historical images and full-color photographs that show what native peoples’ lives were like, both before and after European colonization.","Spanish",25.25,18.95,"975.004/97--dc23","32 pp.",{"$f":"Table1[[#This Row],['# Books]]*Table1[[#This Row],[QTY]]","v":0},{"$f":"Table1[[#This Row],[QTY]]*Table1[[#This Row],[S&L Price]]","v":0}]
[null,null,155,null,"Pueblos indígenas de Norteamérica (Native Peoples of North America)",1,"Pueblos indígenas del Sureste (Native Peoples of the Southeast)","eBook","978-1-4824-5269-3",2017,"August 2016",null,null,"Author, Translated by","Amy Hayes, Esther Sarfatti",null,null,null,null,null,null,"Grade 2 - 3","Grade 2 - 5","The American Southeast stretches from the Atlantic Ocean to the Gulf of Mexico, including the states of Georgia, Florida, Louisiana, and Alabama as well as parts of Virginia and Maryland. But before that region was divided into states, native groups lived there. From how they found food to what their spiritual beliefs were, the book’s main content presents the traditional lifestyles of the Seminole, Choctaw, and Creek peoples, and the other groups that lived in the southeast. Readers learn even more from fun fact boxes and the historical images and full-color photographs that show what native peoples’ lives were like, both before and after European colonization.","Spanish",25.25,18.95,"975.004/97--dc23","32 pp.",{"$f":"Table1[[#This Row],['# Books]]*Table1[[#This Row],[QTY]]","v":0},{"$f":"Table1[[#This Row],[QTY]]*Table1[[#This Row],[S&L Price]]","v":0}]
[null,null,156,null,"Desastres",1,"El desastre del Hindenburg (The Hindenburg Disaster)","eBook","978-1-4824-3255-8",2016,"August 2015",null,null,"Author, Translated by","Ryan Nagelhout, Esther Sarfatti",null,null,40,null,null,null,"Grade 4 - 5","Grade 4 - 6","The Hindenburg, the largest airship ever built and the pride of Nazi Germany, burst into flames over Lakehurst, New Jersey, in 1937. It swiftly fell from the sky and was incinerated. This incident is remembered as the most infamous airship accident, killing 36 people and sinking the dirigible transportation industry. Fascinated readers will explore why and how this giant hydrogen-filled ship was made and the reasons it may have been doomed to fail. They'll also learn conspiracy theories and surprising facts about the circumstances of the terrible disaster. Authentic photographs and thoughtful sidebars add to the historical content. \n\t\n","Spanish",26.6,19.95,"363.12","32 pp.",{"$f":"Table1[[#This Row],['# Books]]*Table1[[#This Row],[QTY]]","v":0},{"$f":"Table1[[#This Row],[QTY]]*Table1[[#This Row],[S&L Price]]","v":0}]
[null,null,156,null,"Desastres",1,"La ciudad de Pompeya (The City of Pompeii)","Library Bound Book","978-1-4824-3423-1",2016,"August 2015","Library","6.500 X 9.125","Author, Translated by","Janey Levy, Esther Sarfatti",null,null,44,null,null,null,"Grade 4 - 5","Grade 4 - 6","In AD 79, the residents of the booming Roman city of Pompeii were shocked when a nearby mountain exploded, releasing superhot ash, rock, and gas on the surrounding areas. What happens next is the extraordinary account of a volcano in action. Though the people who didn't flee Pompeii were doomed, the volcano preserved their remains, allowing us to better understand a fascinating time in the Roman Empire. Astonishing photographs of Pompeii, primary source records of the occurrence, and riveting text are just some highlights of this high-interest volume.","Spanish",26.6,19.95,"937","32 pp.",{"$f":"Table1[[#This Row],['# Books]]*Table1[[#This Row],[QTY]]","v":0},{"$f":"Table1[[#This Row],[QTY]]*Table1[[#This Row],[S&L Price]]","v":0}]
[null,null,156,null,"Desastres",1,"Plaga: La Peste Negra (Plague: The Black Death)","Library Bound Book","978-1-4824-3248-0",2016,"August 2015","Library","6.500 X 9.125","Author, Translated by","Janey Levy, Esther Sarfatti",null,null,44,null,null,null,"Grade 4 - 5","Grade 4 - 6","The plague, aptly known as the Black Death, swept through Europe in the 1300s, killing more than 20 million people. Not only deadly but incredibly painful, the disease was characterized by black boils all over the body that oozed blood and pus. While providing more details about the plague, this book, an asset to any social studies collection, also addresses where the lethal outbreak originated and whether it could return. Aided by striking illustrations, sidebars, and fact boxes, readers will discover the conditions in the Middle Ages that made it possible for such an appalling disease to spread so easily.","Spanish",26.6,19.95,"614.5'732094—dc23","32 pp.",{"$f":"Table1[[#This Row],['# Books]]*Table1[[#This Row],[QTY]]","v":0},{"$f":"Table1[[#This Row],[QTY]]*Table1[[#This Row],[S&L Price]]","v":0}]
[null,null,156,null,"Desastres",1,"Plaga: La Peste Negra (Plague: The Black Death)","eBook","978-1-4824-3722-5",2016,"August 2015",null,null,"Author, Translated by","Janey Levy, Esther Sarfatti",null,null,44,null,null,null,"Grade 4 - 5","Grade 4 - 6","The plague, aptly known as the Black Death, swept through Europe in the 1300s, killing more than 20 million people. Not only deadly but incredibly painful, the disease was characterized by black boils all over the body that oozed blood and pus. While providing more details about the plague, this book, an asset to any social studies collection, also addresses where the lethal outbreak originated and whether it could return. Aided by striking illustrations, sidebars, and fact boxes, readers will discover the conditions in the Middle Ages that made it possible for such an appalling disease to spread so easily.","Spanish",26.6,19.95,"614.5'732094—dc23","32 pp.",{"$f":"Table1[[#This Row],['# Books]]*Table1[[#This Row],[QTY]]","v":0},{"$f":"Table1[[#This Row],[QTY]]*Table1[[#This Row],[S&L Price]]","v":0}]
[null,null,156,null,"Maravillosos viajes a través de la ciencia (Fantastic Science Journeys)",1,"Viaje al centro de la Tierra (A Trip to the Center of the Earth)","eBook","978-1-4824-2026-5",2015,"January 2015",null,null,"Author","Janey Levy",null,null,null,null,null,null,"Grade 2 - 3","Grade 2 - 5","If we could take a trip to the center of the Earth, what would we find? In this amazing book readers can do just that with the help of a special ship that can handle the extreme heat and pressure deep beneath Earth’s crust. Digging through a few miles of the crust is just the start of the nearly 4,000-mile journey to Earth’s core. Readers might be surprised to find that not all of the trip is through solid rock, as the intense heat does strange and amazing things to the material that makes up our planet!","Spanish",25.25,18.95,"551.1","32 pp.",{"$f":"Table1[[#This Row],['# Books]]*Table1[[#This Row],[QTY]]","v":0},{"$f":"Table1[[#This Row],[QTY]]*Table1[[#This Row],[S&L Price]]","v":0}]
[null,null,156,null,"Maravillosos viajes a través de la ciencia (Fantastic Science Journeys)",1,"Viaje dentro de un arrecife de coral (A Trip Through a Coral Reef)","eBook","978-1-4824-2020-3",2015,"January 2015",null,null,"Author","Heather Moore Niver",null,null,null,null,null,null,"Grade 2 - 3","Grade 2 - 5","Amazing ecosystems are often hidden just below the ocean’s surface. A coral reef is teeming with life, and readers will explore that life with the help of a special ship that takes them up close to the fish, coral, and other creatures that call a coral reef home. From the formation of the reefs themselves to the bacteria and plants that help keep the reef healthy, readers will learn everything there is to know about the amazing and colorful creatures that make up one of the world’s most diverse ecosystems.","Spanish",25.25,18.95,"578.77","24 pp.",{"$f":"Table1[[#This Row],['# Books]]*Table1[[#This Row],[QTY]]","v":0},{"$f":"Table1[[#This Row],[QTY]]*Table1[[#This Row],[S&L Price]]","v":0}]
[null,null,157,null,"Lo que conozco / What I Know (Set of 12 Titles)",12,"Lo que conozco / What I Know (Set of 12 Titles)","Library Set","978-1-5382-0236-4",2018,"August 2017","Library","7.000 X 7.000",null,"",null,null,null,null,null,null,"Grade K","Grade Pre-K - 1","Young learners love telling others “what I know,” and this delightful collection will encourage them to toot their own horns even more! While instilling a love of books, each cheerful volume provides a supportive experience in learning important foundational concepts at an achievable reading level. Colors, numbers, opposites, and vehicles are some of the essential themes represented by vibrant, fun photographs throughout each series.","Bilingual",271.2,203.4,null,"24 pp.",{"$f":"Table1[[#This Row],['# Books]]*Table1[[#This Row],[QTY]]","v":0},{"$f":"Table1[[#This Row],[QTY]]*Table1[[#This Row],[S&L Price]]","v":0}]
[null,null,157,null,"Lo que conozco / What I Know (NEW Set of 6 Titles)",6,"Lo que conozco / What I Know (NEW Set of 6 Titles)","Library Set","978-1-5382-0235-7",2018,"August 2017","Library","7.000 X 7.000",null,"",null,null,null,null,null,null,"Grade K","Grade Pre-K - 1","Young readers are eager to both practice their language skills and expand their knowledge. They’ll be especially enthusiastic to get their hands on the bright pages of these books, written with beginning readers in mind. This continuation of our appealing early-learning series covers important topics in elementary education such as community helpers, opposites, and even fruits and vegetables! Each volume features achievable text supported by beautiful photographs as well as a concluding question to encourage readers to thoughtfully consider what they’ve learned.","Bilingual",135.6,101.7,null,"24 pp.",{"$f":"Table1[[#This Row],['# Books]]*Table1[[#This Row],[QTY]]","v":0},{"$f":"Table1[[#This Row],[QTY]]*Table1[[#This Row],[S&L Price]]","v":0}]
[null,null,157,null,"Lo que conozco / What I Know",1,"Conozco la gente donde vivo / I Know People Around Town","Library Bound Book","978-1-5382-0560-0",2018,"August 2017","Library","7.000 X 7.000","Author","Colin Matthews",null,null,null,null,"B",null,"Grade K","Grade Pre-K - 1","Young people are always interested in those in the community who make it run—especially uniformed heroes such as firefighters and police officers. This fun volume walks readers around town introducing them to community workers, including the mail carrier, dentist, and librarian. Carefully chosen photographs correlate with the achievable vocabulary and illustrate characteristics of each job.","Bilingual",22.6,16.95,"331.7--dc23","24 pp.",{"$f":"Table1[[#This Row],['# Books]]*Table1[[#This Row],[QTY]]","v":0},{"$f":"Table1[[#This Row],[QTY]]*Table1[[#This Row],[S&L Price]]","v":0}]
[null,null,157,null,"Lo que conozco / What I Know",1,"Conozco las formas / I Know Shapes","eBook","978-1-4824-6206-7",2017,"January 2017",null,null,"Author, Translated by","Jon Welzen, Fatima Rateb",null,null,null,null,"B",null,"Grade K","Grade Pre-K - 1","Discovering the obvious and hidden shapes in the world around us is a great way to strengthen geometric concepts. This motivating volume points out shapes in common and interesting objects. Readers will be inspired by accessible text and colorful photographs to apply their understanding of shapes’ attributes to their own surroundings, reinforcing fundamental mathematic ideas.","Bilingual",22.6,16.95,"516’.15--dc23","24 pp.",{"$f":"Table1[[#This Row],['# Books]]*Table1[[#This Row],[QTY]]","v":0},{"$f":"Table1[[#This Row],[QTY]]*Table1[[#This Row],[S&L Price]]","v":0}]
[null,null,157,null,"Lo que conozco / What I Know",1,"Conozco las partes del cuerpo / I Know Body Parts","eBook","978-1-4824-6202-9",2017,"January 2017",null,null,"Author, Translated by","Mary Rose Osburn, Fatima Rateb",null,null,null,null,"B",null,"Grade K","Grade Pre-K - 1","Knowing body parts and accompanying vocabulary are essential topics in both health and science elementary curricula. In this helpful volume, close text and image correlation make fundamental concepts comprehensible. Readers will recognize the body parts in each colorful photograph and associate them with their own. Finally, they’ll consider how they use their many body parts in their daily lives.","Bilingual",22.6,16.95,"612--dc23","24 pp.",{"$f":"Table1[[#This Row],['# Books]]*Table1[[#This Row],[QTY]]","v":0},{"$f":"Table1[[#This Row],[QTY]]*Table1[[#This Row],[S&L Price]]","v":0}]
[null,null,157,null,"Lo que conozco / What I Know",1,"Conozco los colores / I Know Colors","Library Bound Book","978-1-4824-6197-8",2017,"January 2017","Library","7.000 X 7.000","Author, Translated by","Mary Rose Osburn, Fatima Rateb",null,null,null,null,"B",null,"Grade K","Grade Pre-K - 1","It’s a vibrant world! The pleasing pages of this bright book invite beginning readers to recognize the colors of the rainbow in familiar and fun objects, such as foods, toys, and animals. Achievable content and a final question about the reader’s favorite color make this a valuable tool for both teaching and reinforcing color concepts.","Bilingual",22.6,16.95,"535.6--dc23","24 pp.",{"$f":"Table1[[#This Row],['# Books]]*Table1[[#This Row],[QTY]]","v":0},{"$f":"Table1[[#This Row],[QTY]]*Table1[[#This Row],[S&L Price]]","v":0}]
[null,null,157,null,"Lo que conozco / What I Know",1,"Conozco los lugares donde vivo / I Know Places Around Town","eBook","978-1-5382-0563-1",2018,"August 2017",null,null,"Author","Trisha James",null,null,null,null,"B",null,"Grade K","Grade Pre-K - 1","Everyone has their favorite places around the community, whether it's the library or the ice cream shop. In this attractive book, readers visit the important—and fun!—places found in many towns and cities, including the police station and the playground. Vocabulary is reinforced as readers consider what these places look like where they live and which they’d like to visit. Understanding community resources and workers are key parts of early elementary curricula.","Bilingual",22.6,16.95,"307.76--dc23","24 pp.",{"$f":"Table1[[#This Row],['# Books]]*Table1[[#This Row],[QTY]]","v":0},{"$f":"Table1[[#This Row],[QTY]]*Table1[[#This Row],[S&L Price]]","v":0}]
[null,null,157,null,"Lo que conozco / What I Know",1,"Conozco los opuestos / I Know Opposites","eBook","978-1-5382-0559-4",2018,"August 2017",null,null,"Author","Colin Matthews",null,null,null,null,"B",null,"Grade K","Grade Pre-K - 1","The concept of opposites is a crucial one at the early elementary level. Learning opposites opens up a reader’s vocabulary and ability to communicate. This colorful volume is a helpful aid for teaching and reviewing opposites, displaying opposite pairs visually next to the accompanying accessible text. Readers are encouraged to identify opposites in their own world, reinforcing these essential ideas in their daily lives.","Bilingual",22.6,16.95,"428.1--dc23","24 pp.",{"$f":"Table1[[#This Row],['# Books]]*Table1[[#This Row],[QTY]]","v":0},{"$f":"Table1[[#This Row],[QTY]]*Table1[[#This Row],[S&L Price]]","v":0}]
[null,null,158,null,"¡A jugar! / Ways to Play",1,"¡A hacer deportes! / We Play Sports!","eBook","978-1-5382-0575-4",2018,"August 2017",null,null,"Author","Leonard Atlantic",null,null,null,null,"C",null,"Grade K","Grade Pre-K - 2","With the help of just a few friends, beginning readers can play some of the most fun games there are—sports! Kids of all ages only need a ball and a handful of fellow sports enthusiasts to unlock a world of fun. Whether it’s baseball or basketball, everyone has a favorite sport. From kicking around a soccer ball to playing catch with friends, this book shows the many ways young readers can play through colorful photographs and age-appropriate text. Even reluctant athletes will learn that getting outside and playing is as easy as it is fun!","Bilingual",22.6,16.95,"796--dc23","24 pp.",{"$f":"Table1[[#This Row],['# Books]]*Table1[[#This Row],[QTY]]","v":0},{"$f":"Table1[[#This Row],[QTY]]*Table1[[#This Row],[S&L Price]]","v":0}]
[null,null,158,null,"¡A jugar! / Ways to Play",1,"¡A hacer manualidades! / We Do Crafts!","Library Bound Book","978-1-5382-0568-6",2018,"August 2017","Library","7.625 X 7.125","Author","Leonard Atlantic",null,null,null,null,"C",null,"Grade K","Grade Pre-K - 2","No matter what the weather's like outside, crafts are an easy and fun way to spend an afternoon. Whether painting with friends or making flowers out of paper, crafts can turn the day into an awesome adventure. Using simple craft supplies like paper and drawing tools, even the youngest of children can find engaging ways to play. With the help of accessible text paired with colorful photographs, early readers will experience the creative world of arts and crafts.","Bilingual",22.6,16.95,"745.5--dc23","24 pp.",{"$f":"Table1[[#This Row],['# Books]]*Table1[[#This Row],[QTY]]","v":0},{"$f":"Table1[[#This Row],[QTY]]*Table1[[#This Row],[S&L Price]]","v":0}]
[null,null,158,null,"¡A jugar! / Ways to Play",1,"¡A jugar con mascotas! / We Play with Pets!","eBook","978-1-5382-0577-8",2018,"August 2017",null,null,"Author","Leonard Atlantic",null,null,null,null,"C",null,"Grade K","Grade Pre-K - 2","In this charming book, beginning readers learn there’s always something fun to do with your pets! Taking walks with the family dog or petting the family kitten are important steps in teaching caretaking and responsibility to young learners. Even feeding a pet goldfish is a great way to play with the family pet! This book, which pairs full-color photographs with accessible, age-appropriate text, shows that every interaction with a pet is a new way to help out and have fun!","Bilingual",22.6,16.95,"636--dc23","24 pp.",{"$f":"Table1[[#This Row],['# Books]]*Table1[[#This Row],[QTY]]","v":0},{"$f":"Table1[[#This Row],[QTY]]*Table1[[#This Row],[S&L Price]]","v":0}]
[null,null,159,null,"¡Matemáticas en todas partes! / Math Is Everywhere!",1,"Matemáticas con el dinero / Math with Money","eBook","978-1-4824-5210-5",2017,"August 2016",null,null,"Author, Translated by","Claire Romaine, Eida de la Vega",2.2999999999999998,0.5,null,null,"C",null,"Grade K","Grade Pre-K - 2","Money and its worth are an important part of the elementary math curriculum and a perfect way to review both numbers and addition. This accessible volume examines the value of coinsﾗas the narrator wonders if there's enough money to buy an ice cream treat! Colorful photographs illustrate the bright text, while the story succeeds in making math fun for the reader.","Bilingual",22.6,16.95,"513--dc23","24 pp.",{"$f":"Table1[[#This Row],['# Books]]*Table1[[#This Row],[QTY]]","v":0},{"$f":"Table1[[#This Row],[QTY]]*Table1[[#This Row],[S&L Price]]","v":0}]
[null,null,159,null,"¡Matemáticas en todas partes! / Math Is Everywhere!",1,"Matemáticas con el tiempo / Math with Weather","eBook","978-1-4824-5213-6",2017,"August 2016",null,null,"Author, Translated by","Rory McDonnell, Eida de la Vega",1.4,0.5,null,null,"B",null,"Grade K","Grade Pre-K - 2","In this entertaining narrative, arithmetic and weather are connected topics. The story opens as the narrator wonders how to dress for a trip to the zoo. The reader reviews weather concepts as well as addition word problems through accessible text and helpful photographs. This valuable volume is a perfect addition to any elementary science and math collection.","Bilingual",22.6,16.95,"510--dc23","24 pp.",{"$f":"Table1[[#This Row],['# Books]]*Table1[[#This Row],[QTY]]","v":0},{"$f":"Table1[[#This Row],[QTY]]*Table1[[#This Row],[S&L Price]]","v":0}]
[null,null,159,null,"¡Matemáticas en todas partes! / Math Is Everywhere!",1,"Matemáticas con mascotas / Math with Pets","Library Bound Book","978-1-4824-5216-7",2017,"August 2016","Library","7.625 X 7.125","Author, Translated by","Claire Romaine, Eida de la Vega",1.2,0.5,null,null,"C",null,"Grade K","Grade Pre-K - 2","The pet store is a perfect place to exercise math concepts! Readers will be delighted as this fun volume introduces them to parrots, kittens, puppies, and other animals while reviewing important standards of the math curriculum, such as size comparison, sorting, and numbers and counting. The highinterest topic-and the vivid accompanying photographs-is an accessible and enjoyable introduction or review of elementary math skills.\n\n","Bilingual",22.6,16.95,"510--dc23","24 pp.",{"$f":"Table1[[#This Row],['# Books]]*Table1[[#This Row],[QTY]]","v":0},{"$f":"Table1[[#This Row],[QTY]]*Table1[[#This Row],[S&L Price]]","v":0}]
[null,null,159,null,"¡Matemáticas en todas partes! / Math Is Everywhere!",1,"Matemáticas en el parque / Math at the Park","eBook","978-1-4824-5221-1",2017,"August 2016",null,null,"Author, Translated by","Claire Romaine, Eida de la Vega",1.2,0.5,null,null,"C",null,"Grade K","Grade Pre-K - 2","Every day, we're faced with mathematical situations, so much so that we don't even recognize them. This fun volume opens readers' eyes to the math in their world through a walk in the park. They'll find shapes, use numbers, compare sizes, and identify the positions of objects with help from a friendly narrator. Carefully selected photographs support the comprehensible text.","Bilingual",22.6,16.95,"510--dc23","24 pp.",{"$f":"Table1[[#This Row],['# Books]]*Table1[[#This Row],[QTY]]","v":0},{"$f":"Table1[[#This Row],[QTY]]*Table1[[#This Row],[S&L Price]]","v":0}]
[null,null,159,null,"Nuestros colores preferidos / Our Favorite Colors",1,"¡Nos encanta el anaranjado! / We Love Orange!","eBook","978-1-4824-4323-3",2016,"January 2016",null,null,"Author, Translated by","Emma O'Connell, Eida de la Vega",null,null,null,null,"C",null,"Grade K","Grade K - 1","Crunchy carrots, bouncy basketballs, and flashy fish can all be the color orange. After examining this important color concept in the pages of this accessible volume, readers’ eyes will be opened to the many hues of orange in their world—as well as other colors. They’ll also review vocabulary through the simple sentences that accompany each photograph. A final evaluation completes this bright book.","Bilingual",22.6,16.95,"535.6—dc23","24 pp.",{"$f":"Table1[[#This Row],['# Books]]*Table1[[#This Row],[QTY]]","v":0},{"$f":"Table1[[#This Row],[QTY]]*Table1[[#This Row],[S&L Price]]","v":0}]
[null,null,159,null,"Nuestros colores preferidos / Our Favorite Colors",1,"¡Nos encanta el morado! / We Love Purple!","Library Bound Book","978-1-4824-4352-3",2016,"January 2016","Library","7.000 X 7.000","Author, Translated by","Richard Little, Eida de la Vega",null,null,null,null,"B",null,"Grade K","Grade K - 1","Grapes, plums, jams . . . some tasty things are the color purple! Readers of this bright volume will discover this fun fact as well as see varying shades of color in common objects from their lives as they turn each page. Recognizable items and comprehensible text make this book a valuable tool for improving reading comprehension and reviewing color concepts.","Bilingual",22.6,16.95,"535.6—dc23","24 pp.",{"$f":"Table1[[#This Row],['# Books]]*Table1[[#This Row],[QTY]]","v":0},{"$f":"Table1[[#This Row],[QTY]]*Table1[[#This Row],[S&L Price]]","v":0}]
[null,null,159,null,"Nuestros colores preferidos / Our Favorite Colors",1,"¡Nos encanta el rojo! / We Love Red!","Library Bound Book","978-1-4824-4353-0",2016,"January 2016","Library","7.000 X 7.000","Author, Translated by","Richard Little, Eida de la Vega",null,null,null,null,"B",null,"Grade K","Grade K - 1","The eye-catching color of red tints delicious apples, shiny toy cars, juicy tomatoes, and so much more in the world around us. Readers of this cheerful volume are invited to recognize red in well-known objects in each photograph as well as to review important vocabulary words in at-level sentences. A simple activity at the end of the book allows them to self-evaluate their mastery of this color concept.","Bilingual",22.6,16.95,"535.6—dc23","24 pp.",{"$f":"Table1[[#This Row],['# Books]]*Table1[[#This Row],[QTY]]","v":0},{"$f":"Table1[[#This Row],[QTY]]*Table1[[#This Row],[S&L Price]]","v":0}]
[null,null,160,null,"¡Podemos hacerlo! / We Can Do It!",1,"¡A limpiar! / Let's Clean Up!","Library Bound Book","978-1-4824-4355-4",2016,"January 2016","Library","7.625 X 7.125","Author, Translated by","Lois Fortuna, Nathalie Beullens-Maoui",null,null,null,null,"C",null,"Grade K","Grade K - 2","Cleaning sounds like a tough and dirty job, but it can be fun! Budding readers learn how to take the tough task of cleaning up and make the most of it, helping their families and the environment along the way. Through vivid photographs paired with accessible text, readers see how a family cleans up bedrooms, the kitchen, the car, and even the front yard. This engaging book is sure to get readers on a spring cleaning kick, as they learn the value of a clean home and a job well done.","Bilingual",22.6,16.95,"648—dc23","24 pp.",{"$f":"Table1[[#This Row],['# Books]]*Table1[[#This Row],[QTY]]","v":0},{"$f":"Table1[[#This Row],[QTY]]*Table1[[#This Row],[S&L Price]]","v":0}]
[null,null,160,null,"¡Podemos hacerlo! / We Can Do It!",1,"Ayudar con la cena / Helping with Dinner","eBook","978-1-4824-4329-5",2016,"January 2016",null,null,"Author, Translated by","Lois Fortuna, Nathalie Beullens-Maoui",null,null,null,null,"C",null,"Grade K","Grade K - 2","Everyone loves a good meal, and this book puts the chef’s hat on beginning readers as they get a firsthand look at helping prepare a healthy meal. Colorful photographs paired with simple text lets readers join the fun as peers chop vegetables and prepare a salad. They also get a look at how to make pasta, using a wooden spoon to stir as it cooks. This hands-on look at putting food on the dinner table is sure to excite emerging readers—and maybe even make them hungry!","Bilingual",22.6,16.95,"641.5—dc23","24 pp.",{"$f":"Table1[[#This Row],['# Books]]*Table1[[#This Row],[QTY]]","v":0},{"$f":"Table1[[#This Row],[QTY]]*Table1[[#This Row],[S&L Price]]","v":0}]
[null,null,160,null,"¡Podemos hacerlo! / We Can Do It!",1,"Cuidar de una mascota / Caring for a Pet","eBook","978-1-4824-4330-1",2016,"January 2016",null,null,"Author, Translated by","Lois Fortuna, Nathalie Beullens-Maoui",null,null,null,null,"C",null,"Grade K","Grade K - 2","Pets are wonderful and loving members of any family, but they need special care. Through colorful photographs and accessible text, early readers learn how to care for their special animal friends. Dogs, cats, and fish are great pets for young children, and teaching them how to care for a pet lets them learn responsibility and how to complete tasks at a young age. By watching others take care of pets, readers gain knowledge they can put to good use with the pets in their own home.","Bilingual",22.6,16.95,"636.088'7—dc23","24 pp.",{"$f":"Table1[[#This Row],['# Books]]*Table1[[#This Row],[QTY]]","v":0},{"$f":"Table1[[#This Row],[QTY]]*Table1[[#This Row],[S&L Price]]","v":0}]
[null,null,160,null,"¡Podemos hacerlo! / We Can Do It!",1,"Sembrar plantas / Growing Plants","Library Bound Book","978-1-4824-4359-2",2016,"January 2016","Library","7.625 X 7.125","Author, Translated by","Lois Fortuna, Nathalie Beullens-Maoui",null,null,null,null,"C",null,"Grade K","Grade K - 2","There are lots of different kinds of plants. From the grass beneath our feet to the fruits and vegetables we eat, plant life surrounds us. This engaging book gives budding readers a guide to growing plants of their own. Whether planting a vegetable garden or planting flowers, most plants come from tiny seeds. From there, readers learn how to water these seeds and tend to what soon comes out of the ground, learning an essential life process with the help of colorful photographs paired with simple text.","Bilingual",22.6,16.95,"630—d23","24 pp.",{"$f":"Table1[[#This Row],['# Books]]*Table1[[#This Row],[QTY]]","v":0},{"$f":"Table1[[#This Row],[QTY]]*Table1[[#This Row],[S&L Price]]","v":0}]
[null,null,160,null,"Vamos a agrupar por… / Sort It Out!",1,"Formas / Sort It by Shape","Library Bound Book","978-1-4824-3217-6",2016,"August 2015","Library","7.000 X 7.000","Author, Translated by","Emmett Alexander, Eida de la Vega",null,null,4,null,"D",null,"Grade K - 1","Grade K - 2","Our world is made up of shapes. This colorful book will enable beginning readers to visualize that as they examine photographs of objects in their daily lives, such as books, clocks, and sandwiches. They'll also learn how to sort certain shapes from other shapes through clear text and supporting photographs. This valuable book is a beneficial introduction to essential concepts in the early elementary mathematics curriculum.","Bilingual",22.6,16.95,"512.2","24 pp.",{"$f":"Table1[[#This Row],['# Books]]*Table1[[#This Row],[QTY]]","v":0},{"$f":"Table1[[#This Row],[QTY]]*Table1[[#This Row],[S&L Price]]","v":0}]
[null,null,160,null,"Vamos a agrupar por… / Sort It Out!",1,"Sonidos / Sort It by Sound","eBook","978-1-4824-3222-0",2016,"August 2015",null,null,"Author, Translated by","Nicholas O'Hara, Eida de la Vega",null,null,3,null,"C",null,"Grade K - 1","Grade K - 2","People sort and classify using several kinds of categories, including sound. Readers of this accessible book will consider what's loud and what's quiet in the world around them. They'll discover some things, like music and people, can be loud or quiet. Sorting one from another is perfectly illustrated with carefully chosen photographs throughout this inviting book.","Bilingual",22.6,16.95,"534","24 pp.",{"$f":"Table1[[#This Row],['# Books]]*Table1[[#This Row],[QTY]]","v":0},{"$f":"Table1[[#This Row],[QTY]]*Table1[[#This Row],[S&L Price]]","v":0}]
[null,null,160,null,"Vamos a agrupar por… / Sort It Out!",1,"Textura / Sort It by Texture","Library Bound Book","978-1-4824-3223-7",2016,"August 2015","Library","7.000 X 7.000","Author, Translated by","Nicholas O'Hara, Eida de la Vega",null,null,4,null,"D",null,"Grade K - 1","Grade K - 2","Eww, that feels gross! Young learners love learning about texture up close. This accessible book enables readers to imagine how objects would feel that might not be available in the classroom, such as an alligator! Smooth, bumpy, dry, sticky, hard, and soft are just some of the adjectives introduced in this valuable volume. The text and photographs demonstrate objects that illustrate each adjective as well as how to sort objects of a certain texture from a mixed group.","Bilingual",22.6,16.95,"620.1","24 pp.",{"$f":"Table1[[#This Row],['# Books]]*Table1[[#This Row],[QTY]]","v":0},{"$f":"Table1[[#This Row],[QTY]]*Table1[[#This Row],[S&L Price]]","v":0}]
[null,null,161,null,"Animales del zoológico / Zoo Animals",6,"Animales del zoológico / Zoo Animals","Library Set","978-1-4824-2975-6",2016,"August 2015","Library","7.625 X 7.125",null,"",null,null,null,null,null,null,"Grade K","Grade K - 2","A trip to the zoo is an exciting experience for anyone. Beginning readers will love exploring the lives of giraffes, gorillas, ostriches, and other spectacular animals often found at zoos. Young learners will explore the lives of many different zoo creatures, taking a look inside different habitats to find out just how these animals spend their days in various zoo environments. Vibrant photos help show favorite animals living and playing in their amazing zoo homes.\n\n\n\n•           High-interest topic will appeal to even reluctant readers\n\n•           Introduction to informational-text features, such as an index and table of contents\n\n","Bilingual",135.6,101.7,null,"24 pp.",{"$f":"Table1[[#This Row],['# Books]]*Table1[[#This Row],[QTY]]","v":0},{"$f":"Table1[[#This Row],[QTY]]*Table1[[#This Row],[S&L Price]]","v":0}]
[null,null,161,null,"Animales del zoológico / Zoo Animals",1,"Gorilas / Gorillas at the Zoo","Library Bound Book","978-1-4824-3231-2",2016,"August 2015","Library","7.625 X 7.125","Author","Finn Ward",null,null,null,null,"C",null,"Grade K","Grade K - 2","A trip to the zoo isn’t complete without visiting the gorillas! These curious animals love climbing trees and playing with their babies. Through accessible text matched with vivid photographs, early readers will love learning all about what these amazing creatures eat and how they spend their days building nests to rest in each night. Gorillas never use the same nest twice, and whether they sleep on the ground or up above depends on each gorilla. Just like humans, each gorilla has its own habits and even uses tools to make the zoo feel more like home.","Bilingual",22.6,16.95,"599.884","24 pp.",{"$f":"Table1[[#This Row],['# Books]]*Table1[[#This Row],[QTY]]","v":0},{"$f":"Table1[[#This Row],[QTY]]*Table1[[#This Row],[S&L Price]]","v":0}]
[null,null,161,null,"Animales del zoológico / Zoo Animals",1,"Osos polares / Polar Bears at the Zoo","eBook","978-1-4824-3241-1",2016,"August 2015",null,null,"Author","Finn Ward",null,null,null,null,"C",null,"Grade K","Grade K - 2","Polar bears are huge, menacing mammals that hunt for food in the wild. In the zoo, though, these big, furry animals are almost cute! Beginning readers will love learning about these big bears as trainers take care of them and their adorable bear cubs. Polar bears love to spend their time in zoos munching on carrots and fish, or even playing on rocks before going for a swim. Through simple text and supporting photographs, readers discover fun facts about these impressive predators within the safe setting of a hometown zoo. Learning about these great animals is an exciting way to gain a better understanding of nature from the comfort of your hometown zoo.","Bilingual",22.6,16.95,"599.786","24 pp.",{"$f":"Table1[[#This Row],['# Books]]*Table1[[#This Row],[QTY]]","v":0},{"$f":"Table1[[#This Row],[QTY]]*Table1[[#This Row],[S&L Price]]","v":0}]
[null,null,161,null,"Animales del zoológico / Zoo Animals",1,"Pingüinos / Penguins at the Zoo","eBook","978-1-4824-3237-4",2016,"August 2015",null,null,"Author","Finn Ward",null,null,null,null,"C",null,"Grade K","Grade K - 2","Penguins are fun animals that love to swim and play. Early readers will love taking a look at penguins’ lives inside the zoo, where the fish are plentiful at mealtime and predators can’t take a bite out of them when they go for a dive. With zookeepers taking care of these amazing waterproof birds, they live long lives entertaining countless zoo patrons with their quick swimming and playful ways inside their zoo habitats. Accessible text paired with supporting photographs offer a glimpse of readers’ favorite zoo friends!","Bilingual",22.6,16.95,"598.47","24 pp.",{"$f":"Table1[[#This Row],['# Books]]*Table1[[#This Row],[QTY]]","v":0},{"$f":"Table1[[#This Row],[QTY]]*Table1[[#This Row],[S&L Price]]","v":0}]
[null,null,161,null,"Mi mundo / Inside My World",1,"¡Es mi cumpleaños! / It's My Birthday!","eBook","978-1-4824-2357-0",2015,"January 2015",null,null,"Author","Tina Benjamin",null,null,null,null,"C",null,"Grade K","Grade K - 2","For a young child, there’s nothing more exciting than a birthday party. This book takes a fun look at a child’s birthday with the help of color photographs and strong picture/text correlation. With a strong narrative set in a family environment, beginning readers will love diving into a birthday party filled with friends, family, and presents! Games and a birthday cake highlight what is always a special day for a young child.","Bilingual",22.6,16.95,"392","24 pp.",{"$f":"Table1[[#This Row],['# Books]]*Table1[[#This Row],[QTY]]","v":0},{"$f":"Table1[[#This Row],[QTY]]*Table1[[#This Row],[S&L Price]]","v":0}]
[null,null,161,null,"Mi mundo / Inside My World",1,"Mi día en la escuela / My Day at School","Library Bound Book","978-1-4824-2360-0",2015,"January 2015","Library","7.625 X 7.125","Author","Tina Benjamin",null,null,null,null,"C",null,"Grade K","Grade K - 2","There’s so much to explore at a school. From the books, backpacks, and classrooms to the friends made while in class, a trip to school is a great way for engaged readers to take a look inside a familiar world. With the help of accessible text and vibrant color photographs, readers will love taking a walk in someone else’s shoes to explore their lunchroom, gym class, and even a bus ride home!","Bilingual",22.6,16.95,"372","24 pp.",{"$f":"Table1[[#This Row],['# Books]]*Table1[[#This Row],[QTY]]","v":0},{"$f":"Table1[[#This Row],[QTY]]*Table1[[#This Row],[S&L Price]]","v":0}]
[null,null,161,null,"Mi mundo / Inside My World",1,"Te presento a mi mascota / Meet My Pet","eBook","978-1-4824-2359-4",2015,"January 2015",null,null,"Author","Tina Benjamin",null,null,null,null,"B",null,"Grade K","Grade K - 2","Having a pet is one of the biggest responsibilities a young child can have. Early readers will love learning about Lucy, the pet parrot that loves to give her owner kisses. With exciting facts about what Lucy eats and what she likes to do, readers will love learning how to take care of and love a pet of their own. They’ll also learn about Jordan’s pet dog, Lucky, with the help of color photographs and engaging, accessible text.","Bilingual",22.6,16.95,"636","24 pp.",{"$f":"Table1[[#This Row],['# Books]]*Table1[[#This Row],[QTY]]","v":0},{"$f":"Table1[[#This Row],[QTY]]*Table1[[#This Row],[S&L Price]]","v":0}]
[null,null,162,null,"Cuando sea grande / When I Grow Up",1,"Puedo ser Presidente / I Can Be the President","eBook","978-1-4824-0868-3",2015,"August 2014",null,null,"Author","Alex Appleby",null,null,3,null,"C",null,"Grade K","Grade K - 2","Being the president isn’t easy, and neither is getting elected! For young readers hoping for a future in politics, this exciting book presented in standard Latin American Spanish and English takes them on a journey all the way to the White House. Through accessible text and great full-color photographs showing life inside the White House, readers will get a great look at what the president does each day. This title published subject to a trademark license with WIGU Publishing, LLC.","Bilingual",22.6,16.95,"352.23","24 pp.",{"$f":"Table1[[#This Row],['# Books]]*Table1[[#This Row],[QTY]]","v":0},{"$f":"Table1[[#This Row],[QTY]]*Table1[[#This Row],[S&L Price]]","v":0}]
[null,null,162,null,"Cuando sea grande / When I Grow Up",1,"Puedo ser un artista / I Can Be an Artist","eBook","978-1-4824-0862-1",2015,"August 2014",null,null,"Author","Alex Appleby",null,null,3,null,"C",null,"Grade K","Grade K - 2","Lots of students doodle in the margins of their schoolwork, but the truly creative are destined for a career in the arts. In this exciting book, presented in standard Latin American Spanish and English, early readers learn how make a career out of their artistic talents. Whether they like to draw, paint, or sculpt, readers explore the various arts with the help of vivid full-color photographs. Strong picture-text correlation and accessible text shows readers how they can help make the world a beautiful place. This title published subject to a trademark license with WIGU Publishing, LLC.","Bilingual",22.6,16.95,"709","24 pp.",{"$f":"Table1[[#This Row],['# Books]]*Table1[[#This Row],[QTY]]","v":0},{"$f":"Table1[[#This Row],[QTY]]*Table1[[#This Row],[S&L Price]]","v":0}]
[null,null,162,null,"Cuando sea grande / When I Grow Up",1,"Puedo ser una bailarina / I Can Be a Ballerina","Library Bound Book","978-1-4824-0857-7",2015,"August 2014","Library","7.625 X 7.125","Author","Alex Appleby",null,null,3,null,"C",null,"Grade K","Grade K - 2","Being a ballerina requires lots of hard work and dedication, but early readers of this book, presented in standard Latin American Spanish and English, learn that you can be anything you want when you grow up. Full-color photographs of a ballerina’s graceful steps provide strong picture-text correlation, and accessible text helps readers establish early reading skills in this dynamic look at the world of ballet. This title published subject to a trademark license with WIGU Publishing, LLC.","Bilingual",22.6,16.95,"792.8","24 pp.",{"$f":"Table1[[#This Row],['# Books]]*Table1[[#This Row],[QTY]]","v":0},{"$f":"Table1[[#This Row],[QTY]]*Table1[[#This Row],[S&L Price]]","v":0}]
[null,null,162,null,"Mis cinco sentidos / My Five Senses",1,"Lo que huelo / What I Smell","Library Bound Book","978-1-4824-0872-0",2015,"August 2014","Library","7.625 X 7.125","Author","Alex Appleby",null,null,3,null,"C",null,"Grade K","Grade K - 2","How do we know when it’s time to eat? Sometimes, it’s because we smell something yummy cooking! Early readers dive nose-first into the world of the smells around them, including bad smells like a garbage dump or good smells like apple pie. Accessible language and strong picture-text correlation, presented in standard Latin American Spanish and English, introduces readers to all of the things the nose knows!","Bilingual",22.6,16.95,"612.8","24 pp.",{"$f":"Table1[[#This Row],['# Books]]*Table1[[#This Row],[QTY]]","v":0},{"$f":"Table1[[#This Row],[QTY]]*Table1[[#This Row],[S&L Price]]","v":0}]
[null,null,162,null,"Mis cinco sentidos / My Five Senses",1,"Lo que pruebo / What I Taste","eBook","978-1-4824-0874-4",2015,"August 2014",null,null,"Author","Alex Appleby",null,null,3,null,"C",null,"Grade K","Grade K - 2","Who doesn’t love to dive into a good meal? Our sense of taste is important—without it, how would we know what we like to eat? Early readers take a tour of their taste buds and explore worlds of flavor. From a fresh, sweet orange to a yummy slice of pizza, readers will learn all about this savory sense with text presented in standard Latin American Spanish and English. Strong picture-text correlation enhanced by full-color photographs helps build early reading skills in budding, hungry readers.","Bilingual",22.6,16.95,"612.8","24 pp.",{"$f":"Table1[[#This Row],['# Books]]*Table1[[#This Row],[QTY]]","v":0},{"$f":"Table1[[#This Row],[QTY]]*Table1[[#This Row],[S&L Price]]","v":0}]
[null,null,162,null,"Mis cinco sentidos / My Five Senses",1,"Lo que toco / What I Touch","Library Bound Book","978-1-4824-0877-5",2015,"August 2014","Library","7.625 X 7.125","Author","Alex Appleby",null,null,3,null,"C",null,"Grade K","Grade K - 2","Touch is one of the earliest senses we develop. It’s easy to understand: just reach out and grab it! Beginning readers are given an opportunity to explore a world of textures in this book presented in standard Latin American Spanish and English. From rough surfaces like sand to smooth cloths and silks, the contrast between sensations makes for a learning experience at every turn. Full-color photographs provide strong picture-text correlation to enhance comprehension of this basic science concept.","Bilingual",22.6,16.95,"612.8","24 pp.",{"$f":"Table1[[#This Row],['# Books]]*Table1[[#This Row],[QTY]]","v":0},{"$f":"Table1[[#This Row],[QTY]]*Table1[[#This Row],[S&L Price]]","v":0}]
[null,null,163,null,"Cuida tus modales / Minding Our Manners",6,"Cuida tus modales / Minding Our Manners","Library Set","978-1-4824-1629-9",2015,"January 2015","Library","7.000 X 7.000",null,"",null,null,null,null,null,null,"Grade Pre-K - K","Grade Pre-K - 1","Learning to play nicely with others, being respectful of those around us, and being truthful are important first concepts to understand. Sometimes the emotions surrounding social manners are difficult to deal with. Through understandable, clear language, beginning readers are introduced to jealousy, bullying, sharing, and other common social situations. Examples guide readers through the feelings they may have. They learn how to handle saying “I’m sorry” and are reminded of the importance of “please” and “thank you.” Put into practice, this series offers invaluable character-building content.    • Full-color photographs enhance clear examples of proper behavior   • Simple language and sentence structure allow beginning readers a chance to read on their own   • Titles in this series complement and reinforce each other","Bilingual",135.6,101.7,null,"24 pp.",{"$f":"Table1[[#This Row],['# Books]]*Table1[[#This Row],[QTY]]","v":0},{"$f":"Table1[[#This Row],[QTY]]*Table1[[#This Row],[S&L Price]]","v":0}]
[null,null,163,null,"Cuida tus modales / Minding Our Manners",1,"Lo siento / Saying I'm Sorry","Library Bound Book","978-1-4824-1739-5",2015,"January 2015","Library","7.000 X 7.000","Author","Kathleen Connors",null,null,2,null,"B",null,"Grade Pre-K - K","Grade Pre-K - 1","Learning remorse at wrongdoing is tough, especially for children. However, having a few little words to help show that remorse can really speed the process of making up for saying mean things, not sharing, or being rude. Readers see the many situations in which the words “I’m sorry” should be used, including scenarios they may encounter in school or at home. Understandable language helps introduce this important concept and explains how much better everyone feels when an apology is given.","Bilingual",22.6,16.95,"395","24 pp.",{"$f":"Table1[[#This Row],['# Books]]*Table1[[#This Row],[QTY]]","v":0},{"$f":"Table1[[#This Row],[QTY]]*Table1[[#This Row],[S&L Price]]","v":0}]
[null,null,163,null,"Cuida tus modales / Minding Our Manners",1,"No acoses / Don't Be a Bully","eBook","978-1-4824-1736-4",2015,"January 2015",null,null,"Author","Frances Nagle",null,null,2,null,"B",null,"Grade Pre-K - K","Grade Pre-K - 1","Bullying is a problem in every school at every age level. Learning how to stand up to a bully is tough—and so is learning not to be a bully yourself! Readers learn what a bully is and many of the common reasons bullying occurs. The main content clearly states that bullying is unacceptable, and photographs emphasize the negative emotions caused by bullying. In addition, some suggestions on dealing with bullying—as potential bully or bystander—are given to help readers if the situation arises.","Bilingual",22.6,16.95,"302.3","24 pp.",{"$f":"Table1[[#This Row],['# Books]]*Table1[[#This Row],[QTY]]","v":0},{"$f":"Table1[[#This Row],[QTY]]*Table1[[#This Row],[S&L Price]]","v":0}]
[null,null,163,null,"Mis deportes favoritos / My Favorite Sports",6,"Mis deportes favoritos / My Favorite Sports","Library Set","978-1-4824-1186-7",2015,"August 2014","Library","7.625 X 7.125",null,"",null,null,null,null,null,null,"Grade K","Grade K - 2","Beginning readers get in the game with this exhilarating series that highlights the fast-paced action and thrills of different sports. They learn how to have fun with their friends no matter what sport they pick. Whether they want to be an Olympic gymnast or a soccer star, these books are sure to engage and inspire. Readers learn how to shoot hoops, get their kicks on the soccer field, and even get their thrills on ice! Presented in both standard Latin American Spanish and English, readers will learn all their favorite sports while colorful photographs make these books a must for any collection.     • Leveled informational text supports the Common Core standards  • Introduces basic sports terminology • Picture glossary helps to develop vocabulary skills","Bilingual",135.6,101.7,null,"24 pp.",{"$f":"Table1[[#This Row],['# Books]]*Table1[[#This Row],[QTY]]","v":0},{"$f":"Table1[[#This Row],[QTY]]*Table1[[#This Row],[S&L Price]]","v":0}]
[null,null,163,null,"Mis deportes favoritos / My Favorite Sports",1,"Me encanta el baloncesto / I Love Basketball","eBook","978-1-4824-0849-2",2015,"August 2014",null,null,"Author","Ryan Nagelhout",null,null,3,null,"C",null,"Grade K","Grade K - 2","Basketball is the perfect sport for a young sports enthusiast to dive into. The fast-paced game makes for an exciting sport, and early readers will jump right in and experience a big game atmosphere in this exciting book presented in standard Latin American Spanish and English. Readers learn the basics of the game such as dribbling and shooting, readers will experience the joys of sports and establish early ideas about teamwork while establishing literacy skills that will help them develop new skills with every page!","Bilingual",22.6,16.95,"796.323","24 pp.",{"$f":"Table1[[#This Row],['# Books]]*Table1[[#This Row],[QTY]]","v":0},{"$f":"Table1[[#This Row],[QTY]]*Table1[[#This Row],[S&L Price]]","v":0}]
[null,null,163,null,"Mis deportes favoritos / My Favorite Sports",1,"Me encanta el fútbol americano / I Love Football","Library Bound Book","978-1-4824-0850-8",2015,"August 2014","Library","7.625 X 7.125","Author","Ryan Nagelhout",null,null,3,null,"C",null,"Grade K","Grade K - 2","Football is the most popular sport in America, and this first look at the sport shows why. Early readers will be taken into the huddle and into the end zone while developing basic literacy skills and a foundation for future reading success. From running to passing and big plays on defense, readers will learn the ins and outs of life on the gridiron in this book presented in standard Latin American Spanish and English.","Bilingual",22.6,16.95,"796.332","24 pp.",{"$f":"Table1[[#This Row],['# Books]]*Table1[[#This Row],[QTY]]","v":0},{"$f":"Table1[[#This Row],[QTY]]*Table1[[#This Row],[S&L Price]]","v":0}]
[null,null,163,null,"Mis deportes favoritos / My Favorite Sports",1,"Me encanta la gimnasia / I Love Gymnastics","eBook","978-1-4824-1028-0",2015,"August 2014",null,null,"Author","Ryan Nagelhout",null,null,3,null,"C",null,"Grade K","Grade K - 2","Gymnastics are a great way for kids to get active at an early age. The rolling, tumbling, and flipping in a safe environment can one day lead to big moves and exciting Olympic performances. Starting small, though, is a great way to build both reading and gymnastic skills and establish the foundation for future greatness. Early readers get an inside look at the gymnastics studio, building strength and learning new moves while also learning about mat safety. Technical terminology presented in standard Latin American Spanish and English and fun, full-color photographs provide strong picture-text correlation and help readers build a love for gymnastics with every page.","Bilingual",22.6,16.95,"796.44","24 pp.",{"$f":"Table1[[#This Row],['# Books]]*Table1[[#This Row],[QTY]]","v":0},{"$f":"Table1[[#This Row],[QTY]]*Table1[[#This Row],[S&L Price]]","v":0}]
[null,null,164,null,"Big Machines",1,"Bulldozers","Library Bound Book","978-1-4339-5550-1",2012,"August 2011","Library","7.625 X 7.125","Author","Katie Kawa",0.9,0.5,3,4,"C","130L","Grade K","Grade K - 2","A bulldozer uses its strong blade to push huge quantities of dirt, sand, and rubble. Beginning readers will discover many fascinating facts about bulldozers and the important role they play on a construction site. The book explores everything from the parts that make bulldozers work to the many jobs bulldozers can do. Bright photographs accompany accessible text to bring readers into the world of these mighty machines.","English",22.6,16.95,"629.225","24 pp.",{"$f":"Table1[[#This Row],['# Books]]*Table1[[#This Row],[QTY]]","v":0},{"$f":"Table1[[#This Row],[QTY]]*Table1[[#This Row],[S&L Price]]","v":0}]
[null,null,164,null,"Big Machines",1,"Diggers","Library Bound Book","978-1-4339-5558-7",2012,"August 2011","Library","7.625 X 7.125","Author","Katie Kawa",0.9,0.5,3,4,"C","170L","Grade K","Grade K - 2","It’s always fun to dig in the dirt, and one amazing machine takes that fun to a new level for beginning readers to discover. This book teaches readers all about diggers, how they work, and how they help make life easier for people. Facts about the parts of diggers and the jobs they do are presented through accessible text and colorful photographs, so even the youngest of readers can learn about these powerful digging machines.","English",22.6,16.95,"621.8","24 pp.",{"$f":"Table1[[#This Row],['# Books]]*Table1[[#This Row],[QTY]]","v":0},{"$f":"Table1[[#This Row],[QTY]]*Table1[[#This Row],[S&L Price]]","v":0}]
[null,null,164,null,"Big Machines",1,"Loaders","eBook","978-1-4339-5567-9",2012,"August 2011",null,null,"Author","Katie Kawa",0.9,0.5,3,4,"C","300L","Grade K","Grade K - 2","Life would be a lot harder without loaders. They move snow away so people can get around in the winter, carry materials that are used to build houses, and do many other important jobs. Accessible text presents the mechanics of loaders in a way that is clear for even beginning readers, while a variety of photographs show loaders hard at work. A picture glossary helps readers visualize and remember early vocabulary.","English",22.6,16.95,"621.8/6","24 pp.",{"$f":"Table1[[#This Row],['# Books]]*Table1[[#This Row],[QTY]]","v":0},{"$f":"Table1[[#This Row],[QTY]]*Table1[[#This Row],[S&L Price]]","v":0}]
[null,null,164,null,"Cute and Cuddly: Baby Animals",1,"Baby Seals","Library Bound Book","978-1-4339-5534-1",2012,"August 2011","Library","7.625 X 7.125","Author","Katie Kawa",0.9,0.5,3,4,"C","340L","Grade K","Grade K - 2","There are many kinds of baby seals, in a variety of different sizes and colors. Beginning readers discover that all of these different kinds of baby seals really do have a lot in common. Fun facts, written in accessible language, explain where baby seals are born, what they eat, and even how they swim. Vibrant photographs show the many types of these beautiful baby animals in their natural habitat.","English",22.6,16.95,"599.79","24 pp.",{"$f":"Table1[[#This Row],['# Books]]*Table1[[#This Row],[QTY]]","v":0},{"$f":"Table1[[#This Row],[QTY]]*Table1[[#This Row],[S&L Price]]","v":0}]
[null,null,164,null,"Cute and Cuddly: Baby Animals",1,"Ducklings","eBook","978-1-4339-5539-6",2012,"August 2011",null,null,"Author","Katie Kawa",0.9,0.5,3,4,"C","320L","Grade K","Grade K - 2","What do ducklings eat? How do they stay warm? Can people keep them as pets? The answers to these questions and many more are waiting for beginning readers in this book. Fascinating facts about how ducklings look, grow, and move are explained using accessible language. Bright photographs bring early readers face-to-face with these amazing baby animals.","English",22.6,16.95,"598.4","24 pp.",{"$f":"Table1[[#This Row],['# Books]]*Table1[[#This Row],[QTY]]","v":0},{"$f":"Table1[[#This Row],[QTY]]*Table1[[#This Row],[S&L Price]]","v":0}]
[null,null,164,null,"Cute and Cuddly: Baby Animals",1,"Fawns","eBook","978-1-4339-5543-3",2012,"August 2011",null,null,"Author","Katie Kawa",0.9,0.5,3,4,"C","280L","Grade K","Grade K - 2","Readers who remember the classic film Bambi will surely recognize these white spotted babies. This bright book boldly delves into the fun facts about fawns with easy-to-read text and adorable photographs. A picture glossary rounds out this amusing forest foray of the cute, cuddly, and completely fawn-able deer.","English",22.6,16.95,"599.65","24 pp.",{"$f":"Table1[[#This Row],['# Books]]*Table1[[#This Row],[QTY]]","v":0},{"$f":"Table1[[#This Row],[QTY]]*Table1[[#This Row],[S&L Price]]","v":0}]
[null,null,164,null,"Pet Corner",1,"Cuddly Rabbits","Library Bound Book","978-1-4339-5615-7",2012,"August 2011","Library","7.625 X 7.125","Author","Katie Kawa",0.9,0.5,3,4,"C",null,"Grade K","Grade K - 2","How do rabbits play? What kind of treats do they like? Are they really shy? Beginning readers find the answers to these questions and many more in this book! They discover fun facts about rabbits—from what they eat to where they live. Colorful photographs show many kinds of adorable rabbits in action. Accessible text allows beginning readers to discover for themselves how to take care of these hopping pets.","English",22.6,16.95,"636.932","24 pp.",{"$f":"Table1[[#This Row],['# Books]]*Table1[[#This Row],[QTY]]","v":0},{"$f":"Table1[[#This Row],[QTY]]*Table1[[#This Row],[S&L Price]]","v":0}]
[null,null,164,null,"Pet Corner",1,"Fun Frogs","eBook","978-1-4339-6286-8",2012,"January 2012",null,null,"Author","Rose Carraway",0.9,0.5,3,4,"C",null,"Grade K","Grade K - 2","A pet frog lives in a tank, eats crickets, and loves to hop. Beginning readers learn many fun facts about these amazing amphibians. They learn how to take great care of pet frogs with the help of straightforward, accessible text. Colorful photographs present a variety of pet frogs at play and at rest, including the American green tree frog and the dwarf frog. ","English",22.6,16.95,"639.3","24 pp.",{"$f":"Table1[[#This Row],['# Books]]*Table1[[#This Row],[QTY]]","v":0},{"$f":"Table1[[#This Row],[QTY]]*Table1[[#This Row],[S&L Price]]","v":0}]
[null,null,164,null,"Pet Corner",1,"Furry Hamsters","Library Bound Book","978-1-4339-5603-4",2012,"August 2011","Library","7.625 X 7.125","Author","Katie Kawa",0.9,0.5,3,4,"C","350L","Grade K","Grade K - 2","Teeny, meek-seeming hamsters can travel up to 8 miles in one night in the wild. As pets, they provide hours of amusement. They run tirelessly on wheels, snoop around and move sawdust about the cage, and plump up their chubby cheeks with food morsels. From playtime to feeding time, readers learn how to take care of these popular pets.","English",22.6,16.95,"636.935","24 pp.",{"$f":"Table1[[#This Row],['# Books]]*Table1[[#This Row],[QTY]]","v":0},{"$f":"Table1[[#This Row],[QTY]]*Table1[[#This Row],[S&L Price]]","v":0}]
[null,null,164,null,"Pet Corner",1,"Happy Hermit Crabs","Library Bound Book","978-1-4339-6293-6",2012,"January 2012","Library","7.625 X 7.125","Author","Rose Carraway",0.9,0.5,3,4,"C",null,"Grade K","Grade K - 2","Hermit crabs have 10 legs and switch shells when they get too big for their current shell. The answers to many questions about hermit crabs are found in this bilingual book. English language learners discover how to take care of these fascinating pets through accessible text presented in both English and standard Latin American Spanish. Detailed photographs are presented alongside engaging and informative text in a way that makes learning about these pets educational and entertaining.","English",22.6,16.95,"639","24 pp.",{"$f":"Table1[[#This Row],['# Books]]*Table1[[#This Row],[QTY]]","v":0},{"$f":"Table1[[#This Row],[QTY]]*Table1[[#This Row],[S&L Price]]","v":0}]
[null,null,164,null,"Pet Corner",1,"Marvelous Mice","eBook","978-1-4339-6298-1",2012,"January 2012",null,null,"Author","Rose Carraway",0.9,0.5,3,4,"C",null,"Grade K","Grade K - 2","Mice are very active pets. They love to run, chew, and play. Beginning readers learn how to take care of these cute, lively animals with the help of easy-to-follow text. Readers discover many fun facts about pet mice including the colors of their fur and the foods they like to eat. These facts are presented alongside bright photographs of a variety of mice in action.","English",22.6,16.95,"636.935","24 pp.",{"$f":"Table1[[#This Row],['# Books]]*Table1[[#This Row],[QTY]]","v":0},{"$f":"Table1[[#This Row],[QTY]]*Table1[[#This Row],[S&L Price]]","v":0}]
[null,null,164,null,"Pet Corner",1,"Terrific Turtles","Library Bound Book","978-1-4339-6309-4",2012,"January 2012","Library","7.625 X 7.125","Author","Rose Carraway",0.9,0.5,3,4,"C",null,"Grade K","Grade K - 2","Turtles are amazing animals, and they make great pets. Beginning readers discover that a turtle can live longer than most people, where turtles live, what they eat, and many more fun facts about turtles. With the help of easy-to-follow text, young readers learn the basics of caring for a pet turtle. Vibrant photographs show these exotic pets in incredible detail. ","English",22.6,16.95,"639.3","24 pp.",{"$f":"Table1[[#This Row],['# Books]]*Table1[[#This Row],[QTY]]","v":0},{"$f":"Table1[[#This Row],[QTY]]*Table1[[#This Row],[S&L Price]]","v":0}]
[null,null,164,null,"Word Play",1,"Contractions at the Zoo","eBook","978-1-4339-7186-0",2013,"August 2012",null,null,"Author","Kathleen Connors",null,null,14,12,"G",null,"Grade 1 - 2","Grade 1 - 3","Learning contractions can be fun when it happens at the zoo. Readers learn an important language arts concept in one of their favorite settings—with some of the most commonly used contractions they hear and say every day. With full-color photographs of animals to help engage readers, this book augments classroom learning with an easy-to-understand explanation of contractions.","English",22.6,16.95,"421","24 pp.",{"$f":"Table1[[#This Row],['# Books]]*Table1[[#This Row],[QTY]]","v":0},{"$f":"Table1[[#This Row],[QTY]]*Table1[[#This Row],[S&L Price]]","v":0}]
[null,null,164,null,"Word Play",1,"Homophones at Home","eBook","978-1-4339-7190-7",2013,"August 2012",null,null,"Author","Kathleen Connors",null,null,10,9,"F",null,"Grade 1 - 2","Grade 1 - 3","Readers engage with a key language arts concept in a fun and relatable way. Colorful photographs help explain homophone examples within the context of a familiar environment and support accessible content. The easy-to-follow text makes vocabulary building and spelling exciting for beginning and reluctant readers.","English",22.6,16.95,"428.1","24 pp.",{"$f":"Table1[[#This Row],['# Books]]*Table1[[#This Row],[QTY]]","v":0},{"$f":"Table1[[#This Row],[QTY]]*Table1[[#This Row],[S&L Price]]","v":0}]
[null,null,164,null,"Word Play",1,"Rhyming on the Road","Library Bound Book","978-1-4339-7199-0",2013,"August 2012","Library","7.000 X 7.000","Author","Kathleen Connors",null,null,10,9,"F",null,"Grade 1 - 2","Grade 1 - 3","Many people enjoy playing games while on a road trip. Readers can find fun ways to rhyme along their route. This book introduces readers to an important language arts concept using playful language and a familiar setting. Colorful pictures enhance easy-to-read content, including the definition of rhyme and many fun examples. Readers will be engaged and excited to use what they learn in school.","English",22.6,16.95,"808.1","32 pp.",{"$f":"Table1[[#This Row],['# Books]]*Table1[[#This Row],[QTY]]","v":0},{"$f":"Table1[[#This Row],[QTY]]*Table1[[#This Row],[S&L Price]]","v":0}]
[null,null,164,null,"Hip-Hop Headliners",1,"Ciara","eBook","978-1-4339-6601-9",2012,"January 2012",null,null,"Author","Maeve Griffin",2.5,0.5,16,16,"I",null,"Grade 1","Grade 3 - 8","Learn about Ciara’s musical journey in this book filled with vibrant photographs of one of today’s hottest stars. How did a young girl catch the eye of a major record label in the first place? Starting young as a singer-songwriter, current hip-hop princess, Ciara, was driven to succeed. Her hard work eventually led Billboard to name her Woman of the Year. Ciara continues to set goals and achieve them. ","English",25.25,18.95,"782.42164092","32 pp.",{"$f":"Table1[[#This Row],['# Books]]*Table1[[#This Row],[QTY]]","v":0},{"$f":"Table1[[#This Row],[QTY]]*Table1[[#This Row],[S&L Price]]","v":0}]
[null,null,164,null,"Hip-Hop Headliners",1,"Drake","Library Bound Book","978-1-4339-6604-0",2012,"January 2012","Library","6.500 X 9.000","Author","Robert Kennedy",2.5,0.5,16,16,"I",null,"Grade 1","Grade 3 - 8","Actor and singer Drake is a double threat, as he’s proven his talent in both arenas. In recent years, Drake has risen to the top of the charts with his smooth voice and clever lyrics. In this book filled with onstage photographs, readers will learn how a teenager became a successful TV actor and how an actor took the hip-hop world by storm. Drake—or Drizzy as he’s often called—has earned the respect of artists such as Jay-Z and Kanye West. ","English",25.25,18.95,"782.42164909","32 pp.",{"$f":"Table1[[#This Row],['# Books]]*Table1[[#This Row],[QTY]]","v":0},{"$f":"Table1[[#This Row],[QTY]]*Table1[[#This Row],[S&L Price]]","v":0}]
[null,null,164,null,"Hip-Hop Headliners",1,"Kanye West","eBook","978-1-4339-6613-2",2012,"January 2012",null,null,"Author","Ethan Grucella",2.4,0.5,16,16,"I",null,"Grade 1","Grade 3 - 8","Kanye West is controversial and undeniably talented. An unlikely hip-hop star from Chicago, he first started as a music producer in New York. Kanye has produced an extraordinary number of hit songs for other superstars of rap. His first chart-topping solo album forever changed the world of hip-hop. In this book, vibrant photographs put the spotlight on Kanye’s unique sense of style while the text focuses on the story of his rise in the music industry.","English",25.25,18.95,"782.42164909","32 pp.",{"$f":"Table1[[#This Row],['# Books]]*Table1[[#This Row],[QTY]]","v":0},{"$f":"Table1[[#This Row],[QTY]]*Table1[[#This Row],[S&L Price]]","v":0}]
[null,null,164,null,"Hip-Hop Headliners",1,"Snoop Dogg","eBook","978-1-4339-6621-7",2012,"January 2012",null,null,"Author","Kevin Pearce Shea",2.6,0.5,16,16,"I",null,"Grade 1","Grade 3 - 8","Few rappers have achieved Snoop Dogg’s level of fame. Besides his prolific rap career, Snoop has appeared in movies, TV shows, and commercials. His signature way of speaking has been mimicked for years. Guided by eye-catching photographs, readers will learn how Calvin Broadus Jr. became a hip-hop king.","English",25.25,18.95,"782.42164909","32 pp.",{"$f":"Table1[[#This Row],['# Books]]*Table1[[#This Row],[QTY]]","v":0},{"$f":"Table1[[#This Row],[QTY]]*Table1[[#This Row],[S&L Price]]","v":0}]
[null,null,164,null,"Rising Stars",1,"Darren Criss","Library Bound Book","978-1-4339-7276-8",2013,"August 2012","Library","6.500 X 9.000","Author","Avelyn Davidson",null,null,16,17,"I",null,"Grade 1","Grade 3 - 6","Readers discover the incredible story behind Darren Criss’s meteoric rise to fame with this high-interest topic. The multitalented musician and actor is most famous for his role as Blaine Anderson on the hit television show Glee, but this book reveals that there is much more to Darren Criss’s story than just his television career. Readers explore his roles on stage and screen in addition to his work as a singer and songwriter. Accessible text, bright photographs, and a detailed timeline of his life and career keep readers of all ages entertained as they learn fun facts about this up-and-coming star.","English",25.25,18.95,"792.02","32 pp.",{"$f":"Table1[[#This Row],['# Books]]*Table1[[#This Row],[QTY]]","v":0},{"$f":"Table1[[#This Row],[QTY]]*Table1[[#This Row],[S&L Price]]","v":0}]
[null,null,164,null,"Rising Stars",1,"Darren Criss","eBook","978-1-4339-7279-9",2013,"August 2012",null,null,"Author","Avelyn Davidson",null,null,16,17,"I",null,"Grade 1","Grade 3 - 6","Readers discover the incredible story behind Darren Criss’s meteoric rise to fame with this high-interest topic. The multitalented musician and actor is most famous for his role as Blaine Anderson on the hit television show Glee, but this book reveals that there is much more to Darren Criss’s story than just his television career. Readers explore his roles on stage and screen in addition to his work as a singer and songwriter. Accessible text, bright photographs, and a detailed timeline of his life and career keep readers of all ages entertained as they learn fun facts about this up-and-coming star.","English",25.25,18.95,"792.02","32 pp.",{"$f":"Table1[[#This Row],['# Books]]*Table1[[#This Row],[QTY]]","v":0},{"$f":"Table1[[#This Row],[QTY]]*Table1[[#This Row],[S&L Price]]","v":0}]
[null,null,164,null,"Rising Stars",1,"Emma Stone","eBook","978-1-4339-8976-6",2014,"August 2013",null,null,"Author","Marty Rueda",null,null,16,16,"I",null,"Grade 1","Grade 3 - 6"," Emma Stone took a big chance. She went to Hollywood at age 15 to try to break into show business. After many unsuccessful auditions, Stone finally got her big break. Since then, her rise to the top has been swift. The Amazing Spider-Man is just one of her blockbuster films. This high-interest, easy-to-follow biography will appeal to movie enthusiasts of all reading levels. Vivid photographs of Stone and her famous friends on the red carpet highlight her appealing star power. ","English",25.25,18.95,"921","32 pp.",{"$f":"Table1[[#This Row],['# Books]]*Table1[[#This Row],[QTY]]","v":0},{"$f":"Table1[[#This Row],[QTY]]*Table1[[#This Row],[S&L Price]]","v":0}]
[null,null,164,null,"Rising Stars",1,"Jennifer Lawrence","Library Bound Book","978-1-4339-8977-3",2014,"August 2013","Library","6.500 X 9.000","Author","Audrey Allen",null,null,16,16,"I",null,"Grade 1","Grade 3 - 6","Jennifer Lawrence took a chance one summer. She asked her mother to travel with her to New York City. There, Lawrence auditioned for talent agencies. Her big break came when a talent scout saw her on the street. Since that day in 2004, Lawrence's career has been on the rise. Her starring role in The Hunger Games has put her on the cover of magazines and at the top of casting agents' lists. Readers will discover more about Lawrence's varied career in this accessible text, its colorful photographs, and a biographical timeline.","English",25.25,18.95,"921","32 pp.",{"$f":"Table1[[#This Row],['# Books]]*Table1[[#This Row],[QTY]]","v":0},{"$f":"Table1[[#This Row],[QTY]]*Table1[[#This Row],[S&L Price]]","v":0}]
[null,null,164,null,"Rising Stars",1,"KeKe Palmer","eBook","978-1-4339-7286-7",2013,"August 2012",null,null,"Author","Avelyn Davidson",null,null,16,17,"I",null,"Grade 1","Grade 3 - 6","The career of KeKe Palmer is already filled with many highlights, and readers trace the path she followed as she rose to become the talented actress and musician she is today. Accessible texts allows readers to explore the life and career of this bright, young star in the worlds of film, television, and music. Fun facts about her career are presented in accessible language, and a helpful timeline summarizes important events in her life and career. Vivid photographs bring readers of all ages into her exciting world.","English",25.25,18.95,"791.4302","32 pp.",{"$f":"Table1[[#This Row],['# Books]]*Table1[[#This Row],[QTY]]","v":0},{"$f":"Table1[[#This Row],[QTY]]*Table1[[#This Row],[S&L Price]]","v":0}]
[null,null,164,null,"Rising Stars",1,"Kendall Jenner","Library Bound Book","978-1-4339-7288-1",2013,"August 2012","Library","6.500 X 9.000","Author","Avelyn Davidson",null,null,16,17,"I",null,"Grade 1","Grade 3 - 6","Kendall Jenner is much more than just the younger sibling of some of the most famous women on reality television, and readers discover why through engaging, high-interest text. They explore how her career expanded following the success of her family’s hit television show, Keeping Up with the Kardashians. The reading experience is enhanced with a helpful timeline of the most important events in her life and career. Accessible text allows readers of all ages to follow along as she pursues her dreams of becoming a model, and captivating photographs show why she is set to become one of the most beautiful new faces in the fashion world.","English",25.25,18.95,"746.9","32 pp.",{"$f":"Table1[[#This Row],['# Books]]*Table1[[#This Row],[QTY]]","v":0},{"$f":"Table1[[#This Row],[QTY]]*Table1[[#This Row],[S&L Price]]","v":0}]
[null,null,164,null,"Rising Stars",1,"Rico Rodriguez","eBook","978-1-4339-7295-9",2013,"August 2012",null,null,"Author","Avelyn Davidson",null,null,16,17,"I",null,"Grade 1","Grade 3 - 6","Readers discover fun facts about the life and career of the young star of one of television’s most popular shows, Modern Family. Rico Rodriguez found fame playing the lovable Manny Delgado, and readers explore the road he took to get the role and the promising future he has ahead of him in Hollywood. With the help of accessible text and a detailed timeline of his life and career, readers of all ages experience the career highlights of one of the most charming young actors on television. Filled with colorful photographs, readers are sure to enjoy and remain engaged throughout.","English",25.25,18.95,"791.4302","32 pp.",{"$f":"Table1[[#This Row],['# Books]]*Table1[[#This Row],[QTY]]","v":0},{"$f":"Table1[[#This Row],[QTY]]*Table1[[#This Row],[S&L Price]]","v":0}]
[null,null,165,null,"Rising Stars",1,"Selena Gomez","eBook","978-1-4339-5903-5",2012,"August 2011",null,null,"Author","Maria Nelson",2.8,0.5,16,15,"I",null,"Grade 1","Grade 3 - 6","Selena Gomez didn’t use magic powers to become a star, even though she has them on TV. Learn more about how Selena got her start in this easy-to-read, high-interest book. Enhanced by photographs of this rising star acting and singing with her band, fun facts about Selena will interest even the most reluctant readers. The book also includes a timeline highlighting Selena’s greatest accomplishments thus far.","English",25.25,18.95,"791.4302","32 pp.",{"$f":"Table1[[#This Row],['# Books]]*Table1[[#This Row],[QTY]]","v":0},{"$f":"Table1[[#This Row],[QTY]]*Table1[[#This Row],[S&L Price]]","v":0}]
[null,null,165,null,"Superstars of Wrestling",1,"Beth Phoenix","Library Bound Book","978-1-4339-8512-6",2013,"January 2013","Library","6.500 X 9.000","Author","Ryan Nagelhout",2.7,0.5,16,16,"I",null,"Grade 1","Grade 3 - 6","Winning a coloring contest was the spark that got Beth Phoenix into wrestling. Detailing her rise as a WWE Superstar, this book is sure to spark interest in any young reader. With full-color photographs, a detailed timeline of key events in Beth’s life, and easy-to-read chapters detailing her career and charity work, this book will satisfy even the most dedicated of wrestling fans.","English",25.25,18.95,"796.812092","32 pp.",{"$f":"Table1[[#This Row],['# Books]]*Table1[[#This Row],[QTY]]","v":0},{"$f":"Table1[[#This Row],[QTY]]*Table1[[#This Row],[S&L Price]]","v":0}]
[null,null,165,null,"Superstars of Wrestling",1,"Beth Phoenix","eBook","978-1-4339-8515-7",2013,"January 2013",null,null,"Author","Ryan Nagelhout",2.7,0.5,16,16,"I",null,"Grade 1","Grade 3 - 6","Winning a coloring contest was the spark that got Beth Phoenix into wrestling. Detailing her rise as a WWE Superstar, this book is sure to spark interest in any young reader. With full-color photographs, a detailed timeline of key events in Beth’s life, and easy-to-read chapters detailing her career and charity work, this book will satisfy even the most dedicated of wrestling fans.","English",25.25,18.95,"796.812092","32 pp.",{"$f":"Table1[[#This Row],['# Books]]*Table1[[#This Row],[QTY]]","v":0},{"$f":"Table1[[#This Row],[QTY]]*Table1[[#This Row],[S&L Price]]","v":0}]
[null,null,165,null,"Superstars of Wrestling",1,"John Cena","eBook","978-1-4339-8530-0",2013,"January 2013",null,null,"Author","Ryan Nagelhout",2.5,0.5,16,16,"I",null,"Grade 1","Grade 3 - 6","Find out how a college football player became The Champ of the WWE. Detailing his rise as a WWE Superstar, this book is sure to spark interest in any young reader. Featuring full-color photographs, a detailed timeline of key events in Cena’s life, and easy-to-read chapters, this book will take you from his rap career to his time making movies along with his big moves in the ring. It’s sure to satisfy even the most dedicated of wrestling fans.","English",25.25,18.95,"796.812092","32 pp.",{"$f":"Table1[[#This Row],['# Books]]*Table1[[#This Row],[QTY]]","v":0},{"$f":"Table1[[#This Row],[QTY]]*Table1[[#This Row],[S&L Price]]","v":0}]
[null,null,165,null,"Superstars of Wrestling",1,"The Big Show","Library Bound Book","978-1-4339-8535-5",2013,"January 2013","Library","6.500 X 9.000","Author","Ryan Nagelhout",2.8,0.5,16,16,"I",null,"Grade 1","Grade 3 - 6","The Big Show is one of the largest athletes on the planet. Detailing his rise as a WWE Superstar, this book is sure to spark interest in any young reader. Featuring full-color photographs, a detailed timeline of key events in Big Show’s career, and easy-to-read chapters, this book will show readers just how Paul Wight became the biggest and strongest grappler on the globe. It’s sure to satisfy even the most dedicated of wrestling fans.","English",25.25,18.95,"796.812092","32 pp.",{"$f":"Table1[[#This Row],['# Books]]*Table1[[#This Row],[QTY]]","v":0},{"$f":"Table1[[#This Row],[QTY]]*Table1[[#This Row],[S&L Price]]","v":0}]
[null,null,165,null,"Today's Great Quarterbacks",1,"Andrew Luck","eBook","978-1-4824-0123-3",2014,"January 2014",null,null,"Author","Ryan Nagelhout",2.6,0.5,18,null,"J",null,"Grade 1","Grade 3 - 6","2012 was a great year for young quarterbacks in the National Football League. Andrew Luck went from first overall draft pick to a playoff performer for the Indianapolis Colts. Learn more about this young gunslinger, including his football family and his love of soccer! With accessible text and a timeline of events in Luck’s life, follow the story of this NFL superstar with this book.    • High-interest topic attracts reluctant readers • Timeline of key events in the artist’s career • Excellent hi-lo resource  ","English",25.25,18.95,"796.332092","32 pp.",{"$f":"Table1[[#This Row],['# Books]]*Table1[[#This Row],[QTY]]","v":0},{"$f":"Table1[[#This Row],[QTY]]*Table1[[#This Row],[S&L Price]]","v":0}]
[null,null,165,null,"Today's Great Quarterbacks",1,"Joe Flacco","Library Bound Book","978-1-4824-0143-1",2014,"January 2014","Library","6.500 X 9.000","Author","Ryan Nagelhout",2.8,0.5,18,null,"J",null,"Grade 1","Grade 3 - 6","Every major college football team in America passed on Joe Flacco, but he’s a superstar in the NFL. In this book, learn how the Delaware quarterback set school records and worked his way to a Super Bowl championship in 2013. With fun facts about his life and a detailed timeline of his football career, even the most reluctant of readers will love tackling this hard-hitting book.    • High-interest topic attracts reluctant readers • Timeline of key events in the artist’s career • Excellent hi-lo resource  ","English",25.25,18.95,"796.332092","32 pp.",{"$f":"Table1[[#This Row],['# Books]]*Table1[[#This Row],[QTY]]","v":0},{"$f":"Table1[[#This Row],[QTY]]*Table1[[#This Row],[S&L Price]]","v":0}]
[null,null,165,null,"Today's Great Quarterbacks",1,"Robert Griffin III","eBook","978-1-4824-0483-8",2014,"January 2014",null,null,"Author","Ryan Nagelhout",2.7,0.5,18,null,"J",null,"Grade 1","Grade 3 - 6","Robert Griffin III is one of the most exciting quarterbacks to play in the NFL in years. In 2012, he took the league by storm with an exciting running style and amazing athletic ability. Find out more about this superstar in this awesome high-interest book that will attract even the most reluctant of readers. Learn more about his nickname, how he grew up in a military family, and even his colorful sock collection. Can RG3 lead Washington back to a Super Bowl for the first time in decades? Only time will tell for this NFL superstar.    • High-interest topic attracts reluctant readers • Timeline of key events in the artist’s career • Excellent hi-lo resource  ","English",25.25,18.95,"796.332092","32 pp.",{"$f":"Table1[[#This Row],['# Books]]*Table1[[#This Row],[QTY]]","v":0},{"$f":"Table1[[#This Row],[QTY]]*Table1[[#This Row],[S&L Price]]","v":0}]
[null,null,165,null,"Drawing Is Fun",1,"Drawing Creepy Crawlies","eBook","978-1-4339-5939-4",2012,"August 2011",null,null,"Illustrated by, Author","Gareth Editorial Staff, Rebecca Clunes",null,null,16,15,"I",null,"Grade 1 - 2","Grade 1 - 3","Under rocks or hiding in tall grass, there is a great diversity of crawling critters just waiting to be put on paper. Simple, step-by-step instructions guide readers through the steps of drawing creepy creatures, like praying mantises and stag beetles, as well as more common insects, like butterflies and ladybugs. Colorful drawings show the finished products, and fascinating facts are presented to teach readers a little of the science behind the creatures they’re drawing.","English",26.6,19.95,"743.6","32 pp.",{"$f":"Table1[[#This Row],['# Books]]*Table1[[#This Row],[QTY]]","v":0},{"$f":"Table1[[#This Row],[QTY]]*Table1[[#This Row],[S&L Price]]","v":0}]
[null,null,165,null,"Drawing Is Fun",1,"Drawing Speed Machines","Library Bound Book","978-1-4339-5950-9",2012,"August 2011","Library","8.500 X 11.00","Illustrated by, Author","Gareth Editorial Staff, Rebecca Clunes",null,null,16,17,"J",null,"Grade 1 - 2","Grade 1 - 3","Drawing sports cars, private jets, and other speedy vehicles is made simple and fun with this high-octane book. Readers receive step-by-step instructions for creating cartoon versions of some of the fastest machines ever built—from bullet trains to stealth planes. Detailed photographs show the real models for the cool cartoons that readers are taught to draw. Fun facts are presented about each machine, so readers are able to learn as they draw.","English",26.6,19.95,"743","32 pp.",{"$f":"Table1[[#This Row],['# Books]]*Table1[[#This Row],[QTY]]","v":0},{"$f":"Table1[[#This Row],[QTY]]*Table1[[#This Row],[S&L Price]]","v":0}]
[null,null,165,null,"Drawing Is Fun",1,"Drawing Speed Machines","eBook","978-1-4339-5951-6",2012,"August 2011",null,null,"Illustrated by, Author","Gareth Editorial Staff, Rebecca Clunes",null,null,16,17,"J",null,"Grade 1 - 2","Grade 1 - 3","Drawing sports cars, private jets, and other speedy vehicles is made simple and fun with this high-octane book. Readers receive step-by-step instructions for creating cartoon versions of some of the fastest machines ever built—from bullet trains to stealth planes. Detailed photographs show the real models for the cool cartoons that readers are taught to draw. Fun facts are presented about each machine, so readers are able to learn as they draw.","English",26.6,19.95,"743","32 pp.",{"$f":"Table1[[#This Row],['# Books]]*Table1[[#This Row],[QTY]]","v":0},{"$f":"Table1[[#This Row],[QTY]]*Table1[[#This Row],[S&L Price]]","v":0}]
[null,null,165,null,"You Can Draw",1,"Rockets","Library Bound Book","978-1-4339-7474-8",2013,"August 2012","Library","7.750 X 10.75","Author, Illustrated by","Mark Bergin, Mark Bergin",null,null,16,15,"H",null,"Grade 2","Grade 1 - 3","Budding artists learn how to draw many kinds of super space machines, including a space shuttle, Mercury-Redstone, and the Blue Flame. A comprehensive list of materials and helpful tips on how to make a drawing your own, this book features direct, step-by-step instructions that guide readers from a simple pencil drawing to a truly unique finished work of art. Colorful illustrations and fun facts about individually featured rockets accompany each chapter.","English",26.6,19.95,"743","32 pp.",{"$f":"Table1[[#This Row],['# Books]]*Table1[[#This Row],[QTY]]","v":0},{"$f":"Table1[[#This Row],[QTY]]*Table1[[#This Row],[S&L Price]]","v":0}]
[null,null,165,null,"Draw Your Pet!",1,"You Can Draw Cats!","Library Bound Book","978-1-4339-8727-4",2013,"January 2013","Library","8.500 X 11.00","Author, Illustrated by","Katie Dicker, Mike Saunders",null,null,28,22,"M",null,"Grade 2 - 3","Grade 3 - 5","Even though cats start out as tiny kittens, some, such as the Maine Coon, become very large. This breed can be up to 40 inches long. Readers follow step-by-step drawing instructions to create a Maine Coon and many other cat breeds with accessible written instructions and picture guides. Photographs of cute-and-cuddly kittens accompany helpful information about caring for a pet cat, too.","English",26.6,19.95,"743.6","32 pp.",{"$f":"Table1[[#This Row],['# Books]]*Table1[[#This Row],[QTY]]","v":0},{"$f":"Table1[[#This Row],[QTY]]*Table1[[#This Row],[S&L Price]]","v":0}]
[null,null,165,null,"Draw Your Pet!",1,"You Can Draw Exotic Pets!","eBook","978-1-4339-8738-0",2013,"January 2013",null,null,"Author, Illustrated by","Katie Dicker, Mike Saunders",null,null,28,22,"M",null,"Grade 2 - 3","Grade 3 - 5","Readers will explore owning exciting pets while learning how to draw them. Close-up photographs of amazing, exotic animals will encourage readers to sketch, shade, and color their drawings. Tips about exotic pet care and surprising facts about each animal accompany the step-by-step drawing instructions.","English",26.6,19.95,"743.6","32 pp.",{"$f":"Table1[[#This Row],['# Books]]*Table1[[#This Row],[QTY]]","v":0},{"$f":"Table1[[#This Row],[QTY]]*Table1[[#This Row],[S&L Price]]","v":0}]
[null,null,165,null,"Draw Your Pet!",1,"You Can Draw Fish!","Library Bound Book","978-1-4339-8739-7",2013,"January 2013","Library","8.500 X 11.00","Author, Illustrated by","Katie Dicker, Mike Saunders",null,null,28,22,"M",null,"Grade 2 - 3","Grade 3 - 5","Fish might seem like easy pets to care for, but these superswimmers sometimes need special food or a friend to keep them company in the tank. Readers will learn all about caring for a variety of fish—and how to draw each unique kind. Following detailed instructions and picture guides, readers will quickly move from the rounded outline of the clownfish to the final colorful fins of the angelfish. Full-color photographs and many cool facts about this popular pet add to the fun of learning to draw it.","English",26.6,19.95,"743.6","32 pp.",{"$f":"Table1[[#This Row],['# Books]]*Table1[[#This Row],[QTY]]","v":0},{"$f":"Table1[[#This Row],[QTY]]*Table1[[#This Row],[S&L Price]]","v":0}]
[null,null,165,null,"Craft Attack!",1,"Jewelry Crafts","eBook","978-1-4824-0200-1",2014,"January 2014",null,null,"Author","Annalees Lim",null,null,24,20,"L",null,"Grade 3","Grade 3 - 5","No outfit is complete without accessories! A chunky necklace can give jeans and a T-shirt a little more style while a pair of sparkly earrings can communicate a love for all things glam! Whatever their style, readers will find plenty of fun jewelry to make, from funky hair clips made from old toys to cool handmade bead bracelets. Step-by-step instructions with accompanying photographs guide readers through these artful accessories, but there’s plenty of room for creativity. Many supplies can be found around the house—crafters just need to add a little imagination!","English",26.6,19.95,"745.594","32 pp.",{"$f":"Table1[[#This Row],['# Books]]*Table1[[#This Row],[QTY]]","v":0},{"$f":"Table1[[#This Row],[QTY]]*Table1[[#This Row],[S&L Price]]","v":0}]
[null,null,165,null,"Craft Attack!",1,"Paper Crafts","eBook","978-1-4824-0212-4",2014,"January 2014",null,null,"Author","Annalees Lim",null,null,24,20,"L",null,"Grade 3","Grade 3 - 5","Crafts using paper are quick and easy to make. From personalized stationary and envelopes to lovely paper bouquets, these crafts don’t require much more than a little glue, tape, and creativity. Readers follow clear instructions to complete each craft, using full-color photographs of each step to help them. There’s plenty of room for innovation, too, including choosing colors, drawing designs, and using personal photographs. Readers will be cutting and pasting in no time!","English",26.6,19.95,"745.54","32 pp.",{"$f":"Table1[[#This Row],['# Books]]*Table1[[#This Row],[QTY]]","v":0},{"$f":"Table1[[#This Row],[QTY]]*Table1[[#This Row],[S&L Price]]","v":0}]
[null,null,165,null,"Craft Attack!",1,"Textile Crafts","Library Bound Book","978-1-4824-0224-7",2014,"January 2014","Library","8.500 X 11.00","Author","Annalees Lim",null,null,24,20,"L",null,"Grade 3","Grade 3 - 5","Knowing how to use a needle and thread well can be a big help when mending clothes and other things around the house. One great way to learn basic sewing technique is through making simple crafts out of fabric, felt, and other textiles. From unique gifts and accessories to room decorations, the many textile crafts will spark readers’ creativity as they practice basic stitches and are introduced to knitting. Colorful photographs accompany step-by-step instructions to guide readers through simple, fun projects, such as knitted phone cases, decorative ribbon accessories, and even a mushroom doorstop.","English",26.6,19.95,"745.5","32 pp.",{"$f":"Table1[[#This Row],['# Books]]*Table1[[#This Row],[QTY]]","v":0},{"$f":"Table1[[#This Row],[QTY]]*Table1[[#This Row],[S&L Price]]","v":0}]
[null,null,165,null,"Craft Attack!",1,"Textile Crafts","eBook","978-1-4824-0223-0",2014,"January 2014",null,null,"Author","Annalees Lim",null,null,24,20,"L",null,"Grade 3","Grade 3 - 5","Knowing how to use a needle and thread well can be a big help when mending clothes and other things around the house. One great way to learn basic sewing technique is through making simple crafts out of fabric, felt, and other textiles. From unique gifts and accessories to room decorations, the many textile crafts will spark readers’ creativity as they practice basic stitches and are introduced to knitting. Colorful photographs accompany step-by-step instructions to guide readers through simple, fun projects, such as knitted phone cases, decorative ribbon accessories, and even a mushroom doorstop.","English",26.6,19.95,"745.5","32 pp.",{"$f":"Table1[[#This Row],['# Books]]*Table1[[#This Row],[QTY]]","v":0},{"$f":"Table1[[#This Row],[QTY]]*Table1[[#This Row],[S&L Price]]","v":0}]
[null,null,165,null,"Learn to Draw",1,"Drawing Dragons","Library Bound Book","978-1-4339-9532-3",2014,"August 2013","Library","8.500 X 11.00","Author, Illustrated by","Sarah Eason, Jorge Santillan",null,null,24,20,"L",null,"Grade 3","Grade 2 - 5","Throughout history, dragons have had a reputation for destruction. But there’s more to them than that! Cultures around the world have differing stories about these huge, magical creatures—including tales of fire-breathers and even dragons that can sometimes take human form. Readers will learn the fascinating lore of dragons as they create colorful drawings by following step-by-step directions. Each section highlights a different kind of dragon and features a finished, full-color drawing for readers to find inspiration in. As they draw water dragons and flying dragons, readers’ imaginations are sure to take flight!","English",26.6,19.95,"743","24 pp.",{"$f":"Table1[[#This Row],['# Books]]*Table1[[#This Row],[QTY]]","v":0},{"$f":"Table1[[#This Row],[QTY]]*Table1[[#This Row],[S&L Price]]","v":0}]
[null,null,165,null,"Learn to Draw",1,"Drawing Fairies, Mermaids, and Unicorns","eBook","978-1-4339-9539-2",2014,"August 2013",null,null,"Author, Illustrated by","Sarah Eason, Jorge Santillan",null,null,24,20,"L",null,"Grade 3","Grade 2 - 5","Fairytale creatures might be the most fun to draw! They’re adaptable to anyone’s imagination and add a touch of magic to works of art. Through step-by-step instructions, readers will learn to draw colorful fire fairies, incredible flying unicorns, and several more fantastical subjects. Each section features stories and common beliefs about each dazzling creature as well as vivid finished drawings to emulate. New art skills, such as adding highlight and detail, will inspire readers to bring their own make-believe creatures to life!","English",26.6,19.95,"743","24 pp.",{"$f":"Table1[[#This Row],['# Books]]*Table1[[#This Row],[QTY]]","v":0},{"$f":"Table1[[#This Row],[QTY]]*Table1[[#This Row],[S&L Price]]","v":0}]
[null,null,165,null,"Civil Rights Crusaders",1,"Coretta Scott King","eBook","978-1-4339-5679-9",2012,"August 2011",null,null,"Author","Maria Nelson",4.7,0.5,30,24,"M",null,"Grade 2 - 3","Grade 2 - 5","Martin Luther King, Jr. wasn’t the only influential leader in the King family—his wife Coretta was an important civil rights activist, too. This book introduces readers to Coretta Scott King through her involvement with the African American fight for freedom and her lifelong dedication to equality for all. Filled with historic photographs from the civil rights movement, fascinating facts about her life with Martin Luther King Jr., and a timeline of key events, this book is an important resource for readers learning about civil rights for the first time. ","English",22.6,16.95,"323.092","24 pp.",{"$f":"Table1[[#This Row],['# Books]]*Table1[[#This Row],[QTY]]","v":0},{"$f":"Table1[[#This Row],[QTY]]*Table1[[#This Row],[S&L Price]]","v":0}]
[null,null,165,null,"Civil Rights Crusaders",1,"Jesse Jackson","Library Bound Book","978-1-4339-5682-9",2012,"August 2011","Library","8.500 X 8.500","Author","Barbara M. Linde",4.7,0.5,30,24,"M",null,"Grade 2 - 3","Grade 2 - 5","Still an active member of the political process today, Jesse Jackson has been a voice for African Americans since the 1960s. This book chronicles Jackson’s journey from humble beginnings in South Carolina to prominent civil rights activist, politician, and leader of the Rainbow PUSH Coalition. Enhanced by a timeline detailing important events, Jackson’s life inspires all readers to make their voices heard. ","English",22.6,16.95,"973.927092","24 pp.",{"$f":"Table1[[#This Row],['# Books]]*Table1[[#This Row],[QTY]]","v":0},{"$f":"Table1[[#This Row],[QTY]]*Table1[[#This Row],[S&L Price]]","v":0}]
[null,null,165,null,"Civil Rights Crusaders",1,"Martin Luther King Jr.","eBook","978-1-4339-5691-1",2012,"August 2011",null,null,"Author","Barbara M. Linde",4.5999999999999996,0.5,30,24,"M",null,"Grade 2 - 3","Grade 2 - 5","Martin Luther King Jr. was one of the most influential leaders of civil rights movement in the United States. Including famous quotes from his speeches, stirring photographs from his many public appearances, and a timeline of important events, this book introduces King’s message of nonviolence in an engaging way. Information about King’s involvement in the March on Washington, the Montgomery bus boycott, and other important historical events teaches readers about the civil rights movement, as well as King’s enduring legacy.","English",22.6,16.95,"323.092","32 pp.",{"$f":"Table1[[#This Row],['# Books]]*Table1[[#This Row],[QTY]]","v":0},{"$f":"Table1[[#This Row],[QTY]]*Table1[[#This Row],[S&L Price]]","v":0}]
[null,null,166,null,"Civil Rights Crusaders",1,"Thurgood Marshall","eBook","978-1-4339-5699-7",2012,"August 2011",null,null,"Author","Barbara M. Linde",5,0.5,30,24,"M",null,"Grade 2 - 3","Grade 2 - 5","Thurgood Marshall was an important pioneer in the civil rights movement both for his work as the lawyer who helped overturn school segregation and as the first African American on the Supreme Court. In this book, readers explore Marshall’s life through his historical accomplishments which are enhanced by photographs, insightful facts, and a helpful timeline. Marshall never let “separate but equal” stop him, and this book inspires readers to stand up for themselves, too.","English",22.6,16.95,"347.73","32 pp.",{"$f":"Table1[[#This Row],['# Books]]*Table1[[#This Row],[QTY]]","v":0},{"$f":"Table1[[#This Row],[QTY]]*Table1[[#This Row],[S&L Price]]","v":0}]
[null,null,166,null,"Today's Sports Greats",1,"Roger Federer","Library Bound Book","978-1-4339-5870-0",2012,"August 2011","Library","6.500 X 9.000","Author","Jason Glaser",5.9,0.5,38,28,"P",null,"Grade 4 - 5","Grade 4 - 6","Few athletes hear the title “greatest” attached to their name while they’re still playing. Roger Federer is an exception to this rule. His domination of the tennis court has commanded attention and admiration worldwide. This book documents Federer’s journey as an athlete, from lessons as a young boy to grand-slam victories. Still at the top of his game, Federer shows every sign of continuing to break records, ensuring his place in tennis history.","English",26.6,19.95,"796.342092","32 pp.",{"$f":"Table1[[#This Row],['# Books]]*Table1[[#This Row],[QTY]]","v":0},{"$f":"Table1[[#This Row],[QTY]]*Table1[[#This Row],[S&L Price]]","v":0}]
[null,null,166,null,"Today's Sports Greats",1,"Roger Federer","eBook","978-1-4339-5871-7",2012,"August 2011",null,null,"Author","Jason Glaser",5.9,0.5,38,28,"P",null,"Grade 4 - 5","Grade 4 - 6","Few athletes hear the title “greatest” attached to their name while they’re still playing. Roger Federer is an exception to this rule. His domination of the tennis court has commanded attention and admiration worldwide. This book documents Federer’s journey as an athlete, from lessons as a young boy to grand-slam victories. Still at the top of his game, Federer shows every sign of continuing to break records, ensuring his place in tennis history.","English",26.6,19.95,"796.342092","32 pp.",{"$f":"Table1[[#This Row],['# Books]]*Table1[[#This Row],[QTY]]","v":0},{"$f":"Table1[[#This Row],[QTY]]*Table1[[#This Row],[S&L Price]]","v":0}]
[null,null,166,null,"Today's Sports Greats",1,"Tom Brady","Library Bound Book","978-1-4339-5882-3",2012,"August 2011","Library","6.500 X 9.000","Author","Jason Glaser",6.1,1,38,30,"Q",null,"Grade 4 - 5","Grade 4 - 6","Tom Brady wasn’t the number-one pick in the 2000 NFL draft. He wasn’t even selected in the first round. It wasn’t until the sixth round that the New England Patriots chose him. Many had doubts about this quarterback’s skills. When Brady finally got his chance on the field, Patriots fans wanted no other leader for their team. He has since risen to become a Super Bowl champion and league MVP. His stellar statistics and leadership seem like gifts, but Brady’s high school, college, and professional careers were born of hard work and determination. This book follows Tom Brady’s story from young 49ers fan to Patriots superstar.","English",26.6,19.95,"796.332092","32 pp.",{"$f":"Table1[[#This Row],['# Books]]*Table1[[#This Row],[QTY]]","v":0},{"$f":"Table1[[#This Row],[QTY]]*Table1[[#This Row],[S&L Price]]","v":0}]
[null,null,166,null,"Extreme Jobs in Extreme Places",1,"Life at a Polar Research Station","eBook","978-1-4339-8485-3",2013,"January 2013",null,null,"Author","Arthur K. Britton",5.0999999999999996,null,40,30,"Q",null,"Grade 3 - 4","Grade 3 - 6","It takes a special person to work in the extreme environment of Antarctica, but many scientists, engineers, doctors, and technicians do. A vivid picture of life in the freezing conditions of the South Pole is painted through the photographs in this book. Readers will learn the many kinds of jobs involved in running a polar research center as well as what Antarctic workers do in their free time.","English",26.6,19.95,"570.72","32 pp.",{"$f":"Table1[[#This Row],['# Books]]*Table1[[#This Row],[QTY]]","v":0},{"$f":"Table1[[#This Row],[QTY]]*Table1[[#This Row],[S&L Price]]","v":0}]
[null,null,166,null,"Extreme Jobs in Extreme Places",1,"Life on an Aircraft Carrier","eBook","978-1-4339-8495-2",2013,"January 2013",null,null,"Author","Heather Moore Niver",null,null,40,30,"Q",null,"Grade 3 - 4","Grade 3 - 6","Aircraft carriers are truly impressive \"cities at sea.\" Their monstrous size alone can fill visitors with awe. However, the people who live on carriers and the jobs they do every day are just as extraordinary. Pilots who land jets with precision, engineers who piece together weapons, and technicians who fuel vehicles in the midst of dangerous situations are just some of the heroes of the navy highlighted in this book.","English",26.6,19.95,"359.9/435","24 pp.",{"$f":"Table1[[#This Row],['# Books]]*Table1[[#This Row],[QTY]]","v":0},{"$f":"Table1[[#This Row],[QTY]]*Table1[[#This Row],[S&L Price]]","v":0}]
[null,null,166,null,"Extreme Jobs in Extreme Places",1,"Life on an Oil Rig","Library Bound Book","978-1-4339-8497-6",2013,"January 2013","Library","7.750 X 10.00","Author","Drew Nelson",null,null,40,30,"Q",null,"Grade 3 - 4","Grade 3 - 6","We couldn't get very far without oil rigs, both on and off shore, and the people who work there. Workers toil long hours, usually far from families and friends, to provide the fuel needed to power cars, planes, trains, and many other types of machines. Life on an offshore oil platform and the many kinds of jobs that keep it running smoothly and safely are explored through accessible text.","English",26.6,19.95,"622","24 pp.",{"$f":"Table1[[#This Row],['# Books]]*Table1[[#This Row],[QTY]]","v":0},{"$f":"Table1[[#This Row],[QTY]]*Table1[[#This Row],[S&L Price]]","v":0}]
[null,null,166,null,"A Graphic History of the American West",1,"The Battle of the Alamo","eBook","978-1-4339-6728-3",2012,"January 2012",null,null,"Author, Illustrated by","Gary Jeffrey, Nick Spender",3.9,0.5,34,30,"L",null,"Grade 3","Grade 3 - 8","The defense of the Alamo by an army of Texans is a legendary tale of loyalty and sacrifice. In this exciting book readers explore the incredible story behind the event. They uncover fascinating facts about the brave men who tried to protect the Alamo from Mexican forces even when all hope was lost. Told in the action-packed style of a graphic novel, this story of courage and sacrifice is presented for readers in thrilling detail. Through accessible text and engaging illustrations, this book takes readers into the heart of the Alamo in a way that is both educational and highly entertaining.","English",23.95,17.95,"976.4","24 pp.",{"$f":"Table1[[#This Row],['# Books]]*Table1[[#This Row],[QTY]]","v":0},{"$f":"Table1[[#This Row],[QTY]]*Table1[[#This Row],[S&L Price]]","v":0}]
[null,null,166,null,"A Graphic History of the American West",1,"The Gold Rush","Library Bound Book","978-1-4339-6739-9",2012,"January 2012","Library","6.500 X 9.000","Author, Illustrated by","Gary Jeffrey, Emanuele Boccanfuso",4.4000000000000004,0.5,34,30,"M",null,"Grade 3","Grade 3 - 8","In 1848 America was changed forever by the discovery of gold in California. It led to the growth of cities like San Francisco, altered the way Americans thought about earning money, and brought thousands of fortune-seekers to the West. In this book, readers explore the fascinating story of the gold rush in terms of both its causes and effects. They also gain a more personal view of this period in American history, journeying alongside a New York farmer, William Swain, as he travels west to find gold. Presented in the style of a graphic novel, Swain’s adventures are sure to excite readers. Detailed drawings and easy-to-follow text ensure accessibility to even the most reluctant readers.","English",23.95,17.95,"979.4","24 pp.",{"$f":"Table1[[#This Row],['# Books]]*Table1[[#This Row],[QTY]]","v":0},{"$f":"Table1[[#This Row],[QTY]]*Table1[[#This Row],[S&L Price]]","v":0}]
[null,null,166,null,"A Graphic History of the American West",1,"The Pony Express","Library Bound Book","978-1-4339-6747-4",2012,"January 2012","Library","6.500 X 9.000","Author, Illustrated by","Gary Jeffrey, Terry Riley",4.0999999999999996,0.5,34,30,"L",null,"Grade 3","Grade 3 - 8","The famous Pony Express is presented to readers in a new, exciting way. The story of brave riders who often risked their lives to deliver much-needed mail is one that will keep readers entertained as they learn new facts about this period in American history. Readers discover the heroic journey taken in the Old West on the longest Pony Express ride, and they see all of the dangers and triumphs unfold before their eyes in thrilling graphic-novel form. Even reluctant readers will be captivated by this book’s accessible language, vivid drawings, and fast-paced storytelling.","English",23.95,17.95,"383","24 pp.",{"$f":"Table1[[#This Row],['# Books]]*Table1[[#This Row],[QTY]]","v":0},{"$f":"Table1[[#This Row],[QTY]]*Table1[[#This Row],[S&L Price]]","v":0}]
[null,null,166,null,"A Graphic History of the American West",1,"The Pony Express","eBook","978-1-4339-6748-1",2012,"January 2012",null,null,"Author, Illustrated by","Gary Jeffrey, Terry Riley",4.0999999999999996,0.5,34,30,"L",null,"Grade 3","Grade 3 - 8","The famous Pony Express is presented to readers in a new, exciting way. The story of brave riders who often risked their lives to deliver much-needed mail is one that will keep readers entertained as they learn new facts about this period in American history. Readers discover the heroic journey taken in the Old West on the longest Pony Express ride, and they see all of the dangers and triumphs unfold before their eyes in thrilling graphic-novel form. Even reluctant readers will be captivated by this book’s accessible language, vivid drawings, and fast-paced storytelling.","English",23.95,17.95,"383","24 pp.",{"$f":"Table1[[#This Row],['# Books]]*Table1[[#This Row],[QTY]]","v":0},{"$f":"Table1[[#This Row],[QTY]]*Table1[[#This Row],[S&L Price]]","v":0}]
[null,null,166,null,"A Graphic History of the Civil Rights Movement",1,"Medgar Evers and the NAACP","Library Bound Book","978-1-4339-7495-3",2013,"August 2012","Library","6.500 X 9.000","Author","Gary Jeffrey",5.3,0.5,30,24,"M",null,"Grade 3","Grade 3 - 8","Medgar Evers’s story of courage, dignity, and sacrifice is a reminder of the high price some paid to ensure that the United States would meet its promise of equal rights and equal opportunity for all. After fighting for his country in World War II, Evers came home to a nation that treated him as a second-class citizen. He joined the NAACP and worked tirelessly to change conditions for African Americans. He paid a terrible price for his efforts—his life was taken by a white supremacist. Through powerful illustrations and accessible text, this dramatic graphic novel highlights Evers’s courage and dignity during a dark period in American history.","English",23.95,17.95,"323.092","24 pp.",{"$f":"Table1[[#This Row],['# Books]]*Table1[[#This Row],[QTY]]","v":0},{"$f":"Table1[[#This Row],[QTY]]*Table1[[#This Row],[S&L Price]]","v":0}]
[null,null,166,null,"A Graphic History of the Civil Rights Movement",1,"Rosa Parks and the Montgomery Bus Boycott","eBook","978-1-4339-7502-8",2013,"August 2012",null,null,"Author","Gary Jeffrey",4.4000000000000004,0.5,30,24,"M",null,"Grade 3","Grade 3 - 8","The Montgomery bus boycott was a pivotal event that launched the civil rights movement and helped transform American society. This epic tale of courage and peaceful resistance began with a simple “No” spoken by an African American seamstress. When Rosa Parks, exhausted after a long day at work, refused to give up her bus seat for a white man, she defied the strict segregation laws that made blacks second-class citizens. What followed was a test of courage and resolve that ultimately reshaped the nation. Using powerful illustrations and accessible text, this exciting graphic novel tells the story of actions, arrests, and the dramatic events that followed.","English",23.95,17.95,"323.092","24 pp.",{"$f":"Table1[[#This Row],['# Books]]*Table1[[#This Row],[QTY]]","v":0},{"$f":"Table1[[#This Row],[QTY]]*Table1[[#This Row],[S&L Price]]","v":0}]
[null,null,166,null,"Graphic Heroes of the American Revolution",1,"George Washington and the Winter at Valley Forge","eBook","978-1-4339-6055-0",2012,"August 2011",null,null,"Author","Nick Spender",4.4000000000000004,0.5,20,24,"L",null,"Grade 3","Grade 3 - 8","The survival of the American troops during the brutal winter at Valley Forge is one of the most harrowing tales of the Revolutionary War. In this book, readers witness the dedication of a civilian army that persevered through a fatal lack of supplies in order to continue the fight for independence from Britain. Readers discover George Washington before his days as president, serving as the impassioned military leader who kept his men together during such a trying time. Presented in graphic-novel form with accessible text and detailed artwork, this book is sure to keep even the most reluctant readers interested in this amazing tale and its historical context.","English",23.95,17.95,"973.3","24 pp.",{"$f":"Table1[[#This Row],['# Books]]*Table1[[#This Row],[QTY]]","v":0},{"$f":"Table1[[#This Row],[QTY]]*Table1[[#This Row],[S&L Price]]","v":0}]
[null,null,166,null,"Graphic Heroes of the American Revolution",1,"John Adams and the Boston Massacre","Library Bound Book","978-1-4339-6016-1",2012,"August 2011","Library","6.500 X 9.000","Author","Gary Jeffrey",4.3,0.5,20,24,"L",null,"Grade 3","Grade 3 - 8","Why did one of the most prominent patriots of his time defend British soldiers for opening fire on a Boston mob? The answer to this probing question can be found in this thought-provoking book. Readers discover the facts behind the Boston Massacre, which ultimately left five colonists dead. The ensuing trial unfolds for readers with great tension, as Adams works to prove that patriots can be trusted to defend the human rights of all people. This story is presented in the style of a graphic novel, with engaging drawings to hold the interest of reluctant readers while teaching them about a very important time in American history.","English",23.95,17.95,"973.3","24 pp.",{"$f":"Table1[[#This Row],['# Books]]*Table1[[#This Row],[QTY]]","v":0},{"$f":"Table1[[#This Row],[QTY]]*Table1[[#This Row],[S&L Price]]","v":0}]
[null,null,166,null,"Graphic Heroes of the American Revolution",1,"Samuel Adams and the Boston Tea Party","eBook","978-1-4339-6058-1",2012,"August 2011",null,null,"Author","Gary Jeffrey",3.6,0.5,30,24,"M",null,"Grade 3","Grade 3 - 8","Samuel Adams is one of the most well known figures in the American fight for independence. His impassioned speeches helped motivate colonists to take action against British taxes, which led to the famous act of rebellion known as the Boston Tea Party. Told in the form of a graphic novel, this book will engage even the most reluctant of readers and provoke their interest in learning history. Detailed drawings and accessible text bring readers into the world of one of the most important events on the road to the American Revolution.","English",23.95,17.95,"973.3","24 pp.",{"$f":"Table1[[#This Row],['# Books]]*Table1[[#This Row],[QTY]]","v":0},{"$f":"Table1[[#This Row],[QTY]]*Table1[[#This Row],[S&L Price]]","v":0}]
[null,null,166,null,"Graphic Mythical Creatures",1,"Centaurs","Library Bound Book","978-1-4339-6751-1",2012,"January 2012","Library","6.500 X 9.000","Author, Illustrated by","Gary Jeffrey, Allesandro Poluzzi",3.5,0.5,24,34,"N",null,"Grade 3","Grade 3 - 5","A centaur is one of the wildest creations in Greek mythology. In this book, readers explore fascinating tales about centaurs and the dangers they were thought to pose to both themselves and humans. The featured story of “Hercules and the Centaurs” is presented in exciting graphic-novel form, using engaging artwork and accessible text to draw reluctant readers into the world of these wild and powerful creatures. Legendary centaur battles and thrilling tales of kidnappings and rescues are sure to keep readers engaged and pages turning.","English",23.95,17.95,"398.210938","24 pp.",{"$f":"Table1[[#This Row],['# Books]]*Table1[[#This Row],[QTY]]","v":0},{"$f":"Table1[[#This Row],[QTY]]*Table1[[#This Row],[S&L Price]]","v":0}]
[null,null,166,null,"Graphic Mythical Creatures",1,"Giants","Library Bound Book","978-1-4339-6034-5",2012,"August 2011","Library","6.500 X 9.000","Author","Gary Jeffrey",3.3,0.5,20,24,"L",null,"Grade 3","Grade 3 - 5","These mythical creatures were thought to be as large as mountains and were responsible for causing lots of trouble for humans. Readers will discover some of the most popular legends and folklore about giants in this book. The comprehensive volume covers giants from a variety of mythological traditions—from the Greeks to the Mayans. The exciting story of the Norse god Thor and his adventures in the land of giants is featured in graphic-novel form. The accessible text and engaging drawings will excite reluctant readers, drawing them into the fascinating world of mythology.","English",23.95,17.95,"398","24 pp.",{"$f":"Table1[[#This Row],['# Books]]*Table1[[#This Row],[QTY]]","v":0},{"$f":"Table1[[#This Row],[QTY]]*Table1[[#This Row],[S&L Price]]","v":0}]
[null,null,166,null,"Graphic Mythical Creatures",1,"Giants","eBook","978-1-4339-6054-3",2012,"August 2011",null,null,"Author","Gary Jeffrey",3.3,0.5,20,24,"L",null,"Grade 3","Grade 3 - 5","These mythical creatures were thought to be as large as mountains and were responsible for causing lots of trouble for humans. Readers will discover some of the most popular legends and folklore about giants in this book. The comprehensive volume covers giants from a variety of mythological traditions—from the Greeks to the Mayans. The exciting story of the Norse god Thor and his adventures in the land of giants is featured in graphic-novel form. The accessible text and engaging drawings will excite reluctant readers, drawing them into the fascinating world of mythology.","English",23.95,17.95,"398","24 pp.",{"$f":"Table1[[#This Row],['# Books]]*Table1[[#This Row],[QTY]]","v":0},{"$f":"Table1[[#This Row],[QTY]]*Table1[[#This Row],[S&L Price]]","v":0}]
[null,null,166,null,"Graphic Mythical Creatures",1,"Ogres","Library Bound Book","978-1-4339-6037-6",2012,"August 2011","Library","6.500 X 9.000","Author","Gary Jeffrey",3.9,0.5,20,24,"L",null,"Grade 3","Grade 3 - 5","Ogres have been featured in fairy tales and folklore long before the misanthropic, but lovable, Shrek. Fascinating facts teach readers about ogres of many traditions—from Japanese legends to popular fairy tales. The featured legend of Tom Hickathrift and his exciting battle with the ogre of Tilney Marsh is presented in graphic-novel form, which enlivens it through accessible text and engaging drawings. Readers will even find out how ogres are involved in the story of the popular character Puss in Boots.","English",23.95,17.95,"398.21","24 pp.",{"$f":"Table1[[#This Row],['# Books]]*Table1[[#This Row],[QTY]]","v":0},{"$f":"Table1[[#This Row],[QTY]]*Table1[[#This Row],[S&L Price]]","v":0}]
[null,null,166,null,"Graphic Mythical Creatures",1,"Trolls","eBook","978-1-4339-6046-8",2012,"August 2011",null,null,"Author","Gary Jeffrey",3.6,0.5,30,24,"M",null,"Grade 3","Grade 3 - 5","Who are the trolls of Hedale Woods, and how did two brothers manage to win their treasure? Readers find the answers to these questions and many more in this volume that addresses all things trolls. Told in the popular style of a graphic novel, the story of the Hedale Woods trolls incorporates accessible text and engaging drawings to excite reluctant readers. In addition to the featured tale, fun facts introduce readers to famous trolls from folktales around the world. From mountain trolls to those that stalk the lowlands, readers come face-to-face with some of the creepiest mythical creatures ever imagined.","English",23.95,17.95,"398.2","24 pp.",{"$f":"Table1[[#This Row],['# Books]]*Table1[[#This Row],[QTY]]","v":0},{"$f":"Table1[[#This Row],[QTY]]*Table1[[#This Row],[S&L Price]]","v":0}]
[null,null,166,null,"Graphic Mythical Creatures",1,"Vampires","Library Bound Book","978-1-4339-6771-9",2012,"January 2012","Library","6.500 X 9.000","Author, Illustrated by","Gary Jeffrey, Dheeraj Verma",3.9,0.5,24,34,"N",null,"Grade 3","Grade 3 - 5","Vampire myths beyond the popular tales of Count Dracula and Edward Cullen exist, and readers uncover many of them in this book. From a Serbian village to an American town, readers go on a journey to discover the most incredible vampire legends ever told. In the book’s featured tale, readers come face-to-face with the horrifying Irish vampire Abhartach. His story is brought to life in the thrilling style of a graphic novel. With accessible text and exciting artwork, even the most reluctant readers will be drawn to the chilling stories that are waiting for them in this book.","English",23.95,17.95,"398.21","24 pp.",{"$f":"Table1[[#This Row],['# Books]]*Table1[[#This Row],[QTY]]","v":0},{"$f":"Table1[[#This Row],[QTY]]*Table1[[#This Row],[S&L Price]]","v":0}]
[null,null,166,null,"Graphic Mythical Creatures",1,"Werewolves","Library Bound Book","978-1-4339-6049-9",2012,"August 2011","Library","6.500 X 9.000","Author","Gary Jeffrey",3.5,0.5,20,24,"L",null,"Grade 3","Grade 3 - 5","Werewolves are some of the most feared mythical creatures ever imagined. In this exciting resource, readers discover legends of werewolves that have been told throughout the world—from France to the United States. The featured tale of the werewolf of Klein-Krams is presented in gripping graphic-novel form, with eye-catching artwork and accessible text that even the most reluctant readers will enjoy. Fascinating facts explain how this story and others like it originated. Readers will even learn important lessons like what it takes to defeat a werewolf.","English",23.95,17.95,"398.24","24 pp.",{"$f":"Table1[[#This Row],['# Books]]*Table1[[#This Row],[QTY]]","v":0},{"$f":"Table1[[#This Row],[QTY]]*Table1[[#This Row],[S&L Price]]","v":0}]
[null,null,166,null,"Graphic Mythical Heroes",1,"Hercules Fights the Nemean Lion","eBook","978-1-4339-7514-1",2013,"August 2012",null,null,"Author","Gary Jeffrey",3.8,0.5,24,22,"L",null,"Grade 3","Grade 3 - 5","Hercules is the ultimate mythical hero—this fast-paced, exciting story will keep readers rooting for the heroic Hercules to succeed as the colorful pages bring alive his mythical world. After killing his family in a fit of madness, he strives for redemption through twelve impossible labors. If completed, not only would the gods forgive his terrible actions, but they would also grant him immortality. Action-packed illustrations and accessible content quickly plunge readers into the first two of Hercules’s labors—the killing of the Nemean Lion and beheading of the many-headed hydra.","English",23.95,17.95,"398.20938","24 pp.",{"$f":"Table1[[#This Row],['# Books]]*Table1[[#This Row],[QTY]]","v":0},{"$f":"Table1[[#This Row],[QTY]]*Table1[[#This Row],[S&L Price]]","v":0}]
[null,null,166,null,"Graphic Mythical Heroes",1,"Perseus Slays the Gorgon Medusa","Library Bound Book","978-1-4339-7523-3",2013,"August 2012","Library","6.500 X 9.000","Author","Gary Jeffrey",3.6,0.5,24,22,"L",null,"Grade 3","Grade 3 - 5","In a gripping tale of honor, kings, and unbelievable creatures, the mythical hero Perseus bests his mother’s suitor—the awful King Phineus. Exciting, vivid illustrations drive this graphic novel’s accessible telling of Perseus’s triumph. Armed with knowledge and gifts given to him by the gods, Perseus uses Medusa’s head to turn Phineus into stone and rescue the maiden Andromeda. Readers will enjoy each informational and engaging panel, and applaud the heroic and cunning end.","English",23.95,17.95,"398.20938","24 pp.",{"$f":"Table1[[#This Row],['# Books]]*Table1[[#This Row],[QTY]]","v":0},{"$f":"Table1[[#This Row],[QTY]]*Table1[[#This Row],[S&L Price]]","v":0}]
[null,null,167,null,"Monster Machines",1,"Aircraft Carriers","Library Bound Book","978-1-4339-7159-4",2013,"August 2012","Library","7.000 X 7.000","Author","Kenny Allen",3.4,0.5,16,17,"I",null,"Grade 1 - 2","Grade 1 - 3","Aircraft carriers can carry hundreds of jets and thousands of soldiers at a time, and travel all the way around the world. An aircraft carrier is a ship that is as long as a skyscraper is tall, and is often referred to as a “city at sea”. Inside this book, informative text and vivid photographs take readers on an exciting tour of these awesome monster machines—from the control tower down to the nuclear engine room.","English",22.6,16.95,"623.825/5","24 pp.",{"$f":"Table1[[#This Row],['# Books]]*Table1[[#This Row],[QTY]]","v":0},{"$f":"Table1[[#This Row],[QTY]]*Table1[[#This Row],[S&L Price]]","v":0}]
[null,null,167,null,"Monster Machines",1,"Aircraft Carriers","eBook","978-1-4339-7162-4",2013,"August 2012",null,null,"Author","Kenny Allen",3.4,0.5,16,17,"I",null,"Grade 1 - 2","Grade 1 - 3","Aircraft carriers can carry hundreds of jets and thousands of soldiers at a time, and travel all the way around the world. An aircraft carrier is a ship that is as long as a skyscraper is tall, and is often referred to as a “city at sea”. Inside this book, informative text and vivid photographs take readers on an exciting tour of these awesome monster machines—from the control tower down to the nuclear engine room.","English",22.6,16.95,"623.825/5","24 pp.",{"$f":"Table1[[#This Row],['# Books]]*Table1[[#This Row],[QTY]]","v":0},{"$f":"Table1[[#This Row],[QTY]]*Table1[[#This Row],[S&L Price]]","v":0}]
[null,null,167,null,"Monster Machines",1,"Giant Cranes","Library Bound Book","978-1-4339-7171-6",2013,"August 2012","Library","7.000 X 7.000","Author","Kenny Allen",3.2,0.5,20,19,"J",null,"Grade 1 - 2","Grade 1 - 3","Giant cranes help build enormous structures in our world. Truck-mounted cranes help assemble wind turbines. Tower cranes help build skyscrapers. Gantry cranes help put together oil platforms. Readers will learn about these amazing monster machines and more. The informative text is paired with remarkable, full-color photographs to show readers what it’s like to operate these giant machines.","English",22.6,16.95,"621.8","24 pp.",{"$f":"Table1[[#This Row],['# Books]]*Table1[[#This Row],[QTY]]","v":0},{"$f":"Table1[[#This Row],[QTY]]*Table1[[#This Row],[S&L Price]]","v":0}]
[null,null,167,null,"Monster Machines",1,"Submarines","eBook","978-1-4339-7182-2",2013,"August 2012",null,null,"Author","Kenny Allen",3.1,0.5,20,19,"J",null,"Grade 1 - 2","Grade 1 - 3","Some submarines are over 550 feet long and can dive 1,600 feet deep. The biggest submarine in the world can carry up to 160 crew members and stay underwater for 180 days. Stunning photographs accompany intriguing facts, allowing readers to see these remarkable boats up close—including their giant propellers and their nuclear engines.","English",22.6,16.95,"623.825","24 pp.",{"$f":"Table1[[#This Row],['# Books]]*Table1[[#This Row],[QTY]]","v":0},{"$f":"Table1[[#This Row],[QTY]]*Table1[[#This Row],[S&L Price]]","v":0}]
[null,null,167,null,"Fast Lane: Open-Wheel Racing",1,"Indy Cars","Library Bound Book","978-1-4339-5754-3",2012,"August 2011","Library","8.500 X 8.500","Author","Tyrone Georgiou",4.4000000000000004,0.5,30,24,"M",null,"Grade 2 - 3","Grade 2 - 5","IndyCar might be a US open-wheel racing series, but the races take place on tracks around the world. With cars that can zip along at close to 200 miles per hour, it’s no wonder IndyCar is a popular sport worldwide. Each year, IndyCar fans flock to the “Brickyard” in Indianapolis, Indiana, to watch the exhilarating Indy 500. This book follows IndyCar’s electrifying history and features racing legends, such as A.J. Foyt, Mario Andretti, and Helio Castroneves. The amazing photographs take readers right into the pits for an up-close view of these amazing machines and their courageous drivers.","English",22.6,16.95,"629.228","32 pp.",{"$f":"Table1[[#This Row],['# Books]]*Table1[[#This Row],[QTY]]","v":0},{"$f":"Table1[[#This Row],[QTY]]*Table1[[#This Row],[S&L Price]]","v":0}]
[null,null,167,null,"Fast Lane: Open-Wheel Racing",1,"Karts","Library Bound Book","978-1-4339-5758-1",2012,"August 2011","Library","8.500 X 8.500","Author","Ryan P. Randolph",4.7,0.5,30,24,"M",null,"Grade 2 - 3","Grade 2 - 5","If you think go-karts are just a fun leisure activity, prepare to be amazed. Kart racing has been a competitive motorsport around the world since the 1950s. Kids and adults alike can race these tiny, yet powerful vehicles, on dirt and asphalt tracks. The most powerful racing karts today, known as superkarts, can speed along at close to 160 miles (257 km) per hour! Some top race car drivers, including Michael Schumacher and Tony Stewart, got their start in kart racing when they were kids. Informative text is paired with stunning photographs of karts racers in action.","English",22.6,16.95,"796.7","32 pp.",{"$f":"Table1[[#This Row],['# Books]]*Table1[[#This Row],[QTY]]","v":0},{"$f":"Table1[[#This Row],[QTY]]*Table1[[#This Row],[S&L Price]]","v":0}]
[null,null,167,null,"Fast Lane: Open-Wheel Racing",1,"Sprint Cars","eBook","978-1-4339-5767-3",2012,"August 2011",null,null,"Author","Tyrone Georgiou",4.7,0.5,30,24,"M",null,"Grade 2 - 3","Grade 2 - 5","Fans of sprint car racing know that every race is sure to be exciting. These odd-shaped, yet speedy, cars sprint and slide their way around tracks, throwing dirt and bumping into each other all the way. The first sprint cars, built just after World War I, were stripped-down Model T Fords. Today’s sprint cars are hi-tech machines that travel close to 140 miles (225 km) per hour. Their giant upside down wings help keep their wheels on the track. However, sooner or later, there’s going to be a crash! Readers will love the colorful photographs of these crazy sprint cars in action.","English",22.6,16.95,"796.72","32 pp.",{"$f":"Table1[[#This Row],['# Books]]*Table1[[#This Row],[QTY]]","v":0},{"$f":"Table1[[#This Row],[QTY]]*Table1[[#This Row],[S&L Price]]","v":0}]
[null,null,167,null,"Ultimate Trivia Challenge",1,"Spectacular Space Trivia","Library Bound Book","978-1-4339-8296-5",2014,"August 2013","Library","8.500 X 8.500","Author","Laura Shereda",null,null,30,null,"N",null,"Grade 2 - 3","Grade 2 - 5","Outer space is unbelievably big—and it’s filled with fascinating objects, including planets, moons, stars, and black holes. Trivia fans will enjoy learning spectacular facts about the universe, including where comets come from and how many stars are in the Milky Way. Amazing photographs and drawings of the cosmos’s most far-out sites are sure to keep any reader’s attention and make them want to become space voyagers.","English",25.25,18.95,"520","32 pp.",{"$f":"Table1[[#This Row],['# Books]]*Table1[[#This Row],[QTY]]","v":0},{"$f":"Table1[[#This Row],[QTY]]*Table1[[#This Row],[S&L Price]]","v":0}]
[null,null,167,null,"Ultimate Trivia Challenge",1,"Wild Weather Trivia","Library Bound Book","978-1-4339-8304-7",2014,"August 2013","Library","8.500 X 8.500","Author","Kristin Palmer",null,null,30,null,"N",null,"Grade 2 - 3","Grade 2 - 5","Readers explore the world’s crazy weather, including the fastest winds ever recorded on Earth, the driest location on our planet, the size of the largest hailstone ever found, and many other fun weather facts. Trivia fanatics, as well as budding meteorologists, will be excited to share their new knowledge. Engaging text is paired with amazing photographs of weather phenomena both on and off planet Earth.","English",25.25,18.95,"551.5","32 pp.",{"$f":"Table1[[#This Row],['# Books]]*Table1[[#This Row],[QTY]]","v":0},{"$f":"Table1[[#This Row],[QTY]]*Table1[[#This Row],[S&L Price]]","v":0}]
[null,null,167,null,"Ultimate Trivia Challenge",1,"Wild Weather Trivia","eBook","978-1-4339-8307-8",2014,"August 2013",null,null,"Author","Kristin Palmer",null,null,30,null,"N",null,"Grade 2 - 3","Grade 2 - 5","Readers explore the world’s crazy weather, including the fastest winds ever recorded on Earth, the driest location on our planet, the size of the largest hailstone ever found, and many other fun weather facts. Trivia fanatics, as well as budding meteorologists, will be excited to share their new knowledge. Engaging text is paired with amazing photographs of weather phenomena both on and off planet Earth.","English",25.25,18.95,"551.5","32 pp.",{"$f":"Table1[[#This Row],['# Books]]*Table1[[#This Row],[QTY]]","v":0},{"$f":"Table1[[#This Row],[QTY]]*Table1[[#This Row],[S&L Price]]","v":0}]
[null,null,167,null,"Military Machines",1,"Fighter Jets","Library Bound Book","978-1-4339-8462-4",2013,"January 2013","Library","7.750 X 10.00","Author","Michael Portman",5.7,0.5,40,30,"R",null,"Grade 3 - 4","Grade 3 - 6","Some of the fastest planes in the world can only be found in the US military. Though fighter planes have been used since the aerial dogfights of World War I, today’s jets seem unstoppable. They can slip through radar undetected, carry numerous missiles, and fly faster than the speed of sound. Full-color photographs of these swift military machines enhances the historical and science content. Readers will be continually engaged as they are introduced to the futuristic F-35 and as they learn how a jet engine works.","English",26.6,19.95,"623.74","32 pp.",{"$f":"Table1[[#This Row],['# Books]]*Table1[[#This Row],[QTY]]","v":0},{"$f":"Table1[[#This Row],[QTY]]*Table1[[#This Row],[S&L Price]]","v":0}]
[null,null,167,null,"Military Machines",1,"Spy Planes","eBook","978-1-4339-8475-4",2013,"January 2013",null,null,"Author","Therese M. Shea",6.3,0.5,40,30,"R",null,"Grade 3 - 4","Grade 3 - 6","Today, the US military has spy planes that can fly faster than the speed of sound, take panoramic photographs in the blink of an eye, and fly so high that no bomb can reach them. It’s no wonder they want to keep their technology a secret. Readers take a thrilling peek into the world of secret missions and futuristic tools. They learn about the history of spy planes and the daring pilots that fly them. Accessible content will draw in military enthusiasts and James Bond fans alike. In-depth sidebars augment the text further, and colorful photographs of the latest plane models will engage readers throughout.","English",26.6,19.95,"358.4","32 pp.",{"$f":"Table1[[#This Row],['# Books]]*Table1[[#This Row],[QTY]]","v":0},{"$f":"Table1[[#This Row],[QTY]]*Table1[[#This Row],[S&L Price]]","v":0}]
[null,null,167,null,"Thrill Seekers",1,"Chasing a Tornado","Library Bound Book","978-1-4824-0138-7",2014,"January 2014","Library","7.750 X 10.00","Author","Mark J. Harasymiw",5.8,0.5,38,24,"P",null,"Grade 3 - 4","Grade 3 - 6","Natural disasters like tornadoes destroy, devastate, and alter people's lives forever. Some people chase tornadoes for scientific purposes, while others just want the thrill of facing a twister's dangers. In this book, readers are introduced to the science behind tornadoes and to the people who have risked their lives to help us understand more about them. Graphic organizers and incredible photographs add to this glimpse into one of nature's most terrifying events.","English",26.6,19.95,"551.553","32 pp.",{"$f":"Table1[[#This Row],['# Books]]*Table1[[#This Row],[QTY]]","v":0},{"$f":"Table1[[#This Row],[QTY]]*Table1[[#This Row],[S&L Price]]","v":0}]
[null,null,167,null,"Thrill Seekers",1,"Climbing Mount Everest","Library Bound Book","978-1-4824-0142-4",2014,"January 2014","Library","7.750 X 10.00","Author","Kristen Rajczak Nelson",5.8,0.5,38,24,"P",null,"Grade 3 - 4","Grade 3 - 6","Reaching the summit of Earth's highest peak, Mount Everest, is a feat that most will never realize. However, readers will feel like they're gasping for air alongside the extreme athletes featured in this book. This text fully explores the history of expeditions up Everest as well as the intense training and unavoidable dangers that thrill seekers must face. Astounding achievements are included, such as climbing Everest blind and reaching the peak without oxygen, while breathtaking photographs will transport readers to the top of the world.","English",26.6,19.95,"796.522","32 pp.",{"$f":"Table1[[#This Row],['# Books]]*Table1[[#This Row],[QTY]]","v":0},{"$f":"Table1[[#This Row],[QTY]]*Table1[[#This Row],[S&L Price]]","v":0}]
[null,null,167,null,"Thrill Seekers",1,"Racing the Iditarod","eBook","978-1-4824-6515-0",2014,"January 2014",null,null,"Author","Kristen Rajczak Nelson",null,null,38,24,"P",null,"Grade 3 - 4","Grade 3 - 6","It's hard to fathom what it would be like crossing 1,100 miles (1,770 km) of Alaskan wilderness on a dogsled. The frigid conditions alone would make many adventurers think twice about this challenge. Throw in unexpected encounters with angry moose and dangerous journeys across melting lakes, and readers have an idea of what the remarkable race called the Iditarod is all about. From its heroic beginnings to its most amazing winners, all aspects of this dogsled race are covered with special attention to the real athletes, the dogs!","English",26.6,19.95,"798.8","32 pp.",{"$f":"Table1[[#This Row],['# Books]]*Table1[[#This Row],[QTY]]","v":0},{"$f":"Table1[[#This Row],[QTY]]*Table1[[#This Row],[S&L Price]]","v":0}]
[null,null,167,null,"US Military Forces",1,"Army","Library Bound Book","978-1-4339-5846-5",2012,"August 2011","Library","7.750 X 10.00","Author","Mark J. Harasymiw",6,0.5,38,28,"P",null,"Grade 3 - 4","Grade 3 - 6","The U.S. Army is our oldest military force, and this exciting volume explores its rich history. Established in 1775 and led by General George Washington, the Continental army was formed to fight the British. Throughout U.S. history, many other notable men served in the army, including Presidents Andrew Jackson, Ulysses S. Grant, and Dwight D. Eisenhower. More than 230 years later, the U.S. Army is considered one of the most powerful forces in the world. In addition to protecting U.S. citizens during times of war across the globe, the U.S. Army also comes to the aid of the victims of disasters. The informative text is paired with both modern photographs and historic images.","English",26.6,19.95,"355.00973","32 pp.",{"$f":"Table1[[#This Row],['# Books]]*Table1[[#This Row],[QTY]]","v":0},{"$f":"Table1[[#This Row],[QTY]]*Table1[[#This Row],[S&L Price]]","v":0}]
[null,null,167,null,"US Military Forces",1,"Marine Corps","eBook","978-1-4339-5855-7",2012,"August 2011",null,null,"Author","Michael Portman",6.8,0.5,38,28,"P",null,"Grade 3 - 4","Grade 3 - 6","From the halls of Montezuma to the shores of Tripoli, the U.S. Marine Corps is always ready to protect U.S. citizens. Established during the American Revolution as a naval infantry, the Marine Corps has always been closely associated with the U.S. Navy. Marines played a huge role in capturing South Pacific islands during World War II. Today, the Marine Corps is a major force in the war on terror. In this book, colorful photographs and historic images are paired with informative text to teach readers about the U.S. Marine Corps, from its early days fighting pirates to the latest in hi-tech military weaponry.","English",26.6,19.95,"359.9","32 pp.",{"$f":"Table1[[#This Row],['# Books]]*Table1[[#This Row],[QTY]]","v":0},{"$f":"Table1[[#This Row],[QTY]]*Table1[[#This Row],[S&L Price]]","v":0}]
[null,null,167,null,"US Military Forces",1,"Navy","Library Bound Book","978-1-4339-5858-8",2012,"August 2011","Library","7.750 X 10.00","Author","Jeanne Nagle",6,0.5,38,28,"P",null,"Grade 3 - 4","Grade 3 - 6","In 1898, the U.S. Navy became well known as a superpower after defeating the Spanish Armada during the Spanish-American War. During World War II, US battleships in the South Pacific were an awe-inspiring sight. Today, the U.S. Navy continues to display its nautical strength all over the world. They’ve even helped to capture modern-day pirates off the coasts of Africa and the Middle East. Readers will be amazed by the historic naval images, as well as modern photographs of the massive navy ships that patrol Earth’s oceans and keep U.S. citizens safe.","English",26.6,19.95,"359.00973","32 pp.",{"$f":"Table1[[#This Row],['# Books]]*Table1[[#This Row],[QTY]]","v":0},{"$f":"Table1[[#This Row],[QTY]]*Table1[[#This Row],[S&L Price]]","v":0}]
[null,null,167,null,"US Special Forces",1,"Marine Force Recon","Library Bound Book","978-1-4339-6561-6",2012,"January 2012","Library","7.750 X 10.00","Author","Laura Loria",6.6,0.5,40,30,"Q",null,"Grade 3 - 4","Grade 3 - 6","The US military counts on one specially trained group for reconnaissance all over the world—Marine Force Recon. This important support team has worked behind the scenes of conflicts dating back to World War II. With exciting photographs and information about intelligence gathering, this book delves into the history and missions of Marine Force Recon. Fascinating sidebars will attract young readers, and descriptions of covert operations will keep them engaged.","English",26.6,19.95,"359.9","32 pp.",{"$f":"Table1[[#This Row],['# Books]]*Table1[[#This Row],[QTY]]","v":0},{"$f":"Table1[[#This Row],[QTY]]*Table1[[#This Row],[S&L Price]]","v":0}]
[null,null,167,null,"US Special Forces",1,"Pararescuemen","eBook","978-1-4339-6570-8",2012,"January 2012",null,null,"Author","Mark J. Harasymiw",6.2,0.5,40,30,"Q",null,"Grade 3 - 4","Grade 3 - 6","US Air Force Pararescuemen are part of one of the most important teams in the US Military. These skilled operators perform daring rescues all over the world—and all while evading the enemy. This book will explore the world of the elite Air Force Pararescuemen, including their training as parachutists and participation in recent military missions. Enhanced by exciting photographs of pararescuemen in action, readers will be engaged by the detailed content and captivating sidebars.","English",26.6,19.95,"358.4","32 pp.",{"$f":"Table1[[#This Row],['# Books]]*Table1[[#This Row],[QTY]]","v":0},{"$f":"Table1[[#This Row],[QTY]]*Table1[[#This Row],[S&L Price]]","v":0}]
[null,null,167,null,"Wild Wheels",1,"Dodge Vipers","Library Bound Book","978-1-4339-5822-9",2012,"August 2011","Library","7.750 X 10.00","Author","Bob Power",4.7,0.5,34,28,"O","830L","Grade 3 - 4","Grade 3 - 6","The Dodge Viper was one of the first cars to use the powerful V-10 engine. Today, it’s one of the fastest sports cars around. Including captivating photographs and fascinating information about the Viper’s introduction in the 1990s, this book will appeal to all car enthusiasts who feel a need for speed.","English",26.6,19.95,"629.222","32 pp.",{"$f":"Table1[[#This Row],['# Books]]*Table1[[#This Row],[QTY]]","v":0},{"$f":"Table1[[#This Row],[QTY]]*Table1[[#This Row],[S&L Price]]","v":0}]
[null,null,167,null,"Wild Wheels",1,"Ferraris","Library Bound Book","978-1-4339-5826-7",2012,"August 2011","Library","7.750 X 10.00","Author","Bob Power",4.5,0.5,34,28,"O","790L","Grade 3 - 4","Grade 3 - 6","How fast do you think a Ferrari can go? Fasten your seat belts, the Enzo Ferrari clocks in at 218 miles (350 km) per hour! Founded first as a race car manufacturer, the Ferrari company has been around since the late 1930s. Packed with stunning photographs and lots of interesting information, this fast-paced book shows readers just what high-performance technology can do!","English",26.6,19.95,"629.222","32 pp.",{"$f":"Table1[[#This Row],['# Books]]*Table1[[#This Row],[QTY]]","v":0},{"$f":"Table1[[#This Row],[QTY]]*Table1[[#This Row],[S&L Price]]","v":0}]
[null,null,167,null,"Wild Wheels",1,"Porsches","eBook","978-1-4339-5839-7",2012,"August 2011",null,null,"Author","Heather Moore Niver",5.3,0.5,38,28,"P","920L","Grade 3 - 4","Grade 3 - 6","The first Porsche wowed car lovers in the 1940s. Today, it’s still one of the best-known sports cars on the market. The story of how this independent car company got started is almost as interesting as the cars themselves. Readers will learn about the early days for Porsche, enhanced by amazing photographs and high-octane facts.","English",26.6,19.95,"629.222","32 pp.",{"$f":"Table1[[#This Row],['# Books]]*Table1[[#This Row],[QTY]]","v":0},{"$f":"Table1[[#This Row],[QTY]]*Table1[[#This Row],[S&L Price]]","v":0}]
[null,null,167,null,"Top 10 Worst",1,"Top 10 Worst Vicious Villains","Library Bound Book","978-1-4339-6697-2",2012,"January 2012","Library","7.875 X 10.69","Author, Illustrated by","Jim Pipe, David Antram",5.8,1,40,28,"O",null,"Grade 3 - 5","Grade 3 - 6","Villains are called bandits, highwaymen, or outlaws. They rob, murder, and perform other evil acts for a variety of twisted reasons. This book introduces readers to some of the most notorious villains to ever live. Readers see the bloodstained trail that these men and women have left throughout history, including corrupt Renaissance families and Wild West robbers. Accessible text brings readers face-to-face with incredibly infamous figures, such as the gangster Al Capone and grave robbers Burke and Hare. Vibrant cartoon illustrations accompany these fascinating facts, allowing readers to see the dark side of history in a way that is both enlightening and entertaining.","English",26.6,19.95,"364.1092","32 pp.",{"$f":"Table1[[#This Row],['# Books]]*Table1[[#This Row],[QTY]]","v":0},{"$f":"Table1[[#This Row],[QTY]]*Table1[[#This Row],[S&L Price]]","v":0}]
[null,null,167,null,"Monstrous Myths",1,"Terrible Tales of Ancient Egypt","eBook","978-1-4824-0178-3",2014,"January 2014",null,null,"Illustrated by, Author","Janos Jantner, Clare Hibbert",null,null,40,26,"R",null,"Grade 4 - 5","Grade 4 - 6","The myths of ancient Egypt are peppered with tales of creation, love, family, trickery, and revenge. Readers will love learning about the famous Egyptian gods and goddesses, including Ra, Osiris, Horus, Isis, and Set. Colorful drawings accompany the engaging text, and fact boxes and sidebars highlight even more interesting information. This book, more than just fictional tales, is a glimpse into an essential part of the Egyptian culture.","English",26.6,19.95,"932","32 pp.",{"$f":"Table1[[#This Row],['# Books]]*Table1[[#This Row],[QTY]]","v":0},{"$f":"Table1[[#This Row],[QTY]]*Table1[[#This Row],[S&L Price]]","v":0}]
[null,null,168,null,"Monstrous Myths",1,"Terrible Tales of Ancient Greece","Library Bound Book","978-1-4824-0181-3",2014,"January 2014","Library","8.500 X 11.00","Illustrated by, Author","Janos Jantner, Clare Hibbert",null,null,40,26,"R",null,"Grade 4 - 5","Grade 4 - 6","Before there was Jupiter, there was Zeus. And before there was Venus, there was Aphrodite. The ancient Romans took many of their gods and their legends from Greece. And no wonder, these awesome tales are full of danger, magic, and heroic feats. Readers will love learning how these fantastical stories and characters even have a place in modern times, for example, the Perseus and Andromeda constellations. Jason and the Argonauts, Theseus and the Minotaur, and the Trojan Horse are just some of the thrilling, and even amusing, tales found in this illustrated book.","English",26.6,19.95,"292.13","32 pp.",{"$f":"Table1[[#This Row],['# Books]]*Table1[[#This Row],[QTY]]","v":0},{"$f":"Table1[[#This Row],[QTY]]*Table1[[#This Row],[S&L Price]]","v":0}]
[null,null,168,null,"Monstrous Myths",1,"Terrible Tales of Native America","Library Bound Book","978-1-4824-0190-5",2014,"January 2014","Library","8.500 X 11.00","Illustrated by, Author","Janos Jantner, Clare Hibbert",null,null,40,26,"R",null,"Grade 4 - 5","Grade 4 - 6","The mythology of Native Americans is filled with clever creatures, such as Great Rabbit and Coyote, using their wits to overcome adversity. A reverence for nature, especially animals, is key to understanding these timeless tales. Readers will love the fun way these famous stories are presented, with humor and vivid illustrations. \"Believe it or not!\" boxes offer more facts about Native American cultures.","English",26.6,19.95,"398.2","32 pp.",{"$f":"Table1[[#This Row],['# Books]]*Table1[[#This Row],[QTY]]","v":0},{"$f":"Table1[[#This Row],[QTY]]*Table1[[#This Row],[S&L Price]]","v":0}]
[null,null,168,null,"The Twilight Realm",1,"Aliens","eBook","978-1-4339-8750-2",2013,"January 2013",null,null,"Author","Jim Pipe",6.7,1,50,30,"U",null,"Grade 4 - 5","Grade 4 - 6","Readers learn about visitors from another planet—aliens. They will learn what happened in the New Mexico desert in 1947 and decide for themselves if they believe it was a weather balloon crash, like the government wants you to think, or something more. Readers discover the close encounters earthlings have had with extraterrestrials, through decades of reported incidents. A “twilight quiz” will ask readers what they would do during a UFO encounter.","English",26.6,19.95,"001.942","32 pp.",{"$f":"Table1[[#This Row],['# Books]]*Table1[[#This Row],[QTY]]","v":0},{"$f":"Table1[[#This Row],[QTY]]*Table1[[#This Row],[S&L Price]]","v":0}]
[null,null,168,null,"The Twilight Realm",1,"The Undead","Library Bound Book","978-1-4339-8759-5",2013,"January 2013","Library","8.500 X 10.50","Author","Jim Pipe",6.8,1,50,30,"U",null,"Grade 4 - 5","Grade 4 - 6","The world of the supernatural is full of mysteries. Readers will explore the world of the undead and discover the origin of vampires and why people fear them so much. Topics such as how to kill a vampire, how to keep vampires away, and more are brought to light. In this interesting exploration of the undead, reader’s gain knowledge that will keep them safe—even on the darkest of nights.","English",26.6,19.95,"398","32 pp.",{"$f":"Table1[[#This Row],['# Books]]*Table1[[#This Row],[QTY]]","v":0},{"$f":"Table1[[#This Row],[QTY]]*Table1[[#This Row],[S&L Price]]","v":0}]
[null,null,168,null,"Creepy Chronicles",1,"Beyond the Grave","Library Bound Book","978-1-4824-0226-1",2014,"January 2014","Library","8.000 X 10.00","Authors","Barbara Cox, Scott Forbes",null,null,40,28,"S",null,"Grade 5 - 6","Grade 5 - 8","Ghoulish beings are just waiting to pop out of this book, which is chock full of terrifying tales of demons, headless horsemen, and more. With zombies becoming increasingly popular on TV and at the movies, readers will love learning about the origin of the \"undead.\" And since many fantasy creatures come from mythologies around the world, this book, with its hair-raising illustrations and photographs, is a fun exploration of various cultures as well as the just plain spooky!     ","English",26.6,19.95,"133.1","32 pp.",{"$f":"Table1[[#This Row],['# Books]]*Table1[[#This Row],[QTY]]","v":0},{"$f":"Table1[[#This Row],[QTY]]*Table1[[#This Row],[S&L Price]]","v":0}]
[null,null,168,null,"Creepy Chronicles",1,"Haunted Homes","eBook","978-1-4824-0231-5",2014,"January 2014",null,null,"Authors","Barbara Cox, Scott Forbes",null,null,40,28,"S",null,"Grade 5 - 6","Grade 5 - 8","Everyone knows about nightmares, but they might not know that a \"night mare\" is a demon in Norse mythology that sits on a person's chest and makes them have frightening dreams. That's pretty scary! Readers will be thrilled to learn about more supernatural beings known to haunt homes and terrify people, such as poltergeists and even vampires. The only things spookier than these tales are the imaginative illustrations that make these creatures seem almost real.","English",26.6,19.95,"133.1","32 pp.",{"$f":"Table1[[#This Row],['# Books]]*Table1[[#This Row],[QTY]]","v":0},{"$f":"Table1[[#This Row],[QTY]]*Table1[[#This Row],[S&L Price]]","v":0}]
[null,null,168,null,"Creepy Chronicles",1,"Wicked Waters","Library Bound Book","978-1-4824-0262-9",2014,"January 2014","Library","8.000 X 10.00","Authors","Barbara Cox, Scott Forbes",null,null,40,28,"S",null,"Grade 5 - 6","Grade 5 - 8","Some legends just won't go away. The Loch Ness Monster, ghost ships, and even sea serpents have been sighted again and again. Could this be because they aren't just stories? It's up to readers to decide as they delve into this guide to the creatures that lurk in the deep. Besides legends, they'll learn about famed figures of mythology such as Scylla and Charybdis. This high-interest text will be sure to thrill, and perhaps make readers think twice about diving into unknown waters!","English",26.6,19.95,"001.9","32 pp.",{"$f":"Table1[[#This Row],['# Books]]*Table1[[#This Row],[QTY]]","v":0},{"$f":"Table1[[#This Row],[QTY]]*Table1[[#This Row],[S&L Price]]","v":0}]
[null,null,168,null,"Measure Up Math",1,"Area","eBook","978-1-4339-7436-6",2013,"August 2012",null,null,"Author","Chris Woodford",null,null,30,26,"K",null,"Grade 4","Grade 4 - 6","In order to build a house or paint a room, builders must know an important measuring concept: finding area. Using accessible explanations and illustrations, readers will be introduced to the simple formula for finding area using length and height. Strategies to solve finding area of irregular shapes as well as simple squares and triangles are discussed, including concepts such as pi and measuring a pie. Fun math problems featured throughout encourage readers to apply what they've learned. Budding contractors can then put their new knowledge to work in a fun concluding activity.","English",26.6,19.95,"516","32 pp.",{"$f":"Table1[[#This Row],['# Books]]*Table1[[#This Row],[QTY]]","v":0},{"$f":"Table1[[#This Row],[QTY]]*Table1[[#This Row],[S&L Price]]","v":0}]
[null,null,168,null,"Measure Up Math",1,"Distance","Library Bound Book","978-1-4339-7437-3",2013,"August 2012","Library","8.000 X 10.00","Author","Chris Woodford",null,null,30,26,"K",null,"Grade 4","Grade 4 - 6","While the ancient Romans had a hand—and foot—in creating our present system of measuring distance, modern technology has taken the idea much further. Today, scientists can measure insects we can’t see with the naked eye, and even specks of dust, using nanotechnology. Readers will learn about this and other exciting facts, all while exploring distance measurement and the tools used to calculate it. Colorful illustrations accompany both everyday and out-of-this-world topics about distance, such as measuring at sea and in space. Inset math challenges are included throughout, and a concluding activity challenges readers to apply what they've learned.","English",26.6,19.95,"530.8","32 pp.",{"$f":"Table1[[#This Row],['# Books]]*Table1[[#This Row],[QTY]]","v":0},{"$f":"Table1[[#This Row],[QTY]]*Table1[[#This Row],[S&L Price]]","v":0}]
[null,null,168,null,"Measure Up Math",1,"Speed","Library Bound Book","978-1-4339-7445-8",2013,"August 2012","Library","8.000 X 10.00","Author","Chris Woodford",null,null,30,26,"K",null,"Grade 4","Grade 4 - 6","For short bursts, cheetahs can reach a running speed of approximately 70 miles per hour. Readers will learn how to measure this incredible speed through a thorough explanation of a simple formula. Relatable examples and math problems accompanied by colorful photos and illustrations will guide readers through imperial and metric units as well as key speed measurement concepts such as acceleration and rotation. A fun concluding activity will coach readers through measuring their own speed—and they’ll be running to check their times against exciting facts in the book.","English",26.6,19.95,"531","32 pp.",{"$f":"Table1[[#This Row],['# Books]]*Table1[[#This Row],[QTY]]","v":0},{"$f":"Table1[[#This Row],[QTY]]*Table1[[#This Row],[S&L Price]]","v":0}]
[null,null,168,null,"Measure Up Math",1,"Time","eBook","978-1-4339-7456-4",2013,"August 2012",null,null,"Author","Chris Woodford",null,null,30,26,"J",null,"Grade 4","Grade 4 - 6","There are many units with which to measure time, including seconds, hours, days, and even decades. Clocks and calendars make it easier to see time pass, but time is always moving even when we aren’t measuring it. Beginning with the sundials of the ancient Egyptians, readers will learn much more than just how to measure time. Simple explanations of time zones and the inner workings of classic and modern timepieces accompany brief introductions to some of the greatest scientists to study time. Engaging questions and a hands-on activity guide them through this important math concept.","English",26.6,19.95,"681.1","24 pp.",{"$f":"Table1[[#This Row],['# Books]]*Table1[[#This Row],[QTY]]","v":0},{"$f":"Table1[[#This Row],[QTY]]*Table1[[#This Row],[S&L Price]]","v":0}]
[null,null,168,null,"Animal Groups",1,"A Float of Crocodiles","Library Bound Book","978-1-4339-8194-4",2013,"January 2013","Library","7.000 X 7.000","Author","Karlie Gambino",2.9,0.5,16,15,"I",null,"Grade 1 - 2","Grade 1 - 3","Crocodiles are intelligent and social animals that communicate in many ways. A group of crocodiles in water is called a float, and a group on land is called a bask. They are masters at hiding in water and waiting for an unlucky animal to wander by. Readers discover many fun facts about what life is like in a group of crocodiles and see colorful, up-close photographs of the fierce reptiles in their natural habitat. Accessible text and a helpful graphic organizer allow readers to independently explore the fascinating lives of these amazing animals.","English",22.6,16.95,"597.98/2","24 pp.",{"$f":"Table1[[#This Row],['# Books]]*Table1[[#This Row],[QTY]]","v":0},{"$f":"Table1[[#This Row],[QTY]]*Table1[[#This Row],[S&L Price]]","v":0}]
[null,null,168,null,"Animal Groups",1,"A Kangaroo Mob","Library Bound Book","978-1-4339-8199-9",2013,"January 2013","Library","7.000 X 7.000","Author","Juliet Burke",2.6,0.5,16,15,"I",null,"Grade 1 - 2","Grade 1 - 3","Readers discover engaging, fun, and fascinating facts about kangaroos. Kangaroos are social animals that live in groups called mobs. Except for an occasional boxing match, kangaroos live happily with each other. The vibrant photographs in this book show different species of kangaroos grazing, resting in the shade, and raising their young. Accessible text and a detailed graphic organizer guide readers as they learn how kangaroos grow up and what life is like living in a mob, in Australia.","English",22.6,16.95,"599.2/2","24 pp.",{"$f":"Table1[[#This Row],['# Books]]*Table1[[#This Row],[QTY]]","v":0},{"$f":"Table1[[#This Row],[QTY]]*Table1[[#This Row],[S&L Price]]","v":0}]
[null,null,168,null,"Animal Groups",1,"A Murder of Crows","eBook","978-1-4339-8207-1",2013,"January 2013",null,null,"Author","Greg Roza",3,0.5,18,17,"J","710L","Grade 1 - 2","Grade 1 - 3","Readers find out what life is like for a murder of crows through the help of accessible text and eye-catching photographs. Crows are some of the smartest animals on the planet. They can remember people’s faces and warn each other of danger. Some crows even know how to use simple tools. These fascinating facts and more are waiting to be discovered by readers. A useful graphic organizer provides additional information about these amazing animals.","English",22.6,16.95,"598.8","24 pp.",{"$f":"Table1[[#This Row],['# Books]]*Table1[[#This Row],[QTY]]","v":0},{"$f":"Table1[[#This Row],[QTY]]*Table1[[#This Row],[S&L Price]]","v":0}]
[null,null,168,null,"Animal Groups",1,"A Prickle of Porcupines","Library Bound Book","978-1-4339-8219-4",2013,"January 2013","Library","7.000 X 7.000","Author","Lincoln James",2.8,0.5,18,17,"J","700L","Grade 1 - 2","Grade 1 - 3","Porcupines are brown, prickly, and climb trees. Readers explore life in a group of porcupines inside the pages of this educational and enjoyable book. When a group of porcupines gets together, they’re called a prickle. Porcupines often have a bad reputation as dangerous creatures, but they usually just want to be left alone. Thanks to numerous eye-catching photographs, readers get closer to porcupines than ever before. They also learn fascinating facts about prickles of porcupines through accessible text and a helpful graphic organizer.","English",22.6,16.95,"599.35","24 pp.",{"$f":"Table1[[#This Row],['# Books]]*Table1[[#This Row],[QTY]]","v":0},{"$f":"Table1[[#This Row],[QTY]]*Table1[[#This Row],[S&L Price]]","v":0}]
[null,null,168,null,"Creatures of the Night",1,"Bobcats in the Dark","eBook","978-1-4339-6365-0",2013,"August 2012",null,null,"Author","Therese M. Shea",2.6,0.5,20,19,"J","570L","Grade 1 - 2","Grade 1 - 3","Bobcats look like big housecats, as readers will see in the up-close photographs provided in this book. But these hunters won’t curl up on your lap! They’re much more interested in hiding in trees or behind bushes watching for their next unsuspecting meal. Readers will learn much more about these furry nocturnal animals and the special ways they have adapted to living in the wild.","English",22.6,16.95,"599.75","24 pp.",{"$f":"Table1[[#This Row],['# Books]]*Table1[[#This Row],[QTY]]","v":0},{"$f":"Table1[[#This Row],[QTY]]*Table1[[#This Row],[S&L Price]]","v":0}]
[null,null,168,null,"Creatures of the Night",1,"Foxes in the Dark","Library Bound Book","978-1-4339-6368-1",2013,"August 2012","Library","7.000 X 7.000","Author","Adeline Zubek",2.8,0.5,16,17,"J","630L","Grade 1 - 2","Grade 1 - 3","Readers learn about various kinds of foxes, as their differences are descriptively noted in the text. The differences in these nocturnal creatures are further shown with carefully chosen photographs. Whether it’s the arctic fox, gray fox, or red fox, these bushy-tailed animals have special adaptations that help them survive wherever they call home.","English",22.6,16.95,"599.775","24 pp.",{"$f":"Table1[[#This Row],['# Books]]*Table1[[#This Row],[QTY]]","v":0},{"$f":"Table1[[#This Row],[QTY]]*Table1[[#This Row],[S&L Price]]","v":0}]
[null,null,168,null,"Creatures of the Night",1,"Raccoons in the Dark","Library Bound Book","978-1-4339-6376-6",2013,"August 2012","Library","7.000 X 7.000","Author","Jack O'Mara",2.8,0.5,20,19,"I",null,"Grade 1 - 2","Grade 1 - 3","Raccoons are called “nature’s bandits” for some very good reasons. The black “mask” over their eyes and their talent at stealing food are just two. These nocturnal animals can be found nearly everywhere, even your backyard. In this book, readers will learn much more about raccoons, such as how they survive the winter and how they take care of their young. Colorful photographs emphasize the many fascinating behaviors of the raccoon.","English",22.6,16.95,"599.76","24 pp.",{"$f":"Table1[[#This Row],['# Books]]*Table1[[#This Row],[QTY]]","v":0},{"$f":"Table1[[#This Row],[QTY]]*Table1[[#This Row],[S&L Price]]","v":0}]
[null,null,168,null,"Nature's Super Secrets",1,"How Do Eggs Hatch?","eBook","978-1-4339-8163-0",2013,"January 2013",null,null,"Author","Elena Hobbes",null,null,14,13,"H","500L","Grade 1 - 2","Grade 1 - 3","Readers journey inside the egg—one of nature’s most intriguing and compact mysteries. Easy to understand text and full-color photographs give a detailed explanation of every step of egg development. Beginning readers will learn everything about the hatching process, from the parts of an egg to how chicks break out of their shells. This text, with its engaging language and supplemental charts, will have readers looking at eggs in a whole new light.","English",22.6,16.95,"636.5","24 pp.",{"$f":"Table1[[#This Row],['# Books]]*Table1[[#This Row],[QTY]]","v":0},{"$f":"Table1[[#This Row],[QTY]]*Table1[[#This Row],[S&L Price]]","v":0}]
[null,null,168,null,"Nature's Super Secrets",1,"Why Do Animals Hibernate?","Library Bound Book","978-1-4339-8175-3",2013,"January 2013","Library","7.000 X 7.000","Author","Michael Ulinski",null,null,14,13,"H","540L","Grade 1 - 2","Grade 1 - 3","With easy to understand information and fun facts scattered throughout the text, readers will learn everything they need to know about hibernation, from how animals prepare to what happens when they sleep. Full-color photographs accompany the text and give readers a glimpse into the hibernators’ natural environments. A colorful infographic reinforces the information, delighting readers with its additional learning opportunity.","English",22.6,16.95,"591.56","24 pp.",{"$f":"Table1[[#This Row],['# Books]]*Table1[[#This Row],[QTY]]","v":0},{"$f":"Table1[[#This Row],[QTY]]*Table1[[#This Row],[S&L Price]]","v":0}]
[null,null,168,null,"Nature's Super Secrets",1,"Why Do Animals Hibernate?","eBook","978-1-4339-8178-4",2013,"January 2013",null,null,"Author","Michael Ulinski",null,null,14,13,"H","540L","Grade 1 - 2","Grade 1 - 3","With easy to understand information and fun facts scattered throughout the text, readers will learn everything they need to know about hibernation, from how animals prepare to what happens when they sleep. Full-color photographs accompany the text and give readers a glimpse into the hibernators’ natural environments. A colorful infographic reinforces the information, delighting readers with its additional learning opportunity.","English",22.6,16.95,"591.56","24 pp.",{"$f":"Table1[[#This Row],['# Books]]*Table1[[#This Row],[QTY]]","v":0},{"$f":"Table1[[#This Row],[QTY]]*Table1[[#This Row],[S&L Price]]","v":0}]
[null,null,168,null,"Simple Machine Science",1,"Inclined Planes","eBook","978-1-4339-8134-0",2013,"January 2013",null,null,"Author","Hope Collander",null,null,16,15,"I",null,"Grade 1 - 2","Grade 1 - 3","If you need to move something heavy from one height to another, you need an inclined plane. These simple machines help us go up, and they help us go down. Moving vans use them, and so do people in wheelchairs. Inclined planes can also help us keep a door open and let us do skateboarding tricks at the skate park. Accessible text and vivid photographs help readers understand this essential science topic. A helpful graphic organizer and a useful glossary allow readers to easily navigate this book, making it a reading experience that is both educational and engaging.","English",22.6,16.95,"621.8","24 pp.",{"$f":"Table1[[#This Row],['# Books]]*Table1[[#This Row],[QTY]]","v":0},{"$f":"Table1[[#This Row],[QTY]]*Table1[[#This Row],[S&L Price]]","v":0}]
[null,null,168,null,"Simple Machine Science",1,"Pulleys","Library Bound Book","978-1-4339-8141-8",2013,"January 2013","Library","7.000 X 7.000","Author","Marie Miller",null,null,18,17,"J","660L","Grade 1 - 2","Grade 1 - 3","Readers learn all about pulleys—the simple machines that help lift heavy objects. Pulleys are also used to change the direction of a pulling motion. If you’ve sent a flag up a flagpole, you’ve used a pulley. The science behind pulleys is explained through accessible text, including a helpful glossary of important terms. Vibrant photographs allow readers to see firsthand how these simple machines work, and a graphic organizer provides important facts in an eye-catching way. This book presents essential science concepts through creative methods, engaging readers.","English",22.6,16.95,"621.8","24 pp.",{"$f":"Table1[[#This Row],['# Books]]*Table1[[#This Row],[QTY]]","v":0},{"$f":"Table1[[#This Row],[QTY]]*Table1[[#This Row],[S&L Price]]","v":0}]
[null,null,168,null,"Simple Machine Science",1,"Wedges","eBook","978-1-4339-8154-8",2013,"January 2013",null,null,"Author","Greg Roza",null,null,16,15,"I",null,"Grade 1 - 2","Grade 1 - 3","Wedges are very useful simple machines. Some wedges, such as axes and knives, help us split things apart. Others, such as nails and pins, help us keep things together. Readers discover the science behind wedges in an educational and engaging way. Accessible text is presented alongside detailed photographs, helping readers independently learn fun facts about how wedges work and the ways we use them every day. A graphic organizer and glossary enhance the reading experience, allowing readers to explore essential science concepts in a thorough and enjoyable manner.","English",22.6,16.95,"621.8","24 pp.",{"$f":"Table1[[#This Row],['# Books]]*Table1[[#This Row],[QTY]]","v":0},{"$f":"Table1[[#This Row],[QTY]]*Table1[[#This Row],[S&L Price]]","v":0}]
[null,null,168,null,"Simple Machine Science",1,"Wheels and Axles","Library Bound Book","978-1-4339-8156-2",2013,"January 2013","Library","7.000 X 7.000","Author","Daisy Allyn",null,null,16,15,"I",null,"Grade 1 - 2","Grade 1 - 3","If you ride a bicycle or a skateboard, or if own roller skates, you use wheels and axles. Readers discover the science behind these important simple machines. It’s hard to go anywhere in our world today without seeing wheels and axles at work. Cars and trucks use these to take people to work and school every day. Tractors and wagons on farms have wheels and axles, too. Manageable text and vivid photographs help readers understand this basic science topic. A comprehensive glossary and a useful graphic organizer accompany the concepts presented, which aid readers in navigating this fun and fact-filled book.","English",22.6,16.95,"621.8","24 pp.",{"$f":"Table1[[#This Row],['# Books]]*Table1[[#This Row],[QTY]]","v":0},{"$f":"Table1[[#This Row],[QTY]]*Table1[[#This Row],[S&L Price]]","v":0}]
[null,null,168,null,"The Incredible World of Insects",1,"Incredible Bees","Library Bound Book","978-1-4339-4575-5",2012,"August 2011","Library","7.000 X 7.000","Author","Susan Ashley",1.9,0.5,16,15,"I",null,"Grade 1 - 2","Grade 1 - 3","What do bees use to make honey? What kinds of jobs do different bees have in their hives? Readers will find the answers to these and many more questions. They will learn how bees buzz through the air, eat, and even lay their eggs. Detailed photographs show bees hard at work inside and outside the hive.","English",22.6,16.95,"595.79","24 pp.",{"$f":"Table1[[#This Row],['# Books]]*Table1[[#This Row],[QTY]]","v":0},{"$f":"Table1[[#This Row],[QTY]]*Table1[[#This Row],[S&L Price]]","v":0}]
[null,null,169,null,"The Incredible World of Insects",1,"Incredible Grasshoppers","eBook","978-1-4339-4590-8",2012,"August 2011",null,null,"Author","Susan Ashley",2,0.5,16,15,"I",null,"Grade 1 - 2","Grade 1 - 3","Did you know that grasshoppers can sing? This amazing fact and many more can be found in this informative book. Readers will explore the world of  these insects that can jump over 20 times their length and hide in the grass for protection from their enemies. Detailed photographs show the different parts of grasshoppers’ bodies and different stages in their life cycles.","English",22.6,16.95,"595.7","24 pp.",{"$f":"Table1[[#This Row],['# Books]]*Table1[[#This Row],[QTY]]","v":0},{"$f":"Table1[[#This Row],[QTY]]*Table1[[#This Row],[S&L Price]]","v":0}]
[null,null,169,null,"Killer Snakes",1,"Copperhead","Library Bound Book","978-1-4339-5627-0",2012,"August 2011","Library","7.000 X 7.000","Author","Victoria Braidich",3.4,0.5,16,15,"I","770L","Grade 2","Grade 1 - 3","Named for its reddish-brown head, the copperhead is the most common venomous snake in the eastern and central United States. In fact, in the United States, more people are bitten by copperheads than by any other venomous snake. Readers learn that it’s easy to accidentally surprise these snakes because they like to hide in leaves and rocks, and sometimes even in people’s backyards. Informative text paired with vibrant photographs of this reptile help readers become copperhead experts.","English",22.6,16.95,"597.96","24 pp.",{"$f":"Table1[[#This Row],['# Books]]*Table1[[#This Row],[QTY]]","v":0},{"$f":"Table1[[#This Row],[QTY]]*Table1[[#This Row],[S&L Price]]","v":0}]
[null,null,169,null,"Killer Snakes",1,"Copperhead","eBook","978-1-4339-5628-7",2012,"August 2011",null,null,"Author","Victoria Braidich",3.4,0.5,16,15,"I","770L","Grade 2","Grade 1 - 3","Named for its reddish-brown head, the copperhead is the most common venomous snake in the eastern and central United States. In fact, in the United States, more people are bitten by copperheads than by any other venomous snake. Readers learn that it’s easy to accidentally surprise these snakes because they like to hide in leaves and rocks, and sometimes even in people’s backyards. Informative text paired with vibrant photographs of this reptile help readers become copperhead experts.","English",22.6,16.95,"597.96","24 pp.",{"$f":"Table1[[#This Row],['# Books]]*Table1[[#This Row],[QTY]]","v":0},{"$f":"Table1[[#This Row],[QTY]]*Table1[[#This Row],[S&L Price]]","v":0}]
[null,null,169,null,"Killer Snakes",1,"Egyptian Cobra","eBook","978-1-4339-5644-7",2012,"August 2011",null,null,"Author","Jessica O'Donnell",3.1,0.5,16,15,"I",null,"Grade 2","Grade 1 - 3","The Egyptian cobra is one of the most historic snakes in Africa—and one of the most deadly. Many historians believe it’s the “asp” that fatally bit the Egyptian queen, Cleopatra, thousands of years ago. Today, this exotic slitherer is the favorite dancing partner for snake charmers. This engaging book is packed with interesting facts about Egyptian cobras, as well as vibrant photographs of these hooded snakes on the attack.","English",22.6,16.95,"597.96","24 pp.",{"$f":"Table1[[#This Row],['# Books]]*Table1[[#This Row],[QTY]]","v":0},{"$f":"Table1[[#This Row],[QTY]]*Table1[[#This Row],[S&L Price]]","v":0}]
[null,null,169,null,"Animal Attack!",1,"Hunting with Bald Eagles","Library Bound Book","978-1-4339-7063-4",2013,"August 2012","Library","8.500 X 8.500","Author","Paige Thurnherr",4.2,0.5,28,24,"L",null,"Grade 2 - 3","Grade 2 - 5","The bald eagle is one of the most beautiful and majestic animals in the world. With sharp talons, a hooked beak, and powerful wings, bald eagles are deadly hunters and always ready to attack. Engaging text is paired with amazing photographs of bald eagles soaring, diving, and attacking. Readers of all ages are sure to enjoy flying along with bald eagles on the hunt.  ","English",22.6,16.95,"598.9","24 pp.",{"$f":"Table1[[#This Row],['# Books]]*Table1[[#This Row],[QTY]]","v":0},{"$f":"Table1[[#This Row],[QTY]]*Table1[[#This Row],[S&L Price]]","v":0}]
[null,null,169,null,"Animal Attack!",1,"Hunting with Great Horned Owls","eBook","978-1-4339-7074-0",2013,"August 2012",null,null,"Author","Ivi Frick",4.2,0.5,28,24,"L",null,"Grade 2 - 3","Grade 2 - 5","The horned owl is a deadly hunter with superior vision and hearing. It roosts on high branches at night, waiting for mice, squirrels, rabbits, and other prey to wander out into the open. Then the owl swoops down silently, snatching the prey with its sharp talons. Readers discover exciting details about the life of the great horned owl as accessible language is paired with incredible photographs of these beautiful hunters.","English",22.6,16.95,"598.9","32 pp.",{"$f":"Table1[[#This Row],['# Books]]*Table1[[#This Row],[QTY]]","v":0},{"$f":"Table1[[#This Row],[QTY]]*Table1[[#This Row],[S&L Price]]","v":0}]
[null,null,169,null,"Animal Attack!",1,"Hunting with Great White Sharks","Library Bound Book","978-1-4339-7075-7",2013,"August 2012","Library","8.500 X 8.500","Author","Hunter Reynolds",4.5,0.5,34,24,"M",null,"Grade 2 - 3","Grade 2 - 5","Great white sharks are commonly given colorful yet scary names. The truth is, great white sharks would much rather dine on other fish than people. Great whites are natural-born hunters with excellent senses. These giant killers can smell a single drop of blood in 25 gallons of water. With amazing close-up photographs of great whites in their natural surroundings, readers are sure to enjoy learning about these ruthless hunters.","English",22.6,16.95,"597.3","32 pp.",{"$f":"Table1[[#This Row],['# Books]]*Table1[[#This Row],[QTY]]","v":0},{"$f":"Table1[[#This Row],[QTY]]*Table1[[#This Row],[S&L Price]]","v":0}]
[null,null,169,null,"Animal Attack!",1,"Hunting with Hawks","Library Bound Book","978-1-4824-0486-9",2014,"January 2014","Library","8.500 X 8.500","Author","Grace Vail",4.3,0.5,24,20,"L",null,"Grade 2 - 3","Grade 2 - 5","Hawks have a reputation for being keen-eyed hunters. That's where the expression \"hawkeyed\" comes from. These carnivores are often flying high above the earth or sitting still on a towering perch, waiting for movement below. This book allows readers to take flight with many different kinds of hawks. They'll learn the difference between the two groups of hawks, ambushing and soaring, and the adaptations that make each exceptional predators. Fun facts and vivid photographs bring to light the unique features of these birds of prey.","English",22.6,16.95,"598.944","32 pp.",{"$f":"Table1[[#This Row],['# Books]]*Table1[[#This Row],[QTY]]","v":0},{"$f":"Table1[[#This Row],[QTY]]*Table1[[#This Row],[S&L Price]]","v":0}]
[null,null,169,null,"Animal Attack!",1,"Hunting with Killer Whales","eBook","978-1-4824-6543-3",2014,"January 2014",null,null,"Author","E. T. Weingarten",4.5,0.5,24,20,"L",null,"Grade 2 - 3","Grade 2 - 5","Killer whales are actually a kind of dolphin. They got their name when sailors witnessed some killing a whale long ago. Despite their deadly name, people have little to fear from these sea mammals. However, fish, seals, walruses, and even other killer whales have to watch out. These specially camouflaged creatures are huge and often hungry. Readers of this fact-packed book will learn how killer whales hunt in groups called pods, use echolocation to find their way, and why they're often called the \"wolves of the ocean.\"","English",22.6,16.95,"599.536","24 pp.",{"$f":"Table1[[#This Row],['# Books]]*Table1[[#This Row],[QTY]]","v":0},{"$f":"Table1[[#This Row],[QTY]]*Table1[[#This Row],[S&L Price]]","v":0}]
[null,null,169,null,"Animal Attack!",1,"Hunting with Polar Bears","Library Bound Book","978-1-4824-0526-2",2014,"January 2014","Library","8.500 X 8.500","Author","Maeve T. Sisk",4.0999999999999996,0.5,24,20,"L",null,"Grade 2 - 3","Grade 2 - 5","A polar bear must be patient to get its favorite meal: the ringed seal. It often lays besides a seal's breathing hole waiting for it to pop up for a breath. The tricky seal makes many breathing holes in the ice, though. Readers learn other ways that these big lumbering bears, the largest land predators, hunt for food in their frozen homes. A map, graphic organizer, and fact boxes make this book a valuable guide for future Arctic explorers.","English",22.6,16.95,"599.786","24 pp.",{"$f":"Table1[[#This Row],['# Books]]*Table1[[#This Row],[QTY]]","v":0},{"$f":"Table1[[#This Row],[QTY]]*Table1[[#This Row],[S&L Price]]","v":0}]
[null,null,169,null,"Animal Attack!",1,"Hunting with Polar Bears","eBook","978-1-4824-0528-6",2014,"January 2014",null,null,"Author","Maeve T. Sisk",4.0999999999999996,0.5,24,20,"L",null,"Grade 2 - 3","Grade 2 - 5","A polar bear must be patient to get its favorite meal: the ringed seal. It often lays besides a seal's breathing hole waiting for it to pop up for a breath. The tricky seal makes many breathing holes in the ice, though. Readers learn other ways that these big lumbering bears, the largest land predators, hunt for food in their frozen homes. A map, graphic organizer, and fact boxes make this book a valuable guide for future Arctic explorers.","English",22.6,16.95,"599.786","24 pp.",{"$f":"Table1[[#This Row],['# Books]]*Table1[[#This Row],[QTY]]","v":0},{"$f":"Table1[[#This Row],[QTY]]*Table1[[#This Row],[S&L Price]]","v":0}]
[null,null,169,null,"Animals at Risk",1,"Pandas in Danger","eBook","978-1-4339-5799-4",2012,"August 2011",null,null,"Author","Michael Portman",4.9000000000000004,0.5,20,24,"L",null,"Grade 2 - 3","Grade 2 - 5","Cute and playful creatures, pandas are one of the most beloved animals in the world. The only wild pandas live deep in the forests of China. That country’s growing population is a great threat to the small number of remaining pandas. Deforestation, food shortages, and illegal hunting all play roles in endangering pandas today. Readers will learn about pandas, cubs, and what they need to survive in their habitats through a thoughtful narrative supported by fact boxes and graphic organizers. Colorful photographs reveal the beauty of the unique creatures that desperately need our help.","English",22.6,16.95,"333.95","24 pp.",{"$f":"Table1[[#This Row],['# Books]]*Table1[[#This Row],[QTY]]","v":0},{"$f":"Table1[[#This Row],[QTY]]*Table1[[#This Row],[S&L Price]]","v":0}]
[null,null,169,null,"Animals at Risk",1,"Rhinos in Danger","Library Bound Book","978-1-4339-9159-2",2014,"August 2013","Library","8.500 X 8.500","Author","Lydia Snyder",4,0.5,24,20,"L",null,"Grade 2 - 3","Grade 2 - 5","Don't get in a rhino's way. A charging rhino is one of the most dangerous animals in the world. And it may only attack because it can't see well. Rhinos are named for their horns, but tragically these horns are the reason all rhino species are threatened or endangered today. Poachers kill the huge beasts for these trophies. Only about 50 Javan rhinos are left. Readers will be inspired to take action to keep these and other rhinos from becoming extinct.","English",22.6,16.95,"599.66","24 pp.",{"$f":"Table1[[#This Row],['# Books]]*Table1[[#This Row],[QTY]]","v":0},{"$f":"Table1[[#This Row],[QTY]]*Table1[[#This Row],[S&L Price]]","v":0}]
[null,null,169,null,"Animals at Risk",1,"Sea Turtles in Danger","eBook","978-1-4339-5803-8",2012,"August 2011",null,null,"Author","Michael Portman",4.8,0.5,20,24,"L",null,"Grade 2 - 3","Grade 2 - 5","Sea turtles swim thousands of miles each year to lay eggs on the same beach where they themselves once hatched. Despite such tenacity, these reptiles face difficult odds to survive. In this book, readers will discover the many dangers facing sea turtles, including fishing, predators, and pollution. They’ll also learn of efforts to diminish these threats and what they can do to help. Vibrant photographs of these beautiful creatures emphasize their fascinating lives and behaviors.","English",22.6,16.95,"597.92","24 pp.",{"$f":"Table1[[#This Row],['# Books]]*Table1[[#This Row],[QTY]]","v":0},{"$f":"Table1[[#This Row],[QTY]]*Table1[[#This Row],[S&L Price]]","v":0}]
[null,null,169,null,"Animals at Risk",1,"Snow Leopards in Danger","Library Bound Book","978-1-4339-9174-5",2014,"August 2013","Library","8.500 X 8.500","Author","Sofia Maimone",3.9,0.5,24,20,"L",null,"Grade 2 - 3","Grade 2 - 5"," Some people call snow leopards \"ghost cats\" because of their mysterious, elusive natures. Found only in the mountain regions of Asia, snow leopards are sleek big cats, able to jump from one precipice to the next in search of prey. Their beautiful fur makes them a target for poachers, unfortunately. However, conservation groups today are working hard to make sure these endangered big cats don't disappear forever. This book gives readers a glimpse into the life of snow leopards and the dangers they experience. ","English",22.6,16.95,"599.75","32 pp.",{"$f":"Table1[[#This Row],['# Books]]*Table1[[#This Row],[QTY]]","v":0},{"$f":"Table1[[#This Row],[QTY]]*Table1[[#This Row],[S&L Price]]","v":0}]
[null,null,169,null,"Animals at Risk",1,"Tigers in Danger","eBook","978-1-4339-5811-3",2012,"August 2011",null,null,"Author","Michael Portman",5.0999999999999996,0.5,20,24,"L",null,"Grade 2 - 3","Grade 2 - 5","They’re powerful, fierce carnivores . . . and they need our help. Tigers are in very real danger of extinction. Hundreds of years of people hunting tigers and destroying their habitats have drastically reduced their numbers. Now, several countries and wildlife groups have teamed up to save the remaining tigers prowling the forests of Asia. This volume is filled with vivid photographs and fun fact boxes, helping readers learn about the six subspecies of tigers, their behaviors, and the recent efforts to save them.","English",22.6,16.95,"599.756","32 pp.",{"$f":"Table1[[#This Row],['# Books]]*Table1[[#This Row],[QTY]]","v":0},{"$f":"Table1[[#This Row],[QTY]]*Table1[[#This Row],[S&L Price]]","v":0}]
[null,null,169,null,"Can You Imagine?",1,"Being a Bullfrog","eBook","978-1-4339-9859-1",2014,"January 2014",null,null,"Author","Jagger Youssef",null,null,24,20,"L","780L","Grade 2 - 3","Grade 2 - 5","A little imagination puts the reader in the body of a bullfrog in this fun and engaging book. They'll picture themselves capturing bugs for dinner with their sticky tongue and hibernating through winter at the bottom of a muddy pond. The stages of a bullfrog's life are highlighted in vivid photographs and colorful images in this fact-filled hop through the interesting days of a bullfrog.","English",25.25,18.95,"597.892","32 pp.",{"$f":"Table1[[#This Row],['# Books]]*Table1[[#This Row],[QTY]]","v":0},{"$f":"Table1[[#This Row],[QTY]]*Table1[[#This Row],[S&L Price]]","v":0}]
[null,null,169,null,"Can You Imagine?",1,"Being a Toucan","Library Bound Book","978-1-4824-0130-1",2014,"January 2014","Library","8.500 X 8.500","Author","Katherine Ponka",4.2,0.5,24,20,"L","600L","Grade 2 - 3","Grade 2 - 5","Vibrant, playful toucans are beautiful birds to watch at the zoo, or, even better, in the rainforests of Central and South America. If readers can't be in either of these places, this book is the next best thing. Each page asks the reader to imagine themselves living the wild life of the colorful toucan. They will picture themselves with long bills and a funny way of eating. They will imagine sleeping in a tree hollow and even sword fighting another toucan with their bill. Fun text and science concepts are a great combination in this look at a toucan's life.","English",25.25,18.95,"598.72","24 pp.",{"$f":"Table1[[#This Row],['# Books]]*Table1[[#This Row],[QTY]]","v":0},{"$f":"Table1[[#This Row],[QTY]]*Table1[[#This Row],[S&L Price]]","v":0}]
[null,null,169,null,"Can You Imagine?",1,"Being a Toucan","eBook","978-1-4824-6502-0",2014,"January 2014",null,null,"Author","Katherine Ponka",4.2,0.5,24,20,"L","600L","Grade 2 - 3","Grade 2 - 5","Vibrant, playful toucans are beautiful birds to watch at the zoo, or, even better, in the rainforests of Central and South America. If readers can't be in either of these places, this book is the next best thing. Each page asks the reader to imagine themselves living the wild life of the colorful toucan. They will picture themselves with long bills and a funny way of eating. They will imagine sleeping in a tree hollow and even sword fighting another toucan with their bill. Fun text and science concepts are a great combination in this look at a toucan's life.","English",25.25,18.95,"598.72","24 pp.",{"$f":"Table1[[#This Row],['# Books]]*Table1[[#This Row],[QTY]]","v":0},{"$f":"Table1[[#This Row],[QTY]]*Table1[[#This Row],[S&L Price]]","v":0}]
[null,null,169,null,"Electrified!",1,"Conductors and Insulators","Library Bound Book","978-1-4339-8389-4",2013,"January 2013","Library","8.500 X 8.500","Author","C. O. Shea",null,null,34,28,"O",null,"Grade 2 - 3","Grade 2 - 5","Without conductors and insulators, we wouldn't have MP3 players, laptops, televisions, or any other kind of electrical device. Electricity needs conductors to travel and insulators to contain it. These materials are integral in the harnessing of electrical power. In this accessible text, readers will learn what materials can be classified as conductors and insulators, as well as how they work together in devices. Semiconductors, plasmas, and their applications are also introduced.","English",22.6,16.95,"621.3","24 pp.",{"$f":"Table1[[#This Row],['# Books]]*Table1[[#This Row],[QTY]]","v":0},{"$f":"Table1[[#This Row],[QTY]]*Table1[[#This Row],[S&L Price]]","v":0}]
[null,null,169,null,"Electrified!",1,"How Does a Battery Work?","eBook","978-1-4339-8402-0",2013,"January 2013",null,null,"Author","Rosie Wilson",null,null,34,28,"O",null,"Grade 2 - 3","Grade 2 - 5","Batteries are amazing little bundles of energy. We rarely think about how they work when we use them in devices. This book explains how batteries convert chemical energy into electrical energy and how they power so many things in our world. Readers also learn, through this accessible text, about different types of batteries and the importance of recycling these energy sources.","English",22.6,16.95,"621.31","24 pp.",{"$f":"Table1[[#This Row],['# Books]]*Table1[[#This Row],[QTY]]","v":0},{"$f":"Table1[[#This Row],[QTY]]*Table1[[#This Row],[S&L Price]]","v":0}]
[null,null,169,null,"Electrified!",1,"Pioneers of Electricity","eBook","978-1-4339-8411-2",2013,"January 2013",null,null,"Author","Eileen McWilliams",null,null,34,28,"O",null,"Grade 2 - 3","Grade 2 - 5","Many scientists over the years have added to our understanding of electricity. As far back as ancient Greece when Thales recorded the effects of static electricity. Readers are provided accounts of the most important contributions to the study of electricity through accessible text. Ben Franklin's kite, Thomas Edison's light bulb, and Alessandro Volta's battery are just a few of the featured experiments. Readers will not only learn about these inventive people but also what they taught us about the fascinating properties of electricity.","English",22.6,16.95,"537.092","24 pp.",{"$f":"Table1[[#This Row],['# Books]]*Table1[[#This Row],[QTY]]","v":0},{"$f":"Table1[[#This Row],[QTY]]*Table1[[#This Row],[S&L Price]]","v":0}]
[null,null,169,null,"Electrified!",1,"What Is a Circuit?","Library Bound Book","978-1-4339-8414-3",2013,"January 2013","Library","8.500 X 8.500","Author","E. T. Weingarten",null,null,34,28,"O",null,"Grade 2 - 3","Grade 2 - 5","One of the most essential concepts of physical science is the electrical circuit. Through accessible text, illustrations, and full-color photographs readers will learn about the key elements in a circuit, how electricity travels, and what happens when something goes wrong. They'll also discover that circuits are everywhere, including their MP3 players and their alarm clocks.","English",22.6,16.95,"621.319","24 pp.",{"$f":"Table1[[#This Row],['# Books]]*Table1[[#This Row],[QTY]]","v":0},{"$f":"Table1[[#This Row],[QTY]]*Table1[[#This Row],[S&L Price]]","v":0}]
[null,null,169,null,"Fossilized!",1,"Human Fossils","eBook","978-1-4339-6413-8",2013,"August 2012",null,null,"Author","Kathleen Connors",5.8,0.5,30,26,"K","900L","Grade 2 - 3","Grade 2 - 5","Lucy, Ardi, and Ida are the most famous fossils of human ancestors. Readers will meet these three as well as learn about how human fossils form. Detailed photographs and fascinating fact boxes enhance accessible information about the incredible connection between humans and other animals, including apes and even lemurs. This book will engage budding paleoanthropologists with its fun look at a unique aspect of human history.","English",22.6,16.95,"569.9","24 pp.",{"$f":"Table1[[#This Row],['# Books]]*Table1[[#This Row],[QTY]]","v":0},{"$f":"Table1[[#This Row],[QTY]]*Table1[[#This Row],[S&L Price]]","v":0}]
[null,null,169,null,"Fossilized!",1,"Petrified Forests","eBook","978-1-4339-6421-3",2013,"August 2012",null,null,"Author","Kathleen Connors",5.5,0.5,30,26,"K","940L","Grade 2 - 3","Grade 2 - 5","The beautiful fossilized wood of petrified forests can be found all over the United States. Readers will be amazed at the full-color photographs that dramatically capture one of nature’s greatest wonders. Interesting fact boxes and information about real petrified forests further enhance the easy-to-read content about how these spectacular forests formed. ","English",22.6,16.95,"561","24 pp.",{"$f":"Table1[[#This Row],['# Books]]*Table1[[#This Row],[QTY]]","v":0},{"$f":"Table1[[#This Row],[QTY]]*Table1[[#This Row],[S&L Price]]","v":0}]
[null,null,169,null,"Great Big Dogs",1,"German Shepherds","Library Bound Book","978-1-4339-5770-3",2012,"August 2011","Library","8.500 X 8.500","Author","Kristen Rajczak Nelson",4.5999999999999996,0.5,20,24,"L",null,"Grade 2 - 3","Grade 2 - 5","From farm work to therapy, German shepherds have been working closely with people for many years. In this book, readers learn how the breed got started as well as how the breed has remained important in police and military work today. Photographs and fun facts enhance detailed information that is sure to delight dog lovers everywhere. ","English",22.6,16.95,"636.737","24 pp.",{"$f":"Table1[[#This Row],['# Books]]*Table1[[#This Row],[QTY]]","v":0},{"$f":"Table1[[#This Row],[QTY]]*Table1[[#This Row],[S&L Price]]","v":0}]
[null,null,169,null,"Great Big Dogs",1,"German Shepherds","eBook","978-1-4339-5771-0",2012,"August 2011",null,null,"Author","Kristen Rajczak Nelson",4.5999999999999996,0.5,20,24,"L",null,"Grade 2 - 3","Grade 2 - 5","From farm work to therapy, German shepherds have been working closely with people for many years. In this book, readers learn how the breed got started as well as how the breed has remained important in police and military work today. Photographs and fun facts enhance detailed information that is sure to delight dog lovers everywhere. ","English",22.6,16.95,"636.737","24 pp.",{"$f":"Table1[[#This Row],['# Books]]*Table1[[#This Row],[QTY]]","v":0},{"$f":"Table1[[#This Row],[QTY]]*Table1[[#This Row],[S&L Price]]","v":0}]
[null,null,170,null,"Great Big Dogs",1,"Labrador Retrievers","Library Bound Book","978-1-4339-5782-6",2012,"August 2011","Library","8.500 X 8.500","Author","Maria Nelson",3.7,0.5,20,24,"L",null,"Grade 2 - 3","Grade 2 - 5","The Labrador Retriever is one of the most popular dog breeds in the United States. It’s easy to see why in this book which showcases these lovable dogs in full-color photographs. Readers will learn about the history of Labs as well as the breed’s friendly, fun personality. No bones about it, dog lovers won’t be able to get enough.","English",22.6,16.95,"636.752","24 pp.",{"$f":"Table1[[#This Row],['# Books]]*Table1[[#This Row],[QTY]]","v":0},{"$f":"Table1[[#This Row],[QTY]]*Table1[[#This Row],[S&L Price]]","v":0}]
[null,null,170,null,"Great Big Dogs",1,"St. Bernards","eBook","978-1-4339-5791-8",2012,"August 2011",null,null,"Author","Maria Nelson",3.8,0.5,20,24,"L",null,"Grade 2 - 3","Grade 2 - 5","The Saint Bernard is thought to have gotten its name from its early history spent helping travelers in the Saint Bernard Pass in the Swiss Alps. These longtime rescue dogs supposedly saved over 2,000 people in their centuries serving in the mountains. Readers will learn more about this intelligent, lovable breed in this book. Including beautiful photographs and detailed information about owning a Saint, this book will fascinate any dog lover.","English",22.6,16.95,"636.73","24 pp.",{"$f":"Table1[[#This Row],['# Books]]*Table1[[#This Row],[QTY]]","v":0},{"$f":"Table1[[#This Row],[QTY]]*Table1[[#This Row],[S&L Price]]","v":0}]
[null,null,170,null,"Horsing Around",1,"Arabian Horses","eBook","978-1-4339-6461-9",2012,"January 2012",null,null,"Author","Barbara M. Linde",4.3,0.5,28,24,"M",null,"Grade 2 - 3","Grade 2 - 5","The Arabian horse is known for its beauty. With its tail held high, it seems proud of its appearance. These horses hold a special place in the history of the Middle East. They were bred carefully for swiftness and endurance in a hot desert environment. Many years later, others discovered the value of the Arabian horse. Even George Washington had a prized Arabian. In this book, vivid photos and fun facts highlight the most admired features of this beloved breed.","English",22.6,16.95,"636.112","24 pp.",{"$f":"Table1[[#This Row],['# Books]]*Table1[[#This Row],[QTY]]","v":0},{"$f":"Table1[[#This Row],[QTY]]*Table1[[#This Row],[S&L Price]]","v":0}]
[null,null,170,null,"Horsing Around",1,"Clydesdales","Library Bound Book","978-1-4339-6464-0",2012,"January 2012","Library","8.500 X 8.500","Author","Barbara M. Linde",4,0.5,24,24,"L",null,"Grade 2 - 3","Grade 2 - 5","Bred in Scotland, Clydesdales are some of the largest and most powerful horses in the world. They’re often seen working in teams to pull wagons and plows. These animals are also called “gentle giants.” Readers will learn much about this breed and see the characteristics that make Clydesdales stand out among horses in the full-color photographs this book provides. Easy-to-follow text makes learning about the many jobs of a Clydesdale, from pulling competitions to TV commercials, assessable to the most reluctant of readers. ","English",22.6,16.95,"636.15","24 pp.",{"$f":"Table1[[#This Row],['# Books]]*Table1[[#This Row],[QTY]]","v":0},{"$f":"Table1[[#This Row],[QTY]]*Table1[[#This Row],[S&L Price]]","v":0}]
[null,null,170,null,"Horsing Around",1,"Shetland Ponies","eBook","978-1-4339-6473-2",2012,"January 2012",null,null,"Author","Kristen Rajczak Nelson",3.9,0.5,28,24,"L",null,"Grade 2 - 3","Grade 2 - 5","Shetland ponies are popular as pets and for use with beginning riders. These animals were originally bred for harsh weather and hard work on the Shetland Islands. Through the years, the ponies kept their shaggy coats and easy-to-train nature. Today’s Shetland ponies are even used as service animals. Pony lovers will find out how these small horses became the special breed they are today. Specially chosen photographs spotlight the Shetland pony’s unique qualities.","English",22.6,16.95,"636.1","24 pp.",{"$f":"Table1[[#This Row],['# Books]]*Table1[[#This Row],[QTY]]","v":0},{"$f":"Table1[[#This Row],[QTY]]*Table1[[#This Row],[S&L Price]]","v":0}]
[null,null,170,null,"Killer Cats",1,"Bobcats","eBook","978-1-4339-6998-0",2013,"August 2012",null,null,"Author","A. J. Grucella",3.5,0.5,28,24,"L",null,"Grade 2 - 3","Grade 2 - 5","They may look like large house cats, but bobcats are really wild, carnivorous animals. There are approximately 1 million bobcats that live throughout North America, but they usually stay a good distance from humans. Readers get a chance to see these expert hunters in action, through eye-catching photographs taken in their native habitats. Engaging text supports elementary science curriculum. A graphic organizer is included to reinforce key concepts.","English",22.6,16.95,"599.75","24 pp.",{"$f":"Table1[[#This Row],['# Books]]*Table1[[#This Row],[QTY]]","v":0},{"$f":"Table1[[#This Row],[QTY]]*Table1[[#This Row],[S&L Price]]","v":0}]
[null,null,170,null,"Killer Cats",1,"Lions","Library Bound Book","978-1-4339-7007-8",2013,"August 2012","Library","8.500 X 8.500","Author","Therese M. Shea",3.7,0.5,28,24,"L",null,"Grade 2 - 3","Grade 2 - 5","Lions have long held the title of the “king of beasts”. Readers will decide for themselves if these killer cats truly deserve the label after being presented with numerous facts and engaging information. In the action-packed photographs, lions look the part of mighty animals. They roam their habitats without fear, letting out impressive roars to caution their enemies and to celebrate a successful hunt. Readers will also examine the fascinating social lives of lions in their pride.","English",22.6,16.95,"599.757","24 pp.",{"$f":"Table1[[#This Row],['# Books]]*Table1[[#This Row],[QTY]]","v":0},{"$f":"Table1[[#This Row],[QTY]]*Table1[[#This Row],[S&L Price]]","v":0}]
[null,null,170,null,"Killer Cats",1,"Lions","eBook","978-1-4339-7010-8",2013,"August 2012",null,null,"Author","Therese M. Shea",3.7,0.5,28,24,"L",null,"Grade 2 - 3","Grade 2 - 5","Lions have long held the title of the “king of beasts”. Readers will decide for themselves if these killer cats truly deserve the label after being presented with numerous facts and engaging information. In the action-packed photographs, lions look the part of mighty animals. They roam their habitats without fear, letting out impressive roars to caution their enemies and to celebrate a successful hunt. Readers will also examine the fascinating social lives of lions in their pride.","English",22.6,16.95,"599.757","24 pp.",{"$f":"Table1[[#This Row],['# Books]]*Table1[[#This Row],[QTY]]","v":0},{"$f":"Table1[[#This Row],[QTY]]*Table1[[#This Row],[S&L Price]]","v":0}]
[null,null,170,null,"Nature's Creepiest Creatures",1,"Creepy Amphibians","Library Bound Book","978-1-4339-6481-7",2012,"January 2012","Library","8.500 X 8.500","Author","Nicole Shea",4,0.5,20,22,"L","570L","Grade 2 - 3","Grade 2 - 5","Readers will learn all about the weird things amphibians do, including how some mother frogs birth their babies from under the skin on their back and that a salamander can re-grow its tail.  In-depth descriptions of amphibious life and freaky fact boxes will engage young readers as detailed, colorful photographs creep around each page turn. A fun fact chart and helpful glossary will add to each reader’s experience.","English",22.6,16.95,"597.8","24 pp.",{"$f":"Table1[[#This Row],['# Books]]*Table1[[#This Row],[QTY]]","v":0},{"$f":"Table1[[#This Row],[QTY]]*Table1[[#This Row],[S&L Price]]","v":0}]
[null,null,170,null,"Nature's Creepiest Creatures",1,"Creepy Bugs","eBook","978-1-4339-6490-9",2012,"January 2012",null,null,"Author","Nicole Shea",4.2,0.5,20,22,"L","630L","Grade 2 - 3","Grade 2 - 5","Household pests and huge, exotic insects, bugs are some of nature’s creepiest creatures—especially when seen up close in the detailed photographs of this book. Readers will see a mother spider wasp make dinner for her children and a praying mantis ready to strike. Interesting information about the way these bizarre bugs live will only amplify the freaky photographs. Fun fact boxes and a chart of insect record holders will help readers learn even more about the fascinating world of creepy bugs.","English",22.6,16.95,"595.7","24 pp.",{"$f":"Table1[[#This Row],['# Books]]*Table1[[#This Row],[QTY]]","v":0},{"$f":"Table1[[#This Row],[QTY]]*Table1[[#This Row],[S&L Price]]","v":0}]
[null,null,170,null,"Nature's Creepiest Creatures",1,"Creepy Reptiles","eBook","978-1-4339-6498-5",2012,"January 2012",null,null,"Author","Therese M. Shea",4.4000000000000004,0.5,20,22,"L","580L","Grade 2 - 3","Grade 2 - 5","Crocodiles hide underneath the water, waiting to strike unsuspecting prey. Boas squeeze the life out of their dinner. Detailed, colorful photographs of these and many more creepy reptiles accompany freaky facts to help young readers learn all about the life of a reptile. Fascinating fact boxes and a chart featuring information about different kinds of reptiles will further connect readers to the swamp and river homes of some of the world’s creepiest creatures.","English",22.6,16.95,"597.9","24 pp.",{"$f":"Table1[[#This Row],['# Books]]*Table1[[#This Row],[QTY]]","v":0},{"$f":"Table1[[#This Row],[QTY]]*Table1[[#This Row],[S&L Price]]","v":0}]
[null,null,170,null,"Nature's Creepiest Creatures",1,"Creepy Sea Creatures","Library Bound Book","978-1-4339-6501-2",2012,"January 2012","Library","8.500 X 8.500","Author","Nicole Shea",4.4000000000000004,0.5,20,22,"L","630L","Grade 2 - 3","Grade 2 - 5","The depths of the ocean are home to some creepy creatures that rarely see daylight. Packed with eerie information, this book will shed light on deep-sea life miles below the ocean’s surface. Detailed photographs of fish with dangling eyes and razor-sharp teeth will enhance the freaky fact boxes and accessible content.   ","English",22.6,16.95,"591.77","24 pp.",{"$f":"Table1[[#This Row],['# Books]]*Table1[[#This Row],[QTY]]","v":0},{"$f":"Table1[[#This Row],[QTY]]*Table1[[#This Row],[S&L Price]]","v":0}]
[null,null,170,null,"Nature's Light Show",1,"Lightning","eBook","978-1-4339-7026-9",2013,"August 2012",null,null,"Author","Kristen Rajczak Nelson",null,null,28,24,"L",null,"Grade 2 - 3","Grade 2 - 5","When lightning strikes, it’s never quiet—that’s because lighting causes thunder. Fun facts capture readers’ attention as they take in this scientific detail. Readers learn how lightning forms as well as the truth about common myths. Learning tools are provided throughout the text, including detailed diagrams to aid in the understanding of this striking phenomenon. Fun fact boxes engage readers, and stunning photographs of lightning enhance science content.","English",22.6,16.95,"551.56/32","24 pp.",{"$f":"Table1[[#This Row],['# Books]]*Table1[[#This Row],[QTY]]","v":0},{"$f":"Table1[[#This Row],[QTY]]*Table1[[#This Row],[S&L Price]]","v":0}]
[null,null,170,null,"Nature's Light Show",1,"The Northern Lights","Library Bound Book","978-1-4339-7027-6",2013,"August 2012","Library","8.500 X 8.500","Author","Kristen Rajczak Nelson",null,null,34,24,"M",null,"Grade 2 - 3","Grade 2 - 5","People have been observing the northern lights for thousands of years. The ancient peoples thought the lights could mean the coming of war; scientists today know the lights are natural occurrences. Readers learn what causes the aurora borealis in engaging and age-appropriate language. Stunning photographs of the colorful phenomenon enhance science content, while fun fact boxes add even more captivating information.","English",22.6,16.95,"538","24 pp.",{"$f":"Table1[[#This Row],['# Books]]*Table1[[#This Row],[QTY]]","v":0},{"$f":"Table1[[#This Row],[QTY]]*Table1[[#This Row],[S&L Price]]","v":0}]
[null,null,170,null,"Rare and Precious Metals",1,"Chromium","eBook","978-1-4824-0488-3",2014,"January 2014",null,null,"Author","Greg Roza",5.0999999999999996,0.5,30,22,"N",null,"Grade 2 - 3","Grade 2 - 5","Chromium isn't the most well-known metal, but it's very useful. In fact, chromium could even be called a supermetal. Chromium makes other metals better. From mining chromium to the making of chromium alloys, this book, a complement to any science curriculum, is a valuable look at this precious element. Vivid photographs, detailed captions, and \"Metal Mania\" fact boxes inform readers about the importance of chromium.","English",22.6,16.95,"546.532","24 pp.",{"$f":"Table1[[#This Row],['# Books]]*Table1[[#This Row],[QTY]]","v":0},{"$f":"Table1[[#This Row],[QTY]]*Table1[[#This Row],[S&L Price]]","v":0}]
[null,null,170,null,"Rare and Precious Metals",1,"Gold","eBook","978-1-4824-0502-6",2014,"January 2014",null,null,"Author","Therese M. Shea",4.5,0.5,30,22,"N",null,"Grade 2 - 3","Grade 2 - 5","Eye-catching gold has been valuable to people throughout history. This thoughtful text addresses why that is. Gold's qualities as a metal is explored as well as the mining and refining process, all key concepts in the elementary science curriculum. Gold's many uses, including in medicine and space technology, is also examined. Glittery photographs and a graphic organizer accompany the text in this look at a fascinating metal.","English",22.6,16.95,"669.22","24 pp.",{"$f":"Table1[[#This Row],['# Books]]*Table1[[#This Row],[QTY]]","v":0},{"$f":"Table1[[#This Row],[QTY]]*Table1[[#This Row],[S&L Price]]","v":0}]
[null,null,170,null,"Rare and Precious Metals",1,"Titanium","Library Bound Book","978-1-4824-0518-7",2014,"January 2014","Library","8.500 X 8.500","Author","Greg Roza",5.4,0.5,34,22,"O",null,"Grade 2 - 3","Grade 2 - 5","Titanium's reputation as a strong metal is well earned. Surprisingly, it's also very light, which makes it an essential component of many planes and jets. This book is an accessible entry into the world of metals and their qualities. Readers will learn what defines a metal and what makes titanium stand out as a rare and precious metal. Including many interesting photographs, information boxes, and even a graphic organizer highlighting titanium's many features, this volume is an important addition to any science library.","English",22.6,16.95,"546","24 pp.",{"$f":"Table1[[#This Row],['# Books]]*Table1[[#This Row],[QTY]]","v":0},{"$f":"Table1[[#This Row],[QTY]]*Table1[[#This Row],[S&L Price]]","v":0}]
[null,null,170,null,"Really Wild Reptiles",1,"Chameleons","eBook","978-1-4339-8362-7",2013,"January 2013",null,null,"Author","Kathleen Connors",4.2,0.5,24,20,"L",null,"Grade 2 - 3","Grade 2 - 5","Known for their incredible color-changing abilities, chameleons seem to be an elusive lizard. However, these quick-change artists are also deadly predators with some amazing features. Readers will enter the world of the chameleon, discovering the secret of their color changes through accessible science content and fact boxes full of more wild information. Colorful photographs will give readers close-ups of the chameleon.","English",22.6,16.95,"597.95","24 pp.",{"$f":"Table1[[#This Row],['# Books]]*Table1[[#This Row],[QTY]]","v":0},{"$f":"Table1[[#This Row],[QTY]]*Table1[[#This Row],[S&L Price]]","v":0}]
[null,null,170,null,"Really Wild Reptiles",1,"Geckos","eBook","978-1-4339-8367-2",2013,"January 2013",null,null,"Author","Kathleen Connors",3.9,0.5,24,20,"L",null,"Grade 2 - 3","Grade 2 - 5","To some people around the world, the gecko is just another household pest. To others, geckos are household pets. This book introduces readers to all kinds of geckos, including the wild web-footed gecko of Africa’s Namib Desert and the tokay gecko living in the tank at the pet store. While they learn fascinating science facts about the gecko life cycle, readers will enjoy full-color photographs of these cool reptiles walking on ceilings and smelling with their tongues. Fascinating fact boxes will grab future herpetologists and lovers of all things scaly—just like a gecko’s “sticky” feet grab a tree branch.","English",22.6,16.95,"597.95","24 pp.",{"$f":"Table1[[#This Row],['# Books]]*Table1[[#This Row],[QTY]]","v":0},{"$f":"Table1[[#This Row],[QTY]]*Table1[[#This Row],[S&L Price]]","v":0}]
[null,null,170,null,"Really Wild Reptiles",1,"Iguanas","Library Bound Book","978-1-4339-8374-0",2013,"January 2013","Library","8.500 X 8.500","Author","Kathleen Connors",4.2,0.5,24,20,"L",null,"Grade 2 - 3","Grade 2 - 5","The biggest iguanas can be up to seven feet long. While that sounds like an awfully large lizard, iguanas aren’t a threat to humans—or anything else but plants. Readers are introduced to the life of this popular pet in the wild through detailed content about an iguana’s life cycle, and learn about the many kinds living in the Americas. Cool, full-color photographs of iguanas in their natural habitats will keep readers fascinated while absorbing science content on every page.","English",22.6,16.95,"597.95","24 pp.",{"$f":"Table1[[#This Row],['# Books]]*Table1[[#This Row],[QTY]]","v":0},{"$f":"Table1[[#This Row],[QTY]]*Table1[[#This Row],[S&L Price]]","v":0}]
[null,null,170,null,"Really Wild Reptiles",1,"Snapping Turtles","eBook","978-1-4339-8387-0",2013,"January 2013",null,null,"Author","Kathleen Connors",4.0999999999999996,0.5,24,20,"L",null,"Grade 2 - 3","Grade 2 - 5","When left alone, snapping turtles don’t do much except look for food and bask in shallow water. But if they feel threatened, these huge reptiles may snap—and they have a powerful bite. Including their commonly aggressive nature and the differences between the common snapper and the alligator snapper, readers are introduced to a wild animal they could actually encounter. Fun fact boxes add to achievable content, while colorful photographs help readers recognize the “dinosaur of the turtle world.”","English",22.6,16.95,"597.92","24 pp.",{"$f":"Table1[[#This Row],['# Books]]*Table1[[#This Row],[QTY]]","v":0},{"$f":"Table1[[#This Row],[QTY]]*Table1[[#This Row],[S&L Price]]","v":0}]
[null,null,170,null,"Small But Deadly",1,"Deadly Mosquitoes","Library Bound Book","978-1-4339-5738-3",2012,"August 2011","Library","8.500 X 8.500","Author","Abigail Richter",5.3,0.5,30,28,"N",null,"Grade 2 - 3","Grade 2 - 5","Most people know mosquitoes are small, annoying bloodsuckers, but many children don’t know that they can also be deadly. One tiny mosquito can transport illnesses from person to person, making them one of the most dangerous insects in the world. This informative book explains how mosquitoes grow, how females find human blood to help lay their eggs, and the types of diseases they carry. Amazing close-up photographs take readers into the miniature world of the mosquito.","English",22.6,16.95,"614.4","32 pp.",{"$f":"Table1[[#This Row],['# Books]]*Table1[[#This Row],[QTY]]","v":0},{"$f":"Table1[[#This Row],[QTY]]*Table1[[#This Row],[S&L Price]]","v":0}]
[null,null,170,null,"Small But Deadly",1,"Deadly Poison Dart Frogs","eBook","978-1-4339-5743-7",2012,"August 2011",null,null,"Author","Lincoln James",4.0999999999999996,0.5,30,24,"M",null,"Grade 2 - 3","Grade 2 - 5","Poison dart frogs are cute and tiny. They come in many eye-catching colors. These colors, however, aren’t meant to make them attractive. The bright colors tell other animals that they shouldn’t try to eat them. These vibrant amphibians are covered with a deadly poison that makes predators very sick. It’s so strong that some Native American tribes even used it to make poison darts for hunting. Readers will surely enjoy getting up close to these small but deadly poison dart frogs.","English",22.6,16.95,"597.87","32 pp.",{"$f":"Table1[[#This Row],['# Books]]*Table1[[#This Row],[QTY]]","v":0},{"$f":"Table1[[#This Row],[QTY]]*Table1[[#This Row],[S&L Price]]","v":0}]
[null,null,170,null,"Small But Deadly",1,"Deadly Pufferfish","eBook","978-1-4339-5747-5",2012,"August 2011",null,null,"Author","Autumn Leigh",4,0.5,30,28,"N",null,"Grade 2 - 3","Grade 2 - 5","At rest, the pufferfish looks like a regular fish, but when it’s alarmed, watch out! Pufferfish quickly suck in water or air to blow up like a balloon. Many also have sharp spines for protection. These two defenses chase away most enemies. However, the pufferfish also produces one of the deadliest poisons in the world. Eating even a tiny amount of pufferfish is enough to kill many animals, even humans. Amazing photographs allow readers to swim in for a close-up view of these deadly creatures.","English",22.6,16.95,"597","32 pp.",{"$f":"Table1[[#This Row],['# Books]]*Table1[[#This Row],[QTY]]","v":0},{"$f":"Table1[[#This Row],[QTY]]*Table1[[#This Row],[S&L Price]]","v":0}]
[null,null,170,null,"Space Mysteries",1,"Could an Asteroid Harm Earth?","Library Bound Book","978-1-4339-8267-5",2013,"January 2013","Library","8.500 X 8.500","Author","Michael Portman",null,null,30,22,"N",null,"Grade 2 - 3","Grade 2 - 5","An asteroid plummeting to Earth seems extremely unlikely, no wonder several movies have used it as a plot. But asteroids, comets, and meteorites do fall to Earth every day. In recent years, none have been of a significant enough size to cause great damage. However, it is theorized that a space object was responsible for the extinction of dinosaurs 65 million years ago. Readers will explore whether or not such an event could threaten life on Earth again, learn how scientists monitor asteroids and other space objects, and learn some theoretical plans to avoid a global catastrophe.","English",25.25,18.95,"363.34","32 pp.",{"$f":"Table1[[#This Row],['# Books]]*Table1[[#This Row],[QTY]]","v":0},{"$f":"Table1[[#This Row],[QTY]]*Table1[[#This Row],[S&L Price]]","v":0}]
[null,null,170,null,"Space Mysteries",1,"How Are Stars Born?","eBook","978-1-4339-9221-6",2014,"August 2013",null,null,"Author","Greg Roza",null,null,30,22,"N",null,"Grade 2 - 3","Grade 2 - 5","The night sky seems so constant. In reality, stars are being born, burning, and dying all the time. There's just so many of them, and they're so far away that we barely notice without the help of sophisticated scientific tools such as the Hubble Space Telescope. In this book, budding astronomers will learn about the life cycle of a star. They'll read how stars differ and how our sun compares to some of these stars. Incredible, colorful photographs and thought-provoking text will ignite imaginations.","English",25.25,18.95,"523.8","32 pp.",{"$f":"Table1[[#This Row],['# Books]]*Table1[[#This Row],[QTY]]","v":0},{"$f":"Table1[[#This Row],[QTY]]*Table1[[#This Row],[S&L Price]]","v":0}]
[null,null,170,null,"Space Mysteries",1,"How Long Will the Sun Last?","eBook","978-1-4339-9226-1",2014,"August 2013",null,null,"Author","Michael Sabatino",null,null,30,22,"N",null,"Grade 2 - 3","Grade 2 - 5","Our sun is our constant companion, giving us a seemingly endless supply of light, heat, and energy. But it will have an end. Like all stars, the sun had a beginning, and it will die, too. This book details how this will happen and the likely effects the sun's end will have on Earth. Readers learn how gravity and nuclear fusion work together in the birth and death of stars. This captivating glimpse into the far, far future will awe enthusiasts of astronomy.","English",25.25,18.95,"523.7","32 pp.",{"$f":"Table1[[#This Row],['# Books]]*Table1[[#This Row],[QTY]]","v":0},{"$f":"Table1[[#This Row],[QTY]]*Table1[[#This Row],[S&L Price]]","v":0}]
[null,null,171,null,"Space Mysteries",1,"What Is a Black Hole?","Library Bound Book","978-1-4339-9228-5",2014,"August 2013","Library","8.500 X 8.500","Author","Greg Roza",null,null,30,22,"N",null,"Grade 2 - 3","Grade 2 - 5","Black holes seem like the stuff of science fiction. It's incredible to think there's a mass in the universe with such a strong pull of gravity that not even light can escape it. But it's not science fiction, and there isn't just one black hole out there. Diagrams and photographs help readers explore concepts that even scientists can't fully explain yet. This book will encourage future astrophysicists that more is going on in the night sky than meets the eye.","English",25.25,18.95,"523.8","32 pp.",{"$f":"Table1[[#This Row],['# Books]]*Table1[[#This Row],[QTY]]","v":0},{"$f":"Table1[[#This Row],[QTY]]*Table1[[#This Row],[S&L Price]]","v":0}]
[null,null,171,null,"Space Mysteries",1,"Where Did the Moon Come From?","eBook","978-1-4339-8280-4",2013,"January 2013",null,null,"Author","Michael Portman",null,null,30,22,"N",null,"Grade 2 - 3","Grade 2 - 5","We see the moon waxing and waning every month, and we know it controls the tides. However, we rarely wonder how it got there in the first place and why it continues to accompany Earth around the sun. Readers will learn some fascinating theories about the moon's origin and decide for themselves if they agree with the current accepted explanation.","English",25.25,18.95,"523.3","24 pp.",{"$f":"Table1[[#This Row],['# Books]]*Table1[[#This Row],[QTY]]","v":0},{"$f":"Table1[[#This Row],[QTY]]*Table1[[#This Row],[S&L Price]]","v":0}]
[null,null,171,null,"Strange Life Cycles",1,"The Bizarre Life Cycle of a Cicada","Library Bound Book","978-1-4339-7039-9",2013,"August 2012","Library","8.500 X 8.500","Author","Greg Roza",4.0999999999999996,0.5,28,26,"L",null,"Grade 2 - 3","Grade 2 - 5","Common thought places cicadas as tree dwellers; these odd insects actually live most of their lives underground. This book details the bizarre life cycle of the cicada, including the deposit of hundreds of eggs on a tree branch and details of a species that can live 17 years. Fascinating fact boxes provide readers with more strange information, and fun graphic organizers aid understanding. Full-color photographs enhance easy-to-understand language and science content. Many species of cuckoo lay their eggs in the nests of other birds. After the young cuckoo hatches, it may eject the other babies from the nest so it can thrive.","English",22.6,16.95,"595.7","24 pp.",{"$f":"Table1[[#This Row],['# Books]]*Table1[[#This Row],[QTY]]","v":0},{"$f":"Table1[[#This Row],[QTY]]*Table1[[#This Row],[S&L Price]]","v":0}]
[null,null,171,null,"Strange Life Cycles",1,"The Bizarre Life Cycle of a Cuckoo","eBook","978-1-4339-7046-7",2013,"August 2012",null,null,"Author","Barbara M. Linde",4.3,0.5,28,24,"L",null,"Grade 2 - 3","Grade 2 - 5","Many species of cuckoo lay their eggs in the nests of other birds. After the young cuckoo hatches, it may eject the other babies from the nest so it can thrive. Readers learn these and other amazing facts about the life cycle of the cuckoo through engaging and information text. Colorful photographs engage readers in the easy-to-read explanations. Fact boxes add even more weird information about the cuckoo, and graphic organizers enhance readers’ understanding of science content.","English",22.6,16.95,"598.7","24 pp.",{"$f":"Table1[[#This Row],['# Books]]*Table1[[#This Row],[QTY]]","v":0},{"$f":"Table1[[#This Row],[QTY]]*Table1[[#This Row],[S&L Price]]","v":0}]
[null,null,171,null,"Strange Life Cycles",1,"The Bizarre Life Cycle of a Kangaroo","eBook","978-1-4339-7050-4",2013,"August 2012",null,null,"Author","Barbara M. Linde",4.0999999999999996,0.5,28,26,"L",null,"Grade 2 - 3","Grade 2 - 5","Using age-appropriate language and accessible science content, readers are introduced to the unique lives of a beloved marsupial, the kangaroo. Baby kangaroos are born and climb into their mother’s pouch after just 33 days in utero. Using colorful photographs and fun fact boxes, readers learn bizarre information and use helpful graphic organizers to reinforce key information.","English",22.6,16.95,"599.2","24 pp.",{"$f":"Table1[[#This Row],['# Books]]*Table1[[#This Row],[QTY]]","v":0},{"$f":"Table1[[#This Row],[QTY]]*Table1[[#This Row],[S&L Price]]","v":0}]
[null,null,171,null,"Strange Life Cycles",1,"The Bizarre Life Cycle of an Octopus","Library Bound Book","978-1-4339-7055-9",2013,"August 2012","Library","8.500 X 8.500","Author","Therese M. Shea",4.5,0.5,28,26,"L",null,"Grade 2 - 3","Grade 2 - 5","Readers learn about the unique life cycle of the octopus, including facts such as a mother octopus doesn’t eat while taking care of her eggs and neither male nor female octopuses live very long after becoming parents. Colorful photographs and engaging graphic organizers enhance age-appropriate language and science content. Bizarre fact boxes draw in readers with even more octopus oddities. ","English",22.6,16.95,"594","24 pp.",{"$f":"Table1[[#This Row],['# Books]]*Table1[[#This Row],[QTY]]","v":0},{"$f":"Table1[[#This Row],[QTY]]*Table1[[#This Row],[S&L Price]]","v":0}]
[null,null,171,null,"That Rocks!",1,"Igneous Rocks","eBook","978-1-4339-8316-0",2014,"August 2013",null,null,"Author","Maria Nelson",5.0999999999999996,0.5,24,20,"L",null,"Grade 2 - 3","Grade 2 - 5","Whether formed deep underground or created following a volcanic eruption, igneous rocks earn their nickname as “fire rocks.” Readers will learn exciting facts about the many kinds of rocks that emerge from the superhot melted rock found beneath Earth’s surface. This book includes age-appropriate content that will enhance the science curriculum through fascinating fact boxes, full-color photographs, and a graphic organizer detailing the process of igneous rock formation.","English",22.6,16.95,"552","24 pp.",{"$f":"Table1[[#This Row],['# Books]]*Table1[[#This Row],[QTY]]","v":0},{"$f":"Table1[[#This Row],[QTY]]*Table1[[#This Row],[S&L Price]]","v":0}]
[null,null,171,null,"That Rocks!",1,"Metamorphic Rocks","eBook","978-1-4339-8320-7",2014,"August 2013",null,null,"Author","Maria Nelson",5.5,0.5,24,20,"L",null,"Grade 2 - 3","Grade 2 - 5","Metamorphic rocks have a story to tell—formed from other kinds of rock, including other metamorphic rock, these rocks have been through a change in temperature, pressure, or physical stress that has made them look different. Sometimes even their whole chemical makeup is changed. Readers will be fascinated by the ways metamorphic rock can change, and a helpful graphic organizer details the process. Full-color photographs and fun fact boxes will further engage readers with science content that supports the curriculum.","English",22.6,16.95,"552","24 pp.",{"$f":"Table1[[#This Row],['# Books]]*Table1[[#This Row],[QTY]]","v":0},{"$f":"Table1[[#This Row],[QTY]]*Table1[[#This Row],[S&L Price]]","v":0}]
[null,null,171,null,"That Rocks!",1,"The Rock Cycle","Library Bound Book","978-1-4339-8325-2",2014,"August 2013","Library","8.500 X 8.500","Author","Maria Nelson",5.2,0.5,24,20,"L",null,"Grade 2 - 3","Grade 2 - 5","Much of Earth is made up of rock, including the continents and even the melted rock of the planet’s core. Rock is present in all shapes, sizes, and compositions. Readers will learn about the natural processes involved in creating different kinds of rock. Accessible science content that supports the curriculum enhanced by colorful photographs will engage geology enthusiasts and curious minds alike. A simple graphic organizer and fact boxes full of more information add even more excitement for readers.","English",22.6,16.95,"552","24 pp.",{"$f":"Table1[[#This Row],['# Books]]*Table1[[#This Row],[QTY]]","v":0},{"$f":"Table1[[#This Row],[QTY]]*Table1[[#This Row],[S&L Price]]","v":0}]
[null,null,171,null,"That's Gross!",1,"Gross Things About Your Body","eBook","978-1-4339-7114-3",2013,"August 2012",null,null,"Author","John M. Shea",null,null,34,24,"N",null,"Grade 2 - 3","Grade 2 - 5","It's not hard to think of gross attributes of the human body. Runny noses, bad breath, and stinky feet are just some of the yucky and unavoidable parts of being human. However, the science behind the gross ways in which the body functions is pretty cool. Scabs, blisters, and mucus are actually ways for our bodies to heal and stay healthy. Readers will love learning about the body through the gross, engaging, and informational facts presented in accessible language. A graphic organizer helps reinforce basic concepts in the book.","English",22.6,16.95,"612","24 pp.",{"$f":"Table1[[#This Row],['# Books]]*Table1[[#This Row],[QTY]]","v":0},{"$f":"Table1[[#This Row],[QTY]]*Table1[[#This Row],[S&L Price]]","v":0}]
[null,null,171,null,"That's Gross!",1,"Gross Things in Your House","Library Bound Book","978-1-4339-7123-5",2013,"August 2012","Library","8.500 X 8.500","Author","Maria Nelson",null,null,34,24,"N",null,"Grade 2 - 3","Grade 2 - 5","Bugs in the wall, dead skin cells on the ground—bacteria is found everywhere. Yes, even the cleanest homes have some pretty gross things in them. Readers will learn about the places in a house where the most germs congregate and important ways to keep their own homes healthy places to live. Gross concepts are turned into cool science through accessible text and engaging facts.","English",22.6,16.95,"577.5","48 pp.",{"$f":"Table1[[#This Row],['# Books]]*Table1[[#This Row],[QTY]]","v":0},{"$f":"Table1[[#This Row],[QTY]]*Table1[[#This Row],[S&L Price]]","v":0}]
[null,null,171,null,"That's Gross!",1,"Gross Things Under Your Feet","eBook","978-1-4339-7134-1",2013,"August 2012",null,null,"Author","Greg Roza",null,null,34,24,"N",null,"Grade 2 - 3","Grade 2 - 5","People rarely think about what's under their feet. If they're inside, it might be a rug or a wood floor. However, there's more than meets the eye beneath our feet—dust mites, bacteria, and other disgusting things exist on those surfaces. Step outside, and there's a whole world of bugs, worms, and other matter underfoot. Readers will never look at the bottom of their shoes the same way after they discover how gross, but amazing, the world is.","English",22.6,16.95,"591.75","48 pp.",{"$f":"Table1[[#This Row],['# Books]]*Table1[[#This Row],[QTY]]","v":0},{"$f":"Table1[[#This Row],[QTY]]*Table1[[#This Row],[S&L Price]]","v":0}]
[null,null,171,null,"Machines in Motion",1,"Construction Machines","Library Bound Book","978-1-4339-9600-9",2014,"August 2013","Library","8.000 X 10.00","Author","John Perritano",null,null,24,20,"L",null,"Grade 3","Grade 3 - 5","Modern marvels like skyscrapers and highways have been built with the help of the most advanced construction machines ever imagined. As today's buildings get bigger and more complicated, the vehicles that build them have followed suit. With the help of full-color photographs, readers learn more about gigantic machines that can carve tunnels through solid stone and cranes, trucks, and bulldozers that help build—and tear down—the structures that make our cities and towns. Readers can draw their own construction vehicles with the help of simple instructions, and take a fun quiz at the end of the book to make sure they remember what these big machines are made of!  • High-interest topic attracts reluctant readers • Reading level appropriate for many ages • Full-color photographs • Table of contents, glossary, and index guide readers through each book • Suggested books and websites provide additional learning opportunities  ","English",31.95,23.95,"624.152","48 pp.",{"$f":"Table1[[#This Row],['# Books]]*Table1[[#This Row],[QTY]]","v":0},{"$f":"Table1[[#This Row],[QTY]]*Table1[[#This Row],[S&L Price]]","v":0}]
[null,null,171,null,"Machines in Motion",1,"Military Machines","Library Bound Book","978-1-4339-9604-7",2014,"August 2013","Library","8.000 X 10.00","Author","Jessica Cohn",null,null,24,20,"L",null,"Grade 3","Grade 3 - 5","The most important machines in history are perhaps the ones that helped win wars. The U.S. military has developed some of the most advanced military machines the world has ever seen. With exciting stories and full-color photographs of vehicles like tanks, helicopters, and Jeeps, readers discover how the wheels of history have been pushed along with the help of some impressive military machines. Readers even learn to draw their own military machines as they explore the technology behind victory in this exciting book. A concluding quiz at the end of the book tests what they've learned about these combat creations!    • High-interest topic attracts reluctant readers • Reading level appropriate for many ages • Full-color photographs • Table of contents, glossary, and index guide readers through each book • Suggested books and websites provide additional learning opportunities  ","English",31.95,23.95,"623.4","32 pp.",{"$f":"Table1[[#This Row],['# Books]]*Table1[[#This Row],[QTY]]","v":0},{"$f":"Table1[[#This Row],[QTY]]*Table1[[#This Row],[S&L Price]]","v":0}]
[null,null,171,null,"Machines in Motion",1,"Space Machines","eBook","978-1-4339-9615-3",2014,"August 2013",null,null,"Author","John Perritano",null,null,24,20,"L",null,"Grade 3","Grade 3 - 5","Before people could explore outer space, they had to invent the vehicles that could get them there. Readers learn all about the rockets, shuttles, and space stations that sent people into space, and the amazing machines that help explore the far reaches of our solar system. Full-color photographs help highlight the coolest and most advanced space machines humans have created. Readers can even learn how to draw their own space shuttle, and take a quiz to reinforce what they've learned about the machines that have taken mankind further than ever before.    • High-interest topic attracts reluctant readers • Reading level appropriate for many ages • Full-color photographs • Table of contents, glossary, and index guide readers through each book • Suggested books and websites provide additional learning opportunities  ","English",31.95,23.95,"629.4","32 pp.",{"$f":"Table1[[#This Row],['# Books]]*Table1[[#This Row],[QTY]]","v":0},{"$f":"Table1[[#This Row],[QTY]]*Table1[[#This Row],[S&L Price]]","v":0}]
[null,null,171,null,"Angry Earth",1,"Deadly Floods","Library Bound Book","978-1-4339-6533-3",2012,"January 2012","Library","7.750 X 10.00","Author","Michael Portman",5.4,0.5,38,32,"N",null,"Grade 3 - 4","Grade 3 - 6","Flooding is a common occurrence in nature, but extensive flooding can cause millions of dollars in damage and can be deadly. Floods occur everywhere rain falls, even deserts. Readers will trace the origins of floods, from the formation of rain clouds to the fast-rising waters of a flash flood. They’ll witness the destructive capabilities of water through powerful photos. Perhaps most importantly, they’ll learn what to do to stay safe during a flood.","English",26.6,19.95,"551.48","32 pp.",{"$f":"Table1[[#This Row],['# Books]]*Table1[[#This Row],[QTY]]","v":0},{"$f":"Table1[[#This Row],[QTY]]*Table1[[#This Row],[S&L Price]]","v":0}]
[null,null,171,null,"Angry Earth",1,"Deadly Floods","eBook","978-1-4339-6534-0",2012,"January 2012",null,null,"Author","Michael Portman",5.4,0.5,38,32,"N",null,"Grade 3 - 4","Grade 3 - 6","Flooding is a common occurrence in nature, but extensive flooding can cause millions of dollars in damage and can be deadly. Floods occur everywhere rain falls, even deserts. Readers will trace the origins of floods, from the formation of rain clouds to the fast-rising waters of a flash flood. They’ll witness the destructive capabilities of water through powerful photos. Perhaps most importantly, they’ll learn what to do to stay safe during a flood.","English",26.6,19.95,"551.48","32 pp.",{"$f":"Table1[[#This Row],['# Books]]*Table1[[#This Row],[QTY]]","v":0},{"$f":"Table1[[#This Row],[QTY]]*Table1[[#This Row],[S&L Price]]","v":0}]
[null,null,171,null,"Angry Earth",1,"Powerful Earthquakes","eBook","978-1-4339-6546-3",2012,"January 2012",null,null,"Author","Greg Roza",5.4,0.5,38,32,"N",null,"Grade 3 - 4","Grade 3 - 6","Some earthquakes are so powerful they change the landscape. Many are so weak people can’t feel them. Even with advances in science, seismologists still can’t accurately predict when an earthquake will strike. However, we now know a lot more about where an earthquake is likely to occur. In this book, readers will learn about plate tectonics, faults, and seismic waves. They’ll read about historic earthquakes, see photographs of the aftermath, and learn how to prepare for an earthquake’s mighty tremors.","English",26.6,19.95,"551.22","32 pp.",{"$f":"Table1[[#This Row],['# Books]]*Table1[[#This Row],[QTY]]","v":0},{"$f":"Table1[[#This Row],[QTY]]*Table1[[#This Row],[S&L Price]]","v":0}]
[null,null,171,null,"Animal Watch",1,"Focus on Amphibians","Library Bound Book","978-1-4339-5978-3",2012,"August 2011","Library","8.500 X 10.50","Author","Stephen Savage",4.5999999999999996,0.5,34,28,"O",null,"Grade 3 - 4","Grade 3 - 5","The amphibian corner of the animal kingdom contains some fascinating and unique species from the crested newt and flying frog to the Japanese giant salamander. Readers will learn about these cool critters and many more amazing amphibians in this book. Fun facts about the bodies, life cycles, and habitats of various amphibians make learning about animal classification exciting for readers. Bright photographs bring these amazing creatures into focus, and a topic web presents many engaging activities to take the fascinating information learned in the book into the real world.","English",26.6,19.95,"597.8","32 pp.",{"$f":"Table1[[#This Row],['# Books]]*Table1[[#This Row],[QTY]]","v":0},{"$f":"Table1[[#This Row],[QTY]]*Table1[[#This Row],[S&L Price]]","v":0}]
[null,null,171,null,"Animal Watch",1,"Focus on Reptiles","Library Bound Book","978-1-4339-5993-6",2012,"August 2011","Library","8.500 X 10.50","Author","Stephen Savage",4.5999999999999996,0.5,34,28,"O",null,"Grade 3 - 4","Grade 3 - 5","Reptiles are the scaly members of the animal kingdom that run, walk, swim, and slither all over the world. This book uncovers some of the most unique species in this very diverse group including a reptile that can even walk on water. Readers will explore the world of reptiles in an engaging way that makes learning about animal classification exciting. Vibrant photographs bring crocodiles, rattlesnakes, and many other remarkable reptiles into focus. A detailed topic web allows readers to interact with the fun facts in this book through other avenues such as art, writing, and math.","English",26.6,19.95,"597.9","32 pp.",{"$f":"Table1[[#This Row],['# Books]]*Table1[[#This Row],[QTY]]","v":0},{"$f":"Table1[[#This Row],[QTY]]*Table1[[#This Row],[S&L Price]]","v":0}]
[null,null,171,null,"Cyberspace Survival Guide",1,"Combating Computer Viruses","Library Bound Book","978-1-4339-7212-6",2013,"August 2012","Library","7.750 X 10.00","Author","John M. Shea",6.1,0.5,40,28,"R",null,"Grade 3 - 4","Grade 3 - 6","The word \"virus\" conjures up a scary image. Just as people don't want to be infected by a virus that might make them sick, they don't want their computers—and other electronic devices—infected by computer viruses. This must-read guide explains “electronic infections\" and viruses, including Trojan horses and worms. Readers can arm themselves using the safety guidelines in the text to help combat and prevent the spread of these damaging computer programs.","English",26.6,19.95,"005.8","32 pp.",{"$f":"Table1[[#This Row],['# Books]]*Table1[[#This Row],[QTY]]","v":0},{"$f":"Table1[[#This Row],[QTY]]*Table1[[#This Row],[S&L Price]]","v":0}]
[null,null,171,null,"Cyberspace Survival Guide",1,"Dealing with Cyberbullies","Library Bound Book","978-1-4339-7220-1",2013,"August 2012","Library","7.750 X 10.00","Author","Drew Nelson",null,null,40,28,"R",null,"Grade 3 - 4","Grade 3 - 6","Bullying seems to be a part of growing up, and now cyberbullying is, too. Knowing how to deal with cyberbullies is essential for all young people. They need to know the many forms of cyberbullying, how to react to the behaviors, and when to ask for help. Recent headlines have shown that the consequences of cyberbullying are serious and far-reaching. Readers learn why cyberbullying is on the rise and how they, and their friends, can combat it.","English",26.6,19.95,"302.34","32 pp.",{"$f":"Table1[[#This Row],['# Books]]*Table1[[#This Row],[QTY]]","v":0},{"$f":"Table1[[#This Row],[QTY]]*Table1[[#This Row],[S&L Price]]","v":0}]
[null,null,171,null,"Cyberspace Survival Guide",1,"Safe Social Networking","eBook","978-1-4339-7231-7",2013,"August 2012",null,null,"Author","Barbara M. Linde",null,null,40,28,"R",null,"Grade 3 - 4","Grade 3 - 6","The Internet has become the major channel of communication for young people. Social networking sites such as Facebook, Twitter, and MySpace are places where computer users can freely exchange ideas, build existing relationships, and forge new friendships. However, the anonymous nature of the Web has made it necessary to educate young people about the dangers of sharing personal information over the Internet. This vital guide teaches readers how to make their online profiles more private. It also stresses the importance of keeping information from users they don't know and highlights the many reasons to avoid \"friending\" a stranger on the Web.","English",26.6,19.95,"006.7","32 pp.",{"$f":"Table1[[#This Row],['# Books]]*Table1[[#This Row],[QTY]]","v":0},{"$f":"Table1[[#This Row],[QTY]]*Table1[[#This Row],[S&L Price]]","v":0}]
[null,null,171,null,"EcoWorks",1,"How Community Gardens Work","Library Bound Book","978-1-4339-9556-9",2014,"August 2013","Library","8.000 X 10.00","Author","Louise Spilsbury",null,null,34,22,"O",null,"Grade 3 - 4","Grade 3 - 5","Some cities offer their residents lots of cool restaurants, arts activities, and business opportunities—but few green spaces. Poorer areas may have empty lots or abandoned buildings, and no nearby parks. Community gardens are a great idea for either of these scenarios—and so many more! Through inspiring descriptions of the benefits of community gardens, including their positive ecological impact, readers will run to the nearest plot of land to start a garden! From the science of composting and organic farming to health topics like fitness and healthy eating, the motivating content will introduce readers to the fun of community gardens, which can bring communities together, help the environment, and provide a good use for unused lots. Bright, colorful photographs and descriptive sidebars and fact boxes will draw readers in even more—that is, if they haven’t already started planting their garden!","English",26.6,19.95,"635","32 pp.",{"$f":"Table1[[#This Row],['# Books]]*Table1[[#This Row],[QTY]]","v":0},{"$f":"Table1[[#This Row],[QTY]]*Table1[[#This Row],[S&L Price]]","v":0}]
[null,null,171,null,"EcoWorks",1,"How Community Gardens Work","eBook","978-1-4339-9559-0",2014,"August 2013",null,null,"Author","Louise Spilsbury",null,null,34,22,"O",null,"Grade 3 - 4","Grade 3 - 5","Some cities offer their residents lots of cool restaurants, arts activities, and business opportunities—but few green spaces. Poorer areas may have empty lots or abandoned buildings, and no nearby parks. Community gardens are a great idea for either of these scenarios—and so many more! Through inspiring descriptions of the benefits of community gardens, including their positive ecological impact, readers will run to the nearest plot of land to start a garden! From the science of composting and organic farming to health topics like fitness and healthy eating, the motivating content will introduce readers to the fun of community gardens, which can bring communities together, help the environment, and provide a good use for unused lots. Bright, colorful photographs and descriptive sidebars and fact boxes will draw readers in even more—that is, if they haven’t already started planting their garden!","English",26.6,19.95,"635","32 pp.",{"$f":"Table1[[#This Row],['# Books]]*Table1[[#This Row],[QTY]]","v":0},{"$f":"Table1[[#This Row],[QTY]]*Table1[[#This Row],[S&L Price]]","v":0}]
[null,null,171,null,"EcoWorks",1,"How Recycling Works","eBook","978-1-4339-9567-5",2014,"August 2013",null,null,"Author","Geoff Barker",null,null,34,22,"O",null,"Grade 3 - 4","Grade 3 - 5","Paper, metal, and glass are all commonly recycled items. Most cities have a recycling program in place to make it easier for residents to contribute items to the process. But waste is still a big problem! Readers will be encouraged to reduce, reuse, and recycle containers and items that they are done using or have used up. Science and social studies content offers a look at what happens to each material as it’s recycled, including the cool process of composting food and other organics. From fact boxes highlighting the ecological issues surrounding waste and recycling to sidebars giving up-close information about more technical topics, the knowledge readers will gain can help them be better informed about how their actions—and the waste they produce—affect Earth. Full-color photographs will drive home the importance of reducing landfills, as well as amaze readers at what recycling can create.","English",26.6,19.95,"363.72","32 pp.",{"$f":"Table1[[#This Row],['# Books]]*Table1[[#This Row],[QTY]]","v":0},{"$f":"Table1[[#This Row],[QTY]]*Table1[[#This Row],[S&L Price]]","v":0}]
[null,null,172,null,"Habitat Havoc",1,"Landfills","Library Bound Book","978-1-4339-9921-5",2014,"January 2014","Library","7.750 X 10.00","Author","Greg Roza",null,null,38,24,"P",null,"Grade 3 - 4","Grade 3 - 6","Before the US government enacted strict laws about landfills and toxic waste disposal, tragedies of pollution occurred across the country. Today, landfills are safer and more environmentally friendly, but problems can still happen—and our laws don’t stop other countries from continuing poor landfill practices. Readers will learn the terrible story of Love Canal and the hazardous chemicals that can be produced by landfills. With the help of detailed sidebars and full-color photographs, the main content introduces an important conservation topic, including its social and scientific aspects.","English",26.6,19.95,"363.728","32 pp.",{"$f":"Table1[[#This Row],['# Books]]*Table1[[#This Row],[QTY]]","v":0},{"$f":"Table1[[#This Row],[QTY]]*Table1[[#This Row],[S&L Price]]","v":0}]
[null,null,172,null,"Habitat Havoc",1,"Pollution","eBook","978-1-4339-9927-7",2014,"January 2014",null,null,"Author","Barbara M. Linde",null,null,38,24,"P",null,"Grade 3 - 4","Grade 3 - 6","Pollution is a very real problem. It’s in the air, the water, on land—and even in outer space. Acid rain caused by pollution is killing trees and poisoning bodies of water. Oil spills threaten animal habitats all over the world. The Pacific Ocean has a garbage pile in it the size of Texas! Through content that supports the science curriculum, readers learn the many problems pollution causes. Full-color photographs and informative sidebars show them the urgency of the problem while they discover ways they can help reduce—and stop—pollution.","English",26.6,19.95,"363.73","32 pp.",{"$f":"Table1[[#This Row],['# Books]]*Table1[[#This Row],[QTY]]","v":0},{"$f":"Table1[[#This Row],[QTY]]*Table1[[#This Row],[S&L Price]]","v":0}]
[null,null,172,null,"Habitat Havoc",1,"Urban Sprawl","Library Bound Book","978-1-4339-9866-9",2014,"January 2014","Library","7.750 X 10.00","Author","Barbara M. Linde",null,null,38,24,"P",null,"Grade 3 - 4","Grade 3 - 6","From coast to coast and from north to south, our cities are growing. Sometimes they spread out in all directions without much planning or thought. This is known as urban sprawl. Urban sprawl causes problems for people, plants, and animals. It creates havoc within habitats. Readers will find out the effects of urban sprawl on habitats all over the world. They’ll read about the problems faced by grizzly bears, alligators, and many other animals. Full-color photographs and detailed sidebars will draw them into one of the greatest problems facing the environment today.","English",26.6,19.95,"307.76","32 pp.",{"$f":"Table1[[#This Row],['# Books]]*Table1[[#This Row],[QTY]]","v":0},{"$f":"Table1[[#This Row],[QTY]]*Table1[[#This Row],[S&L Price]]","v":0}]
[null,null,172,null,"Life Science Stories",1,"Adaptation and Survival","Library Bound Book","978-1-4339-8699-4",2013,"January 2013","Library","8.000 X 10.00","Author","Richard Spilsbury",null,null,30,22,"N",null,"Grade 3 - 4","Grade 3 - 5","Readers will learn about the important concept of adaptation through detailed descriptions of great white sharks’ camouflage, giraffes’ extremely long tongue, and more. Brightly colored, up-close photographs of these remarkable animals will engage readers as they learn all about how animals have come to survive in the wild. Sidebars and fact boxes add even more exciting information readers will love to share.","English",26.6,19.95,"591.4","32 pp.",{"$f":"Table1[[#This Row],['# Books]]*Table1[[#This Row],[QTY]]","v":0},{"$f":"Table1[[#This Row],[QTY]]*Table1[[#This Row],[S&L Price]]","v":0}]
[null,null,172,null,"Life Science Stories",1,"Food Webs","eBook","978-1-4339-8710-6",2013,"January 2013",null,null,"Author","Leon Gray",null,null,30,22,"N",null,"Grade 3 - 4","Grade 3 - 5","Whether a tiny pea plant or a vulture that snacks on carrion, all living things have a place in their habitat’s food web. Readers will learn the basics of food chains and even view decomposers in action in many locations around the world through vivid photographs. Accessible content illustrates this key science concept while detailed sidebars add additional exciting information. Exploring specific food webs in action will teach readers about food webs from the ground up.","English",26.6,19.95,"577","32 pp.",{"$f":"Table1[[#This Row],['# Books]]*Table1[[#This Row],[QTY]]","v":0},{"$f":"Table1[[#This Row],[QTY]]*Table1[[#This Row],[S&L Price]]","v":0}]
[null,null,172,null,"Life Science Stories",1,"Plant Classification","Library Bound Book","978-1-4339-8719-9",2013,"January 2013","Library","8.000 X 10.00","Author","Leon Gray",null,null,30,22,"N",null,"Grade 3 - 4","Grade 3 - 5","There are thousands of different plants on Earth. Readers get an up-close and colorful look at the diversity of plant life on our planet. Fun facts about a variety of plants are presented in an informative and eye-catching way that is sure to entertain readers while introducing and reinforcing them to basic science concepts, such as classifying living things. Algae, moss, and plants with flowers and cones—readers are introduced to a plethora of plants. Readers also learn what makes each kind of plant unique, such as how some plants even eat small animals for dinner.  ","English",26.6,19.95,"581","32 pp.",{"$f":"Table1[[#This Row],['# Books]]*Table1[[#This Row],[QTY]]","v":0},{"$f":"Table1[[#This Row],[QTY]]*Table1[[#This Row],[S&L Price]]","v":0}]
[null,null,172,null,"Life Science Stories",1,"Plant Classification","eBook","978-1-4339-8722-9",2013,"January 2013",null,null,"Author","Leon Gray",null,null,30,22,"N",null,"Grade 3 - 4","Grade 3 - 5","There are thousands of different plants on Earth. Readers get an up-close and colorful look at the diversity of plant life on our planet. Fun facts about a variety of plants are presented in an informative and eye-catching way that is sure to entertain readers while introducing and reinforcing them to basic science concepts, such as classifying living things. Algae, moss, and plants with flowers and cones—readers are introduced to a plethora of plants. Readers also learn what makes each kind of plant unique, such as how some plants even eat small animals for dinner.  ","English",26.6,19.95,"581","32 pp.",{"$f":"Table1[[#This Row],['# Books]]*Table1[[#This Row],[QTY]]","v":0},{"$f":"Table1[[#This Row],[QTY]]*Table1[[#This Row],[S&L Price]]","v":0}]
[null,null,172,null,"When Pets Attack!",1,"Big Cats Are Not Pets!","eBook","978-1-4339-9276-6",2014,"August 2013",null,null,"Author","Julie Marzolf",null,null,38,24,"P",null,"Grade 3 - 4","Grade 3 - 6","All cats are incredibly cute when they're kittens and cubs. But when they grow up, wild cats are not so cuddly. Yet, some people keep big cats such as lions, tigers, and leopards as pets. They think they can tame them, but a wild animal is always wild, and many big cats owners are responsible for the deaths of people when their pets attack. This book describes the attributes of big cats that make them unsuitable pets. Readers discover the reasons why it's more humane to leave these exotic animals in their native habitats than to cage them.","English",26.6,19.95,"599.75","32 pp.",{"$f":"Table1[[#This Row],['# Books]]*Table1[[#This Row],[QTY]]","v":0},{"$f":"Table1[[#This Row],[QTY]]*Table1[[#This Row],[S&L Price]]","v":0}]
[null,null,172,null,"When Pets Attack!",1,"Ostriches Are Not Pets!","Library Bound Book","978-1-4339-9283-4",2014,"August 2013","Library","7.750 X 10.00","Author","Heather Moore Niver",null,null,38,24,"P",null,"Grade 3 - 4","Grade 3 - 6","Ostriches are funny-looking birds with their long legs and huge, popping eyes. But don't get too close. An ostrich's huge talons are sharp enough to kill a lion. Ostriches also eat anything they can find, such as rocks, buttons, and even alarm clocks! Though these animals are increasingly raised on ranches, they're not domesticated, and should never be kept as pets. Readers will love learning about these odd, record-breaking birds.","English",26.6,19.95,"598.5","32 pp.",{"$f":"Table1[[#This Row],['# Books]]*Table1[[#This Row],[QTY]]","v":0},{"$f":"Table1[[#This Row],[QTY]]*Table1[[#This Row],[S&L Price]]","v":0}]
[null,null,172,null,"Dinosaurs!",1,"Allosaurus and Other Dinosaurs and Reptiles from the Upper Jurassic","eBook","978-1-4339-6703-0",2012,"January 2012",null,null,"Author, Illustrated by","David West, David West",6.3,0.5,50,34,"P",null,"Grade 3 - 5","Grade 3 - 6","The dinosaurs of the Upper Jurassic were larger than ever before, including the first birds and incredible sea creatures. The most amazing dinosaurs and reptiles of this period are also revealed to readers, uncovering fascinating facts about the history along the way. Readers come face-to-face with the most ferocious predator of its time, Allosaurus, as well as other feared hunters and huge herbivores. Using cutting-edge technology and helpful scale renderings, the impressive artwork in this book takes readers into the prehistoric world in a fresh, captivating way.","English",26.6,19.95,"567.9","32 pp.",{"$f":"Table1[[#This Row],['# Books]]*Table1[[#This Row],[QTY]]","v":0},{"$f":"Table1[[#This Row],[QTY]]*Table1[[#This Row],[S&L Price]]","v":0}]
[null,null,172,null,"Dinosaurs!",1,"Cetiosaurus and Other Dinosaurs and Reptiles from the Middle Jurassic","Library Bound Book","978-1-4339-6707-8",2012,"January 2012","Library","9.000 X 11.00","Author, Illustrated by","David West, David West",6.3,0.5,50,32,"O",null,"Grade 3 - 5","Grade 3 - 6","The Middle Jurassic period was one of change in both the natural landscape and the forms of life roaming Earth. Readers take a close look at the diverse environments of this period including African forests and European coastlines. They also learn about the amazing creatures that inhabited these varied places, including the most unique dinosaurs to ever exist. Colorful, cutting-edge artwork allows readers to see incredible features of these dinosaurs in astounding detail, including feathers, spikes, and very sharp teeth.","English",26.6,19.95,"567.9","32 pp.",{"$f":"Table1[[#This Row],['# Books]]*Table1[[#This Row],[QTY]]","v":0},{"$f":"Table1[[#This Row],[QTY]]*Table1[[#This Row],[S&L Price]]","v":0}]
[null,null,172,null,"Dinosaurs!",1,"Spinosaurus and Other Dinosaurs and Reptiles from the Upper Cretaceous","Library Bound Book","978-1-4339-6719-1",2012,"January 2012","Library","9.000 X 11.00","Author, Illustrated by","David West, David West",6.7,0.5,50,34,"P",null,"Grade 3 - 5","Grade 3 - 6","The Upper Cretaceous period ushered in a time of incredible change on Earth. The end of this period saw a mass extinction event that destroyed all of the dinosaurs, but the years before that event featured more species of life on Earth than ever before. In this book, readers discover the incredible dinosaurs and other creatures that lived during this time, including the massive carnivore, Spinosaurus. They also explore the lush landscapes of the Upper Cretaceous including the Horseshoe Canyon of North America and African shorelines. Cutting-edge, computer-generated renderings of these creatures and environments make the prehistoric world intriguing and accessible to all readers.","English",26.6,19.95,"567.9","48 pp.",{"$f":"Table1[[#This Row],['# Books]]*Table1[[#This Row],[QTY]]","v":0},{"$f":"Table1[[#This Row],[QTY]]*Table1[[#This Row],[S&L Price]]","v":0}]
[null,null,172,null,"Dinosaurs!",1,"Utahraptor and Other Dinosaurs and Reptiles from the Lower Cretaceous","eBook","978-1-4339-6724-5",2012,"January 2012",null,null,"Author, Illustrated by","David West, David West",6.4,0.5,50,32,"O",null,"Grade 3 - 5","Grade 3 - 6","Readers get a detailed look at the landscapes and creatures of  the Lower Cretaceous period and the dramatic changes of life on Earth during that time. They explore the incredibly varied environments of this period including the Asian river plains and African watering holes. Along the way, readers also discover early mammals, amazing reptiles, and some of the strangest dinosaurs to ever roam the planet, including huge raptors and the feathered Beipiaosaurus. Through the use of colorful, cutting-edge artwork and helpful scale renderings, the fascinating facts in this book are brought to life in a vibrant, captivating way.","English",26.6,19.95,"567.9","48 pp.",{"$f":"Table1[[#This Row],['# Books]]*Table1[[#This Row],[QTY]]","v":0},{"$f":"Table1[[#This Row],[QTY]]*Table1[[#This Row],[S&L Price]]","v":0}]
[null,null,172,null,"Animal 911: Environmental Threats",1,"Animals and Oil Spills","Library Bound Book","978-1-4339-9710-5",2014,"August 2013","Library","8.000 X 10.00","Author","Jon Bogart",null,null,40,26,"Q",null,"Grade 4","Grade 3 - 5","When accidents happen, the biggest victims are often those the least involved. That’s the case with oil spills, where entire aquatic ecosystems are pushed to the brink of disaster. Readers discover what humans can do to help the fish, birds, and other wildlife that suffer when oil slicks destroy the ocean in this amazing book full of detailed--and often astonishing-- photographs. Readers learn more about the history of oil spills and what people can do to protect the environment from future damage.","English",31.95,23.95,"636.0832","48 pp.",{"$f":"Table1[[#This Row],['# Books]]*Table1[[#This Row],[QTY]]","v":0},{"$f":"Table1[[#This Row],[QTY]]*Table1[[#This Row],[S&L Price]]","v":0}]
[null,null,172,null,"Animal 911: Environmental Threats",1,"Animals and Oil Spills","eBook","978-1-4339-9713-6",2014,"August 2013",null,null,"Author","Jon Bogart",null,null,40,26,"Q",null,"Grade 4","Grade 3 - 5","When accidents happen, the biggest victims are often those the least involved. That’s the case with oil spills, where entire aquatic ecosystems are pushed to the brink of disaster. Readers discover what humans can do to help the fish, birds, and other wildlife that suffer when oil slicks destroy the ocean in this amazing book full of detailed--and often astonishing-- photographs. Readers learn more about the history of oil spills and what people can do to protect the environment from future damage.","English",31.95,23.95,"636.0832","48 pp.",{"$f":"Table1[[#This Row],['# Books]]*Table1[[#This Row],[QTY]]","v":0},{"$f":"Table1[[#This Row],[QTY]]*Table1[[#This Row],[S&L Price]]","v":0}]
[null,null,172,null,"Animal 911: Environmental Threats",1,"The Threat of Invasive Species","Library Bound Book","978-1-4339-9722-8",2014,"August 2013","Library","8.000 X 10.00","Author","Karen O'Connor",null,null,40,26,"Q",null,"Grade 4","Grade 3 - 5","Chickens, horses, and many animals have spread around the world far from their ancient homes. But sometimes, new predators and plants can have a big impact on the ecosystems that balance life on our planet. Readers discover how humans' movements have impacted biomes, introducing invasive species that have brought some native species to the brink of extinction. This fascinating book gives readers a compelling look at the science and historical contexts behind invasive species, and shows them through detailed photographs and many vivid examples how plants and animals battle for resources against unwanted competition.","English",31.95,23.95,"577.18","48 pp.",{"$f":"Table1[[#This Row],['# Books]]*Table1[[#This Row],[QTY]]","v":0},{"$f":"Table1[[#This Row],[QTY]]*Table1[[#This Row],[S&L Price]]","v":0}]
[null,null,172,null,"Crime Science",1,"Criminal Profiling","Library Bound Book","978-1-4339-9480-7",2014,"August 2013","Library","8.000 X 10.00","Author","Matt Anniss",null,null,40,28,"S",null,"Grade 4 - 5","Grade 4 - 8","Criminal profiling is one of the newest approaches to combating crime. Profilers tackle a wide range of challenges. They investigate when, why, and where crimes take place. They study the criminal mind to not only track down perpetrators but also to figure out ways to reduce the crime rate. In this high-interest book, readers explore theories of criminology and examine how these concepts are being employed in police work. They discover how technology is aiding police in pinpointing areas where crimes are likely to occur so they can better protect the public. The text also highlights the wide variety of career choices available to those interested in law enforcement.","English",31.95,23.95,"363.25","48 pp.",{"$f":"Table1[[#This Row],['# Books]]*Table1[[#This Row],[QTY]]","v":0},{"$f":"Table1[[#This Row],[QTY]]*Table1[[#This Row],[S&L Price]]","v":0}]
[null,null,172,null,"Crime Science",1,"Espionage","eBook","978-1-4339-9491-3",2014,"August 2013",null,null,"Author","Matt Anniss",null,null,40,28,"S",null,"Grade 4 - 5","Grade 4 - 8","Espionage—the practice of spying to gather secret information—isn’t a new method of gaining an edge on a competitor or enemy. However, technology has opened new doors to this sometimes illegal covert activity. Many countries, including the United States, even have government-sanctioned spies. There’s some truth in the James Bond stories! In this book, the methods and tools of espionage and anti-espionage are examined, including surveillance, bugging, spy satellites, drones, cryptography, and cyberwarfare. Readers will love this intriguing and in-depth look into the world of intelligence gathering.","English",31.95,23.95,"327.1273","48 pp.",{"$f":"Table1[[#This Row],['# Books]]*Table1[[#This Row],[QTY]]","v":0},{"$f":"Table1[[#This Row],[QTY]]*Table1[[#This Row],[S&L Price]]","v":0}]
[null,null,172,null,"Crime Science",1,"Homicide","Library Bound Book","978-1-4339-9492-0",2014,"August 2013","Library","8.000 X 10.00","Author","Angela Royston",null,null,40,28,"S",null,"Grade 4 - 5","Grade 4 - 8","Few crimes are as serious as homicide, the taking of another person’s life. It demands specially trained criminal investigators to collect evidence and bring those responsible to justice. This book walks readers through the scene of the crime and into the forensics lab. Along the way, they’ll meet the skilled professionals involved in homicide cases. From identifying the murder weapon to tracking a killer on the run, readers will be awed by the amount of meticulous work that goes into homicide investigation. Relevant photographs and eye-catching design enhance the reading experience.","English",31.95,23.95,"364.152","48 pp.",{"$f":"Table1[[#This Row],['# Books]]*Table1[[#This Row],[QTY]]","v":0},{"$f":"Table1[[#This Row],[QTY]]*Table1[[#This Row],[S&L Price]]","v":0}]
[null,null,172,null,"High-Tech Science",1,"How Does a Touch Screen Work?","Library Bound Book","978-1-4824-0389-3",2014,"January 2014","Library","8.500 X 11.00","Author","Leon Gray",null,null,44,30,"V",null,"Grade 4 - 5","Grade 4 - 6","It seems simple: tap the screen of your smartphone to open an app, or swipe your finger across the screen to make the smartphone do something else. However, that touch screen has been years in the making and is a complex piece of what is now essential technology. Readers will find out how layers of glass, metal, and LEDs work together to make a touch screen work. Full-color images augment explanations of different kinds of touch screens. Readers will be captivated by the many uses touch screens have in the world today, from controlling machinery in a factory to helping surgeons perform medical procedures.","English",31.95,23.95,"600","48 pp.",{"$f":"Table1[[#This Row],['# Books]]*Table1[[#This Row],[QTY]]","v":0},{"$f":"Table1[[#This Row],[QTY]]*Table1[[#This Row],[S&L Price]]","v":0}]
[null,null,172,null,"High-Tech Science",1,"How Does Cloud Computing Work?","eBook","978-1-4824-6527-3",2014,"January 2014",null,null,"Author","Leon Gray",null,null,44,30,"V",null,"Grade 4 - 5","Grade 4 - 6","Social networks are part of daily life, but there seems to be no end to the number of comments and pictures one can post. Internet e-mail providers, such as Gmail and Hotmail, are similarly common and seem to have infinite storage space. Cloud computing is part of the reason. Readers will learn the history of the Internet and computer servers leading to the modern technology of the cloud. Colorful photographs accompany clear explanations of many important tech terms and ideas, including IP addresses, ISPs, and more.","English",31.95,23.95,"004.6","48 pp.",{"$f":"Table1[[#This Row],['# Books]]*Table1[[#This Row],[QTY]]","v":0},{"$f":"Table1[[#This Row],[QTY]]*Table1[[#This Row],[S&L Price]]","v":0}]
[null,null,172,null,"High-Tech Science",1,"How Does WiFi Work?","Library Bound Book","978-1-4824-0399-2",2014,"January 2014","Library","8.500 X 11.00","Author","Matt Anniss",null,null,44,30,"V",null,"Grade 4 - 5","Grade 4 - 6","Even though computer wireless networks haven’t been around for very long, the basic technology used to create them is more than 100 years old. WiFi uses radio waves to send and receive data and connect smartphones, tablets, and computers to the Internet. Today, almost everywhere you go has WiFi, including schools, coffee shops, and the library. The inner workings of this ubiquitous technology will fascinate readers, who probably use it every day. Accompanied by full-color photos, the main content will introduce innovators like Nikola Tesla and other electronics history, as well as the future possibilities of wireless connection.","English",31.95,23.95,"621.384","48 pp.",{"$f":"Table1[[#This Row],['# Books]]*Table1[[#This Row],[QTY]]","v":0},{"$f":"Table1[[#This Row],[QTY]]*Table1[[#This Row],[S&L Price]]","v":0}]
[null,null,172,null,"High-Tech Science",1,"How Does WiFi Work?","eBook","978-1-4824-6529-7",2014,"January 2014",null,null,"Author","Matt Anniss",null,null,44,30,"V",null,"Grade 4 - 5","Grade 4 - 6","Even though computer wireless networks haven’t been around for very long, the basic technology used to create them is more than 100 years old. WiFi uses radio waves to send and receive data and connect smartphones, tablets, and computers to the Internet. Today, almost everywhere you go has WiFi, including schools, coffee shops, and the library. The inner workings of this ubiquitous technology will fascinate readers, who probably use it every day. Accompanied by full-color photos, the main content will introduce innovators like Nikola Tesla and other electronics history, as well as the future possibilities of wireless connection.","English",31.95,23.95,"621.384","48 pp.",{"$f":"Table1[[#This Row],['# Books]]*Table1[[#This Row],[QTY]]","v":0},{"$f":"Table1[[#This Row],[QTY]]*Table1[[#This Row],[S&L Price]]","v":0}]
[null,null,172,null,"Physical Science",1,"Light","Library Bound Book","978-1-4339-9512-5",2014,"August 2013","Library","8.000 X 10.00","Author","Leon Gray",null,null,40,28,"S",null,"Grade 4 - 5","Grade 4 - 6","Without the sun, nothing could live on Earth. Its light helps plants make energy, and it provides warmth. People have found lots of ways to make their own light, too, from prehistoric fires to today’s lasers. But what exactly is light? Readers will learn this and lots more! Including cool topics such as bioluminescence and X-rays, the main content illuminates an important curriculum concept with relatable examples and cool photographs to accompany each section. Fun facts add even more interesting information about light waves, color, refraction, and reflection.","English",31.95,23.95,"535","48 pp.",{"$f":"Table1[[#This Row],['# Books]]*Table1[[#This Row],[QTY]]","v":0},{"$f":"Table1[[#This Row],[QTY]]*Table1[[#This Row],[S&L Price]]","v":0}]
[null,null,172,null,"Physical Science",1,"Sound","Library Bound Book","978-1-4339-9520-0",2014,"August 2013","Library","8.000 X 10.00","Author","Anna Claybourne",null,null,40,28,"S",null,"Grade 4 - 5","Grade 4 - 6","At one time, fighter pilots thought they could never fly faster than the speed of sound. Now, many planes—and the people in them—hurdle through the sky at Mach 1! Readers will find sound a fascinating subject as they discover the many ways this form of energy is used today, including ultrasound machines that allow doctors to check on unborn babies and the various pitches of musical instruments used in music. Including information about how human and animal ears hear, the main science content will enhance physical science knowledge learned in the classroom. Fact boxes and colorful photographs help readers relate to the concepts of sound travel, echo, and sound pollution, among others. From beginning to end, the basics of sound come through loud and clear!","English",31.95,23.95,"534","48 pp.",{"$f":"Table1[[#This Row],['# Books]]*Table1[[#This Row],[QTY]]","v":0},{"$f":"Table1[[#This Row],[QTY]]*Table1[[#This Row],[S&L Price]]","v":0}]
[null,null,172,null,"Science Fights Back",1,"Science vs. Climate Change","eBook","978-1-4339-8681-9",2013,"January 2013",null,null,"Author","Nick Hunter",null,null,44,30,"T",null,"Grade 4 - 5","Grade 4 - 6","It’s no secret that the Earth’s ecosystem is a delicate one. Readers will discover what science is doing to help keep our planet sustainable for the future. They will explore the science behind climate change and what we can do to prevent it. A ‘Winning or Losing?’ feature updates readers on the latest in man’s struggle with a warming planet, while ‘Breaking Through’ chronicles the cutting edge science that gives our smartest scholars the tools necessary for victory.","English",31.95,23.95,"551.6","48 pp.",{"$f":"Table1[[#This Row],['# Books]]*Table1[[#This Row],[QTY]]","v":0},{"$f":"Table1[[#This Row],[QTY]]*Table1[[#This Row],[S&L Price]]","v":0}]
[null,null,172,null,"Science Fights Back",1,"Science vs. Crime","Library Bound Book","978-1-4339-8683-3",2013,"January 2013","Library","8.000 X 10.00","Author","Angela Royston",null,null,44,30,"T",null,"Grade 4 - 5","Grade 4 - 6","While the ever-evolving criminal mind continues to be a menace to society, science is on the case and is ready to track down the worst offenders. Readers explore the science behind combating crime and discover what science is doing to thwart the dishonest and immoral through high-tech lab work and the best thinkers in the world. A ‘Winning or Losing?’ feature updates readers on the latest in man’s struggle with crime, while ‘Breaking Through’ chronicles the cutting edge science that gives our smartest scholars the tools necessary for victory.","English",31.95,23.95,"363.25","32 pp.",{"$f":"Table1[[#This Row],['# Books]]*Table1[[#This Row],[QTY]]","v":0},{"$f":"Table1[[#This Row],[QTY]]*Table1[[#This Row],[S&L Price]]","v":0}]
[null,null,173,null,"Science Fights Back",1,"Science vs. the Energy Crisis","Library Bound Book","978-1-4339-8695-6",2013,"January 2013","Library","8.000 X 10.00","Author","Nick Hunter",null,null,44,30,"T",null,"Grade 4 - 5","Grade 4 - 6","The modern world needs an endless amount of energy to operate. Finding ways to power our world, however, isn’t as easy as it once was. Readers will discover what science is doing to help keep our planet sustainable for the future—exploring the science behind energy production and what we can do to prevent our natural resources from running out. A ‘Winning or Losing?’ feature updates readers on the latest in man’s struggle with oil consumption and the search for sustainable resources, while ‘Breaking Through’ chronicles the cutting edge science that gives our smartest scholars the tools necessary for victory.","English",31.95,23.95,"333.79","32 pp.",{"$f":"Table1[[#This Row],['# Books]]*Table1[[#This Row],[QTY]]","v":0},{"$f":"Table1[[#This Row],[QTY]]*Table1[[#This Row],[S&L Price]]","v":0}]
[null,null,173,null,"The Human Body",1,"The Circulatory System","eBook","978-1-4339-6578-4",2012,"January 2012",null,null,"Author","Autumn Leigh",6.4,1,44,32,"S",null,"Grade 4 - 5","Grade 4 - 6","Your heart pumps blood constantly through 60,000 miles of blood vessels. Together, the heart, blood, and blood vessels make up the circulatory system. This system delivers oxygen from your lungs to the cells and organs of your body, and helps remove waste products. Readers explore the circulatory system with the aid of numerous photographs and revealing illustrations. This volume also includes information about disorders and diseases of the circulatory system, as well as tips on how to keep the system healthy.","English",26.6,19.95,"612.1","32 pp.",{"$f":"Table1[[#This Row],['# Books]]*Table1[[#This Row],[QTY]]","v":0},{"$f":"Table1[[#This Row],[QTY]]*Table1[[#This Row],[S&L Price]]","v":0}]
[null,null,173,null,"The Human Body",1,"The Nervous System","Library Bound Book","978-1-4339-6588-3",2012,"January 2012","Library","6.500 X 9.000","Author","Heather Moore Niver",6.4,0.5,50,34,"T",null,"Grade 4 - 5","Grade 4 - 6","The nervous system is powered by a supercomputer inside the body called the brain. It processes information taken in by the senses and tells the body how to react. It also stores a lifetime of memories. This amazing organ is capable of accomplishing numerous complex tasks all at once. Together, the brain, spinal column, and nerves make up the nervous system, which make all activities such as eating, sleeping, running, laughing, and even remembering possible. Incredible diagrams and colorful photographs help readers understand the human nervous system.","English",26.6,19.95,"612.8","32 pp.",{"$f":"Table1[[#This Row],['# Books]]*Table1[[#This Row],[QTY]]","v":0},{"$f":"Table1[[#This Row],[QTY]]*Table1[[#This Row],[S&L Price]]","v":0}]
[null,null,173,null,"The Human Body",1,"The Nervous System","eBook","978-1-4339-6589-0",2012,"January 2012",null,null,"Author","Heather Moore Niver",6.4,0.5,50,34,"T",null,"Grade 4 - 5","Grade 4 - 6","The nervous system is powered by a supercomputer inside the body called the brain. It processes information taken in by the senses and tells the body how to react. It also stores a lifetime of memories. This amazing organ is capable of accomplishing numerous complex tasks all at once. Together, the brain, spinal column, and nerves make up the nervous system, which make all activities such as eating, sleeping, running, laughing, and even remembering possible. Incredible diagrams and colorful photographs help readers understand the human nervous system.","English",26.6,19.95,"612.8","32 pp.",{"$f":"Table1[[#This Row],['# Books]]*Table1[[#This Row],[QTY]]","v":0},{"$f":"Table1[[#This Row],[QTY]]*Table1[[#This Row],[S&L Price]]","v":0}]
[null,null,173,null,"Under the Microscope",1,"Bacteria Up Close","Library Bound Book","978-1-4339-8334-4",2014,"August 2013","Library","6.500 X 9.000","Author","Greg Roza",null,null,44,30,"U",null,"Grade 4 - 5","Grade 4 - 6","Bacteria are amazing microorganisms. Their ability to move, multiply, and adapt make them some of the most fascinating subjects of biology. Readers take a look at these microscopic single-celled wonders and gain information about how they're able to survive in a variety of environments. Readers will be surprised to learn there are more bacteria in their body than human cells. Instructive photographs and diagrams accompany these facts and more.","English",26.6,19.95,"616.9","32 pp.",{"$f":"Table1[[#This Row],['# Books]]*Table1[[#This Row],[QTY]]","v":0},{"$f":"Table1[[#This Row],[QTY]]*Table1[[#This Row],[S&L Price]]","v":0}]
[null,null,173,null,"Under the Microscope",1,"DNA Up Close","Library Bound Book","978-1-4339-8342-9",2014,"August 2013","Library","6.500 X 9.000","Author","John M. Shea",null,null,44,30,"U",null,"Grade 4 - 5","Grade 4 - 6","DNA is perhaps the most remarkable scientific discovery of the twentieth century. Found in almost every human cell, DNA holds the instructions for life. Readers discover how these instructions are carried out and how they make us who we are. Readers also learn the implications of genetic engineering and what recent breakthroughs may mean for the future. Amazing photographs include images of cells, DNA, chromosomes, and more.","English",26.6,19.95,"572.8","48 pp.",{"$f":"Table1[[#This Row],['# Books]]*Table1[[#This Row],[QTY]]","v":0},{"$f":"Table1[[#This Row],[QTY]]*Table1[[#This Row],[S&L Price]]","v":0}]
[null,null,173,null,"Under the Microscope",1,"Tiny Bugs Up Close","eBook","978-1-4339-8353-5",2014,"August 2013",null,null,"Author","Janey Levy",null,null,44,30,"U",null,"Grade 4 - 5","Grade 4 - 6","Bugs vastly outnumber people on Earth. Unlike people, there are many different species of insects, arachnids, flies, and other tiny creatures. It's easy to appreciate these differences and the interesting adaptations of tiny bugs when we can see them up close under a microscope. The photographs provided in this book allow readers to do just that, but without the need for scientific tools. Readers see the information on each page reflected in the detailed photographs and gain a greater appreciation for the microscopic world of bugs.","English",26.6,19.95,"595.02","48 pp.",{"$f":"Table1[[#This Row],['# Books]]*Table1[[#This Row],[QTY]]","v":0},{"$f":"Table1[[#This Row],[QTY]]*Table1[[#This Row],[S&L Price]]","v":0}]
[null,null,173,null,"Under the Microscope",1,"Viruses Up Close","Library Bound Book","978-1-4339-8354-2",2014,"August 2013","Library","6.500 X 9.000","Author","John M. Shea",null,null,44,30,"U",null,"Grade 4 - 5","Grade 4 - 6","Virus: Just the word makes people squirm and want to wash their hands. Readers will learn what these microscopic pests are and examine various strains in magnified photographs. They'll find out how viruses replicate and travel from place to place. They'll understand that viruses don't just infect people. Perhaps most importantly, readers will learn what they can do to protect themselves from viruses now and in the future.","English",26.6,19.95,"614.5","48 pp.",{"$f":"Table1[[#This Row],['# Books]]*Table1[[#This Row],[QTY]]","v":0},{"$f":"Table1[[#This Row],[QTY]]*Table1[[#This Row],[S&L Price]]","v":0}]
[null,null,173,null,"Nature's Wrath: The Science Behind Natural Disasters",1,"The Science of Earthquakes","eBook","978-1-4339-8658-1",2013,"January 2013",null,null,"Author","Matt Anniss",null,null,50,30,"U",null,"Grade 5","Grade 4 - 6","In January 1994, an earthquake shook a neighborhood in Los Angeles, California, so hard that highway overpasses immediately collapsed. Gas pipes burst and buildings caught on fire. Sixteen people died in a fallen apartment building. As one of the most common natural disasters in the world, earthquakes can be a terrifying force of nature. Readers will be introduced to the amazing science behind an earthquake occurrence in addition to modern examples of earthquakes from all over the world. Including seismology and disaster relief, accessible content will engage readers while full-color photographs augment detailed timelines of featured earthquakes. Powered by information, readers will be ready to do more than just duck and cover when an earthquake hits.","English",31.95,23.95,"511.22","48 pp.",{"$f":"Table1[[#This Row],['# Books]]*Table1[[#This Row],[QTY]]","v":0},{"$f":"Table1[[#This Row],[QTY]]*Table1[[#This Row],[S&L Price]]","v":0}]
[null,null,173,null,"Nature's Wrath: The Science Behind Natural Disasters",1,"The Science of Tornadoes","Library Bound Book","978-1-4339-8663-5",2013,"January 2013","Library","8.000 X 10.00","Author","Matt Anniss",null,null,50,30,"U",null,"Grade 5","Grade 4 - 6","Hundred-mile winds and sky-high funnel clouds can mean only one thing: a tornado is coming. Readers will learn everything they need to know about tornadoes, from what they are and why and when they happen, to what remains after they rip through an area. Age-appropriate content thoroughly explains tornado activity in the United States and abroad, and real-life examples give readers insight into how communities cope with one of nature’s most destructive forces. The book includes fast facts about the biggest and most destructive tornadoes in history, and a section entitled “Survivors Speak” features survivors’ stories in their own words. Through stories about scientists and real-life storm chasers, readers will discover the fascination with tornadoes while also understanding the danger and destruction they bring. Stunning photographs and captions accompany the text, giving readers an eye-opening look at one of our world’s most incredible natural disasters.","English",31.95,23.95,"551.55","48 pp.",{"$f":"Table1[[#This Row],['# Books]]*Table1[[#This Row],[QTY]]","v":0},{"$f":"Table1[[#This Row],[QTY]]*Table1[[#This Row],[S&L Price]]","v":0}]
[null,null,173,null,"Machines That Won the War",1,"Machines and Weaponry of the Cold War","Library Bound Book","978-1-4339-8591-1",2013,"January 2013","Library","8.000 X 10.00","Author","Charlie Samuels",null,null,50,30,"V",null,"Grade 5 - 6","Grade 5 - 8","The war that never saw a true battle had some of the most impressive weapons in military history—on both sides. In this exciting series, readers take a look at the science behind the United States’ Cold War with the Soviet Union, a decades-long buildup of warheads and weapons that ended without a battle fought. Full-color photographs will introduce readers to the tanks, missiles, and airplanes that Soviets and Americans amassed over the years. Firsthand accounts from soldiers who developed and operated these weapons will help readers understand how the development and application of technology can mean the difference between winning and losing the biggest battles in history.","English",31.95,23.95,"623.40973","48 pp.",{"$f":"Table1[[#This Row],['# Books]]*Table1[[#This Row],[QTY]]","v":0},{"$f":"Table1[[#This Row],[QTY]]*Table1[[#This Row],[S&L Price]]","v":0}]
[null,null,173,null,"Machines That Won the War",1,"Machines and Weaponry of the Cold War","eBook","978-1-4339-8594-2",2013,"January 2013",null,null,"Author","Charlie Samuels",null,null,50,30,"V",null,"Grade 5 - 6","Grade 5 - 8","The war that never saw a true battle had some of the most impressive weapons in military history—on both sides. In this exciting series, readers take a look at the science behind the United States’ Cold War with the Soviet Union, a decades-long buildup of warheads and weapons that ended without a battle fought. Full-color photographs will introduce readers to the tanks, missiles, and airplanes that Soviets and Americans amassed over the years. Firsthand accounts from soldiers who developed and operated these weapons will help readers understand how the development and application of technology can mean the difference between winning and losing the biggest battles in history.","English",31.95,23.95,"623.40973","48 pp.",{"$f":"Table1[[#This Row],['# Books]]*Table1[[#This Row],[QTY]]","v":0},{"$f":"Table1[[#This Row],[QTY]]*Table1[[#This Row],[S&L Price]]","v":0}]
[null,null,173,null,"Machines That Won the War",1,"Machines and Weaponry of World War I","Library Bound Book","978-1-4339-8603-1",2013,"January 2013","Library","8.000 X 10.00","Author","Charlie Samuels",null,null,50,30,"V",null,"Grade 5 - 6","Grade 5 - 8","It was the war to end all wars, one of the largest and deadliest conflicts in human history. Readers will find out how America used its brave men and military technology to come out on top in World War I. Readers will explore the world of military machines and the science behind the United States’ victories against the Germans. Full-color photographs will show readers the artillery, tanks, and guns that powered the American attack. Firsthand accounts from soldiers who developed and operated these weapons will help readers understand how the development and application of technology can mean the difference between winning and losing the biggest battles in history.","English",31.95,23.95,"940.4","24 pp.",{"$f":"Table1[[#This Row],['# Books]]*Table1[[#This Row],[QTY]]","v":0},{"$f":"Table1[[#This Row],[QTY]]*Table1[[#This Row],[S&L Price]]","v":0}]
[null,null,173,null,"Kids of Character",1,"I Am a Good Friend","Library Bound Book","978-1-4339-9017-5",2014,"August 2013","Library","7.000 X 7.000","Author","Maria Nelson",2.2999999999999998,0.5,14,13,"H",null,"Grade 1 - 2","Grade 1 - 3","Friends help solve problems. They can pass on cool skills and fun information. And most importantly, they’re fun! Being a good friend can be tough, but readers will learn all about it through relatable examples and vivid accompanying photographs. Including sharing and listening skills, the main content enhances character education while instructing readers on being a good friend in different kinds of situations. Having friends is important, but being a friend is even more so!","English",22.6,16.95,"177.62","24 pp.",{"$f":"Table1[[#This Row],['# Books]]*Table1[[#This Row],[QTY]]","v":0},{"$f":"Table1[[#This Row],[QTY]]*Table1[[#This Row],[S&L Price]]","v":0}]
[null,null,173,null,"Kids of Character",1,"I Am Polite","eBook","978-1-4339-9028-1",2014,"August 2013",null,null,"Author","Maria Nelson",2.2999999999999998,0.5,14,13,"H","480L","Grade 1 - 2","Grade 1 - 3","Having good manners is more than saying “please” and “thank you.” Good manners are displayed by everyday actions, such as holding the door for someone or shaking someone’s hand when you meet them. Readers will learn all about being polite through common situations and colorful photographs. Relatable examples will help them understand the different times it’s important to be polite, as well as complement character education curriculum standards. Readers learn that it's fun being polite!","English",22.6,16.95,"177.1","32 pp.",{"$f":"Table1[[#This Row],['# Books]]*Table1[[#This Row],[QTY]]","v":0},{"$f":"Table1[[#This Row],[QTY]]*Table1[[#This Row],[S&L Price]]","v":0}]
[null,null,173,null,"Kids of Character",1,"I Can Listen","Library Bound Book","978-1-4339-9029-8",2014,"August 2013","Library","7.000 X 7.000","Author","Maria Nelson",2.6,0.5,14,13,"H","530L","Grade 1 - 2","Grade 1 - 3","Good listening skills help make communicating with others a better experience. Being quiet when another person is talking allows them to pass on information more easily. It implies that the listener respects the speaker. Nodding and smiling when someone speaks can help them know they are being listened to, as well. Readers will learn about these skills and more while navigating relatable situations. Vivid photographs will enhance the different ways listening skills are important and how to use them. Through achievable content and everyday settings, readers will learn how to become better listeners.","English",22.6,16.95,"153.68","32 pp.",{"$f":"Table1[[#This Row],['# Books]]*Table1[[#This Row],[QTY]]","v":0},{"$f":"Table1[[#This Row],[QTY]]*Table1[[#This Row],[S&L Price]]","v":0}]
[null,null,173,null,"Kids of Character",1,"I Can Volunteer","eBook","978-1-4339-9040-3",2014,"August 2013",null,null,"Author","Maria Nelson",2.9,0.5,14,13,"H","660L","Grade 1 - 2","Grade 1 - 3","There are so many ways to help around the community. Clothing drives, soup kitchens, and hospitals are always looking for volunteers to give their time and energy to a good cause. Readers will be introduced to many ways they can give back to the world around them. Brightly colored photographs enhance the relatable and age-appropriate examples of volunteering opportunities, while readers learn important lessons about character. Everyday stories about helping those around us will inspire readers to do the same!","English",22.6,16.95,"361.37","32 pp.",{"$f":"Table1[[#This Row],['# Books]]*Table1[[#This Row],[QTY]]","v":0},{"$f":"Table1[[#This Row],[QTY]]*Table1[[#This Row],[S&L Price]]","v":0}]
[null,null,173,null,"The Student's Toolbox",1,"Tips for Better Planning","Library Bound Book","978-1-4824-0167-7",2014,"January 2014","Library","7.750 X 10.00","Author","Angela Royston",null,null,40,26,"Q",null,"Grade 4 - 5","Grade 4 - 6","Being a good planner is handy whether one is getting ready to tackle a homework assignment, saving up for a new video game, or preparing for a birthday party. Everything from defining a specific objective before the planning process to creating alternative plans is covered in this colorful book, which even offers suggestions for events to plan, such as a car wash for charity. Without a doubt, planning is a lifelong skill best learned early for future success.","English",26.6,19.95,"371.2","32 pp.",{"$f":"Table1[[#This Row],['# Books]]*Table1[[#This Row],[QTY]]","v":0},{"$f":"Table1[[#This Row],[QTY]]*Table1[[#This Row],[S&L Price]]","v":0}]
[null,null,173,null,"The Student's Toolbox",1,"Tips for Good Social Networking","Library Bound Book","978-1-4339-9957-4",2014,"January 2014","Library","7.750 X 10.00","Author","Ruth Bennett",null,null,40,26,"Q",null,"Grade 4 - 5","Grade 4 - 6","Networking, the art of making contacts and forging friendships, is a skill that can be practiced and honed. It's important as a young person trying to make friends and as an adult looking for business opportunities. Many social networking tips, both online and offline, are thoroughly presented in this brightly designed book, which encourages readers to get involved with their community, develop their interests, and expand their world.","English",26.6,19.95,"302.3","24 pp.",{"$f":"Table1[[#This Row],['# Books]]*Table1[[#This Row],[QTY]]","v":0},{"$f":"Table1[[#This Row],[QTY]]*Table1[[#This Row],[S&L Price]]","v":0}]
[null,null,173,null,"The Student's Toolbox",1,"Tips for Good Social Networking","eBook","978-1-4824-6518-1",2014,"January 2014",null,null,"Author","Ruth Bennett",null,null,40,26,"Q",null,"Grade 4 - 5","Grade 4 - 6","Networking, the art of making contacts and forging friendships, is a skill that can be practiced and honed. It's important as a young person trying to make friends and as an adult looking for business opportunities. Many social networking tips, both online and offline, are thoroughly presented in this brightly designed book, which encourages readers to get involved with their community, develop their interests, and expand their world.","English",26.6,19.95,"302.3","24 pp.",{"$f":"Table1[[#This Row],['# Books]]*Table1[[#This Row],[QTY]]","v":0},{"$f":"Table1[[#This Row],[QTY]]*Table1[[#This Row],[S&L Price]]","v":0}]
[null,null,173,null,"Culture in the Kitchen",1,"Foods of India","Library Bound Book","978-1-4339-5706-2",2012,"August 2011","Library","8.500 X 8.500","Author","Mary Molly Shea",4.5,0.5,30,24,"M",null,"Grade 2 - 3","Grade 2 - 5","Spices once drew explorers to India’s shores, and now they draw hungry people—the globe over—to Indian restaurants everywhere! From region to region, the cuisine of India can be quite different. Readers are invited to explore India through its food, including delicious flat breads such as naan and spicy vindaloo sauces. Leave some room for a creamy chai tea for dessert! Vibrant photographs and a fun recipe will entice readers to explore more about Indian cuisine and culture.","English",22.6,16.95,"641.5954","24 pp.",{"$f":"Table1[[#This Row],['# Books]]*Table1[[#This Row],[QTY]]","v":0},{"$f":"Table1[[#This Row],[QTY]]*Table1[[#This Row],[S&L Price]]","v":0}]
[null,null,173,null,"Culture in the Kitchen",1,"Foods of Mexico","Library Bound Book","978-1-4339-5714-7",2012,"August 2011","Library","8.500 X 8.500","Author","Kevin Pearce",4.5,0.5,20,24,"L",null,"Grade 2 - 3","Grade 2 - 5","Tacos, enchiladas, tortillas, and even huevos rancheros are not unusual items in many American restaurants. Mexican food is loved all over the world, but Mexico’s kitchens hold much more than these dishes. Some surprising ingredients and fascinating cultural facts are in store for readers and fledgling chefs. Mexicans use prickly pear cactus, plantains, and even chocolate in their meals. A salsa recipe at the end of the book gives young cooks a chance to create their own fiesta!","English",22.6,16.95,"641.5972","24 pp.",{"$f":"Table1[[#This Row],['# Books]]*Table1[[#This Row],[QTY]]","v":0},{"$f":"Table1[[#This Row],[QTY]]*Table1[[#This Row],[S&L Price]]","v":0}]
[null,null,173,null,"Culture in the Kitchen",1,"Foods of West Africa","eBook","978-1-4339-5723-9",2012,"August 2011",null,null,"Author","Ethan Y. Garten",4.5999999999999996,0.5,30,24,"M",null,"Grade 2 - 3","Grade 2 - 5","Perhaps there’s no better—or more fun—way to learn about a place than to read about its cuisine while tasting it as well! West Africa is home to 20 countries and borders on both the Sahara Desert and the Atlantic Ocean. In modern times, Africans use the ingredients available to them for one-pot meals, while in earlier times cuisine was bound to the tragic history of slavery. Many of the traditional foods of the American South come from West Africa, such as okra and black-eyed peas. After readers take a tour of West Africa in the pages of this book, they can make a traditional West African sweet treat.","English",22.6,16.95,"394.1","24 pp.",{"$f":"Table1[[#This Row],['# Books]]*Table1[[#This Row],[QTY]]","v":0},{"$f":"Table1[[#This Row],[QTY]]*Table1[[#This Row],[S&L Price]]","v":0}]
[null,null,173,null,"Landmarks of Liberty",1,"Visit Independence Hall","Library Bound Book","978-1-4339-6384-1",2012,"January 2012","Library","8.500 X 8.500","Author","Alix Wood",5.3,0.5,28,26,"M",null,"Grade 2 - 3","Grade 2 - 5","Philadelphia’s Independence Hall invites visitors to stand in the same room where the Declaration of Independence was signed. Today, anyone can see where George Washington sat as he presided over the Constitutional Convention. This historical building was a gathering place during the most crucial moments of the country’s birth. Readers will get a glimpse back in history through the photographs of Independence Hall, past and present. ","English",22.6,16.95,"973.3","24 pp.",{"$f":"Table1[[#This Row],['# Books]]*Table1[[#This Row],[QTY]]","v":0},{"$f":"Table1[[#This Row],[QTY]]*Table1[[#This Row],[S&L Price]]","v":0}]
[null,null,173,null,"Landmarks of Liberty",1,"Visit the Liberty Bell","eBook","978-1-4339-6393-3",2012,"January 2012",null,null,"Author","Jo Francis",4.5,0.5,28,26,"M",null,"Grade 2 - 3","Grade 2 - 5","The Liberty Bell is a reminder of the American colonies’ fight for freedom. Readers will learn how it became famous, why it cracked and, how the bell became an important symbol for those seeking liberty for American slaves. Fun facts and up-close photographs abound in this book that will make young patriots want to see the Liberty Bell in person.","English",22.6,16.95,"973","24 pp.",{"$f":"Table1[[#This Row],['# Books]]*Table1[[#This Row],[QTY]]","v":0},{"$f":"Table1[[#This Row],[QTY]]*Table1[[#This Row],[S&L Price]]","v":0}]
[null,null,174,null,"Landmarks of Liberty",1,"Visit the Statue of Liberty","Library Bound Book","978-1-4339-6400-8",2012,"January 2012","Library","8.500 X 8.500","Author","Siobhan Moriarty",5.5,0.5,28,26,"M",null,"Grade 2 - 3","Grade 2 - 5","The Statue of Liberty is an icon of the United States. The story of Lady Liberty is one of friendship, cooperation, and a firm belief in democracy. Readers will learn about the ingenious engineering within the statue. They’ll see vivid photographs showcasing her creation in France and her current watchful presence in New York Harbor. Readers will also learn why the statue has become a symbol of optimism and pride for many people.","English",22.6,16.95,"974.7","24 pp.",{"$f":"Table1[[#This Row],['# Books]]*Table1[[#This Row],[QTY]]","v":0},{"$f":"Table1[[#This Row],[QTY]]*Table1[[#This Row],[S&L Price]]","v":0}]
[null,null,174,null,"Mapping the World",1,"Mapping Antarctica","Library Bound Book","978-1-4339-9094-6",2014,"August 2013","Library","8.500 X 8.500","Author","Greg Roza",5,0.5,24,20,"L",null,"Grade 2 - 3","Grade 2 - 5","Even though explorers have been trekking to the far southern end of the globe for more than 200 years, there’s still a lot to discover on the icy continent of Antarctica. In fact, research stations across the continent teach us new things every year. Readers will learn about a great mountain range buried under ice, massive glaciers, and the wildlife that survives the cold. Majestic photographs and detailed maps will engage readers as geographical, historical, and weather information introduce them to the fifth-largest continent on Earth. Fact boxes enhance the main content to intrigue future explorers and scientists alike.","English",22.6,16.95,"526.09989","24 pp.",{"$f":"Table1[[#This Row],['# Books]]*Table1[[#This Row],[QTY]]","v":0},{"$f":"Table1[[#This Row],[QTY]]*Table1[[#This Row],[S&L Price]]","v":0}]
[null,null,174,null,"Mapping the World",1,"Mapping Antarctica","eBook","978-1-4339-9097-7",2014,"August 2013",null,null,"Author","Greg Roza",5,0.5,24,20,"L",null,"Grade 2 - 3","Grade 2 - 5","Even though explorers have been trekking to the far southern end of the globe for more than 200 years, there’s still a lot to discover on the icy continent of Antarctica. In fact, research stations across the continent teach us new things every year. Readers will learn about a great mountain range buried under ice, massive glaciers, and the wildlife that survives the cold. Majestic photographs and detailed maps will engage readers as geographical, historical, and weather information introduce them to the fifth-largest continent on Earth. Fact boxes enhance the main content to intrigue future explorers and scientists alike.","English",22.6,16.95,"526.09989","24 pp.",{"$f":"Table1[[#This Row],['# Books]]*Table1[[#This Row],[QTY]]","v":0},{"$f":"Table1[[#This Row],[QTY]]*Table1[[#This Row],[S&L Price]]","v":0}]
[null,null,174,null,"Mapping the World",1,"Mapping Europe","Library Bound Book","978-1-4339-9109-7",2014,"August 2013","Library","8.500 X 8.500","Author","Barbara M. Linde",4.4000000000000004,0.5,24,20,"L",null,"Grade 2 - 3","Grade 2 - 5","Full of ancient ruins as well as modern marvels like the Chunnel, Europe is a continent bursting with old stories and history in the making. Readers will be introduced to some of the most famous places in Europe while learning mapping skills through discussion of climate, geography, and population. Colorful maps complement the main content, and brief fact boxes add even more detail. Readers will enjoy taking a tour of Europe through vivid photographs as they absorb exciting new knowledge about this continent.","English",22.6,16.95,"940","32 pp.",{"$f":"Table1[[#This Row],['# Books]]*Table1[[#This Row],[QTY]]","v":0},{"$f":"Table1[[#This Row],[QTY]]*Table1[[#This Row],[S&L Price]]","v":0}]
[null,null,174,null,"Mapping the World",1,"Mapping South America","Library Bound Book","978-1-4339-9119-6",2014,"August 2013","Library","8.500 X 8.500","Author","Mark J. Harasymiw",5.3,0.5,24,20,"L",null,"Grade 2 - 3","Grade 2 - 5","About 140 million years ago, South America and Africa broke apart, eventually drifting to their current positions on Earth. But when looking at a map of the two, they still look like puzzle pieces! Readers will learn many fascinating facts about the geography of South America. Colorful photographs and detailed maps introduce them to a continent full of high mountains, bustling cities, and fertile grasslands. Fact boxes enhance the main content further as readers expand their knowledge of South America's diverse landforms and cultures, as well as their map skills!","English",22.6,16.95,"980","32 pp.",{"$f":"Table1[[#This Row],['# Books]]*Table1[[#This Row],[QTY]]","v":0},{"$f":"Table1[[#This Row],[QTY]]*Table1[[#This Row],[S&L Price]]","v":0}]
[null,null,174,null,"Exploring the Chesapeake Bay",1,"People of the Chesapeake Bay","eBook","978-1-4339-9779-2",2014,"August 2013",null,null,"Author","Kathleen Connors",null,null,40,26,"R",null,"Grade 3 - 4","Grade 3 - 6","Early in US history, the Chesapeake Bay region became home to many people. Its navigable waterways, abundant natural resources, and beautiful scenes drew first Native American tribes, and then settlers by the thousands. Today, it continues to grow! Through historical facts, maps, and detailed sidebars, readers will learn all about the growth of the Chesapeake Bay region. Including demographic and population statistics and a close look at the major industries, the book will immerse readers in the people of this unique estuary. Vivid photographs will introduce the basic geography of the region, while readers take on conservation concepts that come with a growing population.","English",26.6,19.95,"975.2","32 pp.",{"$f":"Table1[[#This Row],['# Books]]*Table1[[#This Row],[QTY]]","v":0},{"$f":"Table1[[#This Row],[QTY]]*Table1[[#This Row],[S&L Price]]","v":0}]
[null,null,174,null,"Exploring the Chesapeake Bay",1,"Plants and Animals of the Chesapeake Bay","Library Bound Book","978-1-4339-9780-8",2014,"August 2013","Library","6.500 X 9.000","Author","Kathleen Connors",null,null,40,26,"R",null,"Grade 3 - 4","Grade 3 - 6","Chesapeake Bay is bursting with life. Schools of silvery menhaden dart around under the water’s surface. Waterfowl call to each other and dive for delicious seafood snacks. More than 2,000 kinds of plants wave in the ocean breeze or grow in the swamps and shallows nearby. Readers will learn about some of the many plants and animals living in and around Chesapeake Bay, and the habitats they live in. Vivid photographs will invite readers to plunge the bay’s depths for oysters, while sidebars introduce the effects of global climate change and overfishing, and the importance of conservation. A colorful cutaway map of the whole bay ecosystem will help readers consider the links between the plants and animals there as the main content complements the social studies curriculum.","English",26.6,19.95,"917.55","32 pp.",{"$f":"Table1[[#This Row],['# Books]]*Table1[[#This Row],[QTY]]","v":0},{"$f":"Table1[[#This Row],[QTY]]*Table1[[#This Row],[S&L Price]]","v":0}]
[null,null,174,null,"Exploring the Chesapeake Bay",1,"Tributaries of the Chesapeake Bay","eBook","978-1-4339-9795-2",2014,"August 2013",null,null,"Author","Heather Moore Niver",null,null,40,26,"R",null,"Grade 3 - 4","Grade 3 - 6","The many streams and rivers that are part of the Chesapeake Bay watershed provide the freshwater that helps make the bay such a unique ecosystem. The brackish waters are home to lots of plants and animals that are a factor in keeping the bay healthy. However, the tributaries of the Chesapeake Bay can also have negative effects on the health of the bay if the water they feed to the bay is polluted. Readers will learn about the interconnectedness of the bay watershed as well as the importance of this estuary’s tributaries. Including a map of the key rivers flowing into the Chesapeake Bay, the main content will engage readers with the conservation conversation surrounding the bay in addition to its geography. Vivid photographs and detailed sidebars will further draw readers into the growing region surrounding the Chesapeake Bay.","English",26.6,19.95,"577.7","32 pp.",{"$f":"Table1[[#This Row],['# Books]]*Table1[[#This Row],[QTY]]","v":0},{"$f":"Table1[[#This Row],[QTY]]*Table1[[#This Row],[S&L Price]]","v":0}]
[null,null,174,null,"Heroes of the US Military",1,"Heroes of the US Army","Library Bound Book","978-1-4339-7236-2",2013,"August 2012","Library","7.750 X 10.00","Author","Barbara M. Linde",null,null,40,28,"R",null,"Grade 3 - 4","Grade 3 - 6","Beginning with the creation of the Continental army during the American Revolution, the US Army has always fought to protect the nation. Readers learn about individual heroes, such as Medal of Honor recipient Leroy Petry, as well as units of heroes, such as the Cyber Brigade, who work to protect our country. Fun facts are presented in accessible language and accompanied by illustrative photographs of the nation’s oldest military branch—engaging even the most reluctant of readers.","English",26.6,19.95,"355.0092","32 pp.",{"$f":"Table1[[#This Row],['# Books]]*Table1[[#This Row],[QTY]]","v":0},{"$f":"Table1[[#This Row],[QTY]]*Table1[[#This Row],[S&L Price]]","v":0}]
[null,null,174,null,"Heroes of the US Military",1,"Heroes of the US Coast Guard","Library Bound Book","978-1-4339-7240-9",2013,"August 2012","Library","7.750 X 10.00","Author","John M. Shea",null,null,40,28,"R",null,"Grade 3 - 4","Grade 3 - 6","Peacetime duties make the US Coast Guard unique among the many branches of armed force units. This military branch has a broad mission that includes search-and-rescue operations, environmental safety patrols, and boat safety. This fascinating look at the Coast Guard reveals its history and includes some of the most riveting stories of our nation's finest men and women in uniform.","English",26.6,19.95,"363.28","32 pp.",{"$f":"Table1[[#This Row],['# Books]]*Table1[[#This Row],[QTY]]","v":0},{"$f":"Table1[[#This Row],[QTY]]*Table1[[#This Row],[S&L Price]]","v":0}]
[null,null,174,null,"Heroes of the US Military",1,"Heroes of the US Marines","eBook","978-1-4339-7247-8",2013,"August 2012",null,null,"Author","Maria Nelson",null,null,40,28,"R",null,"Grade 3 - 4","Grade 3 - 6","Each US Marine promises to defend the country “until victory is America’s and there is no enemy.” Marines fiercely embrace their mission even as they encounter some of the most dangerous combat situations a soldier can. Readers come to understand what it takes to be a US marine as they learn about some of the major conflicts in which the United States has participated. Each hero’s story reveals the skill, courage, and self-sacrifice required of this branch of the armed forces.","English",26.6,19.95,"359.9","32 pp.",{"$f":"Table1[[#This Row],['# Books]]*Table1[[#This Row],[QTY]]","v":0},{"$f":"Table1[[#This Row],[QTY]]*Table1[[#This Row],[S&L Price]]","v":0}]
[null,null,174,null,"History's Most Haunted",1,"Haunted! Edinburgh Castle","Library Bound Book","978-1-4339-9253-7",2014,"August 2013","Library","7.750 X 10.00","Author","Ryan Nagelhout",null,null,34,22,"O","1080L","Grade 3 - 4","Grade 3 - 6","Deep within the ancient vaults of Edinburgh Castle, evidence of the chilling tales of battles, plague, and terrible torture remain—along with the restless spirits of those who lost their lives beneath one of the oldest castles in Europe. Stories of headless boys haunting the battlements and witchcraft will draw readers in from the first page. Enhanced by spooky photographs of Edinburgh Castle and ghost stories galore, the main content also introduces readers to the fascinating past of the castle as well as many famous figures in Scottish royal history. Eerie sidebars add even more gruesome detail that readers will be eager to share around a campfire or late at night—if they dare!","English",26.6,19.95,"133.1","32 pp.",{"$f":"Table1[[#This Row],['# Books]]*Table1[[#This Row],[QTY]]","v":0},{"$f":"Table1[[#This Row],[QTY]]*Table1[[#This Row],[S&L Price]]","v":0}]
[null,null,174,null,"History's Most Haunted",1,"Haunted! The Queen Mary","eBook","978-1-4339-9261-2",2014,"August 2013",null,null,"Author","Therese M. Shea",null,null,34,22,"O","890L","Grade 3 - 4","Grade 3 - 6","When the Queen Mary sailed the world’s oceans from the 1930s to the 1960s, it was one of the most majestic ships of all time. The ocean liner served nobly during World War II, transporting thousands of Allied troops to their wartime destinations. But today, the Queen Mary is better known for spooky sightings and eerie happenings aboard its decks. Detailed accounts of some of the most famous hauntings will draw in readers, while historical photographs give shape to where the spirits dwell. Spine-tingling sidebars add even more mystery to the Queen Mary as the main content delivers important historical context consistent with the social studies curriculum.","English",26.6,19.95,"133.122","48 pp.",{"$f":"Table1[[#This Row],['# Books]]*Table1[[#This Row],[QTY]]","v":0},{"$f":"Table1[[#This Row],[QTY]]*Table1[[#This Row],[S&L Price]]","v":0}]
[null,null,174,null,"History's Most Haunted",1,"Haunted! The White House","eBook","978-1-4339-9271-1",2014,"August 2013",null,null,"Author","Michael Rajczak",null,null,34,22,"O","960L","Grade 3 - 4","Grade 3 - 6","The smell of laundry wafting through the East Room. The sounds of cursing or laughter in the Rose Room. The ghostly figure of Abraham Lincoln standing before a fireplace. These and many more spooky stories about the White House await readers! Reported to be haunted as far back as the 1800s, the White House harbors mysteries like a beastly cat that foretells of national disasters. Eerie photographs of the best known home in America accompany ghost stories that engage readers with several US presidents and important events in the nation’s history. With sidebars to add historical and paranormal context, these tales will provide thrills and chills that even the Obamas believe!","English",26.6,19.95,"133.1","48 pp.",{"$f":"Table1[[#This Row],['# Books]]*Table1[[#This Row],[QTY]]","v":0},{"$f":"Table1[[#This Row],[QTY]]*Table1[[#This Row],[S&L Price]]","v":0}]
[null,null,174,null,"Native American Library",1,"Apache History and Culture","Library Bound Book","978-1-4339-6661-3",2012,"January 2012","Library","7.750 X 10.00","Authors","D. L. Birchfield, Helen Dwyer",7.6,1,40,26,"O",null,"Grade 3 - 4","Grade 3 - 6","The story of the Apaches is a fascinating tale of courage, tradition, and adaptation. Readers discover the rich history of these people including journeys through harsh climates, battles for land, and modern economic difficulties, between areas such as the Great Plains and the deserts of the Southwest. What emerges is a portrait of a resilient people, and readers learn how the Apaches have been able to adapt to the many changes they have experienced throughout their history while still holding on to the traditions that define them. Historical artwork and captivating photographs are accompanied by facts and firsthand accounts about Apache life in both the past and the present.","English",31.95,23.95,"979.004","48 pp.",{"$f":"Table1[[#This Row],['# Books]]*Table1[[#This Row],[QTY]]","v":0},{"$f":"Table1[[#This Row],[QTY]]*Table1[[#This Row],[S&L Price]]","v":0}]
[null,null,174,null,"Native American Library",1,"Blackfoot History and Culture","eBook","978-1-4339-5955-4",2012,"August 2011",null,null,"Authors","Mary A. Stout, Helen Dwyer",8,1,34,28,"O",null,"Grade 3 - 4","Grade 3 - 6","The Blackfoot people make up an international confederation of tribes from both the United States and Canada. Readers discover the deep history and rich traditions of the four tribes of the Blackfoot Confederacy in this engaging volume. They see the journey these people once took across North America as they hunted migratory buffalo as well as their struggles with the American and Canadian governments. The lively culture of the Blackfoot people is also detailed, examining their religion, social structure, and artistic endeavors. Historical artwork and captivating photographs highlight both the past and present of the Blackfoot Confederacy.","English",31.95,23.95,"978.004","48 pp.",{"$f":"Table1[[#This Row],['# Books]]*Table1[[#This Row],[QTY]]","v":0},{"$f":"Table1[[#This Row],[QTY]]*Table1[[#This Row],[S&L Price]]","v":0}]
[null,null,174,null,"Native American Library",1,"Comanche History and Culture","Library Bound Book","978-1-4339-7413-7",2013,"August 2012","Library","7.750 X 10.00","Authors","D. L. Birchfield, Helen Dwyer",7.8,1,70,28,"W",null,"Grade 3 - 4","Grade 3 - 6","The vivid photographs and well-written text bring the history and culture of the Comanches to life for readers. The Comanche history is traced from the early period of their life in the northern Rocky Mountains through their strength and prosperity in the 21st century. It explores how their life changed after the acquisition of horses as well as their conflicts with other Native American tribes, the Spanish, and Americans. Readers learn of the Comanches' past suffering on reservations, and of their increasing strength since the late 20th century. The book also discusses their traditional way of life, including their nomadic lifestyle, arts, beliefs, and legends. A helpful timeline summarizes Comanche history, and additional resources and suggested activities offer readers the chance to learn more about this amazing culture.","English",31.95,23.95,"978.004","48 pp.",{"$f":"Table1[[#This Row],['# Books]]*Table1[[#This Row],[QTY]]","v":0},{"$f":"Table1[[#This Row],[QTY]]*Table1[[#This Row],[S&L Price]]","v":0}]
[null,null,174,null,"Native American Library",1,"Cree History and Culture","Library Bound Book","978-1-4339-7417-5",2013,"August 2012","Library","7.750 X 10.00","Authors","Mary A. Stout, Helen Dwyer",7.7,1,70,28,"W",null,"Grade 3 - 4","Grade 3 - 6","Careful research combines well-written text and striking images to interest readers in the history and culture of the Cree. Its discussion of Cree history allows readers to view everything from the prehistoric time through the issues the Crees face today. The book examines the Western Woods Crees and the Plains Crees, and explores the impact of European traders, missionaries, and settlers on Cree life. The volume also looks at the traditional cultures of the two Cree groups, including arts, government, religion, and daily life. A timeline offers a history of the Crees at a glance, and additional resources and suggested activities invite readers to delve even deeper into Cree history and culture.","English",31.95,23.95,"971.2004","48 pp.",{"$f":"Table1[[#This Row],['# Books]]*Table1[[#This Row],[QTY]]","v":0},{"$f":"Table1[[#This Row],[QTY]]*Table1[[#This Row],[S&L Price]]","v":0}]
[null,null,174,null,"Native American Library",1,"Creek History and Culture","eBook","978-1-4339-5963-9",2012,"August 2011",null,null,"Authors","Amy M. Stone, Helen Dwyer",7.6,1,34,28,"O",null,"Grade 3 - 4","Grade 3 - 6","The Creek Nation has undergone numerous changes since its ancestors began thriving along the Mississippi River around AD 800. Today, the Creeks are commonly referred to by their ancestral name, the Muscogees, and they continue to work hard to keep their rich traditions alive. In this book, readers discover the landmark events in the history of these proud people. They see how the Creeks battled to maintain their unique identity—from suffering along the Trail of Tears to taking important roles in the modern Native American activist movement. Fascinating facts are presented about Creek family life, mythology, and art, giving readers an informative look at this thriving culture. ","English",31.95,23.95,"975.004","48 pp.",{"$f":"Table1[[#This Row],['# Books]]*Table1[[#This Row],[QTY]]","v":0},{"$f":"Table1[[#This Row],[QTY]]*Table1[[#This Row],[S&L Price]]","v":0}]
[null,null,174,null,"Native American Library",1,"Navajo History and Culture","Library Bound Book","978-1-4339-6672-9",2012,"January 2012","Library","7.750 X 10.00","Authors","D. L. Birchfield, Helen Dwyer",7.8,1,40,26,"O",null,"Grade 3 - 4","Grade 3 - 6","The proud people of the Navajo Nation continue to keep their history alive, and readers learn about that rich history in this book. As the largest reservation-based nation in North America, the Navajo Nation is connected by a shared past and a collective hope for a brighter future. Readers explore how the Navajo have fought to maintain their unique identity in the face of many obstacles. Also discovering the wonders of Navajo culture including elaborate ceremonies, beautiful clothing, and jewelry. This detailed look at Navajo life includes firsthand accounts of Navajo history, modern challenges facing this proud nation, and striking images that bring life to these fascinating facts.","English",31.95,23.95,"979.1004","48 pp.",{"$f":"Table1[[#This Row],['# Books]]*Table1[[#This Row],[QTY]]","v":0},{"$f":"Table1[[#This Row],[QTY]]*Table1[[#This Row],[S&L Price]]","v":0}]
[null,null,174,null,"Native American Library",1,"Ojibwe History and Culture","eBook","978-1-4339-7424-3",2013,"August 2012",null,null,"Authors","Sierra Adare, Helen Dwyer",7.8,1,70,28,"W",null,"Grade 3 - 4","Grade 3 - 6","Lavishly designed and carefully researched, this well-written volume offers readers a rich introduction to Ojibwe history and culture. Its extensive account of Ojibwe history begins with their life before the arrival of European colonists and concludes with discussion of 21st-century life. Topics include the forced removal of Ojibwes by US and Canadian governments, reservation life, relocation to cities, and the birth of the American Indian Movement. The book also explores the Ojibwes' historic seasonal lifestyle and cultural traditions, including family life, government, beliefs, and legends. Readers will find the timeline and glossary useful, and additional resources and suggested activities provide opportunities for further learning.","English",31.95,23.95,"977.004","48 pp.",{"$f":"Table1[[#This Row],['# Books]]*Table1[[#This Row],[QTY]]","v":0},{"$f":"Table1[[#This Row],[QTY]]*Table1[[#This Row],[S&L Price]]","v":0}]
[null,null,174,null,"Native American Library",1,"Seminole History and Culture","eBook","978-1-4339-7432-8",2013,"August 2012",null,null,"Authors","D. L. Birchfield, Helen Dwyer",7.9,1,70,28,"W",null,"Grade 3 - 4","Grade 3 - 6","Readers discover Seminole history and culture in this richly designed, and well-researched volume. Its in-depth exploration of Seminole history begins with prehistoric times and continues to the present. Among the topics examined are the Seminoles' arrival in Florida in the 1700s, the place of black Seminoles in their society, their struggles to protect their territory from land-hungry Americans, and 21st-century reservation life. The book’s exploration of traditional culture and beliefs includes discussion of the role of uncles in raising children and an account of their origin story. Useful features include a detailed timeline, a list of additional resources for readers interested in learning more, and activities designed to promote further thought.","English",31.95,23.95,"975.9004","32 pp.",{"$f":"Table1[[#This Row],['# Books]]*Table1[[#This Row],[QTY]]","v":0},{"$f":"Table1[[#This Row],[QTY]]*Table1[[#This Row],[S&L Price]]","v":0}]
[null,null,174,null,"Native American Library",1,"Shoshone History and Culture","Library Bound Book","978-1-4339-5974-5",2012,"August 2011","Library","7.750 X 10.00","Authors","Mary A. Stout, Helen Dwyer",7.9,1,38,30,"Q",null,"Grade 3 - 4","Grade 3 - 6","The Shoshones are an incredibly diverse group of Native Americans with a complex history. In this valuable resources, readers discover the events in both the past and present that have had a major impact on the Shoshone Nation—from battles against the Mormons to protests against nuclear testing on their lands. The rich culture of the Shoshones is also explored, including their language, rituals, and myths. Historical and contemporary images accompany stories of the people and places that are vital to understanding the Shoshones and their way of life. ","English",31.95,23.95,"978.004","32 pp.",{"$f":"Table1[[#This Row],['# Books]]*Table1[[#This Row],[QTY]]","v":0},{"$f":"Table1[[#This Row],[QTY]]*Table1[[#This Row],[S&L Price]]","v":0}]
[null,null,174,null,"A Guide to Your Government",1,"Meet the House of Representatives","eBook","978-1-4339-7255-3",2013,"August 2012",null,null,"Author","Therese M. Shea",null,null,44,28,"T",null,"Grade 4 - 5","Grade 4 - 6","There are 435 members in the House of Representatives—and they represent each and every one of us. Readers are introduced to one fascinating half of Congress, including the House’s history and its lawmaking powers. Age-appropriate language and content engage readers in important historical subject matter. In-depth sidebars and fact boxes add even more fun information, and full-color photographs appeal to both budding historians and interested young citizens.","English",26.6,19.95,"328.73","32 pp.",{"$f":"Table1[[#This Row],['# Books]]*Table1[[#This Row],[QTY]]","v":0},{"$f":"Table1[[#This Row],[QTY]]*Table1[[#This Row],[S&L Price]]","v":0}]
[null,null,174,null,"A Guide to Your Government",1,"Meet the Senate","Library Bound Book","978-1-4339-7267-6",2013,"August 2012","Library","6.500 X 9.000","Author","Jason Glaser",null,null,44,28,"T",null,"Grade 4 - 5","Grade 4 - 6","As one of the lawmaking bodies of the US government, the US Senate has a hand in how all Americans live their lives. Readers learn about the inner workings of the Senate, including information about equal representation conceived by the Founding Fathers through today’s filibusters. Readers see how the work of the Senate influences their own everyday lives as well. Fun fact boxes and sidebars provide even more interesting history while enhancing content that supports the social studies curriculum. Colorful photographs allow readers to “meet” some of the most influential senators in history.  ","English",26.6,19.95,"328.73","32 pp.",{"$f":"Table1[[#This Row],['# Books]]*Table1[[#This Row],[QTY]]","v":0},{"$f":"Table1[[#This Row],[QTY]]*Table1[[#This Row],[S&L Price]]","v":0}]
[null,null,174,null,"A Guide to Your Government",1,"Meet the Supreme Court","Library Bound Book","978-1-4339-7268-3",2013,"August 2012","Library","6.500 X 9.000","Author","Drew Nelson",null,null,44,28,"T",null,"Grade 4 - 5","Grade 4 - 6","The Supreme Court has an important role in American government, such as keeping lawmakers in check and passing down influential decisions. Readers are introduced to the history of the Supreme Court, including many landmark decisions that have shaped our nation. Fascinating fact boxes and detailed sidebars enhance important social studies content, and full-color photographs add to the interesting subject matter. The fun, in-depth approach to a common social studies topic engages budding lawyers, judges, and historians alike.","English",26.6,19.95,"347.73","32 pp.",{"$f":"Table1[[#This Row],['# Books]]*Table1[[#This Row],[QTY]]","v":0},{"$f":"Table1[[#This Row],[QTY]]*Table1[[#This Row],[S&L Price]]","v":0}]
[null,null,174,null,"Documents That Shaped America",1,"The Articles of Confederation","eBook","978-1-4339-8996-4",2014,"August 2013",null,null,"Author","Blair Belton",null,null,44,28,"T",null,"Grade 4 - 5","Grade 4 - 6","Many people don't know that the US Constitution isn't the first American constitution. The Articles of Confederation was the document that united the newly created states in 1781. Not everything went smoothly in the early days of our country. Readers will find out the events that led to the replacement of this constitution. They'll learn its strengths, weaknesses, and why the US Constitution may have been the country's last hope of staying united.","English",26.6,19.95,"342.7302","32 pp.",{"$f":"Table1[[#This Row],['# Books]]*Table1[[#This Row],[QTY]]","v":0},{"$f":"Table1[[#This Row],[QTY]]*Table1[[#This Row],[S&L Price]]","v":0}]
[null,null,175,null,"Documents That Shaped America",1,"The Mayflower Compact","Library Bound Book","978-1-4339-9005-2",2014,"August 2013","Library","6.500 X 9.000","Author","Kristen Rajczak Nelson",null,null,44,28,"T",null,"Grade 4 - 5","Grade 4 - 6","Though just 200 words, the Mayflower Compact had a profound impact on the lives of a small group of settlers and the colony they would establish. This historic document kept a struggling group of Pilgrims together during a difficult time in their journey from England to the founding of Plymouth in 1620. Readers will learn what this document said, why it's considered to be so important, and about questions surrounding its intent. Images of the events throughout the book help illustrate and highlight the trials and triumphs of the Pilgrims.   ","English",26.6,19.95,"974.4","48 pp.",{"$f":"Table1[[#This Row],['# Books]]*Table1[[#This Row],[QTY]]","v":0},{"$f":"Table1[[#This Row],[QTY]]*Table1[[#This Row],[S&L Price]]","v":0}]
[null,null,175,null,"Documents That Shaped America",1,"Thomas Paine's Common Sense","eBook","978-1-4339-9016-8",2014,"August 2013",null,null,"Author","Ryan Nagelhout",null,null,44,28,"T",null,"Grade 4 - 5","Grade 4 - 6","If people ever doubt that the printed word can change the world, they should look to Common Sense, the pamphlet penned by Thomas Paine. Just paper and ink helped persuade American colonists that independence from England was imperative. The powerful piece is examined in this book in the context of the turbulent era in which it was written. Readers are provided a close look at the time period through relevant images and invited to imagine whether they, too, would have joined the cause of the Americans.","English",26.6,19.95,"973.3","48 pp.",{"$f":"Table1[[#This Row],['# Books]]*Table1[[#This Row],[QTY]]","v":0},{"$f":"Table1[[#This Row],[QTY]]*Table1[[#This Row],[S&L Price]]","v":0}]
[null,null,175,null,"Explorers Discovering the World",1,"The Exploration of Arabia and Asia","eBook","978-1-4339-8618-5",2013,"January 2013",null,null,"General editor","Tim Cooke",null,null,50,30,"U",null,"Grade 4 - 5","Grade 4 - 6","The Silk Road first brought Europeans to Asia for trade and changed the course of history. Readers will learn who explored the Asian peninsula and about the exploits of famous explorers such as Marco Polo and Ferdinand Magellan. Full-color photographs show the interesting landscapes and history in stunning detail. Fact boxes add depth to every expedition and journey, while glossary terms and further information give readers an in-depth examination of this exciting topic.","English",31.95,23.95,"915","48 pp.",{"$f":"Table1[[#This Row],['# Books]]*Table1[[#This Row],[QTY]]","v":0},{"$f":"Table1[[#This Row],[QTY]]*Table1[[#This Row],[S&L Price]]","v":0}]
[null,null,175,null,"Explorers Discovering the World",1,"The Exploration of Australasia and the Pacific","Library Bound Book","978-1-4339-8619-2",2013,"January 2013","Library","8.000 X 10.00","General editor","Tim Cooke",null,null,50,30,"U",null,"Grade 4 - 5","Grade 4 - 6","Europe’s search for better trade routes led to explorers stumbling on an entire continent. Readers will learn how humanity pushed to the edges of the Earth in the quest for knowledge of the Pacific. Readers will learn the exploits of famous explorers such as James Cook and Friedrich Leichhardt while full-color photographs show the landscape in stunning detail. Fact boxes add depth to every expedition and journey, while glossary terms and further information give readers an in-depth examination of this exciting topic.","English",31.95,23.95,"919","48 pp.",{"$f":"Table1[[#This Row],['# Books]]*Table1[[#This Row],[QTY]]","v":0},{"$f":"Table1[[#This Row],[QTY]]*Table1[[#This Row],[S&L Price]]","v":0}]
[null,null,175,null,"Explorers Discovering the World",1,"The Exploration of South America","eBook","978-1-4339-8630-7",2013,"January 2013",null,null,"General editor","Tim Cooke",null,null,50,30,"U",null,"Grade 4 - 5","Grade 4 - 6","Explorers searching for a “New World” found a continent teeming with life and opportunity. Readers will learn how humanity pushed to the edges of the Earth in the quest for knowledge. They will also learn about the exploits of famous explorers such as Francisco Pizarro and Americo Vespucci while full-color photographs show the continent in stunning detail. Fact boxes add depth to every expedition and journey, while glossary terms and further information give readers an in-depth examination of this exciting topic.","English",31.95,23.95,"980","48 pp.",{"$f":"Table1[[#This Row],['# Books]]*Table1[[#This Row],[QTY]]","v":0},{"$f":"Table1[[#This Row],[QTY]]*Table1[[#This Row],[S&L Price]]","v":0}]
[null,null,175,null,"Technology in the Ancient World",1,"Technology in Ancient Egypt","Library Bound Book","978-1-4339-9628-3",2014,"August 2013","Library","8.000 X 10.00","Author","Charlie Samuels",null,null,44,28,"T",null,"Grade 4 - 5","Grade 4 - 6","Perhaps the most well known innovation of the ancient Egyptians is mummification—but they knew far more about the human body than just how to preserve it. There’s evidence that the ancient Egyptians knew how to set broken bones and that they knew a person’s pulse and heart were linked. Readers will learn about ancient Egypt’s earliest technology, from that used in medicine, to arts like pottery, glassmaking, and weaving. Through historical content and each section’s accompanying sidebar, readers also will have a strong introduction to a common social studies curriculum topic: the culture of the ancient Egyptians. Up-close photographs of artifacts as well as artistic renderings of Egyptian shipbuilding, architecture, and other activities will engage readers in the ancient world of Egypt while a detailed timeline highlights important events.  ","English",31.95,23.95,"932","48 pp.",{"$f":"Table1[[#This Row],['# Books]]*Table1[[#This Row],[QTY]]","v":0},{"$f":"Table1[[#This Row],[QTY]]*Table1[[#This Row],[S&L Price]]","v":0}]
[null,null,175,null,"Technology in the Ancient World",1,"Technology in Ancient Mesopotamia","eBook","978-1-4339-9643-6",2014,"August 2013",null,null,"Author","Charlie Samuels",null,null,44,28,"T",null,"Grade 4 - 5","Grade 4 - 6","It’s probable that the ancient people in Mesopotamia were the first to use the wheel for transportation around 3200 BC. If that’s not impressive enough, the famous Hanging Gardens of Babylon were dreamed up and executed by this ancient culture. Sure to draw readers in, the main historical content covers the many cultures of ancient Mesopotamia and their technological advances in many areas, from shipbuilding to farming. Fascinating artistic renderings of ziggurats, Mesopotamian cities, and how arrowheads were made using clay molds enhance each section, along with up-close photographs of artifacts and ancient craftwork. A helpful timeline guides readers through the major historical events of the time while sidebars offer even more detail about each chapter.","English",31.95,23.95,"935","32 pp.",{"$f":"Table1[[#This Row],['# Books]]*Table1[[#This Row],[QTY]]","v":0},{"$f":"Table1[[#This Row],[QTY]]*Table1[[#This Row],[S&L Price]]","v":0}]
[null,null,175,null,"Technology in the Ancient World",1,"Technology in Ancient Rome","eBook","978-1-4339-9639-9",2014,"August 2013",null,null,"Author","Charlie Samuels",null,null,44,28,"T",null,"Grade 4 - 5","Grade 4 - 6","The ancient Romans’ road-building technology was so good, some of their roads are still being used! Considered in the context of their other famous construction triumphs—such as the Colosseum and Hadrian’s Wall—the Roman roads are just a small piece of their technological stamp on the world. Readers will be fascinated by the many modern innovations the Romans had a hand in developing, including running toilets and the 365-day calendar. As each section focuses on a new topic, such as the Romans’ farming technology, sidebars add fun facts and detail to flesh out knowledge readers encounter in the classroom. Present-day photographs of artifacts and existing structures enhance the main historical content while a timeline concisely summarizes the major events of ancient Rome. Readers will be immersed in ancient Roman culture—and want to know even more!","English",31.95,23.95,"937","32 pp.",{"$f":"Table1[[#This Row],['# Books]]*Table1[[#This Row],[QTY]]","v":0},{"$f":"Table1[[#This Row],[QTY]]*Table1[[#This Row],[S&L Price]]","v":0}]
[null,null,175,null,"Why'd They Do That? Strange Customs of the Past",1,"Body Snatching","Library Bound Book","978-1-4339-9572-9",2014,"August 2013","Library","7.750 X 10.00","Author, Illustrated by","Alix Wood, Alix Wood",null,null,40,26,"R",null,"Grade 4 - 5","Grade 4 - 6","Body snatching is the act of digging up bodies from graveyards. This creepy practice was at its most prevalent in the 1800s, when doctors paid for bodies so that they could learn about human anatomy. Body snatching was so common that special coffins and even weapons were invented to protect graves. Readers will be amazed by bizarre accounts of famous body snatchers and how they were brought to justice. They will be astounded that body snatching still happens in modern times. Interesting fact boxes, helpful illustrations, and colorful photographs support this fascinating text.","English",26.6,19.95,"364.15","32 pp.",{"$f":"Table1[[#This Row],['# Books]]*Table1[[#This Row],[QTY]]","v":0},{"$f":"Table1[[#This Row],[QTY]]*Table1[[#This Row],[S&L Price]]","v":0}]
[null,null,175,null,"Why'd They Do That? Strange Customs of the Past",1,"Gladiators: Fighting to the Death","eBook","978-1-4339-9583-5",2014,"August 2013",null,null,"Author, Illustrated by","Alix Wood, Alix Wood",null,null,40,26,"R",null,"Grade 4 - 5","Grade 4 - 6","Gladiators were mostly slaves and ex-soldiers, but some actually volunteered to fight for ancient Rome’s entertainment. Gladiators went to special schools to acquire the skills needed to best opponents and survive to fight another day. This absorbing book gives detailed descriptions of weapons, armor, rules of the arena, and different--often gruesome--gladiatorial events. Roman history comes alive in photographs of the Colosseum and ancient artifacts, as well as in famous paintings and instructive illustrations. Thankfully, this brutal practice is a piece of the past, but much can be learned about Roman culture through its study.","English",26.6,19.95,"796.8","48 pp.",{"$f":"Table1[[#This Row],['# Books]]*Table1[[#This Row],[QTY]]","v":0},{"$f":"Table1[[#This Row],[QTY]]*Table1[[#This Row],[S&L Price]]","v":0}]
[null,null,175,null,"Why'd They Do That? Strange Customs of the Past",1,"Witch Trials","Library Bound Book","978-1-4339-9592-7",2014,"August 2013","Library","7.750 X 10.00","Author, Illustrated by","Alix Wood, Alix Wood",null,null,40,26,"R",null,"Grade 4 - 5","Grade 4 - 6","From a modern perspective, it seems incredible that people were once executed for practicing witchcraft. Yet, in medieval Europe and colonial America, more than 12,000 lost their lives this way. The “proof” of witchery was often as scanty as a physical deformity or as outrageous as the water test: If the tied-up suspect floated in water, they were guilty; if they sunk, they were innocent! Readers will be fascinated by reports of famous and lesser-known witch trials accompanied by vivid photographs, colorful illustrations, and intriguing fact boxes. They’ll learn how dubious accusations, circumstantial evidence, and a lack of scientific knowledge proved fatal for so many.","English",26.6,19.95,"398.352","48 pp.",{"$f":"Table1[[#This Row],['# Books]]*Table1[[#This Row],[QTY]]","v":0},{"$f":"Table1[[#This Row],[QTY]]*Table1[[#This Row],[S&L Price]]","v":0}]
[null,null,175,null,"Crafts from the Past",1,"The Ancient Chinese","eBook","978-1-4339-7700-8",2013,"August 2012",null,null,"Author","Jessica Cohn",null,null,38,24,"P",null,"Grade 5","Grade 4 - 6","The ancient Chinese—the civilization that invented the compass, gunpowder, and paper, among other things—is incredibly rich in tradition and history. Readers will celebrate many facets of ancient Chinese culture, including its arts, foods, philosophies, and architecture through their reading of this educational volume. The beauty of Chinese calligraphy, sculpture, and painting is undeniable as presented in striking photographs throughout the text. Readers are invited to reproduce important Chinese symbols, such as lanterns and dragons, in the step-by-step art projects featured within. Other highlights include the fascinating beliefs of Chinese philosophers such as Confucius, as well as some fun Chinese puzzles and games that are still played today.","English",31.95,23.95,"931","48 pp.",{"$f":"Table1[[#This Row],['# Books]]*Table1[[#This Row],[QTY]]","v":0},{"$f":"Table1[[#This Row],[QTY]]*Table1[[#This Row],[S&L Price]]","v":0}]
[null,null,175,null,"Crafts from the Past",1,"The Ancient Egyptians","eBook","978-1-4339-7704-6",2013,"August 2012",null,null,"Author","Jessica Cohn",null,null,38,24,"P",null,"Grade 5","Grade 4 - 6","The wonders left behind by the ancient Egyptians are some of the most astounding artifacts in the world. People travel thousands of miles for a glimpse of Egypt’s Great Sphinx and the pyramids and they flock to nearby museums to see mummies and burial masks. Readers are transported back to the distant past without leaving their seats as they learn about many fascinating features of ancient Egyptian culture. Each chapter includes a simple craft relating to the discussion. Reed boats, scarab necklaces, and miniature pyramids are just some of the projects that can be completed with a few simple materials. These fun step-by-step activities will provide readers with a tangible link to some of the most essential concepts of Egyptian history.","English",31.95,23.95,"932.01","48 pp.",{"$f":"Table1[[#This Row],['# Books]]*Table1[[#This Row],[QTY]]","v":0},{"$f":"Table1[[#This Row],[QTY]]*Table1[[#This Row],[S&L Price]]","v":0}]
[null,null,175,null,"Crafts from the Past",1,"The Ancient Romans","Library Bound Book","978-1-4339-7709-1",2013,"August 2012","Library","8.000 X 10.00","Author","Jessica Cohn",null,null,38,24,"P",null,"Grade 5","Grade 4 - 6","Readers will be asking themselves if they could have survived as an ancient Roman after reading all about ancient Roman culture. Life in the military, clothing, food, sports, government, and education are just some of the themes covered. Each chapter features an engaging step-by-step craft associated with the fascinating subject matter. Among other activities, readers can strike a pose in their homemade Roman soldier’s helmet or conquer a miniature city with a handcrafted catapult. Photographs of ancient artifacts and illustrations of key concepts help make ancient Roman history accessible to developing readers.","English",31.95,23.95,"937","48 pp.",{"$f":"Table1[[#This Row],['# Books]]*Table1[[#This Row],[QTY]]","v":0},{"$f":"Table1[[#This Row],[QTY]]*Table1[[#This Row],[S&L Price]]","v":0}]
[null,null,175,null,"History's Most Horrible Jobs",1,"Horrible Jobs in Ancient Egypt","eBook","978-1-4824-0326-8",2014,"January 2014",null,null,"Author","Robyn Hardyman",null,null,44,28,"T","890L","Grade 5 - 6","Grade 5 - 8","What could be worse than embalming a dead body? Being buried with it! Some pharaohs and wealthy Egyptians insisted their servants be buried with them to serve in the afterlife. Other jobs of the time were less deadly, but smellier! Readers learn a lot about ancient Egyptian society as they’re introduced to the unsavory tasks of slaves, peasants, and others. Full-color images showcase archeological evidence of these gross jobs, and interesting sidebars and fact boxes add even more stinky detail. Candid examples—including the removal of a person’s guts during mummification—will stay with readers long after they’ve finished reading.","English",31.95,23.95,"932","48 pp.",{"$f":"Table1[[#This Row],['# Books]]*Table1[[#This Row],[QTY]]","v":0},{"$f":"Table1[[#This Row],[QTY]]*Table1[[#This Row],[S&L Price]]","v":0}]
[null,null,175,null,"History's Most Horrible Jobs",1,"Horrible Jobs in Ancient Greece and Rome","eBook","978-1-4824-6524-2",2014,"January 2014",null,null,"Author","Robyn Hardyman",null,null,44,28,"T","870L","Grade 5 - 6","Grade 5 - 8","Though ancient Greece and Rome had their share of terrible jobs, perhaps the worst was that of the Roman gladiator. He trained endlessly, only to fight for his life anytime entertainment was needed. While some gladiators became rich and famous, most were simply slaughtered. Readers can form their own opinions about the most horrible job in ancient Greece and Rome as they learn surprising information about time-consuming, smelly, and dangerous tasks. Historical images and illustrations highlight horrible laundry practices, food preparation, and living conditions of the time. No detail is too gross to include!","English",31.95,23.95,"937","48 pp.",{"$f":"Table1[[#This Row],['# Books]]*Table1[[#This Row],[QTY]]","v":0},{"$f":"Table1[[#This Row],[QTY]]*Table1[[#This Row],[S&L Price]]","v":0}]
[null,null,175,null,"History's Most Horrible Jobs",1,"Horrible Jobs in Medieval Times","Library Bound Book","978-1-4824-0337-4",2014,"January 2014","Library","8.500 X 11.00","Author","Robyn Hardyman",null,null,44,28,"T","890L","Grade 5 - 6","Grade 5 - 8","During Medieval times, medical practice included bloodletting, leeching, and sometimes sawing off a hand or foot. Those must have been awful jobs! But the poor physicians didn’t have it as bad as dung farmers or smelly fullers. Readers will discover the many terrible tasks that needed to be done, all while learning the social and political structure of Medieval Europe. Sidebars and historical images add even more detail for readers to enjoy—horrible though it may be!","English",31.95,23.95,"940.1","48 pp.",{"$f":"Table1[[#This Row],['# Books]]*Table1[[#This Row],[QTY]]","v":0},{"$f":"Table1[[#This Row],[QTY]]*Table1[[#This Row],[S&L Price]]","v":0}]
[null,null,175,null,"History's Most Horrible Jobs",1,"Horrible Jobs of the Renaissance","eBook","978-1-4824-0372-5",2014,"January 2014",null,null,"Author","Louise Spilsbury",6.4,1,44,28,"T","980L","Grade 5 - 6","Grade 5 - 8","During the Renaissance, people were pinned into their clothing, even elaborate gowns. Children often had to work as pin makers, a job that paid only about $1 for each 20,000 pins made! Clear—but gross—descriptions of other horrible jobs of the Renaissance will draw readers into the castles of lords and the dung heaps tended by peasants. The historical content supports the social studies curriculum, while sidebars and colorful images augment some of the strangest, nastiest tasks that needed doing during that time.","English",31.95,23.95,"940.2","48 pp.",{"$f":"Table1[[#This Row],['# Books]]*Table1[[#This Row],[QTY]]","v":0},{"$f":"Table1[[#This Row],[QTY]]*Table1[[#This Row],[S&L Price]]","v":0}]
[null,null,175,null,"Turning Points in US Military History",1,"The Attack on Pearl Harbor","Library Bound Book","978-1-4824-0409-8",2014,"January 2014","Library","8.000 X 10.00","Author","Charlie Samuels",null,null,44,30,"U",null,"Grade 5 - 6","Grade 5 - 8","Without the Japanese attack on the US fleet at Pearl Harbor in Hawaii, the United States might never have entered World War II. Instead, the American public clamored for a declaration of war against Japan, which soon led to combat with Italy and Germany as well. The motivations for Japan to attack the United States and the repercussions of the event, including the internment of Japanese-Americans, are thoroughly discussed in this valuable book. Actual wartime photographs and absorbing anecdotes will inspire history buffs and anyone interested in this time period.","English",31.95,23.95,"940.54","48 pp.",{"$f":"Table1[[#This Row],['# Books]]*Table1[[#This Row],[QTY]]","v":0},{"$f":"Table1[[#This Row],[QTY]]*Table1[[#This Row],[S&L Price]]","v":0}]
[null,null,175,null,"Turning Points in US Military History",1,"The Attack on Pearl Harbor","eBook","978-1-4824-6530-3",2014,"January 2014",null,null,"Author","Charlie Samuels",null,null,44,30,"U",null,"Grade 5 - 6","Grade 5 - 8","Without the Japanese attack on the US fleet at Pearl Harbor in Hawaii, the United States might never have entered World War II. Instead, the American public clamored for a declaration of war against Japan, which soon led to combat with Italy and Germany as well. The motivations for Japan to attack the United States and the repercussions of the event, including the internment of Japanese-Americans, are thoroughly discussed in this valuable book. Actual wartime photographs and absorbing anecdotes will inspire history buffs and anyone interested in this time period.","English",31.95,23.95,"940.54","48 pp.",{"$f":"Table1[[#This Row],['# Books]]*Table1[[#This Row],[QTY]]","v":0},{"$f":"Table1[[#This Row],[QTY]]*Table1[[#This Row],[S&L Price]]","v":0}]
[null,null,175,null,"Turning Points in US Military History",1,"The Cuban Missile Crisis","eBook","978-1-4824-6537-2",2014,"January 2014",null,null,"Author","Charlie Samuels",null,null,44,30,"U",null,"Grade 5 - 6","Grade 5 - 8","In 1962, people around the world, but especially in the United States, Cuba, and the Soviet Union, seemed to be holding their breath as they wondered if a nuclear war was about to erupt. US Secretary of Defense Robert McNamara later recalled that he thought October 27, 1962, \"was the last Saturday I would ever see.\"  This notable book, packed with interesting sidebars and fascinating facts, transports readers back to a time of political intrigue. Key figures such as John F. Kennedy, Fidel Castro, and Nikita Khrushchev are examined as well as related events such as the Bay of Pigs.","English",31.95,23.95,"973.922","48 pp.",{"$f":"Table1[[#This Row],['# Books]]*Table1[[#This Row],[QTY]]","v":0},{"$f":"Table1[[#This Row],[QTY]]*Table1[[#This Row],[S&L Price]]","v":0}]
[null,null,175,null,"Big-Buck Business",1,"Energy for Everyone? The Business of Energy","Library Bound Book","978-1-4339-7751-0",2013,"August 2012","Library","8.000 X 10.00","Author","Nick Hunter",null,null,40,28,"R",null,"Grade 6","Grade 6 - 8","Energy is needed for homes, cars, businesses, and the tools that make our lives easier—such as cell phones. As the world’s population surpasses 7 billion, more people are worrying about the sustainability of fuels. A myriad of topics are introduced to readers, including the use of alternative energy sources, the dangers of nuclear power, and the costs of renewable and nonrenewable energy. Readers will examine many controversies of the energy industry and learn about the companies and organizations that are often in the news. Fascinating fact boxes add to the appeal of the text.","English",31.95,23.95,"333.79","48 pp.",{"$f":"Table1[[#This Row],['# Books]]*Table1[[#This Row],[QTY]]","v":0},{"$f":"Table1[[#This Row],[QTY]]*Table1[[#This Row],[S&L Price]]","v":0}]
[null,null,175,null,"Big-Buck Business",1,"Showtime! The Entertainment Industry","eBook","978-1-4339-7762-6",2013,"August 2012",null,null,"Author","Nick Hunter",null,null,40,28,"R",null,"Grade 6","Grade 6 - 8","It’s incredible how much the entertainment industry has evolved over the past 100 years. Music, movies, and television now generate massive amounts of money for the prime players involved. Readers will feel like entertainment executives as they learn about what goes on behind the scenes of a hit movie, TV show, or song. Eye-catching photographs and fascinating information about popular stars and movies make the topics of business and finance accessible and relevant to all readers. Thought-provoking questions in fact boxes throughout the text encourage deeper evaluation of the issues.","English",31.95,23.95,"338.4","48 pp.",{"$f":"Table1[[#This Row],['# Books]]*Table1[[#This Row],[QTY]]","v":0},{"$f":"Table1[[#This Row],[QTY]]*Table1[[#This Row],[S&L Price]]","v":0}]
[null,null,175,null,"Big-Buck Business",1,"Skin Deep: The Business of Beauty","eBook","978-1-4339-7766-4",2013,"August 2012",null,null,"Author","Angela Royston",null,null,40,28,"R",null,"Grade 6","Grade 6 - 8","The business of beauty is a billion-dollar enterprise, evidenced by cosmetic advertisements displayed almost everywhere. The cultural obsession with beauty and body image has roots that reach back into history; in fact, Egyptian women used eyeliner more than 6,000 years ago. Historical information about makeup, hair, and cosmetic surgery for both women and men are just some of the topics waiting for readers to discover. The text examines the allure of many beauty products and highlights why some are more profitable than others. Recent beauty trends are discussed in fact boxes throughout the book, encouraging topic discussion and deeper evaluation among readers.","English",31.95,23.95,"646.7","48 pp.",{"$f":"Table1[[#This Row],['# Books]]*Table1[[#This Row],[QTY]]","v":0},{"$f":"Table1[[#This Row],[QTY]]*Table1[[#This Row],[S&L Price]]","v":0}]
[null,null,176,null,"Peace Pen Pals",1,"Hoping for Peace in Afghanistan","Library Bound Book","978-1-4339-7723-7",2013,"August 2012","Library","8.000 X 10.00","Author","Nick Hunter",null,null,40,26,"V",null,"Grade 6","Grade 6 - 8","Our impressions of the War in Afghanistan usually consist of images we see on TV of soldiers, tanks, and debris. We hear numbers: of people dying, damaged buildings, and dates promising an end to the violence. However, in every war-torn country, there are ordinary people trying to live as normally as possible and survive amidst the danger, sadness, and chaos. Readers closely examine the war that has raged in Afghanistan since 2001—learning about the people on each side and the causes and consequences of the conflict. This account stands apart from other social studies texts with its inclusion of a fictional correspondence between two girls, one in Afghanistan and one in the United States. The captivating letters weaved throughout the nonfiction narrative bring to light the many commonalities between two young people who at first seem worlds apart.","English",31.95,23.95,"958.104","48 pp.",{"$f":"Table1[[#This Row],['# Books]]*Table1[[#This Row],[QTY]]","v":0},{"$f":"Table1[[#This Row],[QTY]]*Table1[[#This Row],[S&L Price]]","v":0}]
[null,null,176,null,"Peace Pen Pals",1,"Hoping for Peace in Iraq","eBook","978-1-4339-7734-3",2013,"August 2012",null,null,"Author","Jim Pipe",null,null,40,26,"V",null,"Grade 6","Grade 6 - 8","Though the last of the US troops didn’t pull out until late in 2011, few areas of Iraq are free from violence, and the Sunni, Shia, and Kurdish people continue to vie for adequate representation in the new government. Readers are provided with a comprehensive look at the recent history of Iraq, beginning with the rise of Hussein. Throughout the text, readers experience the war through vivid photographs and through the correspondence of two young people: an Iraqi girl living in Baghdad and an American boy whose father is serving in the military. Readers will garner a better understanding of the complexities facing the still-rebuilding nation.","English",31.95,23.95,"956.7044","48 pp.",{"$f":"Table1[[#This Row],['# Books]]*Table1[[#This Row],[QTY]]","v":0},{"$f":"Table1[[#This Row],[QTY]]*Table1[[#This Row],[S&L Price]]","v":0}]
[null,null,176,null,"Peace Pen Pals",1,"Hoping for Peace in the Middle East","Library Bound Book","978-1-4339-7743-5",2013,"August 2012","Library","8.000 X 10.00","Author","Angela Royston",null,null,40,26,"V",null,"Grade 6","Grade 6 - 8","The Middle East has long been a hotbed of conflict, and Israelis and Palestinians have fought over territory for many years. Through the friendship of two boys, one in the West Bank and one in Jerusalem, readers learn about the heavy cost of continual violence. The author makes an often-confusing topic easier to understand while outlining the history of the region. Vibrant photographs will appeal to young readers, as will the fictional letters that help identify the concerns of the two protagonists. A well-balanced treatment of the issues in the nonfiction chapters concludes in an examination of some of today’s conciliatory efforts in the Middle East.","English",31.95,23.95,"956.05","48 pp.",{"$f":"Table1[[#This Row],['# Books]]*Table1[[#This Row],[QTY]]","v":0},{"$f":"Table1[[#This Row],[QTY]]*Table1[[#This Row],[S&L Price]]","v":0}]
[null,null,176,null,"Peace Pen Pals",1,"Hoping for Peace in the Middle East","eBook","978-1-4339-7746-6",2013,"August 2012",null,null,"Author","Angela Royston",null,null,40,26,"V",null,"Grade 6","Grade 6 - 8","The Middle East has long been a hotbed of conflict, and Israelis and Palestinians have fought over territory for many years. Through the friendship of two boys, one in the West Bank and one in Jerusalem, readers learn about the heavy cost of continual violence. The author makes an often-confusing topic easier to understand while outlining the history of the region. Vibrant photographs will appeal to young readers, as will the fictional letters that help identify the concerns of the two protagonists. A well-balanced treatment of the issues in the nonfiction chapters concludes in an examination of some of today’s conciliatory efforts in the Middle East.","English",31.95,23.95,"956.05","48 pp.",{"$f":"Table1[[#This Row],['# Books]]*Table1[[#This Row],[QTY]]","v":0},{"$f":"Table1[[#This Row],[QTY]]*Table1[[#This Row],[S&L Price]]","v":0}]
[null,null,176,null,"Americans at War: A Gareth Stevens Timeline Series",1,"Timeline of the Revolutionary War","eBook","978-1-4339-5915-8",2012,"August 2011",null,null,"Author","Charlie Samuels",null,null,50,28,"U",null,"Grade 6 - 8","Grade 6 - 8","America emerged from the Revolutionary War as an independent nation, but it took many difficult battles over many years for independence to be achieved. Budding historians will discover the compelling stories behind the defining moments of the Revolutionary War—from Lexington and Concord to Yorktown. Readers are aided in their exploration by two distinct type of timelines. A general timeline outlines the major events in a comprehensive manner, and each chapter features a timeline to highlight the important dates covered within those pages. This gripping narrative about the people and places that played an important role in America’s fight for independence won’t easily be forgotten.","English",31.95,23.95,"973.3","48 pp.",{"$f":"Table1[[#This Row],['# Books]]*Table1[[#This Row],[QTY]]","v":0},{"$f":"Table1[[#This Row],[QTY]]*Table1[[#This Row],[S&L Price]]","v":0}]
[null,null,176,null,"Americans at War: A Gareth Stevens Timeline Series",1,"Timeline of World War I","Library Bound Book","978-1-4339-5926-4",2012,"August 2011","Library","8.500 X 10.50","Author","Charlie Samuels",null,null,50,28,"U",null,"Grade 6 - 8","Grade 6 - 8","It was called the “War to End War,” cost over 35 million lives, and changed the scope of warfare forever. Readers discover these and many more vital facts about World War I in this absorbing history resource. A general timeline highlights the major events of the war for readers, and each chapter features an additional timeline to present further details about the dates that shaped the war. This book provides a comprehensive overview of “The Great War” both before and after American troops entered the fighting. Readers learn about the people, places, and technological advancements that defined this war. Historical artwork and photographs give a visual depiction of life on the front lines and in the trenches.","English",31.95,23.95,"940.4","48 pp.",{"$f":"Table1[[#This Row],['# Books]]*Table1[[#This Row],[QTY]]","v":0},{"$f":"Table1[[#This Row],[QTY]]*Table1[[#This Row],[S&L Price]]","v":0}]
[null,null,176,null,"Americans at War: A Gareth Stevens Timeline Series",1,"Timeline of World War II: Pacific","eBook","978-1-4339-5937-0",2012,"August 2011",null,null,"Author","Charlie Samuels",null,null,50,28,"U",null,"Grade 6 - 8","Grade 6 - 8","World War II was the largest war in history, with battles taking place throughout Europe, North Africa, and the islands of the Pacific Ocean. In this book, readers will learn about the varied military campaigns that took place in the Pacific, from Japan’s attack on Pearl Harbor to its surrender nearly 4 years later. The use of timelines effectively outlines the major events of World War II—both in the Pacific as well as in Europe and North Africa. Detailed text focuses on the battles that defined America’s involvement in the Pacific theater, while historical photographs help readers to visualize the events.","English",31.95,23.95,"940.54","48 pp.",{"$f":"Table1[[#This Row],['# Books]]*Table1[[#This Row],[QTY]]","v":0},{"$f":"Table1[[#This Row],[QTY]]*Table1[[#This Row],[S&L Price]]","v":0}]
[null,null,176,null,"Ask the Experts",1,"Genetic Modification: Should Humans Control Nature?","Library Bound Book","978-1-4339-8635-2",2013,"January 2013","Library","8.000 X 10.00","Author","Leon Gray",null,null,60,32,"X",null,"Grade 6 - 8","Grade 6 - 8","The advances that have been made in the realm of genetics are astounding. Not only has the entire human genome been mapped, but scientists have also discovered methods of modifying genes in people as well as plants and animals. With this progress has come a great debate about the ethics of genetic modification. People wonder if there should be limits to altering nature. Readers explore basic concepts of cellular biology, including DNA and genes. Then they are guided though the differing sides of the genetics debate and encouraged to take their own informed stance on the issues.","English",31.95,23.95,"660.6","48 pp.",{"$f":"Table1[[#This Row],['# Books]]*Table1[[#This Row],[QTY]]","v":0},{"$f":"Table1[[#This Row],[QTY]]*Table1[[#This Row],[S&L Price]]","v":0}]
[null,null,176,null,"Ask the Experts",1,"Planet Under Pressure: Too Many People on Earth?","Library Bound Book","978-1-4339-8643-7",2013,"January 2013","Library","8.000 X 10.00","Author","Matt Anniss",null,null,60,32,"X",null,"Grade 6 - 8","Grade 6 - 8","The population of Earth has exploded over the last 100 years. The planet now supports about 7 billion people, and this overwhelming number has many repercussions. Alternative energy resources and the costs of healthcare have become urgent matters. Questions about how to feed, clothe, and house a growing population demand answers. Poverty and overpopulation are no longer just problems for third-world countries but issues that need to be addressed in our own communities. Readers are presented with the many topics surrounding world population and the questions that experts are asking. Also highlighted are suggested solutions, some as radical as setting up colonies on other planets.","English",31.95,23.95,"363.9","48 pp.",{"$f":"Table1[[#This Row],['# Books]]*Table1[[#This Row],[QTY]]","v":0},{"$f":"Table1[[#This Row],[QTY]]*Table1[[#This Row],[S&L Price]]","v":0}]
[null,null,176,null,"Ask the Experts",1,"Planet Under Pressure: Too Many People on Earth?","eBook","978-1-4339-8646-8",2013,"January 2013",null,null,"Author","Matt Anniss",null,null,60,32,"X",null,"Grade 6 - 8","Grade 6 - 8","The population of Earth has exploded over the last 100 years. The planet now supports about 7 billion people, and this overwhelming number has many repercussions. Alternative energy resources and the costs of healthcare have become urgent matters. Questions about how to feed, clothe, and house a growing population demand answers. Poverty and overpopulation are no longer just problems for third-world countries but issues that need to be addressed in our own communities. Readers are presented with the many topics surrounding world population and the questions that experts are asking. Also highlighted are suggested solutions, some as radical as setting up colonies on other planets.","English",31.95,23.95,"363.9","48 pp.",{"$f":"Table1[[#This Row],['# Books]]*Table1[[#This Row],[QTY]]","v":0},{"$f":"Table1[[#This Row],[QTY]]*Table1[[#This Row],[S&L Price]]","v":0}]
[null,null,176,null,"Ask the Experts",1,"World Economy: What's the Future?","Library Bound Book","978-1-4339-8647-5",2013,"January 2013","Library","8.000 X 10.00","Author","Matt Anniss",null,null,60,32,"X",null,"Grade 6 - 8","Grade 6 - 8","The economy often seems like a complex subject. We know that much of the world is currently struggling with recession and its consequences. News headlines spotlight job gains and losses, rising debt, and every economic detail that may give us a clue about a full financial recovery. Meanwhile, frustrated people protest in streets and rail against institutions they blame for the current economic climate. Easy-to-understand terms explain what led to the economic crisis and what's being done to pull the United States and other countries out. While there are no easy answers, readers will be able to develop informed opinions about the issues.","English",31.95,23.95,"330.9","48 pp.",{"$f":"Table1[[#This Row],['# Books]]*Table1[[#This Row],[QTY]]","v":0},{"$f":"Table1[[#This Row],[QTY]]*Table1[[#This Row],[S&L Price]]","v":0}]
[null,null,176,null,"Ask the Experts",1,"World Economy: What's the Future?","eBook","978-1-4339-8650-5",2013,"January 2013",null,null,"Author","Matt Anniss",null,null,60,32,"X",null,"Grade 6 - 8","Grade 6 - 8","The economy often seems like a complex subject. We know that much of the world is currently struggling with recession and its consequences. News headlines spotlight job gains and losses, rising debt, and every economic detail that may give us a clue about a full financial recovery. Meanwhile, frustrated people protest in streets and rail against institutions they blame for the current economic climate. Easy-to-understand terms explain what led to the economic crisis and what's being done to pull the United States and other countries out. While there are no easy answers, readers will be able to develop informed opinions about the issues.","English",31.95,23.95,"330.9","48 pp.",{"$f":"Table1[[#This Row],['# Books]]*Table1[[#This Row],[QTY]]","v":0},{"$f":"Table1[[#This Row],[QTY]]*Table1[[#This Row],[S&L Price]]","v":0}]
[null,null,176,null,"The American Civil War: The Right Answer",1,"After the War","Library Bound Book","978-1-4339-7531-8",2013,"August 2012","Library","6.500 X 9.000","Author","Tim Cooke",null,null,70,28,"X",null,"Grade 6 - 8","Grade 6 - 8","Even though the Civil War kept the Union together, much work needed to be done once the North declared victory. From new rights for former slaves to rebuilding devastated areas of the South, this book covers many aspects of the Reconstruction era of the United States. Using accessible content and critical thinking questions, readers are encouraged to think about the outcomes of war from a variety of perspectives, including freed slaves, carpetbaggers, and even the US government. In-depth content will engage budding historians, while illustrations and bonus facts will reinforce readers’ new knowledge.","English",31.95,23.95,"973.7","48 pp.",{"$f":"Table1[[#This Row],['# Books]]*Table1[[#This Row],[QTY]]","v":0},{"$f":"Table1[[#This Row],[QTY]]*Table1[[#This Row],[S&L Price]]","v":0}]
[null,null,176,null,"The American Civil War: The Right Answer",1,"After the War","eBook","978-1-4339-7534-9",2013,"August 2012",null,null,"Author","Tim Cooke",null,null,70,28,"X",null,"Grade 6 - 8","Grade 6 - 8","Even though the Civil War kept the Union together, much work needed to be done once the North declared victory. From new rights for former slaves to rebuilding devastated areas of the South, this book covers many aspects of the Reconstruction era of the United States. Using accessible content and critical thinking questions, readers are encouraged to think about the outcomes of war from a variety of perspectives, including freed slaves, carpetbaggers, and even the US government. In-depth content will engage budding historians, while illustrations and bonus facts will reinforce readers’ new knowledge.","English",31.95,23.95,"973.7","48 pp.",{"$f":"Table1[[#This Row],['# Books]]*Table1[[#This Row],[QTY]]","v":0},{"$f":"Table1[[#This Row],[QTY]]*Table1[[#This Row],[S&L Price]]","v":0}]
[null,null,176,null,"The American Civil War: The Right Answer",1,"Causes of the War","Library Bound Book","978-1-4339-7535-6",2013,"August 2012","Library","6.500 X 9.000","Author","Tim Cooke",null,null,70,28,"X",null,"Grade 6 - 8","Grade 6 - 8","In 1807, it became illegal to import slaves to the United States. However, that didn’t put a stop to slavery in the South. While slavery wasn’t the only cause of the Civil War, it certainly was a big factor. Readers learn more about why the war started with detailed accounts of the abolitionist movement and the Kansas-Nebraska Act. Among other key events, this book features in-depth information budding historians are looking for, questions and comments in the margins that will engage readers’ critical thinking skills, and historical illustrations and end-of-chapter boxed insets will augment the curriculum-supporting text.","English",31.95,23.95,"973.7","48 pp.",{"$f":"Table1[[#This Row],['# Books]]*Table1[[#This Row],[QTY]]","v":0},{"$f":"Table1[[#This Row],[QTY]]*Table1[[#This Row],[S&L Price]]","v":0}]
[null,null,176,null,"The American Civil War: The Right Answer",1,"Causes of the War","eBook","978-1-4339-7538-7",2013,"August 2012",null,null,"Author","Tim Cooke",null,null,70,28,"X",null,"Grade 6 - 8","Grade 6 - 8","In 1807, it became illegal to import slaves to the United States. However, that didn’t put a stop to slavery in the South. While slavery wasn’t the only cause of the Civil War, it certainly was a big factor. Readers learn more about why the war started with detailed accounts of the abolitionist movement and the Kansas-Nebraska Act. Among other key events, this book features in-depth information budding historians are looking for, questions and comments in the margins that will engage readers’ critical thinking skills, and historical illustrations and end-of-chapter boxed insets will augment the curriculum-supporting text.","English",31.95,23.95,"973.7","48 pp.",{"$f":"Table1[[#This Row],['# Books]]*Table1[[#This Row],[QTY]]","v":0},{"$f":"Table1[[#This Row],[QTY]]*Table1[[#This Row],[S&L Price]]","v":0}]
[null,null,176,null,"The American Civil War: The Right Answer",1,"Decisive Battles","Library Bound Book","978-1-4339-7539-4",2013,"August 2012","Library","6.500 X 9.000","Author","Tim Cooke",null,null,70,28,"X",null,"Grade 6 - 8","Grade 6 - 8","The American Civil War was marked by bitter, bloody battles including the first battle of Bull Run and the Appomattox Campaign. Readers are given detailed accounts of the most famous and important battles of the war. Enhanced by historical illustrations of events and bonus facts in the margins, the accessible content introduces readers to important figures of the Civil War, such as Ulysses S. Grant and Thomas “Stonewall” Jackson. Helpful sidebars at the end of the each chapter will illustrate an event’s significance, and thoughtful questions throughout the book will give readers a chance to consider their own views of these momentous events.","English",31.95,23.95,"973.7","48 pp.",{"$f":"Table1[[#This Row],['# Books]]*Table1[[#This Row],[QTY]]","v":0},{"$f":"Table1[[#This Row],[QTY]]*Table1[[#This Row],[S&L Price]]","v":0}]
[null,null,176,null,"The American Civil War: The Right Answer",1,"Decisive Battles","eBook","978-1-4339-7542-4",2013,"August 2012",null,null,"Author","Tim Cooke",null,null,70,28,"X",null,"Grade 6 - 8","Grade 6 - 8","The American Civil War was marked by bitter, bloody battles including the first battle of Bull Run and the Appomattox Campaign. Readers are given detailed accounts of the most famous and important battles of the war. Enhanced by historical illustrations of events and bonus facts in the margins, the accessible content introduces readers to important figures of the Civil War, such as Ulysses S. Grant and Thomas “Stonewall” Jackson. Helpful sidebars at the end of the each chapter will illustrate an event’s significance, and thoughtful questions throughout the book will give readers a chance to consider their own views of these momentous events.","English",31.95,23.95,"973.7","48 pp.",{"$f":"Table1[[#This Row],['# Books]]*Table1[[#This Row],[QTY]]","v":0},{"$f":"Table1[[#This Row],[QTY]]*Table1[[#This Row],[S&L Price]]","v":0}]
[null,null,176,null,"The American Civil War: The Right Answer",1,"Key Figures","Library Bound Book","978-1-4339-7547-9",2013,"August 2012","Library","6.500 X 9.000","Author","Tim Cooke",null,null,70,28,"X",null,"Grade 6 - 8","Grade 6 - 8","Abraham Lincoln wasn’t the only president serving at the time of the Civil War. Readers will be introduced to Jefferson Davis, the president of the Confederate States of America, as well as other important people who determined the course of the American Civil War. The tactics of Ulysses S. Grant and the indefatigable Robert E. Lee are also covered. Knowledge of these key figures will enhance readers’ understanding of the war. Using end-of-chapter sidebars and marginal comments to prompt readers' critical thinking skills, this book will augment the social studies curriculum and engage readers with the complex story of leaders of the Civil War.","English",31.95,23.95,"973.7092","48 pp.",{"$f":"Table1[[#This Row],['# Books]]*Table1[[#This Row],[QTY]]","v":0},{"$f":"Table1[[#This Row],[QTY]]*Table1[[#This Row],[S&L Price]]","v":0}]
[null,null,176,null,"The American Civil War: The Right Answer",1,"Key Figures","eBook","978-1-4339-7550-9",2013,"August 2012",null,null,"Author","Tim Cooke",null,null,70,28,"X",null,"Grade 6 - 8","Grade 6 - 8","Abraham Lincoln wasn’t the only president serving at the time of the Civil War. Readers will be introduced to Jefferson Davis, the president of the Confederate States of America, as well as other important people who determined the course of the American Civil War. The tactics of Ulysses S. Grant and the indefatigable Robert E. Lee are also covered. Knowledge of these key figures will enhance readers’ understanding of the war. Using end-of-chapter sidebars and marginal comments to prompt readers' critical thinking skills, this book will augment the social studies curriculum and engage readers with the complex story of leaders of the Civil War.","English",31.95,23.95,"973.7092","48 pp.",{"$f":"Table1[[#This Row],['# Books]]*Table1[[#This Row],[QTY]]","v":0},{"$f":"Table1[[#This Row],[QTY]]*Table1[[#This Row],[S&L Price]]","v":0}]
[null,null,176,null,"The American Civil War: The Right Answer",1,"The Home Front","Library Bound Book","978-1-4339-7543-1",2013,"August 2012","Library","6.500 X 9.000","Author","Tim Cooke",null,null,70,28,"X",null,"Grade 6 - 8","Grade 6 - 8","The American Civil War affected more than just the soldiers on the battlefield—families, businesses, and schools all felt the influence of the terrible conflict. Using a variety of perspectives to introduce readers to a country at war, this volume will engage readers while providing essential, factual information. Readers will discover this often-overlooked side of war, including cities and farms, and the lives of those on the Union and those on the Confederate sides. Historical illustrations, maps, and critical thinking questions accompany detailed descriptions and bonus facts—the accessible content will fascinate readers with an in-depth look into US history.","English",31.95,23.95,"973.7","48 pp.",{"$f":"Table1[[#This Row],['# Books]]*Table1[[#This Row],[QTY]]","v":0},{"$f":"Table1[[#This Row],[QTY]]*Table1[[#This Row],[S&L Price]]","v":0}]
[null,null,176,null,"The American Civil War: The Right Answer",1,"The Home Front","eBook","978-1-4339-7546-2",2013,"August 2012",null,null,"Author","Tim Cooke",null,null,70,28,"X",null,"Grade 6 - 8","Grade 6 - 8","The American Civil War affected more than just the soldiers on the battlefield—families, businesses, and schools all felt the influence of the terrible conflict. Using a variety of perspectives to introduce readers to a country at war, this volume will engage readers while providing essential, factual information. Readers will discover this often-overlooked side of war, including cities and farms, and the lives of those on the Union and those on the Confederate sides. Historical illustrations, maps, and critical thinking questions accompany detailed descriptions and bonus facts—the accessible content will fascinate readers with an in-depth look into US history.","English",31.95,23.95,"973.7","48 pp.",{"$f":"Table1[[#This Row],['# Books]]*Table1[[#This Row],[QTY]]","v":0},{"$f":"Table1[[#This Row],[QTY]]*Table1[[#This Row],[S&L Price]]","v":0}]
[null,null,176,null,"The American Civil War: The Right Answer",1,"Weapons and Tactics","Library Bound Book","978-1-4339-7551-6",2013,"August 2012","Library","6.500 X 9.000","Author","Tim Cooke",null,null,70,28,"X",null,"Grade 6 - 8","Grade 6 - 8","Readers will discover interesting facts on the plans of attack used during the Civil war. Exciting illustrations of both battle and weapons will draw in readers while they encounter questions and sidebars that encourage them to use critical thinking skills. Readers find in-depth information about the actual fighting of the Civil War, including guerrilla warfare on land and bloody battles fought at sea, that will support and expand their knowledge of the conflict.","English",31.95,23.95,"973.7","48 pp.",{"$f":"Table1[[#This Row],['# Books]]*Table1[[#This Row],[QTY]]","v":0},{"$f":"Table1[[#This Row],[QTY]]*Table1[[#This Row],[S&L Price]]","v":0}]
[null,null,176,null,"The American Civil War: The Right Answer",1,"Weapons and Tactics","eBook","978-1-4339-7554-7",2013,"August 2012",null,null,"Author","Tim Cooke",null,null,70,28,"X",null,"Grade 6 - 8","Grade 6 - 8","Readers will discover interesting facts on the plans of attack used during the Civil war. Exciting illustrations of both battle and weapons will draw in readers while they encounter questions and sidebars that encourage them to use critical thinking skills. Readers find in-depth information about the actual fighting of the Civil War, including guerrilla warfare on land and bloody battles fought at sea, that will support and expand their knowledge of the conflict.","English",31.95,23.95,"973.7","48 pp.",{"$f":"Table1[[#This Row],['# Books]]*Table1[[#This Row],[QTY]]","v":0},{"$f":"Table1[[#This Row],[QTY]]*Table1[[#This Row],[S&L Price]]","v":0}]
[null,null,176,null,"Understanding Political Systems",1,"What Is a Democracy?","Library Bound Book","978-1-4824-0306-0",2014,"January 2014","Library","8.000 X 10.00","Author","Robyn Hardyman",null,null,60,null,"X",null,"Grade 6 - 8","Grade 6 - 8","If you live in the United States, you have a good idea of what a democracy is. However, there are many different kinds of democracy throughout the world. From the Roman republics to American democracy, this type of government has grown and changed for centuries. Find out more about democracy, which countries use it to govern, and learn some positives and negatives about this type of government.    • Accessible, \"in the news\", and relevant subject matter • Complements social studies curriculum • Sidebars, photographs, and captions clarify ideas within text • Conclusion summary chapter reinforces understanding of each ideology  ","English",31.95,23.95,"321.8","48 pp.",{"$f":"Table1[[#This Row],['# Books]]*Table1[[#This Row],[QTY]]","v":0},{"$f":"Table1[[#This Row],[QTY]]*Table1[[#This Row],[S&L Price]]","v":0}]
[null,null,176,null,"Understanding Political Systems",1,"What Is a Democracy?","eBook","978-1-4824-0308-4",2014,"January 2014",null,null,"Author","Robyn Hardyman",null,null,60,null,"X",null,"Grade 6 - 8","Grade 6 - 8","If you live in the United States, you have a good idea of what a democracy is. However, there are many different kinds of democracy throughout the world. From the Roman republics to American democracy, this type of government has grown and changed for centuries. Find out more about democracy, which countries use it to govern, and learn some positives and negatives about this type of government.    • Accessible, \"in the news\", and relevant subject matter • Complements social studies curriculum • Sidebars, photographs, and captions clarify ideas within text • Conclusion summary chapter reinforces understanding of each ideology  ","English",31.95,23.95,"321.8","48 pp.",{"$f":"Table1[[#This Row],['# Books]]*Table1[[#This Row],[QTY]]","v":0},{"$f":"Table1[[#This Row],[QTY]]*Table1[[#This Row],[S&L Price]]","v":0}]
[null,null,176,null,"Understanding Political Systems",1,"What Is a Dictatorship?","Library Bound Book","978-1-4824-0310-7",2014,"January 2014","Library","8.000 X 10.00","Author","Nick Hunter",null,null,60,null,"X",null,"Grade 6 - 8","Grade 6 - 8","The rise of a dictator never happens the same way. Dictators have absolute power over a country, but how they obtain that power and what they use it for makes this form of government one of the most interesting political systems in the world. Discover the harsh governments of dictators around the world and learn how ancient dictatorships have influenced modern leaders who rule with an iron fist.    • Accessible, \"in the news\", and relevant subject matter • Complements social studies curriculum • Sidebars, photographs, and captions clarify ideas within text • Conclusion summary chapter reinforces understanding of each ideology  ","English",31.95,23.95,"321.9","48 pp.",{"$f":"Table1[[#This Row],['# Books]]*Table1[[#This Row],[QTY]]","v":0},{"$f":"Table1[[#This Row],[QTY]]*Table1[[#This Row],[S&L Price]]","v":0}]
[null,null,176,null,"Understanding Political Systems",1,"What Is a Dictatorship?","eBook","978-1-4824-0312-1",2014,"January 2014",null,null,"Author","Nick Hunter",null,null,60,null,"X",null,"Grade 6 - 8","Grade 6 - 8","The rise of a dictator never happens the same way. Dictators have absolute power over a country, but how they obtain that power and what they use it for makes this form of government one of the most interesting political systems in the world. Discover the harsh governments of dictators around the world and learn how ancient dictatorships have influenced modern leaders who rule with an iron fist.    • Accessible, \"in the news\", and relevant subject matter • Complements social studies curriculum • Sidebars, photographs, and captions clarify ideas within text • Conclusion summary chapter reinforces understanding of each ideology  ","English",31.95,23.95,"321.9","48 pp.",{"$f":"Table1[[#This Row],['# Books]]*Table1[[#This Row],[QTY]]","v":0},{"$f":"Table1[[#This Row],[QTY]]*Table1[[#This Row],[S&L Price]]","v":0}]
[null,null,176,null,"Understanding Political Systems",1,"What Is a Monarchy?","Library Bound Book","978-1-4824-0314-5",2014,"January 2014","Library","8.000 X 10.00","Author","Robyn Hardyman",null,null,60,null,"X",null,"Grade 6 - 8","Grade 6 - 8","Monarchies have a king or a queen in charge of a country, but there’s much more to a monarchy than who is in charge. Find out which countries have a monarchy in place and how the system of government has evolved over time. Who once had a monarch in charge? How does power change hands? Who is eligible to be king or queen? All these questions and more are answered in this engaging book.    • Accessible, \"in the news\", and relevant subject matter • Complements social studies curriculum • Sidebars, photographs, and captions clarify ideas within text • Conclusion summary chapter reinforces understanding of each ideology  ","English",31.95,23.95,"321","24 pp.",{"$f":"Table1[[#This Row],['# Books]]*Table1[[#This Row],[QTY]]","v":0},{"$f":"Table1[[#This Row],[QTY]]*Table1[[#This Row],[S&L Price]]","v":0}]
[null,null,176,null,"Understanding Political Systems",1,"What Is a Monarchy?","eBook","978-1-4824-6520-4",2014,"January 2014",null,null,"Author","Robyn Hardyman",null,null,60,null,"X",null,"Grade 6 - 8","Grade 6 - 8","Monarchies have a king or a queen in charge of a country, but there’s much more to a monarchy than who is in charge. Find out which countries have a monarchy in place and how the system of government has evolved over time. Who once had a monarch in charge? How does power change hands? Who is eligible to be king or queen? All these questions and more are answered in this engaging book.    • Accessible, \"in the news\", and relevant subject matter • Complements social studies curriculum • Sidebars, photographs, and captions clarify ideas within text • Conclusion summary chapter reinforces understanding of each ideology  ","English",31.95,23.95,"321","24 pp.",{"$f":"Table1[[#This Row],['# Books]]*Table1[[#This Row],[QTY]]","v":0},{"$f":"Table1[[#This Row],[QTY]]*Table1[[#This Row],[S&L Price]]","v":0}]
[null,null,176,null,"Understanding Political Systems",1,"What Is a Parliamentary Government?","Library Bound Book","978-1-4824-0317-6",2014,"January 2014","Library","8.000 X 10.00","Author","Karen Latchana Kenney",null,null,60,null,"X",null,"Grade 6 - 8","Grade 6 - 8","Britain has a monarch and a prime minister. Who’s in charge of the island? A parliamentary system of government is both similar and very different from democracy in the United States. Using historical text and primary sources discover how governments around the world balance a king or queen with a legislative branch. Learn how the parliament is elected, and how a bill becomes a law in the UK. Readers will better understand world news after diving into the often-complex world of political systems.    • Accessible, \"in the news\", and relevant subject matter • Complements social studies curriculum • Sidebars, photographs, and captions clarify ideas within text • Conclusion summary chapter reinforces understanding of each ideology  ","English",31.95,23.95,"328","24 pp.",{"$f":"Table1[[#This Row],['# Books]]*Table1[[#This Row],[QTY]]","v":0},{"$f":"Table1[[#This Row],[QTY]]*Table1[[#This Row],[S&L Price]]","v":0}]
[null,null,176,null,"Understanding Political Systems",1,"What Is a Parliamentary Government?","eBook","978-1-4824-6521-1",2014,"January 2014",null,null,"Author","Karen Latchana Kenney",null,null,60,null,"X",null,"Grade 6 - 8","Grade 6 - 8","Britain has a monarch and a prime minister. Who’s in charge of the island? A parliamentary system of government is both similar and very different from democracy in the United States. Using historical text and primary sources discover how governments around the world balance a king or queen with a legislative branch. Learn how the parliament is elected, and how a bill becomes a law in the UK. Readers will better understand world news after diving into the often-complex world of political systems.    • Accessible, \"in the news\", and relevant subject matter • Complements social studies curriculum • Sidebars, photographs, and captions clarify ideas within text • Conclusion summary chapter reinforces understanding of each ideology  ","English",31.95,23.95,"328","24 pp.",{"$f":"Table1[[#This Row],['# Books]]*Table1[[#This Row],[QTY]]","v":0},{"$f":"Table1[[#This Row],[QTY]]*Table1[[#This Row],[S&L Price]]","v":0}]
[null,null,176,null,"Understanding Political Systems",1,"What Is Communism?","Library Bound Book","978-1-4824-0319-0",2014,"January 2014","Library","8.000 X 10.00","Author","Karen Latchana Kenney",null,null,60,null,"X",null,"Grade 6 - 8","Grade 6 - 8","When people think of communism, they think of the former Soviet Union. The Red Square is no longer the centerpiece for communism in the world, but its impact still looms large in global politics today. Find out about communism around the world, including what communists feel government should do and what countries use communism today. This book also explores the positive and negative impact communism has had on people around the world.    • Accessible, \"in the news\", and relevant subject matter • Complements social studies curriculum • Sidebars, photographs, and captions clarify ideas within text • Conclusion summary chapter reinforces understanding of each ideology  ","English",31.95,23.95,"321.9","24 pp.",{"$f":"Table1[[#This Row],['# Books]]*Table1[[#This Row],[QTY]]","v":0},{"$f":"Table1[[#This Row],[QTY]]*Table1[[#This Row],[S&L Price]]","v":0}]
[null,null,176,null,"Understanding Political Systems",1,"What Is Communism?","eBook","978-1-4824-6522-8",2014,"January 2014",null,null,"Author","Karen Latchana Kenney",null,null,60,null,"X",null,"Grade 6 - 8","Grade 6 - 8","When people think of communism, they think of the former Soviet Union. The Red Square is no longer the centerpiece for communism in the world, but its impact still looms large in global politics today. Find out about communism around the world, including what communists feel government should do and what countries use communism today. This book also explores the positive and negative impact communism has had on people around the world.    • Accessible, \"in the news\", and relevant subject matter • Complements social studies curriculum • Sidebars, photographs, and captions clarify ideas within text • Conclusion summary chapter reinforces understanding of each ideology  ","English",31.95,23.95,"321.9","24 pp.",{"$f":"Table1[[#This Row],['# Books]]*Table1[[#This Row],[QTY]]","v":0},{"$f":"Table1[[#This Row],[QTY]]*Table1[[#This Row],[S&L Price]]","v":0}]
[null,null,176,null,"Understanding Political Systems",1,"What Is Socialism?","Library Bound Book","978-1-4824-0321-3",2014,"January 2014","Library","8.000 X 10.00","Author","Nick Hunter",null,null,60,null,"X",null,"Grade 6 - 8","Grade 6 - 8","Socialism has its roots in ancient philosophy, but just what does a socialist want in a government? Learn more about socialism and its many forms while exploring the successes and failures of countries who have embraced socialism throughout history. Using various governments as examples, find out if you support socialist ideas and learn how socialism has impacted the United States and other countries such as Canada, Venezuela, and Poland.    • Accessible, \"in the news\", and relevant subject matter • Complements social studies curriculum • Sidebars, photographs, and captions clarify ideas within text • Conclusion summary chapter reinforces understanding of each ideology  ","English",31.95,23.95,"320.53","24 pp.",{"$f":"Table1[[#This Row],['# Books]]*Table1[[#This Row],[QTY]]","v":0},{"$f":"Table1[[#This Row],[QTY]]*Table1[[#This Row],[S&L Price]]","v":0}]
[null,null,176,null,"Understanding Political Systems",1,"What Is Socialism?","eBook","978-1-4824-6523-5",2014,"January 2014",null,null,"Author","Nick Hunter",null,null,60,null,"X",null,"Grade 6 - 8","Grade 6 - 8","Socialism has its roots in ancient philosophy, but just what does a socialist want in a government? Learn more about socialism and its many forms while exploring the successes and failures of countries who have embraced socialism throughout history. Using various governments as examples, find out if you support socialist ideas and learn how socialism has impacted the United States and other countries such as Canada, Venezuela, and Poland.    • Accessible, \"in the news\", and relevant subject matter • Complements social studies curriculum • Sidebars, photographs, and captions clarify ideas within text • Conclusion summary chapter reinforces understanding of each ideology  ","English",31.95,23.95,"320.53","24 pp.",{"$f":"Table1[[#This Row],['# Books]]*Table1[[#This Row],[QTY]]","v":0},{"$f":"Table1[[#This Row],[QTY]]*Table1[[#This Row],[S&L Price]]","v":0}]
[null,null,176,null,"On the Team",1,"Baseball","Library Bound Book","978-1-4339-6432-9",2012,"January 2012","Library","8.500 X 8.500","Author","Mason Burdick",4.2,0.5,18,20,"L",null,"Grade 2 - 3","Grade 2 - 5","As “America’s pastime,” baseball is played in towns and cities across the United States. It has even spread to countries around the globe. This book is a perfect resource for readers who want to learn to play this exciting game. Those who already play baseball are sure to love it, too. Colorful diagrams and images of kids playing baseball help readers understand this historic game.","English",22.6,16.95,"796.357","24 pp.",{"$f":"Table1[[#This Row],['# Books]]*Table1[[#This Row],[QTY]]","v":0},{"$f":"Table1[[#This Row],[QTY]]*Table1[[#This Row],[S&L Price]]","v":0}]
[null,null,176,null,"On the Team",1,"Baseball","eBook","978-1-4339-6433-6",2012,"January 2012",null,null,"Author","Mason Burdick",4.2,0.5,18,20,"L",null,"Grade 2 - 3","Grade 2 - 5","As “America’s pastime,” baseball is played in towns and cities across the United States. It has even spread to countries around the globe. This book is a perfect resource for readers who want to learn to play this exciting game. Those who already play baseball are sure to love it, too. Colorful diagrams and images of kids playing baseball help readers understand this historic game.","English",22.6,16.95,"796.357","24 pp.",{"$f":"Table1[[#This Row],['# Books]]*Table1[[#This Row],[QTY]]","v":0},{"$f":"Table1[[#This Row],[QTY]]*Table1[[#This Row],[S&L Price]]","v":0}]
[null,null,176,null,"On the Team",1,"Basketball","Library Bound Book","978-1-4339-6436-7",2012,"January 2012","Library","8.500 X 8.500","Author","James Wyatt",4.3,0.5,18,20,"L",null,"Grade 2 - 3","Grade 2 - 5","Basketball players make fast breaks, shoot three-pointers, grab rebounds, and slam dunk. It’s an exciting team sport, and just about anyone can play it. In this book, readers learn the basics of basketball and discover a little about its origins. Colorful photographs of kids on the court help readers get the most from this informative guidebook.","English",22.6,16.95,"796.323","24 pp.",{"$f":"Table1[[#This Row],['# Books]]*Table1[[#This Row],[QTY]]","v":0},{"$f":"Table1[[#This Row],[QTY]]*Table1[[#This Row],[S&L Price]]","v":0}]
[null,null,176,null,"On the Team",1,"Basketball","eBook","978-1-4339-6437-4",2012,"January 2012",null,null,"Author","James Wyatt",4.3,0.5,18,20,"L",null,"Grade 2 - 3","Grade 2 - 5","Basketball players make fast breaks, shoot three-pointers, grab rebounds, and slam dunk. It’s an exciting team sport, and just about anyone can play it. In this book, readers learn the basics of basketball and discover a little about its origins. Colorful photographs of kids on the court help readers get the most from this informative guidebook.","English",22.6,16.95,"796.323","24 pp.",{"$f":"Table1[[#This Row],['# Books]]*Table1[[#This Row],[QTY]]","v":0},{"$f":"Table1[[#This Row],[QTY]]*Table1[[#This Row],[S&L Price]]","v":0}]
[null,null,176,null,"On the Team",1,"Football","Library Bound Book","978-1-4339-6440-4",2012,"January 2012","Library","8.500 X 8.500","Author","James Wyatt",4.5,0.5,18,20,"L",null,"Grade 2 - 3","Grade 2 - 5","Whether you’re playing for your school or just enjoying a game with your friends, football requires teamwork. This book covers the basic positions and rules of football and a little about its history. Action photographs and informative diagrams take readers onto the gridiron, placing them in the middle of the action.","English",22.6,16.95,"796.332","24 pp.",{"$f":"Table1[[#This Row],['# Books]]*Table1[[#This Row],[QTY]]","v":0},{"$f":"Table1[[#This Row],[QTY]]*Table1[[#This Row],[S&L Price]]","v":0}]
[null,null,176,null,"On the Team",1,"Football","eBook","978-1-4339-6441-1",2012,"January 2012",null,null,"Author","James Wyatt",4.5,0.5,18,20,"L",null,"Grade 2 - 3","Grade 2 - 5","Whether you’re playing for your school or just enjoying a game with your friends, football requires teamwork. This book covers the basic positions and rules of football and a little about its history. Action photographs and informative diagrams take readers onto the gridiron, placing them in the middle of the action.","English",22.6,16.95,"796.332","24 pp.",{"$f":"Table1[[#This Row],['# Books]]*Table1[[#This Row],[QTY]]","v":0},{"$f":"Table1[[#This Row],[QTY]]*Table1[[#This Row],[S&L Price]]","v":0}]
[null,null,176,null,"On the Team",1,"Hockey","Library Bound Book","978-1-4339-6448-0",2012,"January 2012","Library","8.500 X 8.500","Author","Greg Roza",4.4000000000000004,0.5,18,20,"L",null,"Grade 2 - 3","Grade 2 - 5","Fast skating, quick passes, hard checks, and exciting goals—that’s what hockey is all about. Readers learn what it takes to make it on a hockey team, with information covering positions, offense, defense, and the rink itself. Action packed photographs and colorful diagrams help readers understand the basics of this sport.","English",22.6,16.95,"796.962","24 pp.",{"$f":"Table1[[#This Row],['# Books]]*Table1[[#This Row],[QTY]]","v":0},{"$f":"Table1[[#This Row],[QTY]]*Table1[[#This Row],[S&L Price]]","v":0}]
[null,null,176,null,"On the Team",1,"Hockey","eBook","978-1-4339-6449-7",2012,"January 2012",null,null,"Author","Greg Roza",4.4000000000000004,0.5,18,20,"L",null,"Grade 2 - 3","Grade 2 - 5","Fast skating, quick passes, hard checks, and exciting goals—that’s what hockey is all about. Readers learn what it takes to make it on a hockey team, with information covering positions, offense, defense, and the rink itself. Action packed photographs and colorful diagrams help readers understand the basics of this sport.","English",22.6,16.95,"796.962","24 pp.",{"$f":"Table1[[#This Row],['# Books]]*Table1[[#This Row],[QTY]]","v":0},{"$f":"Table1[[#This Row],[QTY]]*Table1[[#This Row],[S&L Price]]","v":0}]
[null,null,176,null,"On the Team",1,"Soccer","Library Bound Book","978-1-4339-6452-7",2012,"January 2012","Library","8.500 X 8.500","Author","Mason Burdick",4.5999999999999996,0.5,18,20,"L",null,"Grade 2 - 3","Grade 2 - 5","Soccer is one of the world’s most popular team sports for several reasons. These include skillful players, roaring crowds, and exciting goals. Open this volume and learn all about soccer, including its history, positions, skills, and rules. Readers are sure to be engaged by colorful photographs and diagrams that help fully understand this exciting team sport.","English",22.6,16.95,"796.334","24 pp.",{"$f":"Table1[[#This Row],['# Books]]*Table1[[#This Row],[QTY]]","v":0},{"$f":"Table1[[#This Row],[QTY]]*Table1[[#This Row],[S&L Price]]","v":0}]
[null,null,176,null,"On the Team",1,"Soccer","eBook","978-1-4339-6453-4",2012,"January 2012",null,null,"Author","Mason Burdick",4.5999999999999996,0.5,18,20,"L",null,"Grade 2 - 3","Grade 2 - 5","Soccer is one of the world’s most popular team sports for several reasons. These include skillful players, roaring crowds, and exciting goals. Open this volume and learn all about soccer, including its history, positions, skills, and rules. Readers are sure to be engaged by colorful photographs and diagrams that help fully understand this exciting team sport.","English",22.6,16.95,"796.334","24 pp.",{"$f":"Table1[[#This Row],['# Books]]*Table1[[#This Row],[QTY]]","v":0},{"$f":"Table1[[#This Row],[QTY]]*Table1[[#This Row],[S&L Price]]","v":0}]
[null,null,176,null,"The Great Outdoors",1,"Camping","Library Bound Book","978-1-4339-7087-0",2013,"August 2012","Library","8.500 X 8.500","Author","Adeline Snyder",4.2,0.5,34,26,"M","820L","Grade 2 - 3","Grade 2 - 5","When a person sleeps under the stars, away from city lights and noises, the world seems so much larger. Readers will discover the many benefits of camping and learn about outdoor skills, including observing different kinds of wildlife and cooking a meal over a fire. They will also read about a variety of equipment used for camping such as tents and sleeping bags. Readers will be prepared, and excited, for their own outdoor adventure—even if it takes place in their backyard.","English",22.6,16.95,"796.54","24 pp.",{"$f":"Table1[[#This Row],['# Books]]*Table1[[#This Row],[QTY]]","v":0},{"$f":"Table1[[#This Row],[QTY]]*Table1[[#This Row],[S&L Price]]","v":0}]
[null,null,176,null,"The Great Outdoors",1,"Camping","eBook","978-1-4339-7090-0",2013,"August 2012",null,null,"Author","Adeline Snyder",4.2,0.5,34,26,"M","820L","Grade 2 - 3","Grade 2 - 5","When a person sleeps under the stars, away from city lights and noises, the world seems so much larger. Readers will discover the many benefits of camping and learn about outdoor skills, including observing different kinds of wildlife and cooking a meal over a fire. They will also read about a variety of equipment used for camping such as tents and sleeping bags. Readers will be prepared, and excited, for their own outdoor adventure—even if it takes place in their backyard.","English",22.6,16.95,"796.54","24 pp.",{"$f":"Table1[[#This Row],['# Books]]*Table1[[#This Row],[QTY]]","v":0},{"$f":"Table1[[#This Row],[QTY]]*Table1[[#This Row],[S&L Price]]","v":0}]
[null,null,176,null,"The Great Outdoors",1,"Caving","Library Bound Book","978-1-4339-7091-7",2013,"August 2012","Library","8.500 X 8.500","Author","Maeve T. Sisk",4.5,0.5,34,26,"M","810L","Grade 2 - 3","Grade 2 - 5","Caves are one of the least explored places left on Earth, even though many caves are open to the public. Usually for a small fee, anyone can don a hardhat and step into an area that may be thousands of years in the making. Other caves are much harder to find and explore safely. Readers will learn about the adventure and danger involved in caving, and spelunking. They will also discover the science behind caves, including mineral formations and wildlife. Stunning photographs engage readers and provide a sense of what being a spelunker is like.","English",22.6,16.95,"796.52","24 pp.",{"$f":"Table1[[#This Row],['# Books]]*Table1[[#This Row],[QTY]]","v":0},{"$f":"Table1[[#This Row],[QTY]]*Table1[[#This Row],[S&L Price]]","v":0}]
[null,null,176,null,"The Great Outdoors",1,"Caving","eBook","978-1-4339-7094-8",2013,"August 2012",null,null,"Author","Maeve T. Sisk",4.5,0.5,34,26,"M","810L","Grade 2 - 3","Grade 2 - 5","Caves are one of the least explored places left on Earth, even though many caves are open to the public. Usually for a small fee, anyone can don a hardhat and step into an area that may be thousands of years in the making. Other caves are much harder to find and explore safely. Readers will learn about the adventure and danger involved in caving, and spelunking. They will also discover the science behind caves, including mineral formations and wildlife. Stunning photographs engage readers and provide a sense of what being a spelunker is like.","English",22.6,16.95,"796.52","24 pp.",{"$f":"Table1[[#This Row],['# Books]]*Table1[[#This Row],[QTY]]","v":0},{"$f":"Table1[[#This Row],[QTY]]*Table1[[#This Row],[S&L Price]]","v":0}]
[null,null,176,null,"The Great Outdoors",1,"Fishing","Library Bound Book","978-1-4339-7095-5",2013,"August 2012","Library","8.500 X 8.500","Author","E. T. Weingarten",4.2,0.5,34,26,"M","850L","Grade 2 - 3","Grade 2 - 5","Whether someone has been fishing for years or has just taken up the hobby, anyone can catch a fish with the right gear. Readers will learn about the variety of fishing tackle used for different types of fishing. They will also discover why fishing is such a popular sport all over the world. They will be introduced to the problem of overfishing and what is being done to combat it. Fun fact boxes add to the text, while vivid photographs support reader comprehension.","English",22.6,16.95,"639.2","32 pp.",{"$f":"Table1[[#This Row],['# Books]]*Table1[[#This Row],[QTY]]","v":0},{"$f":"Table1[[#This Row],[QTY]]*Table1[[#This Row],[S&L Price]]","v":0}]
[null,null,176,null,"The Great Outdoors",1,"Fishing","eBook","978-1-4339-7098-6",2013,"August 2012",null,null,"Author","E. T. Weingarten",4.2,0.5,34,26,"M","850L","Grade 2 - 3","Grade 2 - 5","Whether someone has been fishing for years or has just taken up the hobby, anyone can catch a fish with the right gear. Readers will learn about the variety of fishing tackle used for different types of fishing. They will also discover why fishing is such a popular sport all over the world. They will be introduced to the problem of overfishing and what is being done to combat it. Fun fact boxes add to the text, while vivid photographs support reader comprehension.","English",22.6,16.95,"639.2","32 pp.",{"$f":"Table1[[#This Row],['# Books]]*Table1[[#This Row],[QTY]]","v":0},{"$f":"Table1[[#This Row],[QTY]]*Table1[[#This Row],[S&L Price]]","v":0}]
[null,null,176,null,"The Great Outdoors",1,"Hunting","Library Bound Book","978-1-4339-7099-3",2013,"August 2012","Library","8.500 X 8.500","Author","Robert Kennedy Shea",4.3,0.5,34,26,"M","850L","Grade 2 - 3","Grade 2 - 5","For thousands of years, people had to hunt and gather their food for survival. Readers discover a variety of ways to hunt, along with the many kinds of game hunted. Readers will learn why rifles are used rather than shotguns in some instances, and why other hunters use bows and arrows. Readers will also learn the important steps hunters take to stay safe as well as to prevent the overhunting of animals. Though sometimes controversial, hunting will continue to be a pastime for years to come.","English",22.6,16.95,"799.2","32 pp.",{"$f":"Table1[[#This Row],['# Books]]*Table1[[#This Row],[QTY]]","v":0},{"$f":"Table1[[#This Row],[QTY]]*Table1[[#This Row],[S&L Price]]","v":0}]
[null,null,176,null,"The Great Outdoors",1,"Hunting","eBook","978-1-4339-7102-0",2013,"August 2012",null,null,"Author","Robert Kennedy Shea",4.3,0.5,34,26,"M","850L","Grade 2 - 3","Grade 2 - 5","For thousands of years, people had to hunt and gather their food for survival. Readers discover a variety of ways to hunt, along with the many kinds of game hunted. Readers will learn why rifles are used rather than shotguns in some instances, and why other hunters use bows and arrows. Readers will also learn the important steps hunters take to stay safe as well as to prevent the overhunting of animals. Though sometimes controversial, hunting will continue to be a pastime for years to come.","English",22.6,16.95,"799.2","32 pp.",{"$f":"Table1[[#This Row],['# Books]]*Table1[[#This Row],[QTY]]","v":0},{"$f":"Table1[[#This Row],[QTY]]*Table1[[#This Row],[S&L Price]]","v":0}]
[null,null,176,null,"The Great Outdoors",1,"Kayaking and Rafting","Library Bound Book","978-1-4339-7103-7",2013,"August 2012","Library","8.500 X 8.500","Author","R.P. Harasymiw",4.3,0.5,34,26,"M","880L","Grade 2 - 3","Grade 2 - 5","Readers will be constantly engaged as they uncover what it means to \"shoot the rapids.\" Kayaking and rafting may seem like simple activities, but it takes a lot of know-how to successfully navigate a river. Readers learn the to discern between a sea kayak and a whitewater kayak. Amidst the adventure, they review how to perform a roll, to regain safety, if they flip over.","English",22.6,16.95,"797.1","32 pp.",{"$f":"Table1[[#This Row],['# Books]]*Table1[[#This Row],[QTY]]","v":0},{"$f":"Table1[[#This Row],[QTY]]*Table1[[#This Row],[S&L Price]]","v":0}]
[null,null,176,null,"The Great Outdoors",1,"Kayaking and Rafting","eBook","978-1-4339-7106-8",2013,"August 2012",null,null,"Author","R.P. Harasymiw",4.3,0.5,34,26,"M","880L","Grade 2 - 3","Grade 2 - 5","Readers will be constantly engaged as they uncover what it means to \"shoot the rapids.\" Kayaking and rafting may seem like simple activities, but it takes a lot of know-how to successfully navigate a river. Readers learn the to discern between a sea kayak and a whitewater kayak. Amidst the adventure, they review how to perform a roll, to regain safety, if they flip over.","English",22.6,16.95,"797.1","32 pp.",{"$f":"Table1[[#This Row],['# Books]]*Table1[[#This Row],[QTY]]","v":0},{"$f":"Table1[[#This Row],[QTY]]*Table1[[#This Row],[S&L Price]]","v":0}]
[null,null,176,null,"The Great Outdoors",1,"Rock Climbing","Library Bound Book","978-1-4339-7107-5",2013,"August 2012","Library","8.500 X 8.500","Author","A. J. Weingarten",4.3,0.5,34,26,"M","800L","Grade 2 - 3","Grade 2 - 5","Rock climbers use every muscle in their body to inch their way to the top of cliffs and mountains. Some, more adventurous climbers do not even use a rope. Readers explore different kinds of rock climbing, both indoors and out. They learn about gear and methods that rock-climbing teams implement to complete a climb successfully. A graphic organizer explains how different climbing surfaces are rated according to their level of difficulty. The photographs that accompany the text inspire and engage readers at all levels.","English",22.6,16.95,"796.522","32 pp.",{"$f":"Table1[[#This Row],['# Books]]*Table1[[#This Row],[QTY]]","v":0},{"$f":"Table1[[#This Row],[QTY]]*Table1[[#This Row],[S&L Price]]","v":0}]
[null,null,176,null,"The Great Outdoors",1,"Rock Climbing","eBook","978-1-4339-7110-5",2013,"August 2012",null,null,"Author","A. J. Weingarten",4.3,0.5,34,26,"M","800L","Grade 2 - 3","Grade 2 - 5","Rock climbers use every muscle in their body to inch their way to the top of cliffs and mountains. Some, more adventurous climbers do not even use a rope. Readers explore different kinds of rock climbing, both indoors and out. They learn about gear and methods that rock-climbing teams implement to complete a climb successfully. A graphic organizer explains how different climbing surfaces are rated according to their level of difficulty. The photographs that accompany the text inspire and engage readers at all levels.","English",22.6,16.95,"796.522","32 pp.",{"$f":"Table1[[#This Row],['# Books]]*Table1[[#This Row],[QTY]]","v":0},{"$f":"Table1[[#This Row],[QTY]]*Table1[[#This Row],[S&L Price]]","v":0}]
[null,null,176,null,"Let's Get Moving!",1,"You Can Be a Dancer","Library Bound Book","978-1-4824-0271-1",2014,"January 2014","Library","8.000 X 10.00","Author","Alix Wood",null,null,38,24,"P",null,"Grade 3 - 4","Grade 3 - 5","Music videos, reality shows, and Broadway musicals all employ talented dancers that can move to the music. These dancers all spent many years practicing and perfecting good dance technique, and possibly took classes in many genres, including ballet, jazz, tap, and hip-hop. Through an introduction to each of the different styles of dance, readers can choose which they’d be most interested in. Then, they can follow full-color photographs and detailed explanations to learn a move or two! From a shuffle hop step to a demi-plié, readers will be ready to dance in no time!","English",26.6,19.95,"792.8","32 pp.",{"$f":"Table1[[#This Row],['# Books]]*Table1[[#This Row],[QTY]]","v":0},{"$f":"Table1[[#This Row],[QTY]]*Table1[[#This Row],[S&L Price]]","v":0}]
[null,null,176,null,"Let's Get Moving!",1,"You Can Be a Dancer","eBook","978-1-4824-0273-5",2014,"January 2014",null,null,"Author","Alix Wood",null,null,38,24,"P",null,"Grade 3 - 4","Grade 3 - 5","Music videos, reality shows, and Broadway musicals all employ talented dancers that can move to the music. These dancers all spent many years practicing and perfecting good dance technique, and possibly took classes in many genres, including ballet, jazz, tap, and hip-hop. Through an introduction to each of the different styles of dance, readers can choose which they’d be most interested in. Then, they can follow full-color photographs and detailed explanations to learn a move or two! From a shuffle hop step to a demi-plié, readers will be ready to dance in no time!","English",26.6,19.95,"792.8","32 pp.",{"$f":"Table1[[#This Row],['# Books]]*Table1[[#This Row],[QTY]]","v":0},{"$f":"Table1[[#This Row],[QTY]]*Table1[[#This Row],[S&L Price]]","v":0}]
[null,null,176,null,"Let's Get Moving!",1,"You Can Be a Gymnast","Library Bound Book","978-1-4824-0275-9",2014,"January 2014","Library","8.000 X 10.00","Author","Alix Wood",null,null,38,24,"P",null,"Grade 3 - 4","Grade 3 - 5","In order to compete high on the rings, flip through the air, and doing walking handstands on the beam, gymnasts have to be strong, flexible, and confident. With lots of practice and help from a coach and spotter, readers can learn to execute splits, L-sits, and other cool gymnastics moves by following an informative step-by-step guide. Colorful photos and helpful tips remind even seasoned gymnasts of important technical points. Readers new to the sport will see moves so cool, they’ll want to join a gym and try them right away!","English",26.6,19.95,"796.44","32 pp.",{"$f":"Table1[[#This Row],['# Books]]*Table1[[#This Row],[QTY]]","v":0},{"$f":"Table1[[#This Row],[QTY]]*Table1[[#This Row],[S&L Price]]","v":0}]
[null,null,176,null,"Let's Get Moving!",1,"You Can Be a Gymnast","eBook","978-1-4824-0277-3",2014,"January 2014",null,null,"Author","Alix Wood",null,null,38,24,"P",null,"Grade 3 - 4","Grade 3 - 5","In order to compete high on the rings, flip through the air, and doing walking handstands on the beam, gymnasts have to be strong, flexible, and confident. With lots of practice and help from a coach and spotter, readers can learn to execute splits, L-sits, and other cool gymnastics moves by following an informative step-by-step guide. Colorful photos and helpful tips remind even seasoned gymnasts of important technical points. Readers new to the sport will see moves so cool, they’ll want to join a gym and try them right away!","English",26.6,19.95,"796.44","32 pp.",{"$f":"Table1[[#This Row],['# Books]]*Table1[[#This Row],[QTY]]","v":0},{"$f":"Table1[[#This Row],[QTY]]*Table1[[#This Row],[S&L Price]]","v":0}]
[null,null,176,null,"Let's Get Moving!",1,"You Can Be a Martial Artist","Library Bound Book","978-1-4824-0279-7",2014,"January 2014","Library","8.000 X 10.00","Author","Alix Wood",null,null,38,24,"P",null,"Grade 3 - 4","Grade 3 - 5","Learning marital arts requires both mental and physical fitness. Those who practice karate, jujitsu, kung fu, and other martial arts spend time learning self-defense, but they also learn discipline, patience, and concentration. Full-color photographs and detailed explanations introduce readers to the basic principles behind several kinds of martial arts, including tae kwon do and judo. Step-by-step instructions teach simple moves, such as snap kicks and hammerfist strikes. Newcomers to martial arts will find the text informative and helpful while those already practicing can revisit important stances and moves to enhance their future performance.","English",26.6,19.95,"796.8","48 pp.",{"$f":"Table1[[#This Row],['# Books]]*Table1[[#This Row],[QTY]]","v":0},{"$f":"Table1[[#This Row],[QTY]]*Table1[[#This Row],[S&L Price]]","v":0}]
[null,null,176,null,"Let's Get Moving!",1,"You Can Be a Martial Artist","eBook","978-1-4824-0281-0",2014,"January 2014",null,null,"Author","Alix Wood",null,null,38,24,"P",null,"Grade 3 - 4","Grade 3 - 5","Learning marital arts requires both mental and physical fitness. Those who practice karate, jujitsu, kung fu, and other martial arts spend time learning self-defense, but they also learn discipline, patience, and concentration. Full-color photographs and detailed explanations introduce readers to the basic principles behind several kinds of martial arts, including tae kwon do and judo. Step-by-step instructions teach simple moves, such as snap kicks and hammerfist strikes. Newcomers to martial arts will find the text informative and helpful while those already practicing can revisit important stances and moves to enhance their future performance.","English",26.6,19.95,"796.8","48 pp.",{"$f":"Table1[[#This Row],['# Books]]*Table1[[#This Row],[QTY]]","v":0},{"$f":"Table1[[#This Row],[QTY]]*Table1[[#This Row],[S&L Price]]","v":0}]
[null,null,176,null,"Let's Get Moving!",1,"You Can Be a Swimmer","Library Bound Book","978-1-4824-0287-2",2014,"January 2014","Library","8.000 X 10.00","Author","Alix Wood",null,null,38,24,"P",null,"Grade 3 - 4","Grade 3 - 5","Swimming is a popular competitive sport and part of other competitive sports like diving, water polo, and synchronized swimming. In addition to being fun and a great way to keep fit, swimming is an important life skill. Good swimmers can help save lives as lifeguards and in water rescue situations! The main text takes readers through the motions of all the strokes, including the fast front crawl. Photographs accompany step-by-step instructions on how the arms and legs move and how to breathe while moving through the water. Tips and tricks to better flip turns and dives will help all swimmers, from experienced to novice.","English",26.6,19.95,"797.2","48 pp.",{"$f":"Table1[[#This Row],['# Books]]*Table1[[#This Row],[QTY]]","v":0},{"$f":"Table1[[#This Row],[QTY]]*Table1[[#This Row],[S&L Price]]","v":0}]
[null,null,176,null,"Let's Get Moving!",1,"You Can Be a Swimmer","eBook","978-1-4824-0289-6",2014,"January 2014",null,null,"Author","Alix Wood",null,null,38,24,"P",null,"Grade 3 - 4","Grade 3 - 5","Swimming is a popular competitive sport and part of other competitive sports like diving, water polo, and synchronized swimming. In addition to being fun and a great way to keep fit, swimming is an important life skill. Good swimmers can help save lives as lifeguards and in water rescue situations! The main text takes readers through the motions of all the strokes, including the fast front crawl. Photographs accompany step-by-step instructions on how the arms and legs move and how to breathe while moving through the water. Tips and tricks to better flip turns and dives will help all swimmers, from experienced to novice.","English",26.6,19.95,"797.2","48 pp.",{"$f":"Table1[[#This Row],['# Books]]*Table1[[#This Row],[QTY]]","v":0},{"$f":"Table1[[#This Row],[QTY]]*Table1[[#This Row],[S&L Price]]","v":0}]
[null,null,176,null,"Let's Get Moving!",1,"You Can Be an Ice-Skater","Library Bound Book","978-1-4824-0283-4",2014,"January 2014","Library","8.000 X 10.00","Author","Alix Wood",null,null,38,24,"P",null,"Grade 3 - 4","Grade 3 - 5","The Olympics are full of skating sports! Graceful figure skaters impress with jumps, speed skaters zoom around the icy track, and hockey players turn on a dime to chase down the puck. Readers will enjoy learning about different skills needed for each of these activities. With colorful photographs illustrating the postures, foot placement, and techniques needed to learn how to ice-skate, the main content shows readers what fun they can have on the ice. Ice-skating is a great way to get moving, whether in a figure 8 or guarding a hockey net!","English",26.6,19.95,"796.91","48 pp.",{"$f":"Table1[[#This Row],['# Books]]*Table1[[#This Row],[QTY]]","v":0},{"$f":"Table1[[#This Row],[QTY]]*Table1[[#This Row],[S&L Price]]","v":0}]
[null,null,176,null,"Let's Get Moving!",1,"You Can Be an Ice-Skater","eBook","978-1-4824-0285-8",2014,"January 2014",null,null,"Author","Alix Wood",null,null,38,24,"P",null,"Grade 3 - 4","Grade 3 - 5","The Olympics are full of skating sports! Graceful figure skaters impress with jumps, speed skaters zoom around the icy track, and hockey players turn on a dime to chase down the puck. Readers will enjoy learning about different skills needed for each of these activities. With colorful photographs illustrating the postures, foot placement, and techniques needed to learn how to ice-skate, the main content shows readers what fun they can have on the ice. Ice-skating is a great way to get moving, whether in a figure 8 or guarding a hockey net!","English",26.6,19.95,"796.91","48 pp.",{"$f":"Table1[[#This Row],['# Books]]*Table1[[#This Row],[QTY]]","v":0},{"$f":"Table1[[#This Row],[QTY]]*Table1[[#This Row],[S&L Price]]","v":0}]
[null,null,176,null,"Let's Get Moving!",1,"You Can Do Yoga","Library Bound Book","978-1-4824-0291-9",2014,"January 2014","Library","8.000 X 10.00","Author","Alix Wood",null,null,38,24,"P",null,"Grade 3 - 4","Grade 3 - 5","Regular yoga practice offers fitness benefits for the body and the mind. The meditation that’s commonly involved helps people to focus, feel calm, and even have lower blood pressure. Yoga poses increase strength, muscle tone, and flexibility. An introduction to common yoga poses will draw readers in through clear, step-by-step instructions and full-color, guiding photographs. Tips for bettering poses such as tree, cobra, and headstands offer those familiar with the practice a chance to improve and beginners an opportunity to start with good form.","English",26.6,19.95,"613.7","48 pp.",{"$f":"Table1[[#This Row],['# Books]]*Table1[[#This Row],[QTY]]","v":0},{"$f":"Table1[[#This Row],[QTY]]*Table1[[#This Row],[S&L Price]]","v":0}]
[null,null,176,null,"Let's Get Moving!",1,"You Can Do Yoga","eBook","978-1-4824-0293-3",2014,"January 2014",null,null,"Author","Alix Wood",null,null,38,24,"P",null,"Grade 3 - 4","Grade 3 - 5","Regular yoga practice offers fitness benefits for the body and the mind. The meditation that’s commonly involved helps people to focus, feel calm, and even have lower blood pressure. Yoga poses increase strength, muscle tone, and flexibility. An introduction to common yoga poses will draw readers in through clear, step-by-step instructions and full-color, guiding photographs. Tips for bettering poses such as tree, cobra, and headstands offer those familiar with the practice a chance to improve and beginners an opportunity to start with good form.","English",26.6,19.95,"613.7","48 pp.",{"$f":"Table1[[#This Row],['# Books]]*Table1[[#This Row],[QTY]]","v":0},{"$f":"Table1[[#This Row],[QTY]]*Table1[[#This Row],[S&L Price]]","v":0}]
[null,null,176,null,"Incredibly Insane Sports",1,"BASE Jumping","Library Bound Book","978-1-4339-8818-9",2013,"January 2013","Library","8.000 X 10.00","Author","Jessica Cohn",5.8,1,40,28,"Q",null,"Grade 4 - 5","Grade 4 - 6","BASE Jumping is the ultimate adrenaline rush. Leaping off a bridge or cliff with nothing but a parachute is thrilling, but a risk few are willing to take. Readers will dive headfirst into the world of BASE jumping through exciting and engaging text. Find out what surfaces BASE jumpers jump off of, and what risks they take for a thrill. Full-color photographs show the gravity-defying feats of BASE jumping while educating readers on the science of the sport. Interactive challenges to encourage exercise of both body and mind are also provided.","English",31.95,23.95,"796.43","48 pp.",{"$f":"Table1[[#This Row],['# Books]]*Table1[[#This Row],[QTY]]","v":0},{"$f":"Table1[[#This Row],[QTY]]*Table1[[#This Row],[S&L Price]]","v":0}]
[null,null,176,null,"Incredibly Insane Sports",1,"BASE Jumping","eBook","978-1-4339-8821-9",2013,"January 2013",null,null,"Author","Jessica Cohn",5.8,1,40,28,"Q",null,"Grade 4 - 5","Grade 4 - 6","BASE Jumping is the ultimate adrenaline rush. Leaping off a bridge or cliff with nothing but a parachute is thrilling, but a risk few are willing to take. Readers will dive headfirst into the world of BASE jumping through exciting and engaging text. Find out what surfaces BASE jumpers jump off of, and what risks they take for a thrill. Full-color photographs show the gravity-defying feats of BASE jumping while educating readers on the science of the sport. Interactive challenges to encourage exercise of both body and mind are also provided.","English",31.95,23.95,"796.43","48 pp.",{"$f":"Table1[[#This Row],['# Books]]*Table1[[#This Row],[QTY]]","v":0},{"$f":"Table1[[#This Row],[QTY]]*Table1[[#This Row],[S&L Price]]","v":0}]
[null,null,176,null,"Incredibly Insane Sports",1,"BMX","Library Bound Book","978-1-4339-8822-6",2013,"January 2013","Library","8.000 X 10.00","Author","Jessica Cohn",5.2,1,40,28,"Q",null,"Grade 4 - 5","Grade 4 - 6","Bicycles are a great way to get from place to place, but BMX riders are all about style. Readers will discover the high-flying world of BMX through exciting text. The history of the sport is on full display, along with its most exciting riders. Full-color photographs show the gravity-defying feats of BMX while educating readers on the science the sport. Interactive challenges, to encourage the exercise of both body and mind, are also provided.","English",31.95,23.95,"796.6","48 pp.",{"$f":"Table1[[#This Row],['# Books]]*Table1[[#This Row],[QTY]]","v":0},{"$f":"Table1[[#This Row],[QTY]]*Table1[[#This Row],[S&L Price]]","v":0}]
[null,null,176,null,"Incredibly Insane Sports",1,"BMX","eBook","978-1-4339-8825-7",2013,"January 2013",null,null,"Author","Jessica Cohn",5.2,1,40,28,"Q",null,"Grade 4 - 5","Grade 4 - 6","Bicycles are a great way to get from place to place, but BMX riders are all about style. Readers will discover the high-flying world of BMX through exciting text. The history of the sport is on full display, along with its most exciting riders. Full-color photographs show the gravity-defying feats of BMX while educating readers on the science the sport. Interactive challenges, to encourage the exercise of both body and mind, are also provided.","English",31.95,23.95,"796.6","48 pp.",{"$f":"Table1[[#This Row],['# Books]]*Table1[[#This Row],[QTY]]","v":0},{"$f":"Table1[[#This Row],[QTY]]*Table1[[#This Row],[S&L Price]]","v":0}]
[null,null,176,null,"Incredibly Insane Sports",1,"Free Running","Library Bound Book","978-1-4339-8826-4",2013,"January 2013","Library","8.000 X 10.00","Author","Jessica Cohn",5.5,1,40,28,"Q",null,"Grade 4 - 5","Grade 4 - 6","Where ordinary people see walls and railings, some athletes see a challenge. Readers will discover who those athletes are—free runners. Using a mix of gymnastics and running, these daring few will guide you through the history of this high-flying world. Full-color photographs show the gravity-defying feats of free running, while educating readers on the science the sport. Each book also provides interactive challenges to encourage the exercise of both body and mind.","English",31.95,23.95,"796.42","24 pp.",{"$f":"Table1[[#This Row],['# Books]]*Table1[[#This Row],[QTY]]","v":0},{"$f":"Table1[[#This Row],[QTY]]*Table1[[#This Row],[S&L Price]]","v":0}]
[null,null,176,null,"Incredibly Insane Sports",1,"Free Running","eBook","978-1-4339-8829-5",2013,"January 2013",null,null,"Author","Jessica Cohn",5.5,1,40,28,"Q",null,"Grade 4 - 5","Grade 4 - 6","Where ordinary people see walls and railings, some athletes see a challenge. Readers will discover who those athletes are—free runners. Using a mix of gymnastics and running, these daring few will guide you through the history of this high-flying world. Full-color photographs show the gravity-defying feats of free running, while educating readers on the science the sport. Each book also provides interactive challenges to encourage the exercise of both body and mind.","English",31.95,23.95,"796.42","24 pp.",{"$f":"Table1[[#This Row],['# Books]]*Table1[[#This Row],[QTY]]","v":0},{"$f":"Table1[[#This Row],[QTY]]*Table1[[#This Row],[S&L Price]]","v":0}]
[null,null,176,null,"Incredibly Insane Sports",1,"Mountain Climbing","Library Bound Book","978-1-4339-8830-1",2013,"January 2013","Library","8.000 X 10.00","Author","Jessica Cohn",5.7,1,40,28,"Q",null,"Grade 4 - 5","Grade 4 - 6","For a daring few, the tallest points on earth are a challenge to rise above. In this exciting book, readers will discover the breathtaking world of mountain climbing. Discover the stunning environments climbers have ascended to, and the history of mountain climbing. Full-color photographs show the gravity-defying feats of mountain climbing, while educating readers on the science the sport. Each book also provides interactive challenges to encourage the exercise of both body and mind.","English",31.95,23.95,"796.522","24 pp.",{"$f":"Table1[[#This Row],['# Books]]*Table1[[#This Row],[QTY]]","v":0},{"$f":"Table1[[#This Row],[QTY]]*Table1[[#This Row],[S&L Price]]","v":0}]
[null,null,176,null,"Incredibly Insane Sports",1,"Mountain Climbing","eBook","978-1-4339-8833-2",2013,"January 2013",null,null,"Author","Jessica Cohn",5.7,1,40,28,"Q",null,"Grade 4 - 5","Grade 4 - 6","For a daring few, the tallest points on earth are a challenge to rise above. In this exciting book, readers will discover the breathtaking world of mountain climbing. Discover the stunning environments climbers have ascended to, and the history of mountain climbing. Full-color photographs show the gravity-defying feats of mountain climbing, while educating readers on the science the sport. Each book also provides interactive challenges to encourage the exercise of both body and mind.","English",31.95,23.95,"796.522","24 pp.",{"$f":"Table1[[#This Row],['# Books]]*Table1[[#This Row],[QTY]]","v":0},{"$f":"Table1[[#This Row],[QTY]]*Table1[[#This Row],[S&L Price]]","v":0}]
[null,null,177,null,"Incredibly Insane Sports",1,"Road Cycling","Library Bound Book","978-1-4339-8834-9",2013,"January 2013","Library","8.000 X 10.00","Author","Jessica Cohn",4.8,1,40,28,"Q",null,"Grade 4 - 5","Grade 4 - 6","There are over a billion bicycles on the road worldwide, but only a select few push their bikes to the limit. Readers will explore the world of road cycling, and be provided with some of the most famous races and racers in the world. Full-color photographs show the gravity-defying feats of road cycling, while educating readers on the science the sport. Each book also provides interactive challenges to encourage the exercise of both body and mind.","English",31.95,23.95,"796.6","24 pp.",{"$f":"Table1[[#This Row],['# Books]]*Table1[[#This Row],[QTY]]","v":0},{"$f":"Table1[[#This Row],[QTY]]*Table1[[#This Row],[S&L Price]]","v":0}]
[null,null,177,null,"Incredibly Insane Sports",1,"Road Cycling","eBook","978-1-4339-8837-0",2013,"January 2013",null,null,"Author","Jessica Cohn",4.8,1,40,28,"Q",null,"Grade 4 - 5","Grade 4 - 6","There are over a billion bicycles on the road worldwide, but only a select few push their bikes to the limit. Readers will explore the world of road cycling, and be provided with some of the most famous races and racers in the world. Full-color photographs show the gravity-defying feats of road cycling, while educating readers on the science the sport. Each book also provides interactive challenges to encourage the exercise of both body and mind.","English",31.95,23.95,"796.6","24 pp.",{"$f":"Table1[[#This Row],['# Books]]*Table1[[#This Row],[QTY]]","v":0},{"$f":"Table1[[#This Row],[QTY]]*Table1[[#This Row],[S&L Price]]","v":0}]
[null,null,177,null,"Incredibly Insane Sports",1,"Rodeo","Library Bound Book","978-1-4339-8838-7",2013,"January 2013","Library","8.000 X 10.00","Author","Jessica Cohn",5.4,1,40,28,"Q",null,"Grade 4 - 5","Grade 4 - 6","Man has long tried to tame the wild of nature. At the rodeo, cowboys battle nature eight seconds at a time. Readers discover the history of the rodeo and its origins in the American West. Professional bull riders to the spectators that cheer them on, this book gives readers an in-depth look at all things rodeo. Full-color photographs show the gravity-defying feats of the rodeo, while educating readers on the science the sport. Interactive challenges to encourage the exercise of both body and mind are also provided.","English",31.95,23.95,"791.8","24 pp.",{"$f":"Table1[[#This Row],['# Books]]*Table1[[#This Row],[QTY]]","v":0},{"$f":"Table1[[#This Row],[QTY]]*Table1[[#This Row],[S&L Price]]","v":0}]
[null,null,177,null,"Incredibly Insane Sports",1,"Rodeo","eBook","978-1-4339-8841-7",2013,"January 2013",null,null,"Author","Jessica Cohn",5.4,1,40,28,"Q",null,"Grade 4 - 5","Grade 4 - 6","Man has long tried to tame the wild of nature. At the rodeo, cowboys battle nature eight seconds at a time. Readers discover the history of the rodeo and its origins in the American West. Professional bull riders to the spectators that cheer them on, this book gives readers an in-depth look at all things rodeo. Full-color photographs show the gravity-defying feats of the rodeo, while educating readers on the science the sport. Interactive challenges to encourage the exercise of both body and mind are also provided.","English",31.95,23.95,"791.8","24 pp.",{"$f":"Table1[[#This Row],['# Books]]*Table1[[#This Row],[QTY]]","v":0},{"$f":"Table1[[#This Row],[QTY]]*Table1[[#This Row],[S&L Price]]","v":0}]
[null,null,177,null,"¡Felices fiestas! / Happy Holidays!",1,"¡Feliz Año Nuevo! / Happy New Year!","Library Bound Book","978-1-4339-9966-6",2014,"January 2014","Library","7.625 X 7.125","Author","Alex Appleby",null,null,3,null,"C",null,"Grade K","Grade K - 2","The start of each year is a celebration, but why? In this great book, readers will learn all about the fun parties and gatherings we have to mark the end and beginning of every year. From ball drops to parties and even football games, everyone should learn how to have a happy new year! With accessible text presented in English and standard Latin-American Spanish, readers will learn all about the traditions and fun resolutions that each new year brings.    • Strong picture-text correlation aids in comprehension • Reading level supports beginning readers • Picture glossary helps develop vocabulary skills  ","Bilingual",22.6,16.95,"394.2614","24 pp.",{"$f":"Table1[[#This Row],['# Books]]*Table1[[#This Row],[QTY]]","v":0},{"$f":"Table1[[#This Row],[QTY]]*Table1[[#This Row],[S&L Price]]","v":0}]
[null,null,177,null,"¡Felices fiestas! / Happy Holidays!",1,"¡Feliz Año Nuevo! / Happy New Year!","eBook","978-1-4339-9967-3",2014,"January 2014",null,null,"Author","Alex Appleby",null,null,3,null,"C",null,"Grade K","Grade K - 2","The start of each year is a celebration, but why? In this great book, readers will learn all about the fun parties and gatherings we have to mark the end and beginning of every year. From ball drops to parties and even football games, everyone should learn how to have a happy new year! With accessible text presented in English and standard Latin-American Spanish, readers will learn all about the traditions and fun resolutions that each new year brings.    • Strong picture-text correlation aids in comprehension • Reading level supports beginning readers • Picture glossary helps develop vocabulary skills  ","Bilingual",22.6,16.95,"394.2614","24 pp.",{"$f":"Table1[[#This Row],['# Books]]*Table1[[#This Row],[QTY]]","v":0},{"$f":"Table1[[#This Row],[QTY]]*Table1[[#This Row],[S&L Price]]","v":0}]
[null,null,177,null,"¡Felices fiestas! / Happy Holidays!",1,"¡Feliz Cuatro de Julio! / Happy Fourth of July!","Library Bound Book","978-1-4339-9962-8",2014,"January 2014","Library","7.625 X 7.125","Author","Alex Appleby",null,null,3,null,"C",null,"Grade K","Grade K - 2","The Fourth of July is one of the most important holidays of the year. Readers will learn why we set off fireworks to celebrate America’s birthday and what other people do to honor the country on this fun holiday. From sparklers and hot dogs to parades and fun floats, readers will learn why the Fourth of July is a great holiday with the help of accessible text presented in both English and standard Latin-American Spanish.    • Strong picture-text correlation aids in comprehension • Reading level supports beginning readers • Picture glossary helps develop vocabulary skills  ","Bilingual",22.6,16.95,"394.263","24 pp.",{"$f":"Table1[[#This Row],['# Books]]*Table1[[#This Row],[QTY]]","v":0},{"$f":"Table1[[#This Row],[QTY]]*Table1[[#This Row],[S&L Price]]","v":0}]
[null,null,177,null,"¡Felices fiestas! / Happy Holidays!",1,"¡Feliz Cuatro de Julio! / Happy Fourth of July!","eBook","978-1-4339-9963-5",2014,"January 2014",null,null,"Author","Alex Appleby",null,null,3,null,"C",null,"Grade K","Grade K - 2","The Fourth of July is one of the most important holidays of the year. Readers will learn why we set off fireworks to celebrate America’s birthday and what other people do to honor the country on this fun holiday. From sparklers and hot dogs to parades and fun floats, readers will learn why the Fourth of July is a great holiday with the help of accessible text presented in both English and standard Latin-American Spanish.    • Strong picture-text correlation aids in comprehension • Reading level supports beginning readers • Picture glossary helps develop vocabulary skills  ","Bilingual",22.6,16.95,"394.263","24 pp.",{"$f":"Table1[[#This Row],['# Books]]*Table1[[#This Row],[QTY]]","v":0},{"$f":"Table1[[#This Row],[QTY]]*Table1[[#This Row],[S&L Price]]","v":0}]
[null,null,177,null,"¡Felices fiestas! / Happy Holidays!",1,"¡Feliz Día de Acción de Gracias! / Happy Thanksgiving!","Library Bound Book","978-1-4339-9968-0",2014,"January 2014","Library","7.625 X 7.125","Author","Alex Appleby",null,null,3,null,"C",null,"Grade K","Grade K - 2","Thanksgiving is a tradition passed down by people for hundreds of years. Through accessible text presented in both English and standard Latin-American Spanish, this great book explores why a day of thanks in November has become an American tradition. Why do we eat turkey on Thanksgiving? Why do we play football? Find out all this, and more about this great holiday while developing early reading skills and vocabulary thanks to a colorful picture glossary.    • Strong picture-text correlation aids in comprehension • Reading level supports beginning readers • Picture glossary helps develop vocabulary skills  ","Bilingual",22.6,16.95,"394.2649","24 pp.",{"$f":"Table1[[#This Row],['# Books]]*Table1[[#This Row],[QTY]]","v":0},{"$f":"Table1[[#This Row],[QTY]]*Table1[[#This Row],[S&L Price]]","v":0}]
[null,null,177,null,"¡Felices fiestas! / Happy Holidays!",1,"¡Feliz Día de Acción de Gracias! / Happy Thanksgiving!","eBook","978-1-4339-9969-7",2014,"January 2014",null,null,"Author","Alex Appleby",null,null,3,null,"C",null,"Grade K","Grade K - 2","Thanksgiving is a tradition passed down by people for hundreds of years. Through accessible text presented in both English and standard Latin-American Spanish, this great book explores why a day of thanks in November has become an American tradition. Why do we eat turkey on Thanksgiving? Why do we play football? Find out all this, and more about this great holiday while developing early reading skills and vocabulary thanks to a colorful picture glossary.    • Strong picture-text correlation aids in comprehension • Reading level supports beginning readers • Picture glossary helps develop vocabulary skills  ","Bilingual",22.6,16.95,"394.2649","24 pp.",{"$f":"Table1[[#This Row],['# Books]]*Table1[[#This Row],[QTY]]","v":0},{"$f":"Table1[[#This Row],[QTY]]*Table1[[#This Row],[S&L Price]]","v":0}]
[null,null,177,null,"¡Felices fiestas! / Happy Holidays!",1,"¡Feliz Día de la Tierra! / Happy Earth Day!","Library Bound Book","978-1-4339-9956-7",2014,"January 2014","Library","7.625 X 7.125","Author","Alex Appleby",null,null,3,null,"C",null,"Grade K","Grade K - 2","Some of our favorite days of the year are holidays. Earth Day was established to help people learn about conservation. With the help of accessible text presented in both English and standard Latin-American Spanish, this great book will teach readers how recycling can help save the Earth and what people do to celebrate Earth Day around the globe. A picture glossary will help readers develop vocabulary skills while learning early concepts and gaining a better understanding about holidays we celebrate every year.    • Strong picture-text correlation aids in comprehension • Reading level supports beginning readers • Picture glossary helps develop vocabulary skills  ","Bilingual",22.6,16.95,"394.262","24 pp.",{"$f":"Table1[[#This Row],['# Books]]*Table1[[#This Row],[QTY]]","v":0},{"$f":"Table1[[#This Row],[QTY]]*Table1[[#This Row],[S&L Price]]","v":0}]
[null,null,177,null,"¡Felices fiestas! / Happy Holidays!",1,"¡Feliz Día de la Tierra! / Happy Earth Day!","eBook","978-1-4339-9961-1",2014,"January 2014",null,null,"Author","Alex Appleby",null,null,3,null,"C",null,"Grade K","Grade K - 2","Some of our favorite days of the year are holidays. Earth Day was established to help people learn about conservation. With the help of accessible text presented in both English and standard Latin-American Spanish, this great book will teach readers how recycling can help save the Earth and what people do to celebrate Earth Day around the globe. A picture glossary will help readers develop vocabulary skills while learning early concepts and gaining a better understanding about holidays we celebrate every year.    • Strong picture-text correlation aids in comprehension • Reading level supports beginning readers • Picture glossary helps develop vocabulary skills  ","Bilingual",22.6,16.95,"394.262","24 pp.",{"$f":"Table1[[#This Row],['# Books]]*Table1[[#This Row],[QTY]]","v":0},{"$f":"Table1[[#This Row],[QTY]]*Table1[[#This Row],[S&L Price]]","v":0}]
[null,null,177,null,"¡Felices fiestas! / Happy Holidays!",1,"¡Feliz Día de San Valentín! / Happy Valentine's Day!","Library Bound Book","978-1-4339-9970-3",2014,"January 2014","Library","7.625 X 7.125","Author","Alex Appleby",null,null,3,null,"C",null,"Grade K","Grade K - 2","Valentine’s Day is a day of love. February 14 is a special day to celebrate the people you care about, but how did we pick that day? In this interesting book, learn about the history and traditions of Valentine’s Day around the world. From hearts and roses to eating lots of chocolate, there’s plenty to learn about Valentine’s Day. Through accessible text presented in both English and standard Latin-American Spanish, readers will fall in love with this great holiday!    • Strong picture-text correlation aids in comprehension • Reading level supports beginning readers • Picture glossary helps develop vocabulary skills  ","Bilingual",22.6,16.95,"394.2618","24 pp.",{"$f":"Table1[[#This Row],['# Books]]*Table1[[#This Row],[QTY]]","v":0},{"$f":"Table1[[#This Row],[QTY]]*Table1[[#This Row],[S&L Price]]","v":0}]
[null,null,177,null,"¡Felices fiestas! / Happy Holidays!",1,"¡Feliz Día de San Valentín! / Happy Valentine's Day!","eBook","978-1-4339-9971-0",2014,"January 2014",null,null,"Author","Alex Appleby",null,null,3,null,"C",null,"Grade K","Grade K - 2","Valentine’s Day is a day of love. February 14 is a special day to celebrate the people you care about, but how did we pick that day? In this interesting book, learn about the history and traditions of Valentine’s Day around the world. From hearts and roses to eating lots of chocolate, there’s plenty to learn about Valentine’s Day. Through accessible text presented in both English and standard Latin-American Spanish, readers will fall in love with this great holiday!    • Strong picture-text correlation aids in comprehension • Reading level supports beginning readers • Picture glossary helps develop vocabulary skills  ","Bilingual",22.6,16.95,"394.2618","24 pp.",{"$f":"Table1[[#This Row],['# Books]]*Table1[[#This Row],[QTY]]","v":0},{"$f":"Table1[[#This Row],[QTY]]*Table1[[#This Row],[S&L Price]]","v":0}]
[null,null,177,null,"¡Felices fiestas! / Happy Holidays!",1,"¡Feliz Noche de Brujas! / Happy Halloween!","Library Bound Book","978-1-4339-9964-2",2014,"January 2014","Library","7.625 X 7.125","Author","Alex Appleby",null,null,3,null,"C",null,"Grade K","Grade K - 2","Halloween is a spooky and fun holiday for people of all ages. From its roots as All Hallow’s Eve to its fun traditions today, readers will learn all about how Halloween makes the end of October one of the most fun times of the year. Through accessible text presented in both English and standard Latin-American Spanish, learn why people dress up in costumes and throw parties on October 31, and what trick or treating is all about with this great book.    • Strong picture-text correlation aids in comprehension • Reading level supports beginning readers • Picture glossary helps develop vocabulary skills  ","Bilingual",22.6,16.95,"394.2646","24 pp.",{"$f":"Table1[[#This Row],['# Books]]*Table1[[#This Row],[QTY]]","v":0},{"$f":"Table1[[#This Row],[QTY]]*Table1[[#This Row],[S&L Price]]","v":0}]
[null,null,177,null,"¡Felices fiestas! / Happy Holidays!",1,"¡Feliz Noche de Brujas! / Happy Halloween!","eBook","978-1-4339-9965-9",2014,"January 2014",null,null,"Author","Alex Appleby",null,null,3,null,"C",null,"Grade K","Grade K - 2","Halloween is a spooky and fun holiday for people of all ages. From its roots as All Hallow’s Eve to its fun traditions today, readers will learn all about how Halloween makes the end of October one of the most fun times of the year. Through accessible text presented in both English and standard Latin-American Spanish, learn why people dress up in costumes and throw parties on October 31, and what trick or treating is all about with this great book.    • Strong picture-text correlation aids in comprehension • Reading level supports beginning readers • Picture glossary helps develop vocabulary skills  ","Bilingual",22.6,16.95,"394.2646","24 pp.",{"$f":"Table1[[#This Row],['# Books]]*Table1[[#This Row],[QTY]]","v":0},{"$f":"Table1[[#This Row],[QTY]]*Table1[[#This Row],[S&L Price]]","v":0}]
[null,null,177,null,"Big Machines / Grandes máquinas",1,"Bulldozers","Library Bound Book","978-1-4339-5574-7",2012,"August 2011","Library","7.625 X 7.125","Author","Katie Kawa",null,null,3,4,"C",null,"Grade K","Grade K - 2","Bulldozers are very strong machines. They move big trees, push rocks away to make roads, and even dig deep into the dirt. English language learners discover these and many other fun facts about bulldozers in this bilingual book. With the help of simple text presented in both standard Latin American Spanish and English, they explore how bulldozers are able to do many important jobs. Detailed photographs show these machines hard at work.","Bilingual",22.6,16.95,"629.225","24 pp.",{"$f":"Table1[[#This Row],['# Books]]*Table1[[#This Row],[QTY]]","v":0},{"$f":"Table1[[#This Row],[QTY]]*Table1[[#This Row],[S&L Price]]","v":0}]
[null,null,177,null,"Big Machines / Grandes máquinas",1,"Bulldozers","eBook","978-1-4339-5575-4",2012,"August 2011",null,null,"Author","Katie Kawa",null,null,3,4,"C",null,"Grade K","Grade K - 2","Bulldozers are very strong machines. They move big trees, push rocks away to make roads, and even dig deep into the dirt. English language learners discover these and many other fun facts about bulldozers in this bilingual book. With the help of simple text presented in both standard Latin American Spanish and English, they explore how bulldozers are able to do many important jobs. Detailed photographs show these machines hard at work.","Bilingual",22.6,16.95,"629.225","24 pp.",{"$f":"Table1[[#This Row],['# Books]]*Table1[[#This Row],[QTY]]","v":0},{"$f":"Table1[[#This Row],[QTY]]*Table1[[#This Row],[S&L Price]]","v":0}]
[null,null,177,null,"Cuatro estaciones estupendas / Four Super Seasons",1,"¿Qué sucede en invierno? / What Happens in Winter?","Library Bound Book","978-1-4824-0132-5",2014,"January 2014","Library","7.625 X 7.125","Author","Alex Appleby",null,null,3,null,"C",null,"Grade K","Grade K - 2","Winter is a special season because the weather can be very different from the others. Whether it’s snow or just the cold that comes, it’s a very interesting season all over the world. Through the use of accessible text, presented in both English and standard Latin-American Spanish, and a great picture glossary, early readers will explore the super season of winter and learn the science behind Mother Nature’s coldest season.    • Strong picture-text correlation aids in comprehension • Reading level supports beginning readers • Picture glossary helps develop vocabulary skills   ","Bilingual",22.6,16.95,"508.2","24 pp.",{"$f":"Table1[[#This Row],['# Books]]*Table1[[#This Row],[QTY]]","v":0},{"$f":"Table1[[#This Row],[QTY]]*Table1[[#This Row],[S&L Price]]","v":0}]
[null,null,177,null,"Cuatro estaciones estupendas / Four Super Seasons",1,"¿Qué sucede en invierno? / What Happens in Winter?","eBook","978-1-4824-0133-2",2014,"January 2014",null,null,"Author","Alex Appleby",null,null,3,null,"C",null,"Grade K","Grade K - 2","Winter is a special season because the weather can be very different from the others. Whether it’s snow or just the cold that comes, it’s a very interesting season all over the world. Through the use of accessible text, presented in both English and standard Latin-American Spanish, and a great picture glossary, early readers will explore the super season of winter and learn the science behind Mother Nature’s coldest season.    • Strong picture-text correlation aids in comprehension • Reading level supports beginning readers • Picture glossary helps develop vocabulary skills   ","Bilingual",22.6,16.95,"508.2","24 pp.",{"$f":"Table1[[#This Row],['# Books]]*Table1[[#This Row],[QTY]]","v":0},{"$f":"Table1[[#This Row],[QTY]]*Table1[[#This Row],[S&L Price]]","v":0}]
[null,null,177,null,"Cuatro estaciones estupendas / Four Super Seasons",1,"¿Qué sucede en otoño? / What Happens in Fall?","Library Bound Book","978-1-4824-0101-1",2014,"January 2014","Library","7.625 X 7.125","Author","Alex Appleby",null,null,3,null,"C",null,"Grade K","Grade K - 2","Why do the leaves fall off trees in autumn? Through the use of accessible text, presented in both English and standard Latin-American Spanish, readers learn the basic science of fall and understand why the weather gets colder as the year goes on. Each season has its unique qualities, and this series explains to young readers what makes fall unique in its own way.    • Strong picture-text correlation aids in comprehension • Reading level supports beginning readers • Picture glossary helps develop vocabulary skills   ","Bilingual",22.6,16.95,"508.2","24 pp.",{"$f":"Table1[[#This Row],['# Books]]*Table1[[#This Row],[QTY]]","v":0},{"$f":"Table1[[#This Row],[QTY]]*Table1[[#This Row],[S&L Price]]","v":0}]
[null,null,177,null,"Cuatro estaciones estupendas / Four Super Seasons",1,"¿Qué sucede en otoño? / What Happens in Fall?","eBook","978-1-4824-0102-8",2014,"January 2014",null,null,"Author","Alex Appleby",null,null,3,null,"C",null,"Grade K","Grade K - 2","Why do the leaves fall off trees in autumn? Through the use of accessible text, presented in both English and standard Latin-American Spanish, readers learn the basic science of fall and understand why the weather gets colder as the year goes on. Each season has its unique qualities, and this series explains to young readers what makes fall unique in its own way.    • Strong picture-text correlation aids in comprehension • Reading level supports beginning readers • Picture glossary helps develop vocabulary skills   ","Bilingual",22.6,16.95,"508.2","24 pp.",{"$f":"Table1[[#This Row],['# Books]]*Table1[[#This Row],[QTY]]","v":0},{"$f":"Table1[[#This Row],[QTY]]*Table1[[#This Row],[S&L Price]]","v":0}]
[null,null,177,null,"Cuatro estaciones estupendas / Four Super Seasons",1,"¿Qué sucede en primavera? / What Happens in Spring?","Library Bound Book","978-1-4824-0119-6",2014,"January 2014","Library","7.625 X 7.125","Author","Alex Appleby",null,null,3,null,"C",null,"Grade K","Grade K - 2","After a cold winter, spring is an exciting season no matter where you live. Young readers learn about the science behind spring in simple, easily accessible text presented in both English and standard Latin-American Spanish. Readers will explore the growth of new plants, animals coming out of hibernation, and the regrowth of nature that occurs when the weather starts to get warmer in this fun book.    • Strong picture-text correlation aids in comprehension • Reading level supports beginning readers • Picture glossary helps develop vocabulary skills   ","Bilingual",22.6,16.95,"508.2","24 pp.",{"$f":"Table1[[#This Row],['# Books]]*Table1[[#This Row],[QTY]]","v":0},{"$f":"Table1[[#This Row],[QTY]]*Table1[[#This Row],[S&L Price]]","v":0}]
[null,null,177,null,"Cuatro estaciones estupendas / Four Super Seasons",1,"¿Qué sucede en primavera? / What Happens in Spring?","eBook","978-1-4824-0121-9",2014,"January 2014",null,null,"Author","Alex Appleby",null,null,3,null,"C",null,"Grade K","Grade K - 2","After a cold winter, spring is an exciting season no matter where you live. Young readers learn about the science behind spring in simple, easily accessible text presented in both English and standard Latin-American Spanish. Readers will explore the growth of new plants, animals coming out of hibernation, and the regrowth of nature that occurs when the weather starts to get warmer in this fun book.    • Strong picture-text correlation aids in comprehension • Reading level supports beginning readers • Picture glossary helps develop vocabulary skills   ","Bilingual",22.6,16.95,"508.2","24 pp.",{"$f":"Table1[[#This Row],['# Books]]*Table1[[#This Row],[QTY]]","v":0},{"$f":"Table1[[#This Row],[QTY]]*Table1[[#This Row],[S&L Price]]","v":0}]
[null,null,177,null,"Cuatro estaciones estupendas / Four Super Seasons",1,"¿Qué sucede en verano? / What Happens in Summer?","Library Bound Book","978-1-4824-0128-8",2014,"January 2014","Library","7.625 X 7.125","Author","Alex Appleby",null,null,3,null,"C",null,"Grade K","Grade K - 2","There’s lots to do when the weather is nice in summer. This book explores the warm weather that summer brings, including the activities of nature and fun ways to fill a summer day. Through the use of accessible text, presented in both English and standard Latin-American Spanish, and simple science content, readers will learn why summer is unique from the other seasons.    • Strong picture-text correlation aids in comprehension • Reading level supports beginning readers • Picture glossary helps develop vocabulary skills   ","Bilingual",22.6,16.95,"508.2","24 pp.",{"$f":"Table1[[#This Row],['# Books]]*Table1[[#This Row],[QTY]]","v":0},{"$f":"Table1[[#This Row],[QTY]]*Table1[[#This Row],[S&L Price]]","v":0}]
[null,null,177,null,"Cuatro estaciones estupendas / Four Super Seasons",1,"¿Qué sucede en verano? / What Happens in Summer?","eBook","978-1-4824-0129-5",2014,"January 2014",null,null,"Author","Alex Appleby",null,null,3,null,"C",null,"Grade K","Grade K - 2","There’s lots to do when the weather is nice in summer. This book explores the warm weather that summer brings, including the activities of nature and fun ways to fill a summer day. Through the use of accessible text, presented in both English and standard Latin-American Spanish, and simple science content, readers will learn why summer is unique from the other seasons.    • Strong picture-text correlation aids in comprehension • Reading level supports beginning readers • Picture glossary helps develop vocabulary skills   ","Bilingual",22.6,16.95,"508.2","24 pp.",{"$f":"Table1[[#This Row],['# Books]]*Table1[[#This Row],[QTY]]","v":0},{"$f":"Table1[[#This Row],[QTY]]*Table1[[#This Row],[S&L Price]]","v":0}]
[null,null,177,null,"Farm Animals / Animales de granja",1,"Chickens on the Farm / Pollos de granja","Library Bound Book","978-1-4339-7394-9",2013,"August 2012","Library","7.625 X 7.125","Author","Rose Carraway",null,null,3,4,"C",null,"Grade K","Grade K - 2","Chickens are popular farm animals, and English language learners discover fun facts about them through engaging bilingual text—presented in both English and standard Latin American Spanish. Readers see what life is like for chickens on a farm—including what they eat, how they sleep, and why they are important to farmers. A helpful picture glossary strengthens vocabulary skills, and colorful photographs give young readers a detailed look at a variety of chickens and the farms they call home.","Bilingual",22.6,16.95,"636.5","24 pp.",{"$f":"Table1[[#This Row],['# Books]]*Table1[[#This Row],[QTY]]","v":0},{"$f":"Table1[[#This Row],[QTY]]*Table1[[#This Row],[S&L Price]]","v":0}]
[null,null,177,null,"Farm Animals / Animales de granja",1,"Chickens on the Farm / Pollos de granja","eBook","978-1-4339-7395-6",2013,"August 2012",null,null,"Author","Rose Carraway",null,null,3,4,"C",null,"Grade K","Grade K - 2","Chickens are popular farm animals, and English language learners discover fun facts about them through engaging bilingual text—presented in both English and standard Latin American Spanish. Readers see what life is like for chickens on a farm—including what they eat, how they sleep, and why they are important to farmers. A helpful picture glossary strengthens vocabulary skills, and colorful photographs give young readers a detailed look at a variety of chickens and the farms they call home.","Bilingual",22.6,16.95,"636.5","24 pp.",{"$f":"Table1[[#This Row],['# Books]]*Table1[[#This Row],[QTY]]","v":0},{"$f":"Table1[[#This Row],[QTY]]*Table1[[#This Row],[S&L Price]]","v":0}]
[null,null,177,null,"Farm Animals / Animales de granja",1,"Cows on the Farm / Vacas de granja\u2028","Library Bound Book","978-1-4339-7396-3",2013,"August 2012","Library","7.625 X 7.125","Author","Rose Carraway",null,null,3,4,"C",null,"Grade K","Grade K - 2","English language learners discover fun facts about cows, including why their tails are very important to them, and which kind of cow produces milk. Accessible text, presented in both English and standard Latin American Spanish, allows beginning readers to see for themselves what life is like for these fascinating farm animals. A picture glossary is included to aid in vocabulary development and bright photographs feature a variety of cows.","Bilingual",22.6,16.95,"636.2","24 pp.",{"$f":"Table1[[#This Row],['# Books]]*Table1[[#This Row],[QTY]]","v":0},{"$f":"Table1[[#This Row],[QTY]]*Table1[[#This Row],[S&L Price]]","v":0}]
[null,null,177,null,"Farm Animals / Animales de granja",1,"Cows on the Farm / Vacas de granja\u2028","eBook","978-1-4339-7397-0",2013,"August 2012",null,null,"Author","Rose Carraway",null,null,3,4,"C",null,"Grade K","Grade K - 2","English language learners discover fun facts about cows, including why their tails are very important to them, and which kind of cow produces milk. Accessible text, presented in both English and standard Latin American Spanish, allows beginning readers to see for themselves what life is like for these fascinating farm animals. A picture glossary is included to aid in vocabulary development and bright photographs feature a variety of cows.","Bilingual",22.6,16.95,"636.2","24 pp.",{"$f":"Table1[[#This Row],['# Books]]*Table1[[#This Row],[QTY]]","v":0},{"$f":"Table1[[#This Row],[QTY]]*Table1[[#This Row],[S&L Price]]","v":0}]
[null,null,177,null,"Farm Animals / Animales de granja",1,"Pigs on the Farm / Cerdos de granja","Library Bound Book","978-1-4339-7402-1",2013,"August 2012","Library","7.625 X 7.125","Author","Rose Carraway",null,null,3,4,"C",null,"Grade K","Grade K - 2","Beginning readers and English language learners discover fun facts about pigs and the farms they call home. Bilingual text reveals fun pig facts, including how smart they are, what they eat, and how they communicate. Accessible text, presented in both English and standard Latin American Spanish, helps readers explore this information on their own, and a picture glossary aids in vocabulary development. Colorful photographs of a variety of pigs are included to make this an educational and enjoyable reading experience for early learners.","Bilingual",22.6,16.95,"599.63","24 pp.",{"$f":"Table1[[#This Row],['# Books]]*Table1[[#This Row],[QTY]]","v":0},{"$f":"Table1[[#This Row],[QTY]]*Table1[[#This Row],[S&L Price]]","v":0}]
[null,null,177,null,"Farm Animals / Animales de granja",1,"Pigs on the Farm / Cerdos de granja","eBook","978-1-4339-7403-8",2013,"August 2012",null,null,"Author","Rose Carraway",null,null,3,4,"C",null,"Grade K","Grade K - 2","Beginning readers and English language learners discover fun facts about pigs and the farms they call home. Bilingual text reveals fun pig facts, including how smart they are, what they eat, and how they communicate. Accessible text, presented in both English and standard Latin American Spanish, helps readers explore this information on their own, and a picture glossary aids in vocabulary development. Colorful photographs of a variety of pigs are included to make this an educational and enjoyable reading experience for early learners.","Bilingual",22.6,16.95,"599.63","24 pp.",{"$f":"Table1[[#This Row],['# Books]]*Table1[[#This Row],[QTY]]","v":0},{"$f":"Table1[[#This Row],[QTY]]*Table1[[#This Row],[S&L Price]]","v":0}]
[null,null,177,null,"Farm Animals / Animales de granja",1,"Sheep on the Farm / Ovejas de granja","Library Bound Book","978-1-4339-7404-5",2013,"August 2012","Library","7.625 X 7.125","Author","Rose Carraway",null,null,3,4,"C",null,"Grade K","Grade K - 2","Sheep are important farm animals. Their wool is used to make clothing; farmers also use their milk. Bilingual text presented in both English and standard Latin American Spanish assists English language learners discover what life is like on farms for these popular animals, including what they eat and why they stay in a flock. A picture glossary helps early learners build strong vocabularies, and colorful photographs give readers an up-close look at these farm animals.","Bilingual",22.6,16.95,"636.3","24 pp.",{"$f":"Table1[[#This Row],['# Books]]*Table1[[#This Row],[QTY]]","v":0},{"$f":"Table1[[#This Row],[QTY]]*Table1[[#This Row],[S&L Price]]","v":0}]
[null,null,177,null,"Farm Animals / Animales de granja",1,"Sheep on the Farm / Ovejas de granja","eBook","978-1-4339-7405-2",2013,"August 2012",null,null,"Author","Rose Carraway",null,null,3,4,"C",null,"Grade K","Grade K - 2","Sheep are important farm animals. Their wool is used to make clothing; farmers also use their milk. Bilingual text presented in both English and standard Latin American Spanish assists English language learners discover what life is like on farms for these popular animals, including what they eat and why they stay in a flock. A picture glossary helps early learners build strong vocabularies, and colorful photographs give readers an up-close look at these farm animals.","Bilingual",22.6,16.95,"636.3","24 pp.",{"$f":"Table1[[#This Row],['# Books]]*Table1[[#This Row],[QTY]]","v":0},{"$f":"Table1[[#This Row],[QTY]]*Table1[[#This Row],[S&L Price]]","v":0}]
[null,null,177,null,"Great Big Animals / Superanimales",1,"Awesome Ostriches / Avestruces increíbles","Library Bound Book","978-1-4339-9450-0",2014,"August 2013","Library","7.625 X 7.125","Author","Ryan Nagelhout",null,null,2,2,"B",null,"Grade K","Grade K - 2","Ostriches are the biggest birds on Earth, and they’re also some of the strangest. Early readers will learn more about a herd of ostrich with the help of full-color photographs and easy-to-read text. What does an ostrich eat? How many toes does it have? Why does it kick other animals? Readers discover what these flightless birds do with their wings and other facts that highlight early life science concepts. Accessible text presented in both English and standard Latin American Spanish gives early learners plenty of facts about these big birds, while a picture glossary reinforces vocabulary with colorful imagery.  • High-interest topic engages young readers • Strong picture-text correlation aids in comprehension • Reading level supports beginning readers • Picture glossary helps develop vocabulary skills • Comprehendible index guides readers through each book    ","Bilingual",22.6,16.95,"598.524","24 pp.",{"$f":"Table1[[#This Row],['# Books]]*Table1[[#This Row],[QTY]]","v":0},{"$f":"Table1[[#This Row],[QTY]]*Table1[[#This Row],[S&L Price]]","v":0}]
[null,null,177,null,"Great Big Animals / Superanimales",1,"Awesome Ostriches / Avestruces increíbles","eBook","978-1-4339-9451-7",2014,"August 2013",null,null,"Author","Ryan Nagelhout",null,null,2,2,"B",null,"Grade K","Grade K - 2","Ostriches are the biggest birds on Earth, and they’re also some of the strangest. Early readers will learn more about a herd of ostrich with the help of full-color photographs and easy-to-read text. What does an ostrich eat? How many toes does it have? Why does it kick other animals? Readers discover what these flightless birds do with their wings and other facts that highlight early life science concepts. Accessible text presented in both English and standard Latin American Spanish gives early learners plenty of facts about these big birds, while a picture glossary reinforces vocabulary with colorful imagery.  • High-interest topic engages young readers • Strong picture-text correlation aids in comprehension • Reading level supports beginning readers • Picture glossary helps develop vocabulary skills • Comprehendible index guides readers through each book    ","Bilingual",22.6,16.95,"598.524","24 pp.",{"$f":"Table1[[#This Row],['# Books]]*Table1[[#This Row],[QTY]]","v":0},{"$f":"Table1[[#This Row],[QTY]]*Table1[[#This Row],[S&L Price]]","v":0}]
[null,null,177,null,"Great Big Animals / Superanimales",1,"Big Bison / Grandes bisontes","Library Bound Book","978-1-4339-9448-7",2014,"August 2013","Library","7.625 X 7.125","Author","Ryan Nagelhout",null,null,3,4,"C",null,"Grade K","Grade K - 2","Bison are huge animals, but that doesn’t mean they are slow! Some bison run up to 40 miles per hour, and with sharp horns on their head they can be dangerous, too. Filled with full-color photographs and accessible text presented in both English and standard Latin American Spanish, early readers will be fascinated by the lives and habits of a bison herd. Facts and figures will captivate even the most reluctant of readers, as they discover where bison live, what they eat, and the special term for a female bison in this exciting book.  • High-interest topic engages young readers • Strong picture-text correlation aids in comprehension • Reading level supports beginning readers • Picture glossary helps develop vocabulary skills • Comprehendible index guides readers through each book    ","Bilingual",22.6,16.95,"599.643","24 pp.",{"$f":"Table1[[#This Row],['# Books]]*Table1[[#This Row],[QTY]]","v":0},{"$f":"Table1[[#This Row],[QTY]]*Table1[[#This Row],[S&L Price]]","v":0}]
[null,null,177,null,"Great Big Animals / Superanimales",1,"Big Bison / Grandes bisontes","eBook","978-1-4339-9449-4",2014,"August 2013",null,null,"Author","Ryan Nagelhout",null,null,3,4,"C",null,"Grade K","Grade K - 2","Bison are huge animals, but that doesn’t mean they are slow! Some bison run up to 40 miles per hour, and with sharp horns on their head they can be dangerous, too. Filled with full-color photographs and accessible text presented in both English and standard Latin American Spanish, early readers will be fascinated by the lives and habits of a bison herd. Facts and figures will captivate even the most reluctant of readers, as they discover where bison live, what they eat, and the special term for a female bison in this exciting book.  • High-interest topic engages young readers • Strong picture-text correlation aids in comprehension • Reading level supports beginning readers • Picture glossary helps develop vocabulary skills • Comprehendible index guides readers through each book    ","Bilingual",22.6,16.95,"599.643","24 pp.",{"$f":"Table1[[#This Row],['# Books]]*Table1[[#This Row],[QTY]]","v":0},{"$f":"Table1[[#This Row],[QTY]]*Table1[[#This Row],[S&L Price]]","v":0}]
[null,null,177,null,"Great Big Animals / Superanimales",1,"Enormous Elephants / Elefantes enormes","Library Bound Book","978-1-4339-9446-3",2014,"August 2013","Library","7.625 X 7.125","Author","Ryan Nagelhout",null,null,3,4,"C",null,"Grade K","Grade K - 2","Why are elephants’ ears so big? Early readers will learn that and more in this exciting first concepts book filled with fun information and full-color photographs. Through easy-to-read text presented in both English and standard Latin American Spanish, readers will discover the difference between African and Asian elephants, and what they do with their large trunks. The biggest land animals on Earth will captivate even the most reluctant of readers as they go on this exciting elephant adventure!    • High-interest topic engages young readers • Strong picture-text correlation aids in comprehension • Reading level supports beginning readers • Picture glossary helps develop vocabulary skills • Comprehendible index guides readers through each book  ","Bilingual",22.6,16.95,"599.61","24 pp.",{"$f":"Table1[[#This Row],['# Books]]*Table1[[#This Row],[QTY]]","v":0},{"$f":"Table1[[#This Row],[QTY]]*Table1[[#This Row],[S&L Price]]","v":0}]
[null,null,177,null,"Great Big Animals / Superanimales",1,"Enormous Elephants / Elefantes enormes","eBook","978-1-4339-9447-0",2014,"August 2013",null,null,"Author","Ryan Nagelhout",null,null,3,4,"C",null,"Grade K","Grade K - 2","Why are elephants’ ears so big? Early readers will learn that and more in this exciting first concepts book filled with fun information and full-color photographs. Through easy-to-read text presented in both English and standard Latin American Spanish, readers will discover the difference between African and Asian elephants, and what they do with their large trunks. The biggest land animals on Earth will captivate even the most reluctant of readers as they go on this exciting elephant adventure!    • High-interest topic engages young readers • Strong picture-text correlation aids in comprehension • Reading level supports beginning readers • Picture glossary helps develop vocabulary skills • Comprehendible index guides readers through each book  ","Bilingual",22.6,16.95,"599.61","24 pp.",{"$f":"Table1[[#This Row],['# Books]]*Table1[[#This Row],[QTY]]","v":0},{"$f":"Table1[[#This Row],[QTY]]*Table1[[#This Row],[S&L Price]]","v":0}]
[null,null,177,null,"Great Big Animals / Superanimales",1,"Giant Giraffes / Jirafas gigantes","Library Bound Book","978-1-4339-9444-9",2014,"August 2013","Library","7.625 X 7.125","Author","Ryan Nagelhout",null,null,3,4,"C",null,"Grade K","Grade K - 2","Giraffes are the tallest animals on Earth. Through the use of bright photographs and easy-to-read text presented in both English and standard Latin American Spanish, early readers will be fascinated by the lives of these big mammals. Readers will discover how giraffes use their long necks, and how they use their giant tongues to reach leaves on tall trees! The exciting lives of these giant animals will offer plenty of facts that highlight early life science concepts for beginning readers.   • High-interest topic engages young readers • Strong picture-text correlation aids in comprehension • Reading level supports beginning readers • Picture glossary helps develop vocabulary skills • Comprehendible index guides readers through each book  ","Bilingual",22.6,16.95,"599.638","24 pp.",{"$f":"Table1[[#This Row],['# Books]]*Table1[[#This Row],[QTY]]","v":0},{"$f":"Table1[[#This Row],[QTY]]*Table1[[#This Row],[S&L Price]]","v":0}]
[null,null,177,null,"Great Big Animals / Superanimales",1,"Giant Giraffes / Jirafas gigantes","eBook","978-1-4339-9445-6",2014,"August 2013",null,null,"Author","Ryan Nagelhout",null,null,3,4,"C",null,"Grade K","Grade K - 2","Giraffes are the tallest animals on Earth. Through the use of bright photographs and easy-to-read text presented in both English and standard Latin American Spanish, early readers will be fascinated by the lives of these big mammals. Readers will discover how giraffes use their long necks, and how they use their giant tongues to reach leaves on tall trees! The exciting lives of these giant animals will offer plenty of facts that highlight early life science concepts for beginning readers.   • High-interest topic engages young readers • Strong picture-text correlation aids in comprehension • Reading level supports beginning readers • Picture glossary helps develop vocabulary skills • Comprehendible index guides readers through each book  ","Bilingual",22.6,16.95,"599.638","24 pp.",{"$f":"Table1[[#This Row],['# Books]]*Table1[[#This Row],[QTY]]","v":0},{"$f":"Table1[[#This Row],[QTY]]*Table1[[#This Row],[S&L Price]]","v":0}]
[null,null,177,null,"Great Big Animals / Superanimales",1,"Great Big Grizzlies / Enormes osos pardos","Library Bound Book","978-1-4339-9442-5",2014,"August 2013","Library","7.625 X 7.125","Author","Ryan Nagelhout",null,null,3,3,"C",null,"Grade K","Grade K - 2","A great big grizzly is much different than your ordinary teddy bear! Grizzlies are huge and hungry. With the help of full-color photographs and easy-to-read text presented in both English and standard Latin American Spanish, early readers will be fascinated by the lives of these big bears, and will discover what they like to eat and what they like to do in winter when the weather gets cold. Accessible text gives early learners plenty of facts about these grizzlies while highlighting early life science concepts in a fun and engaging way.","Bilingual",22.6,16.95,"599.784","24 pp.",{"$f":"Table1[[#This Row],['# Books]]*Table1[[#This Row],[QTY]]","v":0},{"$f":"Table1[[#This Row],[QTY]]*Table1[[#This Row],[S&L Price]]","v":0}]
[null,null,177,null,"Great Big Animals / Superanimales",1,"Great Big Grizzlies / Enormes osos pardos","eBook","978-1-4339-9443-2",2014,"August 2013",null,null,"Author","Ryan Nagelhout",null,null,3,3,"C",null,"Grade K","Grade K - 2","A great big grizzly is much different than your ordinary teddy bear! Grizzlies are huge and hungry. With the help of full-color photographs and easy-to-read text presented in both English and standard Latin American Spanish, early readers will be fascinated by the lives of these big bears, and will discover what they like to eat and what they like to do in winter when the weather gets cold. Accessible text gives early learners plenty of facts about these grizzlies while highlighting early life science concepts in a fun and engaging way.","Bilingual",22.6,16.95,"599.784","24 pp.",{"$f":"Table1[[#This Row],['# Books]]*Table1[[#This Row],[QTY]]","v":0},{"$f":"Table1[[#This Row],[QTY]]*Table1[[#This Row],[S&L Price]]","v":0}]
[null,null,177,null,"Great Big Animals / Superanimales",1,"Huge Hippos / Grandes hipopótamos","Library Bound Book","978-1-4339-9440-1",2014,"August 2013","Library","7.625 X 7.125","Author","Ryan Nagelhout",null,null,3,4,"C",null,"Grade K","Grade K - 2","Hippos love to lie in the water, and they lounge for hours at a time! Through easy-to-read text and vivid full-color photographs, early readers will learn why these huge animals love to lounge as well as why they hunt at night, and just how much food can fill their big bellies! Accessible text presented in both English and standard Latin American Spanish offers facts that highlight early life science concepts for beginning readers, and make learning about these great big animals fun and educational. A picture glossary reinforces words with colorful photographs to further enhance reading comprehension.    • High-interest topic engages young readers • Strong picture-text correlation aids in comprehension • Reading level supports beginning readers • Picture glossary helps develop vocabulary skills • Comprehendible index guides readers through each book    ","Bilingual",22.6,16.95,"599.635","24 pp.",{"$f":"Table1[[#This Row],['# Books]]*Table1[[#This Row],[QTY]]","v":0},{"$f":"Table1[[#This Row],[QTY]]*Table1[[#This Row],[S&L Price]]","v":0}]
[null,null,177,null,"Great Big Animals / Superanimales",1,"Huge Hippos / Grandes hipopótamos","eBook","978-1-4339-9441-8",2014,"August 2013",null,null,"Author","Ryan Nagelhout",null,null,3,4,"C",null,"Grade K","Grade K - 2","Hippos love to lie in the water, and they lounge for hours at a time! Through easy-to-read text and vivid full-color photographs, early readers will learn why these huge animals love to lounge as well as why they hunt at night, and just how much food can fill their big bellies! Accessible text presented in both English and standard Latin American Spanish offers facts that highlight early life science concepts for beginning readers, and make learning about these great big animals fun and educational. A picture glossary reinforces words with colorful photographs to further enhance reading comprehension.    • High-interest topic engages young readers • Strong picture-text correlation aids in comprehension • Reading level supports beginning readers • Picture glossary helps develop vocabulary skills • Comprehendible index guides readers through each book    ","Bilingual",22.6,16.95,"599.635","24 pp.",{"$f":"Table1[[#This Row],['# Books]]*Table1[[#This Row],[QTY]]","v":0},{"$f":"Table1[[#This Row],[QTY]]*Table1[[#This Row],[S&L Price]]","v":0}]
[null,null,177,null,"In My Backyard / En mi jardín",1,"I See a Bird / Puedo ver un pájaro","Library Bound Book","978-1-4339-8790-8",2013,"January 2013","Library","7.625 X 7.125","Author","Alex Appleby",null,null,3,4,"C",null,"Grade K","Grade K - 2","Birds of every shape and color can soar through the sky, and many like to rest in backyards. Through the use of accessible text, presented in both English and standard Latin-American Spanish, readers take an exciting trip through the skies and into the lives of these bright creatures. A picture glossary helps beginning readers strengthen their vocabulary skills, and vibrant, full-color photographs show birds in flight and in the nest.","Bilingual",22.6,16.95,"598","24 pp.",{"$f":"Table1[[#This Row],['# Books]]*Table1[[#This Row],[QTY]]","v":0},{"$f":"Table1[[#This Row],[QTY]]*Table1[[#This Row],[S&L Price]]","v":0}]
[null,null,177,null,"In My Backyard / En mi jardín",1,"I See a Bird / Puedo ver un pájaro","eBook","978-1-4339-8791-5",2013,"January 2013",null,null,"Author","Alex Appleby",null,null,3,4,"C",null,"Grade K","Grade K - 2","Birds of every shape and color can soar through the sky, and many like to rest in backyards. Through the use of accessible text, presented in both English and standard Latin-American Spanish, readers take an exciting trip through the skies and into the lives of these bright creatures. A picture glossary helps beginning readers strengthen their vocabulary skills, and vibrant, full-color photographs show birds in flight and in the nest.","Bilingual",22.6,16.95,"598","24 pp.",{"$f":"Table1[[#This Row],['# Books]]*Table1[[#This Row],[QTY]]","v":0},{"$f":"Table1[[#This Row],[QTY]]*Table1[[#This Row],[S&L Price]]","v":0}]
[null,null,177,null,"In My Backyard / En mi jardín",1,"I See a Butterfly / Puedo ver una mariposa","Library Bound Book","978-1-4339-8792-2",2013,"January 2013","Library","7.625 X 7.125","Author","Alex Appleby",null,null,3,4,"C",null,"Grade K","Grade K - 2","If you look close enough, a butterfly can grow up right before your eyes. Through the use of accessible text, presented in both English and standard Latin-American Spanish, readers take an exciting look at the journey butterflies make. A picture glossary helps beginning readers strengthen their vocabulary skills, and vibrant, full-color photographs show caterpillars grow to adulthood, taking flight to travel around the world.","Bilingual",22.6,16.95,"595.78","24 pp.",{"$f":"Table1[[#This Row],['# Books]]*Table1[[#This Row],[QTY]]","v":0},{"$f":"Table1[[#This Row],[QTY]]*Table1[[#This Row],[S&L Price]]","v":0}]
[null,null,177,null,"In My Backyard / En mi jardín",1,"I See a Butterfly / Puedo ver una mariposa","eBook","978-1-4339-8793-9",2013,"January 2013",null,null,"Author","Alex Appleby",null,null,3,4,"C",null,"Grade K","Grade K - 2","If you look close enough, a butterfly can grow up right before your eyes. Through the use of accessible text, presented in both English and standard Latin-American Spanish, readers take an exciting look at the journey butterflies make. A picture glossary helps beginning readers strengthen their vocabulary skills, and vibrant, full-color photographs show caterpillars grow to adulthood, taking flight to travel around the world.","Bilingual",22.6,16.95,"595.78","24 pp.",{"$f":"Table1[[#This Row],['# Books]]*Table1[[#This Row],[QTY]]","v":0},{"$f":"Table1[[#This Row],[QTY]]*Table1[[#This Row],[S&L Price]]","v":0}]
[null,null,177,null,"In My Backyard / En mi jardín",1,"I See a Chipmunk / Puedo ver una ardilla rayada","Library Bound Book","978-1-4339-8794-6",2013,"January 2013","Library","7.625 X 7.125","Author","Alex Appleby",null,null,3,4,"C",null,"Grade K","Grade K - 2","Chipmunks know that winter is always right around the corner, and it’s never too early to start gathering food. Through the use of accessible text presented in both English and standard Latin-American Spanish, readers take an exciting look at the life of these cheerful animals in backyards. A picture glossary helps beginning readers strengthen their vocabulary skills, and vibrant, full-color photographs show chipmunks at home and abroad, filling their cheeks with nuts for a long winter of hibernation.","Bilingual",22.6,16.95,"599.36","24 pp.",{"$f":"Table1[[#This Row],['# Books]]*Table1[[#This Row],[QTY]]","v":0},{"$f":"Table1[[#This Row],[QTY]]*Table1[[#This Row],[S&L Price]]","v":0}]
[null,null,177,null,"In My Backyard / En mi jardín",1,"I See a Chipmunk / Puedo ver una ardilla rayada","eBook","978-1-4339-8795-3",2013,"January 2013",null,null,"Author","Alex Appleby",null,null,3,4,"C",null,"Grade K","Grade K - 2","Chipmunks know that winter is always right around the corner, and it’s never too early to start gathering food. Through the use of accessible text presented in both English and standard Latin-American Spanish, readers take an exciting look at the life of these cheerful animals in backyards. A picture glossary helps beginning readers strengthen their vocabulary skills, and vibrant, full-color photographs show chipmunks at home and abroad, filling their cheeks with nuts for a long winter of hibernation.","Bilingual",22.6,16.95,"599.36","24 pp.",{"$f":"Table1[[#This Row],['# Books]]*Table1[[#This Row],[QTY]]","v":0},{"$f":"Table1[[#This Row],[QTY]]*Table1[[#This Row],[S&L Price]]","v":0}]
[null,null,177,null,"In My Backyard / En mi jardín",1,"I See a Ladybug / Puedo ver una mariquita","Library Bound Book","978-1-4339-8798-4",2013,"January 2013","Library","7.625 X 7.125","Author","Alex Appleby",null,null,3,4,"C",null,"Grade K","Grade K - 2","One of the most colorful creatures in your backyard, ladybugs are full of mystery. Through the use of accessible text presented in both English and standard Latin-American Spanish, readers take an exciting look at the life of these little red and black creatures flitting behind a reader’s house. A picture glossary helps beginning readers strengthen their vocabulary skills, and vibrant, full-color photographs show the how ladybugs frolic in the summer and stay warm in the winter.","Bilingual",22.6,16.95,"595.76","24 pp.",{"$f":"Table1[[#This Row],['# Books]]*Table1[[#This Row],[QTY]]","v":0},{"$f":"Table1[[#This Row],[QTY]]*Table1[[#This Row],[S&L Price]]","v":0}]
[null,null,177,null,"In My Backyard / En mi jardín",1,"I See a Ladybug / Puedo ver una mariquita","eBook","978-1-4339-8799-1",2013,"January 2013",null,null,"Author","Alex Appleby",null,null,3,4,"C",null,"Grade K","Grade K - 2","One of the most colorful creatures in your backyard, ladybugs are full of mystery. Through the use of accessible text presented in both English and standard Latin-American Spanish, readers take an exciting look at the life of these little red and black creatures flitting behind a reader’s house. A picture glossary helps beginning readers strengthen their vocabulary skills, and vibrant, full-color photographs show the how ladybugs frolic in the summer and stay warm in the winter.","Bilingual",22.6,16.95,"595.76","24 pp.",{"$f":"Table1[[#This Row],['# Books]]*Table1[[#This Row],[QTY]]","v":0},{"$f":"Table1[[#This Row],[QTY]]*Table1[[#This Row],[S&L Price]]","v":0}]
[null,null,177,null,"In My Backyard / En mi jardín",1,"I See a Squirrel / Puedo ver una ardilla","Library Bound Book","978-1-4339-8800-4",2013,"January 2013","Library","7.625 X 7.125","Author","Alex Appleby",null,null,3,4,"C",null,"Grade K","Grade K - 2","Squirrels are some of the more versatile creatures you’ll find in your backyard. Through the use of accessible text presented in both English and standard Latin-American Spanish, readers take an exciting look at the life of these quick little rodents. A picture glossary helps beginning readers strengthen their vocabulary skills, and vibrant, full-color photographs show the many ways squirrels can live. From flying through trees to nursing their young in dens, this book is sure to educate and excite.","Bilingual",22.6,16.95,"599.36","24 pp.",{"$f":"Table1[[#This Row],['# Books]]*Table1[[#This Row],[QTY]]","v":0},{"$f":"Table1[[#This Row],[QTY]]*Table1[[#This Row],[S&L Price]]","v":0}]
[null,null,177,null,"In My Backyard / En mi jardín",1,"I See a Squirrel / Puedo ver una ardilla","eBook","978-1-4339-8801-1",2013,"January 2013",null,null,"Author","Alex Appleby",null,null,3,4,"C",null,"Grade K","Grade K - 2","Squirrels are some of the more versatile creatures you’ll find in your backyard. Through the use of accessible text presented in both English and standard Latin-American Spanish, readers take an exciting look at the life of these quick little rodents. A picture glossary helps beginning readers strengthen their vocabulary skills, and vibrant, full-color photographs show the many ways squirrels can live. From flying through trees to nursing their young in dens, this book is sure to educate and excite.","Bilingual",22.6,16.95,"599.36","24 pp.",{"$f":"Table1[[#This Row],['# Books]]*Table1[[#This Row],[QTY]]","v":0},{"$f":"Table1[[#This Row],[QTY]]*Table1[[#This Row],[S&L Price]]","v":0}]
[null,null,177,null,"My First Adventures / Mis primeras aventuras",1,"My First Trip on an Airplane /Mi primer viaje en avión","Library Bound Book","978-1-4339-7370-3",2013,"August 2012","Library","7.625 X 7.125","Author","Katie Kawa",null,null,3,4,"C",null,"Grade K","Grade K - 2","Using a fictionalized approach, this bilingual book allows beginning readers to follow along as one relatable family discovers the fun of flight. Through accessible text presented in both English and standard Latin American Spanish, readers are presented with a variety of fun facts about this common experience. A helpful picture glossary aids in vocabulary development, and colorful illustrations capture the excitement of a first airplane ride.","Bilingual",22.6,16.95,"387.7","24 pp.",{"$f":"Table1[[#This Row],['# Books]]*Table1[[#This Row],[QTY]]","v":0},{"$f":"Table1[[#This Row],[QTY]]*Table1[[#This Row],[S&L Price]]","v":0}]
[null,null,177,null,"My First Adventures / Mis primeras aventuras",1,"My First Trip on an Airplane /Mi primer viaje en avión","eBook","978-1-4339-7371-0",2013,"August 2012",null,null,"Author","Katie Kawa",null,null,3,4,"C",null,"Grade K","Grade K - 2","Using a fictionalized approach, this bilingual book allows beginning readers to follow along as one relatable family discovers the fun of flight. Through accessible text presented in both English and standard Latin American Spanish, readers are presented with a variety of fun facts about this common experience. A helpful picture glossary aids in vocabulary development, and colorful illustrations capture the excitement of a first airplane ride.","Bilingual",22.6,16.95,"387.7","24 pp.",{"$f":"Table1[[#This Row],['# Books]]*Table1[[#This Row],[QTY]]","v":0},{"$f":"Table1[[#This Row],[QTY]]*Table1[[#This Row],[S&L Price]]","v":0}]
[null,null,177,null,"My First Adventures / Mis primeras aventuras",1,"My First Trip to a Baseball Game /Mi primer partido de béisbol","Library Bound Book","978-1-4339-7374-1",2013,"August 2012","Library","7.625 X 7.125","Author","Katie Kawa",null,null,3,4,"C",null,"Grade K","Grade K - 2","Baseball is introduced to English language learners in way that is both educational and enjoyable. This fictionalized account allows readers to experience the thrills of an action-packed baseball game—from arriving at the baseball park to watching a batter hit a home run. Beginning readers discover fun facts about this common childhood experience with the help of accessible text presented in both English and standard Latin American Spanish. A helpful picture glossary aids in building a strong vocabulary by reinforcing the meanings of new words introduced in this engaging book. Bright illustrations bring the excitement of a baseball game to readers with every turn of the page.","Bilingual",22.6,16.95,"796.357","24 pp.",{"$f":"Table1[[#This Row],['# Books]]*Table1[[#This Row],[QTY]]","v":0},{"$f":"Table1[[#This Row],[QTY]]*Table1[[#This Row],[S&L Price]]","v":0}]
[null,null,177,null,"My First Adventures / Mis primeras aventuras",1,"My First Trip to a Baseball Game /Mi primer partido de béisbol","eBook","978-1-4339-7375-8",2013,"August 2012",null,null,"Author","Katie Kawa",null,null,3,4,"C",null,"Grade K","Grade K - 2","Baseball is introduced to English language learners in way that is both educational and enjoyable. This fictionalized account allows readers to experience the thrills of an action-packed baseball game—from arriving at the baseball park to watching a batter hit a home run. Beginning readers discover fun facts about this common childhood experience with the help of accessible text presented in both English and standard Latin American Spanish. A helpful picture glossary aids in building a strong vocabulary by reinforcing the meanings of new words introduced in this engaging book. Bright illustrations bring the excitement of a baseball game to readers with every turn of the page.","Bilingual",22.6,16.95,"796.357","24 pp.",{"$f":"Table1[[#This Row],['# Books]]*Table1[[#This Row],[QTY]]","v":0},{"$f":"Table1[[#This Row],[QTY]]*Table1[[#This Row],[S&L Price]]","v":0}]
[null,null,177,null,"My First Adventures / Mis primeras aventuras",1,"My First Trip to the Aquarium /Mi primera visita al acuario","Library Bound Book","978-1-4339-7372-7",2013,"August 2012","Library","7.625 X 7.125","Author","Katie Kawa",null,null,3,4,"C",null,"Grade K","Grade K - 2","Presented in both English and standard Latin American Spanish, this fictionalized approach to an aquarium visit allows beginning readers to discover for themselves fun facts about aquariums and the animals that live in them. They are introduced to a variety of amazing sea creatures—including colorful fish and playful dolphins. Featuring bright illustrations and a helpful picture glossary, designed to strengthen vocabulary skills, readers will be engaged throughout their reading.","Bilingual",22.6,16.95,"597.073","24 pp.",{"$f":"Table1[[#This Row],['# Books]]*Table1[[#This Row],[QTY]]","v":0},{"$f":"Table1[[#This Row],[QTY]]*Table1[[#This Row],[S&L Price]]","v":0}]
[null,null,177,null,"My First Adventures / Mis primeras aventuras",1,"My First Trip to the Aquarium /Mi primera visita al acuario","eBook","978-1-4339-7373-4",2013,"August 2012",null,null,"Author","Katie Kawa",null,null,3,4,"C",null,"Grade K","Grade K - 2","Presented in both English and standard Latin American Spanish, this fictionalized approach to an aquarium visit allows beginning readers to discover for themselves fun facts about aquariums and the animals that live in them. They are introduced to a variety of amazing sea creatures—including colorful fish and playful dolphins. Featuring bright illustrations and a helpful picture glossary, designed to strengthen vocabulary skills, readers will be engaged throughout their reading.","Bilingual",22.6,16.95,"597.073","24 pp.",{"$f":"Table1[[#This Row],['# Books]]*Table1[[#This Row],[QTY]]","v":0},{"$f":"Table1[[#This Row],[QTY]]*Table1[[#This Row],[S&L Price]]","v":0}]
[null,null,177,null,"My First Adventures / Mis primeras aventuras",1,"My First Trip to the Bank / Mi primera visita al banco","Library Bound Book","978-1-4339-6625-5",2012,"January 2012","Library","7.625 X 7.125","Author, Illustrated by","Katie Kawa, Jessica Livingston",null,null,3,4,"C",null,"Grade K","Grade K - 2","A bank is an important place in a community, and English language learners discover why in this bilingual book. Using a fictionalized approach, this book explains how banks work through the engaging story of one child’s visit. Easy-to-follow text presented in both English and standard Latin American Spanish helps beginning readers learn about saving their own money at their local bank. Colorful illustrations guide them through this fun and educational story, allowing them to see this familiar experience in an exciting new light.","Bilingual",22.6,16.95,"332.1","24 pp.",{"$f":"Table1[[#This Row],['# Books]]*Table1[[#This Row],[QTY]]","v":0},{"$f":"Table1[[#This Row],[QTY]]*Table1[[#This Row],[S&L Price]]","v":0}]
[null,null,177,null,"My First Adventures / Mis primeras aventuras",1,"My First Trip to the Bank / Mi primera visita al banco","eBook","978-1-4339-6626-2",2012,"January 2012",null,null,"Author, Illustrated by","Katie Kawa, Jessica Livingston",null,null,3,4,"C",null,"Grade K","Grade K - 2","A bank is an important place in a community, and English language learners discover why in this bilingual book. Using a fictionalized approach, this book explains how banks work through the engaging story of one child’s visit. Easy-to-follow text presented in both English and standard Latin American Spanish helps beginning readers learn about saving their own money at their local bank. Colorful illustrations guide them through this fun and educational story, allowing them to see this familiar experience in an exciting new light.","Bilingual",22.6,16.95,"332.1","24 pp.",{"$f":"Table1[[#This Row],['# Books]]*Table1[[#This Row],[QTY]]","v":0},{"$f":"Table1[[#This Row],[QTY]]*Table1[[#This Row],[S&L Price]]","v":0}]
[null,null,177,null,"My First Adventures / Mis primeras aventuras",1,"My First Trip to the Beach /Mi primer viaje a la playa","Library Bound Book","978-1-4339-7376-5",2013,"August 2012","Library","7.625 X 7.125","Author","Katie Kawa",null,null,3,4,"C",null,"Grade K","Grade K - 2","English language learners discover what fun can be had at the beach, including playing in the sand and jumping in the waves. A variety of exciting activities are presented to readers in this fictionalized account of a relatable childhood experience. Beginning readers learn interesting facts about the beach and the animals that live there through accessible text presented in both English and standard Latin American Spanish. A helpful picture glossary is included to aid in vocabulary development. Vibrant illustrations make this an educational and enjoyable reading experience for early learners.","Bilingual",22.6,16.95,"551.45","24 pp.",{"$f":"Table1[[#This Row],['# Books]]*Table1[[#This Row],[QTY]]","v":0},{"$f":"Table1[[#This Row],[QTY]]*Table1[[#This Row],[S&L Price]]","v":0}]
[null,null,177,null,"My First Adventures / Mis primeras aventuras",1,"My First Trip to the Beach /Mi primer viaje a la playa","eBook","978-1-4339-7377-2",2013,"August 2012",null,null,"Author","Katie Kawa",null,null,3,4,"C",null,"Grade K","Grade K - 2","English language learners discover what fun can be had at the beach, including playing in the sand and jumping in the waves. A variety of exciting activities are presented to readers in this fictionalized account of a relatable childhood experience. Beginning readers learn interesting facts about the beach and the animals that live there through accessible text presented in both English and standard Latin American Spanish. A helpful picture glossary is included to aid in vocabulary development. Vibrant illustrations make this an educational and enjoyable reading experience for early learners.","Bilingual",22.6,16.95,"551.45","24 pp.",{"$f":"Table1[[#This Row],['# Books]]*Table1[[#This Row],[QTY]]","v":0},{"$f":"Table1[[#This Row],[QTY]]*Table1[[#This Row],[S&L Price]]","v":0}]
[null,null,177,null,"My First Adventures / Mis primeras aventuras",1,"My First Trip to the Dentist / Mi primera visita al dentista","Library Bound Book","978-1-4339-6627-9",2012,"January 2012","Library","7.625 X 7.125","Author, Illustrated by","Katie Kawa, Jessica Livingston",null,null,3,4,"C",null,"Grade K","Grade K - 2","Using a fictionalized approach to this common childhood experience, beginning readers and English language learners are guided through a basic dental exam. Readers discover how dentists keep our teeth healthy and clean. Accessible text presented in both English and standard Latin American Spanish explains the process in a way that is both relatable and entertaining, and bright illustrations are sure to captivate young readers with every turn of the page.","Bilingual",22.6,16.95,"617.0083","24 pp.",{"$f":"Table1[[#This Row],['# Books]]*Table1[[#This Row],[QTY]]","v":0},{"$f":"Table1[[#This Row],[QTY]]*Table1[[#This Row],[S&L Price]]","v":0}]
[null,null,177,null,"My First Adventures / Mis primeras aventuras",1,"My First Trip to the Dentist / Mi primera visita al dentista","eBook","978-1-4339-6628-6",2012,"January 2012",null,null,"Author, Illustrated by","Katie Kawa, Jessica Livingston",null,null,3,4,"C",null,"Grade K","Grade K - 2","Using a fictionalized approach to this common childhood experience, beginning readers and English language learners are guided through a basic dental exam. Readers discover how dentists keep our teeth healthy and clean. Accessible text presented in both English and standard Latin American Spanish explains the process in a way that is both relatable and entertaining, and bright illustrations are sure to captivate young readers with every turn of the page.","Bilingual",22.6,16.95,"617.0083","24 pp.",{"$f":"Table1[[#This Row],['# Books]]*Table1[[#This Row],[QTY]]","v":0},{"$f":"Table1[[#This Row],[QTY]]*Table1[[#This Row],[S&L Price]]","v":0}]
[null,null,177,null,"My First Adventures / Mis primeras aventuras",1,"My First Trip to the Doctor / Mi primera visita al médico","Library Bound Book","978-1-4339-6629-3",2012,"January 2012","Library","7.625 X 7.125","Author, Illustrated by","Katie Kawa, Jessica Livingston",null,null,3,4,"C",null,"Grade K","Grade K - 2","Trips to the doctor help keep us healthy and strong, and English language learners see why in this engaging bilingual book. Readers meet the people who work in a doctor’s office and see what happens during an annual checkup as this fictionalized account allows them to follow along on one child’s visit. Through colorful illustrations and accessible text presented in both English and Latin American Spanish, beginning readers discover that going to the doctor can be both an educational and fun experience.","Bilingual",22.6,16.95,"618.92","24 pp.",{"$f":"Table1[[#This Row],['# Books]]*Table1[[#This Row],[QTY]]","v":0},{"$f":"Table1[[#This Row],[QTY]]*Table1[[#This Row],[S&L Price]]","v":0}]
[null,null,177,null,"My First Adventures / Mis primeras aventuras",1,"My First Trip to the Doctor / Mi primera visita al médico","eBook","978-1-4339-6630-9",2012,"January 2012",null,null,"Author, Illustrated by","Katie Kawa, Jessica Livingston",null,null,3,4,"C",null,"Grade K","Grade K - 2","Trips to the doctor help keep us healthy and strong, and English language learners see why in this engaging bilingual book. Readers meet the people who work in a doctor’s office and see what happens during an annual checkup as this fictionalized account allows them to follow along on one child’s visit. Through colorful illustrations and accessible text presented in both English and Latin American Spanish, beginning readers discover that going to the doctor can be both an educational and fun experience.","Bilingual",22.6,16.95,"618.92","24 pp.",{"$f":"Table1[[#This Row],['# Books]]*Table1[[#This Row],[QTY]]","v":0},{"$f":"Table1[[#This Row],[QTY]]*Table1[[#This Row],[S&L Price]]","v":0}]
[null,null,177,null,"My First Adventures / Mis primeras aventuras",1,"My First Trip to the Farm /Mi primera visita a una granja","Library Bound Book","978-1-4339-7378-9",2013,"August 2012","Library","7.625 X 7.125","Author","Katie Kawa",null,null,3,4,"C",null,"Grade K","Grade K - 2","English language learners discover a variety of popular farm animals, as well as the important foods that people get from farms. Using a fictionalized approach, the text allows readers to follow along as relatable children experience all of the excitement that farms have to offer. Readers will visit a pumpkin patch and go along for a hayride with colorful illustrations. Readers learn fun facts and improve their vocabulary skills with the help of a useful picture glossary and easy-to-follow text, presented in both English and standard Latin American Spanish.","Bilingual",22.6,16.95,"636","24 pp.",{"$f":"Table1[[#This Row],['# Books]]*Table1[[#This Row],[QTY]]","v":0},{"$f":"Table1[[#This Row],[QTY]]*Table1[[#This Row],[S&L Price]]","v":0}]
[null,null,177,null,"My First Adventures / Mis primeras aventuras",1,"My First Trip to the Farm /Mi primera visita a una granja","eBook","978-1-4339-7379-6",2013,"August 2012",null,null,"Author","Katie Kawa",null,null,3,4,"C",null,"Grade K","Grade K - 2","English language learners discover a variety of popular farm animals, as well as the important foods that people get from farms. Using a fictionalized approach, the text allows readers to follow along as relatable children experience all of the excitement that farms have to offer. Readers will visit a pumpkin patch and go along for a hayride with colorful illustrations. Readers learn fun facts and improve their vocabulary skills with the help of a useful picture glossary and easy-to-follow text, presented in both English and standard Latin American Spanish.","Bilingual",22.6,16.95,"636","24 pp.",{"$f":"Table1[[#This Row],['# Books]]*Table1[[#This Row],[QTY]]","v":0},{"$f":"Table1[[#This Row],[QTY]]*Table1[[#This Row],[S&L Price]]","v":0}]
[null,null,177,null,"My First Adventures / Mis primeras aventuras",1,"My First Trip to the Fire Station /Mi primera visita a la estación de bomberos","Library Bound Book","978-1-4339-7380-2",2013,"August 2012","Library","7.625 X 7.125","Author","Katie Kawa",null,null,3,4,"C",null,"Grade K","Grade K - 2","A fire station is the place where firefighters prepare to do their jobs, and beginning readers discover what this busy place is like through a fictionalized approach, presented in both English and standard Latin American Spanish. Early learners to follow along on one child’s visit to a fire station and discover fun facts about firefighters and the equipment they use to help keep people safe. Accessible bilingual text is accompanied by a helpful picture glossary and vibrant illustrations.","Bilingual",22.6,16.95,"628.9","24 pp.",{"$f":"Table1[[#This Row],['# Books]]*Table1[[#This Row],[QTY]]","v":0},{"$f":"Table1[[#This Row],[QTY]]*Table1[[#This Row],[S&L Price]]","v":0}]
[null,null,177,null,"My First Adventures / Mis primeras aventuras",1,"My First Trip to the Fire Station /Mi primera visita a la estación de bomberos","eBook","978-1-4339-7381-9",2013,"August 2012",null,null,"Author","Katie Kawa",null,null,3,4,"C",null,"Grade K","Grade K - 2","A fire station is the place where firefighters prepare to do their jobs, and beginning readers discover what this busy place is like through a fictionalized approach, presented in both English and standard Latin American Spanish. Early learners to follow along on one child’s visit to a fire station and discover fun facts about firefighters and the equipment they use to help keep people safe. Accessible bilingual text is accompanied by a helpful picture glossary and vibrant illustrations.","Bilingual",22.6,16.95,"628.9","24 pp.",{"$f":"Table1[[#This Row],['# Books]]*Table1[[#This Row],[QTY]]","v":0},{"$f":"Table1[[#This Row],[QTY]]*Table1[[#This Row],[S&L Price]]","v":0}]
[null,null,177,null,"My First Adventures / Mis primeras aventuras",1,"My First Trip to the Library / Mi primera visita a la biblioteca","Library Bound Book","978-1-4339-6631-6",2012,"January 2012","Library","7.625 X 7.125","Author, Illustrated by","Katie Kawa, Jessica Livingston",null,null,3,4,"C",null,"Grade K","Grade K - 2","English language learners will be eager to explore their libraries after reading this bilingual book. Using a fictionalized approach, this book allows beginning readers to discover the library through the eyes of a child, including meeting the librarian and using a library card. Bright illustrations and easy-to-follow text presented in both English and standard Latin American Spanish explains the most important parts of a visit to the library in an entertaining way.","Bilingual",22.6,16.95,"027","24 pp.",{"$f":"Table1[[#This Row],['# Books]]*Table1[[#This Row],[QTY]]","v":0},{"$f":"Table1[[#This Row],[QTY]]*Table1[[#This Row],[S&L Price]]","v":0}]
[null,null,177,null,"My First Adventures / Mis primeras aventuras",1,"My First Trip to the Library / Mi primera visita a la biblioteca","eBook","978-1-4339-6632-3",2012,"January 2012",null,null,"Author, Illustrated by","Katie Kawa, Jessica Livingston",null,null,3,4,"C",null,"Grade K","Grade K - 2","English language learners will be eager to explore their libraries after reading this bilingual book. Using a fictionalized approach, this book allows beginning readers to discover the library through the eyes of a child, including meeting the librarian and using a library card. Bright illustrations and easy-to-follow text presented in both English and standard Latin American Spanish explains the most important parts of a visit to the library in an entertaining way.","Bilingual",22.6,16.95,"027","24 pp.",{"$f":"Table1[[#This Row],['# Books]]*Table1[[#This Row],[QTY]]","v":0},{"$f":"Table1[[#This Row],[QTY]]*Table1[[#This Row],[S&L Price]]","v":0}]
[null,null,177,null,"My First Adventures / Mis primeras aventuras",1,"My First Trip to the Post Office / Mi primera visita al correo","Library Bound Book","978-1-4339-6633-0",2012,"January 2012","Library","7.625 X 7.125","Author, Illustrated by","Katie Kawa, Jessica Livingston",null,null,3,4,"C",null,"Grade K","Grade K - 2","Using a fictionalized approach, this bilingual book follows one child on a visit to the post office, making this easily relatable experience exciting for beginning readers to learn about and shows English language learners how mail gets from one person to another. The story tracks a letter through the postal system, showing the path of dropping the letter off the day it is written through the day it is delivered. Accessible text presented in both English and standard Latin American Spanish is accompanied by colorful illustrations, making this a trip to the post office that young readers will be sure to remember.","Bilingual",22.6,16.95,"383","24 pp.",{"$f":"Table1[[#This Row],['# Books]]*Table1[[#This Row],[QTY]]","v":0},{"$f":"Table1[[#This Row],[QTY]]*Table1[[#This Row],[S&L Price]]","v":0}]
[null,null,177,null,"My First Adventures / Mis primeras aventuras",1,"My First Trip to the Post Office / Mi primera visita al correo","eBook","978-1-4339-6634-7",2012,"January 2012",null,null,"Author, Illustrated by","Katie Kawa, Jessica Livingston",null,null,3,4,"C",null,"Grade K","Grade K - 2","Using a fictionalized approach, this bilingual book follows one child on a visit to the post office, making this easily relatable experience exciting for beginning readers to learn about and shows English language learners how mail gets from one person to another. The story tracks a letter through the postal system, showing the path of dropping the letter off the day it is written through the day it is delivered. Accessible text presented in both English and standard Latin American Spanish is accompanied by colorful illustrations, making this a trip to the post office that young readers will be sure to remember.","Bilingual",22.6,16.95,"383","24 pp.",{"$f":"Table1[[#This Row],['# Books]]*Table1[[#This Row],[QTY]]","v":0},{"$f":"Table1[[#This Row],[QTY]]*Table1[[#This Row],[S&L Price]]","v":0}]
[null,null,177,null,"People Around Town / Gente de mi ciudad",1,"Meet the Baker / Te presento a los panaderos","Library Bound Book","978-1-4339-7382-6",2013,"August 2012","Library","7.625 X 7.125","Author","Joyce Jeffries",null,null,3,4,"C",null,"Grade K","Grade K - 2","Using an easy-to-follow bilingual format, English language learners are introduced to the men and women who make the baked goods that people love to eat. Beginning readers discover why a baker’s job is both challenging and fun as they see the tasks that must be accomplished by bakers every day—including making batter and baking loaves of bread. Early learners are introduced to the tools bakers work with, including knives and ovens. Accessible text presented in both English and standard Latin American Spanish is accompanied by a picture glossary, helping young readers learn new facts and strengthen their vocabularies. Colorful photographs show hardworking bakers and the tasty treats they make.","Bilingual",22.6,16.95,"664","24 pp.",{"$f":"Table1[[#This Row],['# Books]]*Table1[[#This Row],[QTY]]","v":0},{"$f":"Table1[[#This Row],[QTY]]*Table1[[#This Row],[S&L Price]]","v":0}]
[null,null,177,null,"People Around Town / Gente de mi ciudad",1,"Meet the Baker / Te presento a los panaderos","eBook","978-1-4339-7383-3",2013,"August 2012",null,null,"Author","Joyce Jeffries",null,null,3,4,"C",null,"Grade K","Grade K - 2","Using an easy-to-follow bilingual format, English language learners are introduced to the men and women who make the baked goods that people love to eat. Beginning readers discover why a baker’s job is both challenging and fun as they see the tasks that must be accomplished by bakers every day—including making batter and baking loaves of bread. Early learners are introduced to the tools bakers work with, including knives and ovens. Accessible text presented in both English and standard Latin American Spanish is accompanied by a picture glossary, helping young readers learn new facts and strengthen their vocabularies. Colorful photographs show hardworking bakers and the tasty treats they make.","Bilingual",22.6,16.95,"664","24 pp.",{"$f":"Table1[[#This Row],['# Books]]*Table1[[#This Row],[QTY]]","v":0},{"$f":"Table1[[#This Row],[QTY]]*Table1[[#This Row],[S&L Price]]","v":0}]
[null,null,177,null,"People Around Town / Gente de mi ciudad",1,"Meet the Bus Driver /Te presento a los conductores de autobús","Library Bound Book","978-1-4339-7384-0",2013,"August 2012","Library","7.625 X 7.125","Author","Joyce Jeffries",null,null,3,4,"C",null,"Grade K","Grade K - 2","English language learners discover various types of bus drivers through accessible, bilingual text. They learn fun facts about bus drivers as well as the specific vehicles they drive. Easy-to-follow text, presented in both English and standard Latin American Spanish, introduces beginning readers to a variety of bus drivers, and a helpful picture glossary is included to strengthen vocabulary skills. Featuring bright photographs of bus drivers hard at work, this book is sure to provide an educational and enjoyable reading experience for learners.","Bilingual",22.6,16.95,"388.3","24 pp.",{"$f":"Table1[[#This Row],['# Books]]*Table1[[#This Row],[QTY]]","v":0},{"$f":"Table1[[#This Row],[QTY]]*Table1[[#This Row],[S&L Price]]","v":0}]
[null,null,177,null,"People Around Town / Gente de mi ciudad",1,"Meet the Bus Driver /Te presento a los conductores de autobús","eBook","978-1-4339-7385-7",2013,"August 2012",null,null,"Author","Joyce Jeffries",null,null,3,4,"C",null,"Grade K","Grade K - 2","English language learners discover various types of bus drivers through accessible, bilingual text. They learn fun facts about bus drivers as well as the specific vehicles they drive. Easy-to-follow text, presented in both English and standard Latin American Spanish, introduces beginning readers to a variety of bus drivers, and a helpful picture glossary is included to strengthen vocabulary skills. Featuring bright photographs of bus drivers hard at work, this book is sure to provide an educational and enjoyable reading experience for learners.","Bilingual",22.6,16.95,"388.3","24 pp.",{"$f":"Table1[[#This Row],['# Books]]*Table1[[#This Row],[QTY]]","v":0},{"$f":"Table1[[#This Row],[QTY]]*Table1[[#This Row],[S&L Price]]","v":0}]
[null,null,177,null,"People Around Town / Gente de mi ciudad",1,"Meet the Construction Worker / Conoce a los trabajadores de la construcción","Library Bound Book","978-1-4339-9464-7",2014,"August 2013","Library","7.625 X 7.125","Author","Joyce Jeffries",null,null,3,4,"C",null,"Grade K","Grade K - 2","Construction workers build our towns and cities! In this book, beginning readers will get to meet the community helpers who turn wood and metal into houses and schools. Through accessible text presented in both English and standard Latin American Spanish, readers will meet roofers, pipe fitters, and other essential builders that make the places we call home. Full-color photographs depict people hard at work, and a picture glossary reinforces vocabulary with colorful imagery of buildings and supplies, ready for work! • High-interest topic engages young readers • Strong picture-text correlation aids in comprehension • Reading level supports beginning readers • Picture glossary helps develop vocabulary skills • Comprehendible index guides readers through each book  ","Bilingual",22.6,16.95,"624","24 pp.",{"$f":"Table1[[#This Row],['# Books]]*Table1[[#This Row],[QTY]]","v":0},{"$f":"Table1[[#This Row],[QTY]]*Table1[[#This Row],[S&L Price]]","v":0}]
[null,null,177,null,"People Around Town / Gente de mi ciudad",1,"Meet the Construction Worker / Conoce a los trabajadores de la construcción","eBook","978-1-4339-9465-4",2014,"August 2013",null,null,"Author","Joyce Jeffries",null,null,3,4,"C",null,"Grade K","Grade K - 2","Construction workers build our towns and cities! In this book, beginning readers will get to meet the community helpers who turn wood and metal into houses and schools. Through accessible text presented in both English and standard Latin American Spanish, readers will meet roofers, pipe fitters, and other essential builders that make the places we call home. Full-color photographs depict people hard at work, and a picture glossary reinforces vocabulary with colorful imagery of buildings and supplies, ready for work! • High-interest topic engages young readers • Strong picture-text correlation aids in comprehension • Reading level supports beginning readers • Picture glossary helps develop vocabulary skills • Comprehendible index guides readers through each book  ","Bilingual",22.6,16.95,"624","24 pp.",{"$f":"Table1[[#This Row],['# Books]]*Table1[[#This Row],[QTY]]","v":0},{"$f":"Table1[[#This Row],[QTY]]*Table1[[#This Row],[S&L Price]]","v":0}]
[null,null,177,null,"People Around Town / Gente de mi ciudad",1,"Meet the Farmer / Conoce a los granjeros","Library Bound Book","978-1-4339-9466-1",2014,"August 2013","Library","7.625 X 7.125","Author","Joyce Jeffries",null,null,3,4,"C",null,"Grade K","Grade K - 2","Farmers know how to get the most out of the land, whether with crops or big farm animals. Readers learn more about the lives of these important community helpers with the help of full-color photographs and easy-to-read text. Readers discover how big tractors help farmers work quickly, and what kinds of animals call a farm home. Accessible text presented in both English and standard Latin American Spanish helps early readers grasp concepts, while a picture glossary pairs vocabulary with colorful imagery to help enhance comprehension.     • High-interest topic engages young readers • Strong picture-text correlation aids in comprehension • Reading level supports beginning readers • Picture glossary helps develop vocabulary skills • Comprehendible index guides readers through each book  ","Bilingual",22.6,16.95,"630","24 pp.",{"$f":"Table1[[#This Row],['# Books]]*Table1[[#This Row],[QTY]]","v":0},{"$f":"Table1[[#This Row],[QTY]]*Table1[[#This Row],[S&L Price]]","v":0}]
[null,null,177,null,"People Around Town / Gente de mi ciudad",1,"Meet the Farmer / Conoce a los granjeros","eBook","978-1-4339-9467-8",2014,"August 2013",null,null,"Author","Joyce Jeffries",null,null,3,4,"C",null,"Grade K","Grade K - 2","Farmers know how to get the most out of the land, whether with crops or big farm animals. Readers learn more about the lives of these important community helpers with the help of full-color photographs and easy-to-read text. Readers discover how big tractors help farmers work quickly, and what kinds of animals call a farm home. Accessible text presented in both English and standard Latin American Spanish helps early readers grasp concepts, while a picture glossary pairs vocabulary with colorful imagery to help enhance comprehension.     • High-interest topic engages young readers • Strong picture-text correlation aids in comprehension • Reading level supports beginning readers • Picture glossary helps develop vocabulary skills • Comprehendible index guides readers through each book  ","Bilingual",22.6,16.95,"630","24 pp.",{"$f":"Table1[[#This Row],['# Books]]*Table1[[#This Row],[QTY]]","v":0},{"$f":"Table1[[#This Row],[QTY]]*Table1[[#This Row],[S&L Price]]","v":0}]
[null,null,177,null,"People Around Town / Gente de mi ciudad",1,"Meet the Fireman / Te presento a los bomberos","Library Bound Book","978-1-4339-7386-4",2013,"August 2012","Library","7.625 X 7.125","Author","Joyce Jeffries",null,null,3,4,"C",null,"Grade K","Grade K - 2","English language learners discover how important a firefighter is to the community through exciting bilingual text. They learn the different ways firefighters work to keep people safe and get a detailed look at the equipment firefighters need to do their jobs properly. Accessible text is presented in English and standard Latin American Spanish, allowing beginning readers discover key facts about these life-saving heroes. A picture glossary aids in vocabulary development, and vivid photographs capture firefighters hard at work.","Bilingual",22.6,16.95,"363.37","24 pp.",{"$f":"Table1[[#This Row],['# Books]]*Table1[[#This Row],[QTY]]","v":0},{"$f":"Table1[[#This Row],[QTY]]*Table1[[#This Row],[S&L Price]]","v":0}]
[null,null,177,null,"People Around Town / Gente de mi ciudad",1,"Meet the Fireman / Te presento a los bomberos","eBook","978-1-4339-7387-1",2013,"August 2012",null,null,"Author","Joyce Jeffries",null,null,3,4,"C",null,"Grade K","Grade K - 2","English language learners discover how important a firefighter is to the community through exciting bilingual text. They learn the different ways firefighters work to keep people safe and get a detailed look at the equipment firefighters need to do their jobs properly. Accessible text is presented in English and standard Latin American Spanish, allowing beginning readers discover key facts about these life-saving heroes. A picture glossary aids in vocabulary development, and vivid photographs capture firefighters hard at work.","Bilingual",22.6,16.95,"363.37","24 pp.",{"$f":"Table1[[#This Row],['# Books]]*Table1[[#This Row],[QTY]]","v":0},{"$f":"Table1[[#This Row],[QTY]]*Table1[[#This Row],[S&L Price]]","v":0}]
[null,null,177,null,"People Around Town / Gente de mi ciudad",1,"Meet the Librarian / Conoce a los bibliotecarios","Library Bound Book","978-1-4339-9468-5",2014,"August 2013","Library","7.625 X 7.125","Author","Joyce Jeffries",null,null,3,4,"C",null,"Grade K","Grade K - 2","Librarians love working with books, but people can find all kinds of things at the library! Beginning readers will learn all about life among the stacks in this engaging first concepts book. Readers discover how a library is organized and what kind of things people can borrow from the library. They’ll also find out where the name “librarian” comes from and learn all about lending with the help of full-color photographs and accessible text presented in both English and standard Latin American Spanish. A picture glossary helps reinforce concepts and vocabulary with colorful imagery, while strong picture-text correlation aids in reading comprehension.    • High-interest topic engages young readers • Strong picture-text correlation aids in comprehension • Reading level supports beginning readers • Picture glossary helps develop vocabulary skills • Comprehendible index guides readers through each book    ","Bilingual",22.6,16.95,"371.425","24 pp.",{"$f":"Table1[[#This Row],['# Books]]*Table1[[#This Row],[QTY]]","v":0},{"$f":"Table1[[#This Row],[QTY]]*Table1[[#This Row],[S&L Price]]","v":0}]
[null,null,177,null,"People Around Town / Gente de mi ciudad",1,"Meet the Librarian / Conoce a los bibliotecarios","eBook","978-1-4339-9469-2",2014,"August 2013",null,null,"Author","Joyce Jeffries",null,null,3,4,"C",null,"Grade K","Grade K - 2","Librarians love working with books, but people can find all kinds of things at the library! Beginning readers will learn all about life among the stacks in this engaging first concepts book. Readers discover how a library is organized and what kind of things people can borrow from the library. They’ll also find out where the name “librarian” comes from and learn all about lending with the help of full-color photographs and accessible text presented in both English and standard Latin American Spanish. A picture glossary helps reinforce concepts and vocabulary with colorful imagery, while strong picture-text correlation aids in reading comprehension.    • High-interest topic engages young readers • Strong picture-text correlation aids in comprehension • Reading level supports beginning readers • Picture glossary helps develop vocabulary skills • Comprehendible index guides readers through each book    ","Bilingual",22.6,16.95,"371.425","24 pp.",{"$f":"Table1[[#This Row],['# Books]]*Table1[[#This Row],[QTY]]","v":0},{"$f":"Table1[[#This Row],[QTY]]*Table1[[#This Row],[S&L Price]]","v":0}]
[null,null,177,null,"People Around Town / Gente de mi ciudad",1,"Meet the Mayor / Conoce a los alcaldes","Library Bound Book","978-1-4339-9470-8",2014,"August 2013","Library","7.625 X 7.125","Author","Joyce Jeffries",null,null,3,4,"C",null,"Grade K","Grade K - 2","Every mayor is different, but they all want to help make towns and cities better places to live! Beginning readers learn what mayors can do to help everyday citizens with the help of full-color photographs and accessible text presented in both English and standard Latin American Spanish. They’ll discover how mayors help make laws, raise money for their towns and cities, and keep citizens safe. Strong picture-text correlation aids in reading comprehension, and a picture glossary reinforces vocabulary and concepts related to those important community leaders.    • High-interest topic engages young readers • Strong picture-text correlation aids in comprehension • Reading level supports beginning readers • Picture glossary helps develop vocabulary skills • Comprehendible index guides readers through each book    ","Bilingual",22.6,16.95,"352.23","24 pp.",{"$f":"Table1[[#This Row],['# Books]]*Table1[[#This Row],[QTY]]","v":0},{"$f":"Table1[[#This Row],[QTY]]*Table1[[#This Row],[S&L Price]]","v":0}]
[null,null,177,null,"People Around Town / Gente de mi ciudad",1,"Meet the Mayor / Conoce a los alcaldes","eBook","978-1-4339-9471-5",2014,"August 2013",null,null,"Author","Joyce Jeffries",null,null,3,4,"C",null,"Grade K","Grade K - 2","Every mayor is different, but they all want to help make towns and cities better places to live! Beginning readers learn what mayors can do to help everyday citizens with the help of full-color photographs and accessible text presented in both English and standard Latin American Spanish. They’ll discover how mayors help make laws, raise money for their towns and cities, and keep citizens safe. Strong picture-text correlation aids in reading comprehension, and a picture glossary reinforces vocabulary and concepts related to those important community leaders.    • High-interest topic engages young readers • Strong picture-text correlation aids in comprehension • Reading level supports beginning readers • Picture glossary helps develop vocabulary skills • Comprehendible index guides readers through each book    ","Bilingual",22.6,16.95,"352.23","24 pp.",{"$f":"Table1[[#This Row],['# Books]]*Table1[[#This Row],[QTY]]","v":0},{"$f":"Table1[[#This Row],[QTY]]*Table1[[#This Row],[S&L Price]]","v":0}]
[null,null,177,null,"People Around Town / Gente de mi ciudad",1,"Meet the Nurse / Te presento a los enfermeros","Library Bound Book","978-1-4339-7388-8",2013,"August 2012","Library","7.625 X 7.125","Author","Joyce Jeffries",null,null,3,4,"C",null,"Grade K","Grade K - 2","Nurses work very hard to help people stay healthy and get healthier. Through bilingual text, English language learners see how nurses work individually and with doctors to care for both sick and healthy patients. Beginning readers are introduced to a variety of tools that nurses use to do their jobs and learn fun facts about nurses through the use of accessible text presented in both English and standard Latin American Spanish. A picture glossary is included to strengthen vocabulary skills. Bright photographs show a variety of nurses doing important tasks, making this an enlightening reading experience for early learners.","Bilingual",22.6,16.95,"610.73","24 pp.",{"$f":"Table1[[#This Row],['# Books]]*Table1[[#This Row],[QTY]]","v":0},{"$f":"Table1[[#This Row],[QTY]]*Table1[[#This Row],[S&L Price]]","v":0}]
[null,null,177,null,"People Around Town / Gente de mi ciudad",1,"Meet the Nurse / Te presento a los enfermeros","eBook","978-1-4339-7389-5",2013,"August 2012",null,null,"Author","Joyce Jeffries",null,null,3,4,"C",null,"Grade K","Grade K - 2","Nurses work very hard to help people stay healthy and get healthier. Through bilingual text, English language learners see how nurses work individually and with doctors to care for both sick and healthy patients. Beginning readers are introduced to a variety of tools that nurses use to do their jobs and learn fun facts about nurses through the use of accessible text presented in both English and standard Latin American Spanish. A picture glossary is included to strengthen vocabulary skills. Bright photographs show a variety of nurses doing important tasks, making this an enlightening reading experience for early learners.","Bilingual",22.6,16.95,"610.73","24 pp.",{"$f":"Table1[[#This Row],['# Books]]*Table1[[#This Row],[QTY]]","v":0},{"$f":"Table1[[#This Row],[QTY]]*Table1[[#This Row],[S&L Price]]","v":0}]
[null,null,177,null,"People Around Town / Gente de mi ciudad",1,"Meet the Pilot / Conoce a los pilotos","Library Bound Book","978-1-4339-9472-2",2014,"August 2013","Library","7.625 X 7.125","Author","Joyce Jeffries",null,null,3,4,"C",null,"Grade K","Grade K - 2","Not many people know that the first pilots took to the skies in hot air balloons. Today, professional pilots use fast jets and helicopters to get from place to place in style.  Through the use of accessible text, presented in both English and standard Latin American Spanish, and colorful photographs, early readers will learn all about the people who soar high above their towns and cities every day, and will have fun exploring the cockpit of the world’s fastest vehicles. A picture glossary helps reinforce essential vocabulary related to these high-flying community helpers. • High-interest topic engages young readers • Strong picture-text correlation aids in comprehension • Reading level supports beginning readers • Picture glossary helps develop vocabulary skills • Comprehendible index guides readers through each book","Bilingual",22.6,16.95,"629.13","24 pp.",{"$f":"Table1[[#This Row],['# Books]]*Table1[[#This Row],[QTY]]","v":0},{"$f":"Table1[[#This Row],[QTY]]*Table1[[#This Row],[S&L Price]]","v":0}]
[null,null,177,null,"People Around Town / Gente de mi ciudad",1,"Meet the Pilot / Conoce a los pilotos","eBook","978-1-4339-9473-9",2014,"August 2013",null,null,"Author","Joyce Jeffries",null,null,3,4,"C",null,"Grade K","Grade K - 2","Not many people know that the first pilots took to the skies in hot air balloons. Today, professional pilots use fast jets and helicopters to get from place to place in style.  Through the use of accessible text, presented in both English and standard Latin American Spanish, and colorful photographs, early readers will learn all about the people who soar high above their towns and cities every day, and will have fun exploring the cockpit of the world’s fastest vehicles. A picture glossary helps reinforce essential vocabulary related to these high-flying community helpers. • High-interest topic engages young readers • Strong picture-text correlation aids in comprehension • Reading level supports beginning readers • Picture glossary helps develop vocabulary skills • Comprehendible index guides readers through each book","Bilingual",22.6,16.95,"629.13","24 pp.",{"$f":"Table1[[#This Row],['# Books]]*Table1[[#This Row],[QTY]]","v":0},{"$f":"Table1[[#This Row],[QTY]]*Table1[[#This Row],[S&L Price]]","v":0}]
[null,null,177,null,"People Around Town / Gente de mi ciudad",1,"Meet the Policeman / Te presento a los policías","Library Bound Book","978-1-4339-7390-1",2013,"August 2012","Library","7.625 X 7.125","Author","Joyce Jeffries",null,null,3,4,"C",null,"Grade K","Grade K - 2","English language learners discover how policemen work to keep people safe in this engaging bilingual book. They learn about the special things that help policemen do their jobs—including fast cars and smart dogs. Accessible text presented in both English and standard Latin American Spanish helps readers see for themselves what life is like inside a police station for the people who work there. Readers will be captivated by vibrant photographs of policemen on the job, and further their vocabulary skills with a helpful picture glossary.","Bilingual",22.6,16.95,"363.2","24 pp.",{"$f":"Table1[[#This Row],['# Books]]*Table1[[#This Row],[QTY]]","v":0},{"$f":"Table1[[#This Row],[QTY]]*Table1[[#This Row],[S&L Price]]","v":0}]
[null,null,177,null,"People Around Town / Gente de mi ciudad",1,"Meet the Policeman / Te presento a los policías","eBook","978-1-4339-7391-8",2013,"August 2012",null,null,"Author","Joyce Jeffries",null,null,3,4,"C",null,"Grade K","Grade K - 2","English language learners discover how policemen work to keep people safe in this engaging bilingual book. They learn about the special things that help policemen do their jobs—including fast cars and smart dogs. Accessible text presented in both English and standard Latin American Spanish helps readers see for themselves what life is like inside a police station for the people who work there. Readers will be captivated by vibrant photographs of policemen on the job, and further their vocabulary skills with a helpful picture glossary.","Bilingual",22.6,16.95,"363.2","24 pp.",{"$f":"Table1[[#This Row],['# Books]]*Table1[[#This Row],[QTY]]","v":0},{"$f":"Table1[[#This Row],[QTY]]*Table1[[#This Row],[S&L Price]]","v":0}]
[null,null,177,null,"People Around Town / Gente de mi ciudad",1,"Meet the Teacher / Te presento a los maestros","Library Bound Book","978-1-4339-7392-5",2013,"August 2012","Library","7.625 X 7.125","Author","Joyce Jeffries",null,null,3,4,"C",null,"Grade K","Grade K - 2","English language learners discover fun new facts about teachers and the work that they do. They get an up-close look at some of the important tools teachers use to help their students learn. With the help of accessible text presented in both English and standard Latin American Spanish, readers see for themselves what it is like to be a teacher. A picture glossary is included to help strengthen vocabulary skills. Colorful pictures show teachers hard at work in their classrooms, making this book one that beginning readers are sure to find relatable, educational, and enjoyable.","Bilingual",22.6,16.95,"371.1","24 pp.",{"$f":"Table1[[#This Row],['# Books]]*Table1[[#This Row],[QTY]]","v":0},{"$f":"Table1[[#This Row],[QTY]]*Table1[[#This Row],[S&L Price]]","v":0}]
[null,null,177,null,"People Around Town / Gente de mi ciudad",1,"Meet the Teacher / Te presento a los maestros","eBook","978-1-4339-7393-2",2013,"August 2012",null,null,"Author","Joyce Jeffries",null,null,3,4,"C",null,"Grade K","Grade K - 2","English language learners discover fun new facts about teachers and the work that they do. They get an up-close look at some of the important tools teachers use to help their students learn. With the help of accessible text presented in both English and standard Latin American Spanish, readers see for themselves what it is like to be a teacher. A picture glossary is included to help strengthen vocabulary skills. Colorful pictures show teachers hard at work in their classrooms, making this book one that beginning readers are sure to find relatable, educational, and enjoyable.","Bilingual",22.6,16.95,"371.1","24 pp.",{"$f":"Table1[[#This Row],['# Books]]*Table1[[#This Row],[QTY]]","v":0},{"$f":"Table1[[#This Row],[QTY]]*Table1[[#This Row],[S&L Price]]","v":0}]
[null,null,178,null,"People Around Town / Gente de mi ciudad",1,"Meet the Vet / Conoce a los veterinarios","Library Bound Book","978-1-4339-9474-6",2014,"August 2013","Library","7.625 X 7.125","Author","Joyce Jeffries",null,null,3,4,"C",null,"Grade K","Grade K - 2","When our pets are sick, we take them to the vet! Readers learn all about these helpful community heroes do each day to make sure our cats and dogs stay safe in this exciting book filled with full-color photographs. Through the use of accessible text presented in both English and standard Latin American Spanish, early readers are introduced to many types of vets. From horse vets to small animal vets that take care of cats and dogs, readers explore the lives of the professionals that help take care of our animal family members!   • High-interest topic engages young readers • Strong picture-text correlation aids in comprehension • Reading level supports beginning readers • Picture glossary helps develop vocabulary skills • Comprehendible index guides readers through each book  ","Bilingual",22.6,16.95,"636.089","24 pp.",{"$f":"Table1[[#This Row],['# Books]]*Table1[[#This Row],[QTY]]","v":0},{"$f":"Table1[[#This Row],[QTY]]*Table1[[#This Row],[S&L Price]]","v":0}]
[null,null,178,null,"People Around Town / Gente de mi ciudad",1,"Meet the Vet / Conoce a los veterinarios","eBook","978-1-4339-9475-3",2014,"August 2013",null,null,"Author","Joyce Jeffries",null,null,3,4,"C",null,"Grade K","Grade K - 2","When our pets are sick, we take them to the vet! Readers learn all about these helpful community heroes do each day to make sure our cats and dogs stay safe in this exciting book filled with full-color photographs. Through the use of accessible text presented in both English and standard Latin American Spanish, early readers are introduced to many types of vets. From horse vets to small animal vets that take care of cats and dogs, readers explore the lives of the professionals that help take care of our animal family members!   • High-interest topic engages young readers • Strong picture-text correlation aids in comprehension • Reading level supports beginning readers • Picture glossary helps develop vocabulary skills • Comprehendible index guides readers through each book  ","Bilingual",22.6,16.95,"636.089","24 pp.",{"$f":"Table1[[#This Row],['# Books]]*Table1[[#This Row],[QTY]]","v":0},{"$f":"Table1[[#This Row],[QTY]]*Table1[[#This Row],[S&L Price]]","v":0}]
[null,null,178,null,"Pet Corner / Rincón de las mascotas",1,"Colorful Goldfish / Peces dorados brillantes","Library Bound Book","978-1-4339-5601-0",2012,"August 2011","Library","7.625 X 7.125","Author","Katie Kawa",null,null,3,4,"C",null,"Grade K","Grade K - 2","Goldfish are some pretty incredible pets—they never stop growing and can sleep with their eyes open. English language learners read all about them in this fact-filled bilingual book. Simple text presented in both English and standard Latin American Spanish explains how to take care of these fun fish. Vibrant photographs bring readers into the watery world of goldfish. ","Bilingual",22.6,16.95,"639.3","24 pp.",{"$f":"Table1[[#This Row],['# Books]]*Table1[[#This Row],[QTY]]","v":0},{"$f":"Table1[[#This Row],[QTY]]*Table1[[#This Row],[S&L Price]]","v":0}]
[null,null,178,null,"Pet Corner / Rincón de las mascotas",1,"Colorful Goldfish / Peces dorados brillantes","eBook","978-1-4339-5602-7",2012,"August 2011",null,null,"Author","Katie Kawa",null,null,3,4,"C",null,"Grade K","Grade K - 2","Goldfish are some pretty incredible pets—they never stop growing and can sleep with their eyes open. English language learners read all about them in this fact-filled bilingual book. Simple text presented in both English and standard Latin American Spanish explains how to take care of these fun fish. Vibrant photographs bring readers into the watery world of goldfish. ","Bilingual",22.6,16.95,"639.3","24 pp.",{"$f":"Table1[[#This Row],['# Books]]*Table1[[#This Row],[QTY]]","v":0},{"$f":"Table1[[#This Row],[QTY]]*Table1[[#This Row],[S&L Price]]","v":0}]
[null,null,178,null,"Pet Corner / Rincón de las mascotas",1,"Cuddly Rabbits / Conejos encantadores","Library Bound Book","978-1-4339-5619-5",2012,"August 2011","Library","7.625 X 7.125","Author","Katie Kawa",null,null,3,4,"C",null,"Grade K","Grade K - 2","With their long ears and shy natures, hopping rabbits are uniquely cute creatures. In this bilingual book, English language learners discover fun facts about rabbits through the use of accessible text presented in both English and standard Latin American Spanish. Detailed photographs show these adorable animals doing everything from eating their favorite foods to playing with people.","Bilingual",22.6,16.95,"636.932","24 pp.",{"$f":"Table1[[#This Row],['# Books]]*Table1[[#This Row],[QTY]]","v":0},{"$f":"Table1[[#This Row],[QTY]]*Table1[[#This Row],[S&L Price]]","v":0}]
[null,null,178,null,"Pet Corner / Rincón de las mascotas",1,"Cuddly Rabbits / Conejos encantadores","eBook","978-1-4339-5620-1",2012,"August 2011",null,null,"Author","Katie Kawa",null,null,3,4,"C",null,"Grade K","Grade K - 2","With their long ears and shy natures, hopping rabbits are uniquely cute creatures. In this bilingual book, English language learners discover fun facts about rabbits through the use of accessible text presented in both English and standard Latin American Spanish. Detailed photographs show these adorable animals doing everything from eating their favorite foods to playing with people.","Bilingual",22.6,16.95,"636.932","24 pp.",{"$f":"Table1[[#This Row],['# Books]]*Table1[[#This Row],[QTY]]","v":0},{"$f":"Table1[[#This Row],[QTY]]*Table1[[#This Row],[S&L Price]]","v":0}]
[null,null,178,null,"Pet Corner / Rincón de las mascotas",1,"Curious Cats / Gatos curiosos","Library Bound Book","978-1-4339-5590-7",2012,"August 2011","Library","7.625 X 7.125","Author","Katie Kawa",null,null,3,4,"C",null,"Grade K","Grade K - 2","Cats are one of the most popular pets, and it’s easy to see why: they’re self-cleaning and they love to play. Through the use of simple text presented in both English and standard Latin American Spanish, English language learners discover fun facts about these popular pets. Colorful photographs show many varieties of cuddly felines at rest and at play. Readers learn how much fun it can be to take care of a pet cat in this book.","Bilingual",22.6,16.95,"636.8","24 pp.",{"$f":"Table1[[#This Row],['# Books]]*Table1[[#This Row],[QTY]]","v":0},{"$f":"Table1[[#This Row],[QTY]]*Table1[[#This Row],[S&L Price]]","v":0}]
[null,null,178,null,"Pet Corner / Rincón de las mascotas",1,"Curious Cats / Gatos curiosos","eBook","978-1-4339-6061-1",2012,"August 2011",null,null,"Author","Katie Kawa",null,null,3,4,"C",null,"Grade K","Grade K - 2","Cats are one of the most popular pets, and it’s easy to see why: they’re self-cleaning and they love to play. Through the use of simple text presented in both English and standard Latin American Spanish, English language learners discover fun facts about these popular pets. Colorful photographs show many varieties of cuddly felines at rest and at play. Readers learn how much fun it can be to take care of a pet cat in this book.","Bilingual",22.6,16.95,"636.8","24 pp.",{"$f":"Table1[[#This Row],['# Books]]*Table1[[#This Row],[QTY]]","v":0},{"$f":"Table1[[#This Row],[QTY]]*Table1[[#This Row],[S&L Price]]","v":0}]
[null,null,178,null,"Pet Corner / Rincón de las mascotas",1,"Fun Frogs / Ranas saltarinas","Library Bound Book","978-1-4339-6637-8",2012,"January 2012","Library","7.625 X 7.125","Author","Rose Carraway",null,null,3,4,"C",null,"Grade K","Grade K - 2","Readers explore fascinating facts about frogs with the easy-to-follow, bilingual text format this book provides. Beginning readers will learn how to take care of these lively pets with information about these amazing amphibians presented in both English and standard Latin American Spanish. Bright photographs of a variety of incredible pet frogs make this a reading experience that English language learners will truly enjoy.","Bilingual",22.6,16.95,"639.3","24 pp.",{"$f":"Table1[[#This Row],['# Books]]*Table1[[#This Row],[QTY]]","v":0},{"$f":"Table1[[#This Row],[QTY]]*Table1[[#This Row],[S&L Price]]","v":0}]
[null,null,178,null,"Pet Corner / Rincón de las mascotas",1,"Fun Frogs / Ranas saltarinas","eBook","978-1-4339-6638-5",2012,"January 2012",null,null,"Author","Rose Carraway",null,null,3,4,"C",null,"Grade K","Grade K - 2","Readers explore fascinating facts about frogs with the easy-to-follow, bilingual text format this book provides. Beginning readers will learn how to take care of these lively pets with information about these amazing amphibians presented in both English and standard Latin American Spanish. Bright photographs of a variety of incredible pet frogs make this a reading experience that English language learners will truly enjoy.","Bilingual",22.6,16.95,"639.3","24 pp.",{"$f":"Table1[[#This Row],['# Books]]*Table1[[#This Row],[QTY]]","v":0},{"$f":"Table1[[#This Row],[QTY]]*Table1[[#This Row],[S&L Price]]","v":0}]
[null,null,178,null,"Pet Corner / Rincón de las mascotas",1,"Furry Hamsters / Hámsteres peludos","Library Bound Book","978-1-4339-5607-2",2012,"August 2011","Library","7.625 X 7.125","Author","Katie Kawa",null,null,3,4,"C",null,"Grade K","Grade K - 2","Hamsters are very popular pets. English language learners discover how to take good care of them in this bilingual book. Accessible text presented in both English and standard Latin American Spanish allows readers to learn fun facts about hamsters—from what they eat to how they play. Bright photographs show a variety of hamsters in great detail, bringing readers into the world of these playful animals.","Bilingual",22.6,16.95,"636.935","24 pp.",{"$f":"Table1[[#This Row],['# Books]]*Table1[[#This Row],[QTY]]","v":0},{"$f":"Table1[[#This Row],[QTY]]*Table1[[#This Row],[S&L Price]]","v":0}]
[null,null,178,null,"Pet Corner / Rincón de las mascotas",1,"Furry Hamsters / Hámsteres peludos","eBook","978-1-4339-5608-9",2012,"August 2011",null,null,"Author","Katie Kawa",null,null,3,4,"C",null,"Grade K","Grade K - 2","Hamsters are very popular pets. English language learners discover how to take good care of them in this bilingual book. Accessible text presented in both English and standard Latin American Spanish allows readers to learn fun facts about hamsters—from what they eat to how they play. Bright photographs show a variety of hamsters in great detail, bringing readers into the world of these playful animals.","Bilingual",22.6,16.95,"636.935","24 pp.",{"$f":"Table1[[#This Row],['# Books]]*Table1[[#This Row],[QTY]]","v":0},{"$f":"Table1[[#This Row],[QTY]]*Table1[[#This Row],[S&L Price]]","v":0}]
[null,null,178,null,"Pet Corner / Rincón de las mascotas",1,"Great Guinea Pigs / Cobayos extraordinarios","Library Bound Book","978-1-4339-6639-2",2012,"January 2012","Library","7.625 X 7.125","Author","Rose Carraway",null,null,3,4,"C",null,"Grade K","Grade K - 2","Guinea pigs eat oranges, they have teeth that never stop growing, and hiding is their favorite way to play. English language learners explore many amazing facts about guinea pigs in this bilingual book and discover what they can do to be good guinea pig owners. Presented in both English and standard Latin American Spanish, easy-to-follow text is accompanied by colorful photographs to show these adorable animals in beautiful detail.","Bilingual",22.6,16.95,"636.935","24 pp.",{"$f":"Table1[[#This Row],['# Books]]*Table1[[#This Row],[QTY]]","v":0},{"$f":"Table1[[#This Row],[QTY]]*Table1[[#This Row],[S&L Price]]","v":0}]
[null,null,178,null,"Pet Corner / Rincón de las mascotas",1,"Great Guinea Pigs / Cobayos extraordinarios","eBook","978-1-4339-6640-8",2012,"January 2012",null,null,"Author","Rose Carraway",null,null,3,4,"C",null,"Grade K","Grade K - 2","Guinea pigs eat oranges, they have teeth that never stop growing, and hiding is their favorite way to play. English language learners explore many amazing facts about guinea pigs in this bilingual book and discover what they can do to be good guinea pig owners. Presented in both English and standard Latin American Spanish, easy-to-follow text is accompanied by colorful photographs to show these adorable animals in beautiful detail.","Bilingual",22.6,16.95,"636.935","24 pp.",{"$f":"Table1[[#This Row],['# Books]]*Table1[[#This Row],[QTY]]","v":0},{"$f":"Table1[[#This Row],[QTY]]*Table1[[#This Row],[S&L Price]]","v":0}]
[null,null,178,null,"Pet Corner / Rincón de las mascotas",1,"Lovable Dogs / Perros adorables","Library Bound Book","978-1-4339-5595-2",2012,"August 2011","Library","7.625 X 7.125","Author","Katie Kawa",null,null,2,2,"B",null,"Grade K","Grade K - 2","Dogs are called “man’s best friend” because of their famed loyalty. In this bilingual book, English language learners explore the daily lives of one of the world’s most beloved animals. Fun facts are presented in both English and standard Latin American Spanish, teaching readers how to care for a dog using simple text. Bright photographs of a variety of dog breeds accompany these facts, so readers can see exactly what they are learning about.","Bilingual",22.6,16.95,"636.7","24 pp.",{"$f":"Table1[[#This Row],['# Books]]*Table1[[#This Row],[QTY]]","v":0},{"$f":"Table1[[#This Row],[QTY]]*Table1[[#This Row],[S&L Price]]","v":0}]
[null,null,178,null,"Pet Corner / Rincón de las mascotas",1,"Lovable Dogs / Perros adorables","eBook","978-1-4339-6062-8",2012,"August 2011",null,null,"Author","Katie Kawa",null,null,2,2,"B",null,"Grade K","Grade K - 2","Dogs are called “man’s best friend” because of their famed loyalty. In this bilingual book, English language learners explore the daily lives of one of the world’s most beloved animals. Fun facts are presented in both English and standard Latin American Spanish, teaching readers how to care for a dog using simple text. Bright photographs of a variety of dog breeds accompany these facts, so readers can see exactly what they are learning about.","Bilingual",22.6,16.95,"636.7","24 pp.",{"$f":"Table1[[#This Row],['# Books]]*Table1[[#This Row],[QTY]]","v":0},{"$f":"Table1[[#This Row],[QTY]]*Table1[[#This Row],[S&L Price]]","v":0}]
[null,null,178,null,"Pet Corner / Rincón de las mascotas",1,"Slithering Snakes / Serpientes resbaladizas","Library Bound Book","978-1-4339-6645-3",2012,"January 2012","Library","7.625 X 7.125","Author","Rose Carraway",null,null,3,4,"C",null,"Grade K","Grade K - 2","English language learners find fun facts about snakes in this bilingual book, such as how they’re able to smell without a nose, that they have no legs, and that they eat mice for dinner. Through accessible text presented in both English and standard Latin American Spanish, readers also discover what they can do to keep a pet snake happy and healthy. Detailed photographs give beginning readers an up-close look at a colorful variety of pet snakes.","Bilingual",22.6,16.95,"639.3","24 pp.",{"$f":"Table1[[#This Row],['# Books]]*Table1[[#This Row],[QTY]]","v":0},{"$f":"Table1[[#This Row],[QTY]]*Table1[[#This Row],[S&L Price]]","v":0}]
[null,null,178,null,"Pet Corner / Rincón de las mascotas",1,"Slithering Snakes / Serpientes resbaladizas","eBook","978-1-4339-6646-0",2012,"January 2012",null,null,"Author","Rose Carraway",null,null,3,4,"C",null,"Grade K","Grade K - 2","English language learners find fun facts about snakes in this bilingual book, such as how they’re able to smell without a nose, that they have no legs, and that they eat mice for dinner. Through accessible text presented in both English and standard Latin American Spanish, readers also discover what they can do to keep a pet snake happy and healthy. Detailed photographs give beginning readers an up-close look at a colorful variety of pet snakes.","Bilingual",22.6,16.95,"639.3","24 pp.",{"$f":"Table1[[#This Row],['# Books]]*Table1[[#This Row],[QTY]]","v":0},{"$f":"Table1[[#This Row],[QTY]]*Table1[[#This Row],[S&L Price]]","v":0}]
[null,null,178,null,"Pet Corner / Rincón de las mascotas",1,"Terrific Turtles / Tortugas asombrosas","Library Bound Book","978-1-4339-6647-7",2012,"January 2012","Library","7.625 X 7.125","Author","Rose Carraway",null,null,3,4,"C",null,"Grade K","Grade K - 2","Turtles are amazing animals, and English language learners discover why they make great pets in this bilingual book. They learn how to take care of pet turtles, including where to keep them and what to feed them. Fascinating facts about turtles are presented to beginning readers in accessible text that is written in both English and standard Latin American Spanish. These facts are brought to life by colorful photographs of pet turtles in a variety of settings.","Bilingual",22.6,16.95,"639.3","24 pp.",{"$f":"Table1[[#This Row],['# Books]]*Table1[[#This Row],[QTY]]","v":0},{"$f":"Table1[[#This Row],[QTY]]*Table1[[#This Row],[S&L Price]]","v":0}]
[null,null,178,null,"Pet Corner / Rincón de las mascotas",1,"Terrific Turtles / Tortugas asombrosas","eBook","978-1-4339-6648-4",2012,"January 2012",null,null,"Author","Rose Carraway",null,null,3,4,"C",null,"Grade K","Grade K - 2","Turtles are amazing animals, and English language learners discover why they make great pets in this bilingual book. They learn how to take care of pet turtles, including where to keep them and what to feed them. Fascinating facts about turtles are presented to beginning readers in accessible text that is written in both English and standard Latin American Spanish. These facts are brought to life by colorful photographs of pet turtles in a variety of settings.","Bilingual",22.6,16.95,"639.3","24 pp.",{"$f":"Table1[[#This Row],['# Books]]*Table1[[#This Row],[QTY]]","v":0},{"$f":"Table1[[#This Row],[QTY]]*Table1[[#This Row],[S&L Price]]","v":0}]
[null,null,178,null,"Underwater World / El mundo submarino",1,"Clownfish / Peces payaso","Library Bound Book","978-1-4339-8778-6",2013,"January 2013","Library","7.625 X 7.125","Author","Ryan Nagelhout",null,null,3,4,"C",null,"Grade K","Grade K - 2","The bright and colorful clownfish lives an exciting life in the coral reef. Through the use of accessible text, presented in both English and standard Latin-American Spanish, readers take an exciting look at the world clownfish call home. A picture glossary helps beginning readers strengthen their vocabulary skills, and vibrant, full-color photographs shows how these stunning animals survive under the sea.","Bilingual",22.6,16.95,"596","24 pp.",{"$f":"Table1[[#This Row],['# Books]]*Table1[[#This Row],[QTY]]","v":0},{"$f":"Table1[[#This Row],[QTY]]*Table1[[#This Row],[S&L Price]]","v":0}]
[null,null,178,null,"Underwater World / El mundo submarino",1,"Clownfish / Peces payaso","eBook","978-1-4339-8779-3",2013,"January 2013",null,null,"Author","Ryan Nagelhout",null,null,3,4,"C",null,"Grade K","Grade K - 2","The bright and colorful clownfish lives an exciting life in the coral reef. Through the use of accessible text, presented in both English and standard Latin-American Spanish, readers take an exciting look at the world clownfish call home. A picture glossary helps beginning readers strengthen their vocabulary skills, and vibrant, full-color photographs shows how these stunning animals survive under the sea.","Bilingual",22.6,16.95,"596","24 pp.",{"$f":"Table1[[#This Row],['# Books]]*Table1[[#This Row],[QTY]]","v":0},{"$f":"Table1[[#This Row],[QTY]]*Table1[[#This Row],[S&L Price]]","v":0}]
[null,null,178,null,"Underwater World / El mundo submarino",1,"Sea Stars / Estrellas de mar","Library Bound Book","978-1-4339-8782-3",2013,"January 2013","Library","7.625 X 7.125","Author","Ryan Nagelhout",null,null,3,4,"C",null,"Grade K","Grade K - 2","A sea star is one of the most durable creatures in the world. Through the use of accessible text presented in both English and standard Latin-American Spanish, readers take an exciting look at the wet world these curious creatures call home. A picture glossary helps beginning readers strengthen their vocabulary skills, and vibrant, full-color photographs shows how these stunning animals survive under the waves.","Bilingual",22.6,16.95,"593.9","24 pp.",{"$f":"Table1[[#This Row],['# Books]]*Table1[[#This Row],[QTY]]","v":0},{"$f":"Table1[[#This Row],[QTY]]*Table1[[#This Row],[S&L Price]]","v":0}]
[null,null,178,null,"Underwater World / El mundo submarino",1,"Sea Stars / Estrellas de mar","eBook","978-1-4339-8783-0",2013,"January 2013",null,null,"Author","Ryan Nagelhout",null,null,3,4,"C",null,"Grade K","Grade K - 2","A sea star is one of the most durable creatures in the world. Through the use of accessible text presented in both English and standard Latin-American Spanish, readers take an exciting look at the wet world these curious creatures call home. A picture glossary helps beginning readers strengthen their vocabulary skills, and vibrant, full-color photographs shows how these stunning animals survive under the waves.","Bilingual",22.6,16.95,"593.9","24 pp.",{"$f":"Table1[[#This Row],['# Books]]*Table1[[#This Row],[QTY]]","v":0},{"$f":"Table1[[#This Row],[QTY]]*Table1[[#This Row],[S&L Price]]","v":0}]
[null,null,178,null,"Underwater World / El mundo submarino",1,"Sharks / Tiburones","Library Bound Book","978-1-4339-8784-7",2013,"January 2013","Library","7.625 X 7.125","Author","Ryan Nagelhout",null,null,3,4,"C",null,"Grade K","Grade K - 2","Sharks are famous for their bite, but there’s plenty of variety in these dangerous creatures. Through the use of accessible text presented in both English and standard Latin-American Spanish, readers take an exciting look at the wet world these toothy creatures call home. A picture glossary helps beginning readers strengthen their vocabulary skills, and vibrant, full-color photographs shows how these stunning animals make a home under the waves.","Bilingual",22.6,16.95,"597.3","24 pp.",{"$f":"Table1[[#This Row],['# Books]]*Table1[[#This Row],[QTY]]","v":0},{"$f":"Table1[[#This Row],[QTY]]*Table1[[#This Row],[S&L Price]]","v":0}]
[null,null,178,null,"Underwater World / El mundo submarino",1,"Sharks / Tiburones","eBook","978-1-4339-8785-4",2013,"January 2013",null,null,"Author","Ryan Nagelhout",null,null,3,4,"C",null,"Grade K","Grade K - 2","Sharks are famous for their bite, but there’s plenty of variety in these dangerous creatures. Through the use of accessible text presented in both English and standard Latin-American Spanish, readers take an exciting look at the wet world these toothy creatures call home. A picture glossary helps beginning readers strengthen their vocabulary skills, and vibrant, full-color photographs shows how these stunning animals make a home under the waves.","Bilingual",22.6,16.95,"597.3","24 pp.",{"$f":"Table1[[#This Row],['# Books]]*Table1[[#This Row],[QTY]]","v":0},{"$f":"Table1[[#This Row],[QTY]]*Table1[[#This Row],[S&L Price]]","v":0}]
[null,null,178,null,"Underwater World / El mundo submarino",1,"Turtles / Tortugas","Library Bound Book","978-1-4339-8786-1",2013,"January 2013","Library","7.625 X 7.125","Author","Ryan Nagelhout",null,null,3,4,"C",null,"Grade K","Grade K - 2","The most dangerous swim of a sea turtle’s life is its first, a race from egg to ocean that very few survive. Through the use of accessible text presented in both English and standard Latin-American Spanish, readers take an exciting look at the life cycle of the ocean’s most unique swimmer. A picture glossary helps beginning readers strengthen their vocabulary skills, and vibrant, full-color photographs shows how these animals make a home—both under and above—the waves.","Bilingual",22.6,16.95,"597.92","24 pp.",{"$f":"Table1[[#This Row],['# Books]]*Table1[[#This Row],[QTY]]","v":0},{"$f":"Table1[[#This Row],[QTY]]*Table1[[#This Row],[S&L Price]]","v":0}]
[null,null,178,null,"Underwater World / El mundo submarino",1,"Turtles / Tortugas","eBook","978-1-4339-8787-8",2013,"January 2013",null,null,"Author","Ryan Nagelhout",null,null,3,4,"C",null,"Grade K","Grade K - 2","The most dangerous swim of a sea turtle’s life is its first, a race from egg to ocean that very few survive. Through the use of accessible text presented in both English and standard Latin-American Spanish, readers take an exciting look at the life cycle of the ocean’s most unique swimmer. A picture glossary helps beginning readers strengthen their vocabulary skills, and vibrant, full-color photographs shows how these animals make a home—both under and above—the waves.","Bilingual",22.6,16.95,"597.92","24 pp.",{"$f":"Table1[[#This Row],['# Books]]*Table1[[#This Row],[QTY]]","v":0},{"$f":"Table1[[#This Row],[QTY]]*Table1[[#This Row],[S&L Price]]","v":0}]
[null,null,178,null,"Underwater World / El mundo submarino",1,"Whales / Ballenas","Library Bound Book","978-1-4339-8788-5",2013,"January 2013","Library","7.625 X 7.125","Author","Ryan Nagelhout",null,null,3,4,"C",null,"Grade K","Grade K - 2","Whales are some of the largest creatures on the planet, yet they eat some of the smallest creatures in the ocean. Through the use of accessible text presented in both English and standard Latin-American Spanish, readers take an exciting look at the life cycle of the ocean’s giants. A picture glossary helps beginning readers strengthen their vocabulary skills, and vibrant, full-color photographs shows how these spectacular animals call the ocean home.","Bilingual",22.6,16.95,"599.5","24 pp.",{"$f":"Table1[[#This Row],['# Books]]*Table1[[#This Row],[QTY]]","v":0},{"$f":"Table1[[#This Row],[QTY]]*Table1[[#This Row],[S&L Price]]","v":0}]
[null,null,178,null,"Underwater World / El mundo submarino",1,"Whales / Ballenas","eBook","978-1-4339-8789-2",2013,"January 2013",null,null,"Author","Ryan Nagelhout",null,null,3,4,"C",null,"Grade K","Grade K - 2","Whales are some of the largest creatures on the planet, yet they eat some of the smallest creatures in the ocean. Through the use of accessible text presented in both English and standard Latin-American Spanish, readers take an exciting look at the life cycle of the ocean’s giants. A picture glossary helps beginning readers strengthen their vocabulary skills, and vibrant, full-color photographs shows how these spectacular animals call the ocean home.","Bilingual",22.6,16.95,"599.5","24 pp.",{"$f":"Table1[[#This Row],['# Books]]*Table1[[#This Row],[QTY]]","v":0},{"$f":"Table1[[#This Row],[QTY]]*Table1[[#This Row],[S&L Price]]","v":0}]
[null,null,178,null,"What's the Weather? / ¿Qué tiempo hace?",1,"It's Hailing! / ¡Está granizando!","Library Bound Book","978-1-4339-9462-3",2014,"August 2013","Library","7.625 X 7.125","Author","Alex Appleby",null,null,2,1,"B",null,"Grade K","Grade K - 2","Rain and snow can be fun, but hail can be downright dangerous! Big balls of ice falling from the clouds onto your head means it’s time to get inside. Colorful illustrated characters show early readers what hail is made from, and what to do when the sky gets dark and golf ball-sized hail starts to fall. Presented in both English and standard Latin American Spanish, early readers will explore the sometimes-strange weather in the world around them.   • High-interest topic engages young readers • Strong picture-text correlation aids in comprehension • Reading level supports beginning readers • Picture glossary helps develop vocabulary skills • Comprehendible index guides readers through each book    ","Bilingual",22.6,16.95,"551.57","24 pp.",{"$f":"Table1[[#This Row],['# Books]]*Table1[[#This Row],[QTY]]","v":0},{"$f":"Table1[[#This Row],[QTY]]*Table1[[#This Row],[S&L Price]]","v":0}]
[null,null,178,null,"What's the Weather? / ¿Qué tiempo hace?",1,"It's Hailing! / ¡Está granizando!","eBook","978-1-4339-9463-0",2014,"August 2013",null,null,"Author","Alex Appleby",null,null,2,1,"B",null,"Grade K","Grade K - 2","Rain and snow can be fun, but hail can be downright dangerous! Big balls of ice falling from the clouds onto your head means it’s time to get inside. Colorful illustrated characters show early readers what hail is made from, and what to do when the sky gets dark and golf ball-sized hail starts to fall. Presented in both English and standard Latin American Spanish, early readers will explore the sometimes-strange weather in the world around them.   • High-interest topic engages young readers • Strong picture-text correlation aids in comprehension • Reading level supports beginning readers • Picture glossary helps develop vocabulary skills • Comprehendible index guides readers through each book    ","Bilingual",22.6,16.95,"551.57","24 pp.",{"$f":"Table1[[#This Row],['# Books]]*Table1[[#This Row],[QTY]]","v":0},{"$f":"Table1[[#This Row],[QTY]]*Table1[[#This Row],[S&L Price]]","v":0}]
[null,null,178,null,"What's the Weather? / ¿Qué tiempo hace?",1,"It's Rainy! / ¡Está lloviendo!","Library Bound Book","978-1-4339-9460-9",2014,"August 2013","Library","7.625 X 7.125","Author","Alex Appleby",null,null,3,3,"C",null,"Grade K","Grade K - 2","Dark skies usually mean bad weather is coming. When it’s warm out, that usually means rain! Early readers learn about rainstorms through colorful illustrated characters that splash through puddles and make the most out of a rainy afternoon. This exciting fictional approach to the topic of weather introduces the water cycle, and shows how rainwater makes flowers grow. Easy-to-read text presented in both English and standard Latin American Spanish helps early readers comprehend the sights and sounds of a rainstorm.  • High-interest topic engages young readers • Strong picture-text correlation aids in comprehension • Reading level supports beginning readers • Picture glossary helps develop vocabulary skills • Comprehendible index guides readers through each book  ","Bilingual",22.6,16.95,"551.577","24 pp.",{"$f":"Table1[[#This Row],['# Books]]*Table1[[#This Row],[QTY]]","v":0},{"$f":"Table1[[#This Row],[QTY]]*Table1[[#This Row],[S&L Price]]","v":0}]
[null,null,178,null,"What's the Weather? / ¿Qué tiempo hace?",1,"It's Rainy! / ¡Está lloviendo!","eBook","978-1-4339-9461-6",2014,"August 2013",null,null,"Author","Alex Appleby",null,null,3,3,"C",null,"Grade K","Grade K - 2","Dark skies usually mean bad weather is coming. When it’s warm out, that usually means rain! Early readers learn about rainstorms through colorful illustrated characters that splash through puddles and make the most out of a rainy afternoon. This exciting fictional approach to the topic of weather introduces the water cycle, and shows how rainwater makes flowers grow. Easy-to-read text presented in both English and standard Latin American Spanish helps early readers comprehend the sights and sounds of a rainstorm.  • High-interest topic engages young readers • Strong picture-text correlation aids in comprehension • Reading level supports beginning readers • Picture glossary helps develop vocabulary skills • Comprehendible index guides readers through each book  ","Bilingual",22.6,16.95,"551.577","24 pp.",{"$f":"Table1[[#This Row],['# Books]]*Table1[[#This Row],[QTY]]","v":0},{"$f":"Table1[[#This Row],[QTY]]*Table1[[#This Row],[S&L Price]]","v":0}]
[null,null,178,null,"What's the Weather? / ¿Qué tiempo hace?",1,"It's Snowing! / ¡Está nevando!","Library Bound Book","978-1-4339-9458-6",2014,"August 2013","Library","7.625 X 7.125","Author","Alex Appleby",null,null,3,4,null,null,"Grade K","Grade K - 2","What’s that fluffy stuff coming from the clouds? It’s snow! The first snowfall is always an exciting time. In this book, a colorful illustrated character bundles up to battle the cold weather before shoveling the fresh snow. With easy-to-read text presented in both English and standard Latin American Spanish, early readers will watch snow become a snowman with the help of some hard work and a big hat! The experience of a winter snowstorm is highlighted by bright illustrations of a child experiencing the weather patterns just outside his home.  • High-interest topic engages young readers • Strong picture-text correlation aids in comprehension • Reading level supports beginning readers • Picture glossary helps develop vocabulary skills • Comprehendible index guides readers through each book  ","Bilingual",22.6,16.95,"551.5784","24 pp.",{"$f":"Table1[[#This Row],['# Books]]*Table1[[#This Row],[QTY]]","v":0},{"$f":"Table1[[#This Row],[QTY]]*Table1[[#This Row],[S&L Price]]","v":0}]
[null,null,178,null,"What's the Weather? / ¿Qué tiempo hace?",1,"It's Snowing! / ¡Está nevando!","eBook","978-1-4339-9459-3",2014,"August 2013",null,null,"Author","Alex Appleby",null,null,3,4,null,null,"Grade K","Grade K - 2","What’s that fluffy stuff coming from the clouds? It’s snow! The first snowfall is always an exciting time. In this book, a colorful illustrated character bundles up to battle the cold weather before shoveling the fresh snow. With easy-to-read text presented in both English and standard Latin American Spanish, early readers will watch snow become a snowman with the help of some hard work and a big hat! The experience of a winter snowstorm is highlighted by bright illustrations of a child experiencing the weather patterns just outside his home.  • High-interest topic engages young readers • Strong picture-text correlation aids in comprehension • Reading level supports beginning readers • Picture glossary helps develop vocabulary skills • Comprehendible index guides readers through each book  ","Bilingual",22.6,16.95,"551.5784","24 pp.",{"$f":"Table1[[#This Row],['# Books]]*Table1[[#This Row],[QTY]]","v":0},{"$f":"Table1[[#This Row],[QTY]]*Table1[[#This Row],[S&L Price]]","v":0}]
[null,null,178,null,"What's the Weather? / ¿Qué tiempo hace?",1,"It's Stormy! / ¡Es una tormenta!","Library Bound Book","978-1-4339-9456-2",2014,"August 2013","Library","7.625 X 7.125","Author","Alex Appleby",null,null,3,3,"C",null,"Grade K","Grade K - 2","Some days it’s just not safe to go outside! Stormy weather is best enjoyed indoors, where we can watch the lightning, hear the thunder, and not get wet. Colorful illustrations and accessible text presented in English and standard Latin-American Spanish introduces early readers to the basics of stormy weather, showing a big storm in action. Readers learn that when dark clouds appear, it’s time to go inside!   • High-interest topic engages young readers • Strong picture-text correlation aids in comprehension • Reading level supports beginning readers • Picture glossary helps develop vocabulary skills • Comprehendible index guides readers through each book  ","Bilingual",22.6,16.95,"551.55","24 pp.",{"$f":"Table1[[#This Row],['# Books]]*Table1[[#This Row],[QTY]]","v":0},{"$f":"Table1[[#This Row],[QTY]]*Table1[[#This Row],[S&L Price]]","v":0}]
[null,null,178,null,"What's the Weather? / ¿Qué tiempo hace?",1,"It's Stormy! / ¡Es una tormenta!","eBook","978-1-4339-9457-9",2014,"August 2013",null,null,"Author","Alex Appleby",null,null,3,3,"C",null,"Grade K","Grade K - 2","Some days it’s just not safe to go outside! Stormy weather is best enjoyed indoors, where we can watch the lightning, hear the thunder, and not get wet. Colorful illustrations and accessible text presented in English and standard Latin-American Spanish introduces early readers to the basics of stormy weather, showing a big storm in action. Readers learn that when dark clouds appear, it’s time to go inside!   • High-interest topic engages young readers • Strong picture-text correlation aids in comprehension • Reading level supports beginning readers • Picture glossary helps develop vocabulary skills • Comprehendible index guides readers through each book  ","Bilingual",22.6,16.95,"551.55","24 pp.",{"$f":"Table1[[#This Row],['# Books]]*Table1[[#This Row],[QTY]]","v":0},{"$f":"Table1[[#This Row],[QTY]]*Table1[[#This Row],[S&L Price]]","v":0}]
[null,null,178,null,"What's the Weather? / ¿Qué tiempo hace?",1,"It's Sunny! / ¡Está soleado!","Library Bound Book","978-1-4339-9454-8",2014,"August 2013","Library","7.625 X 7.125","Author","Alex Appleby",null,null,3,4,"C",null,"Grade K","Grade K - 2","When the sun is out, it’s time to play outside! Sunny days are perfect for early readers to explore the world and weather outside their windows. In this book, bright, illustrated characters take a trip to the beach to play with crabs, make sand castles, and even search for shells! A picture glossary reinforces new vocabulary, and easy-to-read text presented in both English and standard Latin American Spanish offers readers the experience of a day of fun under the sun.  • High-interest topic engages young readers • Strong picture-text correlation aids in comprehension • Reading level supports beginning readers • Picture glossary helps develop vocabulary skills • Comprehendible index guides readers through each book  ","Bilingual",22.6,16.95,"551.5271","24 pp.",{"$f":"Table1[[#This Row],['# Books]]*Table1[[#This Row],[QTY]]","v":0},{"$f":"Table1[[#This Row],[QTY]]*Table1[[#This Row],[S&L Price]]","v":0}]
[null,null,178,null,"What's the Weather? / ¿Qué tiempo hace?",1,"It's Sunny! / ¡Está soleado!","eBook","978-1-4339-9455-5",2014,"August 2013",null,null,"Author","Alex Appleby",null,null,3,4,"C",null,"Grade K","Grade K - 2","When the sun is out, it’s time to play outside! Sunny days are perfect for early readers to explore the world and weather outside their windows. In this book, bright, illustrated characters take a trip to the beach to play with crabs, make sand castles, and even search for shells! A picture glossary reinforces new vocabulary, and easy-to-read text presented in both English and standard Latin American Spanish offers readers the experience of a day of fun under the sun.  • High-interest topic engages young readers • Strong picture-text correlation aids in comprehension • Reading level supports beginning readers • Picture glossary helps develop vocabulary skills • Comprehendible index guides readers through each book  ","Bilingual",22.6,16.95,"551.5271","24 pp.",{"$f":"Table1[[#This Row],['# Books]]*Table1[[#This Row],[QTY]]","v":0},{"$f":"Table1[[#This Row],[QTY]]*Table1[[#This Row],[S&L Price]]","v":0}]
[null,null,178,null,"What's the Weather? / ¿Qué tiempo hace?",1,"It's Windy! / ¡Está ventoso!","Library Bound Book","978-1-4339-9452-4",2014,"August 2013","Library","7.625 X 7.125","Author","Alex Appleby",null,null,3,4,"C",null,"Grade K","Grade K - 2","Wind may be invisible, but it can be a big part of the weather. Wind gusts can knock down trees and even blow the hat off your head. Through the use of colorful illustrations and easy-to-read text presented in both English and standard Latin American Spanish, early readers will explore what happens when the wind picks up in their neighborhood. The sights and sounds of a windstorm are highlighted by illustrations of a young girl experiencing a windy day just outside her home.  • High-interest topic engages young readers • Strong picture-text correlation aids in comprehension • Reading level supports beginning readers • Picture glossary helps develop vocabulary skills • Comprehendible index guides readers through each book  ","Bilingual",22.6,16.95,"551.518","24 pp.",{"$f":"Table1[[#This Row],['# Books]]*Table1[[#This Row],[QTY]]","v":0},{"$f":"Table1[[#This Row],[QTY]]*Table1[[#This Row],[S&L Price]]","v":0}]
[null,null,178,null,"What's the Weather? / ¿Qué tiempo hace?",1,"It's Windy! / ¡Está ventoso!","eBook","978-1-4339-9453-1",2014,"August 2013",null,null,"Author","Alex Appleby",null,null,3,4,"C",null,"Grade K","Grade K - 2","Wind may be invisible, but it can be a big part of the weather. Wind gusts can knock down trees and even blow the hat off your head. Through the use of colorful illustrations and easy-to-read text presented in both English and standard Latin American Spanish, early readers will explore what happens when the wind picks up in their neighborhood. The sights and sounds of a windstorm are highlighted by illustrations of a young girl experiencing a windy day just outside her home.  • High-interest topic engages young readers • Strong picture-text correlation aids in comprehension • Reading level supports beginning readers • Picture glossary helps develop vocabulary skills • Comprehendible index guides readers through each book  ","Bilingual",22.6,16.95,"551.518","24 pp.",{"$f":"Table1[[#This Row],['# Books]]*Table1[[#This Row],[QTY]]","v":0},{"$f":"Table1[[#This Row],[QTY]]*Table1[[#This Row],[S&L Price]]","v":0}]
[null,null,178,null,"Animales pequeñitos / Itty Bitty Animals",1,"Colibríes pequeñitos / Itty Bitty Hummingbirds","Library Bound Book","978-1-4339-9909-3",2014,"January 2014","Library","7.625 X 7.125","Author","Peter Griff",null,null,3,null,"C",null,"Grade K - 2","Grade K","Hummingbirds are some of the smallest and most interesting animals on the planet. With more than 300 kinds floating and fluttering, there’s lots to learn about these tiny birds. Learn what causes them to hum and what they like to eat. The smallest birds on earth are full of fun facts, and an awesome picture glossary will help young readers learn concepts and definitions with this great book through accessible text presented in both English and standard Latin-American Spanish.    • Strong picture-text correlation aids in comprehension • Reading level supports beginning readers • Picture glossary helps develop vocabulary skills • Comprehendible index guides readers through each book  ","Bilingual",22.6,16.95,"598.764","24 pp.",{"$f":"Table1[[#This Row],['# Books]]*Table1[[#This Row],[QTY]]","v":0},{"$f":"Table1[[#This Row],[QTY]]*Table1[[#This Row],[S&L Price]]","v":0}]
[null,null,178,null,"Animales pequeñitos / Itty Bitty Animals",1,"Colibríes pequeñitos / Itty Bitty Hummingbirds","eBook","978-1-4339-9910-9",2014,"January 2014",null,null,"Author","Peter Griff",null,null,3,null,"C",null,"Grade K - 2","Grade K","Hummingbirds are some of the smallest and most interesting animals on the planet. With more than 300 kinds floating and fluttering, there’s lots to learn about these tiny birds. Learn what causes them to hum and what they like to eat. The smallest birds on earth are full of fun facts, and an awesome picture glossary will help young readers learn concepts and definitions with this great book through accessible text presented in both English and standard Latin-American Spanish.    • Strong picture-text correlation aids in comprehension • Reading level supports beginning readers • Picture glossary helps develop vocabulary skills • Comprehendible index guides readers through each book  ","Bilingual",22.6,16.95,"598.764","24 pp.",{"$f":"Table1[[#This Row],['# Books]]*Table1[[#This Row],[QTY]]","v":0},{"$f":"Table1[[#This Row],[QTY]]*Table1[[#This Row],[S&L Price]]","v":0}]
[null,null,178,null,"Animales pequeñitos / Itty Bitty Animals",1,"Guppies pequeñitas / Itty Bitty Guppies","Library Bound Book","978-1-4339-9907-9",2014,"January 2014","Library","7.625 X 7.125","Author","Alex Lumpy",null,null,null,null,"C",null,"Grade K - 2","Grade K","Guppies are tiny little fish, but they have a big story to tell. These colorful creatures were discovered in 1866 and come in many shapes and sizes. Some have even become pets for people all over the world. Through accessible text presented in both English and standard Latin-American Spanish, this exciting book is filled with scientific facts and an awesome picture galler to help readers learn more about the tiny world of guppies.    • Strong picture-text correlation aids in comprehension • Reading level supports beginning readers • Picture glossary helps develop vocabulary skills • Comprehendible index guides readers through each book  ","Bilingual",22.6,16.95,"639.3757","24 pp.",{"$f":"Table1[[#This Row],['# Books]]*Table1[[#This Row],[QTY]]","v":0},{"$f":"Table1[[#This Row],[QTY]]*Table1[[#This Row],[S&L Price]]","v":0}]
[null,null,178,null,"Animales pequeñitos / Itty Bitty Animals",1,"Guppies pequeñitas / Itty Bitty Guppies","eBook","978-1-4339-9908-6",2014,"January 2014",null,null,"Author","Alex Lumpy",null,null,null,null,"C",null,"Grade K - 2","Grade K","Guppies are tiny little fish, but they have a big story to tell. These colorful creatures were discovered in 1866 and come in many shapes and sizes. Some have even become pets for people all over the world. Through accessible text presented in both English and standard Latin-American Spanish, this exciting book is filled with scientific facts and an awesome picture galler to help readers learn more about the tiny world of guppies.    • Strong picture-text correlation aids in comprehension • Reading level supports beginning readers • Picture glossary helps develop vocabulary skills • Comprehendible index guides readers through each book  ","Bilingual",22.6,16.95,"639.3757","24 pp.",{"$f":"Table1[[#This Row],['# Books]]*Table1[[#This Row],[QTY]]","v":0},{"$f":"Table1[[#This Row],[QTY]]*Table1[[#This Row],[S&L Price]]","v":0}]
[null,null,178,null,"Animales pequeñitos / Itty Bitty Animals",1,"Hormiguitas pequeñitas / Itty Bitty Ants","Library Bound Book","978-1-4339-9901-7",2014,"January 2014","Library","7.625 X 7.125","Author","Jasper Baer",null,null,3,null,"C",null,"Grade K - 2","Grade K","Ants are some of the most interesting—and bountiful—animals on the planet. With thousands of different kinds, there’s plenty to learn about these little insects. Learn how army ants work together to find food, how fire ants can float on water, and how these animals group together to survive in this engaging book for young readers. With great science content and a fun picture gallery presented in both English and standard Latin-American Spanish, early readers will love learning about the tiny world below their feet.    • Strong picture-text correlation aids in comprehension • Reading level supports beginning readers • Picture glossary helps develop vocabulary skills • Comprehendible index guides readers through each book  ","Bilingual",22.6,16.95,"595.796","24 pp.",{"$f":"Table1[[#This Row],['# Books]]*Table1[[#This Row],[QTY]]","v":0},{"$f":"Table1[[#This Row],[QTY]]*Table1[[#This Row],[S&L Price]]","v":0}]
[null,null,178,null,"Animales pequeñitos / Itty Bitty Animals",1,"Hormiguitas pequeñitas / Itty Bitty Ants","eBook","978-1-4339-9903-1",2014,"January 2014",null,null,"Author","Jasper Baer",null,null,3,null,"C",null,"Grade K - 2","Grade K","Ants are some of the most interesting—and bountiful—animals on the planet. With thousands of different kinds, there’s plenty to learn about these little insects. Learn how army ants work together to find food, how fire ants can float on water, and how these animals group together to survive in this engaging book for young readers. With great science content and a fun picture gallery presented in both English and standard Latin-American Spanish, early readers will love learning about the tiny world below their feet.    • Strong picture-text correlation aids in comprehension • Reading level supports beginning readers • Picture glossary helps develop vocabulary skills • Comprehendible index guides readers through each book  ","Bilingual",22.6,16.95,"595.796","24 pp.",{"$f":"Table1[[#This Row],['# Books]]*Table1[[#This Row],[QTY]]","v":0},{"$f":"Table1[[#This Row],[QTY]]*Table1[[#This Row],[S&L Price]]","v":0}]
[null,null,178,null,"Animales pequeñitos / Itty Bitty Animals",1,"Lagartijas pequeñitas / Itty Bitty Geckos","Library Bound Book","978-1-4339-9905-5",2014,"January 2014","Library","7.625 X 7.125","Author","T. H. Baer",null,null,3,null,"C",null,"Grade K - 2","Grade K","There are thousands of kinds of itty bitty geckos, and each one of them has a story behind their lives. In this awesome early concepts book presented in both English and standard Latin-American Spanish, learn how geckos stay safe thanks to their bright colors and use their amazing feet to climb all over the place. What happens when a gecko loses its tail? What if it gets something in its eye? This exciting book filled with scientific facts and a fun picture glossary has all the answers, and more!    • Strong picture-text correlation aids in comprehension • Reading level supports beginning readers • Picture glossary helps develop vocabulary skills • Comprehendible index guides readers through each book  ","Bilingual",22.6,16.95,"597.952","24 pp.",{"$f":"Table1[[#This Row],['# Books]]*Table1[[#This Row],[QTY]]","v":0},{"$f":"Table1[[#This Row],[QTY]]*Table1[[#This Row],[S&L Price]]","v":0}]
[null,null,178,null,"Animales pequeñitos / Itty Bitty Animals",1,"Lagartijas pequeñitas / Itty Bitty Geckos","eBook","978-1-4339-9906-2",2014,"January 2014",null,null,"Author","T. H. Baer",null,null,3,null,"C",null,"Grade K - 2","Grade K","There are thousands of kinds of itty bitty geckos, and each one of them has a story behind their lives. In this awesome early concepts book presented in both English and standard Latin-American Spanish, learn how geckos stay safe thanks to their bright colors and use their amazing feet to climb all over the place. What happens when a gecko loses its tail? What if it gets something in its eye? This exciting book filled with scientific facts and a fun picture glossary has all the answers, and more!    • Strong picture-text correlation aids in comprehension • Reading level supports beginning readers • Picture glossary helps develop vocabulary skills • Comprehendible index guides readers through each book  ","Bilingual",22.6,16.95,"597.952","24 pp.",{"$f":"Table1[[#This Row],['# Books]]*Table1[[#This Row],[QTY]]","v":0},{"$f":"Table1[[#This Row],[QTY]]*Table1[[#This Row],[S&L Price]]","v":0}]
[null,null,178,null,"Animales pequeñitos / Itty Bitty Animals",1,"Ranitas pequeñitas / Itty Bitty Tree Frogs","Library Bound Book","978-1-4339-9913-0",2014,"January 2014","Library","7.625 X 7.125","Author","Gunner Quick",null,null,3,null,"C",null,"Grade K - 2","Grade K","Tree frogs are some of the smallest—and most dangerous—animals in a rain forest.Through accessible text presented in both English and standard Latin-American Spanish, learn more about these bright creatures and how they use their long legs to leap all over the place. Toxic poison dart frogs are dangerous, but many of these itty bitty creatures are kept as pets and admired for their sticky feet and ability to change colors!    • Strong picture-text correlation aids in comprehension • Reading level supports beginning readers • Picture glossary helps develop vocabulary skills • Comprehendible index guides readers through each book  ","Bilingual",22.6,16.95,"597.878","24 pp.",{"$f":"Table1[[#This Row],['# Books]]*Table1[[#This Row],[QTY]]","v":0},{"$f":"Table1[[#This Row],[QTY]]*Table1[[#This Row],[S&L Price]]","v":0}]
[null,null,178,null,"Animales pequeñitos / Itty Bitty Animals",1,"Ranitas pequeñitas / Itty Bitty Tree Frogs","eBook","978-1-4339-9914-7",2014,"January 2014",null,null,"Author","Gunner Quick",null,null,3,null,"C",null,"Grade K - 2","Grade K","Tree frogs are some of the smallest—and most dangerous—animals in a rain forest.Through accessible text presented in both English and standard Latin-American Spanish, learn more about these bright creatures and how they use their long legs to leap all over the place. Toxic poison dart frogs are dangerous, but many of these itty bitty creatures are kept as pets and admired for their sticky feet and ability to change colors!    • Strong picture-text correlation aids in comprehension • Reading level supports beginning readers • Picture glossary helps develop vocabulary skills • Comprehendible index guides readers through each book  ","Bilingual",22.6,16.95,"597.878","24 pp.",{"$f":"Table1[[#This Row],['# Books]]*Table1[[#This Row],[QTY]]","v":0},{"$f":"Table1[[#This Row],[QTY]]*Table1[[#This Row],[S&L Price]]","v":0}]
[null,null,178,null,"Animales pequeñitos / Itty Bitty Animals",1,"Ratoncitos pequeñitos / Itty Bitty Mice","Library Bound Book","978-1-4339-9912-3",2014,"January 2014","Library","7.625 X 7.125","Author","Jay Moose",null,null,3,null,"C",null,"Grade K - 2","Grade K","Some people are afraid of mice, but these tiny critters are full of interesting facts. Through both English and standard Latin-American Spanish, learn how little mice are taken care of and how some of these itty bitty animals are even kept as pets or used to run tests. From tiny pink pups to wild mice invading your home, these animals will help readers learn definitions and early concepts with the use of full-color pictures and a great picture glossary.    • Strong picture-text correlation aids in comprehension • Reading level supports beginning readers • Picture glossary helps develop vocabulary skills • Comprehendible index guides readers through each book  ","Bilingual",22.6,16.95,"599.353","24 pp.",{"$f":"Table1[[#This Row],['# Books]]*Table1[[#This Row],[QTY]]","v":0},{"$f":"Table1[[#This Row],[QTY]]*Table1[[#This Row],[S&L Price]]","v":0}]
[null,null,178,null,"Animales pequeñitos / Itty Bitty Animals",1,"Ratoncitos pequeñitos / Itty Bitty Mice","eBook","978-1-4339-9911-6",2014,"January 2014",null,null,"Author","Jay Moose",null,null,3,null,"C",null,"Grade K - 2","Grade K","Some people are afraid of mice, but these tiny critters are full of interesting facts. Through both English and standard Latin-American Spanish, learn how little mice are taken care of and how some of these itty bitty animals are even kept as pets or used to run tests. From tiny pink pups to wild mice invading your home, these animals will help readers learn definitions and early concepts with the use of full-color pictures and a great picture glossary.    • Strong picture-text correlation aids in comprehension • Reading level supports beginning readers • Picture glossary helps develop vocabulary skills • Comprehendible index guides readers through each book  ","Bilingual",22.6,16.95,"599.353","24 pp.",{"$f":"Table1[[#This Row],['# Books]]*Table1[[#This Row],[QTY]]","v":0},{"$f":"Table1[[#This Row],[QTY]]*Table1[[#This Row],[S&L Price]]","v":0}]
[null,null,178,null,"Animal Groups / Grupos de animales",1,"A Kangaroo Mob / Una manada de canguros","Library Bound Book","978-1-4339-8804-2",2013,"January 2013","Library","7.000 X 7.000","Author","Juliet Burke",null,null,16,15,"I",null,"Grade 1 - 2","Grade 1 - 3","Bilingual readers discover engaging, fun, and fascinating facts about kangaroos. Kangaroos are social animals that live in groups called mobs. Except for an occasional boxing match, kangaroos live happily with each other. The vibrant photographs in this book show different species of kangaroos grazing, resting in the shade, and raising their young. Accessible text—with translation of English into standard Latin-American Spanish—and a detailed graphic organizer guide readers as they learn how kangaroos grow up and what life is like living in a mob, in Australia.","Bilingual",22.6,16.95,"599.2","24 pp.",{"$f":"Table1[[#This Row],['# Books]]*Table1[[#This Row],[QTY]]","v":0},{"$f":"Table1[[#This Row],[QTY]]*Table1[[#This Row],[S&L Price]]","v":0}]
[null,null,178,null,"Animal Groups / Grupos de animales",1,"A Kangaroo Mob / Una manada de canguros","eBook","978-1-4339-8805-9",2013,"January 2013",null,null,"Author","Juliet Burke",null,null,16,15,"I",null,"Grade 1 - 2","Grade 1 - 3","Bilingual readers discover engaging, fun, and fascinating facts about kangaroos. Kangaroos are social animals that live in groups called mobs. Except for an occasional boxing match, kangaroos live happily with each other. The vibrant photographs in this book show different species of kangaroos grazing, resting in the shade, and raising their young. Accessible text—with translation of English into standard Latin-American Spanish—and a detailed graphic organizer guide readers as they learn how kangaroos grow up and what life is like living in a mob, in Australia.","Bilingual",22.6,16.95,"599.2","24 pp.",{"$f":"Table1[[#This Row],['# Books]]*Table1[[#This Row],[QTY]]","v":0},{"$f":"Table1[[#This Row],[QTY]]*Table1[[#This Row],[S&L Price]]","v":0}]
[null,null,178,null,"Animal Groups / Grupos de animales",1,"A Murder of Crows / Una bandada de cuervos","Library Bound Book","978-1-4339-8806-6",2013,"January 2013","Library","7.000 X 7.000","Author","Greg Roza",null,null,18,17,"J",null,"Grade 1 - 2","Grade 1 - 3","English language learners find out what life is like for a murder of crows through the help of bilingual text and eye-catching photographs. Crows are some of the smartest animals on the planet. They can remember people’s faces and warn each other of danger. Some crows even know how to use simple tools. These fascinating facts and more are waiting to be discovered by readers. A useful graphic organizer provides additional information about these amazing animals.","Bilingual",22.6,16.95,"598.8","24 pp.",{"$f":"Table1[[#This Row],['# Books]]*Table1[[#This Row],[QTY]]","v":0},{"$f":"Table1[[#This Row],[QTY]]*Table1[[#This Row],[S&L Price]]","v":0}]
[null,null,178,null,"Animal Groups / Grupos de animales",1,"A Murder of Crows / Una bandada de cuervos","eBook","978-1-4339-8807-3",2013,"January 2013",null,null,"Author","Greg Roza",null,null,18,17,"J",null,"Grade 1 - 2","Grade 1 - 3","English language learners find out what life is like for a murder of crows through the help of bilingual text and eye-catching photographs. Crows are some of the smartest animals on the planet. They can remember people’s faces and warn each other of danger. Some crows even know how to use simple tools. These fascinating facts and more are waiting to be discovered by readers. A useful graphic organizer provides additional information about these amazing animals.","Bilingual",22.6,16.95,"598.8","24 pp.",{"$f":"Table1[[#This Row],['# Books]]*Table1[[#This Row],[QTY]]","v":0},{"$f":"Table1[[#This Row],[QTY]]*Table1[[#This Row],[S&L Price]]","v":0}]
[null,null,178,null,"Animal Groups / Grupos de animales",1,"A Penguin Colony / Una colonia de Pingüinos","Library Bound Book","978-1-4339-8808-0",2013,"January 2013","Library","7.000 X 7.000","Author","Autumn Leigh",null,null,16,15,"I",null,"Grade 1 - 2","Grade 1 - 3","Life in the Southern Hemisphere is bitterly cold for most penguins, but they don’t seem to mind. Most penguins live in large colonies on the coast of Antarctica or on nearby islands. English language learners explore penguin colonies for themselves, learning fun facts about these beautiful birds with the help of bilingual text. Readers learn how penguin families work together to feed their young and keep them warm. A helpful graphic organizer aids in reader understanding. Readers will enjoy detailed images of penguin species at home in the Antarctic with every turn of the page.","Bilingual",22.6,16.95,"598.47","24 pp.",{"$f":"Table1[[#This Row],['# Books]]*Table1[[#This Row],[QTY]]","v":0},{"$f":"Table1[[#This Row],[QTY]]*Table1[[#This Row],[S&L Price]]","v":0}]
[null,null,178,null,"Animal Groups / Grupos de animales",1,"A Penguin Colony / Una colonia de Pingüinos","eBook","978-1-4339-8809-7",2013,"January 2013",null,null,"Author","Autumn Leigh",null,null,16,15,"I",null,"Grade 1 - 2","Grade 1 - 3","Life in the Southern Hemisphere is bitterly cold for most penguins, but they don’t seem to mind. Most penguins live in large colonies on the coast of Antarctica or on nearby islands. English language learners explore penguin colonies for themselves, learning fun facts about these beautiful birds with the help of bilingual text. Readers learn how penguin families work together to feed their young and keep them warm. A helpful graphic organizer aids in reader understanding. Readers will enjoy detailed images of penguin species at home in the Antarctic with every turn of the page.","Bilingual",22.6,16.95,"598.47","24 pp.",{"$f":"Table1[[#This Row],['# Books]]*Table1[[#This Row],[QTY]]","v":0},{"$f":"Table1[[#This Row],[QTY]]*Table1[[#This Row],[S&L Price]]","v":0}]
[null,null,178,null,"Animal Groups / Grupos de animales",1,"A Pod of Dolphins / Una manada de delfines","Library Bound Book","978-1-4339-8810-3",2013,"January 2013","Library","7.000 X 7.000","Author","Matthew Fenner",null,null,16,15,"I",null,"Grade 1 - 2","Grade 1 - 3","Dolphins are one of Earth’s smartest and friendliest wild animals. They live together in groups called pods, which can include just two dolphins or hundreds of them. This bilingual narrative, in English and standard Latin-American Spanish, introduces what life in a pod is like through fun facts. Dolphins form friendships that last for a lifetime, and readers see bright photographs of dolphins in the water among their friends. Accessible text, colorful photographs, and an eye-catching graphic organizer guide readers as they independently explore exciting information about these popular animals.","Bilingual",22.6,16.95,"599.53","24 pp.",{"$f":"Table1[[#This Row],['# Books]]*Table1[[#This Row],[QTY]]","v":0},{"$f":"Table1[[#This Row],[QTY]]*Table1[[#This Row],[S&L Price]]","v":0}]
[null,null,178,null,"Animal Groups / Grupos de animales",1,"A Pod of Dolphins / Una manada de delfines","eBook","978-1-4339-8811-0",2013,"January 2013",null,null,"Author","Matthew Fenner",null,null,16,15,"I",null,"Grade 1 - 2","Grade 1 - 3","Dolphins are one of Earth’s smartest and friendliest wild animals. They live together in groups called pods, which can include just two dolphins or hundreds of them. This bilingual narrative, in English and standard Latin-American Spanish, introduces what life in a pod is like through fun facts. Dolphins form friendships that last for a lifetime, and readers see bright photographs of dolphins in the water among their friends. Accessible text, colorful photographs, and an eye-catching graphic organizer guide readers as they independently explore exciting information about these popular animals.","Bilingual",22.6,16.95,"599.53","24 pp.",{"$f":"Table1[[#This Row],['# Books]]*Table1[[#This Row],[QTY]]","v":0},{"$f":"Table1[[#This Row],[QTY]]*Table1[[#This Row],[S&L Price]]","v":0}]
[null,null,178,null,"Animal Groups / Grupos de animales",1,"A Prickle of Porcupines / Una manada de puercoespines","Library Bound Book","978-1-4339-8812-7",2013,"January 2013","Library","7.000 X 7.000","Author","Lincoln James",null,null,18,17,"J",null,"Grade 1 - 2","Grade 1 - 3","Porcupines are brown, prickly, and climb trees. English language learners explore life in a group of porcupines inside the pages of this educational and enjoyable book. When a group of porcupines gets together, they’re called a prickle. Porcupines often have a bad reputation as dangerous creatures, but they usually just want to be left alone. Thanks to numerous eye-catching photographs, readers get closer to porcupines than ever before. They also learn fascinating facts about porcupines through bilingual text and a helpful graphic organizer. Excellent Spanish translations provide engaging support for bilingual learners.","Bilingual",22.6,16.95,"599.35","24 pp.",{"$f":"Table1[[#This Row],['# Books]]*Table1[[#This Row],[QTY]]","v":0},{"$f":"Table1[[#This Row],[QTY]]*Table1[[#This Row],[S&L Price]]","v":0}]
[null,null,178,null,"Animal Groups / Grupos de animales",1,"A Prickle of Porcupines / Una manada de puercoespines","eBook","978-1-4339-8813-4",2013,"January 2013",null,null,"Author","Lincoln James",null,null,18,17,"J",null,"Grade 1 - 2","Grade 1 - 3","Porcupines are brown, prickly, and climb trees. English language learners explore life in a group of porcupines inside the pages of this educational and enjoyable book. When a group of porcupines gets together, they’re called a prickle. Porcupines often have a bad reputation as dangerous creatures, but they usually just want to be left alone. Thanks to numerous eye-catching photographs, readers get closer to porcupines than ever before. They also learn fascinating facts about porcupines through bilingual text and a helpful graphic organizer. Excellent Spanish translations provide engaging support for bilingual learners.","Bilingual",22.6,16.95,"599.35","24 pp.",{"$f":"Table1[[#This Row],['# Books]]*Table1[[#This Row],[QTY]]","v":0},{"$f":"Table1[[#This Row],[QTY]]*Table1[[#This Row],[S&L Price]]","v":0}]
[null,null,178,null,"Famous Lives / Vidas extraordinarias",1,"The Life of Abraham Lincoln / La vida de Abraham Lincoln","Library Bound Book","978-1-4339-6651-4",2012,"January 2012","Library","7.000 X 7.000","Author","Maria Nelson",null,null,20,20,"G",null,"Grade 1 - 2","Grade 1 - 4","Many consider Abraham Lincoln to be the greatest US president This book explores Lincoln’s early life, self-taught education, law career, and influential presidency. Through simple language translated into Latin-American Spanish, beginning readers will learn about the Civil War and Lincoln’s inspiring leadership. Historical images and a helpful timeline will enhance English language learners’ introduction to Lincoln’s extraordinary achievements and connect them to an important era in American history.","Bilingual",22.6,16.95,"973.7092","24 pp.",{"$f":"Table1[[#This Row],['# Books]]*Table1[[#This Row],[QTY]]","v":0},{"$f":"Table1[[#This Row],[QTY]]*Table1[[#This Row],[S&L Price]]","v":0}]
[null,null,178,null,"Famous Lives / Vidas extraordinarias",1,"The Life of Abraham Lincoln / La vida de Abraham Lincoln","eBook","978-1-4339-6652-1",2012,"January 2012",null,null,"Author","Maria Nelson",null,null,20,20,"G",null,"Grade 1 - 2","Grade 1 - 4","Many consider Abraham Lincoln to be the greatest US president This book explores Lincoln’s early life, self-taught education, law career, and influential presidency. Through simple language translated into Latin-American Spanish, beginning readers will learn about the Civil War and Lincoln’s inspiring leadership. Historical images and a helpful timeline will enhance English language learners’ introduction to Lincoln’s extraordinary achievements and connect them to an important era in American history.","Bilingual",22.6,16.95,"973.7092","24 pp.",{"$f":"Table1[[#This Row],['# Books]]*Table1[[#This Row],[QTY]]","v":0},{"$f":"Table1[[#This Row],[QTY]]*Table1[[#This Row],[S&L Price]]","v":0}]
[null,null,178,null,"Famous Lives / Vidas extraordinarias",1,"The Life of Ben Franklin / La vida de Benjamín Franklin","Library Bound Book","978-1-4339-6653-8",2012,"January 2012","Library","7.000 X 7.000","Author","Maria Nelson",null,null,20,20,"H",null,"Grade 1 - 2","Grade 1 - 4","Ben Franklin greatly influenced all Americans with his work as a diplomat, scientist, and inventor. He signed both the Declaration of Independence and the US Constitution. In this book, interesting biographical information translated into Latin-American Spanish will introduce English language learners to one of the most famous Founding Fathers. Fascinating images of Franklin's life and a helpful timeline of key events will connect young historians to his life and work.","Bilingual",22.6,16.95,"973.3092","24 pp.",{"$f":"Table1[[#This Row],['# Books]]*Table1[[#This Row],[QTY]]","v":0},{"$f":"Table1[[#This Row],[QTY]]*Table1[[#This Row],[S&L Price]]","v":0}]
[null,null,178,null,"Famous Lives / Vidas extraordinarias",1,"The Life of Ben Franklin / La vida de Benjamín Franklin","eBook","978-1-4339-6654-5",2012,"January 2012",null,null,"Author","Maria Nelson",null,null,20,20,"H",null,"Grade 1 - 2","Grade 1 - 4","Ben Franklin greatly influenced all Americans with his work as a diplomat, scientist, and inventor. He signed both the Declaration of Independence and the US Constitution. In this book, interesting biographical information translated into Latin-American Spanish will introduce English language learners to one of the most famous Founding Fathers. Fascinating images of Franklin's life and a helpful timeline of key events will connect young historians to his life and work.","Bilingual",22.6,16.95,"973.3092","24 pp.",{"$f":"Table1[[#This Row],['# Books]]*Table1[[#This Row],[QTY]]","v":0},{"$f":"Table1[[#This Row],[QTY]]*Table1[[#This Row],[S&L Price]]","v":0}]
[null,null,178,null,"Famous Lives / Vidas extraordinarias",1,"The Life of George Washington / La vida de George Washington","Library Bound Book","978-1-4339-6655-2",2012,"January 2012","Library","7.000 X 7.000","Author","Maria Nelson",null,null,18,20,"H",null,"Grade 1 - 2","Grade 1 - 4","George Washington wasn’t just the first US president. He was also the general who led the Continental army to victory over the British. English language learners will discover facts about Washington’s life in easy-to-follow language, including his role in the founding of the United States and his presidency. Historic images and age-appropriate content, translated into standard Latin American Spanish, will engage beginning readers who are learning about Washington’s impact on the nation for the first time.","Bilingual",22.6,16.95,"973.4","24 pp.",{"$f":"Table1[[#This Row],['# Books]]*Table1[[#This Row],[QTY]]","v":0},{"$f":"Table1[[#This Row],[QTY]]*Table1[[#This Row],[S&L Price]]","v":0}]
[null,null,178,null,"Famous Lives / Vidas extraordinarias",1,"The Life of George Washington / La vida de George Washington","eBook","978-1-4339-6656-9",2012,"January 2012",null,null,"Author","Maria Nelson",null,null,18,20,"H",null,"Grade 1 - 2","Grade 1 - 4","George Washington wasn’t just the first US president. He was also the general who led the Continental army to victory over the British. English language learners will discover facts about Washington’s life in easy-to-follow language, including his role in the founding of the United States and his presidency. Historic images and age-appropriate content, translated into standard Latin American Spanish, will engage beginning readers who are learning about Washington’s impact on the nation for the first time.","Bilingual",22.6,16.95,"973.4","24 pp.",{"$f":"Table1[[#This Row],['# Books]]*Table1[[#This Row],[QTY]]","v":0},{"$f":"Table1[[#This Row],[QTY]]*Table1[[#This Row],[S&L Price]]","v":0}]
[null,null,178,null,"Killer Snakes / Serpientes asesinas",1,"Banded Sea Snake / Serpiente marina rayada","Library Bound Book","978-1-4339-5625-6",2012,"August 2011","Library","7.000 X 7.000","Author","Juliet Figorito",null,null,16,17,"J",null,"Grade 2","Grade 1 - 3","The banded sea snake is one of the deadliest snakes on land and in the sea. In the water, it’s a swift serpentine swimmer that cunningly stalks its prey. On land, this snake hides among rocks and ground foliage to digest its food and lay eggs. In this bilingual book, English language learners will find English and authentic Latin-American Spanish text paired with colorful photographs of the banded sea snake in its natural habitat. A fact sheet is included to share quick facts for report writing and research.","Bilingual",22.6,16.95,"597.96","24 pp.",{"$f":"Table1[[#This Row],['# Books]]*Table1[[#This Row],[QTY]]","v":0},{"$f":"Table1[[#This Row],[QTY]]*Table1[[#This Row],[S&L Price]]","v":0}]
[null,null,178,null,"Killer Snakes / Serpientes asesinas",1,"Banded Sea Snake / Serpiente marina rayada","eBook","978-1-4339-5626-3",2012,"August 2011",null,null,"Author","Juliet Figorito",null,null,16,17,"J",null,"Grade 2","Grade 1 - 3","The banded sea snake is one of the deadliest snakes on land and in the sea. In the water, it’s a swift serpentine swimmer that cunningly stalks its prey. On land, this snake hides among rocks and ground foliage to digest its food and lay eggs. In this bilingual book, English language learners will find English and authentic Latin-American Spanish text paired with colorful photographs of the banded sea snake in its natural habitat. A fact sheet is included to share quick facts for report writing and research.","Bilingual",22.6,16.95,"597.96","24 pp.",{"$f":"Table1[[#This Row],['# Books]]*Table1[[#This Row],[QTY]]","v":0},{"$f":"Table1[[#This Row],[QTY]]*Table1[[#This Row],[S&L Price]]","v":0}]
[null,null,178,null,"Killer Snakes / Serpientes asesinas",1,"Copperhead / Serpiente cabeza de cobre","Library Bound Book","978-1-4339-5631-7",2012,"August 2011","Library","7.000 X 7.000","Author","Victoria Braidich",null,null,16,15,"I",null,"Grade 2","Grade 1 - 3","From Texas to Massachusetts, the deadly copperhead can be found hiding in dead trees, tall grass, under rocks, and sometimes in people’s backyards. This fascinating bilingual book lets readers know all about this venomous snake that is named for its reddish-brown head. Readers will be amazed by the stunning photographs of copperheads in their natural habitat. Fascinating facts translated into standard Latin American Spanish will make every reader a snake expert. ","Bilingual",22.6,16.95,"597.96",null,{"$f":"Table1[[#This Row],['# Books]]*Table1[[#This Row],[QTY]]","v":0},{"$f":"Table1[[#This Row],[QTY]]*Table1[[#This Row],[S&L Price]]","v":0}]
[null,null,178,null,"Killer Snakes / Serpientes asesinas",1,"Copperhead / Serpiente cabeza de cobre","eBook","978-1-4339-6063-5",2012,"August 2011",null,null,"Author","Victoria Braidich",null,null,16,15,"I",null,"Grade 2","Grade 1 - 3","From Texas to Massachusetts, the deadly copperhead can be found hiding in dead trees, tall grass, under rocks, and sometimes in people’s backyards. This fascinating bilingual book lets readers know all about this venomous snake that is named for its reddish-brown head. Readers will be amazed by the stunning photographs of copperheads in their natural habitat. Fascinating facts translated into standard Latin American Spanish will make every reader a snake expert. ","Bilingual",22.6,16.95,"597.96",null,{"$f":"Table1[[#This Row],['# Books]]*Table1[[#This Row],[QTY]]","v":0},{"$f":"Table1[[#This Row],[QTY]]*Table1[[#This Row],[S&L Price]]","v":0}]
[null,null,178,null,"Killer Snakes / Serpientes asesinas",1,"Coral Snake / Serpiente coral","Library Bound Book","978-1-4339-5636-2",2012,"August 2011","Library","7.000 X 7.000","Author","Jamie Honders",null,null,16,15,"I",null,"Grade 2","Grade 1 - 3","If the phrase “red on yellow will kill a fellow” means something to you, you’re in good standing; you know an important life-saving fact about deadly coral snakes. Many other snakes look much like them, but only the coral snake has red bands between yellow bands. Captivating text in English and Latin-American Spanish, paired with vibrant photographs of these colorful creatures, takes English language learners into the wild for a close-up view of this venomous serpent.","Bilingual",22.6,16.95,"597.96",null,{"$f":"Table1[[#This Row],['# Books]]*Table1[[#This Row],[QTY]]","v":0},{"$f":"Table1[[#This Row],[QTY]]*Table1[[#This Row],[S&L Price]]","v":0}]
[null,null,178,null,"Killer Snakes / Serpientes asesinas",1,"Coral Snake / Serpiente coral","eBook","978-1-4339-5637-9",2012,"August 2011",null,null,"Author","Jamie Honders",null,null,16,15,"I",null,"Grade 2","Grade 1 - 3","If the phrase “red on yellow will kill a fellow” means something to you, you’re in good standing; you know an important life-saving fact about deadly coral snakes. Many other snakes look much like them, but only the coral snake has red bands between yellow bands. Captivating text in English and Latin-American Spanish, paired with vibrant photographs of these colorful creatures, takes English language learners into the wild for a close-up view of this venomous serpent.","Bilingual",22.6,16.95,"597.96",null,{"$f":"Table1[[#This Row],['# Books]]*Table1[[#This Row],[QTY]]","v":0},{"$f":"Table1[[#This Row],[QTY]]*Table1[[#This Row],[S&L Price]]","v":0}]
[null,null,178,null,"Killer Snakes / Serpientes asesinas",1,"Cottonmouth / Serpiente boca de algodón","Library Bound Book","978-1-4339-5642-3",2012,"August 2011","Library","7.000 X 7.000","Author","Karlie Gambino",null,null,16,15,"I",null,"Grade 2","Grade 1 - 3","The cottonmouth snake gets its name from the cottony-white color inside its mouth. When angry or startled, the snake coils up, hisses, and shows this color to warn enemies to stay away. Those that don’t heed the warning put themselves in harm’s way of experiencing deadly venom. Exciting photographs enhance the English text that is translated into standard Latin-American Spanish, helping dual language learners to step into the world of the cottonmouth snake.","Bilingual",22.6,16.95,"597.96",null,{"$f":"Table1[[#This Row],['# Books]]*Table1[[#This Row],[QTY]]","v":0},{"$f":"Table1[[#This Row],[QTY]]*Table1[[#This Row],[S&L Price]]","v":0}]
[null,null,178,null,"Killer Snakes / Serpientes asesinas",1,"Cottonmouth / Serpiente boca de algodón","eBook","978-1-4339-6064-2",2012,"August 2011",null,null,"Author","Karlie Gambino",null,null,16,15,"I",null,"Grade 2","Grade 1 - 3","The cottonmouth snake gets its name from the cottony-white color inside its mouth. When angry or startled, the snake coils up, hisses, and shows this color to warn enemies to stay away. Those that don’t heed the warning put themselves in harm’s way of experiencing deadly venom. Exciting photographs enhance the English text that is translated into standard Latin-American Spanish, helping dual language learners to step into the world of the cottonmouth snake.","Bilingual",22.6,16.95,"597.96",null,{"$f":"Table1[[#This Row],['# Books]]*Table1[[#This Row],[QTY]]","v":0},{"$f":"Table1[[#This Row],[QTY]]*Table1[[#This Row],[S&L Price]]","v":0}]
[null,null,178,null,"Killer Snakes / Serpientes asesinas",1,"Spitting Cobra / Cobra escupidora","Library Bound Book","978-1-4339-5653-9",2012,"August 2011","Library","7.000 X 7.000","Author","Avery Willebrandt",null,null,16,15,"I",null,"Grade 2","Grade 1 - 3","Did you know that some cobras can spray their venom up to 10 feet and hit an enemy in the eyes? However, spitting cobras don’t actually spit their venom. They spray it out of tiny holes in their fangs. They use this unique talent to chase away much larger predators. English language learners will be amazed by the close-up photographs of one of the craziest snakes on Earth. Thrilling facts translated from English into standard Latin American Spanish make this a great bilingual resource.","Bilingual",22.6,16.95,"597.96",null,{"$f":"Table1[[#This Row],['# Books]]*Table1[[#This Row],[QTY]]","v":0},{"$f":"Table1[[#This Row],[QTY]]*Table1[[#This Row],[S&L Price]]","v":0}]
[null,null,178,null,"Killer Snakes / Serpientes asesinas",1,"Spitting Cobra / Cobra escupidora","eBook","978-1-4339-6065-9",2012,"August 2011",null,null,"Author","Avery Willebrandt",null,null,16,15,"I",null,"Grade 2","Grade 1 - 3","Did you know that some cobras can spray their venom up to 10 feet and hit an enemy in the eyes? However, spitting cobras don’t actually spit their venom. They spray it out of tiny holes in their fangs. They use this unique talent to chase away much larger predators. English language learners will be amazed by the close-up photographs of one of the craziest snakes on Earth. Thrilling facts translated from English into standard Latin American Spanish make this a great bilingual resource.","Bilingual",22.6,16.95,"597.96",null,{"$f":"Table1[[#This Row],['# Books]]*Table1[[#This Row],[QTY]]","v":0},{"$f":"Table1[[#This Row],[QTY]]*Table1[[#This Row],[S&L Price]]","v":0}]

{"sheet":"Sheet2","index":1,"n_rows":27,"n_cols":10,"rows_kept":27,"cut":false,"hidden":false,"merged":[[21,5,21,6],[22,5,22,6],[24,5,24,6],[13,5,13,6],[15,1,15,2],[15,4,15,6],[16,5,16,6],[17,5,17,6],[18,5,18,6],[23,5,23,6],[12,5,12,6],[0,4,2,6],[4,1,4,2],[5,4,7,4],[10,5,10,6],[11,5,11,6]]}
[null,null,null,null,"Gareth Stevens Publishing\n111 East 14th Street, Suite 349 • New York, NY 10003\nPhone: 800-542-2595 • Fax: 877-542-2596\ngarethstevens.com"]
[]
[]
[]
[null,"BILL TO:",null,null,null,null,null,null,null,"Visa"]
[null,"School/Library",{"$f":"Sheet1!J8","v":0},null,"For Credit card orders \nselect one:",null,null,null,null,"Mastercard"]
[null,"Attention",{"$f":"Sheet1!J9","v":0},null,null,null,"Select Card Type",null,null,"AMEX"]
[null,"Address",{"$f":"Sheet1!J11","v":0}]
[null,"City",{"$f":"Sheet1!J12","v":0}]
[null,"State",{"$f":"Sheet1!J13","v":0}]
[null,"Zip",{"$f":"Sheet1!J14","v":0},null,"Card Number"]
[null,"Phone",{"$f":"Sheet1!J16","v":0},null,"Name on Card"]
[null,"Fax",{"$f":"Sheet1!J17","v":0},null,"Exp. Date"]
[null,"email",{"$f":"Sheet1!J18","v":0},null,"CVV Code"]
[]
[null,"SHIP TO:",null,null,"SUMMARY"]
[null,"School/Library",{"$f":"Sheet1!F8","v":0},null,"Book Subtotal",{"$f":"Sheet1!AB11","v":0}]
[null,"Attention",{"$f":"Sheet1!F9","v":0},null,"Library Processing",{"$f":"Sheet1!AB12","v":0}]
[null,"Address",{"$f":"Sheet1!F11","v":0},null,"S&H",{"$f":"Sheet1!AB13","v":0}]
[null,"City",{"$f":"Sheet1!F12","v":0}]
[null,"State",{"$f":"Sheet1!F13","v":0}]
[null,"Zip",{"$f":"Sheet1!F14","v":0},null,"Tax",{"$f":"Sheet1!AB14","v":0},null,"Notes"]
[null,"Phone",{"$f":"Sheet1!F16","v":0},null,"GRAND TOTAL",{"$f":"Sheet1!AB15","v":0}]
[null,"Fax",{"$f":"Sheet1!F17","v":0},null,"Total # of Books Ordered",{"$f":"Sheet1!V9+Sheet1!Z9+Sheet1!AB9","v":0}]
[null,"email",{"$f":"Sheet1!F18","v":0},null,"Purchase Order #",{"$f":"Sheet1!F20","v":0}]
[]
["QTY","ISBN","Description",null,"Product Type","# of Books","© Date","Price (ea.)","Total"]