{"text_format":"1","workbook":"xlsx","n_sheets":3,"sheets":["Instructions","Sheet1","Sheet2"],"not_rendered":{"charts":0,"images":1,"macros":1,"external_links":0,"defined_names":8,"comments":3,"pivot_tables":0},"unopened":[],"bounds":{"document_bytes":16777216,"sheet_cells":100000,"rows_first":2000,"rows_last":500,"rows_between":2000,"halvings":0,"cell_chars":16384,"cell_head_chars":4096},"cells_cut":0,"cells_raw":0,"read":"whole","date_system":"1900"}

{"sheet":"Instructions","index":0,"n_rows":16,"n_cols":1,"rows_kept":16,"cut":false,"hidden":false,"merged":[]}
["Simple instructions on how to use the excel OF:"]
["Notes"]
["~ Enter the ship to and bill to information for the customer that you're creating the list for "]
["~ Enter the qty of LB books/LB sets/ebooks/etc that your customer wants in the \"QTY\" column (column A)"]
["~ You'll notice that in the fields next to the bill to area, you'll find the \"Summary\" box - here is where you'll see (at a glance) a quick summary of the products ordered - these fields are dynamically updated as new qtys are added to the overall file"]
["~ Under the summary box, you'll find a manilla colored box where you can enter any notes, instructions, etc that you see fit"]
["~ When done entering your qtys, please go up to the top of the excel file and click the \"Order Summary\" button"]
["~ The file will automatically remove all NON-SELECTED titles and only list the titles with a QTY chosen (you can always go back and add more titles by clicking \"Clear Summary\" at the top above the Bill to, and it'll bring back all titles)"]
["~ Once completed, click the \"Finalize Order\" button above the Bill to box and wait about 5-10 seconds, and you'll see \"Sheet2\" will open up a printer-friendly version of the order will appear. This version is ready to be sent as a final order/proposal to customers/customer service"]
["~ Please make sure to adjust the print area for this form so that it only prints the pages you want printed"]
["~ You can click on the top row of the notes box on this page - click and hold - and then you can drag this box to the bottom of your title listing - thus enabling the notes to also print out"]
[]
["A few quick tips on this excel OF:"]
["~ The titles are listed here as they appear on the 2017-2018 catalog"]
["~ Row 22 is the header row - you can use this row to sort or filter out specific types of data, to make this OF easier to navigate. For instance, if you want to ONLY DISPLAY the library bound books, go to cell G22, click on the box in the bottom right portion of the cell, and deselect \"Select All\" and then select \"Library Bound Book\" and close out of the menu - now your excel file will only display the print books. This function/capability is available for any column in Row 22."]
["~ If you find any issues or have any ideas on how we can make this more user friendly, please be sure to let us know"]

{"sheet":"Sheet1","index":1,"n_rows":2488,"n_cols":30,"rows_kept":2488,"cut":false,"hidden":false,"merged":[[14,22,14,23],[7,22,7,23],[8,22,8,23],[9,22,9,23],[10,22,10,23],[11,22,11,23],[9,10,9,14],[10,10,10,14],[15,8,15,9],[16,8,16,9],[17,8,17,9],[13,10,13,14],[14,10,14,14],[15,10,15,14],[16,10,16,14],[17,10,17,14],[6,4,6,5],[6,8,6,14],[7,10,7,14],[8,10,8,14],[19,8,19,9],[19,10,19,14],[13,8,13,9],[14,8,14,9],[7,8,7,9],[8,8,8,9],[9,8,9,9],[10,8,10,9],[11,8,11,9],[12,8,12,9],[11,10,11,14],[12,10,12,14],[13,17,13,20],[10,17,10,20],[11,17,11,20],[12,17,12,20],[6,17,6,23],[12,22,12,23],[13,22,13,23],[7,17,7,20],[8,17,8,20],[9,17,9,20]]}
[]
[]
[]
[]
[]
[]
[null,null,null,null,"Ship to",null,null,null,"Bill to",null,null,null,null,null,null,null,null,"Summary"]
[null,null,null,null,"School/Library:",null,null,null,"School/Library:",null,null,null,null,null,null,null,null,null,null,null,null,"Print","eBooks"]
[null,null,null,null,"Attention:",null,null,null,"Attention:",null,null,null,null,null,null,null,null,"# of Books",null,null,null,{"$f":"SUMPRODUCT(((Sheet1!$H$23:$H$2488=\"Library Bound Book\")\n+(Sheet1!$H$23:$H$2488=\"Library Set\"))*(Sheet1!$AC$23:$AC$2488))","v":0},{"$f":"SUMPRODUCT(((Sheet1!$H$23:$H$2488=\"eBook\")+(Sheet1!$H$23:$H$2488=\"eBook Set\"))*(Sheet1!$AC$23:$AC$2488))","v":0},{"$f":"SUMPRODUCT(((Sheet1!$H$23:$H$2488=\"eBook\")+(Sheet1!$H$23:$H$2488=\"eBook Set\"))*(Sheet1!$AC$23:$AC$2488))","v":0}]
[null,null,null,null,"Title:",null,null,null,"Title:",null,null,null,null,null,null,null,null,"Subtotal",null,null,null,{"$f":"SUMPRODUCT(((Sheet1!$H$23:$H$2488=\"Library Bound Book\")+(Sheet1!$H$23:$H$2488=\"Library Set\"))*(Sheet1!$AD$23:$AD$2488))","v":0},{"$f":"SUMPRODUCT(((Sheet1!$H$23:$H$2488=\"eBook\")+(Sheet1!$H$23:$H$2488=\"eBook Set\"))*(Sheet1!$AD$23:$AD$2488))","v":0},{"$f":"SUMPRODUCT(((Sheet1!$H$23:$H$2488=\"eBook\")+(Sheet1!$H$23:$H$2488=\"eBook Set\"))*(Sheet1!$AD$23:$AD$2488))","v":0}]
[null,null,null,null,"Street Address:",null,null,null,"Street Address:",null,null,null,null,null,null,null,null,null,null,null,null,"Book Subtotal",{"$f":"V10+W10","v":0}]
[null,null,null,null,"City:",null,null,null,"City:",null,null,null,null,null,null,null,null,"(if applicable)",null,null,null,"Library Processsing",0]
[null,null,null,null,"State:",null,null,null,"State:",null,null,null,null,null,null,null,null,"*9% S&H (12% for Alaska & Hawaii) - FREE on all orders over $500",null,null,null,"Shipping & Handling",{"$f":"IF(W11<500,(W11*0.09),(\"0.00\"))","v":0}]
[null,null,null,null,"Zip:",null,null,null,"Zip:",null,null,null,null,null,null,null,null,"(if applicable)",null,null,null,"Tax"]
[null,null,null,null,"Contact Name:",null,null,null,"Contact Name:",null,null,null,null,null,null,null,null,null,null,null,null,"GRAND TOTAL",{"$f":"W11+W12+W13+W14","v":0}]
[null,null,null,null,"Phone:",null,null,null,"Phone:"]
[null,null,null,null,"Fax:",null,null,null,"Fax:",null,null,null,null,null,null,null,null,"Notes"]
[null,null,null,null,"Email:",null,null,null,"Email:"]
[]
[null,null,null,null,"PO# (if needed)",null,null,null,"Rep Name:",null,"Mike White (mikewhite@booklookindiana.com)"]
[]
["QTY","Memo","Spring Page #","Catalog Page #","Series","Title","# of Books","Product Type","ISBN","© Date","Season","Trim","Contributor Type","Contributor(s)","ATOS","Points","DRA","EIL","GRL","Lexile","Reading Level","Interest Level","Description","Language","List Price","School & Library Price","Dewey","Page Count","Subtotal QTY","Subtotal"]
[null,null,null,8,"All About Food Crops","All About Food Crops",6,"Library Set","978-0-7660-8600-5",2018,"August 2017","7.125 X 8.500",null,null,null,null,null,null,null,null,"Grade K - 1","Grade Pre-K - 1","Through simple text supported by large, full-color photos, readers will learn about important food crops, including their physical characteristics, where to find them, how they grow, and how people consume them. Children will discover what goes into bringing common foods such as corn, wheat, rice, apples, oranges, and bananas from the farm to the table. Guided Reading Levels and word counts are included.","English",135.6,101.7,null,"24 pp.",{"$f":"Table1[[#This Row],[QTY]]*Table1[[#This Row],['# of Books]]","v":0},{"$f":"Table1[[#This Row],[QTY]]*Table1[[#This Row],[School & Library Price]]","v":0}]
[null,null,null,8,"All About Food Crops","Apples",1,"Library Bound Book","978-0-7660-8575-6",2018,"August 2017","7.125 X 8.500","Author","Cecelia H. Brannon",null,null,null,null,"A",null,"Grade K - 1","Grade Pre-K - 1","\"An apple a day keeps the doctor away.” More than just a snack, apples are used for many familiar foodstuffs. Through simple text and vivid photos, young readers will learn all about apples and the importance they have as a crop. A Words to Know section helps readers learn new vocabulary, while Further Reading encourages deeper learning.","English",22.6,16.95,"634/.11--dc23","24 pp.",{"$f":"Table1[[#This Row],[QTY]]*Table1[[#This Row],['# of Books]]","v":0},{"$f":"Table1[[#This Row],[QTY]]*Table1[[#This Row],[School & Library Price]]","v":0}]
[null,null,null,8,"All About Food Crops","Apples",1,"eBook","978-0-7660-8576-3",2018,"August 2017",null,"Author","Cecelia H. Brannon",null,null,null,null,"A",null,"Grade K - 1","Grade Pre-K - 1","\"An apple a day keeps the doctor away.” More than just a snack, apples are used for many familiar foodstuffs. Through simple text and vivid photos, young readers will learn all about apples and the importance they have as a crop. A Words to Know section helps readers learn new vocabulary, while Further Reading encourages deeper learning.","English",22.6,16.95,"634/.11--dc23","24 pp.",{"$f":"Table1[[#This Row],[QTY]]*Table1[[#This Row],['# of Books]]","v":0},{"$f":"Table1[[#This Row],[QTY]]*Table1[[#This Row],[School & Library Price]]","v":0}]
[null,null,null,8,"All About Food Crops","Bananas",1,"Library Bound Book","978-0-7660-8577-0",2018,"August 2017","7.125 X 8.500","Author","Cecelia H. Brannon",null,null,null,null,"C",null,"Grade K - 1","Grade Pre-K - 1","More than a great source of potassium, bananas are a common sight in any produce market. But where are they grown? Why are they so common? And what can you do once they start to turn brown? Young readers will learn all about this crop through simple text and full-color photos and will also discover some of the basic concepts of agriculture. A Words to Know section helps readers learn new vocabulary, while Further Reading encourages deeper learning.","English",22.6,16.95,"634/.772--dc23","24 pp.",{"$f":"Table1[[#This Row],[QTY]]*Table1[[#This Row],['# of Books]]","v":0},{"$f":"Table1[[#This Row],[QTY]]*Table1[[#This Row],[School & Library Price]]","v":0}]
[null,null,null,8,"All About Food Crops","Bananas",1,"eBook","978-0-7660-8578-7",2018,"August 2017",null,"Author","Cecelia H. Brannon",null,null,null,null,"C",null,"Grade K - 1","Grade Pre-K - 1","More than a great source of potassium, bananas are a common sight in any produce market. But where are they grown? Why are they so common? And what can you do once they start to turn brown? Young readers will learn all about this crop through simple text and full-color photos and will also discover some of the basic concepts of agriculture. A Words to Know section helps readers learn new vocabulary, while Further Reading encourages deeper learning.","English",22.6,16.95,"634/.772--dc23","24 pp.",{"$f":"Table1[[#This Row],[QTY]]*Table1[[#This Row],['# of Books]]","v":0},{"$f":"Table1[[#This Row],[QTY]]*Table1[[#This Row],[School & Library Price]]","v":0}]
[null,null,null,8,"All About Food Crops","Corn",1,"Library Bound Book","978-0-7660-8579-4",2018,"August 2017","7.125 X 8.500","Author","Cecelia H. Brannon",null,null,null,null,"B",null,"Grade K - 1","Grade Pre-K - 1","Corn is an essential crop. It is a staple of many diets and cuisines. But there’s more to corn than when it's on the cob. Young readers can learn about ears of corn, different ways corn is used, and why it’s such an important crop! Full-color photos and easy-to-read text help readers understand the basic concepts of agriculture. A Words to Know section helps readers learn new vocabulary, while Further Reading encourages deeper learning.","English",22.6,16.95,"633.1/5--dc23","24 pp.",{"$f":"Table1[[#This Row],[QTY]]*Table1[[#This Row],['# of Books]]","v":0},{"$f":"Table1[[#This Row],[QTY]]*Table1[[#This Row],[School & Library Price]]","v":0}]
[null,null,null,8,"All About Food Crops","Corn",1,"eBook","978-0-7660-8580-0",2018,"August 2017",null,"Author","Cecelia H. Brannon",null,null,null,null,"B",null,"Grade K - 1","Grade Pre-K - 1","Corn is an essential crop. It is a staple of many diets and cuisines. But there’s more to corn than when it's on the cob. Young readers can learn about ears of corn, different ways corn is used, and why it’s such an important crop! Full-color photos and easy-to-read text help readers understand the basic concepts of agriculture. A Words to Know section helps readers learn new vocabulary, while Further Reading encourages deeper learning.","English",22.6,16.95,"633.1/5--dc23","24 pp.",{"$f":"Table1[[#This Row],[QTY]]*Table1[[#This Row],['# of Books]]","v":0},{"$f":"Table1[[#This Row],[QTY]]*Table1[[#This Row],[School & Library Price]]","v":0}]
[null,null,null,8,"All About Food Crops","Oranges",1,"Library Bound Book","978-0-7660-8581-7",2018,"August 2017","7.125 X 8.500","Author","Cecelia H. Brannon",null,null,null,null,"C",null,"Grade K - 1","Grade Pre-K - 1","Oranges are a common sight in lunchrooms around the world. But oranges are more than just a great source of vitamin C. Through simple text and bright photos, young readers will learn about how oranges grow and the different ways they’re used, helping readers grasp some basic concepts of agriculture. A Words to Know section helps readers learn new vocabulary, while Further Reading encourages deeper learning.","English",22.6,16.95,"634/.31--dc23","24 pp.",{"$f":"Table1[[#This Row],[QTY]]*Table1[[#This Row],['# of Books]]","v":0},{"$f":"Table1[[#This Row],[QTY]]*Table1[[#This Row],[School & Library Price]]","v":0}]
[null,null,null,8,"All About Food Crops","Oranges",1,"eBook","978-0-7660-8582-4",2018,"August 2017",null,"Author","Cecelia H. Brannon",null,null,null,null,"C",null,"Grade K - 1","Grade Pre-K - 1","Oranges are a common sight in lunchrooms around the world. But oranges are more than just a great source of vitamin C. Through simple text and bright photos, young readers will learn about how oranges grow and the different ways they’re used, helping readers grasp some basic concepts of agriculture. A Words to Know section helps readers learn new vocabulary, while Further Reading encourages deeper learning.","English",22.6,16.95,"634/.31--dc23","24 pp.",{"$f":"Table1[[#This Row],[QTY]]*Table1[[#This Row],['# of Books]]","v":0},{"$f":"Table1[[#This Row],[QTY]]*Table1[[#This Row],[School & Library Price]]","v":0}]
[null,null,null,8,"All About Food Crops","Rice",1,"Library Bound Book","978-0-7660-8583-1",2018,"August 2017","7.125 X 8.500","Author","Cecelia H. Brannon",null,null,null,null,"B",null,"Grade K - 1","Grade Pre-K - 1","Rice is an essential crop. It is a staple of many diets and cuisines. But there’s more to rice than being served in a bowl. Young readers can learn about how rice is grown, different ways it’s used, and why it’s such an important crop! Full-color photos and easy-to-read text help readers understand the basic concepts of agriculture.","English",22.6,16.95,"633.1/8--dc23","24 pp.",{"$f":"Table1[[#This Row],[QTY]]*Table1[[#This Row],['# of Books]]","v":0},{"$f":"Table1[[#This Row],[QTY]]*Table1[[#This Row],[School & Library Price]]","v":0}]
[null,null,null,8,"All About Food Crops","Rice",1,"eBook","978-0-7660-8584-8",2018,"August 2017",null,"Author","Cecelia H. Brannon",null,null,null,null,"B",null,"Grade K - 1","Grade Pre-K - 1","Rice is an essential crop. It is a staple of many diets and cuisines. But there’s more to rice than being served in a bowl. Young readers can learn about how rice is grown, different ways it’s used, and why it’s such an important crop! Full-color photos and easy-to-read text help readers understand the basic concepts of agriculture.","English",22.6,16.95,"633.1/8--dc23","24 pp.",{"$f":"Table1[[#This Row],[QTY]]*Table1[[#This Row],['# of Books]]","v":0},{"$f":"Table1[[#This Row],[QTY]]*Table1[[#This Row],[School & Library Price]]","v":0}]
[null,null,null,8,"All About Food Crops","Wheat",1,"Library Bound Book","978-0-7660-8585-5",2018,"August 2017","7.125 X 8.500","Author","Cecelia H. Brannon",null,null,null,null,"B",null,"Grade K - 1","Grade Pre-K - 1","Wheat is an essential crop. It is used to make everything from bread to cereal. Through easy-to-read text, young readers will learn about wheat and many of its uses. Full-color photos will help young readers understand the concepts of crops and their uses. A Words to Know section helps readers learn new vocabulary, while Further Reading encourages deeper learning.","English",22.6,16.95,"633.1/1--dc23","24 pp.",{"$f":"Table1[[#This Row],[QTY]]*Table1[[#This Row],['# of Books]]","v":0},{"$f":"Table1[[#This Row],[QTY]]*Table1[[#This Row],[School & Library Price]]","v":0}]
[null,null,null,8,"All About Food Crops","Wheat",1,"eBook","978-0-7660-8586-2",2018,"August 2017",null,"Author","Cecelia H. Brannon",null,null,null,null,"B",null,"Grade K - 1","Grade Pre-K - 1","Wheat is an essential crop. It is used to make everything from bread to cereal. Through easy-to-read text, young readers will learn about wheat and many of its uses. Full-color photos will help young readers understand the concepts of crops and their uses. A Words to Know section helps readers learn new vocabulary, while Further Reading encourages deeper learning.","English",22.6,16.95,"633.1/1--dc23","24 pp.",{"$f":"Table1[[#This Row],[QTY]]*Table1[[#This Row],['# of Books]]","v":0},{"$f":"Table1[[#This Row],[QTY]]*Table1[[#This Row],[School & Library Price]]","v":0}]
[null,null,null,9,"All About My Senses","All About My Senses",6,"Library Set","978-0-7660-8601-2",2018,"August 2017","7.125 X 8.500",null,null,null,null,null,null,null,null,"Grade K - 1","Grade Pre-K - 1","Readers will gain a deeper understanding of how they use their senses to navigate the world. Through accessible text enhanced by full-page, vivid images, the five senses and intuition are explained in ways that are easy to understand and will help early readers gain confidence in their reading skills. Guided Reading Levels and word counts are included.\n\n","English",135.6,101.7,null,"24 pp.",{"$f":"Table1[[#This Row],[QTY]]*Table1[[#This Row],['# of Books]]","v":0},{"$f":"Table1[[#This Row],[QTY]]*Table1[[#This Row],[School & Library Price]]","v":0}]
[null,null,null,9,"All About My Senses","What's Intuition?",1,"Library Bound Book","978-0-7660-8722-4",2018,"August 2017","7.125 X 8.500","Author","Adam Bellamy",null,null,null,null,"D",null,"Grade K - 1","Grade Pre-K - 1","Intuition can help us understand when something is wrong. Whether it’s that a friend is sad or a person makes us feel uncomfortable, intuition is used in our reactions to and interactions with other people every day. Here, young readers will learn the basic concepts of intuition through simple text and full-page photos. Words to Know help readers understand new vocabulary, while a Further Reading section will encourage deeper research.","English",22.6,16.95,"153.4/4--dc23","24 pp.",{"$f":"Table1[[#This Row],[QTY]]*Table1[[#This Row],['# of Books]]","v":0},{"$f":"Table1[[#This Row],[QTY]]*Table1[[#This Row],[School & Library Price]]","v":0}]
[null,null,null,9,"All About My Senses","What's Intuition?",1,"eBook","978-0-7660-8723-1",2018,"August 2017",null,"Author","Adam Bellamy",null,null,null,null,"D",null,"Grade K - 1","Grade Pre-K - 1","Intuition can help us understand when something is wrong. Whether it’s that a friend is sad or a person makes us feel uncomfortable, intuition is used in our reactions to and interactions with other people every day. Here, young readers will learn the basic concepts of intuition through simple text and full-page photos. Words to Know help readers understand new vocabulary, while a Further Reading section will encourage deeper research.","English",22.6,16.95,"153.4/4--dc23","24 pp.",{"$f":"Table1[[#This Row],[QTY]]*Table1[[#This Row],['# of Books]]","v":0},{"$f":"Table1[[#This Row],[QTY]]*Table1[[#This Row],[School & Library Price]]","v":0}]
[null,null,null,9,"All About My Senses","What's That I Feel?",1,"Library Bound Book","978-0-7660-8720-0",2018,"August 2017","7.125 X 8.500","Author","Adam Bellamy",null,null,null,null,"C",null,"Grade K - 1","Grade Pre-K - 1","Our sense of touch helps us understand when something is wrong with our bodies, feel comfort in a soft sweater, and stay cool on a hot day. With simple text and full-color photos, young readers will learn about their sense of touch, as well as why it is important. Words to Know helps readers understand new vocabulary, while a Further Reading section will encourage deeper research.","English",22.6,16.95,"612.8/8--dc23","24 pp.",{"$f":"Table1[[#This Row],[QTY]]*Table1[[#This Row],['# of Books]]","v":0},{"$f":"Table1[[#This Row],[QTY]]*Table1[[#This Row],[School & Library Price]]","v":0}]
[null,null,null,9,"All About My Senses","What's That I Feel?",1,"eBook","978-0-7660-8721-7",2018,"August 2017",null,"Author","Adam Bellamy",null,null,null,null,"C",null,"Grade K - 1","Grade Pre-K - 1","Our sense of touch helps us understand when something is wrong with our bodies, feel comfort in a soft sweater, and stay cool on a hot day. With simple text and full-color photos, young readers will learn about their sense of touch, as well as why it is important. Words to Know helps readers understand new vocabulary, while a Further Reading section will encourage deeper research.","English",22.6,16.95,"612.8/8--dc23","24 pp.",{"$f":"Table1[[#This Row],[QTY]]*Table1[[#This Row],['# of Books]]","v":0},{"$f":"Table1[[#This Row],[QTY]]*Table1[[#This Row],[School & Library Price]]","v":0}]
[null,null,null,9,"All About My Senses","What's That I Hear?",1,"Library Bound Book","978-0-7660-8603-6",2018,"August 2017","7.125 X 8.500","Author","Adam Bellamy",null,null,null,null,"B",null,"Grade K - 1","Grade Pre-K - 1","From music to street traffic to voices, sounds are something we encounter every day. Some sounds alert us to danger, while others make us feel happy. Through simple text and full-color photos, young readers will learn about different sounds and how and why they are made. A Words to Know section helps readers understand new vocabulary, while a Further Reading section will encourage deeper research.","English",22.6,16.95,"612.8/5--dc23","24 pp.",{"$f":"Table1[[#This Row],[QTY]]*Table1[[#This Row],['# of Books]]","v":0},{"$f":"Table1[[#This Row],[QTY]]*Table1[[#This Row],[School & Library Price]]","v":0}]
[null,null,null,9,"All About My Senses","What's That I Hear?",1,"eBook","978-0-7660-8604-3",2018,"August 2017",null,"Author","Adam Bellamy",null,null,null,null,"B",null,"Grade K - 1","Grade Pre-K - 1","From music to street traffic to voices, sounds are something we encounter every day. Some sounds alert us to danger, while others make us feel happy. Through simple text and full-color photos, young readers will learn about different sounds and how and why they are made. A Words to Know section helps readers understand new vocabulary, while a Further Reading section will encourage deeper research.","English",22.6,16.95,"612.8/5--dc23","24 pp.",{"$f":"Table1[[#This Row],[QTY]]*Table1[[#This Row],['# of Books]]","v":0},{"$f":"Table1[[#This Row],[QTY]]*Table1[[#This Row],[School & Library Price]]","v":0}]
[null,null,null,9,"All About My Senses","What's That I See?",1,"Library Bound Book","978-0-7660-8605-0",2018,"August 2017","7.125 X 8.500","Author","Adam Bellamy",null,null,null,null,"A",null,"Grade K - 1","Grade Pre-K - 1","Colors, lights, and movement all attract our attention. Seeing is one of the senses that is used most. Through easy-to-follow text and brightly colored photos, early readers will learn about different sights and why sight is important. Words to Know helps readers understand new vocabulary, while a Further Reading section will encourage deeper research.","English",22.6,16.95,"612.8/4--dc23","24 pp.",{"$f":"Table1[[#This Row],[QTY]]*Table1[[#This Row],['# of Books]]","v":0},{"$f":"Table1[[#This Row],[QTY]]*Table1[[#This Row],[School & Library Price]]","v":0}]
[null,null,null,9,"All About My Senses","What's That I See?",1,"eBook","978-0-7660-8606-7",2018,"August 2017",null,"Author","Adam Bellamy",null,null,null,null,"A",null,"Grade K - 1","Grade Pre-K - 1","Colors, lights, and movement all attract our attention. Seeing is one of the senses that is used most. Through easy-to-follow text and brightly colored photos, early readers will learn about different sights and why sight is important. Words to Know helps readers understand new vocabulary, while a Further Reading section will encourage deeper research.","English",22.6,16.95,"612.8/4--dc23","24 pp.",{"$f":"Table1[[#This Row],[QTY]]*Table1[[#This Row],['# of Books]]","v":0},{"$f":"Table1[[#This Row],[QTY]]*Table1[[#This Row],[School & Library Price]]","v":0}]
[null,null,null,9,"All About My Senses","What's That Smell?",1,"Library Bound Book","978-0-7660-8607-4",2018,"August 2017","7.125 X 8.500","Author","Adam Bellamy",null,null,null,null,"C",null,"Grade K - 1","Grade Pre-K - 1","Our noses are powerful, indeed! Not only do they tell us what smells good and bad, but they can also help us remember things and even feel emotions! Through simple text supported by eye-catching photos, young readers will learn about different smells, from sweet to stinky to delicious, and what kinds of things cause each scent. A Words to Know section helps readers learn new vocabulary, while Further Reading encourages deeper learning.","English",22.6,16.95,"612.8/6--dc23","24 pp.",{"$f":"Table1[[#This Row],[QTY]]*Table1[[#This Row],['# of Books]]","v":0},{"$f":"Table1[[#This Row],[QTY]]*Table1[[#This Row],[School & Library Price]]","v":0}]
[null,null,null,9,"All About My Senses","What's That Smell?",1,"eBook","978-0-7660-8608-1",2018,"August 2017",null,"Author","Adam Bellamy",null,null,null,null,"C",null,"Grade K - 1","Grade Pre-K - 1","Our noses are powerful, indeed! Not only do they tell us what smells good and bad, but they can also help us remember things and even feel emotions! Through simple text supported by eye-catching photos, young readers will learn about different smells, from sweet to stinky to delicious, and what kinds of things cause each scent. A Words to Know section helps readers learn new vocabulary, while Further Reading encourages deeper learning.","English",22.6,16.95,"612.8/6--dc23","24 pp.",{"$f":"Table1[[#This Row],[QTY]]*Table1[[#This Row],['# of Books]]","v":0},{"$f":"Table1[[#This Row],[QTY]]*Table1[[#This Row],[School & Library Price]]","v":0}]
[null,null,null,9,"All About My Senses","What's That Taste?",1,"Library Bound Book","978-0-7660-8609-8",2018,"August 2017","7.125 X 8.500","Author","Adam Bellamy",null,null,null,null,"B",null,"Grade K - 1","Grade Pre-K - 1","We enjoy eating food mostly because it tastes so good! Through easy-to-follow text supported by full-color photos, young readers will learn all about different tastes, from sweet to salty to spicy, and the different foods that cause each flavor. A Words to Know section helps readers learn new vocabulary, while Further Reading encourages deeper learning.","English",22.6,16.95,"612.8/7--dc23","24 pp.",{"$f":"Table1[[#This Row],[QTY]]*Table1[[#This Row],['# of Books]]","v":0},{"$f":"Table1[[#This Row],[QTY]]*Table1[[#This Row],[School & Library Price]]","v":0}]
[null,null,null,9,"All About My Senses","What's That Taste?",1,"eBook","978-0-7660-8610-4",2018,"August 2017",null,"Author","Adam Bellamy",null,null,null,null,"B",null,"Grade K - 1","Grade Pre-K - 1","We enjoy eating food mostly because it tastes so good! Through easy-to-follow text supported by full-color photos, young readers will learn all about different tastes, from sweet to salty to spicy, and the different foods that cause each flavor. A Words to Know section helps readers learn new vocabulary, while Further Reading encourages deeper learning.","English",22.6,16.95,"612.8/7--dc23","24 pp.",{"$f":"Table1[[#This Row],[QTY]]*Table1[[#This Row],['# of Books]]","v":0},{"$f":"Table1[[#This Row],[QTY]]*Table1[[#This Row],[School & Library Price]]","v":0}]
[null,null,null,10,"All About My World","All About My World",6,"Library Set","978-0-7660-8361-5",2017,"January 2017","7.125 X 8.500",null,null,null,null,null,null,null,null,"Grade K - 1","Grade Pre-K - 1","Young readers will delight in learning about the world in which they live. Through simple text supported by large, full-color photos, this series will introduce beginning readers to routine events such as going to the doctor or dentist, and it will teach them what to expect from everyday encounters.","English",135.6,101.7,null,"24 pp.",{"$f":"Table1[[#This Row],[QTY]]*Table1[[#This Row],['# of Books]]","v":0},{"$f":"Table1[[#This Row],[QTY]]*Table1[[#This Row],[School & Library Price]]","v":0}]
[null,null,null,10,"All About My World","This Is My Bank",1,"Library Bound Book","978-0-7660-8108-6",2017,"January 2017","7.125 X 8.500","Author","Adam Bellamy",null,null,null,null,"B",null,"Grade K - 1","Grade Pre-K - 1","Using simple language and high text/photo correlation, young readers will learn about what to expect when they visit a bank, including what the teller does, where money is kept, and what ATMs are for. A “Words to Know” section at the beginning of the book helps students learn new vocabulary they will encounter in the text, while suggestions for other titles and websites encourage students to learn more.","English",22.6,16.95,"332.1--dc23","24 pp.",{"$f":"Table1[[#This Row],[QTY]]*Table1[[#This Row],['# of Books]]","v":0},{"$f":"Table1[[#This Row],[QTY]]*Table1[[#This Row],[School & Library Price]]","v":0}]
[null,null,null,10,"All About My World","This Is My Bank",1,"eBook","978-0-7660-8109-3",2017,"January 2017",null,"Author","Adam Bellamy",null,null,null,null,"B",null,"Grade K - 1","Grade Pre-K - 1","Using simple language and high text/photo correlation, young readers will learn about what to expect when they visit a bank, including what the teller does, where money is kept, and what ATMs are for. A “Words to Know” section at the beginning of the book helps students learn new vocabulary they will encounter in the text, while suggestions for other titles and websites encourage students to learn more.","English",22.6,16.95,"332.1--dc23","24 pp.",{"$f":"Table1[[#This Row],[QTY]]*Table1[[#This Row],['# of Books]]","v":0},{"$f":"Table1[[#This Row],[QTY]]*Table1[[#This Row],[School & Library Price]]","v":0}]
[null,null,null,10,"All About My World","This Is My Dentist",1,"Library Bound Book","978-0-7660-8096-6",2017,"January 2017","7.125 X 8.500","Author","Adam Bellamy",null,null,null,null,"E",null,"Grade K - 1","Grade Pre-K - 1","Using simple language and a high text/photo correlation, young readers will learn about what to expect when they visit the dentist’s office, including the role of the hygienist. A “Words to Know” section at the beginning of the book helps students learn new vocabulary they will encounter in the text, while suggestions for other titles and websites encourage students to learn more.","English",22.6,16.95,"617.6--dc23","24 pp.",{"$f":"Table1[[#This Row],[QTY]]*Table1[[#This Row],['# of Books]]","v":0},{"$f":"Table1[[#This Row],[QTY]]*Table1[[#This Row],[School & Library Price]]","v":0}]
[null,null,null,10,"All About My World","This Is My Dentist",1,"eBook","978-0-7660-8097-3",2017,"January 2017",null,"Author","Adam Bellamy",null,null,null,null,"E",null,"Grade K - 1","Grade Pre-K - 1","Using simple language and a high text/photo correlation, young readers will learn about what to expect when they visit the dentist’s office, including the role of the hygienist. A “Words to Know” section at the beginning of the book helps students learn new vocabulary they will encounter in the text, while suggestions for other titles and websites encourage students to learn more.","English",22.6,16.95,"617.6--dc23","24 pp.",{"$f":"Table1[[#This Row],[QTY]]*Table1[[#This Row],['# of Books]]","v":0},{"$f":"Table1[[#This Row],[QTY]]*Table1[[#This Row],[School & Library Price]]","v":0}]
[null,null,null,10,"All About My World","This Is My Doctor",1,"Library Bound Book","978-0-7660-8100-0",2017,"January 2017","7.125 X 8.500","Author","Adam Bellamy",null,null,null,null,"B",null,"Grade K - 1","Grade Pre-K - 1","Using simple language and a high text/photo correlation, young readers will learn about what to expect when they go to the doctor, including what a nurse will do during a checkup and why people receive shots. A “Words to Know” section at the beginning of the book helps students learn new vocabulary they will encounter in the text, while suggestions for other titles and websites encourage students to learn more.","English",22.6,16.95,"610.69/5--dc23","24 pp.",{"$f":"Table1[[#This Row],[QTY]]*Table1[[#This Row],['# of Books]]","v":0},{"$f":"Table1[[#This Row],[QTY]]*Table1[[#This Row],[School & Library Price]]","v":0}]
[null,null,null,10,"All About My World","This Is My Doctor",1,"eBook","978-0-7660-8101-7",2017,"January 2017",null,"Author","Adam Bellamy",null,null,null,null,"B",null,"Grade K - 1","Grade Pre-K - 1","Using simple language and a high text/photo correlation, young readers will learn about what to expect when they go to the doctor, including what a nurse will do during a checkup and why people receive shots. A “Words to Know” section at the beginning of the book helps students learn new vocabulary they will encounter in the text, while suggestions for other titles and websites encourage students to learn more.","English",22.6,16.95,"610.69/5--dc23","24 pp.",{"$f":"Table1[[#This Row],[QTY]]*Table1[[#This Row],['# of Books]]","v":0},{"$f":"Table1[[#This Row],[QTY]]*Table1[[#This Row],[School & Library Price]]","v":0}]
[null,null,null,10,"All About My World","This Is My Library",1,"Library Bound Book","978-0-7660-8092-8",2017,"January 2017","7.125 X 8.500","Author","Adam Bellamy",null,null,null,null,"B",null,"Grade K - 1","Grade Pre-K - 1","Using simple language and high text/photo correlation, young readers will learn about what to expect when they visit a library, including what’s on the shelves, who works there, and how to behave. A “Words to Know” section at the beginning of the book helps students learn new vocabulary they will encounter in the text, while suggestions for other titles and websites encourage students to learn more.","English",22.6,16.95,"027--dc23","24 pp.",{"$f":"Table1[[#This Row],[QTY]]*Table1[[#This Row],['# of Books]]","v":0},{"$f":"Table1[[#This Row],[QTY]]*Table1[[#This Row],[School & Library Price]]","v":0}]
[null,null,null,10,"All About My World","This Is My Library",1,"eBook","978-0-7660-8093-5",2017,"January 2017",null,"Author","Adam Bellamy",null,null,null,null,"B",null,"Grade K - 1","Grade Pre-K - 1","Using simple language and high text/photo correlation, young readers will learn about what to expect when they visit a library, including what’s on the shelves, who works there, and how to behave. A “Words to Know” section at the beginning of the book helps students learn new vocabulary they will encounter in the text, while suggestions for other titles and websites encourage students to learn more.","English",22.6,16.95,"027--dc23","24 pp.",{"$f":"Table1[[#This Row],[QTY]]*Table1[[#This Row],['# of Books]]","v":0},{"$f":"Table1[[#This Row],[QTY]]*Table1[[#This Row],[School & Library Price]]","v":0}]
[null,null,null,10,"All About My World","This Is My Post Office",1,"Library Bound Book","978-0-7660-8104-8",2017,"January 2017","7.125 X 8.500","Author","Adam Bellamy",null,null,null,null,"B",null,"Grade K - 1","Grade Pre-K - 1","Using simple language and high text/photo correlation, young readers will learn about what to expect at the post office, including why people go there and what a postal carrier does. A “Words to Know” section at the beginning of the book helps students learn new vocabulary they will encounter in the text, while suggestions for other titles and websites encourage students to learn more.","English",22.6,16.95,"383/.42--dc23","24 pp.",{"$f":"Table1[[#This Row],[QTY]]*Table1[[#This Row],['# of Books]]","v":0},{"$f":"Table1[[#This Row],[QTY]]*Table1[[#This Row],[School & Library Price]]","v":0}]
[null,null,null,10,"All About My World","This Is My Post Office",1,"eBook","978-0-7660-8105-5",2017,"January 2017",null,"Author","Adam Bellamy",null,null,null,null,"B",null,"Grade K - 1","Grade Pre-K - 1","Using simple language and high text/photo correlation, young readers will learn about what to expect at the post office, including why people go there and what a postal carrier does. A “Words to Know” section at the beginning of the book helps students learn new vocabulary they will encounter in the text, while suggestions for other titles and websites encourage students to learn more.","English",22.6,16.95,"383/.42--dc23","24 pp.",{"$f":"Table1[[#This Row],[QTY]]*Table1[[#This Row],['# of Books]]","v":0},{"$f":"Table1[[#This Row],[QTY]]*Table1[[#This Row],[School & Library Price]]","v":0}]
[null,null,null,10,"All About My World","This Is My School",1,"Library Bound Book","978-0-7660-8085-0",2017,"January 2017","7.125 X 8.500","Author","Adam Bellamy",null,null,null,null,"B",null,"Grade K - 1","Grade Pre-K - 1","Using simple language and a high text/photo correlation, young readers will learn about what to expect from a day at school, including how kids get to school, what subjects teachers teach, and where students have recess and lunch. A “Words to Know” section at the beginning of the book helps students learn new vocabulary they will encounter in the text, while suggestions for other titles and websites encourage students to learn more.","English",22.6,16.95,"371--dc23","24 pp.",{"$f":"Table1[[#This Row],[QTY]]*Table1[[#This Row],['# of Books]]","v":0},{"$f":"Table1[[#This Row],[QTY]]*Table1[[#This Row],[School & Library Price]]","v":0}]
[null,null,null,10,"All About My World","This Is My School",1,"eBook","978-0-7660-8086-7",2017,"January 2017",null,"Author","Adam Bellamy",null,null,null,null,"B",null,"Grade K - 1","Grade Pre-K - 1","Using simple language and a high text/photo correlation, young readers will learn about what to expect from a day at school, including how kids get to school, what subjects teachers teach, and where students have recess and lunch. A “Words to Know” section at the beginning of the book helps students learn new vocabulary they will encounter in the text, while suggestions for other titles and websites encourage students to learn more.","English",22.6,16.95,"371--dc23","24 pp.",{"$f":"Table1[[#This Row],[QTY]]*Table1[[#This Row],['# of Books]]","v":0},{"$f":"Table1[[#This Row],[QTY]]*Table1[[#This Row],[School & Library Price]]","v":0}]
[null,null,null,11,"All About Opposites","All About Opposites",6,"Library Set","978-0-7660-8464-3",2017,"January 2017","7.125 X 8.500",null,null,null,null,null,null,null,null,"Grade K - 1","Grade Pre-K - 1","Beginning readers will learn about some of the world’s most common opposites: tall and short, hot and cold, young and old, day and night, tight and loose, and wide and narrow. Through simple text and large full-color photos, opposites are explained in ways that are easy to understand and will help early readers gain confidence in their reading skills.","English",135.6,101.7,null,"24 pp.",{"$f":"Table1[[#This Row],[QTY]]*Table1[[#This Row],['# of Books]]","v":0},{"$f":"Table1[[#This Row],[QTY]]*Table1[[#This Row],[School & Library Price]]","v":0}]
[null,null,null,11,"All About Opposites","Day and Night",1,"Library Bound Book","978-0-7660-8088-1",2017,"January 2017","7.125 X 8.500","Author","Tom Hughes",null,null,null,null,"A",null,"Grade K - 1","Grade Pre-K - 1","Through easy-to-follow text and full-color photos, the concepts of day and night are explained in ways that are easy for readers to understand using topics such as the diurnal and nocturnal activities of people and animals. A “Words to Know” section at the beginning of the book helps students learn new vocabulary they will encounter in the text, while suggestions for other titles and websites encourage students to learn more.","English",22.6,16.95,"525/.35--dc23","24 pp.",{"$f":"Table1[[#This Row],[QTY]]*Table1[[#This Row],['# of Books]]","v":0},{"$f":"Table1[[#This Row],[QTY]]*Table1[[#This Row],[School & Library Price]]","v":0}]
[null,null,null,11,"All About Opposites","Day and Night",1,"eBook","978-0-7660-8090-4",2017,"January 2017",null,"Author","Tom Hughes",null,null,null,null,"A",null,"Grade K - 1","Grade Pre-K - 1","Through easy-to-follow text and full-color photos, the concepts of day and night are explained in ways that are easy for readers to understand using topics such as the diurnal and nocturnal activities of people and animals. A “Words to Know” section at the beginning of the book helps students learn new vocabulary they will encounter in the text, while suggestions for other titles and websites encourage students to learn more.","English",22.6,16.95,"525/.35--dc23","24 pp.",{"$f":"Table1[[#This Row],[QTY]]*Table1[[#This Row],['# of Books]]","v":0},{"$f":"Table1[[#This Row],[QTY]]*Table1[[#This Row],[School & Library Price]]","v":0}]
[null,null,null,11,"All About Opposites","Hot and Cold",1,"Library Bound Book","978-0-7660-8112-3",2017,"January 2017","7.125 X 8.500","Author","Tom Hughes",null,null,null,null,"A",null,"Grade K - 1","Grade Pre-K - 1","Through straightforward text and vivid images, the concepts of hot and cold are explained in a way that is easy for readers to comprehend using topics such as food and seasons. A “Words to Know” section at the beginning of the book helps students learn new vocabulary they will encounter in the text, while suggestions for other titles and websites encourage students to learn more.","English",22.6,16.95,"536--dc23","24 pp.",{"$f":"Table1[[#This Row],[QTY]]*Table1[[#This Row],['# of Books]]","v":0},{"$f":"Table1[[#This Row],[QTY]]*Table1[[#This Row],[School & Library Price]]","v":0}]
[null,null,null,11,"All About Opposites","Hot and Cold",1,"eBook","978-0-7660-8113-0",2017,"January 2017",null,"Author","Tom Hughes",null,null,null,null,"A",null,"Grade K - 1","Grade Pre-K - 1","Through straightforward text and vivid images, the concepts of hot and cold are explained in a way that is easy for readers to comprehend using topics such as food and seasons. A “Words to Know” section at the beginning of the book helps students learn new vocabulary they will encounter in the text, while suggestions for other titles and websites encourage students to learn more.","English",22.6,16.95,"536--dc23","24 pp.",{"$f":"Table1[[#This Row],[QTY]]*Table1[[#This Row],['# of Books]]","v":0},{"$f":"Table1[[#This Row],[QTY]]*Table1[[#This Row],[School & Library Price]]","v":0}]
[null,null,null,11,"All About Opposites","Old and Young",1,"Library Bound Book","978-0-7660-8115-4",2017,"January 2017","7.125 X 8.500","Author","Tom Hughes",null,null,null,null,"B",null,"Grade K - 1","Grade Pre-K - 1","Through accessible text and full-color photos, the concepts of old and young are easily illustrated for readers using such topics as animals, trees, and clothes. A “Words to Know” section at the beginning of the book helps students learn new vocabulary they will encounter in the text, while suggestions for other titles and websites encourage students to learn more.","English",22.6,16.95,"305.26--dc23","24 pp.",{"$f":"Table1[[#This Row],[QTY]]*Table1[[#This Row],['# of Books]]","v":0},{"$f":"Table1[[#This Row],[QTY]]*Table1[[#This Row],[School & Library Price]]","v":0}]
[null,null,null,11,"All About Opposites","Old and Young",1,"eBook","978-0-7660-8118-5",2017,"January 2017",null,"Author","Tom Hughes",null,null,null,null,"B",null,"Grade K - 1","Grade Pre-K - 1","Through accessible text and full-color photos, the concepts of old and young are easily illustrated for readers using such topics as animals, trees, and clothes. A “Words to Know” section at the beginning of the book helps students learn new vocabulary they will encounter in the text, while suggestions for other titles and websites encourage students to learn more.","English",22.6,16.95,"305.26--dc23","24 pp.",{"$f":"Table1[[#This Row],[QTY]]*Table1[[#This Row],['# of Books]]","v":0},{"$f":"Table1[[#This Row],[QTY]]*Table1[[#This Row],[School & Library Price]]","v":0}]
[null,null,null,11,"All About Opposites","Tall and Short",1,"Library Bound Book","978-0-7660-8080-5",2017,"January 2017","7.125 X 8.500","Author","Tom Hughes",null,null,null,null,"B",null,"Grade K - 1","Grade Pre-K - 1","Through easy-to-follow text with full-color photos that correlate, students will learn about the concepts of tall and short using such topics as people, animals, and buildings. A “Words to Know” section at the beginning of the book helps students learn new vocabulary they will encounter in the text, while suggestions for other titles and websites encourage students to learn more.","English",22.6,16.95,"153.7/52--dc23","24 pp.",{"$f":"Table1[[#This Row],[QTY]]*Table1[[#This Row],['# of Books]]","v":0},{"$f":"Table1[[#This Row],[QTY]]*Table1[[#This Row],[School & Library Price]]","v":0}]
[null,null,null,11,"All About Opposites","Tall and Short",1,"eBook","978-0-7660-8081-2",2017,"January 2017",null,"Author","Tom Hughes",null,null,null,null,"B",null,"Grade K - 1","Grade Pre-K - 1","Through easy-to-follow text with full-color photos that correlate, students will learn about the concepts of tall and short using such topics as people, animals, and buildings. A “Words to Know” section at the beginning of the book helps students learn new vocabulary they will encounter in the text, while suggestions for other titles and websites encourage students to learn more.","English",22.6,16.95,"153.7/52--dc23","24 pp.",{"$f":"Table1[[#This Row],[QTY]]*Table1[[#This Row],['# of Books]]","v":0},{"$f":"Table1[[#This Row],[QTY]]*Table1[[#This Row],[School & Library Price]]","v":0}]
[null,null,null,11,"All About Opposites","Tight and Loose",1,"Library Bound Book","978-0-7660-8123-9",2017,"January 2017","7.125 X 8.500","Author","Tom Hughes",null,null,null,null,"C",null,"Grade K - 1","Grade Pre-K - 1","Through accessible text and dynamic photos, readers will learn about the concepts of tight and loose using such topics as knots, rings, and clothing. A “Words to Know” section at the beginning of the book helps students learn new vocabulary they will encounter in the text, while suggestions for other titles and websites encourage students to learn more.","English",22.6,16.95,"153.7/52--dc23","24 pp.",{"$f":"Table1[[#This Row],[QTY]]*Table1[[#This Row],['# of Books]]","v":0},{"$f":"Table1[[#This Row],[QTY]]*Table1[[#This Row],[School & Library Price]]","v":0}]
[null,null,null,11,"All About Opposites","Tight and Loose",1,"eBook","978-0-7660-8124-6",2017,"January 2017",null,"Author","Tom Hughes",null,null,null,null,"C",null,"Grade K - 1","Grade Pre-K - 1","Through accessible text and dynamic photos, readers will learn about the concepts of tight and loose using such topics as knots, rings, and clothing. A “Words to Know” section at the beginning of the book helps students learn new vocabulary they will encounter in the text, while suggestions for other titles and websites encourage students to learn more.","English",22.6,16.95,"153.7/52--dc23","24 pp.",{"$f":"Table1[[#This Row],[QTY]]*Table1[[#This Row],['# of Books]]","v":0},{"$f":"Table1[[#This Row],[QTY]]*Table1[[#This Row],[School & Library Price]]","v":0}]
[null,null,null,11,"All About Opposites","Wide and Narrow",1,"Library Bound Book","978-0-7660-8120-8",2017,"January 2017","7.125 X 8.500","Author","Tom Hughes",null,null,null,null,"C",null,"Grade K - 1","Grade Pre-K - 1","Through straightforward text and full-color photos, readers will learn about the concepts of wide versus narrow using such topics as animals, vehicles, and streets. A “Words to Know” section at the beginning of the book helps students learn new vocabulary they will encounter in the text, while suggestions for other titles and websites encourage students to learn more.","English",22.6,16.95,"153.7/52--dc23","24 pp.",{"$f":"Table1[[#This Row],[QTY]]*Table1[[#This Row],['# of Books]]","v":0},{"$f":"Table1[[#This Row],[QTY]]*Table1[[#This Row],[School & Library Price]]","v":0}]
[null,null,null,11,"All About Opposites","Wide and Narrow",1,"eBook","978-0-7660-8121-5",2017,"January 2017",null,"Author","Tom Hughes",null,null,null,null,"C",null,"Grade K - 1","Grade Pre-K - 1","Through straightforward text and full-color photos, readers will learn about the concepts of wide versus narrow using such topics as animals, vehicles, and streets. A “Words to Know” section at the beginning of the book helps students learn new vocabulary they will encounter in the text, while suggestions for other titles and websites encourage students to learn more.","English",22.6,16.95,"153.7/52--dc23","24 pp.",{"$f":"Table1[[#This Row],[QTY]]*Table1[[#This Row],['# of Books]]","v":0},{"$f":"Table1[[#This Row],[QTY]]*Table1[[#This Row],[School & Library Price]]","v":0}]
[null,null,null,12,"All About Baby Zoo Animals","All About Baby Zoo Animals",18,"Library Set","978-0-7660-7936-6",2017,"August 2016","7.125 X 8.500",null,null,null,null,null,null,null,null,"Grade K - 1","Grade Pre-K - 1","Through simple text supported by large, full-color photos, young readers will learn all about some of their favorite baby zoo animals, including their diets, behaviors, and what makes them unique in the animal kingdom. An illustrated Words to Know at the beginning of the book will help readers understand new vocabulary they will encounter in the text.","English",406.8,305.10000000000002,null,"24 pp.",{"$f":"Table1[[#This Row],[QTY]]*Table1[[#This Row],['# of Books]]","v":0},{"$f":"Table1[[#This Row],[QTY]]*Table1[[#This Row],[School & Library Price]]","v":0}]
[null,null,null,12,"All About Baby Zoo Animals","Baby Elephants at the Zoo",1,"Library Bound Book","978-0-7660-7091-2",2016,"August 2015","7.125 X 8.500","Author","Eustacia Moldovo",1.7,0.5,null,null,"D",null,"Grade K - 1","Grade Pre-K - 1","What does a baby elephant eat? What is a family of elephants called? Where can you see a baby elephant? At the zoo, of course! This book is filled with fun facts and photographs that will inform and entertain young readers about elephants and their lives in the zoo.","English",22.6,16.95,"599.6713'92—dc23","24 pp.",{"$f":"Table1[[#This Row],[QTY]]*Table1[[#This Row],['# of Books]]","v":0},{"$f":"Table1[[#This Row],[QTY]]*Table1[[#This Row],[School & Library Price]]","v":0}]
[null,null,null,12,"All About Baby Zoo Animals","Baby Elephants at the Zoo",1,"eBook","978-0-7660-7092-9",2016,"August 2015",null,"Author","Eustacia Moldovo",1.7,0.5,null,null,"D",null,"Grade K - 1","Grade Pre-K - 1","What does a baby elephant eat? What is a family of elephants called? Where can you see a baby elephant? At the zoo, of course! This book is filled with fun facts and photographs that will inform and entertain young readers about elephants and their lives in the zoo.","English",22.6,16.95,"599.6713'92—dc23","24 pp.",{"$f":"Table1[[#This Row],[QTY]]*Table1[[#This Row],['# of Books]]","v":0},{"$f":"Table1[[#This Row],[QTY]]*Table1[[#This Row],[School & Library Price]]","v":0}]
[null,null,null,12,"All About Baby Zoo Animals","Baby Flamingos at the Zoo",1,"Library Bound Book","978-0-7660-7565-8",2017,"August 2016","7.125 X 8.500","Author","Cecelia H. Brannon",2.2999999999999998,0.5,null,null,"D",null,"Grade K - 1","Grade Pre-K - 1","Large, easy-to-read text and full-page color photos show readers what life is like for a baby orangutan at the zoo, including what it eats, how it spends its time, and how it communicates. An illustrated Words to Know section at the beginning of the book prepares readers to understand the vocabulary they will encounter in the text.","English",22.6,16.95,"591.3/92073--dc23","24 pp.",{"$f":"Table1[[#This Row],[QTY]]*Table1[[#This Row],['# of Books]]","v":0},{"$f":"Table1[[#This Row],[QTY]]*Table1[[#This Row],[School & Library Price]]","v":0}]
[null,null,null,12,"All About Baby Zoo Animals","Baby Flamingos at the Zoo",1,"eBook","978-0-7660-7540-5",2017,"August 2016",null,"Author","Cecelia H. Brannon",2.2999999999999998,0.5,null,null,"D",null,"Grade K - 1","Grade Pre-K - 1","Large, easy-to-read text and full-page color photos show readers what life is like for a baby orangutan at the zoo, including what it eats, how it spends its time, and how it communicates. An illustrated Words to Know section at the beginning of the book prepares readers to understand the vocabulary they will encounter in the text.","English",22.6,16.95,"591.3/92073--dc23","24 pp.",{"$f":"Table1[[#This Row],[QTY]]*Table1[[#This Row],['# of Books]]","v":0},{"$f":"Table1[[#This Row],[QTY]]*Table1[[#This Row],[School & Library Price]]","v":0}]
[null,null,null,12,"All About Baby Zoo Animals","Baby Giraffes at the Zoo",1,"Library Bound Book","978-0-7660-7084-4",2016,"August 2015","7.125 X 8.500","Author","Eustacia Moldovo",1.8,0.5,null,null,"D",null,"Grade K - 1","Grade Pre-K - 1","What do you call a baby giraffe? What does it eat? What does it do? Where can you see a baby giraffe? At the zoo, of course! Adorable color photographs and fun facts keep readers entertained while still introducing them to certain aspects of the life of a baby giraffe at the zoo.","English",22.6,16.95,"599.63813’92—dc23","24 pp.",{"$f":"Table1[[#This Row],[QTY]]*Table1[[#This Row],['# of Books]]","v":0},{"$f":"Table1[[#This Row],[QTY]]*Table1[[#This Row],[School & Library Price]]","v":0}]
[null,null,null,12,"All About Baby Zoo Animals","Baby Giraffes at the Zoo",1,"eBook","978-0-7660-7083-7",2016,"August 2015",null,"Author","Eustacia Moldovo",1.8,0.5,null,null,"D",null,"Grade K - 1","Grade Pre-K - 1","What do you call a baby giraffe? What does it eat? What does it do? Where can you see a baby giraffe? At the zoo, of course! Adorable color photographs and fun facts keep readers entertained while still introducing them to certain aspects of the life of a baby giraffe at the zoo.","English",22.6,16.95,"599.63813’92—dc23","24 pp.",{"$f":"Table1[[#This Row],[QTY]]*Table1[[#This Row],['# of Books]]","v":0},{"$f":"Table1[[#This Row],[QTY]]*Table1[[#This Row],[School & Library Price]]","v":0}]
[null,null,null,12,"All About Baby Zoo Animals","Baby Gorillas at the Zoo",1,"Library Bound Book","978-0-7660-7143-8",2016,"January 2016","7.125 X 8.500","Author","Cecelia H. Brannon",2.6,0.5,null,null,"D",null,"Grade K - 1","Grade Pre-K - 1","Simple text illustrated by full-page color photos gives readers an inside look into the life of a baby gorilla at the zoo. They will learn about what a baby gorilla eats, how it plays, and at what age it learns to walk. An illustrated Words to Know section at the beginning of the book prepares readers to understand the vocabulary they will encounter in the text.","English",22.6,16.95,"599.884--dc23","24 pp.",{"$f":"Table1[[#This Row],[QTY]]*Table1[[#This Row],['# of Books]]","v":0},{"$f":"Table1[[#This Row],[QTY]]*Table1[[#This Row],[School & Library Price]]","v":0}]
[null,null,null,12,"All About Baby Zoo Animals","Baby Gorillas at the Zoo",1,"eBook","978-0-7660-7144-5",2016,"January 2016",null,"Author","Cecelia H. Brannon",2.6,0.5,null,null,"D",null,"Grade K - 1","Grade Pre-K - 1","Simple text illustrated by full-page color photos gives readers an inside look into the life of a baby gorilla at the zoo. They will learn about what a baby gorilla eats, how it plays, and at what age it learns to walk. An illustrated Words to Know section at the beginning of the book prepares readers to understand the vocabulary they will encounter in the text.","English",22.6,16.95,"599.884--dc23","24 pp.",{"$f":"Table1[[#This Row],[QTY]]*Table1[[#This Row],['# of Books]]","v":0},{"$f":"Table1[[#This Row],[QTY]]*Table1[[#This Row],[School & Library Price]]","v":0}]
[null,null,null,12,"All About Baby Zoo Animals","Baby Hippos at the Zoo",1,"Library Bound Book","978-0-7660-7148-3",2016,"January 2016","7.125 X 8.500","Author","Cecelia H. Brannon",1.9,0.5,null,null,"B",null,"Grade K - 1","Grade Pre-K - 1","Simple text supported by large color photos and an illustrated Words to Know help readers learn about a hippo calf’s life in the zoo, including how it is able to sleep underwater, what it eats, and how it communicates.","English",22.6,16.95,"599.63’5139--dc23","24 pp.",{"$f":"Table1[[#This Row],[QTY]]*Table1[[#This Row],['# of Books]]","v":0},{"$f":"Table1[[#This Row],[QTY]]*Table1[[#This Row],[School & Library Price]]","v":0}]
[null,null,null,12,"All About Baby Zoo Animals","Baby Hippos at the Zoo",1,"eBook","978-0-7660-7149-0",2016,"January 2016",null,"Author","Cecelia H. Brannon",1.9,0.5,null,null,"B",null,"Grade K - 1","Grade Pre-K - 1","Simple text supported by large color photos and an illustrated Words to Know help readers learn about a hippo calf’s life in the zoo, including how it is able to sleep underwater, what it eats, and how it communicates.","English",22.6,16.95,"599.63’5139--dc23","24 pp.",{"$f":"Table1[[#This Row],[QTY]]*Table1[[#This Row],['# of Books]]","v":0},{"$f":"Table1[[#This Row],[QTY]]*Table1[[#This Row],[School & Library Price]]","v":0}]
[null,null,null,12,"All About Baby Zoo Animals","Baby Lions at the Zoo",1,"Library Bound Book","978-0-7660-7087-5",2016,"August 2015","7.125 X 8.500","Author","Eustacia Moldovo",1.6,0.5,null,null,"C",null,"Grade K - 1","Grade Pre-K - 1","What do you call a baby lion? What sorts of sounds does it make? Where can you see a baby lion? At the zoo, of course! This book keeps young readers engaged with fun facts and adorable photos. They'll want to visit the zoo again and again to see their favorite animals!","English",22.6,16.95,"599.757’139—dc23","24 pp.",{"$f":"Table1[[#This Row],[QTY]]*Table1[[#This Row],['# of Books]]","v":0},{"$f":"Table1[[#This Row],[QTY]]*Table1[[#This Row],[School & Library Price]]","v":0}]
[null,null,null,12,"All About Baby Zoo Animals","Baby Lions at the Zoo",1,"eBook","978-0-7660-7088-2",2016,"August 2015",null,"Author","Eustacia Moldovo",1.6,0.5,null,null,"C",null,"Grade K - 1","Grade Pre-K - 1","What do you call a baby lion? What sorts of sounds does it make? Where can you see a baby lion? At the zoo, of course! This book keeps young readers engaged with fun facts and adorable photos. They'll want to visit the zoo again and again to see their favorite animals!","English",22.6,16.95,"599.757’139—dc23","24 pp.",{"$f":"Table1[[#This Row],[QTY]]*Table1[[#This Row],['# of Books]]","v":0},{"$f":"Table1[[#This Row],[QTY]]*Table1[[#This Row],[School & Library Price]]","v":0}]
[null,null,null,12,"All About Baby Zoo Animals","Baby Monkeys at the Zoo",1,"Library Bound Book","978-0-7660-7075-2",2016,"August 2015","7.125 X 8.500","Author","Eustacia Moldovo",1.7,0.5,null,null,"D",null,"Grade K - 1","Grade Pre-K - 1","What does a baby monkey do? What do they eat?  Where can you see a baby monkey? At the zoo, of course! This book is as informative as it is fun. Young readers will learn interesting facts about a baby monkey's life at the zoo, and maybe discover that the lives of little monkeys aren't that different from their own.","English",22.6,16.95,"599.8’139—dc23","24 pp.",{"$f":"Table1[[#This Row],[QTY]]*Table1[[#This Row],['# of Books]]","v":0},{"$f":"Table1[[#This Row],[QTY]]*Table1[[#This Row],[School & Library Price]]","v":0}]
[null,null,null,12,"All About Baby Zoo Animals","Baby Monkeys at the Zoo",1,"eBook","978-0-7660-7076-9",2016,"August 2015",null,"Author","Eustacia Moldovo",1.7,0.5,null,null,"D",null,"Grade K - 1","Grade Pre-K - 1","What does a baby monkey do? What do they eat?  Where can you see a baby monkey? At the zoo, of course! This book is as informative as it is fun. Young readers will learn interesting facts about a baby monkey's life at the zoo, and maybe discover that the lives of little monkeys aren't that different from their own.","English",22.6,16.95,"599.8’139—dc23","24 pp.",{"$f":"Table1[[#This Row],[QTY]]*Table1[[#This Row],['# of Books]]","v":0},{"$f":"Table1[[#This Row],[QTY]]*Table1[[#This Row],[School & Library Price]]","v":0}]
[null,null,null,12,"All About Baby Zoo Animals","Baby Orangutans at the Zoo",1,"Library Bound Book","978-0-7660-7569-6",2017,"August 2016","7.125 X 8.500","Author","Cecelia H. Brannon",2.2000000000000002,0.5,null,null,"B",null,"Grade K - 1","Grade Pre-K - 1","Large, easy-to-read text and full-page color photos show readers what life is like for a baby orangutan at the zoo, including what it eats, how it spends its time, and how it communicates. An illustrated Words to Know section at the beginning of the book prepares readers to understand the vocabulary they will encounter in the text.","English",22.6,16.95,"599.88/3139--dc23","24 pp.",{"$f":"Table1[[#This Row],[QTY]]*Table1[[#This Row],['# of Books]]","v":0},{"$f":"Table1[[#This Row],[QTY]]*Table1[[#This Row],[School & Library Price]]","v":0}]
[null,null,null,12,"All About Baby Zoo Animals","Baby Orangutans at the Zoo",1,"eBook","978-0-7660-7556-6",2017,"August 2016",null,"Author","Cecelia H. Brannon",2.2000000000000002,0.5,null,null,"B",null,"Grade K - 1","Grade Pre-K - 1","Large, easy-to-read text and full-page color photos show readers what life is like for a baby orangutan at the zoo, including what it eats, how it spends its time, and how it communicates. An illustrated Words to Know section at the beginning of the book prepares readers to understand the vocabulary they will encounter in the text.","English",22.6,16.95,"599.88/3139--dc23","24 pp.",{"$f":"Table1[[#This Row],[QTY]]*Table1[[#This Row],['# of Books]]","v":0},{"$f":"Table1[[#This Row],[QTY]]*Table1[[#This Row],[School & Library Price]]","v":0}]
[null,null,null,12,"All About Baby Zoo Animals","Baby Pandas at the Zoo",1,"Library Bound Book","978-0-7660-7079-0",2016,"August 2015","7.125 X 8.500","Author","Eustacia Moldovo",1.7,0.5,null,null,"C",null,"Grade K - 1","Grade Pre-K - 1","What do you call a baby panda? What does it eat? What does it do? Where can you see a baby panda? At the zoo, of course! Adorable color photographs and fun facts keep boys and girls entertained, while still introducing them to certain aspects of the life of a baby panda at the zoo.","English",22.6,16.95,"599.789’139—dc23","24 pp.",{"$f":"Table1[[#This Row],[QTY]]*Table1[[#This Row],['# of Books]]","v":0},{"$f":"Table1[[#This Row],[QTY]]*Table1[[#This Row],[School & Library Price]]","v":0}]
[null,null,null,12,"All About Baby Zoo Animals","Baby Pandas at the Zoo",1,"eBook","978-0-7660-7080-6",2016,"August 2015",null,"Author","Eustacia Moldovo",1.7,0.5,null,null,"C",null,"Grade K - 1","Grade Pre-K - 1","What do you call a baby panda? What does it eat? What does it do? Where can you see a baby panda? At the zoo, of course! Adorable color photographs and fun facts keep boys and girls entertained, while still introducing them to certain aspects of the life of a baby panda at the zoo.","English",22.6,16.95,"599.789’139—dc23","24 pp.",{"$f":"Table1[[#This Row],[QTY]]*Table1[[#This Row],['# of Books]]","v":0},{"$f":"Table1[[#This Row],[QTY]]*Table1[[#This Row],[School & Library Price]]","v":0}]
[null,null,null,12,"All About Baby Zoo Animals","Baby Penguins at the Zoo",1,"Library Bound Book","978-0-7660-7152-0",2016,"January 2016","7.125 X 8.500","Author","Cecelia H. Brannon",1.8,0.5,null,null,"D",null,"Grade K - 1","Grade Pre-K - 1","Through simple text supported by full-page, beautiful photos, early readers will discover fascinating facts about penguin chicks at the zoo, including why they waddle, what they eat, what a family of penguins is called, and how they communicate. An illustrated Words to Know section at the beginning of the book prepares readers to understand the vocabulary they will encounter in the text.","English",22.6,16.95,"598.47’139--d23","24 pp.",{"$f":"Table1[[#This Row],[QTY]]*Table1[[#This Row],['# of Books]]","v":0},{"$f":"Table1[[#This Row],[QTY]]*Table1[[#This Row],[School & Library Price]]","v":0}]
[null,null,null,12,"All About Baby Zoo Animals","Baby Penguins at the Zoo",1,"eBook","978-0-7660-7153-7",2016,"January 2016",null,"Author","Cecelia H. Brannon",1.8,0.5,null,null,"D",null,"Grade K - 1","Grade Pre-K - 1","Through simple text supported by full-page, beautiful photos, early readers will discover fascinating facts about penguin chicks at the zoo, including why they waddle, what they eat, what a family of penguins is called, and how they communicate. An illustrated Words to Know section at the beginning of the book prepares readers to understand the vocabulary they will encounter in the text.","English",22.6,16.95,"598.47’139--d23","24 pp.",{"$f":"Table1[[#This Row],[QTY]]*Table1[[#This Row],['# of Books]]","v":0},{"$f":"Table1[[#This Row],[QTY]]*Table1[[#This Row],[School & Library Price]]","v":0}]
[null,null,null,12,"All About Baby Zoo Animals","Baby Polar Bears at the Zoo",1,"Library Bound Book","978-0-7660-7156-8",2016,"January 2016","7.125 X 8.500","Author","Cecelia H. Brannon",1.8,0.5,null,null,"C",null,"Grade K - 1","Grade Pre-K - 1","With large, easy-to-read text and color photos, beginning readers will learn about polar bear cubs and what their lives are like at the zoo, including how they can see underwater, what they eat, and how they call out to their mothers. An illustrated Words to Know section at the beginning of the book prepares readers to understand the vocabulary they will encounter in the text.","English",22.6,16.95,"599.786’139--d23","24 pp.",{"$f":"Table1[[#This Row],[QTY]]*Table1[[#This Row],['# of Books]]","v":0},{"$f":"Table1[[#This Row],[QTY]]*Table1[[#This Row],[School & Library Price]]","v":0}]
[null,null,null,12,"All About Baby Zoo Animals","Baby Polar Bears at the Zoo",1,"eBook","978-0-7660-7157-5",2016,"January 2016",null,"Author","Cecelia H. Brannon",1.8,0.5,null,null,"C",null,"Grade K - 1","Grade Pre-K - 1","With large, easy-to-read text and color photos, beginning readers will learn about polar bear cubs and what their lives are like at the zoo, including how they can see underwater, what they eat, and how they call out to their mothers. An illustrated Words to Know section at the beginning of the book prepares readers to understand the vocabulary they will encounter in the text.","English",22.6,16.95,"599.786’139--d23","24 pp.",{"$f":"Table1[[#This Row],[QTY]]*Table1[[#This Row],['# of Books]]","v":0},{"$f":"Table1[[#This Row],[QTY]]*Table1[[#This Row],[School & Library Price]]","v":0}]
[null,null,null,12,"All About Baby Zoo Animals","Baby Rhinos at the Zoo",1,"Library Bound Book","978-0-7660-7558-0",2017,"August 2016","7.125 X 8.500","Author","Cecelia H. Brannon",1.8,0.5,null,null,"D",null,"Grade K - 1","Grade Pre-K - 1","Simple text accompanied by full-page color photos give readers an inside look into the life of a rhino calf at the zoo. They will learn about what a rhino eats, what its horns are used for, and how it plays. An illustrated Words to Know section at the beginning of the book prepares readers to understand the vocabulary they will encounter in the text.","English",22.6,16.95,"599.66/8139--dc23","24 pp.",{"$f":"Table1[[#This Row],[QTY]]*Table1[[#This Row],['# of Books]]","v":0},{"$f":"Table1[[#This Row],[QTY]]*Table1[[#This Row],[School & Library Price]]","v":0}]
[null,null,null,12,"All About Baby Zoo Animals","Baby Rhinos at the Zoo",1,"eBook","978-0-7660-7528-3",2017,"August 2016",null,"Author","Cecelia H. Brannon",1.8,0.5,null,null,"D",null,"Grade K - 1","Grade Pre-K - 1","Simple text accompanied by full-page color photos give readers an inside look into the life of a rhino calf at the zoo. They will learn about what a rhino eats, what its horns are used for, and how it plays. An illustrated Words to Know section at the beginning of the book prepares readers to understand the vocabulary they will encounter in the text.","English",22.6,16.95,"599.66/8139--dc23","24 pp.",{"$f":"Table1[[#This Row],[QTY]]*Table1[[#This Row],['# of Books]]","v":0},{"$f":"Table1[[#This Row],[QTY]]*Table1[[#This Row],[School & Library Price]]","v":0}]
[null,null,null,12,"All About Baby Zoo Animals","Baby Seals at the Zoo",1,"Library Bound Book","978-0-7660-7560-3",2017,"August 2016","7.125 X 8.500","Author","Cecelia H. Brannon",1.7,0.5,null,null,"C",null,"Grade K - 1","Grade Pre-K - 1","Large, easy-to-read text and full-page color photos show readers what life is like for a baby orangutan at the zoo, including what it eats, how it spends its time, and how it communicates. An illustrated Words to Know section at the beginning of the book prepares readers to understand the vocabulary they will encounter in the text.","English",22.6,16.95,"599.79--dc23","24 pp.",{"$f":"Table1[[#This Row],[QTY]]*Table1[[#This Row],['# of Books]]","v":0},{"$f":"Table1[[#This Row],[QTY]]*Table1[[#This Row],[School & Library Price]]","v":0}]
[null,null,null,12,"All About Baby Zoo Animals","Baby Seals at the Zoo",1,"eBook","978-0-7660-7534-4",2017,"August 2016",null,"Author","Cecelia H. Brannon",1.7,0.5,null,null,"C",null,"Grade K - 1","Grade Pre-K - 1","Large, easy-to-read text and full-page color photos show readers what life is like for a baby orangutan at the zoo, including what it eats, how it spends its time, and how it communicates. An illustrated Words to Know section at the beginning of the book prepares readers to understand the vocabulary they will encounter in the text.","English",22.6,16.95,"599.79--dc23","24 pp.",{"$f":"Table1[[#This Row],[QTY]]*Table1[[#This Row],['# of Books]]","v":0},{"$f":"Table1[[#This Row],[QTY]]*Table1[[#This Row],[School & Library Price]]","v":0}]
[null,null,null,12,"All About Baby Zoo Animals","Baby Tigers at the Zoo",1,"Library Bound Book","978-0-7660-7559-7",2017,"August 2016","7.125 X 8.500","Author","Cecelia H. Brannon",2.1,0.5,null,null,"D",null,"Grade K - 1","Grade Pre-K - 1","With large, easy-to-read text and color photos, beginning readers will learn about tiger cubs and what their lives are like at the zoo, including how they play, what they eat, and how they communicate with each other. An illustrated Words to Know section at the beginning of the book prepares readers to understand the vocabulary they will encounter in the text.","English",22.6,16.95,"599.756139--dc23","24 pp.",{"$f":"Table1[[#This Row],[QTY]]*Table1[[#This Row],['# of Books]]","v":0},{"$f":"Table1[[#This Row],[QTY]]*Table1[[#This Row],[School & Library Price]]","v":0}]
[null,null,null,12,"All About Baby Zoo Animals","Baby Tigers at the Zoo",1,"eBook","978-0-7660-7531-3",2017,"August 2016",null,"Author","Cecelia H. Brannon",2.1,0.5,null,null,"D",null,"Grade K - 1","Grade Pre-K - 1","With large, easy-to-read text and color photos, beginning readers will learn about tiger cubs and what their lives are like at the zoo, including how they play, what they eat, and how they communicate with each other. An illustrated Words to Know section at the beginning of the book prepares readers to understand the vocabulary they will encounter in the text.","English",22.6,16.95,"599.756139--dc23","24 pp.",{"$f":"Table1[[#This Row],[QTY]]*Table1[[#This Row],['# of Books]]","v":0},{"$f":"Table1[[#This Row],[QTY]]*Table1[[#This Row],[School & Library Price]]","v":0}]
[null,null,null,12,"All About Baby Zoo Animals","Baby Turtles at the Zoo",1,"Library Bound Book","978-0-7660-7160-5",2016,"January 2016","7.125 X 8.500","Author","Cecelia H. Brannon",2,0.5,null,null,"D",null,"Grade K - 1","Grade Pre-K - 1","Large, easy-to-read text and full-page color photos show readers what life is like for a baby turtle at the zoo, including what it eats, how it spends its time in and out of the water, and what a family of turtles is called. An illustrated Words to Know section at the beginning of the book prepares readers to understand the vocabulary they will encounter in the text.","English",22.6,16.95,"598.1’3--d23","24 pp.",{"$f":"Table1[[#This Row],[QTY]]*Table1[[#This Row],['# of Books]]","v":0},{"$f":"Table1[[#This Row],[QTY]]*Table1[[#This Row],[School & Library Price]]","v":0}]
[null,null,null,12,"All About Baby Zoo Animals","Baby Turtles at the Zoo",1,"eBook","978-0-7660-7161-2",2016,"January 2016",null,"Author","Cecelia H. Brannon",2,0.5,null,null,"D",null,"Grade K - 1","Grade Pre-K - 1","Large, easy-to-read text and full-page color photos show readers what life is like for a baby turtle at the zoo, including what it eats, how it spends its time in and out of the water, and what a family of turtles is called. An illustrated Words to Know section at the beginning of the book prepares readers to understand the vocabulary they will encounter in the text.","English",22.6,16.95,"598.1’3--d23","24 pp.",{"$f":"Table1[[#This Row],[QTY]]*Table1[[#This Row],['# of Books]]","v":0},{"$f":"Table1[[#This Row],[QTY]]*Table1[[#This Row],[School & Library Price]]","v":0}]
[null,null,null,12,"All About Baby Zoo Animals","Baby Whales at the Zoo",1,"Library Bound Book","978-0-7660-7563-4",2017,"August 2016","7.125 X 8.500","Author","Cecelia H. Brannon",1.5,0.5,null,null,"C",null,"Grade K - 1","Grade Pre-K - 1","Full-page color photos support simple text to help readers learn about a whale calf's life in the zoo, including what it eats, what its blowhole is for, and what a family of whales is called. An illustrated Words to Know section at the beginning of the book prepares readers to understand the vocabulary they will encounter in the text.","English",22.6,16.95,"599.5139--dc23","24 pp.",{"$f":"Table1[[#This Row],[QTY]]*Table1[[#This Row],['# of Books]]","v":0},{"$f":"Table1[[#This Row],[QTY]]*Table1[[#This Row],[School & Library Price]]","v":0}]
[null,null,null,12,"All About Baby Zoo Animals","Baby Whales at the Zoo",1,"eBook","978-0-7660-7537-5",2017,"August 2016",null,"Author","Cecelia H. Brannon",1.5,0.5,null,null,"C",null,"Grade K - 1","Grade Pre-K - 1","Full-page color photos support simple text to help readers learn about a whale calf's life in the zoo, including what it eats, what its blowhole is for, and what a family of whales is called. An illustrated Words to Know section at the beginning of the book prepares readers to understand the vocabulary they will encounter in the text.","English",22.6,16.95,"599.5139--dc23","24 pp.",{"$f":"Table1[[#This Row],[QTY]]*Table1[[#This Row],['# of Books]]","v":0},{"$f":"Table1[[#This Row],[QTY]]*Table1[[#This Row],[School & Library Price]]","v":0}]
[null,null,null,12,"All About Baby Zoo Animals","Baby Wolves at the Zoo",1,"Library Bound Book","978-0-7660-7164-3",2016,"January 2016","7.125 X 8.500","Author","Cecelia H. Brannon",1.6,0.5,null,null,"C",null,"Grade K - 1","Grade Pre-K - 1","Full-page color photos support simple text to help readers learn about a wolf pup's life in the zoo, including what it eats, how it communicates with other wolves and its zookeepers, and how it plays. An illustrated Words to Know section at the beginning of the book prepares readers to understand the vocabulary they will encounter in the text.","English",22.6,16.95,"599.773’139--d23","24 pp.",{"$f":"Table1[[#This Row],[QTY]]*Table1[[#This Row],['# of Books]]","v":0},{"$f":"Table1[[#This Row],[QTY]]*Table1[[#This Row],[School & Library Price]]","v":0}]
[null,null,null,12,"All About Baby Zoo Animals","Baby Wolves at the Zoo",1,"eBook","978-0-7660-7165-0",2016,"January 2016",null,"Author","Cecelia H. Brannon",1.6,0.5,null,null,"C",null,"Grade K - 1","Grade Pre-K - 1","Full-page color photos support simple text to help readers learn about a wolf pup's life in the zoo, including what it eats, how it communicates with other wolves and its zookeepers, and how it plays. An illustrated Words to Know section at the beginning of the book prepares readers to understand the vocabulary they will encounter in the text.","English",22.6,16.95,"599.773’139--d23","24 pp.",{"$f":"Table1[[#This Row],[QTY]]*Table1[[#This Row],['# of Books]]","v":0},{"$f":"Table1[[#This Row],[QTY]]*Table1[[#This Row],[School & Library Price]]","v":0}]
[null,null,null,12,"All About Baby Zoo Animals","Baby Zebras at the Zoo",1,"Library Bound Book","978-0-7660-7095-0",2016,"August 2015","7.125 X 8.500","Author","Eustacia Moldovo",1.8,0.5,null,null,"D",null,"Grade K - 1","Grade Pre-K - 1","What is a baby zebra called? What sounds does it make? Where can you see a baby zebra and its family? At the zoo, of course! This book, filled with photos and engaging details, teaches young readers about baby zebras and their lives at the zoo. They'll want to visit the zoo again and again to see their favorite animals!","English",22.6,16.95,"599.665’7139—dc23","24 pp.",{"$f":"Table1[[#This Row],[QTY]]*Table1[[#This Row],['# of Books]]","v":0},{"$f":"Table1[[#This Row],[QTY]]*Table1[[#This Row],[School & Library Price]]","v":0}]
[null,null,null,12,"All About Baby Zoo Animals","Baby Zebras at the Zoo",1,"eBook","978-0-7660-7096-7",2016,"August 2015",null,"Author","Eustacia Moldovo",1.8,0.5,null,null,"D",null,"Grade K - 1","Grade Pre-K - 1","What is a baby zebra called? What sounds does it make? Where can you see a baby zebra and its family? At the zoo, of course! This book, filled with photos and engaging details, teaches young readers about baby zebras and their lives at the zoo. They'll want to visit the zoo again and again to see their favorite animals!","English",22.6,16.95,"599.665’7139—dc23","24 pp.",{"$f":"Table1[[#This Row],[QTY]]*Table1[[#This Row],['# of Books]]","v":0},{"$f":"Table1[[#This Row],[QTY]]*Table1[[#This Row],[School & Library Price]]","v":0}]
[null,null,null,13,"All About Pets","All About Pets",6,"Library Set","978-0-7660-7488-0",2017,"August 2016","7.125 X 8.500",null,null,null,null,null,null,null,null,"Grade K - 1","Grade Pre-K - 1","Pets are members of our families, too. Through simple text supported by photos, early readers can learn all about their favorite pets, including what they eat, where they live, and what they need to be healthy. These books will help create a foundation for responsible pet ownership.","English",135.6,101.7,null,"24 pp.",{"$f":"Table1[[#This Row],[QTY]]*Table1[[#This Row],['# of Books]]","v":0},{"$f":"Table1[[#This Row],[QTY]]*Table1[[#This Row],[School & Library Price]]","v":0}]
[null,null,null,13,"All About Pets","Pet Cats",1,"Library Bound Book","978-0-7660-7604-4",2017,"August 2016","7.125 X 8.500","Author","Cecelia H. Brannon",1.4,0.5,null,null,"C",null,"Grade K - 1","Grade Pre-K - 1","Full-page color photos support simple text to help readers learn about rabbits, including what they eat, what they need to stay healthy, and how to soothe a nervous bunny. An illustrated Words to Know section at the beginning of the book prepares readers to understand the vocabulary they will encounter in the text.","English",22.6,16.95,"636.8--dc23","24 pp.",{"$f":"Table1[[#This Row],[QTY]]*Table1[[#This Row],['# of Books]]","v":0},{"$f":"Table1[[#This Row],[QTY]]*Table1[[#This Row],[School & Library Price]]","v":0}]
[null,null,null,13,"All About Pets","Pet Cats",1,"eBook","978-0-7660-7594-8",2017,"August 2016",null,"Author","Cecelia H. Brannon",1.4,0.5,null,null,"C",null,"Grade K - 1","Grade Pre-K - 1","Full-page color photos support simple text to help readers learn about rabbits, including what they eat, what they need to stay healthy, and how to soothe a nervous bunny. An illustrated Words to Know section at the beginning of the book prepares readers to understand the vocabulary they will encounter in the text.","English",22.6,16.95,"636.8--dc23","24 pp.",{"$f":"Table1[[#This Row],[QTY]]*Table1[[#This Row],['# of Books]]","v":0},{"$f":"Table1[[#This Row],[QTY]]*Table1[[#This Row],[School & Library Price]]","v":0}]
[null,null,null,13,"All About Pets","Pet Dogs",1,"Library Bound Book","978-0-7660-7602-0",2017,"August 2016","7.125 X 8.500","Author","Cecelia H. Brannon",1.4,0.5,null,null,"C",null,"Grade K - 1","Grade Pre-K - 1","With large, easy-to-read text and color photos, beginning readers will learn about dogs, including what tricks they can learn, what they eat, and why they chew on bones. An illustrated Words to Know section at the beginning of the book prepares readers to understand the vocabulary they will encounter in the text.","English",22.6,16.95,"636.7--dc23","24 pp.",{"$f":"Table1[[#This Row],[QTY]]*Table1[[#This Row],['# of Books]]","v":0},{"$f":"Table1[[#This Row],[QTY]]*Table1[[#This Row],[School & Library Price]]","v":0}]
[null,null,null,13,"All About Pets","Pet Dogs",1,"eBook","978-0-7660-7592-4",2017,"August 2016",null,"Author","Cecelia H. Brannon",1.4,0.5,null,null,"C",null,"Grade K - 1","Grade Pre-K - 1","With large, easy-to-read text and color photos, beginning readers will learn about dogs, including what tricks they can learn, what they eat, and why they chew on bones. An illustrated Words to Know section at the beginning of the book prepares readers to understand the vocabulary they will encounter in the text.","English",22.6,16.95,"636.7--dc23","24 pp.",{"$f":"Table1[[#This Row],[QTY]]*Table1[[#This Row],['# of Books]]","v":0},{"$f":"Table1[[#This Row],[QTY]]*Table1[[#This Row],[School & Library Price]]","v":0}]
[null,null,null,13,"All About Pets","Pet Goldfish",1,"Library Bound Book","978-0-7660-7606-8",2017,"August 2016","7.125 X 8.500","Author","Cecelia H. Brannon",1.9,0.5,null,null,"B",null,"Grade K - 1","Grade Pre-K - 1","Simple text supported by large color photos and an illustrated Words to Know help readers learn about goldfish, including what they eat, how often their tanks must be cleaned, and the many different colors they come in. An illustrated Words to Know section at the beginning of the book prepares readers to understand the vocabulary they will encounter in the text.","English",22.6,16.95,"639.3/7484--dc23","24 pp.",{"$f":"Table1[[#This Row],[QTY]]*Table1[[#This Row],['# of Books]]","v":0},{"$f":"Table1[[#This Row],[QTY]]*Table1[[#This Row],[School & Library Price]]","v":0}]
[null,null,null,13,"All About Pets","Pet Goldfish",1,"eBook","978-0-7660-7597-9",2017,"August 2016",null,"Author","Cecelia H. Brannon",1.9,0.5,null,null,"B",null,"Grade K - 1","Grade Pre-K - 1","Simple text supported by large color photos and an illustrated Words to Know help readers learn about goldfish, including what they eat, how often their tanks must be cleaned, and the many different colors they come in. An illustrated Words to Know section at the beginning of the book prepares readers to understand the vocabulary they will encounter in the text.","English",22.6,16.95,"639.3/7484--dc23","24 pp.",{"$f":"Table1[[#This Row],[QTY]]*Table1[[#This Row],['# of Books]]","v":0},{"$f":"Table1[[#This Row],[QTY]]*Table1[[#This Row],[School & Library Price]]","v":0}]
[null,null,null,13,"All About Pets","Pet Hamsters",1,"Library Bound Book","978-0-7660-7601-3",2017,"August 2016","7.125 X 8.500","Author","Cecelia H. Brannon",1.8,0.5,null,null,"B",null,"Grade K - 1","Grade Pre-K - 1","Through simple text supported by full-page, beautiful photos, early readers will discover fascinating facts about hamsters, including how they exercise, what they eat, and why they have cheek pouches. An illustrated Words to Know section at the beginning of the book helps readers understand new words they will encounter in the text.","English",22.6,16.95,"636.935/6--dc23","24 pp.",{"$f":"Table1[[#This Row],[QTY]]*Table1[[#This Row],['# of Books]]","v":0},{"$f":"Table1[[#This Row],[QTY]]*Table1[[#This Row],[School & Library Price]]","v":0}]
[null,null,null,13,"All About Pets","Pet Hamsters",1,"eBook","978-0-7660-7919-9",2017,"August 2016",null,"Author","Cecelia H. Brannon",1.8,0.5,null,null,"B",null,"Grade K - 1","Grade Pre-K - 1","Through simple text supported by full-page, beautiful photos, early readers will discover fascinating facts about hamsters, including how they exercise, what they eat, and why they have cheek pouches. An illustrated Words to Know section at the beginning of the book helps readers understand new words they will encounter in the text.","English",22.6,16.95,"636.935/6--dc23","24 pp.",{"$f":"Table1[[#This Row],[QTY]]*Table1[[#This Row],['# of Books]]","v":0},{"$f":"Table1[[#This Row],[QTY]]*Table1[[#This Row],[School & Library Price]]","v":0}]
[null,null,null,13,"All About Pets","Pet Parakeets",1,"Library Bound Book","978-0-7660-7607-5",2017,"August 2016","7.125 X 8.500","Author","Cecelia H. Brannon",1.9,0.5,null,null,"C",null,"Grade K - 1","Grade Pre-K - 1","Large, easy-to-read text and full-page color photos show readers what life is like for pet parakeets, including what they eat, how they communicate, and how they exercise and bathe. An illustrated Words to Know section at the beginning of the book helps readers understand new words they will encounter in the text.","English",22.6,16.95,"636.6/865--dc23","24 pp.",{"$f":"Table1[[#This Row],[QTY]]*Table1[[#This Row],['# of Books]]","v":0},{"$f":"Table1[[#This Row],[QTY]]*Table1[[#This Row],[School & Library Price]]","v":0}]
[null,null,null,13,"All About Pets","Pet Parakeets",1,"eBook","978-0-7660-7598-6",2017,"August 2016",null,"Author","Cecelia H. Brannon",1.9,0.5,null,null,"C",null,"Grade K - 1","Grade Pre-K - 1","Large, easy-to-read text and full-page color photos show readers what life is like for pet parakeets, including what they eat, how they communicate, and how they exercise and bathe. An illustrated Words to Know section at the beginning of the book helps readers understand new words they will encounter in the text.","English",22.6,16.95,"636.6/865--dc23","24 pp.",{"$f":"Table1[[#This Row],[QTY]]*Table1[[#This Row],['# of Books]]","v":0},{"$f":"Table1[[#This Row],[QTY]]*Table1[[#This Row],[School & Library Price]]","v":0}]
[null,null,null,13,"All About Pets","Pet Rabbits",1,"Library Bound Book","978-0-7660-7605-1",2017,"August 2016","7.125 X 8.500","Author","Cecelia H. Brannon",1.7,0.5,null,null,"B",null,"Grade K - 1","Grade Pre-K - 1","Full-page color photos support simple text to help readers learn about rabbits, including what they eat, what they need to stay healthy, and how to soothe a nervous bunny. An illustrated Words to Know section at the beginning of the book prepares readers to understand the vocabulary they will encounter in the text.","English",22.6,16.95,"636.932/2--dc23","24 pp.",{"$f":"Table1[[#This Row],[QTY]]*Table1[[#This Row],['# of Books]]","v":0},{"$f":"Table1[[#This Row],[QTY]]*Table1[[#This Row],[School & Library Price]]","v":0}]
[null,null,null,13,"All About Pets","Pet Rabbits",1,"eBook","978-0-7660-7595-5",2017,"August 2016",null,"Author","Cecelia H. Brannon",1.7,0.5,null,null,"B",null,"Grade K - 1","Grade Pre-K - 1","Full-page color photos support simple text to help readers learn about rabbits, including what they eat, what they need to stay healthy, and how to soothe a nervous bunny. An illustrated Words to Know section at the beginning of the book prepares readers to understand the vocabulary they will encounter in the text.","English",22.6,16.95,"636.932/2--dc23","24 pp.",{"$f":"Table1[[#This Row],[QTY]]*Table1[[#This Row],['# of Books]]","v":0},{"$f":"Table1[[#This Row],[QTY]]*Table1[[#This Row],[School & Library Price]]","v":0}]
[null,null,null,13,"All About Character","All About Character",6,"Library Set","978-0-7660-7132-2",2016,"August 2015","7.125 X 8.500",null,null,null,null,null,null,null,null,"Grade Pre-K - 1","Grade Pre-K - 1","Character education is most effectively done by example. Each book in this charming series uses real-life scenarios to illustrate a particular aspect of good character. Each spread contains large, easy-to-read text and a full-page color photograph featuring a child making good choices and showing positive character traits.\n\n\n\n-Simple, accessible text\n\n-Readers connect scenarios to their own lives\n\n-\"Words to Know\" introduces key vocabulary terms\n\n-Excellent choices for character education","English",135.6,101.7,null,"24 pp.",{"$f":"Table1[[#This Row],[QTY]]*Table1[[#This Row],['# of Books]]","v":0},{"$f":"Table1[[#This Row],[QTY]]*Table1[[#This Row],[School & Library Price]]","v":0}]
[null,null,null,13,"All About Character","Being a Good Citizen",1,"Library Bound Book","978-0-7660-7103-2",2016,"August 2015","7.125 X 8.500","Author","Joanna Ponto",null,null,null,null,"D",null,"Grade Pre-K - 1","Grade Pre-K - 1","What does it mean to be a good citizen? Full-page, color photographs accompany real-life examples of good citizenship that young readers will understand, relate to, and be inspired by.","English",22.6,16.95,"323.6’5—dc23","24 pp.",{"$f":"Table1[[#This Row],[QTY]]*Table1[[#This Row],['# of Books]]","v":0},{"$f":"Table1[[#This Row],[QTY]]*Table1[[#This Row],[School & Library Price]]","v":0}]
[null,null,null,13,"All About Character","Being a Good Citizen",1,"eBook","978-0-7660-7104-9",2016,"August 2015",null,"Author","Joanna Ponto",null,null,null,null,"D",null,"Grade Pre-K - 1","Grade Pre-K - 1","What does it mean to be a good citizen? Full-page, color photographs accompany real-life examples of good citizenship that young readers will understand, relate to, and be inspired by.","English",22.6,16.95,"323.6’5—dc23","24 pp.",{"$f":"Table1[[#This Row],[QTY]]*Table1[[#This Row],['# of Books]]","v":0},{"$f":"Table1[[#This Row],[QTY]]*Table1[[#This Row],[School & Library Price]]","v":0}]
[null,null,null,13,"All About Character","Being Helpful",1,"Library Bound Book","978-0-7660-7120-9",2016,"August 2015","7.125 X 8.500","Author","Joanna Ponto",null,null,null,null,"C",null,"Grade Pre-K - 1","Grade Pre-K - 1","What does it mean to be helpful? Full-page, color photographs accompany real-life examples of kids being helpful in their homes, schools, and communities, inspiring positive character traits in young readers.","English",22.6,16.95,"177’.7—dc23","24 pp.",{"$f":"Table1[[#This Row],[QTY]]*Table1[[#This Row],['# of Books]]","v":0},{"$f":"Table1[[#This Row],[QTY]]*Table1[[#This Row],[School & Library Price]]","v":0}]
[null,null,null,13,"All About Character","Being Helpful",1,"eBook","978-0-7660-7121-6",2016,"August 2015",null,"Author","Joanna Ponto",null,null,null,null,"C",null,"Grade Pre-K - 1","Grade Pre-K - 1","What does it mean to be helpful? Full-page, color photographs accompany real-life examples of kids being helpful in their homes, schools, and communities, inspiring positive character traits in young readers.","English",22.6,16.95,"177’.7—dc23","24 pp.",{"$f":"Table1[[#This Row],[QTY]]*Table1[[#This Row],['# of Books]]","v":0},{"$f":"Table1[[#This Row],[QTY]]*Table1[[#This Row],[School & Library Price]]","v":0}]
[null,null,null,13,"All About Character","Being Honest",1,"Library Bound Book","978-0-7660-7112-4",2016,"August 2015","7.125 X 8.500","Author","Joanna Ponto",null,null,null,null,"D",null,"Grade Pre-K - 1","Grade Pre-K - 1","What does it mean to be honest? Full-page photographs illustrate real-life examples showing children being honest with their friends, families, and neighbors—even when it's hard. Young readers will realize it is not always easy, but honesty is always best.","English",22.6,16.95,"179.9—dc23","24 pp.",{"$f":"Table1[[#This Row],[QTY]]*Table1[[#This Row],['# of Books]]","v":0},{"$f":"Table1[[#This Row],[QTY]]*Table1[[#This Row],[School & Library Price]]","v":0}]
[null,null,null,13,"All About Character","Being Honest",1,"eBook","978-0-7660-7113-1",2016,"August 2015",null,"Author","Joanna Ponto",null,null,null,null,"D",null,"Grade Pre-K - 1","Grade Pre-K - 1","What does it mean to be honest? Full-page photographs illustrate real-life examples showing children being honest with their friends, families, and neighbors—even when it's hard. Young readers will realize it is not always easy, but honesty is always best.","English",22.6,16.95,"179.9—dc23","24 pp.",{"$f":"Table1[[#This Row],[QTY]]*Table1[[#This Row],['# of Books]]","v":0},{"$f":"Table1[[#This Row],[QTY]]*Table1[[#This Row],[School & Library Price]]","v":0}]
[null,null,null,13,"All About Character","Being Kind",1,"Library Bound Book","978-0-7660-7116-2",2016,"August 2015","7.125 X 8.500","Author","Joanna Ponto",null,null,null,null,"C",null,"Grade Pre-K - 1","Grade Pre-K - 1","What does it mean to be kind? Through simple scenarios illustrated by full-page color photographs, young readers are introduced to everyday kindness that will inspire them to try out their own acts of kindness.","English",22.6,16.95,"177.7—dc23","24 pp.",{"$f":"Table1[[#This Row],[QTY]]*Table1[[#This Row],['# of Books]]","v":0},{"$f":"Table1[[#This Row],[QTY]]*Table1[[#This Row],[School & Library Price]]","v":0}]
[null,null,null,13,"All About Character","Being Kind",1,"eBook","978-0-7660-7117-9",2016,"August 2015",null,"Author","Joanna Ponto",null,null,null,null,"C",null,"Grade Pre-K - 1","Grade Pre-K - 1","What does it mean to be kind? Through simple scenarios illustrated by full-page color photographs, young readers are introduced to everyday kindness that will inspire them to try out their own acts of kindness.","English",22.6,16.95,"177.7—dc23","24 pp.",{"$f":"Table1[[#This Row],[QTY]]*Table1[[#This Row],['# of Books]]","v":0},{"$f":"Table1[[#This Row],[QTY]]*Table1[[#This Row],[School & Library Price]]","v":0}]
[null,null,null,13,"All About Character","Being Respectful",1,"Library Bound Book","978-0-7660-7099-8",2016,"August 2015","7.125 X 8.500","Author","Joanna Ponto",null,null,null,null,"C",null,"Grade Pre-K - 1","Grade Pre-K - 1","What does it mean to be respectful? What are good manners? Through real-life examples and full-page photographs, young readers learn how to be respectful to teachers, family, elders, and each other.","English",22.6,16.95,"179.9—dc23","24 pp.",{"$f":"Table1[[#This Row],[QTY]]*Table1[[#This Row],['# of Books]]","v":0},{"$f":"Table1[[#This Row],[QTY]]*Table1[[#This Row],[School & Library Price]]","v":0}]
[null,null,null,13,"All About Character","Being Respectful",1,"eBook","978-0-7660-7100-1",2016,"August 2015",null,"Author","Joanna Ponto",null,null,null,null,"C",null,"Grade Pre-K - 1","Grade Pre-K - 1","What does it mean to be respectful? What are good manners? Through real-life examples and full-page photographs, young readers learn how to be respectful to teachers, family, elders, and each other.","English",22.6,16.95,"179.9—dc23","24 pp.",{"$f":"Table1[[#This Row],[QTY]]*Table1[[#This Row],['# of Books]]","v":0},{"$f":"Table1[[#This Row],[QTY]]*Table1[[#This Row],[School & Library Price]]","v":0}]
[null,null,null,13,"All About Character","Being Responsible",1,"Library Bound Book","978-0-7660-7108-7",2016,"August 2015","7.125 X 8.500","Author","Joanna Ponto",null,null,null,null,"C",null,"Grade Pre-K - 1","Grade Pre-K - 1","What does it mean to be responsible? Through full-color photos and real-life examples, young readers learn how to take responsibility for themselves and their actions.","English",22.6,16.95,"179.9—dc23","24 pp.",{"$f":"Table1[[#This Row],[QTY]]*Table1[[#This Row],['# of Books]]","v":0},{"$f":"Table1[[#This Row],[QTY]]*Table1[[#This Row],[School & Library Price]]","v":0}]
[null,null,null,13,"All About Character","Being Responsible",1,"eBook","978-0-7660-7109-4",2016,"August 2015",null,"Author","Joanna Ponto",null,null,null,null,"C",null,"Grade Pre-K - 1","Grade Pre-K - 1","What does it mean to be responsible? Through full-color photos and real-life examples, young readers learn how to take responsibility for themselves and their actions.","English",22.6,16.95,"179.9—dc23","24 pp.",{"$f":"Table1[[#This Row],[QTY]]*Table1[[#This Row],['# of Books]]","v":0},{"$f":"Table1[[#This Row],[QTY]]*Table1[[#This Row],[School & Library Price]]","v":0}]
[null,null,null,14,"All About Community Helpers","All About Community Helpers",8,"Library Set","978-0-7660-8042-3",2013,"August 2012","6.000 X 7.000",null,null,null,null,null,null,null,null,"Grade Pre-K - 1","Grade Pre-K - 1",null,"English",180.6,135.6,null,"24 pp.",{"$f":"Table1[[#This Row],[QTY]]*Table1[[#This Row],['# of Books]]","v":0},{"$f":"Table1[[#This Row],[QTY]]*Table1[[#This Row],[School & Library Price]]","v":0}]
[null,null,null,14,"All About Community Helpers","Dentists Help Us",1,"Library Bound Book","978-0-7660-4043-4",2013,"August 2012","6.000 X 7.000","Author","Aaron R. Murray",1.6,null,null,null,"C","420L","Grade Pre-K - 1","Grade Pre-K - 1","What does a dentist do? Early readers will find out in this easy-to-read title. DENTISTS HELP US lets readers learn to recognize simple words as they are repeated throughout the text. ","English",22.6,16.95,"617.6083","24 pp.",{"$f":"Table1[[#This Row],[QTY]]*Table1[[#This Row],['# of Books]]","v":0},{"$f":"Table1[[#This Row],[QTY]]*Table1[[#This Row],[School & Library Price]]","v":0}]
[null,null,null,14,"All About Community Helpers","Dentists Help Us",1,"eBook","978-0-7660-4346-6",2013,"August 2012",null,"Author","Aaron R. Murray",1.6,null,null,null,"C","420L","Grade Pre-K - 1","Grade Pre-K - 1","What does a dentist do? Early readers will find out in this easy-to-read title. DENTISTS HELP US lets readers learn to recognize simple words as they are repeated throughout the text. ","English",22.6,16.95,"617.6083","24 pp.",{"$f":"Table1[[#This Row],[QTY]]*Table1[[#This Row],['# of Books]]","v":0},{"$f":"Table1[[#This Row],[QTY]]*Table1[[#This Row],[School & Library Price]]","v":0}]
[null,null,null,14,"All About Community Helpers","EMTs Help Us",1,"Library Bound Book","978-0-7660-4050-2",2013,"August 2012","6.000 X 7.000","Author","Aaron R. Murray",1.2,null,null,null,"C","270L","Grade Pre-K - 1","Grade Pre-K - 1","What is an EMT and what does he do? New readers will learn all about this important job in this easy-to-read title. Crisp color photos enhance the simple text. ","English",22.6,16.95,"616.02","24 pp.",{"$f":"Table1[[#This Row],[QTY]]*Table1[[#This Row],['# of Books]]","v":0},{"$f":"Table1[[#This Row],[QTY]]*Table1[[#This Row],[School & Library Price]]","v":0}]
[null,null,null,14,"All About Community Helpers","EMTs Help Us",1,"eBook","978-0-7660-4348-0",2013,"August 2012",null,"Author","Aaron R. Murray",1.2,null,null,null,"C","270L","Grade Pre-K - 1","Grade Pre-K - 1","What is an EMT and what does he do? New readers will learn all about this important job in this easy-to-read title. Crisp color photos enhance the simple text. ","English",22.6,16.95,"616.02","24 pp.",{"$f":"Table1[[#This Row],[QTY]]*Table1[[#This Row],['# of Books]]","v":0},{"$f":"Table1[[#This Row],[QTY]]*Table1[[#This Row],[School & Library Price]]","v":0}]
[null,null,null,14,"All About Community Helpers","Firefighters Help Us",1,"Library Bound Book","978-0-7660-4047-2",2013,"August 2012","6.000 X 7.000","Author","Aaron R. Murray",0.7,null,null,null,"C","340L","Grade Pre-K - 1","Grade Pre-K - 1","Let's go to the firehouse and see what firefighters do! FIREFIGHTERS HELP US lets readers learn to read simple sentences as they are presented with supporting photos. ","English",22.6,16.95,"628.9","24 pp.",{"$f":"Table1[[#This Row],[QTY]]*Table1[[#This Row],['# of Books]]","v":0},{"$f":"Table1[[#This Row],[QTY]]*Table1[[#This Row],[School & Library Price]]","v":0}]
[null,null,null,14,"All About Community Helpers","Firefighters Help Us",1,"eBook","978-0-7660-4342-8",2013,"August 2012",null,"Author","Aaron R. Murray",0.7,null,null,null,"C","340L","Grade Pre-K - 1","Grade Pre-K - 1","Let's go to the firehouse and see what firefighters do! FIREFIGHTERS HELP US lets readers learn to read simple sentences as they are presented with supporting photos. ","English",22.6,16.95,"628.9","24 pp.",{"$f":"Table1[[#This Row],[QTY]]*Table1[[#This Row],['# of Books]]","v":0},{"$f":"Table1[[#This Row],[QTY]]*Table1[[#This Row],[School & Library Price]]","v":0}]
[null,null,null,14,"All About Community Helpers","Nurses Help Us",1,"Library Bound Book","978-0-7660-4044-1",2013,"August 2012","6.000 X 7.000","Author","Aaron R. Murray",1.3,null,null,null,"C","250L","Grade Pre-K - 1","Grade Pre-K - 1","Author Aaron R. Murray explores how nurses help people in this title in the ALL ABOUT COMMUNITY HELPERS series. Full-page color photos accompany the simple text. ","English",22.6,16.95,"610.73","24 pp.",{"$f":"Table1[[#This Row],[QTY]]*Table1[[#This Row],['# of Books]]","v":0},{"$f":"Table1[[#This Row],[QTY]]*Table1[[#This Row],[School & Library Price]]","v":0}]
[null,null,null,14,"All About Community Helpers","Nurses Help Us",1,"eBook","978-0-7660-4345-9",2013,"August 2012",null,"Author","Aaron R. Murray",1.3,null,null,null,"C","250L","Grade Pre-K - 1","Grade Pre-K - 1","Author Aaron R. Murray explores how nurses help people in this title in the ALL ABOUT COMMUNITY HELPERS series. Full-page color photos accompany the simple text. ","English",22.6,16.95,"610.73","24 pp.",{"$f":"Table1[[#This Row],[QTY]]*Table1[[#This Row],['# of Books]]","v":0},{"$f":"Table1[[#This Row],[QTY]]*Table1[[#This Row],[School & Library Price]]","v":0}]
[null,null,null,14,"All About Community Helpers","Police Officers Help Us",1,"Library Bound Book","978-0-7660-4048-9",2013,"August 2012","6.000 X 7.000","Author","Aaron R. Murray",1.9,null,null,null,"C","480L","Grade Pre-K - 1","Grade Pre-K - 1","What does a police officer do? This new title in the ALL ABOUT COMMUNITY HELPERS series tells of many tasks that our community helpers do. Full-page color photos reinforce the simple text. ","English",22.6,16.95,"363.2","24 pp.",{"$f":"Table1[[#This Row],[QTY]]*Table1[[#This Row],['# of Books]]","v":0},{"$f":"Table1[[#This Row],[QTY]]*Table1[[#This Row],[School & Library Price]]","v":0}]
[null,null,null,14,"All About Community Helpers","Police Officers Help Us",1,"eBook","978-0-7660-4341-1",2013,"August 2012",null,"Author","Aaron R. Murray",1.9,null,null,null,"C","480L","Grade Pre-K - 1","Grade Pre-K - 1","What does a police officer do? This new title in the ALL ABOUT COMMUNITY HELPERS series tells of many tasks that our community helpers do. Full-page color photos reinforce the simple text. ","English",22.6,16.95,"363.2","24 pp.",{"$f":"Table1[[#This Row],[QTY]]*Table1[[#This Row],['# of Books]]","v":0},{"$f":"Table1[[#This Row],[QTY]]*Table1[[#This Row],[School & Library Price]]","v":0}]
[null,null,null,14,"All About Community Helpers","Sanitation Workers Help Us",1,"Library Bound Book","978-0-7660-4049-6",2013,"August 2012","6.000 X 7.000","Author","Aaron R. Murray",2.1,null,null,null,"C","500L","Grade Pre-K - 1","Grade Pre-K - 1","Do you know what a sanitation worker does? Beginning readers will learn about this job while examining color photos that reinforce the simple text. ","English",22.6,16.95,"331.7","24 pp.",{"$f":"Table1[[#This Row],[QTY]]*Table1[[#This Row],['# of Books]]","v":0},{"$f":"Table1[[#This Row],[QTY]]*Table1[[#This Row],[School & Library Price]]","v":0}]
[null,null,null,14,"All About Community Helpers","Sanitation Workers Help Us",1,"eBook","978-0-7660-4347-3",2013,"August 2012",null,"Author","Aaron R. Murray",2.1,null,null,null,"C","500L","Grade Pre-K - 1","Grade Pre-K - 1","Do you know what a sanitation worker does? Beginning readers will learn about this job while examining color photos that reinforce the simple text. ","English",22.6,16.95,"331.7","24 pp.",{"$f":"Table1[[#This Row],[QTY]]*Table1[[#This Row],['# of Books]]","v":0},{"$f":"Table1[[#This Row],[QTY]]*Table1[[#This Row],[School & Library Price]]","v":0}]
[null,null,null,14,"All About Community Helpers","Teachers Help Us",1,"Library Bound Book","978-0-7660-4045-8",2013,"August 2012","6.000 X 7.000","Author","Aaron R. Murray",1.1000000000000001,null,null,null,"C","220L","Grade Pre-K - 1","Grade Pre-K - 1","TEACHERS HELP US lets beginning readers explore everything a teacher does. Author Aaron R. Murray's book lets readers learn to recognize simple words as they are reinforced with supporting color photos. ","English",22.6,16.95,"371.1","24 pp.",{"$f":"Table1[[#This Row],[QTY]]*Table1[[#This Row],['# of Books]]","v":0},{"$f":"Table1[[#This Row],[QTY]]*Table1[[#This Row],[School & Library Price]]","v":0}]
[null,null,null,14,"All About Community Helpers","Teachers Help Us",1,"eBook","978-0-7660-4344-2",2013,"August 2012",null,"Author","Aaron R. Murray",1.1000000000000001,null,null,null,"C","220L","Grade Pre-K - 1","Grade Pre-K - 1","TEACHERS HELP US lets beginning readers explore everything a teacher does. Author Aaron R. Murray's book lets readers learn to recognize simple words as they are reinforced with supporting color photos. ","English",22.6,16.95,"371.1","24 pp.",{"$f":"Table1[[#This Row],[QTY]]*Table1[[#This Row],['# of Books]]","v":0},{"$f":"Table1[[#This Row],[QTY]]*Table1[[#This Row],[School & Library Price]]","v":0}]
[null,null,null,14,"All About Community Helpers","Veterinarians Help Us",1,"Library Bound Book","978-0-7660-4046-5",2013,"August 2012","6.000 X 7.000","Author","Aaron R. Murray",1.2,null,null,null,"C","460L","Grade Pre-K - 1","Grade Pre-K - 1","Do you know what a veterinarian does? Author Aaron R. Murray explores this fun job in VETERINARIANS HELP US. Full-page color photos accompany the simple text. ","English",22.6,16.95,"636.089","24 pp.",{"$f":"Table1[[#This Row],[QTY]]*Table1[[#This Row],['# of Books]]","v":0},{"$f":"Table1[[#This Row],[QTY]]*Table1[[#This Row],[School & Library Price]]","v":0}]
[null,null,null,14,"All About Community Helpers","Veterinarians Help Us",1,"eBook","978-0-7660-4343-5",2013,"August 2012",null,"Author","Aaron R. Murray",1.2,null,null,null,"C","460L","Grade Pre-K - 1","Grade Pre-K - 1","Do you know what a veterinarian does? Author Aaron R. Murray explores this fun job in VETERINARIANS HELP US. Full-page color photos accompany the simple text. ","English",22.6,16.95,"636.089","24 pp.",{"$f":"Table1[[#This Row],[QTY]]*Table1[[#This Row],['# of Books]]","v":0},{"$f":"Table1[[#This Row],[QTY]]*Table1[[#This Row],[School & Library Price]]","v":0}]
[null,null,null,14,"All About Counting in the Biomes","All About Counting in the Biomes",6,"Library Set","978-0-7660-8040-9",2013,"August 2012","6.000 X 7.000",null,null,null,null,null,null,null,null,"Grade Pre-K - 1","Grade Pre-K - 1",null,"English",135.6,101.7,null,"24 pp.",{"$f":"Table1[[#This Row],[QTY]]*Table1[[#This Row],['# of Books]]","v":0},{"$f":"Table1[[#This Row],[QTY]]*Table1[[#This Row],[School & Library Price]]","v":0}]
[null,null,null,14,"All About Counting in the Biomes","Counting in the Desert 1-2-3",1,"Library Bound Book","978-0-7660-4051-9",2013,"August 2012","6.000 X 7.000","Author","Aaron R. Murray",null,null,null,null,"A",null,"Grade Pre-K - 1","Grade Pre-K - 1","Beginning readers will learn about the animals and plants that call the desert home while counting to ten in this new title in the ALL ABOUT COUNTING IN THE BIOMES series. Crisp, detailed images enhance the text, which is perfect for new readers. ","English",22.6,16.95,"551.41","24 pp.",{"$f":"Table1[[#This Row],[QTY]]*Table1[[#This Row],['# of Books]]","v":0},{"$f":"Table1[[#This Row],[QTY]]*Table1[[#This Row],[School & Library Price]]","v":0}]
[null,null,null,14,"All About Counting in the Biomes","Counting in the Desert 1-2-3",1,"eBook","978-0-7660-4350-3",2013,"August 2012",null,"Author","Aaron R. Murray",null,null,null,null,"A",null,"Grade Pre-K - 1","Grade Pre-K - 1","Beginning readers will learn about the animals and plants that call the desert home while counting to ten in this new title in the ALL ABOUT COUNTING IN THE BIOMES series. Crisp, detailed images enhance the text, which is perfect for new readers. ","English",22.6,16.95,"551.41","24 pp.",{"$f":"Table1[[#This Row],[QTY]]*Table1[[#This Row],['# of Books]]","v":0},{"$f":"Table1[[#This Row],[QTY]]*Table1[[#This Row],[School & Library Price]]","v":0}]
[null,null,null,14,"All About Counting in the Biomes","Counting in the Forest 1-2-3",1,"Library Bound Book","978-0-7660-4053-3",2013,"August 2012","6.000 X 7.000","Author","Aaron R. Murray",null,null,null,null,"A",null,"Grade Pre-K - 1","Grade Pre-K - 1","COUNTING IN THE FOREST 1-2-3 looks at the animals and plants that call the forest home. Count to ten while enjoying crisp, detailed images. The very simple text is perfect for brand new readers. ","English",22.6,16.95,"577.3","24 pp.",{"$f":"Table1[[#This Row],[QTY]]*Table1[[#This Row],['# of Books]]","v":0},{"$f":"Table1[[#This Row],[QTY]]*Table1[[#This Row],[School & Library Price]]","v":0}]
[null,null,null,14,"All About Counting in the Biomes","Counting in the Forest 1-2-3",1,"eBook","978-0-7660-4354-1",2013,"August 2012",null,"Author","Aaron R. Murray",null,null,null,null,"A",null,"Grade Pre-K - 1","Grade Pre-K - 1","COUNTING IN THE FOREST 1-2-3 looks at the animals and plants that call the forest home. Count to ten while enjoying crisp, detailed images. The very simple text is perfect for brand new readers. ","English",22.6,16.95,"577.3","24 pp.",{"$f":"Table1[[#This Row],[QTY]]*Table1[[#This Row],['# of Books]]","v":0},{"$f":"Table1[[#This Row],[QTY]]*Table1[[#This Row],[School & Library Price]]","v":0}]
[null,null,null,14,"All About Counting in the Biomes","Counting in the Grasslands 1-2-3",1,"Library Bound Book","978-0-7660-4054-0",2013,"August 2012","6.000 X 7.000","Author","Aaron R. Murray",null,null,null,null,"A",null,"Grade Pre-K - 1","Grade Pre-K - 1","Do you know which animals and plants live in the grasslands? Beginning readers will count what lives in this biome while examining color photos that enhance the simple text. ","English",22.6,16.95,"333.74","24 pp.",{"$f":"Table1[[#This Row],[QTY]]*Table1[[#This Row],['# of Books]]","v":0},{"$f":"Table1[[#This Row],[QTY]]*Table1[[#This Row],[School & Library Price]]","v":0}]
[null,null,null,14,"All About Counting in the Biomes","Counting in the Grasslands 1-2-3",1,"eBook","978-0-7660-4349-7",2013,"August 2012",null,"Author","Aaron R. Murray",null,null,null,null,"A",null,"Grade Pre-K - 1","Grade Pre-K - 1","Do you know which animals and plants live in the grasslands? Beginning readers will count what lives in this biome while examining color photos that enhance the simple text. ","English",22.6,16.95,"333.74","24 pp.",{"$f":"Table1[[#This Row],[QTY]]*Table1[[#This Row],['# of Books]]","v":0},{"$f":"Table1[[#This Row],[QTY]]*Table1[[#This Row],[School & Library Price]]","v":0}]
[null,null,null,14,"All About Counting in the Biomes","Counting in the Oceans 1-2-3",1,"Library Bound Book","978-0-7660-4052-6",2013,"August 2012","6.000 X 7.000","Author","Aaron R. Murray",null,null,null,null,"A",null,"Grade Pre-K - 1","Grade Pre-K - 1","Author Aaron R. Murray explores ocean life while counting to ten in COUNTING IN THE OCEANS 1-2-3. Beginning readers will see the animals that live in ocean while examining color photos that enhance the simple text. ","English",22.6,16.95,"577.7","24 pp.",{"$f":"Table1[[#This Row],[QTY]]*Table1[[#This Row],['# of Books]]","v":0},{"$f":"Table1[[#This Row],[QTY]]*Table1[[#This Row],[School & Library Price]]","v":0}]
[null,null,null,14,"All About Counting in the Biomes","Counting in the Oceans 1-2-3",1,"eBook","978-0-7660-4351-0",2013,"August 2012",null,"Author","Aaron R. Murray",null,null,null,null,"A",null,"Grade Pre-K - 1","Grade Pre-K - 1","Author Aaron R. Murray explores ocean life while counting to ten in COUNTING IN THE OCEANS 1-2-3. Beginning readers will see the animals that live in ocean while examining color photos that enhance the simple text. ","English",22.6,16.95,"577.7","24 pp.",{"$f":"Table1[[#This Row],[QTY]]*Table1[[#This Row],['# of Books]]","v":0},{"$f":"Table1[[#This Row],[QTY]]*Table1[[#This Row],[School & Library Price]]","v":0}]
[null,null,null,14,"All About Counting in the Biomes","Counting in the Rain Forest 1-2-3",1,"Library Bound Book","978-0-7660-4055-7",2013,"August 2012","6.000 X 7.000","Author","Aaron R. Murray",null,null,null,null,"A",null,"Grade Pre-K - 1","Grade Pre-K - 1","Author Aaron Murray looks at some of the plants and animals that live in the Rain Forest in COUNTING IN THE RAIN FOREST 1-2-3. Crisp, detailed images enhance the text, which is perfect for new readers. ","English",22.6,16.95,"577.34","24 pp.",{"$f":"Table1[[#This Row],[QTY]]*Table1[[#This Row],['# of Books]]","v":0},{"$f":"Table1[[#This Row],[QTY]]*Table1[[#This Row],[School & Library Price]]","v":0}]
[null,null,null,14,"All About Counting in the Biomes","Counting in the Rain Forest 1-2-3",1,"eBook","978-0-7660-4352-7",2013,"August 2012",null,"Author","Aaron R. Murray",null,null,null,null,"A",null,"Grade Pre-K - 1","Grade Pre-K - 1","Author Aaron Murray looks at some of the plants and animals that live in the Rain Forest in COUNTING IN THE RAIN FOREST 1-2-3. Crisp, detailed images enhance the text, which is perfect for new readers. ","English",22.6,16.95,"577.34","24 pp.",{"$f":"Table1[[#This Row],[QTY]]*Table1[[#This Row],['# of Books]]","v":0},{"$f":"Table1[[#This Row],[QTY]]*Table1[[#This Row],[School & Library Price]]","v":0}]
[null,null,null,14,"All About Counting in the Biomes","Counting in the Tundra 1-2-3",1,"Library Bound Book","978-0-7660-4056-4",2013,"August 2012","6.000 X 7.000","Author","Aaron R. Murray",null,null,null,null,"A",null,"Grade Pre-K - 1","Grade Pre-K - 1","Who calls the tundra home? Author Aaron Murray explores some of the plants and animals that live there while counting to ten. Full-page photos enhance the text for beginning readers. ","English",22.6,16.95,"577.5","24 pp.",{"$f":"Table1[[#This Row],[QTY]]*Table1[[#This Row],['# of Books]]","v":0},{"$f":"Table1[[#This Row],[QTY]]*Table1[[#This Row],[School & Library Price]]","v":0}]
[null,null,null,14,"All About Counting in the Biomes","Counting in the Tundra 1-2-3",1,"eBook","978-0-7660-4353-4",2013,"August 2012",null,"Author","Aaron R. Murray",null,null,null,null,"A",null,"Grade Pre-K - 1","Grade Pre-K - 1","Who calls the tundra home? Author Aaron Murray explores some of the plants and animals that live there while counting to ten. Full-page photos enhance the text for beginning readers. ","English",22.6,16.95,"577.5","24 pp.",{"$f":"Table1[[#This Row],[QTY]]*Table1[[#This Row],['# of Books]]","v":0},{"$f":"Table1[[#This Row],[QTY]]*Table1[[#This Row],[School & Library Price]]","v":0}]
[null,null,null,15,"Zoom in on Engineering","Zoom in on Engineering",6,"Library Set","978-0-7660-8602-9",2018,"August 2017","8.500 X 7.125",null,null,null,null,null,null,null,null,"Grade 2","Grade K - 3","Focusing on the infrastructure that helps us get things done, this series exposes readers to the inner-workings of how we get from point A to point B and how we move things around (such as electricity, supplies, and water). It supports the Next Generation Science Standards by discussing how each system or structure was developed to solve a problem and improve people’s lives as well as how it has changed over time. Each chapter will focus on one important element of the engineering topic, including inventors, advances in technology, its history, and its greater purpose in society today.\n\n\n\n","English",135.6,101.7,null,"24 pp.",{"$f":"Table1[[#This Row],[QTY]]*Table1[[#This Row],['# of Books]]","v":0},{"$f":"Table1[[#This Row],[QTY]]*Table1[[#This Row],[School & Library Price]]","v":0}]
[null,null,null,15,"Zoom in on Engineering","Zoom in on Bridges",1,"Library Bound Book","978-0-7660-8724-8",2018,"August 2017","8.500 X 7.125","Author","Hannah Isbell",null,null,null,null,"N",null,"Grade 2","Grade K - 3","Young readers will make important text-to-world connections exploring engineering concepts through the familiar structures of bridges. Simple text and informative photos engage readers as they learn about the many different kinds of bridges, their unique structures and functions, their history, and their use in the modern world. Follow-up activities will challenge students to use the mathematical and technological principles of real engineers in their own classrooms.","English",22.6,16.95,"624.2--dc23","24 pp.",{"$f":"Table1[[#This Row],[QTY]]*Table1[[#This Row],['# of Books]]","v":0},{"$f":"Table1[[#This Row],[QTY]]*Table1[[#This Row],[School & Library Price]]","v":0}]
[null,null,null,15,"Zoom in on Engineering","Zoom in on Bridges",1,"eBook","978-0-7660-8706-4",2018,"August 2017",null,"Author","Hannah Isbell",null,null,null,null,"N",null,"Grade 2","Grade K - 3","Young readers will make important text-to-world connections exploring engineering concepts through the familiar structures of bridges. Simple text and informative photos engage readers as they learn about the many different kinds of bridges, their unique structures and functions, their history, and their use in the modern world. Follow-up activities will challenge students to use the mathematical and technological principles of real engineers in their own classrooms.","English",22.6,16.95,"624.2--dc23","24 pp.",{"$f":"Table1[[#This Row],[QTY]]*Table1[[#This Row],['# of Books]]","v":0},{"$f":"Table1[[#This Row],[QTY]]*Table1[[#This Row],[School & Library Price]]","v":0}]
[null,null,null,15,"Zoom in on Engineering","Zoom in on Power Grids",1,"Library Bound Book","978-0-7660-8707-1",2018,"August 2017","8.500 X 7.125","Author","Kathy Furgang",null,null,null,null,"N",null,"Grade 2","Grade K - 3","When we flick on a lamp switch, we rarely think of the science and engineering behind the light. This straightforward and accessible text informs readers about the interconnected network that electricity takes as it moves from suppliers to users. From power stations and voltage switches to the power lines that lead to our homes, readers will gain a greater understanding of the energy we use every day. A follow-up activity utilizes a maze that allows readers to trace the correct path of electricity through a power grid.","English",22.6,16.95,"621.31--dc23","24 pp.",{"$f":"Table1[[#This Row],[QTY]]*Table1[[#This Row],['# of Books]]","v":0},{"$f":"Table1[[#This Row],[QTY]]*Table1[[#This Row],[School & Library Price]]","v":0}]
[null,null,null,15,"Zoom in on Engineering","Zoom in on Power Grids",1,"eBook","978-0-7660-8708-8",2018,"August 2017",null,"Author","Kathy Furgang",null,null,null,null,"N",null,"Grade 2","Grade K - 3","When we flick on a lamp switch, we rarely think of the science and engineering behind the light. This straightforward and accessible text informs readers about the interconnected network that electricity takes as it moves from suppliers to users. From power stations and voltage switches to the power lines that lead to our homes, readers will gain a greater understanding of the energy we use every day. A follow-up activity utilizes a maze that allows readers to trace the correct path of electricity through a power grid.","English",22.6,16.95,"621.31--dc23","24 pp.",{"$f":"Table1[[#This Row],[QTY]]*Table1[[#This Row],['# of Books]]","v":0},{"$f":"Table1[[#This Row],[QTY]]*Table1[[#This Row],[School & Library Price]]","v":0}]
[null,null,null,15,"Zoom in on Engineering","Zoom in on Rail Networks",1,"Library Bound Book","978-0-7660-8709-5",2018,"August 2017","8.500 X 7.125","Author","Hannah Isbell",null,null,null,null,"N",null,"Grade 2","Grade K - 3","Through simple text and informative photos, readers will delve into one of the most important, ubiquitous, and ever-changing technologies of the past two centuries: the train. Students will explore fundamental engineering principles through a look at unique rail networks from all over the world and will place that information in context as they learn about the important connection between technology and society. Follow-up activities will challenge students to put that knowledge to use.","English",22.6,16.95,"625.1--dc23","24 pp.",{"$f":"Table1[[#This Row],[QTY]]*Table1[[#This Row],['# of Books]]","v":0},{"$f":"Table1[[#This Row],[QTY]]*Table1[[#This Row],[School & Library Price]]","v":0}]
[null,null,null,15,"Zoom in on Engineering","Zoom in on Rail Networks",1,"eBook","978-0-7660-8710-1",2018,"August 2017",null,"Author","Hannah Isbell",null,null,null,null,"N",null,"Grade 2","Grade K - 3","Through simple text and informative photos, readers will delve into one of the most important, ubiquitous, and ever-changing technologies of the past two centuries: the train. Students will explore fundamental engineering principles through a look at unique rail networks from all over the world and will place that information in context as they learn about the important connection between technology and society. Follow-up activities will challenge students to put that knowledge to use.","English",22.6,16.95,"625.1--dc23","24 pp.",{"$f":"Table1[[#This Row],[QTY]]*Table1[[#This Row],['# of Books]]","v":0},{"$f":"Table1[[#This Row],[QTY]]*Table1[[#This Row],[School & Library Price]]","v":0}]
[null,null,null,15,"Zoom in on Engineering","Zoom in on Superhighways",1,"Library Bound Book","978-0-7660-8725-5",2018,"August 2017","8.500 X 7.125","Author","Kathy Furgang",null,null,null,null,"N",null,"Grade 2","Grade K - 3","In 1956, the United States celebrated the opening of its first interstate highway. Since then, the country has been connected from one end to the other with a matrix of highways and superhighways. This compelling book introduces readers to the engineering feat of building the superhighways that have allowed us to live more connected lives. Readers will learn about the fascinating challenges that engineers face when building superhighways over waterways and roads, underground, and with the latest safety features. A follow-up activity provides students with a road map and encourages them to write directions from one city to another.","English",22.6,16.95,"625.7--dc23","24 pp.",{"$f":"Table1[[#This Row],[QTY]]*Table1[[#This Row],['# of Books]]","v":0},{"$f":"Table1[[#This Row],[QTY]]*Table1[[#This Row],[School & Library Price]]","v":0}]
[null,null,null,15,"Zoom in on Engineering","Zoom in on Superhighways",1,"eBook","978-0-7660-8711-8",2018,"August 2017",null,"Author","Kathy Furgang",null,null,null,null,"N",null,"Grade 2","Grade K - 3","In 1956, the United States celebrated the opening of its first interstate highway. Since then, the country has been connected from one end to the other with a matrix of highways and superhighways. This compelling book introduces readers to the engineering feat of building the superhighways that have allowed us to live more connected lives. Readers will learn about the fascinating challenges that engineers face when building superhighways over waterways and roads, underground, and with the latest safety features. A follow-up activity provides students with a road map and encourages them to write directions from one city to another.","English",22.6,16.95,"625.7--dc23","24 pp.",{"$f":"Table1[[#This Row],[QTY]]*Table1[[#This Row],['# of Books]]","v":0},{"$f":"Table1[[#This Row],[QTY]]*Table1[[#This Row],[School & Library Price]]","v":0}]
[null,null,null,15,"Zoom in on Engineering","Zoom in on Tunnels",1,"Library Bound Book","978-0-7660-8712-5",2018,"August 2017","8.500 X 7.125","Author","Kevin Reilly",null,null,null,null,"N",null,"Grade 2","Grade K - 3","Through simple text and informative photos, readers will engage with this cornerstone of transit infrastructure. Each chapter will focus on a new aspect of tunnels, such as the history of their invention, technological advances in their materials and designs, and examples of their use both in ordinary life and extraordinary situations. A follow-up activity challenges readers to put into practice what they have learned.","English",22.6,16.95,"624.1/93--dc23","24 pp.",{"$f":"Table1[[#This Row],[QTY]]*Table1[[#This Row],['# of Books]]","v":0},{"$f":"Table1[[#This Row],[QTY]]*Table1[[#This Row],[School & Library Price]]","v":0}]
[null,null,null,15,"Zoom in on Engineering","Zoom in on Tunnels",1,"eBook","978-0-7660-8713-2",2018,"August 2017",null,"Author","Kevin Reilly",null,null,null,null,"N",null,"Grade 2","Grade K - 3","Through simple text and informative photos, readers will engage with this cornerstone of transit infrastructure. Each chapter will focus on a new aspect of tunnels, such as the history of their invention, technological advances in their materials and designs, and examples of their use both in ordinary life and extraordinary situations. A follow-up activity challenges readers to put into practice what they have learned.","English",22.6,16.95,"624.1/93--dc23","24 pp.",{"$f":"Table1[[#This Row],[QTY]]*Table1[[#This Row],['# of Books]]","v":0},{"$f":"Table1[[#This Row],[QTY]]*Table1[[#This Row],[School & Library Price]]","v":0}]
[null,null,null,15,"Zoom in on Engineering","Zoom in on Water and Sewage Systems",1,"Library Bound Book","978-0-7660-8714-9",2018,"August 2017","8.500 X 7.125","Author","Kathy Furgang",null,null,null,null,"N",null,"Grade 2","Grade K - 3","We take it for granted every day, but clean water is one of the most important resources we have. This behind-the-scenes look at where our water comes from and where it goes after we use it gives readers a fascinating look at how our cities and towns are structured. Readers will be given a stimulating look at our sewage systems and wastewater treatment plants, which track the water through the system. A follow-up activity encourages readers to track their water usage for a week to emphasize the importance of clean water.","English",22.6,16.95,"628.2--dc23","24 pp.",{"$f":"Table1[[#This Row],[QTY]]*Table1[[#This Row],['# of Books]]","v":0},{"$f":"Table1[[#This Row],[QTY]]*Table1[[#This Row],[School & Library Price]]","v":0}]
[null,null,null,15,"Zoom in on Engineering","Zoom in on Water and Sewage Systems",1,"eBook","978-0-7660-8715-6",2018,"August 2017",null,"Author","Kathy Furgang",null,null,null,null,"N",null,"Grade 2","Grade K - 3","We take it for granted every day, but clean water is one of the most important resources we have. This behind-the-scenes look at where our water comes from and where it goes after we use it gives readers a fascinating look at how our cities and towns are structured. Readers will be given a stimulating look at our sewage systems and wastewater treatment plants, which track the water through the system. A follow-up activity encourages readers to track their water usage for a week to emphasize the importance of clean water.","English",22.6,16.95,"628.2--dc23","24 pp.",{"$f":"Table1[[#This Row],[QTY]]*Table1[[#This Row],['# of Books]]","v":0},{"$f":"Table1[[#This Row],[QTY]]*Table1[[#This Row],[School & Library Price]]","v":0}]
[null,null,null,15,"Zoom in on Maps","Zoom in on Maps",7,"Library Set","978-0-7660-9239-6",2018,"January 2018","8.500 X 7.125"," "," ",null,null,null,null,null,null,"Grade 2","Grade K - 4","Maps are an incredible source of information. They show us where we need to go, teach us about weather patterns and political differences across regions, and even help us avoid traffic jams. Drawing on both analog and digital mapping, this series guides young readers through different maps used by both the general public and professionals. Simple text teaches students all about the special features of each map—its scale, legend, grids, and symbols—and how to read it. Before long, readers will be able to measure distance, recognize land features, and plan a route for their next trip.","English",158.19999999999999,118.65,null,"24 pp.",{"$f":"Table1[[#This Row],[QTY]]*Table1[[#This Row],['# of Books]]","v":0},{"$f":"Table1[[#This Row],[QTY]]*Table1[[#This Row],[School & Library Price]]","v":0}]
[null,null,null,15,"Zoom in on Maps","Zoom in on Climate Maps",1,"Library Bound Book","978-0-7660-9222-8",2018,"January 2018","8.500 X 7.125","Revised by","Kathy Furgang",null,null,null,null,"H",null,"Grade 2","Grade K - 4","Readers will learn about different types of climate maps, such as precipitation maps and temperature maps. They will examine a map of the different climate zones around the world and how they affect the regions. They will even discover some practical reasons that people use climate maps. A follow-up activity allows readers to examine a climate zone map and use it to prepare for an imaginary trip around the world.","English",22.6,16.95,null,"24 pp.",{"$f":"Table1[[#This Row],[QTY]]*Table1[[#This Row],['# of Books]]","v":0},{"$f":"Table1[[#This Row],[QTY]]*Table1[[#This Row],[School & Library Price]]","v":0}]
[null,null,null,15,"Zoom in on Maps","Zoom in on Climate Maps",1,"eBook","978-0-7660-9288-4",2018,"January 2018",null,"Revised by","Kathy Furgang",null,null,null,null,"H",null,"Grade 2","Grade K - 4","Readers will learn about different types of climate maps, such as precipitation maps and temperature maps. They will examine a map of the different climate zones around the world and how they affect the regions. They will even discover some practical reasons that people use climate maps. A follow-up activity allows readers to examine a climate zone map and use it to prepare for an imaginary trip around the world.","English",22.6,16.95,null,"24 pp.",{"$f":"Table1[[#This Row],[QTY]]*Table1[[#This Row],['# of Books]]","v":0},{"$f":"Table1[[#This Row],[QTY]]*Table1[[#This Row],[School & Library Price]]","v":0}]
[null,null,null,15,"Zoom in on Maps","Zoom in on Physical Maps",1,"Library Bound Book","978-0-7660-9219-8",2018,"January 2018","8.500 X 7.125","Revised by","Kathy Furgang",null,null,null,null,"G",null,"Grade 2","Grade K - 4","Readers will learn how to use maps to locate the world's oceans, rivers, mountains, and deserts. This graphic-rich book not only explains the important features of physical maps and why people use them, but it teaches the all-important skills of reading maps. From a compass rose and legend, to color coding and latitude and longitude lines, students get a taste for the basics of map reading. A follow-up activity allows students to pinpoint directions to a few secret locations around the globe.","English",22.6,16.95,"912--dc23","24 pp.",{"$f":"Table1[[#This Row],[QTY]]*Table1[[#This Row],['# of Books]]","v":0},{"$f":"Table1[[#This Row],[QTY]]*Table1[[#This Row],[School & Library Price]]","v":0}]
[null,null,null,15,"Zoom in on Maps","Zoom in on Physical Maps",1,"eBook","978-0-7660-9285-3",2018,"January 2018",null,"Revised by","Kathy Furgang",null,null,null,null,"G",null,"Grade 2","Grade K - 4","Readers will learn how to use maps to locate the world's oceans, rivers, mountains, and deserts. This graphic-rich book not only explains the important features of physical maps and why people use them, but it teaches the all-important skills of reading maps. From a compass rose and legend, to color coding and latitude and longitude lines, students get a taste for the basics of map reading. A follow-up activity allows students to pinpoint directions to a few secret locations around the globe.","English",22.6,16.95,"912--dc23","24 pp.",{"$f":"Table1[[#This Row],[QTY]]*Table1[[#This Row],['# of Books]]","v":0},{"$f":"Table1[[#This Row],[QTY]]*Table1[[#This Row],[School & Library Price]]","v":0}]
[null,null,null,15,"Zoom in on Maps","Zoom in on Political Maps",1,"Library Bound Book","978-0-7660-9220-4",2018,"January 2018","8.500 X 7.125","Revised by","Kathy Furgang",null,null,null,null,"G",null,"Grade 2","Grade K - 4","Where does Illinois end and Indiana begin? How do you know you are not entering Kentucky or Missouri instead? This informative look at political maps helps readers understand the symbols used for understanding political maps, including political borders and national and state capitals. Election maps and agricultural maps will also be explored as students analyze them for the information they provide. A follow-up activity leads students to make their own election map and write questions about it.","English",22.6,16.95,"912.01/4--dc23","24 pp.",{"$f":"Table1[[#This Row],[QTY]]*Table1[[#This Row],['# of Books]]","v":0},{"$f":"Table1[[#This Row],[QTY]]*Table1[[#This Row],[School & Library Price]]","v":0}]
[null,null,null,15,"Zoom in on Maps","Zoom in on Political Maps",1,"eBook","978-0-7660-9286-0",2018,"January 2018",null,"Revised by","Kathy Furgang",null,null,null,null,"G",null,"Grade 2","Grade K - 4","Where does Illinois end and Indiana begin? How do you know you are not entering Kentucky or Missouri instead? This informative look at political maps helps readers understand the symbols used for understanding political maps, including political borders and national and state capitals. Election maps and agricultural maps will also be explored as students analyze them for the information they provide. A follow-up activity leads students to make their own election map and write questions about it.","English",22.6,16.95,"912.01/4--dc23","24 pp.",{"$f":"Table1[[#This Row],[QTY]]*Table1[[#This Row],['# of Books]]","v":0},{"$f":"Table1[[#This Row],[QTY]]*Table1[[#This Row],[School & Library Price]]","v":0}]
[null,null,null,15,"Zoom in on Maps","Zoom in on Road Maps",1,"Library Bound Book","978-0-7660-9223-5",2018,"January 2018","8.500 X 7.125","Revised by","Kathy Furgang",null,null,null,null,"F",null,"Grade 2","Grade K - 4","This informative book helps students learn to follow a road map, including using the grid system, legend, and compass rose. Students are also taught to understand and use a scale on a map. Each topic arms students with useful knowledge about reading road maps. A follow-up activity encourages readers to use a map to write directions for a friend.","English",22.6,16.95,null,"24 pp.",{"$f":"Table1[[#This Row],[QTY]]*Table1[[#This Row],['# of Books]]","v":0},{"$f":"Table1[[#This Row],[QTY]]*Table1[[#This Row],[School & Library Price]]","v":0}]
[null,null,null,15,"Zoom in on Maps","Zoom in on Road Maps",1,"eBook","978-0-7660-9289-1",2018,"January 2018",null,"Revised by","Kathy Furgang",null,null,null,null,"F",null,"Grade 2","Grade K - 4","This informative book helps students learn to follow a road map, including using the grid system, legend, and compass rose. Students are also taught to understand and use a scale on a map. Each topic arms students with useful knowledge about reading road maps. A follow-up activity encourages readers to use a map to write directions for a friend.","English",22.6,16.95,null,"24 pp.",{"$f":"Table1[[#This Row],[QTY]]*Table1[[#This Row],['# of Books]]","v":0},{"$f":"Table1[[#This Row],[QTY]]*Table1[[#This Row],[School & Library Price]]","v":0}]
[null,null,null,15,"Zoom in on Maps","Zoom in on Satellite and Street Maps",1,"Library Bound Book","978-0-7660-9225-9",2018,"January 2018","8.500 X 7.125","Author","Kathy Furgang",null,null,null,null,"G",null,"Grade 2","Grade K - 4","This visual and instructive look at satellite maps and street maps helps readers understand the symbols, road markings, and land features of these types of maps. Concentration on a smaller area helps readers really study them carefully. A follow-up activity encourages readers to draw their own street map of their town or neighborhood.","English",22.6,16.95,"912.01/4--dc23","24 pp.",{"$f":"Table1[[#This Row],[QTY]]*Table1[[#This Row],['# of Books]]","v":0},{"$f":"Table1[[#This Row],[QTY]]*Table1[[#This Row],[School & Library Price]]","v":0}]
[null,null,null,15,"Zoom in on Maps","Zoom in on Satellite and Street Maps",1,"eBook","978-0-7660-9291-4",2018,"January 2018",null,"Author","Kathy Furgang",null,null,null,null,"G",null,"Grade 2","Grade K - 4","This visual and instructive look at satellite maps and street maps helps readers understand the symbols, road markings, and land features of these types of maps. Concentration on a smaller area helps readers really study them carefully. A follow-up activity encourages readers to draw their own street map of their town or neighborhood.","English",22.6,16.95,"912.01/4--dc23","24 pp.",{"$f":"Table1[[#This Row],[QTY]]*Table1[[#This Row],['# of Books]]","v":0},{"$f":"Table1[[#This Row],[QTY]]*Table1[[#This Row],[School & Library Price]]","v":0}]
[null,null,null,15,"Zoom in on Maps","Zoom in on Topographic Maps",1,"Library Bound Book","978-0-7660-9221-1",2018,"January 2018","8.500 X 7.125","Revised by","Kathy Furgang",null,null,null,null,"I",null,"Grade 2","Grade K - 4","You are planning a huge bike trip, so how can you find out where the mountains and flat lands are? Zoom in on a topographic map to find out. This graphic-heavy and instructive book introduces the reader to the basics of using topographic maps. They are introduced to the way elevations and contours of the land are shown on maps, and how to read the details shown on these maps. A follow-up activity encourages readers to use a contour map to plan a camping trip.","English",22.6,16.95,"912.01/4--dc23","24 pp.",{"$f":"Table1[[#This Row],[QTY]]*Table1[[#This Row],['# of Books]]","v":0},{"$f":"Table1[[#This Row],[QTY]]*Table1[[#This Row],[School & Library Price]]","v":0}]
[null,null,null,15,"Zoom in on Maps","Zoom in on Topographic Maps",1,"eBook","978-0-7660-9287-7",2018,"January 2018",null,"Revised by","Kathy Furgang",null,null,null,null,"I",null,"Grade 2","Grade K - 4","You are planning a huge bike trip, so how can you find out where the mountains and flat lands are? Zoom in on a topographic map to find out. This graphic-heavy and instructive book introduces the reader to the basics of using topographic maps. They are introduced to the way elevations and contours of the land are shown on maps, and how to read the details shown on these maps. A follow-up activity encourages readers to use a contour map to plan a camping trip.","English",22.6,16.95,"912.01/4--dc23","24 pp.",{"$f":"Table1[[#This Row],[QTY]]*Table1[[#This Row],['# of Books]]","v":0},{"$f":"Table1[[#This Row],[QTY]]*Table1[[#This Row],[School & Library Price]]","v":0}]
[null,null,null,15,"Zoom in on Maps","Zoom in on Weather Maps",1,"Library Bound Book","978-0-7660-9224-2",2018,"January 2018","8.500 X 7.125","Revised by","Kathy Furgang",null,null,null,null,"H",null,"Grade 2","Grade K - 4","Any young reader who has ever wondered about how weather is predicted will be fascinated by this book. It describes the many features of weather maps, from temperature and air pressure markings to wind speed and wind direction symbols. Students will also read about how meteorologists study and predict weather based on the information found in weather maps. A follow-up activity encourages readers to track weather over several days and make a new weather map each day to record the results.","English",22.6,16.95,null,"24 pp.",{"$f":"Table1[[#This Row],[QTY]]*Table1[[#This Row],['# of Books]]","v":0},{"$f":"Table1[[#This Row],[QTY]]*Table1[[#This Row],[School & Library Price]]","v":0}]
[null,null,null,15,"Zoom in on Maps","Zoom in on Weather Maps",1,"eBook","978-0-7660-9290-7",2018,"January 2018",null,"Revised by","Kathy Furgang",null,null,null,null,"H",null,"Grade 2","Grade K - 4","Any young reader who has ever wondered about how weather is predicted will be fascinated by this book. It describes the many features of weather maps, from temperature and air pressure markings to wind speed and wind direction symbols. Students will also read about how meteorologists study and predict weather based on the information found in weather maps. A follow-up activity encourages readers to track weather over several days and make a new weather map each day to record the results.","English",22.6,16.95,null,"24 pp.",{"$f":"Table1[[#This Row],[QTY]]*Table1[[#This Row],['# of Books]]","v":0},{"$f":"Table1[[#This Row],[QTY]]*Table1[[#This Row],[School & Library Price]]","v":0}]
[null,null,null,15,"Zoom in on Robots","Zoom in on Robots",6,"Library Set","978-0-7660-9240-2",2018,"January 2018","8.500 X 7.125"," "," ",null,null,null,null,null,null,"Grade 2","Grade K - 4","Robots can be found in so many places, and they do some pretty cool things. How do they work? How do they make our lives better? Can robots do tasks better than humans can? This series delves into the details of different robots that are used to help people at home, in the military, or on the job. Young readers will be amazed at the cool jobs and tasks that robots can perform. Simple text and full-color photographs help students learn about how advanced robotics can improve human life.","English",135.6,101.7,null,"24 pp.",{"$f":"Table1[[#This Row],[QTY]]*Table1[[#This Row],['# of Books]]","v":0},{"$f":"Table1[[#This Row],[QTY]]*Table1[[#This Row],[School & Library Price]]","v":0}]
[null,null,null,15,"Zoom in on Robots","Zoom in on Caregiving Robots",1,"Library Bound Book","978-0-7660-9229-7",2018,"January 2018","8.500 X 7.125","Author","Jill Sherman",null,null,null,null,"G",null,"Grade 2","Grade K - 4","Robotics is envisioned as a field that will make human life easier and better. Part of that vision includes taking care of the sick, injured, and disabled. Caregiving robots are already on the job in some places. From monitoring a person's health to fetching items and cleaning homes to providing companionship, robots are improving people's lives. Readers will discover all the ways that robots can assist when special help is needed. A hands-on activity helps students learn more about science and supports the NGSS K-2 Engineering Design Standards.","English",22.6,16.95,"629.8/93--dc23","24 pp.",{"$f":"Table1[[#This Row],[QTY]]*Table1[[#This Row],['# of Books]]","v":0},{"$f":"Table1[[#This Row],[QTY]]*Table1[[#This Row],[School & Library Price]]","v":0}]
[null,null,null,15,"Zoom in on Robots","Zoom in on Caregiving Robots",1,"eBook","978-0-7660-9295-2",2018,"January 2018",null,"Author","Jill Sherman",null,null,null,null,"G",null,"Grade 2","Grade K - 4","Robotics is envisioned as a field that will make human life easier and better. Part of that vision includes taking care of the sick, injured, and disabled. Caregiving robots are already on the job in some places. From monitoring a person's health to fetching items and cleaning homes to providing companionship, robots are improving people's lives. Readers will discover all the ways that robots can assist when special help is needed. A hands-on activity helps students learn more about science and supports the NGSS K-2 Engineering Design Standards.","English",22.6,16.95,"629.8/93--dc23","24 pp.",{"$f":"Table1[[#This Row],[QTY]]*Table1[[#This Row],['# of Books]]","v":0},{"$f":"Table1[[#This Row],[QTY]]*Table1[[#This Row],[School & Library Price]]","v":0}]
[null,null,null,15,"Zoom in on Robots","Zoom in on Domestic Robots",1,"Library Bound Book","978-0-7660-9231-0",2018,"January 2018","8.500 X 7.125","Author","Jill Sherman",null,null,null,null,"F",null,"Grade 2","Grade K - 4","Wouldn't you love to never do mundane tasks again? Press a few buttons and put your very own robot on the job. Domestic robots are already helping us with some tasks around the house. From picking up toys to feeding the family pet to mowing the lawn, researchers are designing robots to do all kinds of tasks. Help your readers discover all the cool ways that robots are making our lives better at home. This volume includes a hands-on activity that will help students learn more about science and supports the NGSS K-2 Engineering Design Standards.","English",22.6,16.95,"629.8/92--dc23","24 pp.",{"$f":"Table1[[#This Row],[QTY]]*Table1[[#This Row],['# of Books]]","v":0},{"$f":"Table1[[#This Row],[QTY]]*Table1[[#This Row],[School & Library Price]]","v":0}]
[null,null,null,15,"Zoom in on Robots","Zoom in on Domestic Robots",1,"eBook","978-0-7660-9297-6",2018,"January 2018",null,"Author","Jill Sherman",null,null,null,null,"F",null,"Grade 2","Grade K - 4","Wouldn't you love to never do mundane tasks again? Press a few buttons and put your very own robot on the job. Domestic robots are already helping us with some tasks around the house. From picking up toys to feeding the family pet to mowing the lawn, researchers are designing robots to do all kinds of tasks. Help your readers discover all the cool ways that robots are making our lives better at home. This volume includes a hands-on activity that will help students learn more about science and supports the NGSS K-2 Engineering Design Standards.","English",22.6,16.95,"629.8/92--dc23","24 pp.",{"$f":"Table1[[#This Row],[QTY]]*Table1[[#This Row],['# of Books]]","v":0},{"$f":"Table1[[#This Row],[QTY]]*Table1[[#This Row],[School & Library Price]]","v":0}]
[null,null,null,15,"Zoom in on Robots","Zoom in on Educational Robots",1,"Library Bound Book","978-0-7660-9227-3",2018,"January 2018","8.500 X 7.125","Author","Sara L. Latta",null,null,null,null,"H",null,"Grade 2","Grade K - 4","How would you like to have a robot for a teacher? While robots will never replace human teachers, they are helping students learn in and out of the classroom. Informational text, fun facts, and full-color images about educational robots stimulate the curiosity of young readers. A \"Words to Know\" feature helps students master new vocabulary. This cutting-edge book includes a fun activity that will help students learn about programming and supports the NGSS K-2 Engineering Design Standards.","English",22.6,16.95,null,"24 pp.",{"$f":"Table1[[#This Row],[QTY]]*Table1[[#This Row],['# of Books]]","v":0},{"$f":"Table1[[#This Row],[QTY]]*Table1[[#This Row],[School & Library Price]]","v":0}]
[null,null,null,15,"Zoom in on Robots","Zoom in on Educational Robots",1,"eBook","978-0-7660-9293-8",2018,"January 2018",null,"Author","Sara L. Latta",null,null,null,null,"H",null,"Grade 2","Grade K - 4","How would you like to have a robot for a teacher? While robots will never replace human teachers, they are helping students learn in and out of the classroom. Informational text, fun facts, and full-color images about educational robots stimulate the curiosity of young readers. A \"Words to Know\" feature helps students master new vocabulary. This cutting-edge book includes a fun activity that will help students learn about programming and supports the NGSS K-2 Engineering Design Standards.","English",22.6,16.95,null,"24 pp.",{"$f":"Table1[[#This Row],[QTY]]*Table1[[#This Row],['# of Books]]","v":0},{"$f":"Table1[[#This Row],[QTY]]*Table1[[#This Row],[School & Library Price]]","v":0}]
[null,null,null,15,"Zoom in on Robots","Zoom in on Industrial Robots",1,"Library Bound Book","978-0-7660-9226-6",2018,"January 2018","8.500 X 7.125","Author","Sara L. Latta",null,null,null,null,"I",null,"Grade 2","Grade K - 4","They build cars and computers and carry heavy boxes throughout warehouses. They even make pizzas. They are quick and accurate, and they can work 24/7 without tiring. They are industrial robots. Engaging text, fascinating facts, and full-color images tell the story of how factories and warehouses use robots. A \"Words to Know\" feature helps young readers master new vocabulary. This book includes a fun group activity in which students role-play as robots in a cookie factory, supporting the NGSS K-2 Engineering Design Standards.","English",22.6,16.95,"629.8/92--dc23","24 pp.",{"$f":"Table1[[#This Row],[QTY]]*Table1[[#This Row],['# of Books]]","v":0},{"$f":"Table1[[#This Row],[QTY]]*Table1[[#This Row],[School & Library Price]]","v":0}]
[null,null,null,15,"Zoom in on Robots","Zoom in on Industrial Robots",1,"eBook","978-0-7660-9292-1",2018,"January 2018",null,"Author","Sara L. Latta",null,null,null,null,"I",null,"Grade 2","Grade K - 4","They build cars and computers and carry heavy boxes throughout warehouses. They even make pizzas. They are quick and accurate, and they can work 24/7 without tiring. They are industrial robots. Engaging text, fascinating facts, and full-color images tell the story of how factories and warehouses use robots. A \"Words to Know\" feature helps young readers master new vocabulary. This book includes a fun group activity in which students role-play as robots in a cookie factory, supporting the NGSS K-2 Engineering Design Standards.","English",22.6,16.95,"629.8/92--dc23","24 pp.",{"$f":"Table1[[#This Row],[QTY]]*Table1[[#This Row],['# of Books]]","v":0},{"$f":"Table1[[#This Row],[QTY]]*Table1[[#This Row],[School & Library Price]]","v":0}]
[null,null,null,15,"Zoom in on Robots","Zoom in on Medical Robots",1,"Library Bound Book","978-0-7660-9228-0",2018,"January 2018","8.500 X 7.125","Author","Sara L. Latta",null,null,null,null,"I",null,"Grade 2","Grade K - 4","Doctors, nurses, and other medical professionals can help you feel better when you are sick. Robots can too. They check up on patients, help paralyzed people move again, and even perform surgery. Informational text, fascinating facts, and full-color images tell the story of how robots are helping transform medicine. A \"Words to Know\" feature helps students master new vocabulary. The book includes a hands-on activity that will help students understand how robotic hands work, and it supports the NGSS K-2 Engineering Design Standards.","English",22.6,16.95,"629.8/93--dc23","24 pp.",{"$f":"Table1[[#This Row],[QTY]]*Table1[[#This Row],['# of Books]]","v":0},{"$f":"Table1[[#This Row],[QTY]]*Table1[[#This Row],[School & Library Price]]","v":0}]
[null,null,null,15,"Zoom in on Robots","Zoom in on Medical Robots",1,"eBook","978-0-7660-9294-5",2018,"January 2018",null,"Author","Sara L. Latta",null,null,null,null,"I",null,"Grade 2","Grade K - 4","Doctors, nurses, and other medical professionals can help you feel better when you are sick. Robots can too. They check up on patients, help paralyzed people move again, and even perform surgery. Informational text, fascinating facts, and full-color images tell the story of how robots are helping transform medicine. A \"Words to Know\" feature helps students master new vocabulary. The book includes a hands-on activity that will help students understand how robotic hands work, and it supports the NGSS K-2 Engineering Design Standards.","English",22.6,16.95,"629.8/93--dc23","24 pp.",{"$f":"Table1[[#This Row],[QTY]]*Table1[[#This Row],['# of Books]]","v":0},{"$f":"Table1[[#This Row],[QTY]]*Table1[[#This Row],[School & Library Price]]","v":0}]
[null,null,null,15,"Zoom in on Robots","Zoom in on Mining Robots",1,"Library Bound Book","978-0-7660-9230-3",2018,"January 2018","8.500 X 7.125","Author","Sara L. Latta",null,null,null,null,"G",null,"Grade 2","Grade K - 4","Mining can be a dirty and dangerous business. Some mines are difficult, if not impossible, for humans to reach. Enter our ever-evolving world of robotics. They help clean up mining disasters, drill into the ocean floor, and more. Young readers will \"dig\" the informational text, intriguing facts, and full-color images. A \"Words to Know\" feature helps students master new vocabulary. Mining Robots includes an activity that shows readers how to make their own rubber band-powered trucks in support of the NGSS K-2 Engineering Design Standards.","English",22.6,16.95,"622.028/4--dc23","24 pp.",{"$f":"Table1[[#This Row],[QTY]]*Table1[[#This Row],['# of Books]]","v":0},{"$f":"Table1[[#This Row],[QTY]]*Table1[[#This Row],[School & Library Price]]","v":0}]
[null,null,null,15,"Zoom in on Robots","Zoom in on Mining Robots",1,"eBook","978-0-7660-9296-9",2018,"January 2018",null,"Author","Sara L. Latta",null,null,null,null,"G",null,"Grade 2","Grade K - 4","Mining can be a dirty and dangerous business. Some mines are difficult, if not impossible, for humans to reach. Enter our ever-evolving world of robotics. They help clean up mining disasters, drill into the ocean floor, and more. Young readers will \"dig\" the informational text, intriguing facts, and full-color images. A \"Words to Know\" feature helps students master new vocabulary. Mining Robots includes an activity that shows readers how to make their own rubber band-powered trucks in support of the NGSS K-2 Engineering Design Standards.","English",22.6,16.95,"622.028/4--dc23","24 pp.",{"$f":"Table1[[#This Row],[QTY]]*Table1[[#This Row],['# of Books]]","v":0},{"$f":"Table1[[#This Row],[QTY]]*Table1[[#This Row],[School & Library Price]]","v":0}]
[null,null,null,16,"Zoom in on American Symbols","Zoom in on American Symbols",6,"Library Set","978-0-7660-8419-3",2017,"January 2017","8.500 X 7.125",null,null,null,null,null,null,null,null,"Grade 2","Grade K - 3","Many children may know the Pledge of Allegiance, or recognize the song sung at the beginning of sports games, but few understand the traditions that spurred these great American symbols. From the history of the Liberty Bell and the Statue of Liberty to how the bald eagle became the national bird, each book uses strong text-photo correlation to help young readers better understand the history, traditions, and figures behind each American symbol. Fun facts help students learn more about each symbol and will inspire a lifelong sense of patriotism.","English",135.6,101.7,null,"24 pp.",{"$f":"Table1[[#This Row],[QTY]]*Table1[[#This Row],['# of Books]]","v":0},{"$f":"Table1[[#This Row],[QTY]]*Table1[[#This Row],[School & Library Price]]","v":0}]
[null,null,null,16,"Zoom in on American Symbols","Zoom in on the Bald Eagle",1,"Library Bound Book","978-0-7660-8444-5",2017,"January 2017","8.500 X 7.125","Author","Heather Moore Niver",5,0.5,null,null,"J",null,"Grade 2","Grade K - 3","Through simple, fact-filled text and vivid photos, readers will enjoy learning about this important American symbol, including why the bald eagle was chosen as the national bird, if Ben Franklin really wanted a turkey instead, and how the eagle on the Presidential Seal has changed over the years. A follow-up activity guides readers in researching other national symbols from around the world.","English",22.6,16.95,"929.9—dc23","24 pp.",{"$f":"Table1[[#This Row],[QTY]]*Table1[[#This Row],['# of Books]]","v":0},{"$f":"Table1[[#This Row],[QTY]]*Table1[[#This Row],[School & Library Price]]","v":0}]
[null,null,null,16,"Zoom in on American Symbols","Zoom in on the Bald Eagle",1,"eBook","978-0-7660-8445-2",2017,"January 2017",null,"Author","Heather Moore Niver",null,null,null,null,"J",null,"Grade 2","Grade K - 3","Through simple, fact-filled text and vivid photos, readers will enjoy learning about this important American symbol, including why the bald eagle was chosen as the national bird, if Ben Franklin really wanted a turkey instead, and how the eagle on the Presidential Seal has changed over the years. A follow-up activity guides readers in researching other national symbols from around the world.","English",22.6,16.95,"929.9—dc23","24 pp.",{"$f":"Table1[[#This Row],[QTY]]*Table1[[#This Row],['# of Books]]","v":0},{"$f":"Table1[[#This Row],[QTY]]*Table1[[#This Row],[School & Library Price]]","v":0}]
[null,null,null,16,"Zoom in on American Symbols","Zoom in on the Liberty Bell",1,"Library Bound Book","978-0-7660-8456-8",2017,"January 2017","8.500 X 7.125","Author","Therese M. Shea",5.3,0.5,null,null,"K",null,"Grade 2","Grade K - 3","Chock full of fun facts, the simple text and color photos in this title tell the story of one of the earliest symbols of America’s struggle for freedom, including the original purpose of the Liberty Bell, where it was hidden during the American Revolution, and the story behind the famous crack. A thought-provoking follow-up activity encourages readers to consider other times in our history when people fought for their rights.","English",22.6,16.95,"974.8’11—dc23","24 pp.",{"$f":"Table1[[#This Row],[QTY]]*Table1[[#This Row],['# of Books]]","v":0},{"$f":"Table1[[#This Row],[QTY]]*Table1[[#This Row],[School & Library Price]]","v":0}]
[null,null,null,16,"Zoom in on American Symbols","Zoom in on the Liberty Bell",1,"eBook","978-0-7660-8457-5",2017,"January 2017",null,"Author","Therese M. Shea",null,null,null,null,"K",null,"Grade 2","Grade K - 3","Chock full of fun facts, the simple text and color photos in this title tell the story of one of the earliest symbols of America’s struggle for freedom, including the original purpose of the Liberty Bell, where it was hidden during the American Revolution, and the story behind the famous crack. A thought-provoking follow-up activity encourages readers to consider other times in our history when people fought for their rights.","English",22.6,16.95,"974.8’11—dc23","24 pp.",{"$f":"Table1[[#This Row],[QTY]]*Table1[[#This Row],['# of Books]]","v":0},{"$f":"Table1[[#This Row],[QTY]]*Table1[[#This Row],[School & Library Price]]","v":0}]
[null,null,null,16,"Zoom in on American Symbols","Zoom in on the National Anthem",1,"Library Bound Book","978-0-7660-8448-3",2017,"January 2017","8.500 X 7.125","Author","Cecelia H. Brannon",5.5,0.5,null,null,"K",null,"Grade 2","Grade K - 3","Through simple text and vivid photos, readers will explore the history of the United States’ national anthem, from its origins through modern day, including facts about Francis Scott Key, the inspiration behind The Star-Spangled Banner, and which US president declared the song the national anthem. A follow-up activity encourages readers to brainstorm and write their very own anthem.","English",22.6,16.95,"929.9/20973--dc23","24 pp.",{"$f":"Table1[[#This Row],[QTY]]*Table1[[#This Row],['# of Books]]","v":0},{"$f":"Table1[[#This Row],[QTY]]*Table1[[#This Row],[School & Library Price]]","v":0}]
[null,null,null,16,"Zoom in on American Symbols","Zoom in on the National Anthem",1,"eBook","978-0-7660-8449-0",2017,"January 2017",null,"Author","Cecelia H. Brannon",null,null,null,null,"K",null,"Grade 2","Grade K - 3","Through simple text and vivid photos, readers will explore the history of the United States’ national anthem, from its origins through modern day, including facts about Francis Scott Key, the inspiration behind The Star-Spangled Banner, and which US president declared the song the national anthem. A follow-up activity encourages readers to brainstorm and write their very own anthem.","English",22.6,16.95,"929.9/20973--dc23","24 pp.",{"$f":"Table1[[#This Row],[QTY]]*Table1[[#This Row],['# of Books]]","v":0},{"$f":"Table1[[#This Row],[QTY]]*Table1[[#This Row],[School & Library Price]]","v":0}]
[null,null,null,16,"Zoom in on American Symbols","Zoom in on the Pledge of Allegiance",1,"Library Bound Book","978-0-7660-8440-7",2017,"January 2017","8.500 X 7.125","Author","Heather Moore Niver",5.3,0.5,null,null,"J",null,"Grade 2","Grade K - 3","Why do we place our hand on our heart when we say the Pledge of Allegiance? Who wrote the original pledge? How has it changed over the years? Readers will learn the history and meaning behind these familiar words through easy-to-follow text and color photos. A follow-up activity encourages readers to research pledges and flags from around the world.","English",22.6,16.95,"323.6’5—dc23","24 pp.",{"$f":"Table1[[#This Row],[QTY]]*Table1[[#This Row],['# of Books]]","v":0},{"$f":"Table1[[#This Row],[QTY]]*Table1[[#This Row],[School & Library Price]]","v":0}]
[null,null,null,16,"Zoom in on American Symbols","Zoom in on the Pledge of Allegiance",1,"eBook","978-0-7660-8441-4",2017,"January 2017",null,"Author","Heather Moore Niver",null,null,null,null,"J",null,"Grade 2","Grade K - 3","Why do we place our hand on our heart when we say the Pledge of Allegiance? Who wrote the original pledge? How has it changed over the years? Readers will learn the history and meaning behind these familiar words through easy-to-follow text and color photos. A follow-up activity encourages readers to research pledges and flags from around the world.","English",22.6,16.95,"323.6’5—dc23","24 pp.",{"$f":"Table1[[#This Row],[QTY]]*Table1[[#This Row],['# of Books]]","v":0},{"$f":"Table1[[#This Row],[QTY]]*Table1[[#This Row],[School & Library Price]]","v":0}]
[null,null,null,16,"Zoom in on American Symbols","Zoom in on the Statue of Liberty",1,"Library Bound Book","978-0-7660-8452-0",2017,"January 2017","8.500 X 7.125","Author","Cecelia H. Brannon",5.6,0.5,null,null,"J",null,"Grade 2","Grade K - 3","Engaging, simple text allows readers to explore the rich history and fascinating facts surrounding this symbol of freedom and opportunity for generations of immigrants, including how long it took to build the Statue of Liberty, what the different parts of the statue represent, and what words are written at the base of the statue. A fun follow-up activity invites readers to research their own family’s route to America.","English",22.6,16.95,"974.7--dc23","24 pp.",{"$f":"Table1[[#This Row],[QTY]]*Table1[[#This Row],['# of Books]]","v":0},{"$f":"Table1[[#This Row],[QTY]]*Table1[[#This Row],[School & Library Price]]","v":0}]
[null,null,null,16,"Zoom in on American Symbols","Zoom in on the Statue of Liberty",1,"eBook","978-0-7660-8453-7",2017,"January 2017",null,"Author","Cecelia H. Brannon",null,null,null,null,"J",null,"Grade 2","Grade K - 3","Engaging, simple text allows readers to explore the rich history and fascinating facts surrounding this symbol of freedom and opportunity for generations of immigrants, including how long it took to build the Statue of Liberty, what the different parts of the statue represent, and what words are written at the base of the statue. A fun follow-up activity invites readers to research their own family’s route to America.","English",22.6,16.95,"974.7--dc23","24 pp.",{"$f":"Table1[[#This Row],[QTY]]*Table1[[#This Row],['# of Books]]","v":0},{"$f":"Table1[[#This Row],[QTY]]*Table1[[#This Row],[School & Library Price]]","v":0}]
[null,null,null,16,"Zoom in on American Symbols","Zoom in on the U.S. Flag",1,"Library Bound Book","978-0-7660-8460-5",2017,"January 2017","8.500 X 7.125","Author","Cecelia H. Brannon",5.6,0.5,null,null,"K",null,"Grade 2","Grade K - 3","Through easy-to-follow text and color photos, readers will learn the fascinating story behind this national symbol, including who designed the first American flag, where the term “Old Glory” came from, and the correct way to handle the flag. A follow-up activity provides readers with a step-by-step guide to the proper care and folding of the flag.","English",22.6,16.95,"929.9/20973--dc23","24 pp.",{"$f":"Table1[[#This Row],[QTY]]*Table1[[#This Row],['# of Books]]","v":0},{"$f":"Table1[[#This Row],[QTY]]*Table1[[#This Row],[School & Library Price]]","v":0}]
[null,null,null,16,"Zoom in on American Symbols","Zoom in on the U.S. Flag",1,"eBook","978-0-7660-8461-2",2017,"January 2017",null,"Author","Cecelia H. Brannon",null,null,null,null,"K",null,"Grade 2","Grade K - 3","Through easy-to-follow text and color photos, readers will learn the fascinating story behind this national symbol, including who designed the first American flag, where the term “Old Glory” came from, and the correct way to handle the flag. A follow-up activity provides readers with a step-by-step guide to the proper care and folding of the flag.","English",22.6,16.95,"929.9/20973--dc23","24 pp.",{"$f":"Table1[[#This Row],[QTY]]*Table1[[#This Row],['# of Books]]","v":0},{"$f":"Table1[[#This Row],[QTY]]*Table1[[#This Row],[School & Library Price]]","v":0}]
[null,null,null,17,"Zoom in on Biomes","Zoom in on Biomes",6,"Library Set","978-0-7660-7494-1",2017,"August 2016","8.500 X 7.125",null,null,null,null,null,null,null,null,"Grade 2","Grade K - 3","Young readers will learn about the unique climate found in each biome and how animals, plants, and people have adapted to life there.","English",135.6,101.7,null,"24 pp.",{"$f":"Table1[[#This Row],[QTY]]*Table1[[#This Row],['# of Books]]","v":0},{"$f":"Table1[[#This Row],[QTY]]*Table1[[#This Row],[School & Library Price]]","v":0}]
[null,null,null,17,"Zoom in on Biomes","The Coniferous Forest Biome",1,"Library Bound Book","978-0-7660-7746-1",2017,"August 2016","8.500 X 7.125","Author","Colin Grady",4.5,0.5,null,null,"G",null,"Grade 2","Grade K - 3","A brown bear lumbers toward his den deep in the woods…a woodpecker taps away at a pine tree…a chipmunk scurries to gather seeds that have fallen on the ground…Welcome to the coniferous forest biome! With easy-to-follow text and color photos, readers learn what a coniferous forest is, which plants and animals live there, how they have adapted to their environment, and how forest life is threatened due to human factors like logging and pollution. A follow-up activity encourages readers to consider the many ways in which the coniferous forest is important to humans as well as the abundant life that makes this biome home.","English",22.6,16.95,"577.3/7--dc23","24 pp.",{"$f":"Table1[[#This Row],[QTY]]*Table1[[#This Row],['# of Books]]","v":0},{"$f":"Table1[[#This Row],[QTY]]*Table1[[#This Row],[School & Library Price]]","v":0}]
[null,null,null,17,"Zoom in on Biomes","The Coniferous Forest Biome",1,"eBook","978-0-7660-7747-8",2017,"August 2016",null,"Author","Colin Grady",4.5,0.5,null,null,"G",null,"Grade 2","Grade K - 3","A brown bear lumbers toward his den deep in the woods…a woodpecker taps away at a pine tree…a chipmunk scurries to gather seeds that have fallen on the ground…Welcome to the coniferous forest biome! With easy-to-follow text and color photos, readers learn what a coniferous forest is, which plants and animals live there, how they have adapted to their environment, and how forest life is threatened due to human factors like logging and pollution. A follow-up activity encourages readers to consider the many ways in which the coniferous forest is important to humans as well as the abundant life that makes this biome home.","English",22.6,16.95,"577.3/7--dc23","24 pp.",{"$f":"Table1[[#This Row],[QTY]]*Table1[[#This Row],['# of Books]]","v":0},{"$f":"Table1[[#This Row],[QTY]]*Table1[[#This Row],[School & Library Price]]","v":0}]
[null,null,null,17,"Zoom in on Biomes","The Deciduous Forest Biome",1,"Library Bound Book","978-0-7660-7751-5",2017,"August 2016","8.500 X 7.125","Author","Colin Grady",4.3,0.5,null,null,"G",null,"Grade 2","Grade K - 3","Squirrels leap from branch to branch high up in the canopy…deer graze in a patch of wildflowers…earthworms slide through decaying leaves in the soil…Welcome to the deciduous forest biome! Through simple text and vivid photos, readers learn about what can be found in the five layers of the forest, how decomposition creates rich and fertile soil, and the role that humans have played in the deforestation that is occurring around the world. A follow-up activity invites readers to draw and label the layers of the forest as well as the plants and animals that live in this lush biome.","English",22.6,16.95,"577.3--dc23","24 pp.",{"$f":"Table1[[#This Row],[QTY]]*Table1[[#This Row],['# of Books]]","v":0},{"$f":"Table1[[#This Row],[QTY]]*Table1[[#This Row],[School & Library Price]]","v":0}]
[null,null,null,17,"Zoom in on Biomes","The Deciduous Forest Biome",1,"eBook","978-0-7660-7754-6",2017,"August 2016",null,"Author","Colin Grady",4.3,0.5,null,null,"G",null,"Grade 2","Grade K - 3","Squirrels leap from branch to branch high up in the canopy…deer graze in a patch of wildflowers…earthworms slide through decaying leaves in the soil…Welcome to the deciduous forest biome! Through simple text and vivid photos, readers learn about what can be found in the five layers of the forest, how decomposition creates rich and fertile soil, and the role that humans have played in the deforestation that is occurring around the world. A follow-up activity invites readers to draw and label the layers of the forest as well as the plants and animals that live in this lush biome.","English",22.6,16.95,"577.3--dc23","24 pp.",{"$f":"Table1[[#This Row],[QTY]]*Table1[[#This Row],['# of Books]]","v":0},{"$f":"Table1[[#This Row],[QTY]]*Table1[[#This Row],[School & Library Price]]","v":0}]
[null,null,null,17,"Zoom in on Biomes","The Desert Biome",1,"Library Bound Book","978-0-7660-7772-0",2017,"August 2016","8.500 X 7.125","Author","Colin Grady",4.7,0.5,null,null,"G",null,"Grade 2","Grade K - 3","A fennec fox peeks out of its burrow…a camel plods across the hot sand…a wren makes its nest in a cactus…Welcome to the desert biome! Easy-to-follow text and color photos invite readers to learn about the different types of deserts, how various plants and animals survive in this harsh environment, and the dangers that desert growth presents to our earth today. A follow-up activity guides readers as they create their own desert scene and identify the elements of this fascinating biome.","English",22.6,16.95,"577.54--dc23","24 pp.",{"$f":"Table1[[#This Row],[QTY]]*Table1[[#This Row],['# of Books]]","v":0},{"$f":"Table1[[#This Row],[QTY]]*Table1[[#This Row],[School & Library Price]]","v":0}]
[null,null,null,17,"Zoom in on Biomes","The Desert Biome",1,"eBook","978-0-7660-7777-5",2017,"August 2016",null,"Author","Colin Grady",4.7,0.5,null,null,"G",null,"Grade 2","Grade K - 3","A fennec fox peeks out of its burrow…a camel plods across the hot sand…a wren makes its nest in a cactus…Welcome to the desert biome! Easy-to-follow text and color photos invite readers to learn about the different types of deserts, how various plants and animals survive in this harsh environment, and the dangers that desert growth presents to our earth today. A follow-up activity guides readers as they create their own desert scene and identify the elements of this fascinating biome.","English",22.6,16.95,"577.54--dc23","24 pp.",{"$f":"Table1[[#This Row],[QTY]]*Table1[[#This Row],['# of Books]]","v":0},{"$f":"Table1[[#This Row],[QTY]]*Table1[[#This Row],[School & Library Price]]","v":0}]
[null,null,null,17,"Zoom in on Biomes","The Grassland Biome",1,"Library Bound Book","978-0-7660-7780-5",2017,"August 2016","8.500 X 7.125","Author","Colin Grady",5.0999999999999996,0.5,null,null,"G",null,"Grade 2","Grade K - 3","Lions stalking through tall grass…snakes slithering under shrubs…giraffes munching on leaves…Welcome to the grassland biome! With simple text and vivid photos, readers learn about what a grassland is, which plants and animals live there, differences between temperate and tropical grasslands, and the challenges that face grasslands today. A follow-up activity invites readers to do further research on a grassland animal and its role in this unique biome.","English",22.6,16.95,"577.4--dc23","24 pp.",{"$f":"Table1[[#This Row],[QTY]]*Table1[[#This Row],['# of Books]]","v":0},{"$f":"Table1[[#This Row],[QTY]]*Table1[[#This Row],[School & Library Price]]","v":0}]
[null,null,null,17,"Zoom in on Biomes","The Grassland Biome",1,"eBook","978-0-7660-7783-6",2017,"August 2016",null,"Author","Colin Grady",5.0999999999999996,0.5,null,null,"G",null,"Grade 2","Grade K - 3","Lions stalking through tall grass…snakes slithering under shrubs…giraffes munching on leaves…Welcome to the grassland biome! With simple text and vivid photos, readers learn about what a grassland is, which plants and animals live there, differences between temperate and tropical grasslands, and the challenges that face grasslands today. A follow-up activity invites readers to do further research on a grassland animal and its role in this unique biome.","English",22.6,16.95,"577.4--dc23","24 pp.",{"$f":"Table1[[#This Row],[QTY]]*Table1[[#This Row],['# of Books]]","v":0},{"$f":"Table1[[#This Row],[QTY]]*Table1[[#This Row],[School & Library Price]]","v":0}]
[null,null,null,17,"Zoom in on Biomes","The Ocean Biome",1,"Library Bound Book","978-0-7660-7790-4",2017,"August 2016","8.500 X 7.125","Author","Colin Grady",4.5,0.5,null,null,"G",null,"Grade 2","Grade K - 3","Dolphins skim their way along the water’s surface…plankton drift along with the currents…an underwater volcano erupts…Welcome to the ocean biome! Through simple text and vivid photos, readers will learn about the landscape of the ocean, the plants and animals that live there, what causes tides and waves, and the challenge we all face in keeping the world’s oceans safe and clean. A follow-up activity encourages students to research the similarities and differences between the fish and mammals that live in the largest biome on the planet.","English",22.6,16.95,"577.7--dc23","24 pp.",{"$f":"Table1[[#This Row],[QTY]]*Table1[[#This Row],['# of Books]]","v":0},{"$f":"Table1[[#This Row],[QTY]]*Table1[[#This Row],[School & Library Price]]","v":0}]
[null,null,null,17,"Zoom in on Biomes","The Ocean Biome",1,"eBook","978-0-7660-7793-5",2017,"August 2016",null,"Author","Colin Grady",4.5,0.5,null,null,"G",null,"Grade 2","Grade K - 3","Dolphins skim their way along the water’s surface…plankton drift along with the currents…an underwater volcano erupts…Welcome to the ocean biome! Through simple text and vivid photos, readers will learn about the landscape of the ocean, the plants and animals that live there, what causes tides and waves, and the challenge we all face in keeping the world’s oceans safe and clean. A follow-up activity encourages students to research the similarities and differences between the fish and mammals that live in the largest biome on the planet.","English",22.6,16.95,"577.7--dc23","24 pp.",{"$f":"Table1[[#This Row],[QTY]]*Table1[[#This Row],['# of Books]]","v":0},{"$f":"Table1[[#This Row],[QTY]]*Table1[[#This Row],[School & Library Price]]","v":0}]
[null,null,null,17,"Zoom in on Biomes","The Tundra Biome",1,"Library Bound Book","978-0-7660-7796-6",2017,"August 2016","8.500 X 7.125","Author","Colin Grady",4.5999999999999996,0.5,null,null,"G",null,"Grade 2","Grade K - 3","A mountain goat jumps from one rocky ledge to another…a group of arctic hares huddle together for warmth…a musk ox uses it hooves to dig for plants in the snow…Welcome to the tundra biome! Through simple text and color photos, readers will learn about the difference between the arctic and alpine tundra, which plants and animals live there, and how they have been able to adapt and thrive in the frozen tundra. In a follow-up activity, readers will utilize a graphic organizer to share their research on tundra wildlife and the adaptations that enable them to live in this harsh but beautiful biome.","English",22.6,16.95,"77.5/86--dc23","24 pp.",{"$f":"Table1[[#This Row],[QTY]]*Table1[[#This Row],['# of Books]]","v":0},{"$f":"Table1[[#This Row],[QTY]]*Table1[[#This Row],[School & Library Price]]","v":0}]
[null,null,null,17,"Zoom in on Biomes","The Tundra Biome",1,"eBook","978-0-7660-7798-0",2017,"August 2016",null,"Author","Colin Grady",4.5999999999999996,0.5,null,null,"G",null,"Grade 2","Grade K - 3","A mountain goat jumps from one rocky ledge to another…a group of arctic hares huddle together for warmth…a musk ox uses it hooves to dig for plants in the snow…Welcome to the tundra biome! Through simple text and color photos, readers will learn about the difference between the arctic and alpine tundra, which plants and animals live there, and how they have been able to adapt and thrive in the frozen tundra. In a follow-up activity, readers will utilize a graphic organizer to share their research on tundra wildlife and the adaptations that enable them to live in this harsh but beautiful biome.","English",22.6,16.95,"77.5/86--dc23","24 pp.",{"$f":"Table1[[#This Row],[QTY]]*Table1[[#This Row],['# of Books]]","v":0},{"$f":"Table1[[#This Row],[QTY]]*Table1[[#This Row],[School & Library Price]]","v":0}]
[null,null,null,17,"Zoom in on Communities","Zoom in on Communities",6,"Library Set","978-0-7660-7493-4",2017,"August 2016","8.500 X 7.125",null,null,null,null,null,null,null,null,"Grade 2","Grade K - 3","This series delves into the details of different communities from military bases to schools and the neighborhoods in between. Young readers will learn what jobs people have in these communities, how they function, and what each community has to offer. Simple text and full-color photographs help students learn about the differences and similarities between the places we live.","English",135.6,101.7,null,"24 pp.",{"$f":"Table1[[#This Row],[QTY]]*Table1[[#This Row],['# of Books]]","v":0},{"$f":"Table1[[#This Row],[QTY]]*Table1[[#This Row],[School & Library Price]]","v":0}]
[null,null,null,17,"Zoom in on Communities","My Neighborhood",1,"Library Bound Book","978-0-7660-7806-2",2017,"August 2016","8.500 X 7.125","Author","Portia Summers",3.9,0.5,null,null,"E",null,"Grade 2","Grade K - 3","Families, doctors, road crew workers, and electricians: these are just a few of the people who live and work in a neighborhood. Young readers will get to know all about these people and their role in their community through this engaging, simple text. Interesting facts and full-color photos provide readers with a look at who makes up a neighborhood, how neighbors help each other, what jobs they do, and how people have fun in a neighborhood. A follow-up activity asks children to use critical thinking in considering how each member of a neighborhood contributes to their community.","English",22.6,16.95,"307.3/362--dc23","24 pp.",{"$f":"Table1[[#This Row],[QTY]]*Table1[[#This Row],['# of Books]]","v":0},{"$f":"Table1[[#This Row],[QTY]]*Table1[[#This Row],[School & Library Price]]","v":0}]
[null,null,null,17,"Zoom in on Communities","My Neighborhood",1,"eBook","978-0-7660-7808-6",2017,"August 2016",null,"Author","Portia Summers",3.9,0.5,null,null,"E",null,"Grade 2","Grade K - 3","Families, doctors, road crew workers, and electricians: these are just a few of the people who live and work in a neighborhood. Young readers will get to know all about these people and their role in their community through this engaging, simple text. Interesting facts and full-color photos provide readers with a look at who makes up a neighborhood, how neighbors help each other, what jobs they do, and how people have fun in a neighborhood. A follow-up activity asks children to use critical thinking in considering how each member of a neighborhood contributes to their community.","English",22.6,16.95,"307.3/362--dc23","24 pp.",{"$f":"Table1[[#This Row],[QTY]]*Table1[[#This Row],['# of Books]]","v":0},{"$f":"Table1[[#This Row],[QTY]]*Table1[[#This Row],[School & Library Price]]","v":0}]
[null,null,null,17,"Zoom in on Communities","My Rural Community",1,"Library Bound Book","978-0-7660-7820-8",2017,"August 2016","8.500 X 7.125","Author","Portia Summers",4,0.5,null,null,"E",null,"Grade 2","Grade K - 3","Farmers, families, truck drivers, and veterinarians: these are just a few of the people who live and work in a rural community. Young readers will get to know all about these people and their role in their community through this engaging, simple text. Interesting facts and full-color photos provide readers with a look at all aspects of the rural community, including what country life is like for children, how different farms work, and how neighbors in a rural community work together to help each other. A follow-up activity utilizes a graphic organizer to help readers understand the different people and jobs that are needed to get work done on a farm.","English",22.6,16.95,"307.72--dc23","24 pp.",{"$f":"Table1[[#This Row],[QTY]]*Table1[[#This Row],['# of Books]]","v":0},{"$f":"Table1[[#This Row],[QTY]]*Table1[[#This Row],[School & Library Price]]","v":0}]
[null,null,null,17,"Zoom in on Communities","My Rural Community",1,"eBook","978-0-7660-7821-5",2017,"August 2016",null,"Author","Portia Summers",4,0.5,null,null,"E",null,"Grade 2","Grade K - 3","Farmers, families, truck drivers, and veterinarians: these are just a few of the people who live and work in a rural community. Young readers will get to know all about these people and their role in their community through this engaging, simple text. Interesting facts and full-color photos provide readers with a look at all aspects of the rural community, including what country life is like for children, how different farms work, and how neighbors in a rural community work together to help each other. A follow-up activity utilizes a graphic organizer to help readers understand the different people and jobs that are needed to get work done on a farm.","English",22.6,16.95,"307.72--dc23","24 pp.",{"$f":"Table1[[#This Row],[QTY]]*Table1[[#This Row],['# of Books]]","v":0},{"$f":"Table1[[#This Row],[QTY]]*Table1[[#This Row],[School & Library Price]]","v":0}]
[null,null,null,17,"Zoom in on Communities","My School Community",1,"Library Bound Book","978-0-7660-7827-7",2017,"August 2016","8.500 X 7.125","Author","Portia Summers",3.9,0.5,null,null,"E",null,"Grade 2","Grade K - 3","Teachers, children, principals, and nurses: these are just a few of the people who live and work in a school community. Young readers will get to know all about these people and their role in their community through this engaging, simple text. Interesting facts and full-color photos provide readers with a look at all aspects of the school community, including how different students get to school, who works in a school, and how students, teachers, and other important people help each other in a school community. As a follow-up activity, readers will use a graphic organizer to consider how different members of the school community help them.","English",22.6,16.95,"371--dc23","24 pp.",{"$f":"Table1[[#This Row],[QTY]]*Table1[[#This Row],['# of Books]]","v":0},{"$f":"Table1[[#This Row],[QTY]]*Table1[[#This Row],[School & Library Price]]","v":0}]
[null,null,null,17,"Zoom in on Communities","My School Community",1,"eBook","978-0-7660-7828-4",2017,"August 2016",null,"Author","Portia Summers",3.9,0.5,null,null,"E",null,"Grade 2","Grade K - 3","Teachers, children, principals, and nurses: these are just a few of the people who live and work in a school community. Young readers will get to know all about these people and their role in their community through this engaging, simple text. Interesting facts and full-color photos provide readers with a look at all aspects of the school community, including how different students get to school, who works in a school, and how students, teachers, and other important people help each other in a school community. As a follow-up activity, readers will use a graphic organizer to consider how different members of the school community help them.","English",22.6,16.95,"371--dc23","24 pp.",{"$f":"Table1[[#This Row],[QTY]]*Table1[[#This Row],['# of Books]]","v":0},{"$f":"Table1[[#This Row],[QTY]]*Table1[[#This Row],[School & Library Price]]","v":0}]
[null,null,null,17,"Zoom in on Communities","My Suburban Community",1,"Library Bound Book","978-0-7660-7835-2",2017,"August 2016","8.500 X 7.125","Author","Portia Summers",4.0999999999999996,0.5,null,null,"E",null,"Grade 2","Grade K - 3","Families, neighbors, plumbers, and mail carriers: these are just a few of the people who live and work in a suburban community. Young readers will get to know all about these people and their role in their community through this engaging, simple text. Interesting facts and full-color photos provide readers with a look at all aspects of the suburban community, including different kinds of homes, community activities, and how people help one another. As a follow-up activity, readers will use a graphic organizer to consider the similarities and differences between suburban, urban, and rural communities.","English",22.6,16.95,"307.74--dc23","24 pp.",{"$f":"Table1[[#This Row],[QTY]]*Table1[[#This Row],['# of Books]]","v":0},{"$f":"Table1[[#This Row],[QTY]]*Table1[[#This Row],[School & Library Price]]","v":0}]
[null,null,null,17,"Zoom in on Communities","My Suburban Community",1,"eBook","978-0-7660-7836-9",2017,"August 2016",null,"Author","Portia Summers",4.0999999999999996,0.5,null,null,"E",null,"Grade 2","Grade K - 3","Families, neighbors, plumbers, and mail carriers: these are just a few of the people who live and work in a suburban community. Young readers will get to know all about these people and their role in their community through this engaging, simple text. Interesting facts and full-color photos provide readers with a look at all aspects of the suburban community, including different kinds of homes, community activities, and how people help one another. As a follow-up activity, readers will use a graphic organizer to consider the similarities and differences between suburban, urban, and rural communities.","English",22.6,16.95,"307.74--dc23","24 pp.",{"$f":"Table1[[#This Row],[QTY]]*Table1[[#This Row],['# of Books]]","v":0},{"$f":"Table1[[#This Row],[QTY]]*Table1[[#This Row],[School & Library Price]]","v":0}]
[null,null,null,17,"Zoom in on Communities","My Urban Community",1,"Library Bound Book","978-0-7660-7831-4",2017,"August 2016","8.500 X 7.125","Author","Portia Summers",4.3,0.5,null,null,"E",null,"Grade 2","Grade K - 3","Shopkeepers, gardeners, families, and police officers: these are just a few of the people who live and work in an urban community. Young readers will get to know all about these people and their role in their community through this engaging, simple text. Interesting facts and full-color photos provide readers with a look at all aspects of the urban community, including what it’s like to grow up in a city, who makes sure the city is safe, and places to go in an urban community, like parks and museums. As a follow-up activity, readers are invited to create their own city, including the many people and places that make up an urban community.","English",22.6,16.95,"307.76--dc23","24 pp.",{"$f":"Table1[[#This Row],[QTY]]*Table1[[#This Row],['# of Books]]","v":0},{"$f":"Table1[[#This Row],[QTY]]*Table1[[#This Row],[School & Library Price]]","v":0}]
[null,null,null,17,"Zoom in on Communities","My Urban Community",1,"eBook","978-0-7660-7832-1",2017,"August 2016",null,"Author","Portia Summers",4.3,0.5,null,null,"E",null,"Grade 2","Grade K - 3","Shopkeepers, gardeners, families, and police officers: these are just a few of the people who live and work in an urban community. Young readers will get to know all about these people and their role in their community through this engaging, simple text. Interesting facts and full-color photos provide readers with a look at all aspects of the urban community, including what it’s like to grow up in a city, who makes sure the city is safe, and places to go in an urban community, like parks and museums. As a follow-up activity, readers are invited to create their own city, including the many people and places that make up an urban community.","English",22.6,16.95,"307.76--dc23","24 pp.",{"$f":"Table1[[#This Row],[QTY]]*Table1[[#This Row],['# of Books]]","v":0},{"$f":"Table1[[#This Row],[QTY]]*Table1[[#This Row],[School & Library Price]]","v":0}]
[null,null,null,17,"Zoom in on Communities","The Community of Our Military Base",1,"Library Bound Book","978-0-7660-7813-0",2017,"August 2016","8.500 X 7.125","Author","Portia Summers",5.4,0.5,null,null,"E",null,"Grade 2","Grade K - 3","Soldiers, families, teachers, and doctors: these are just a few of the people who live and work together on a military base. Young readers will get to know all about these people and their role in this special community through the engaging, simple text. Interesting facts and full-color photos provide readers with a greater understanding of all aspects of military base life, including school, shopping, and recreation. A follow-up activity helps students engage in critical thinking about the similarities and differences between two kinds of communities.","English",22.6,16.95,"355.1/2920973--dc23","24 pp.",{"$f":"Table1[[#This Row],[QTY]]*Table1[[#This Row],['# of Books]]","v":0},{"$f":"Table1[[#This Row],[QTY]]*Table1[[#This Row],[School & Library Price]]","v":0}]
[null,null,null,17,"Zoom in on Communities","The Community of Our Military Base",1,"eBook","978-0-7660-7814-7",2017,"August 2016",null,"Author","Portia Summers",5.4,0.5,null,null,"E",null,"Grade 2","Grade K - 3","Soldiers, families, teachers, and doctors: these are just a few of the people who live and work together on a military base. Young readers will get to know all about these people and their role in this special community through the engaging, simple text. Interesting facts and full-color photos provide readers with a greater understanding of all aspects of military base life, including school, shopping, and recreation. A follow-up activity helps students engage in critical thinking about the similarities and differences between two kinds of communities.","English",22.6,16.95,"355.1/2920973--dc23","24 pp.",{"$f":"Table1[[#This Row],[QTY]]*Table1[[#This Row],['# of Books]]","v":0},{"$f":"Table1[[#This Row],[QTY]]*Table1[[#This Row],[School & Library Price]]","v":0}]
[null,null,null,18,"Zoom in on Technology","Zoom in on Technology",4,"Library Set","978-0-7660-7435-4",2016,"January 2016","8.500 X 7.125",null,null,null,null,null,null,null,null,"Grade 2","Grade K - 3","Ask a child what a monitor is, how to send an email, or what \"www\" stands for in a web address and he'll look at you blankly. Although children are considered \"digital natives\" with the ability to call up in seconds whatever games, videos, or information they want, many don't understand the very mechanisms that allows them access to these things. This useful series takes readers through each of the most basic technological concepts step-by-step along with clear photos and illustrations. With a firm grasp on what URLs, computer networks, and keyboards are, readers will be able to use these tools more effectively.\n\n• Clear, simple explanations of the common forms of technology\n\n• Support elementary technology curriculum standards","English",90.4,67.8,null,"24 pp.",{"$f":"Table1[[#This Row],[QTY]]*Table1[[#This Row],['# of Books]]","v":0},{"$f":"Table1[[#This Row],[QTY]]*Table1[[#This Row],[School & Library Price]]","v":0}]
[null,null,null,18,"Zoom in on Technology","Computers: What They Are and How to Use Them",1,"Library Bound Book","978-0-7660-7363-0",2016,"January 2016","8.500 X 7.125","Author","Tricia Yearling",5.3,0.5,null,null,"K",null,"Grade 2","Grade K - 3","Young readers will discover all the wonderful things that can be accomplished on a computer, as well as the safest way to operate them. Full-page photos illustrate each idea, and practice exercises put these new skills to use.","English",22.6,16.95,"004--dc23","24 pp.",{"$f":"Table1[[#This Row],[QTY]]*Table1[[#This Row],['# of Books]]","v":0},{"$f":"Table1[[#This Row],[QTY]]*Table1[[#This Row],[School & Library Price]]","v":0}]
[null,null,null,18,"Zoom in on Technology","Computers: What They Are and How to Use Them",1,"eBook","978-0-7660-7364-7",2016,"January 2016",null,"Author","Tricia Yearling",5.3,0.5,null,null,"K",null,"Grade 2","Grade K - 3","Young readers will discover all the wonderful things that can be accomplished on a computer, as well as the safest way to operate them. Full-page photos illustrate each idea, and practice exercises put these new skills to use.","English",22.6,16.95,"004--dc23","24 pp.",{"$f":"Table1[[#This Row],[QTY]]*Table1[[#This Row],['# of Books]]","v":0},{"$f":"Table1[[#This Row],[QTY]]*Table1[[#This Row],[School & Library Price]]","v":0}]
[null,null,null,18,"Zoom in on Technology","E-mail: What It Is and How to Use It",1,"Library Bound Book","978-0-7660-7367-8",2016,"January 2016","8.500 X 7.125","Author","Tricia Yearling",4.8,0.5,null,null,"I",null,"Grade 2","Grade K - 3","Young readers will learn about the Internet and how to safely use it. Full-page color photos demonstrate the ideas introduced, and practice exercises will help children hone their skills.","English",22.6,16.95,"004.692--dc23","24 pp.",{"$f":"Table1[[#This Row],[QTY]]*Table1[[#This Row],['# of Books]]","v":0},{"$f":"Table1[[#This Row],[QTY]]*Table1[[#This Row],[School & Library Price]]","v":0}]
[null,null,null,18,"Zoom in on Technology","E-mail: What It Is and How to Use It",1,"eBook","978-0-7660-7368-5",2016,"January 2016",null,"Author","Tricia Yearling",4.8,0.5,null,null,"I",null,"Grade 2","Grade K - 3","Young readers will learn about the Internet and how to safely use it. Full-page color photos demonstrate the ideas introduced, and practice exercises will help children hone their skills.","English",22.6,16.95,"004.692--dc23","24 pp.",{"$f":"Table1[[#This Row],[QTY]]*Table1[[#This Row],['# of Books]]","v":0},{"$f":"Table1[[#This Row],[QTY]]*Table1[[#This Row],[School & Library Price]]","v":0}]
[null,null,null,18,"Zoom in on Technology","The Internet: What It Is and How to Use It",1,"Library Bound Book","978-0-7660-7382-1",2016,"January 2016","8.500 X 7.125","Author","Tricia Yearling",4.5,0.5,null,null,"J",null,"Grade 2","Grade K - 3","Young readers will learn about the Internet and how to safely use it. Full-page color photos demonstrate the ideas introduced, and practice exercises will help children hone their skills.","English",22.6,16.95,"004.67'8--dc23","24 pp.",{"$f":"Table1[[#This Row],[QTY]]*Table1[[#This Row],['# of Books]]","v":0},{"$f":"Table1[[#This Row],[QTY]]*Table1[[#This Row],[School & Library Price]]","v":0}]
[null,null,null,18,"Zoom in on Technology","The Internet: What It Is and How to Use It",1,"eBook","978-0-7660-7383-8",2016,"January 2016",null,"Author","Tricia Yearling",4.5,0.5,null,null,"J",null,"Grade 2","Grade K - 3","Young readers will learn about the Internet and how to safely use it. Full-page color photos demonstrate the ideas introduced, and practice exercises will help children hone their skills.","English",22.6,16.95,"004.67'8--dc23","24 pp.",{"$f":"Table1[[#This Row],[QTY]]*Table1[[#This Row],['# of Books]]","v":0},{"$f":"Table1[[#This Row],[QTY]]*Table1[[#This Row],[School & Library Price]]","v":0}]
[null,null,null,18,"Zoom in on Technology","The World Wide Web: What It Is and How to Use It",1,"Library Bound Book","978-0-7660-7388-3",2016,"January 2016","8.500 X 7.125","Author","Tricia Yearling",5.2,0.5,null,null,"K",null,"Grade 2","Grade K - 3","Young readers can learn all about the World Wide Web. Full-page photos illustrate the facts presented and practice exercises will help young students master the World Wide Web.","English",22.6,16.95,"025.042--dc23","24 pp.",{"$f":"Table1[[#This Row],[QTY]]*Table1[[#This Row],['# of Books]]","v":0},{"$f":"Table1[[#This Row],[QTY]]*Table1[[#This Row],[School & Library Price]]","v":0}]
[null,null,null,18,"Zoom in on Technology","The World Wide Web: What It Is and How to Use It",1,"eBook","978-0-7660-7389-0",2016,"January 2016",null,"Author","Tricia Yearling",5.2,0.5,null,null,"K",null,"Grade 2","Grade K - 3","Young readers can learn all about the World Wide Web. Full-page photos illustrate the facts presented and practice exercises will help young students master the World Wide Web.","English",22.6,16.95,"025.042--dc23","24 pp.",{"$f":"Table1[[#This Row],[QTY]]*Table1[[#This Row],['# of Books]]","v":0},{"$f":"Table1[[#This Row],[QTY]]*Table1[[#This Row],[School & Library Price]]","v":0}]
[null,null,null,18,"Zoom in on Simple Machines","Zoom in on Simple Machines",6,"Library Set","978-0-7660-6674-8",2016,"August 2015","8.500 X 7.125",null,null,null,null,null,null,null,null,"Grade 2","Grade K - 3","All complex machines are made up of simple machines. But what are simple machines? Readers take a hands-on approach to learning what simple machines are, how they work, and where they are used. Each book explains the fundamentals of elementary physics as they apply to the mechanical benefits of each machine. Concepts are illustrated with labeled diagrams and full-color photos. Real-world examples and easy, hands-on experiments give readers the chance to apply the physics concepts for themselves.\n\n\n\n-Readers learn basic concepts of force and interaction\n\n-Hands-on experiments encourage scientific investigation\n\n-Real-world examples connect concept with daily life\n\n-Simple, accessible text\n\n","English",135.6,101.7,null,"24 pp.",{"$f":"Table1[[#This Row],[QTY]]*Table1[[#This Row],['# of Books]]","v":0},{"$f":"Table1[[#This Row],[QTY]]*Table1[[#This Row],[School & Library Price]]","v":0}]
[null,null,null,18,"Zoom in on Simple Machines","Inclined Planes at Work",1,"Library Bound Book","978-0-7660-6728-8",2016,"August 2015","8.500 X 7.125","Author","Dawn LaMachia",5.3,0.5,null,null,"M",null,"Grade 2","Grade K - 3","What is an inclined plane? How does it make our workload easier? Are inclined planes found in nature? Find out the answers to all these questions and more!","English",22.6,16.95,"621.8'11--dc23","24 pp.",{"$f":"Table1[[#This Row],[QTY]]*Table1[[#This Row],['# of Books]]","v":0},{"$f":"Table1[[#This Row],[QTY]]*Table1[[#This Row],[School & Library Price]]","v":0}]
[null,null,null,18,"Zoom in on Simple Machines","Inclined Planes at Work",1,"eBook","978-0-7660-6729-5",2016,"August 2015",null,"Author","Dawn LaMachia",5.3,0.5,null,null,"M",null,"Grade 2","Grade K - 3","What is an inclined plane? How does it make our workload easier? Are inclined planes found in nature? Find out the answers to all these questions and more!","English",22.6,16.95,"621.8'11--dc23","24 pp.",{"$f":"Table1[[#This Row],[QTY]]*Table1[[#This Row],['# of Books]]","v":0},{"$f":"Table1[[#This Row],[QTY]]*Table1[[#This Row],[School & Library Price]]","v":0}]
[null,null,null,18,"Zoom in on Simple Machines","Levers at Work",1,"Library Bound Book","978-0-7660-6732-5",2016,"August 2015","8.500 X 7.125","Author","Dawn LaMachia",5.3,0.5,null,null,"N",null,"Grade 2","Grade K - 3","What is a lever? How does it give us the upper hand? When were levers first used? Find out the answers to these questions and more!","English",22.6,16.95,"621.8'22--dc23","24 pp.",{"$f":"Table1[[#This Row],[QTY]]*Table1[[#This Row],['# of Books]]","v":0},{"$f":"Table1[[#This Row],[QTY]]*Table1[[#This Row],[School & Library Price]]","v":0}]
[null,null,null,18,"Zoom in on Simple Machines","Levers at Work",1,"eBook","978-0-7660-6733-2",2016,"August 2015",null,"Author","Dawn LaMachia",5.3,0.5,null,null,"N",null,"Grade 2","Grade K - 3","What is a lever? How does it give us the upper hand? When were levers first used? Find out the answers to these questions and more!","English",22.6,16.95,"621.8'22--dc23","24 pp.",{"$f":"Table1[[#This Row],[QTY]]*Table1[[#This Row],['# of Books]]","v":0},{"$f":"Table1[[#This Row],[QTY]]*Table1[[#This Row],[School & Library Price]]","v":0}]
[null,null,null,18,"Zoom in on Simple Machines","Pulleys at Work",1,"Library Bound Book","978-0-7660-6736-3",2016,"August 2015","8.500 X 7.125","Author","Dawn LaMachia",4.8,0.5,null,null,"N",null,"Grade 2","Grade K - 3","What is a pulley and how is one made? How do pulleys work? How are they used? Find out the answers to all these questions and more!","English",22.6,16.95,"621.8'11--dc23","24 pp.",{"$f":"Table1[[#This Row],[QTY]]*Table1[[#This Row],['# of Books]]","v":0},{"$f":"Table1[[#This Row],[QTY]]*Table1[[#This Row],[School & Library Price]]","v":0}]
[null,null,null,18,"Zoom in on Simple Machines","Pulleys at Work",1,"eBook","978-0-7660-6737-0",2016,"August 2015",null,"Author","Dawn LaMachia",4.8,0.5,null,null,"N",null,"Grade 2","Grade K - 3","What is a pulley and how is one made? How do pulleys work? How are they used? Find out the answers to all these questions and more!","English",22.6,16.95,"621.8'11--dc23","24 pp.",{"$f":"Table1[[#This Row],[QTY]]*Table1[[#This Row],['# of Books]]","v":0},{"$f":"Table1[[#This Row],[QTY]]*Table1[[#This Row],[School & Library Price]]","v":0}]
[null,null,null,18,"Zoom in on Simple Machines","Screws at Work",1,"Library Bound Book","978-0-7660-6740-0",2016,"August 2015","8.500 X 7.125","Author","Dawn LaMachia",5.3,0.5,null,null,"L",null,"Grade 2","Grade K - 3","What is a screw? How do we use screws in everyday life? Who invented the screw? Find out the answers to all these and more!","English",22.6,16.95,"621.8'11--dc23","24 pp.",{"$f":"Table1[[#This Row],[QTY]]*Table1[[#This Row],['# of Books]]","v":0},{"$f":"Table1[[#This Row],[QTY]]*Table1[[#This Row],[School & Library Price]]","v":0}]
[null,null,null,18,"Zoom in on Simple Machines","Screws at Work",1,"eBook","978-0-7660-6741-7",2016,"August 2015",null,"Author","Dawn LaMachia",5.3,0.5,null,null,"L",null,"Grade 2","Grade K - 3","What is a screw? How do we use screws in everyday life? Who invented the screw? Find out the answers to all these and more!","English",22.6,16.95,"621.8'11--dc23","24 pp.",{"$f":"Table1[[#This Row],[QTY]]*Table1[[#This Row],['# of Books]]","v":0},{"$f":"Table1[[#This Row],[QTY]]*Table1[[#This Row],[School & Library Price]]","v":0}]
[null,null,null,18,"Zoom in on Simple Machines","Wedges at Work",1,"Library Bound Book","978-0-7660-6744-8",2016,"August 2015","8.500 X 7.125","Author","Dawn LaMachia",4.5999999999999996,0.5,null,null,"M",null,"Grade 2","Grade K - 3","What is a wedge? How does it make work easier? Who were the first people to use wedges? Are wedges found in nature? Find out the answers to these questions and more!","English",22.6,16.95,"621.8'22--dc23","24 pp.",{"$f":"Table1[[#This Row],[QTY]]*Table1[[#This Row],['# of Books]]","v":0},{"$f":"Table1[[#This Row],[QTY]]*Table1[[#This Row],[School & Library Price]]","v":0}]
[null,null,null,18,"Zoom in on Simple Machines","Wedges at Work",1,"eBook","978-0-7660-6745-5",2016,"August 2015",null,"Author","Dawn LaMachia",4.5999999999999996,0.5,null,null,"M",null,"Grade 2","Grade K - 3","What is a wedge? How does it make work easier? Who were the first people to use wedges? Are wedges found in nature? Find out the answers to these questions and more!","English",22.6,16.95,"621.8'22--dc23","24 pp.",{"$f":"Table1[[#This Row],[QTY]]*Table1[[#This Row],['# of Books]]","v":0},{"$f":"Table1[[#This Row],[QTY]]*Table1[[#This Row],[School & Library Price]]","v":0}]
[null,null,null,18,"Zoom in on Simple Machines","Wheels and Axles at Work",1,"Library Bound Book","978-0-7660-6748-6",2016,"August 2015","8.500 X 7.125","Author","Dawn LaMachia",5,0.5,null,null,"N",null,"Grade 2","Grade K - 3","When was the wheel invented? How are wheels used every day? How do wheels and axles work together? Find out the answers to these questions and more!","English",22.6,16.95,"621.8'11--dc23","24 pp.",{"$f":"Table1[[#This Row],[QTY]]*Table1[[#This Row],['# of Books]]","v":0},{"$f":"Table1[[#This Row],[QTY]]*Table1[[#This Row],[School & Library Price]]","v":0}]
[null,null,null,18,"Zoom in on Simple Machines","Wheels and Axles at Work",1,"eBook","978-0-7660-6749-3",2016,"August 2015",null,"Author","Dawn LaMachia",5,0.5,null,null,"N",null,"Grade 2","Grade K - 3","When was the wheel invented? How are wheels used every day? How do wheels and axles work together? Find out the answers to these questions and more!","English",22.6,16.95,"621.8'11--dc23","24 pp.",{"$f":"Table1[[#This Row],[QTY]]*Table1[[#This Row],['# of Books]]","v":0},{"$f":"Table1[[#This Row],[QTY]]*Table1[[#This Row],[School & Library Price]]","v":0}]
[null,null,null,19,"Zoom in on Insects!","Zoom in on Insects!",6,"Library Set","978-0-7660-8474-2",2014,"January 2014",null,null,null,null,null,null,null,null,null,null,null,null,"English",135.6,101.7,null,null,{"$f":"Table1[[#This Row],[QTY]]*Table1[[#This Row],['# of Books]]","v":0},{"$f":"Table1[[#This Row],[QTY]]*Table1[[#This Row],[School & Library Price]]","v":0}]
[null,null,null,19,"Zoom in on Insects!","Zoom in on Bees",1,"Library Bound Book","978-0-7660-4210-0",2014,"January 2014","9.000 X 7.500","Author","Melissa Stewart",2.2999999999999998,0.5,null,null,"K","480L","Grade K - 2","Grade K - 3",null,"English",22.6,16.95,"595.799","24 pp.",{"$f":"Table1[[#This Row],[QTY]]*Table1[[#This Row],['# of Books]]","v":0},{"$f":"Table1[[#This Row],[QTY]]*Table1[[#This Row],[School & Library Price]]","v":0}]
[null,null,null,19,"Zoom in on Insects!","Zoom in on Bees",1,"eBook","978-0-7660-5833-0",2014,"January 2014",null,"Author","Melissa Stewart",2.2999999999999998,0.5,null,null,"K","480L","Grade K - 2","Grade K - 3",null,"English",22.6,16.95,"595.799","24 pp.",{"$f":"Table1[[#This Row],[QTY]]*Table1[[#This Row],['# of Books]]","v":0},{"$f":"Table1[[#This Row],[QTY]]*Table1[[#This Row],[School & Library Price]]","v":0}]
[null,null,null,19,"Zoom in on Insects!","Zoom in on Butterflies",1,"Library Bound Book","978-0-7660-4211-7",2014,"January 2014","9.000 X 7.500","Author","Melissa Stewart",2.6,0.5,null,null,"K","470L","Grade K - 2","Grade K - 3",null,"English",22.6,16.95,"595.789","24 pp.",{"$f":"Table1[[#This Row],[QTY]]*Table1[[#This Row],['# of Books]]","v":0},{"$f":"Table1[[#This Row],[QTY]]*Table1[[#This Row],[School & Library Price]]","v":0}]
[null,null,null,19,"Zoom in on Insects!","Zoom in on Butterflies",1,"eBook","978-0-7660-5834-7",2014,"January 2014",null,"Author","Melissa Stewart",2.6,0.5,null,null,"K","470L","Grade K - 2","Grade K - 3",null,"English",22.6,16.95,"595.789","24 pp.",{"$f":"Table1[[#This Row],[QTY]]*Table1[[#This Row],['# of Books]]","v":0},{"$f":"Table1[[#This Row],[QTY]]*Table1[[#This Row],[School & Library Price]]","v":0}]
[null,null,null,19,"Zoom in on Insects!","Zoom in on Dragonflies",1,"Library Bound Book","978-0-7660-4212-4",2014,"January 2014","9.000 X 7.500","Author","Melissa Stewart",2.4,0.5,null,null,"K","530L","Grade K - 2","Grade K - 3",null,"English",22.6,16.95,"595.733","24 pp.",{"$f":"Table1[[#This Row],[QTY]]*Table1[[#This Row],['# of Books]]","v":0},{"$f":"Table1[[#This Row],[QTY]]*Table1[[#This Row],[School & Library Price]]","v":0}]
[null,null,null,19,"Zoom in on Insects!","Zoom in on Dragonflies",1,"eBook","978-0-7660-5835-4",2014,"January 2014",null,"Author","Melissa Stewart",2.4,0.5,null,null,"K","530L","Grade K - 2","Grade K - 3",null,"English",22.6,16.95,"595.733","24 pp.",{"$f":"Table1[[#This Row],[QTY]]*Table1[[#This Row],['# of Books]]","v":0},{"$f":"Table1[[#This Row],[QTY]]*Table1[[#This Row],[School & Library Price]]","v":0}]
[null,null,null,19,"Zoom in on Insects!","Zoom in on Fireflies",1,"Library Bound Book","978-0-7660-4213-1",2014,"January 2014","9.000 X 7.500","Author","Melissa Stewart",2.5,0.5,null,null,"K","470L","Grade K - 2","Grade K - 3",null,"English",22.6,16.95,"595.7644","24 pp.",{"$f":"Table1[[#This Row],[QTY]]*Table1[[#This Row],['# of Books]]","v":0},{"$f":"Table1[[#This Row],[QTY]]*Table1[[#This Row],[School & Library Price]]","v":0}]
[null,null,null,19,"Zoom in on Insects!","Zoom in on Fireflies",1,"eBook","978-0-7660-5836-1",2014,"January 2014",null,"Author","Melissa Stewart",2.5,0.5,null,null,"K","470L","Grade K - 2","Grade K - 3",null,"English",22.6,16.95,"595.7644","24 pp.",{"$f":"Table1[[#This Row],[QTY]]*Table1[[#This Row],['# of Books]]","v":0},{"$f":"Table1[[#This Row],[QTY]]*Table1[[#This Row],[School & Library Price]]","v":0}]
[null,null,null,19,"Zoom in on Insects!","Zoom in on Grasshoppers",1,"Library Bound Book","978-0-7660-4214-8",2014,"January 2014","9.000 X 7.500","Author","Melissa Stewart",2.4,0.5,null,null,"K","430L","Grade K - 2","Grade K - 3",null,"English",22.6,16.95,"595.726","24 pp.",{"$f":"Table1[[#This Row],[QTY]]*Table1[[#This Row],['# of Books]]","v":0},{"$f":"Table1[[#This Row],[QTY]]*Table1[[#This Row],[School & Library Price]]","v":0}]
[null,null,null,19,"Zoom in on Insects!","Zoom in on Grasshoppers",1,"eBook","978-0-7660-5837-8",2014,"January 2014",null,"Author","Melissa Stewart",2.4,0.5,null,null,"K","430L","Grade K - 2","Grade K - 3",null,"English",22.6,16.95,"595.726","24 pp.",{"$f":"Table1[[#This Row],[QTY]]*Table1[[#This Row],['# of Books]]","v":0},{"$f":"Table1[[#This Row],[QTY]]*Table1[[#This Row],[School & Library Price]]","v":0}]
[null,null,null,19,"Zoom in on Insects!","Zoom in on Ladybugs",1,"Library Bound Book","978-0-7660-4215-5",2014,"January 2014","9.000 X 7.500","Author","Melissa Stewart",2.4,0.5,null,null,"K","480L","Grade K - 2","Grade K - 3",null,"English",22.6,16.95,"595.769","24 pp.",{"$f":"Table1[[#This Row],[QTY]]*Table1[[#This Row],['# of Books]]","v":0},{"$f":"Table1[[#This Row],[QTY]]*Table1[[#This Row],[School & Library Price]]","v":0}]
[null,null,null,19,"Zoom in on Insects!","Zoom in on Ladybugs",1,"eBook","978-0-7660-5838-5",2014,"January 2014",null,"Author","Melissa Stewart",2.4,0.5,null,null,"K","480L","Grade K - 2","Grade K - 3",null,"English",22.6,16.95,"595.769","24 pp.",{"$f":"Table1[[#This Row],[QTY]]*Table1[[#This Row],['# of Books]]","v":0},{"$f":"Table1[[#This Row],[QTY]]*Table1[[#This Row],[School & Library Price]]","v":0}]
[null,null,null,20,"Discover Dogs with the American Canine Association","Discover Dogs with the American Canine Association: Sets 1 – 5",30,"Library Set","978-0-7660-9153-5",2018,"January 2018","8.500 X 7.125"," "," ",null,null,null,null,null,null,"Grade 1 - 2","Grade K - 3","Readers will delight in learning all about their favorite dog breeds. Using simple text, elementary students will learn how to take care of each breed, from housing and exercise to diet and play. Each book focuses on a different popular breed and encourages readers to become responsible dog owners. A Note to Parents addresses the importance of neutering and spaying, microchipping, checking to see if a dog license is required, and adopting from a shelter or rescue group.","English",678,508.5,null,"24 pp.",{"$f":"Table1[[#This Row],[QTY]]*Table1[[#This Row],['# of Books]]","v":0},{"$f":"Table1[[#This Row],[QTY]]*Table1[[#This Row],[School & Library Price]]","v":0}]
[null,null,null,20,"Discover Dogs with the American Canine Association","Discover Dogs with the American Canine Association: Set 5",6,"Library Set","978-0-7660-9152-8",2018,"January 2018","8.500 X 7.125"," "," ",null,null,null,null,null,null,"Grade 1 - 2","Grade K - 3","Readers will delight in learning all about their favorite dog breeds. Using simple text, elementary students will learn how to take care of each breed from housing and exercise to diet and play. Each book focuses on a different popular breed and encourages readers to become responsible dog owners. A \"Note to Parents\" section addresses the importance of neutering and spaying, microchipping, checking to see if a dog license is required, and adopting from a shelter or rescue group.","English",135.6,101.7,null,"24 pp.",{"$f":"Table1[[#This Row],[QTY]]*Table1[[#This Row],['# of Books]]","v":0},{"$f":"Table1[[#This Row],[QTY]]*Table1[[#This Row],[School & Library Price]]","v":0}]
[null,null,null,20,"Discover Dogs with the American Canine Association","I Like Airedale Terriers!",1,"Library Bound Book","978-0-7660-9121-4",2018,"January 2018","8.500 X 7.125","Author","Linda Bozzo",null,null,null,null,"H",null,"Grade 1 - 2","Grade K - 3","Readers will delight in learning all about Airedale terriers. Using simple text and adorable full-color photographs, students will learn how to take care of an Airedale, from housing and exercise to diet and play, encouraging readers to become responsible dog owners. A Note to Parents addresses the importance of neutering and spaying, microchipping, checking to see if a dog license is required, and adopting from a shelter or rescue group. This book has been vetted and approved by the American Canine Association.","English",22.6,16.95,"636.755--dc23","24 pp.",{"$f":"Table1[[#This Row],[QTY]]*Table1[[#This Row],['# of Books]]","v":0},{"$f":"Table1[[#This Row],[QTY]]*Table1[[#This Row],[School & Library Price]]","v":0}]
[null,null,null,20,"Discover Dogs with the American Canine Association","I Like Airedale Terriers!",1,"eBook","978-0-7660-9122-1",2018,"January 2018",null,"Author","Linda Bozzo",null,null,null,null,"H",null,"Grade 1 - 2","Grade K - 3","Readers will delight in learning all about Airedale terriers. Using simple text and adorable full-color photographs, students will learn how to take care of an Airedale, from housing and exercise to diet and play, encouraging readers to become responsible dog owners. A Note to Parents addresses the importance of neutering and spaying, microchipping, checking to see if a dog license is required, and adopting from a shelter or rescue group. This book has been vetted and approved by the American Canine Association.","English",22.6,16.95,"636.755--dc23","24 pp.",{"$f":"Table1[[#This Row],[QTY]]*Table1[[#This Row],['# of Books]]","v":0},{"$f":"Table1[[#This Row],[QTY]]*Table1[[#This Row],[School & Library Price]]","v":0}]
[null,null,null,20,"Discover Dogs with the American Canine Association","I Like Akitas!",1,"Library Bound Book","978-0-7660-9125-2",2018,"January 2018","8.500 X 7.125","Author","Linda Bozzo",null,null,null,null,"G",null,"Grade 1 - 2","Grade K - 3","Through simple yet informative text and full-color photographs, author Linda Bozzo and the American Canine Association teach readers all about Akitas, the large dog breed of Japanese origin, including how to take care of one and what needs are specific to the breed. Also included are a Note to Parents that stresses the importance of spaying or neutering and microchipping pets, a Words to Know section to help young readers learn new vocabulary, and a Read About Dogs section to encourage further exploration.","English",22.6,16.95,"636.73--dc23","24 pp.",{"$f":"Table1[[#This Row],[QTY]]*Table1[[#This Row],['# of Books]]","v":0},{"$f":"Table1[[#This Row],[QTY]]*Table1[[#This Row],[School & Library Price]]","v":0}]
[null,null,null,20,"Discover Dogs with the American Canine Association","I Like Akitas!",1,"eBook","978-0-7660-9126-9",2018,"January 2018",null,"Author","Linda Bozzo",null,null,null,null,"G",null,"Grade 1 - 2","Grade K - 3","Through simple yet informative text and full-color photographs, author Linda Bozzo and the American Canine Association teach readers all about Akitas, the large dog breed of Japanese origin, including how to take care of one and what needs are specific to the breed. Also included are a Note to Parents that stresses the importance of spaying or neutering and microchipping pets, a Words to Know section to help young readers learn new vocabulary, and a Read About Dogs section to encourage further exploration.","English",22.6,16.95,"636.73--dc23","24 pp.",{"$f":"Table1[[#This Row],[QTY]]*Table1[[#This Row],['# of Books]]","v":0},{"$f":"Table1[[#This Row],[QTY]]*Table1[[#This Row],[School & Library Price]]","v":0}]
[null,null,null,20,"Discover Dogs with the American Canine Association","I Like Basset Hounds!",1,"Library Bound Book","978-0-7660-9129-0",2018,"January 2018","8.500 X 7.125","Author","Linda Bozzo",null,null,null,null,"F",null,"Grade 1 - 2","Grade K - 3","Author Linda Bozzo and the American Canine Association provide young readers with accessible information, fun facts, and adorable full-color photographs of the short-legged, droopy-faced basset hound. Students will learn whether a puppy or adult dog is right for them, what to feed it, and how to keep it clean and healthy. In addition, this text includes a Note to Parents that stresses the importance of spaying or neutering and microchipping pets, a Words to Know section to help young readers master new vocabulary, and a Read About Dogs section to encourage deeper exploration into the topic.","English",22.6,16.95,"636.753/6--dc23","24 pp.",{"$f":"Table1[[#This Row],[QTY]]*Table1[[#This Row],['# of Books]]","v":0},{"$f":"Table1[[#This Row],[QTY]]*Table1[[#This Row],[School & Library Price]]","v":0}]
[null,null,null,20,"Discover Dogs with the American Canine Association","I Like Basset Hounds!",1,"eBook","978-0-7660-9130-6",2018,"January 2018",null,"Author","Linda Bozzo",null,null,null,null,"F",null,"Grade 1 - 2","Grade K - 3","Author Linda Bozzo and the American Canine Association provide young readers with accessible information, fun facts, and adorable full-color photographs of the short-legged, droopy-faced basset hound. Students will learn whether a puppy or adult dog is right for them, what to feed it, and how to keep it clean and healthy. In addition, this text includes a Note to Parents that stresses the importance of spaying or neutering and microchipping pets, a Words to Know section to help young readers master new vocabulary, and a Read About Dogs section to encourage deeper exploration into the topic.","English",22.6,16.95,"636.753/6--dc23","24 pp.",{"$f":"Table1[[#This Row],[QTY]]*Table1[[#This Row],['# of Books]]","v":0},{"$f":"Table1[[#This Row],[QTY]]*Table1[[#This Row],[School & Library Price]]","v":0}]
[null,null,null,20,"Discover Dogs with the American Canine Association","I Like Cocker Spaniels!",1,"Library Bound Book","978-0-7660-9133-7",2018,"January 2018","8.500 X 7.125","Author","Linda Bozzo",null,null,null,null,"F",null,"Grade 1 - 2","Grade K - 3","Readers will learn all about the popular cocker spaniel breed and its needs with the help of author Linda Bozzo and the American Canine Association. Simple, informative text and full-color photographs will show readers what to feed their cocker spaniel, how to groom it, and how to keep it healthy through exercise and play. A Note to Parents addresses the importance of neutering and spaying, microchipping, checking to see if a dog license is required, and adopting from a shelter or rescue group. Also included are a Words to Know section and a Read About Dogs section with books and websites.","English",22.6,16.95,"636.752/4--dc23","24 pp.",{"$f":"Table1[[#This Row],[QTY]]*Table1[[#This Row],['# of Books]]","v":0},{"$f":"Table1[[#This Row],[QTY]]*Table1[[#This Row],[School & Library Price]]","v":0}]
[null,null,null,20,"Discover Dogs with the American Canine Association","I Like Cocker Spaniels!",1,"eBook","978-0-7660-9134-4",2018,"January 2018",null,"Author","Linda Bozzo",null,null,null,null,"F",null,"Grade 1 - 2","Grade K - 3","Readers will learn all about the popular cocker spaniel breed and its needs with the help of author Linda Bozzo and the American Canine Association. Simple, informative text and full-color photographs will show readers what to feed their cocker spaniel, how to groom it, and how to keep it healthy through exercise and play. A Note to Parents addresses the importance of neutering and spaying, microchipping, checking to see if a dog license is required, and adopting from a shelter or rescue group. Also included are a Words to Know section and a Read About Dogs section with books and websites.","English",22.6,16.95,"636.752/4--dc23","24 pp.",{"$f":"Table1[[#This Row],[QTY]]*Table1[[#This Row],['# of Books]]","v":0},{"$f":"Table1[[#This Row],[QTY]]*Table1[[#This Row],[School & Library Price]]","v":0}]
[null,null,null,20,"Discover Dogs with the American Canine Association","I Like Newfoundlands!",1,"Library Bound Book","978-0-7660-9137-5",2018,"January 2018","8.500 X 7.125","Author","Linda Bozzo",null,null,null,null,"G",null,"Grade 1 - 2","Grade K - 3","Approved by the American Canine Association, this book uses accessible text and adorable full-color photographs to teach students how to take care of a Newfoundland, including what to feed it, how to keep it clean and healthy, when it should be seen by a veterinarian, and any special considerations this large, thick-coated breed requires. A Note to Parents addresses the importance of neutering and spaying, microchipping, checking to see if a dog license is required, and adopting from a shelter or rescue group. Also, a Read About Dogs section directs students to books and websites with additional information.","English",22.6,16.95,null,"24 pp.",{"$f":"Table1[[#This Row],[QTY]]*Table1[[#This Row],['# of Books]]","v":0},{"$f":"Table1[[#This Row],[QTY]]*Table1[[#This Row],[School & Library Price]]","v":0}]
[null,null,null,20,"Discover Dogs with the American Canine Association","I Like Newfoundlands!",1,"eBook","978-0-7660-9138-2",2018,"January 2018",null,"Author","Linda Bozzo",null,null,null,null,"G",null,"Grade 1 - 2","Grade K - 3","Approved by the American Canine Association, this book uses accessible text and adorable full-color photographs to teach students how to take care of a Newfoundland, including what to feed it, how to keep it clean and healthy, when it should be seen by a veterinarian, and any special considerations this large, thick-coated breed requires. A Note to Parents addresses the importance of neutering and spaying, microchipping, checking to see if a dog license is required, and adopting from a shelter or rescue group. Also, a Read About Dogs section directs students to books and websites with additional information.","English",22.6,16.95,null,"24 pp.",{"$f":"Table1[[#This Row],[QTY]]*Table1[[#This Row],['# of Books]]","v":0},{"$f":"Table1[[#This Row],[QTY]]*Table1[[#This Row],[School & Library Price]]","v":0}]
[null,null,null,20,"Discover Dogs with the American Canine Association","I Like Portuguese Water Dogs!",1,"Library Bound Book","978-0-7660-9117-7",2018,"January 2018","8.500 X 7.125","Author","Linda Bozzo",null,null,null,null,"I",null,"Grade 1 - 2","Grade K - 3","Filled with simple yet informative text, fast facts, and colorful photographs, this delightful text approved by the American Canine Association informs readers all about the care of Portuguese water dogs, from housing and exercise to diet and play, encouraging children to become responsible dog owners. In addition, a Note to Parents stresses the importance of spaying or neutering and microchipping pets, a Words to Know section helps young readers learn new vocabulary, and a Read About Dogs section with books and websites provides sources for further exploration of the subject.","English",22.6,16.95,"636.73--dc23","24 pp.",{"$f":"Table1[[#This Row],[QTY]]*Table1[[#This Row],['# of Books]]","v":0},{"$f":"Table1[[#This Row],[QTY]]*Table1[[#This Row],[School & Library Price]]","v":0}]
[null,null,null,20,"Discover Dogs with the American Canine Association","I Like Portuguese Water Dogs!",1,"eBook","978-0-7660-9118-4",2018,"January 2018",null,"Author","Linda Bozzo",null,null,null,null,"I",null,"Grade 1 - 2","Grade K - 3","Filled with simple yet informative text, fast facts, and colorful photographs, this delightful text approved by the American Canine Association informs readers all about the care of Portuguese water dogs, from housing and exercise to diet and play, encouraging children to become responsible dog owners. In addition, a Note to Parents stresses the importance of spaying or neutering and microchipping pets, a Words to Know section helps young readers learn new vocabulary, and a Read About Dogs section with books and websites provides sources for further exploration of the subject.","English",22.6,16.95,"636.73--dc23","24 pp.",{"$f":"Table1[[#This Row],[QTY]]*Table1[[#This Row],['# of Books]]","v":0},{"$f":"Table1[[#This Row],[QTY]]*Table1[[#This Row],[School & Library Price]]","v":0}]
[null,null,null,20,"Discover Dogs with the American Canine Association (All 24 Titles)","Discover Dogs with the American Canine Association (All 24 Titles)",24,"Library Set","978-0-7660-8591-6",2018,"August 2017","8.500 X 7.125",null,null,null,null,null,null,null,null,"Grade 1 - 2","Grade K - 3","Readers will delight in learning all about their favorite dog breeds. Using simple text, elementary students will learn how to take care of each breed, from housing and exercise to diet and play. Each book focuses on a different popular breed and encourages readers to become responsible dog owners. A Note to Parents addresses the importance of neutering and spaying, microchipping, checking to see if a dog license is required, and adopting from a shelter or rescue group.","English",542.4,406.8,null,"24 pp.",{"$f":"Table1[[#This Row],[QTY]]*Table1[[#This Row],['# of Books]]","v":0},{"$f":"Table1[[#This Row],[QTY]]*Table1[[#This Row],[School & Library Price]]","v":0}]
[null,null,null,20,"Discover Dogs with the American Canine Association (NEW Set of 6 Titles)","Discover Dogs with the American Canine Association (NEW Set of 6 Titles)",6,"Library Set","978-0-7660-8590-9",2018,"August 2017","8.500 X 7.125",null,null,null,null,null,null,null,null,"Grade 1 - 2","Grade K - 3","Readers will delight in learning all about their favorite dog breeds. Using simple text, elementary students will learn how to take care of each breed, from housing and exercise to diet and play. Each book focuses on a different popular breed and encourages readers to become responsible dog owners. A Note to Parents addresses the importance of neutering and spaying, microchipping, checking to see if a dog license is required, and adopting from a shelter or rescue group.\n\n\n\n","English",135.6,101.7,null,"24 pp.",{"$f":"Table1[[#This Row],[QTY]]*Table1[[#This Row],['# of Books]]","v":0},{"$f":"Table1[[#This Row],[QTY]]*Table1[[#This Row],[School & Library Price]]","v":0}]
[null,null,null,20,"Discover Dogs with the American Canine Association","I Like Australian Shepherds!",1,"Library Bound Book","978-0-7660-8634-0",2018,"August 2017","8.500 X 7.125","Author","Linda Bozzo",null,null,null,null,"L",null,"Grade 1 - 2","Grade K - 3","Australian shepherds, or “Aussies,” are one of the world’s best-loved dog breeds. Smart, playful, and adorable, these pint-sized pooches are a common sight at the dog park. Young readers will love learning how to take care of an Australian shepherd and discovering if the breed is right for their family. Full-color photos, quick facts, and easy-to-comprehend language help readers learn how to be responsible dog owners. A Words to Know section helps readers learn new vocabulary, while Further Reading encourages deeper learning.","English",22.6,16.95,"636.737--dc23","24 pp.",{"$f":"Table1[[#This Row],[QTY]]*Table1[[#This Row],['# of Books]]","v":0},{"$f":"Table1[[#This Row],[QTY]]*Table1[[#This Row],[School & Library Price]]","v":0}]
[null,null,null,20,"Discover Dogs with the American Canine Association","I Like Australian Shepherds!",1,"eBook","978-0-7660-8635-7",2018,"August 2017",null,"Author","Linda Bozzo",null,null,null,null,"L",null,"Grade 1 - 2","Grade K - 3","Australian shepherds, or “Aussies,” are one of the world’s best-loved dog breeds. Smart, playful, and adorable, these pint-sized pooches are a common sight at the dog park. Young readers will love learning how to take care of an Australian shepherd and discovering if the breed is right for their family. Full-color photos, quick facts, and easy-to-comprehend language help readers learn how to be responsible dog owners. A Words to Know section helps readers learn new vocabulary, while Further Reading encourages deeper learning.","English",22.6,16.95,"636.737--dc23","24 pp.",{"$f":"Table1[[#This Row],[QTY]]*Table1[[#This Row],['# of Books]]","v":0},{"$f":"Table1[[#This Row],[QTY]]*Table1[[#This Row],[School & Library Price]]","v":0}]
[null,null,null,20,"Discover Dogs with the American Canine Association","I Like Bernese Mountain Dogs!",1,"Library Bound Book","978-0-7660-8636-4",2018,"August 2017","8.500 X 7.125","Author","Linda Bozzo",null,null,null,null,"L",null,"Grade 1 - 2","Grade K - 3","Bernese mountain dogs are larger than life! These large dogs have sweet dispositions, despite their deep bark. Early readers will love learning how to take care of a Bernese mountain dog and discovering if the breed is right for their family. Full-color photos, quick facts, and easy-to-comprehend language help readers learn how to be responsible dog owners. A Words to Know section helps readers learn new vocabulary, while Further Reading encourages deeper learning.","English",22.6,16.95,"636.73--dc23","24 pp.",{"$f":"Table1[[#This Row],[QTY]]*Table1[[#This Row],['# of Books]]","v":0},{"$f":"Table1[[#This Row],[QTY]]*Table1[[#This Row],[School & Library Price]]","v":0}]
[null,null,null,20,"Discover Dogs with the American Canine Association","I Like Bernese Mountain Dogs!",1,"eBook","978-0-7660-8637-1",2018,"August 2017",null,"Author","Linda Bozzo",null,null,null,null,"L",null,"Grade 1 - 2","Grade K - 3","Bernese mountain dogs are larger than life! These large dogs have sweet dispositions, despite their deep bark. Early readers will love learning how to take care of a Bernese mountain dog and discovering if the breed is right for their family. Full-color photos, quick facts, and easy-to-comprehend language help readers learn how to be responsible dog owners. A Words to Know section helps readers learn new vocabulary, while Further Reading encourages deeper learning.","English",22.6,16.95,"636.73--dc23","24 pp.",{"$f":"Table1[[#This Row],[QTY]]*Table1[[#This Row],['# of Books]]","v":0},{"$f":"Table1[[#This Row],[QTY]]*Table1[[#This Row],[School & Library Price]]","v":0}]
[null,null,null,20,"Discover Dogs with the American Canine Association","I Like Boxers!",1,"Library Bound Book","978-0-7660-8638-8",2018,"August 2017","8.500 X 7.125","Author","Linda Bozzo",null,null,null,null,"L",null,"Grade 1 - 2","Grade K - 3","Boxers are one of the most easy-to-love dog breeds. Their wrinkled faces and sweet temperaments help them to become great family pets. Young readers will love learning how to take care of a boxer and discovering if the breed is right for their family. Full-color photos, quick facts, and easy-to-comprehend language help readers learn how to be responsible dog owners. A Words to Know section helps readers learn new vocabulary, while Further Reading encourages deeper learning.","English",22.6,16.95,"636.73--dc23","24 pp.",{"$f":"Table1[[#This Row],[QTY]]*Table1[[#This Row],['# of Books]]","v":0},{"$f":"Table1[[#This Row],[QTY]]*Table1[[#This Row],[School & Library Price]]","v":0}]
[null,null,null,20,"Discover Dogs with the American Canine Association","I Like Boxers!",1,"eBook","978-0-7660-8639-5",2018,"August 2017",null,"Author","Linda Bozzo",null,null,null,null,"L",null,"Grade 1 - 2","Grade K - 3","Boxers are one of the most easy-to-love dog breeds. Their wrinkled faces and sweet temperaments help them to become great family pets. Young readers will love learning how to take care of a boxer and discovering if the breed is right for their family. Full-color photos, quick facts, and easy-to-comprehend language help readers learn how to be responsible dog owners. A Words to Know section helps readers learn new vocabulary, while Further Reading encourages deeper learning.","English",22.6,16.95,"636.73--dc23","24 pp.",{"$f":"Table1[[#This Row],[QTY]]*Table1[[#This Row],['# of Books]]","v":0},{"$f":"Table1[[#This Row],[QTY]]*Table1[[#This Row],[School & Library Price]]","v":0}]
[null,null,null,20,"Discover Dogs with the American Canine Association","I Like Greyhounds!",1,"Library Bound Book","978-0-7660-8640-1",2018,"August 2017","8.500 X 7.125","Author","Linda Bozzo",null,null,null,null,"L",null,"Grade 1 - 2","Grade K - 3","Greyhounds are some of the quickest dogs on the planet. But they’re also great household dogs. Young readers will love learning how to take care of a greyhound and discovering if the breed is right for their family. Full-color photos, quick facts, and easy-to-comprehend language help readers learn how to be responsible dog owners. A Words to Know section helps readers learn new vocabulary, while Further Reading encourages deeper learning.","English",22.6,16.95,"636.753/4--dc23","24 pp.",{"$f":"Table1[[#This Row],[QTY]]*Table1[[#This Row],['# of Books]]","v":0},{"$f":"Table1[[#This Row],[QTY]]*Table1[[#This Row],[School & Library Price]]","v":0}]
[null,null,null,20,"Discover Dogs with the American Canine Association","I Like Greyhounds!",1,"eBook","978-0-7660-8641-8",2018,"August 2017",null,"Author","Linda Bozzo",null,null,null,null,"L",null,"Grade 1 - 2","Grade K - 3","Greyhounds are some of the quickest dogs on the planet. But they’re also great household dogs. Young readers will love learning how to take care of a greyhound and discovering if the breed is right for their family. Full-color photos, quick facts, and easy-to-comprehend language help readers learn how to be responsible dog owners. A Words to Know section helps readers learn new vocabulary, while Further Reading encourages deeper learning.","English",22.6,16.95,"636.753/4--dc23","24 pp.",{"$f":"Table1[[#This Row],[QTY]]*Table1[[#This Row],['# of Books]]","v":0},{"$f":"Table1[[#This Row],[QTY]]*Table1[[#This Row],[School & Library Price]]","v":0}]
[null,null,null,20,"Discover Dogs with the American Canine Association","I Like Irish Wolfhounds!",1,"Library Bound Book","978-0-7660-8642-5",2018,"August 2017","8.500 X 7.125","Author","Linda Bozzo",null,null,null,null,"L",null,"Grade 1 - 2","Grade K - 3","Irish wolfhounds are some of the largest dogs on the planet. They are also one of the oldest breeds in history. Young readers will love learning how to take care of an Irish wolfhound and discovering if the breed is right for their family. Full-color photos, quick facts, and easy-to-comprehend language help readers learn how to be responsible dog owners. A Words to Know section helps readers learn new vocabulary, while Further Reading encourages deeper learning.","English",22.6,16.95,"636.753/5--dc23","24 pp.",{"$f":"Table1[[#This Row],[QTY]]*Table1[[#This Row],['# of Books]]","v":0},{"$f":"Table1[[#This Row],[QTY]]*Table1[[#This Row],[School & Library Price]]","v":0}]
[null,null,null,20,"Discover Dogs with the American Canine Association","I Like Irish Wolfhounds!",1,"eBook","978-0-7660-8643-2",2018,"August 2017",null,"Author","Linda Bozzo",null,null,null,null,"L",null,"Grade 1 - 2","Grade K - 3","Irish wolfhounds are some of the largest dogs on the planet. They are also one of the oldest breeds in history. Young readers will love learning how to take care of an Irish wolfhound and discovering if the breed is right for their family. Full-color photos, quick facts, and easy-to-comprehend language help readers learn how to be responsible dog owners. A Words to Know section helps readers learn new vocabulary, while Further Reading encourages deeper learning.","English",22.6,16.95,"636.753/5--dc23","24 pp.",{"$f":"Table1[[#This Row],[QTY]]*Table1[[#This Row],['# of Books]]","v":0},{"$f":"Table1[[#This Row],[QTY]]*Table1[[#This Row],[School & Library Price]]","v":0}]
[null,null,null,20,"Discover Dogs with the American Canine Association","I Like Jack Russell Terriers!",1,"Library Bound Book","978-0-7660-8644-9",2018,"August 2017","8.500 X 7.125","Author","Linda Bozzo",null,null,null,null,"L",null,"Grade 1 - 2","Grade K - 3","Jack Russell terriers are some of the most energetic dogs out there. But they’re easy to love, and they make great family pets. Young readers will love learning how to take care of a Jack Russell and discovering if the breed is right for their family. Full-color photos, quick facts, and easy-to-comprehend language help readers learn how to be responsible dog owners. A Words to Know section helps readers learn new vocabulary, while Further Reading encourages deeper learning.","English",22.6,16.95,"636.755--dc23","24 pp.",{"$f":"Table1[[#This Row],[QTY]]*Table1[[#This Row],['# of Books]]","v":0},{"$f":"Table1[[#This Row],[QTY]]*Table1[[#This Row],[School & Library Price]]","v":0}]
[null,null,null,20,"Discover Dogs with the American Canine Association","I Like Jack Russell Terriers!",1,"eBook","978-0-7660-8645-6",2018,"August 2017",null,"Author","Linda Bozzo",null,null,null,null,"L",null,"Grade 1 - 2","Grade K - 3","Jack Russell terriers are some of the most energetic dogs out there. But they’re easy to love, and they make great family pets. Young readers will love learning how to take care of a Jack Russell and discovering if the breed is right for their family. Full-color photos, quick facts, and easy-to-comprehend language help readers learn how to be responsible dog owners. A Words to Know section helps readers learn new vocabulary, while Further Reading encourages deeper learning.","English",22.6,16.95,"636.755--dc23","24 pp.",{"$f":"Table1[[#This Row],[QTY]]*Table1[[#This Row],['# of Books]]","v":0},{"$f":"Table1[[#This Row],[QTY]]*Table1[[#This Row],[School & Library Price]]","v":0}]
[null,null,null,21,"Discover Dogs with the American Canine Association","I Like Beagles!",1,"Library Bound Book","978-0-7660-3846-2",2012,"January 2012","9.000 X 7.500","Author","Linda Bozzo",2.4,null,null,null,"H","710L","Grade K - 2","Grade K - 3","Beagles were born to hunt! They are friendly and playful dogs that make great pets. Learn how to care for your beagle. Read about grooming, feeding, vet checkups, and more. ","English",22.6,16.95,"636.753","24 pp.",{"$f":"Table1[[#This Row],[QTY]]*Table1[[#This Row],['# of Books]]","v":0},{"$f":"Table1[[#This Row],[QTY]]*Table1[[#This Row],[School & Library Price]]","v":0}]
[null,null,null,21,"Discover Dogs with the American Canine Association","I Like Beagles!",1,"eBook","978-0-7660-4409-8",2012,"January 2012",null,"Author","Linda Bozzo",2.4,null,null,null,"H","710L","Grade 1 - 2","Grade K - 3","Beagles were born to hunt! They are friendly and playful dogs that make great pets. Learn how to care for your beagle. Read about grooming, feeding, vet checkups, and more. ","English",22.6,16.95,"636.753","24 pp.",{"$f":"Table1[[#This Row],[QTY]]*Table1[[#This Row],['# of Books]]","v":0},{"$f":"Table1[[#This Row],[QTY]]*Table1[[#This Row],[School & Library Price]]","v":0}]
[null,null,null,21,"Discover Dogs with the American Canine Association","I Like Bulldogs!",1,"Library Bound Book","978-0-7660-7920-5",2017,"August 2016","8.500 X 7.125","Author","Linda Bozzo",3.3,0.5,null,null,"B",null,"Grade 1 - 2","Grade K - 3","Author Linda Bozzo and the American Canine Association provide young readers with accessible information and adorable full-color photos of English bulldogs. Students will learn whether a puppy or adult is right for them, what to feed it, and how to keep it clean and healthy. Words to Know help young readers learn new vocabulary and Read About Dogs encourages young canine enthusiasts to explore further.","English",22.6,16.95,"636.76--dc23","24 pp.",{"$f":"Table1[[#This Row],[QTY]]*Table1[[#This Row],['# of Books]]","v":0},{"$f":"Table1[[#This Row],[QTY]]*Table1[[#This Row],[School & Library Price]]","v":0}]
[null,null,null,21,"Discover Dogs with the American Canine Association","I Like Bulldogs!",1,"eBook","978-0-7660-7769-0",2017,"August 2016",null,"Author","Linda Bozzo",3.3,0.5,null,null,"B",null,"Grade 1 - 2","Grade K - 3","Author Linda Bozzo and the American Canine Association provide young readers with accessible information and adorable full-color photos of English bulldogs. Students will learn whether a puppy or adult is right for them, what to feed it, and how to keep it clean and healthy. Words to Know help young readers learn new vocabulary and Read About Dogs encourages young canine enthusiasts to explore further.","English",22.6,16.95,"636.76--dc23","24 pp.",{"$f":"Table1[[#This Row],[QTY]]*Table1[[#This Row],['# of Books]]","v":0},{"$f":"Table1[[#This Row],[QTY]]*Table1[[#This Row],[School & Library Price]]","v":0}]
[null,null,null,21,"Discover Dogs with the American Canine Association","I Like Chihuahuas!",1,"Library Bound Book","978-0-7660-7786-7",2017,"August 2016","8.500 X 7.125","Author","Linda Bozzo",3,0.5,null,null,"B",null,"Grade 1 - 2","Grade K - 3","Young readers will learn all about the Chihuahua’s unique characteristics and needs with the help of author Linda Bozzo and the American Canine Association. Simple, informative text and full-color photos will show readers what to feed their tiny dog, how to groom it, and how to keep it healthy through exercise and play.","English",22.6,16.95,"636.76--dc23","24 pp.",{"$f":"Table1[[#This Row],[QTY]]*Table1[[#This Row],['# of Books]]","v":0},{"$f":"Table1[[#This Row],[QTY]]*Table1[[#This Row],[School & Library Price]]","v":0}]
[null,null,null,21,"Discover Dogs with the American Canine Association","I Like Chihuahuas!",1,"eBook","978-0-7660-7773-7",2017,"August 2016",null,"Author","Linda Bozzo",3,0.5,null,null,"B",null,"Grade 1 - 2","Grade K - 3","Young readers will learn all about the Chihuahua’s unique characteristics and needs with the help of author Linda Bozzo and the American Canine Association. Simple, informative text and full-color photos will show readers what to feed their tiny dog, how to groom it, and how to keep it healthy through exercise and play.","English",22.6,16.95,"636.76--dc23","24 pp.",{"$f":"Table1[[#This Row],[QTY]]*Table1[[#This Row],['# of Books]]","v":0},{"$f":"Table1[[#This Row],[QTY]]*Table1[[#This Row],[School & Library Price]]","v":0}]
[null,null,null,21,"Discover Dogs with the American Canine Association","I Like Collies!",1,"Library Bound Book","978-0-7660-3847-9",2012,"January 2012","9.000 X 7.500","Author","Linda Bozzo",2.5,null,null,null,"H","590L","Grade K - 2","Grade K - 3","Collies are friendly and smart dogs that make great pets. Some have short hair. Some have long hair. But they all need love. Learn how to care for your collie. Read about grooming, feeding, vet checkups, and more. ","English",22.6,16.95,"636.737","24 pp.",{"$f":"Table1[[#This Row],[QTY]]*Table1[[#This Row],['# of Books]]","v":0},{"$f":"Table1[[#This Row],[QTY]]*Table1[[#This Row],[School & Library Price]]","v":0}]
[null,null,null,21,"Discover Dogs with the American Canine Association","I Like Collies!",1,"eBook","978-0-7660-4407-4",2012,"January 2012",null,"Author","Linda Bozzo",2.5,null,null,null,"H","590L","Grade 1 - 2","Grade K - 3","Collies are friendly and smart dogs that make great pets. Some have short hair. Some have long hair. But they all need love. Learn how to care for your collie. Read about grooming, feeding, vet checkups, and more. ","English",22.6,16.95,"636.737","24 pp.",{"$f":"Table1[[#This Row],[QTY]]*Table1[[#This Row],['# of Books]]","v":0},{"$f":"Table1[[#This Row],[QTY]]*Table1[[#This Row],[School & Library Price]]","v":0}]
[null,null,null,21,"Discover Dogs with the American Canine Association","I Like Dachshunds!",1,"Library Bound Book","978-0-7660-8163-5",2017,"January 2017","8.500 X 7.125","Author","Linda Bozzo",3.2,0.5,null,null,"H",null,"Grade 1 - 2","Grade K - 3","Through simple yet informative text and full-color photos, author Linda Bozzo and the American Canine Association teach readers all about one of the most popular breeds of dog, the dachshund, including how to take care of one and what needs are specific to the breed. Also included are a Note to Parents that stresses the importance of spaying or neutering and microchipping pets, a Words to Know section to help young readers learn new vocabulary, and a Read About Dogs section to encourage further exploration.","English",22.6,16.95,"636.753/8--dc23","24 pp.",{"$f":"Table1[[#This Row],[QTY]]*Table1[[#This Row],['# of Books]]","v":0},{"$f":"Table1[[#This Row],[QTY]]*Table1[[#This Row],[School & Library Price]]","v":0}]
[null,null,null,21,"Discover Dogs with the American Canine Association","I Like Dachshunds!",1,"eBook","978-0-7660-8164-2",2017,"January 2017",null,"Author","Linda Bozzo",null,null,null,null,"H",null,"Grade 1 - 2","Grade K - 3","Through simple yet informative text and full-color photos, author Linda Bozzo and the American Canine Association teach readers all about one of the most popular breeds of dog, the dachshund, including how to take care of one and what needs are specific to the breed. Also included are a Note to Parents that stresses the importance of spaying or neutering and microchipping pets, a Words to Know section to help young readers learn new vocabulary, and a Read About Dogs section to encourage further exploration.","English",22.6,16.95,"636.753/8--dc23","24 pp.",{"$f":"Table1[[#This Row],[QTY]]*Table1[[#This Row],['# of Books]]","v":0},{"$f":"Table1[[#This Row],[QTY]]*Table1[[#This Row],[School & Library Price]]","v":0}]
[null,null,null,21,"Discover Dogs with the American Canine Association","I Like Dalmatians!",1,"Library Bound Book","978-0-7660-8155-0",2017,"January 2017","8.500 X 7.125","Author","Linda Bozzo",2.8,0.5,null,null,"H",null,"Grade 1 - 2","Grade K - 3","Through simple yet informative text and full-color photos, author Linda Bozzo and the American Canine Association teach readers all about one of the most popular breeds of dog, the Dalmatian, including how to take care of one and what needs are specific to the breed. Also included are a Note to Parents that stresses the importance of spaying or neutering and microchipping pets, a Words to Know section to help young readers learn new vocabulary, and a Read About Dogs section to encourage further exploration.","English",22.6,16.95,"636.72--dc23","24 pp.",{"$f":"Table1[[#This Row],[QTY]]*Table1[[#This Row],['# of Books]]","v":0},{"$f":"Table1[[#This Row],[QTY]]*Table1[[#This Row],[School & Library Price]]","v":0}]
[null,null,null,21,"Discover Dogs with the American Canine Association","I Like Dalmatians!",1,"eBook","978-0-7660-8156-7",2017,"January 2017",null,"Author","Linda Bozzo",null,null,null,null,"H",null,"Grade 1 - 2","Grade K - 3","Through simple yet informative text and full-color photos, author Linda Bozzo and the American Canine Association teach readers all about one of the most popular breeds of dog, the Dalmatian, including how to take care of one and what needs are specific to the breed. Also included are a Note to Parents that stresses the importance of spaying or neutering and microchipping pets, a Words to Know section to help young readers learn new vocabulary, and a Read About Dogs section to encourage further exploration.","English",22.6,16.95,"636.72--dc23","24 pp.",{"$f":"Table1[[#This Row],[QTY]]*Table1[[#This Row],['# of Books]]","v":0},{"$f":"Table1[[#This Row],[QTY]]*Table1[[#This Row],[School & Library Price]]","v":0}]
[null,null,null,21,"Discover Dogs with the American Canine Association","I Like French Bulldogs!",1,"Library Bound Book","978-0-7660-8134-5",2017,"January 2017","8.500 X 7.125","Author","Linda Bozzo",3.1,0.5,null,null,"H",null,"Grade 1 - 2","Grade K - 3","Author Linda Bozzo and the American Canine Association provide young readers with accessible information, fun facts, and adorable full-color photos of French bulldogs. Students will learn whether a puppy or adult dog is right for them, what to feed it, and how to keep it clean and healthy. Also included are a Note to Parents that stresses the importance of spaying or neutering and microchipping pets, a Words to Know section to help young readers learn new vocabulary, and a Read About Dogs section to encourage further exploration.","English",22.6,16.95,"636.72--dc23","24 pp.",{"$f":"Table1[[#This Row],[QTY]]*Table1[[#This Row],['# of Books]]","v":0},{"$f":"Table1[[#This Row],[QTY]]*Table1[[#This Row],[School & Library Price]]","v":0}]
[null,null,null,21,"Discover Dogs with the American Canine Association","I Like French Bulldogs!",1,"eBook","978-0-7660-8135-2",2017,"January 2017",null,"Author","Linda Bozzo",null,null,null,null,"H",null,"Grade 1 - 2","Grade K - 3","Author Linda Bozzo and the American Canine Association provide young readers with accessible information, fun facts, and adorable full-color photos of French bulldogs. Students will learn whether a puppy or adult dog is right for them, what to feed it, and how to keep it clean and healthy. Also included are a Note to Parents that stresses the importance of spaying or neutering and microchipping pets, a Words to Know section to help young readers learn new vocabulary, and a Read About Dogs section to encourage further exploration.","English",22.6,16.95,"636.72--dc23","24 pp.",{"$f":"Table1[[#This Row],[QTY]]*Table1[[#This Row],['# of Books]]","v":0},{"$f":"Table1[[#This Row],[QTY]]*Table1[[#This Row],[School & Library Price]]","v":0}]
[null,null,null,21,"Discover Dogs with the American Canine Association","I Like German Shepherds!",1,"Library Bound Book","978-0-7660-3849-3",2012,"January 2012","9.000 X 7.500","Author","Linda Bozzo",2.8,null,null,null,"H","680L","Grade K - 2","Grade K - 3","German shepherds are brave and smart. They make good guard dogs and police dogs. They love to work and play. Learn how to care for your German shepherd. Read about grooming, feeding, vet checkups, and more. ","English",22.6,16.95,"636.737","24 pp.",{"$f":"Table1[[#This Row],[QTY]]*Table1[[#This Row],['# of Books]]","v":0},{"$f":"Table1[[#This Row],[QTY]]*Table1[[#This Row],[School & Library Price]]","v":0}]
[null,null,null,21,"Discover Dogs with the American Canine Association","I Like German Shepherds!",1,"eBook","978-0-7660-4405-0",2012,"January 2012",null,"Author","Linda Bozzo",2.8,null,null,null,"H","680L","Grade 1 - 2","Grade K - 3","German shepherds are brave and smart. They make good guard dogs and police dogs. They love to work and play. Learn how to care for your German shepherd. Read about grooming, feeding, vet checkups, and more. ","English",22.6,16.95,"636.737","24 pp.",{"$f":"Table1[[#This Row],[QTY]]*Table1[[#This Row],['# of Books]]","v":0},{"$f":"Table1[[#This Row],[QTY]]*Table1[[#This Row],[School & Library Price]]","v":0}]
[null,null,null,21,"Discover Dogs with the American Canine Association","I Like Golden Retrievers!",1,"Library Bound Book","978-0-7660-7776-8",2017,"August 2016","8.500 X 7.125","Author","Linda Bozzo",3.3,0.5,null,null,"B",null,"Grade 1 - 2","Grade K - 3","Through simple yet informative text and full-color photos, author Linda Bozzo and the American Canine Association teach young readers all about one of the most popular breeds of dog, the golden retriever, including how to take care of one and what needs are specific to the breed.","English",22.6,16.95,"636.752/7--dc23","24 pp.",{"$f":"Table1[[#This Row],[QTY]]*Table1[[#This Row],['# of Books]]","v":0},{"$f":"Table1[[#This Row],[QTY]]*Table1[[#This Row],[School & Library Price]]","v":0}]
[null,null,null,21,"Discover Dogs with the American Canine Association","I Like Golden Retrievers!",1,"eBook","978-0-7660-7768-3",2017,"August 2016",null,"Author","Linda Bozzo",3.3,0.5,null,null,"B",null,"Grade 1 - 2","Grade K - 3","Through simple yet informative text and full-color photos, author Linda Bozzo and the American Canine Association teach young readers all about one of the most popular breeds of dog, the golden retriever, including how to take care of one and what needs are specific to the breed.","English",22.6,16.95,"636.752/7--dc23","24 pp.",{"$f":"Table1[[#This Row],[QTY]]*Table1[[#This Row],['# of Books]]","v":0},{"$f":"Table1[[#This Row],[QTY]]*Table1[[#This Row],[School & Library Price]]","v":0}]
[null,null,null,21,"Discover Dogs with the American Canine Association","I Like Great Danes!",1,"Library Bound Book","978-0-7660-7781-2",2017,"August 2016","8.500 X 7.125","Author","Linda Bozzo",3.4,0.5,null,null,"B",null,"Grade 1 - 2","Grade K - 3","Young readers will learn all about the Great Dane’s unique characteristics and needs with the help of author Linda Bozzo and the American Canine Association. Simple, informative text and full-color photos will show readers what to feed their Great Dane, how to groom it, and how to keep it healthy through exercise and play.","English",22.6,16.95,"636.73--dc23","24 pp.",{"$f":"Table1[[#This Row],[QTY]]*Table1[[#This Row],['# of Books]]","v":0},{"$f":"Table1[[#This Row],[QTY]]*Table1[[#This Row],[School & Library Price]]","v":0}]
[null,null,null,21,"Discover Dogs with the American Canine Association","I Like Great Danes!",1,"eBook","978-0-7660-7770-6",2017,"August 2016",null,"Author","Linda Bozzo",3.4,0.5,null,null,"B",null,"Grade 1 - 2","Grade K - 3","Young readers will learn all about the Great Dane’s unique characteristics and needs with the help of author Linda Bozzo and the American Canine Association. Simple, informative text and full-color photos will show readers what to feed their Great Dane, how to groom it, and how to keep it healthy through exercise and play.","English",22.6,16.95,"636.73--dc23","24 pp.",{"$f":"Table1[[#This Row],[QTY]]*Table1[[#This Row],['# of Books]]","v":0},{"$f":"Table1[[#This Row],[QTY]]*Table1[[#This Row],[School & Library Price]]","v":0}]
[null,null,null,21,"Discover Dogs with the American Canine Association","I Like Huskies!",1,"Library Bound Book","978-0-7660-7784-3",2017,"August 2016","8.500 X 7.125","Author","Linda Bozzo",3.1,0.5,null,null,"C",null,"Grade 1 - 2","Grade K - 3","Through simple yet informative text and full-color photos, author Linda Bozzo and the American Canine Association teach young readers all about one of the most popular breeds of dog, the Siberian husky, including how to take care of one and what needs are specific to the breed.","English",22.6,16.95,"636.73--dc23","24 pp.",{"$f":"Table1[[#This Row],[QTY]]*Table1[[#This Row],['# of Books]]","v":0},{"$f":"Table1[[#This Row],[QTY]]*Table1[[#This Row],[School & Library Price]]","v":0}]
[null,null,null,21,"Discover Dogs with the American Canine Association","I Like Huskies!",1,"eBook","978-0-7660-7771-3",2017,"August 2016",null,"Author","Linda Bozzo",3.1,0.5,null,null,"C",null,"Grade 1 - 2","Grade K - 3","Through simple yet informative text and full-color photos, author Linda Bozzo and the American Canine Association teach young readers all about one of the most popular breeds of dog, the Siberian husky, including how to take care of one and what needs are specific to the breed.","English",22.6,16.95,"636.73--dc23","24 pp.",{"$f":"Table1[[#This Row],[QTY]]*Table1[[#This Row],['# of Books]]","v":0},{"$f":"Table1[[#This Row],[QTY]]*Table1[[#This Row],[School & Library Price]]","v":0}]
[null,null,null,21,"Discover Dogs with the American Canine Association","I Like Labradoodles!",1,"Library Bound Book","978-0-7660-8171-0",2017,"January 2017","8.500 X 7.125","Author","Linda Bozzo",2.8,0.5,null,null,"I",null,"Grade 1 - 2","Grade K - 3","Author Linda Bozzo and the American Canine Association provide readers with accessible information and adorable full-color photos of labradoodles. Students will learn whether a puppy or adult dog is right for them, what to feed it, and how to keep it clean and healthy. Also included are a Note to Parents that stresses the importance of spaying or neutering and microchipping pets, a Words to Know section to help young readers learn new vocabulary, and a Read About Dogs section to encourage further exploration.","English",22.6,16.95,"636.72/8--dc23","24 pp.",{"$f":"Table1[[#This Row],[QTY]]*Table1[[#This Row],['# of Books]]","v":0},{"$f":"Table1[[#This Row],[QTY]]*Table1[[#This Row],[School & Library Price]]","v":0}]
[null,null,null,21,"Discover Dogs with the American Canine Association","I Like Labradoodles!",1,"eBook","978-0-7660-8172-7",2017,"January 2017",null,"Author","Linda Bozzo",null,null,null,null,"I",null,"Grade 1 - 2","Grade K - 3","Author Linda Bozzo and the American Canine Association provide readers with accessible information and adorable full-color photos of labradoodles. Students will learn whether a puppy or adult dog is right for them, what to feed it, and how to keep it clean and healthy. Also included are a Note to Parents that stresses the importance of spaying or neutering and microchipping pets, a Words to Know section to help young readers learn new vocabulary, and a Read About Dogs section to encourage further exploration.","English",22.6,16.95,"636.72/8--dc23","24 pp.",{"$f":"Table1[[#This Row],[QTY]]*Table1[[#This Row],['# of Books]]","v":0},{"$f":"Table1[[#This Row],[QTY]]*Table1[[#This Row],[School & Library Price]]","v":0}]
[null,null,null,21,"Discover Dogs with the American Canine Association","I Like Labrador Retrievers!",1,"Library Bound Book","978-0-7660-3848-6",2012,"January 2012","9.000 X 7.500","Author","Linda Bozzo",2.5,null,null,null,"H","610L","Grade K - 2","Grade K - 3","Labrador retrievers are friendly and full of energy. They like to work and play. They are easy to train. Many guide dogs are labs. Learn how to care for your Labrador retriever. Read about grooming, feeding, vet checkups, and more. ","English",22.6,16.95,"636.752","24 pp.",{"$f":"Table1[[#This Row],[QTY]]*Table1[[#This Row],['# of Books]]","v":0},{"$f":"Table1[[#This Row],[QTY]]*Table1[[#This Row],[School & Library Price]]","v":0}]
[null,null,null,21,"Discover Dogs with the American Canine Association","I Like Labrador Retrievers!",1,"eBook","978-0-7660-4406-7",2012,"January 2012",null,"Author","Linda Bozzo",2.5,null,null,null,"H","610L","Grade 1 - 2","Grade K - 3","Labrador retrievers are friendly and full of energy. They like to work and play. They are easy to train. Many guide dogs are labs. Learn how to care for your Labrador retriever. Read about grooming, feeding, vet checkups, and more. ","English",22.6,16.95,"636.752","24 pp.",{"$f":"Table1[[#This Row],[QTY]]*Table1[[#This Row],['# of Books]]","v":0},{"$f":"Table1[[#This Row],[QTY]]*Table1[[#This Row],[School & Library Price]]","v":0}]
[null,null,null,21,"Discover Dogs with the American Canine Association","I Like Mixed-Breed Dogs!",1,"Library Bound Book","978-0-7660-3845-5",2012,"January 2012","9.000 X 7.500","Author","Linda Bozzo",2.6,null,null,null,"H","610L","Grade K - 2","Grade K - 3","Mixed-breed dogs are special pets. Each one is different. But they all need love. Learn how to care for your mixed-breed dog. Read about grooming, feeding, vet checkups, and more. ","English",22.6,16.95,"636.7","24 pp.",{"$f":"Table1[[#This Row],[QTY]]*Table1[[#This Row],['# of Books]]","v":0},{"$f":"Table1[[#This Row],[QTY]]*Table1[[#This Row],[School & Library Price]]","v":0}]
[null,null,null,21,"Discover Dogs with the American Canine Association","I Like Mixed-Breed Dogs!",1,"eBook","978-0-7660-4408-1",2012,"January 2012",null,"Author","Linda Bozzo",2.6,null,null,null,"H","610L","Grade 1 - 2","Grade K - 3","Mixed-breed dogs are special pets. Each one is different. But they all need love. Learn how to care for your mixed-breed dog. Read about grooming, feeding, vet checkups, and more. ","English",22.6,16.95,"636.7","24 pp.",{"$f":"Table1[[#This Row],[QTY]]*Table1[[#This Row],['# of Books]]","v":0},{"$f":"Table1[[#This Row],[QTY]]*Table1[[#This Row],[School & Library Price]]","v":0}]
[null,null,null,21,"Discover Dogs with the American Canine Association","I Like Pit Bulls!",1,"Library Bound Book","978-0-7660-8159-8",2017,"January 2017","8.500 X 7.125","Author","Linda Bozzo",3,0.5,null,null,"I",null,"Grade 1 - 2","Grade K - 3","Readers will learn all about the American pit bull terrier’s unique characteristics and needs with the help of author Linda Bozzo and the American Canine Association. Simple, informative text and full-color photos will show readers what to feed their pit bull, how to groom it, and how to keep it healthy through exercise and play. Also included are a Note to Parents that stresses the importance of spaying or neutering and microchipping pets, a Words to Know section to help young readers learn new vocabulary, and a Read About Dogs section to encourage further exploration.","English",22.6,16.95,"636.755/9--dc23","24 pp.",{"$f":"Table1[[#This Row],[QTY]]*Table1[[#This Row],['# of Books]]","v":0},{"$f":"Table1[[#This Row],[QTY]]*Table1[[#This Row],[School & Library Price]]","v":0}]
[null,null,null,21,"Discover Dogs with the American Canine Association","I Like Pit Bulls!",1,"eBook","978-0-7660-8160-4",2017,"January 2017",null,"Author","Linda Bozzo",null,null,null,null,"I",null,"Grade 1 - 2","Grade K - 3","Readers will learn all about the American pit bull terrier’s unique characteristics and needs with the help of author Linda Bozzo and the American Canine Association. Simple, informative text and full-color photos will show readers what to feed their pit bull, how to groom it, and how to keep it healthy through exercise and play. Also included are a Note to Parents that stresses the importance of spaying or neutering and microchipping pets, a Words to Know section to help young readers learn new vocabulary, and a Read About Dogs section to encourage further exploration.","English",22.6,16.95,"636.755/9--dc23","24 pp.",{"$f":"Table1[[#This Row],[QTY]]*Table1[[#This Row],['# of Books]]","v":0},{"$f":"Table1[[#This Row],[QTY]]*Table1[[#This Row],[School & Library Price]]","v":0}]
[null,null,null,21,"Discover Dogs with the American Canine Association","I Like Poodles!",1,"Library Bound Book","978-0-7660-3850-9",2012,"January 2012","9.000 X 7.500","Author","Linda Bozzo",2.7,null,null,null,"H","610L","Grade K - 2","Grade K - 3","Poodles make great pets. They are smart. You can train them to do tricks! They also love to play and swim. Learn how to care for your poodle. Read about grooming, feeding, vet checkups, and more. ","English",22.6,16.95,"636.72","24 pp.",{"$f":"Table1[[#This Row],[QTY]]*Table1[[#This Row],['# of Books]]","v":0},{"$f":"Table1[[#This Row],[QTY]]*Table1[[#This Row],[School & Library Price]]","v":0}]
[null,null,null,21,"Discover Dogs with the American Canine Association","I Like Poodles!",1,"eBook","978-0-7660-4404-3",2012,"January 2012",null,"Author","Linda Bozzo",2.7,null,null,null,"H","610L","Grade 1 - 2","Grade K - 3","Poodles make great pets. They are smart. You can train them to do tricks! They also love to play and swim. Learn how to care for your poodle. Read about grooming, feeding, vet checkups, and more. ","English",22.6,16.95,"636.72","24 pp.",{"$f":"Table1[[#This Row],[QTY]]*Table1[[#This Row],['# of Books]]","v":0},{"$f":"Table1[[#This Row],[QTY]]*Table1[[#This Row],[School & Library Price]]","v":0}]
[null,null,null,21,"Discover Dogs with the American Canine Association","I Like Pugs!",1,"Library Bound Book","978-0-7660-7787-4",2017,"August 2016","8.500 X 7.125","Author","Linda Bozzo",3.1,0.5,null,null,"B",null,"Grade 1 - 2","Grade K - 3","Author Linda Bozzo and the American Canine Association provide young readers with accessible information, fun facts, and adorable full-color photos of pugs. Students will learn whether a puppy or adult is right for them, what to feed it, and how to keep it clean and healthy. Words to Know help young readers learn new vocabulary and Read About Dogs encourages young dog lovers to learn more.","English",22.6,16.95,"636.76--dc23","24 pp.",{"$f":"Table1[[#This Row],[QTY]]*Table1[[#This Row],['# of Books]]","v":0},{"$f":"Table1[[#This Row],[QTY]]*Table1[[#This Row],[School & Library Price]]","v":0}]
[null,null,null,21,"Discover Dogs with the American Canine Association","I Like Pugs!",1,"eBook","978-0-7660-7774-4",2017,"August 2016",null,"Author","Linda Bozzo",3.1,0.5,null,null,"B",null,"Grade 1 - 2","Grade K - 3","Author Linda Bozzo and the American Canine Association provide young readers with accessible information, fun facts, and adorable full-color photos of pugs. Students will learn whether a puppy or adult is right for them, what to feed it, and how to keep it clean and healthy. Words to Know help young readers learn new vocabulary and Read About Dogs encourages young dog lovers to learn more.","English",22.6,16.95,"636.76--dc23","24 pp.",{"$f":"Table1[[#This Row],[QTY]]*Table1[[#This Row],['# of Books]]","v":0},{"$f":"Table1[[#This Row],[QTY]]*Table1[[#This Row],[School & Library Price]]","v":0}]
[null,null,null,21,"Discover Dogs with the American Canine Association","I Like Yorkshire Terriers!",1,"Library Bound Book","978-0-7660-8167-3",2017,"January 2017","8.500 X 7.125","Author","Linda Bozzo",3,0.5,null,null,"H",null,"Grade 1 - 2","Grade K - 3","Readers will learn all about the Yorkshire terrier’s unique characteristics and needs with the help of author Linda Bozzo and the American Canine Association. Simple, informative text and full-color photos will show readers what to feed their small dog, how to groom it, and how to keep it healthy through exercise and play. Also included are a Note to Parents that stresses the importance of spaying or neutering and microchipping pets, a Words to Know section to help young readers learn new vocabulary, and a Read About Dogs section to encourage further exploration.","English",22.6,16.95,"636.76--dc23","24 pp.",{"$f":"Table1[[#This Row],[QTY]]*Table1[[#This Row],['# of Books]]","v":0},{"$f":"Table1[[#This Row],[QTY]]*Table1[[#This Row],[School & Library Price]]","v":0}]
[null,null,null,21,"Discover Dogs with the American Canine Association","I Like Yorkshire Terriers!",1,"eBook","978-0-7660-8168-0",2017,"January 2017",null,"Author","Linda Bozzo",null,null,null,null,"H",null,"Grade 1 - 2","Grade K - 3","Readers will learn all about the Yorkshire terrier’s unique characteristics and needs with the help of author Linda Bozzo and the American Canine Association. Simple, informative text and full-color photos will show readers what to feed their small dog, how to groom it, and how to keep it healthy through exercise and play. Also included are a Note to Parents that stresses the importance of spaying or neutering and microchipping pets, a Words to Know section to help young readers learn new vocabulary, and a Read About Dogs section to encourage further exploration.","English",22.6,16.95,"636.76--dc23","24 pp.",{"$f":"Table1[[#This Row],[QTY]]*Table1[[#This Row],['# of Books]]","v":0},{"$f":"Table1[[#This Row],[QTY]]*Table1[[#This Row],[School & Library Price]]","v":0}]
[null,null,null,22,"Animal Emotions","Animal Emotions",6,"Library Set","978-0-7660-8588-6",2018,"August 2017","7.125 X 8.500",null,null,null,null,null,null,null,null,"Grade 3","Grade 3 - 5","An engaging, informative series that describes the emotions that popular, beloved animals experience, emotions that will be familiar to and shared by readers. Opening with a specific narrative about an animal expressing a certain “readable” emotion, each book will discuss in simple terms the science behind each emotion, including its particular expression, its physical manifestation, its neurochemical basis or process, its adaptive purpose on individual and collective/social levels, other commonly recognized emotional expressions associated with the animal in question, and how these emotions may compare with similar human emotions.\n\n","English",151.62,113.7,null,"32 pp.",{"$f":"Table1[[#This Row],[QTY]]*Table1[[#This Row],['# of Books]]","v":0},{"$f":"Table1[[#This Row],[QTY]]*Table1[[#This Row],[School & Library Price]]","v":0}]
[null,null,null,22,"Animal Emotions","When Cats Get Angry",1,"Library Bound Book","978-0-7660-8611-1",2018,"August 2017","7.125 X 8.500","Author","Heather Moore Niver",null,null,null,null,"N",null,"Grade 3","Grade 3 - 5","Cats are popular pets, but have you ever stopped to think about their emotions? Our feline friends are known for being a bit moody—some more than others—and this easy-to-read volume will highlight the ins and outs of why our feline friends get angry. Anger is one of the more obvious feelings in the range of cat emotions, and readers will learn some of the most apparent indications of a cat’s ire. Full-color photos correlate easily with the text to help readers see the emotions their pets may be feeling. A “Words to Know” section will help readers extend their vocabulary, and a “Further Reading” section will inspire them to learn more about animals and their emotions.","English",25.27,18.95,"636.8/0835--dc23","32 pp.",{"$f":"Table1[[#This Row],[QTY]]*Table1[[#This Row],['# of Books]]","v":0},{"$f":"Table1[[#This Row],[QTY]]*Table1[[#This Row],[School & Library Price]]","v":0}]
[null,null,null,22,"Animal Emotions","When Cats Get Angry",1,"eBook","978-0-7660-8612-8",2018,"August 2017",null,"Author","Heather Moore Niver",null,null,null,null,"N",null,"Grade 3","Grade 3 - 5","Cats are popular pets, but have you ever stopped to think about their emotions? Our feline friends are known for being a bit moody—some more than others—and this easy-to-read volume will highlight the ins and outs of why our feline friends get angry. Anger is one of the more obvious feelings in the range of cat emotions, and readers will learn some of the most apparent indications of a cat’s ire. Full-color photos correlate easily with the text to help readers see the emotions their pets may be feeling. A “Words to Know” section will help readers extend their vocabulary, and a “Further Reading” section will inspire them to learn more about animals and their emotions.","English",25.27,18.95,"636.8/0835--dc23","32 pp.",{"$f":"Table1[[#This Row],[QTY]]*Table1[[#This Row],['# of Books]]","v":0},{"$f":"Table1[[#This Row],[QTY]]*Table1[[#This Row],[School & Library Price]]","v":0}]
[null,null,null,22,"Animal Emotions","When Dogs Smile",1,"Library Bound Book","978-0-7660-8613-5",2018,"August 2017","7.125 X 8.500","Author","David Aretha",null,null,null,null,"N",null,"Grade 3","Grade 3 - 5","Look at that happy dog: His mouth turns upward, his tongue hangs out, and his tail wags back and forth. That dog is smiling! Animal researchers have learned that dogs express numerous emotions, such as happiness, sadness, anxiety, fear, and compassion. When Dogs Smile explains how each emotion is expressed through physical manifestations. The book examines why a dog “smiles,” mopes, barks frantically, and licks the face of its crying owner. Quotes from experts and numerous color photographs help tell the story.","English",25.27,18.95,"636.7/089689142--dc23","32 pp.",{"$f":"Table1[[#This Row],[QTY]]*Table1[[#This Row],['# of Books]]","v":0},{"$f":"Table1[[#This Row],[QTY]]*Table1[[#This Row],[School & Library Price]]","v":0}]
[null,null,null,22,"Animal Emotions","When Dogs Smile",1,"eBook","978-0-7660-8614-2",2018,"August 2017",null,"Author","David Aretha",null,null,null,null,"N",null,"Grade 3","Grade 3 - 5","Look at that happy dog: His mouth turns upward, his tongue hangs out, and his tail wags back and forth. That dog is smiling! Animal researchers have learned that dogs express numerous emotions, such as happiness, sadness, anxiety, fear, and compassion. When Dogs Smile explains how each emotion is expressed through physical manifestations. The book examines why a dog “smiles,” mopes, barks frantically, and licks the face of its crying owner. Quotes from experts and numerous color photographs help tell the story.","English",25.27,18.95,"636.7/089689142--dc23","32 pp.",{"$f":"Table1[[#This Row],[QTY]]*Table1[[#This Row],['# of Books]]","v":0},{"$f":"Table1[[#This Row],[QTY]]*Table1[[#This Row],[School & Library Price]]","v":0}]
[null,null,null,22,"Animal Emotions","When Dolphins Mourn",1,"Library Bound Book","978-0-7660-8615-9",2018,"August 2017","7.125 X 8.500","Author","Linda Bozzo",null,null,null,null,"P",null,"Grade 3","Grade 3 - 5","Although dolphins live in a different environment than humans, we share many of the same emotions. When Dolphins Mourn explores the science behind this beloved animal’s emotions and what it means for dolphins to mourn the loss of one of their own. Using specific examples and studies from experts, readers will enjoy learning more about how animals express their feelings. In addition, a Words to Know section will help students master new vocabulary and a Further Reading section with books and websites will inspire them to learn more about animals and their emotions.","English",25.27,18.95,"591.5--dc23","32 pp.",{"$f":"Table1[[#This Row],[QTY]]*Table1[[#This Row],['# of Books]]","v":0},{"$f":"Table1[[#This Row],[QTY]]*Table1[[#This Row],[School & Library Price]]","v":0}]
[null,null,null,22,"Animal Emotions","When Dolphins Mourn",1,"eBook","978-0-7660-8616-6",2018,"August 2017",null,"Author","Linda Bozzo",null,null,null,null,"P",null,"Grade 3","Grade 3 - 5","Although dolphins live in a different environment than humans, we share many of the same emotions. When Dolphins Mourn explores the science behind this beloved animal’s emotions and what it means for dolphins to mourn the loss of one of their own. Using specific examples and studies from experts, readers will enjoy learning more about how animals express their feelings. In addition, a Words to Know section will help students master new vocabulary and a Further Reading section with books and websites will inspire them to learn more about animals and their emotions.","English",25.27,18.95,"591.5--dc23","32 pp.",{"$f":"Table1[[#This Row],[QTY]]*Table1[[#This Row],['# of Books]]","v":0},{"$f":"Table1[[#This Row],[QTY]]*Table1[[#This Row],[School & Library Price]]","v":0}]
[null,null,null,22,"Animal Emotions","When Elephants Cry",1,"Library Bound Book","978-0-7660-8617-3",2018,"August 2017","7.125 X 8.500","Author","Heather Moore Niver",null,null,null,null,"O",null,"Grade 3","Grade 3 - 5","The largest animal to walk our Earth, the elephant, is a sight to see, whether it’s in the wild or a zoo. But did you know that they are actually a lot like us humans? Readers will learn how this is especially true regarding emotions, such as tears. This instructive resource will engage readers with tales of elephant emotions, such as tears of the death of a family member and concern over another elephant. They will also learn about body language other than tears that indicates their sadness or other emotions. Full-page photos will help readers visualize what they are reading, while a \"Words to Know\" section will help them master new vocabulary.","English",25.27,18.95,"599.6715/13--dc23","32 pp.",{"$f":"Table1[[#This Row],[QTY]]*Table1[[#This Row],['# of Books]]","v":0},{"$f":"Table1[[#This Row],[QTY]]*Table1[[#This Row],[School & Library Price]]","v":0}]
[null,null,null,22,"Animal Emotions","When Elephants Cry",1,"eBook","978-0-7660-8618-0",2018,"August 2017",null,"Author","Heather Moore Niver",null,null,null,null,"O",null,"Grade 3","Grade 3 - 5","The largest animal to walk our Earth, the elephant, is a sight to see, whether it’s in the wild or a zoo. But did you know that they are actually a lot like us humans? Readers will learn how this is especially true regarding emotions, such as tears. This instructive resource will engage readers with tales of elephant emotions, such as tears of the death of a family member and concern over another elephant. They will also learn about body language other than tears that indicates their sadness or other emotions. Full-page photos will help readers visualize what they are reading, while a \"Words to Know\" section will help them master new vocabulary.","English",25.27,18.95,"599.6715/13--dc23","32 pp.",{"$f":"Table1[[#This Row],[QTY]]*Table1[[#This Row],['# of Books]]","v":0},{"$f":"Table1[[#This Row],[QTY]]*Table1[[#This Row],[School & Library Price]]","v":0}]
[null,null,null,22,"Animal Emotions","When Monkeys Laugh",1,"Library Bound Book","978-0-7660-8619-7",2018,"August 2017","7.125 X 8.500","Author","Heather Moore Niver",null,null,null,null,"O",null,"Grade 3","Grade 3 - 5","Different people find different things funny. Monkeys have been compared to humans in many ways, but this volume explores what makes a monkey chuckle. Readers will learn about the emotions behind a monkey’s laughter. Is their panting as they play an indication that they are having fun? Do chimpanzees laugh when they are tickled? Readers won’t be able to suppress a smile as they learn all about the side-splitting sides of a monkey’s emotions. Full-color photos will show monkeys at their funniest. A “Words to Know” section will help them master new vocabulary. “Further Reading” will inspire readers to learn more about animals and their emotions.","English",25.27,18.95,"599.8--dc23","32 pp.",{"$f":"Table1[[#This Row],[QTY]]*Table1[[#This Row],['# of Books]]","v":0},{"$f":"Table1[[#This Row],[QTY]]*Table1[[#This Row],[School & Library Price]]","v":0}]
[null,null,null,22,"Animal Emotions","When Monkeys Laugh",1,"eBook","978-0-7660-8620-3",2018,"August 2017",null,"Author","Heather Moore Niver",null,null,null,null,"O",null,"Grade 3","Grade 3 - 5","Different people find different things funny. Monkeys have been compared to humans in many ways, but this volume explores what makes a monkey chuckle. Readers will learn about the emotions behind a monkey’s laughter. Is their panting as they play an indication that they are having fun? Do chimpanzees laugh when they are tickled? Readers won’t be able to suppress a smile as they learn all about the side-splitting sides of a monkey’s emotions. Full-color photos will show monkeys at their funniest. A “Words to Know” section will help them master new vocabulary. “Further Reading” will inspire readers to learn more about animals and their emotions.","English",25.27,18.95,"599.8--dc23","32 pp.",{"$f":"Table1[[#This Row],[QTY]]*Table1[[#This Row],['# of Books]]","v":0},{"$f":"Table1[[#This Row],[QTY]]*Table1[[#This Row],[School & Library Price]]","v":0}]
[null,null,null,22,"Animal Emotions","When Parrots Speak",1,"Library Bound Book","978-0-7660-8621-0",2018,"August 2017","7.125 X 8.500","Author","Linda Bozzo",null,null,null,null,"O",null,"Grade 3","Grade 3 - 5","Have you ever wondered why parrots copy human speech? Do they really know what they’re saying? When Parrots Speak introduces young readers to these amazing birds and the secret to how and why they imitate words to sound like humans. Fun facts and colorful photographs further enhance the book to help tell the story of these “vocal learners.” Also included are a Words to Know section to help students learn new vocabulary and a Further Reading section with books and websites to encourage them to explore the subject more deeply.","English",25.27,18.95,"636.6/865--dc23","32 pp.",{"$f":"Table1[[#This Row],[QTY]]*Table1[[#This Row],['# of Books]]","v":0},{"$f":"Table1[[#This Row],[QTY]]*Table1[[#This Row],[School & Library Price]]","v":0}]
[null,null,null,22,"Animal Emotions","When Parrots Speak",1,"eBook","978-0-7660-8622-7",2018,"August 2017",null,"Author","Linda Bozzo",null,null,null,null,"O",null,"Grade 3","Grade 3 - 5","Have you ever wondered why parrots copy human speech? Do they really know what they’re saying? When Parrots Speak introduces young readers to these amazing birds and the secret to how and why they imitate words to sound like humans. Fun facts and colorful photographs further enhance the book to help tell the story of these “vocal learners.” Also included are a Words to Know section to help students learn new vocabulary and a Further Reading section with books and websites to encourage them to explore the subject more deeply.","English",25.27,18.95,"636.6/865--dc23","32 pp.",{"$f":"Table1[[#This Row],[QTY]]*Table1[[#This Row],['# of Books]]","v":0},{"$f":"Table1[[#This Row],[QTY]]*Table1[[#This Row],[School & Library Price]]","v":0}]
[null,null,null,23,"Animal Secrets Revealed!","Animal Secrets Revealed!",6,"Library Set","978-0-7660-8589-3",2018,"August 2017","7.250 X 9.250",null,null,null,null,null,null,null,null,"Grade 4","Grade 3 - 6","Describes new fascinating adaptations that help specific animals survive in their natural environment and the scientific process researchers follow to uncover these secrets. Through interviews with the scientists studying these animals and full-color photos, the author brings original science research directly to readers. Also included are sidebars and fact boxes with interesting information about the animals or the researchers, and a hands-on activity designed to be easily implemented in class that will illustrate the scientific principle behind the animal adaptation.\n\n","English",167.58,125.7,null,"48 pp.",{"$f":"Table1[[#This Row],[QTY]]*Table1[[#This Row],['# of Books]]","v":0},{"$f":"Table1[[#This Row],[QTY]]*Table1[[#This Row],[School & Library Price]]","v":0}]
[null,null,null,23,"Animal Secrets Revealed!","The Secret of the Bird's Smart Brain... and More!",1,"Library Bound Book","978-0-7660-8623-4",2018,"August 2017","7.250 X 9.250","Author","Ana María Rodríguez",null,null,null,null,"Q",null,"Grade 4","Grade 3 - 6","Students will enter the world of scientists as they uncover the secrets behind birds' brains, the most underappreciated of birds’ senses, the way frigate birds fly non-stop, how mama bears protect their cubs, and what grunts and bellows mean for pigs and alligators. Primary sources, including interviews with scientists; full-color original and stock photos; an engaging and approachable writing style that simplifies complicated scientific principles; and a hands-on activity make these informational texts a valuable addition to any library.","English",27.93,20.95,"598.15--dc23","48 pp.",{"$f":"Table1[[#This Row],[QTY]]*Table1[[#This Row],['# of Books]]","v":0},{"$f":"Table1[[#This Row],[QTY]]*Table1[[#This Row],[School & Library Price]]","v":0}]
[null,null,null,23,"Animal Secrets Revealed!","The Secret of the Bird's Smart Brain... and More!",1,"eBook","978-0-7660-8624-1",2018,"August 2017",null,"Author","Ana María Rodríguez",null,null,null,null,"Q",null,"Grade 4","Grade 3 - 6","Students will enter the world of scientists as they uncover the secrets behind birds' brains, the most underappreciated of birds’ senses, the way frigate birds fly non-stop, how mama bears protect their cubs, and what grunts and bellows mean for pigs and alligators. Primary sources, including interviews with scientists; full-color original and stock photos; an engaging and approachable writing style that simplifies complicated scientific principles; and a hands-on activity make these informational texts a valuable addition to any library.","English",27.93,20.95,"598.15--dc23","48 pp.",{"$f":"Table1[[#This Row],[QTY]]*Table1[[#This Row],['# of Books]]","v":0},{"$f":"Table1[[#This Row],[QTY]]*Table1[[#This Row],[School & Library Price]]","v":0}]
[null,null,null,23,"Animal Secrets Revealed!","The Secret of the Deceiving Striped Lizard... and More!",1,"Library Bound Book","978-0-7660-8625-8",2018,"August 2017","7.250 X 9.250","Author","Ana María Rodríguez",null,null,null,null,"N",null,"Grade 4","Grade 3 - 6","Students will learn all about intriguing adaptations that help animals survive in their environments, such as what playing a video game can teach us about striped lizards, the power of the chameleon’s sticky tongue, how wriggling and slashing saves frog eggs, a good partnership between sweet plants and ants, and the secret of the swordfish’s slippery head. Primary sources include interviews with scientists and original photos. Engaging yet simple language makes complicated scientific principles easy to grasp. A hands-on activity allows students to take on the role of scientist and examine these amazing adaptations themselves.","English",27.93,20.95,"591.47/2--dc23","48 pp.",{"$f":"Table1[[#This Row],[QTY]]*Table1[[#This Row],['# of Books]]","v":0},{"$f":"Table1[[#This Row],[QTY]]*Table1[[#This Row],[School & Library Price]]","v":0}]
[null,null,null,23,"Animal Secrets Revealed!","The Secret of the Deceiving Striped Lizard... and More!",1,"eBook","978-0-7660-8626-5",2018,"August 2017",null,"Author","Ana María Rodríguez",null,null,null,null,"N",null,"Grade 4","Grade 3 - 6","Students will learn all about intriguing adaptations that help animals survive in their environments, such as what playing a video game can teach us about striped lizards, the power of the chameleon’s sticky tongue, how wriggling and slashing saves frog eggs, a good partnership between sweet plants and ants, and the secret of the swordfish’s slippery head. Primary sources include interviews with scientists and original photos. Engaging yet simple language makes complicated scientific principles easy to grasp. A hands-on activity allows students to take on the role of scientist and examine these amazing adaptations themselves.","English",27.93,20.95,"591.47/2--dc23","48 pp.",{"$f":"Table1[[#This Row],[QTY]]*Table1[[#This Row],['# of Books]]","v":0},{"$f":"Table1[[#This Row],[QTY]]*Table1[[#This Row],[School & Library Price]]","v":0}]
[null,null,null,23,"Animal Secrets Revealed!","The Secret of the Scorpion-Eating Meerkats... and More!",1,"Library Bound Book","978-0-7660-8627-2",2018,"August 2017","7.250 X 9.250","Author","Ana María Rodríguez",null,null,null,null,"Q",null,"Grade 4","Grade 3 - 6","Readers will tag along with scientists as they uncover intriguing adaptations that help animals survive in their environments. Students will discover what meerkats learn in survival school, what hyenas gain from being team players, chimps’ strategies for harvesting honey and putting meat on their plates, and how dogs and horses read people’s facial expressions. Based largely on primary sources, including interviews with the scientists, illustrated with full-color original research and stock photos, and complemented with a hands-on activity, these informational texts open a window into the world of scientists as they uncover animal secrets that vividly complement basic biological principles.","English",27.93,20.95,"599.15--dc23","48 pp.",{"$f":"Table1[[#This Row],[QTY]]*Table1[[#This Row],['# of Books]]","v":0},{"$f":"Table1[[#This Row],[QTY]]*Table1[[#This Row],[School & Library Price]]","v":0}]
[null,null,null,23,"Animal Secrets Revealed!","The Secret of the Scorpion-Eating Meerkats... and More!",1,"eBook","978-0-7660-8628-9",2018,"August 2017",null,"Author","Ana María Rodríguez",null,null,null,null,"Q",null,"Grade 4","Grade 3 - 6","Readers will tag along with scientists as they uncover intriguing adaptations that help animals survive in their environments. Students will discover what meerkats learn in survival school, what hyenas gain from being team players, chimps’ strategies for harvesting honey and putting meat on their plates, and how dogs and horses read people’s facial expressions. Based largely on primary sources, including interviews with the scientists, illustrated with full-color original research and stock photos, and complemented with a hands-on activity, these informational texts open a window into the world of scientists as they uncover animal secrets that vividly complement basic biological principles.","English",27.93,20.95,"599.15--dc23","48 pp.",{"$f":"Table1[[#This Row],[QTY]]*Table1[[#This Row],['# of Books]]","v":0},{"$f":"Table1[[#This Row],[QTY]]*Table1[[#This Row],[School & Library Price]]","v":0}]
[null,null,null,23,"Animal Secrets Revealed!","The Secret of the Scuba Diving Spider... and More!",1,"Library Bound Book","978-0-7660-8629-6",2018,"August 2017","7.250 X 9.250","Author","Ana María Rodríguez",null,null,null,null,"S",null,"Grade 4","Grade 3 - 6","Readers will dive along with an underwater spider and also discover why caterpillars need an emergency whistle, how moths talk back to bats, that zombie beetles really exist, and what makes cockroaches so hard to catch. Primary sources include interviews with the scientists and original photos. Simple yet detailed language makes complicated scientific ideas easy to understand. A hands-on activity allows students to take on the role of scientist and examine these basic biological principles themselves.","English",27.93,20.95,null,"48 pp.",{"$f":"Table1[[#This Row],[QTY]]*Table1[[#This Row],['# of Books]]","v":0},{"$f":"Table1[[#This Row],[QTY]]*Table1[[#This Row],[School & Library Price]]","v":0}]
[null,null,null,23,"Animal Secrets Revealed!","The Secret of the Scuba Diving Spider... and More!",1,"eBook","978-0-7660-8630-2",2018,"August 2017",null,"Author","Ana María Rodríguez",null,null,null,null,"S",null,"Grade 4","Grade 3 - 6","Readers will dive along with an underwater spider and also discover why caterpillars need an emergency whistle, how moths talk back to bats, that zombie beetles really exist, and what makes cockroaches so hard to catch. Primary sources include interviews with the scientists and original photos. Simple yet detailed language makes complicated scientific ideas easy to understand. A hands-on activity allows students to take on the role of scientist and examine these basic biological principles themselves.","English",27.93,20.95,null,"48 pp.",{"$f":"Table1[[#This Row],[QTY]]*Table1[[#This Row],['# of Books]]","v":0},{"$f":"Table1[[#This Row],[QTY]]*Table1[[#This Row],[School & Library Price]]","v":0}]
[null,null,null,23,"Animal Secrets Revealed!","The Secret of the Squiggly Green Bombers... and More!",1,"Library Bound Book","978-0-7660-8631-9",2018,"August 2017","7.250 X 9.250","Author","Ana María Rodríguez",null,null,null,null,"Q",null,"Grade 4","Grade 3 - 6","Students will discover amazing adaptations that help animals survive in their environments, such as how a tiny, glowing sea worm evades predators; that not all fish keep their bodies cold; how good squid moms care for their eggs; that crocodiles use an egg timer; and how the Komodo dragon actually kills its prey. Primary sources, including interviews with the scientists and original photos, an engaging and approachable writing style, and a hands-on activity will help students understand basic biological principles.","English",27.93,20.95,null,"48 pp.",{"$f":"Table1[[#This Row],[QTY]]*Table1[[#This Row],['# of Books]]","v":0},{"$f":"Table1[[#This Row],[QTY]]*Table1[[#This Row],[School & Library Price]]","v":0}]
[null,null,null,23,"Animal Secrets Revealed!","The Secret of the Squiggly Green Bombers... and More!",1,"eBook","978-0-7660-8632-6",2018,"August 2017",null,"Author","Ana María Rodríguez",null,null,null,null,"Q",null,"Grade 4","Grade 3 - 6","Students will discover amazing adaptations that help animals survive in their environments, such as how a tiny, glowing sea worm evades predators; that not all fish keep their bodies cold; how good squid moms care for their eggs; that crocodiles use an egg timer; and how the Komodo dragon actually kills its prey. Primary sources, including interviews with the scientists and original photos, an engaging and approachable writing style, and a hands-on activity will help students understand basic biological principles.","English",27.93,20.95,null,"48 pp.",{"$f":"Table1[[#This Row],[QTY]]*Table1[[#This Row],['# of Books]]","v":0},{"$f":"Table1[[#This Row],[QTY]]*Table1[[#This Row],[School & Library Price]]","v":0}]
[null,null,null,23,"Animal Secrets Revealed!","The Shocking Secret of the Electric Eel... and More!",1,"Library Bound Book","978-0-7660-8726-2",2018,"August 2017","7.250 X 9.250","Author","Ana María Rodríguez",null,null,null,null,"Q",null,"Grade 4","Grade 3 - 6","Readers tag along with scientists as they uncover intriguing adaptations that help animals survive in their environments. This colorful book explains the electric eel’s hunting tactics and an unexpected defense strategy, why some fish sleep in mucous cocoons, how jumping spiders hear from across a room, what the shape of a European eel’s head reveals about its diet, and why midshipman fish sing only at night. Based largely on primary sources, including interviews with the scientists, illustrated with original research and stock photographs, and complemented with a hands-on activity, this volume opens a window into the world of scientists as they uncover animal secrets that vividly complement basic biological principles.","English",27.93,20.95,"597.14/7--dc23","48 pp.",{"$f":"Table1[[#This Row],[QTY]]*Table1[[#This Row],['# of Books]]","v":0},{"$f":"Table1[[#This Row],[QTY]]*Table1[[#This Row],[School & Library Price]]","v":0}]
[null,null,null,23,"Animal Secrets Revealed!","The Shocking Secret of the Electric Eel... and More!",1,"eBook","978-0-7660-8633-3",2018,"August 2017",null,"Author","Ana María Rodríguez",null,null,null,null,"Q",null,"Grade 4","Grade 3 - 6","Readers tag along with scientists as they uncover intriguing adaptations that help animals survive in their environments. This colorful book explains the electric eel’s hunting tactics and an unexpected defense strategy, why some fish sleep in mucous cocoons, how jumping spiders hear from across a room, what the shape of a European eel’s head reveals about its diet, and why midshipman fish sing only at night. Based largely on primary sources, including interviews with the scientists, illustrated with original research and stock photographs, and complemented with a hands-on activity, this volume opens a window into the world of scientists as they uncover animal secrets that vividly complement basic biological principles.","English",27.93,20.95,"597.14/7--dc23","48 pp.",{"$f":"Table1[[#This Row],[QTY]]*Table1[[#This Row],['# of Books]]","v":0},{"$f":"Table1[[#This Row],[QTY]]*Table1[[#This Row],[School & Library Price]]","v":0}]
[null,null,null,24,"Exciting Origami","Exciting Origami",4,"Library Set","978-0-7660-8592-3",2018,"August 2017","7.250 X 9.250",null,null,null,null,null,null,null,null,"Grade 3","Grade 3 - 6","Introduces students to the Japanese paper-folding art form called origami. Readers will learn the symbols associated with origami before diving into ten to fifteen projects per book. Each book in this series covers a broad category of subjects: birds, animals, arts and crafts, and dinosaurs. From peacocks to bears to pianos to Tyrannosaurus rex, children can follow the easy and colorful diagrams and step-by-step instructions to create impressive pieces of art they can share with friends and family.\n\n","English",111.72,83.8,null,"48 pp.",{"$f":"Table1[[#This Row],[QTY]]*Table1[[#This Row],['# of Books]]","v":0},{"$f":"Table1[[#This Row],[QTY]]*Table1[[#This Row],[School & Library Price]]","v":0}]
[null,null,null,24,"Exciting Origami","Origami Arts and Crafts",1,"Library Bound Book","978-0-7660-8646-3",2018,"August 2017","7.250 X 9.250","Author","Emanuele Azzità",null,null,null,null,"O",null,"Grade 3","Grade 3 - 6","After readers familiarize themselves with the origami symbols and easily accessible types of paper to use, they will follow illustrated step-by-step instructions to create fun origami arts and crafts such as a bracelet, a piano, a sailboat, and a colorful dodecahedron. A glossary helps readers learn new vocabulary, and a further reading section with books and websites encourages further exploration of the topic.","English",27.93,20.95,"736/.982--dc23","48 pp.",{"$f":"Table1[[#This Row],[QTY]]*Table1[[#This Row],['# of Books]]","v":0},{"$f":"Table1[[#This Row],[QTY]]*Table1[[#This Row],[School & Library Price]]","v":0}]
[null,null,null,24,"Exciting Origami","Origami Arts and Crafts",1,"eBook","978-0-7660-8647-0",2018,"August 2017",null,"Author","Emanuele Azzità",null,null,null,null,"O",null,"Grade 3","Grade 3 - 6","After readers familiarize themselves with the origami symbols and easily accessible types of paper to use, they will follow illustrated step-by-step instructions to create fun origami arts and crafts such as a bracelet, a piano, a sailboat, and a colorful dodecahedron. A glossary helps readers learn new vocabulary, and a further reading section with books and websites encourages further exploration of the topic.","English",27.93,20.95,"736/.982--dc23","48 pp.",{"$f":"Table1[[#This Row],[QTY]]*Table1[[#This Row],['# of Books]]","v":0},{"$f":"Table1[[#This Row],[QTY]]*Table1[[#This Row],[School & Library Price]]","v":0}]
[null,null,null,24,"Exciting Origami","Origami Birds",1,"Library Bound Book","978-0-7660-8648-7",2018,"August 2017","7.250 X 9.250","Author","Emanuele Azzità",null,null,null,null,"O",null,"Grade 3","Grade 3 - 6","Through detailed step-by-step instructions illustrated by full-color diagrams and photos, readers can practice origami and create a cute owl, an adorable duck, an elegant peacock, and other birds. The book also includes an introduction to the types of paper one can use and the kinds of paper to avoid, a key explaining the different symbols, a glossary, a further reading section with books and websites, and an index.","English",27.93,20.95,"736'.982--dc23","48 pp.",{"$f":"Table1[[#This Row],[QTY]]*Table1[[#This Row],['# of Books]]","v":0},{"$f":"Table1[[#This Row],[QTY]]*Table1[[#This Row],[School & Library Price]]","v":0}]
[null,null,null,24,"Exciting Origami","Origami Birds",1,"eBook","978-0-7660-8649-4",2018,"August 2017",null,"Author","Emanuele Azzità",null,null,null,null,"O",null,"Grade 3","Grade 3 - 6","Through detailed step-by-step instructions illustrated by full-color diagrams and photos, readers can practice origami and create a cute owl, an adorable duck, an elegant peacock, and other birds. The book also includes an introduction to the types of paper one can use and the kinds of paper to avoid, a key explaining the different symbols, a glossary, a further reading section with books and websites, and an index.","English",27.93,20.95,"736'.982--dc23","48 pp.",{"$f":"Table1[[#This Row],[QTY]]*Table1[[#This Row],['# of Books]]","v":0},{"$f":"Table1[[#This Row],[QTY]]*Table1[[#This Row],[School & Library Price]]","v":0}]
[null,null,null,24,"Exciting Origami","Origami Dinosaurs",1,"Library Bound Book","978-0-7660-8650-0",2018,"August 2017","7.250 X 9.250","Author","Walter-Alexandre Schultz",null,null,null,null,"P",null,"Grade 3","Grade 3 - 6","Through the art of origami, students will journey back in time to when dinosaurs roamed the earth. Readers will follow step-by-step instructions and diagrams to make impressive models of familiar prehistoric favorites such as the pterodactyl, Tyrannosaurus rex, and triceratops, as well as come to learn about some not so well-known species such as the camptosaurus, plateosaurus, and plesiosaurus. The book also includes an introduction to the types of paper that can be used, a key explaining the different symbols, a glossary, a further reading section, and an index.","English",27.93,20.95,"736/.982--dc23","48 pp.",{"$f":"Table1[[#This Row],[QTY]]*Table1[[#This Row],['# of Books]]","v":0},{"$f":"Table1[[#This Row],[QTY]]*Table1[[#This Row],[School & Library Price]]","v":0}]
[null,null,null,24,"Exciting Origami","Origami Dinosaurs",1,"eBook","978-0-7660-8651-7",2018,"August 2017",null,"Author","Walter-Alexandre Schultz",null,null,null,null,"P",null,"Grade 3","Grade 3 - 6","Through the art of origami, students will journey back in time to when dinosaurs roamed the earth. Readers will follow step-by-step instructions and diagrams to make impressive models of familiar prehistoric favorites such as the pterodactyl, Tyrannosaurus rex, and triceratops, as well as come to learn about some not so well-known species such as the camptosaurus, plateosaurus, and plesiosaurus. The book also includes an introduction to the types of paper that can be used, a key explaining the different symbols, a glossary, a further reading section, and an index.","English",27.93,20.95,"736/.982--dc23","48 pp.",{"$f":"Table1[[#This Row],[QTY]]*Table1[[#This Row],['# of Books]]","v":0},{"$f":"Table1[[#This Row],[QTY]]*Table1[[#This Row],[School & Library Price]]","v":0}]
[null,null,null,24,"Exciting Origami","Origami Land and Sea Animals",1,"Library Bound Book","978-0-7660-8718-7",2018,"August 2017","7.250 X 9.250","Author","Emanuele Azzità",null,null,null,null,"P",null,"Grade 3","Grade 3 - 6","A symbol key and a description of materials introduce readers to origami before they dive into step-by-step instructions illustrated with full-color diagrams to create awesome animals from land and sea, including a frog, a rabbit, a seal, and a whale. A glossary helps readers learn new vocabulary, and a further reading section with books and websites encourages further exploration of the topic.","English",27.93,20.95,"736/.982--dc23","48 pp.",{"$f":"Table1[[#This Row],[QTY]]*Table1[[#This Row],['# of Books]]","v":0},{"$f":"Table1[[#This Row],[QTY]]*Table1[[#This Row],[School & Library Price]]","v":0}]
[null,null,null,24,"Exciting Origami","Origami Land and Sea Animals",1,"eBook","978-0-7660-8652-4",2018,"August 2017",null,"Author","Emanuele Azzità",null,null,null,null,"P",null,"Grade 3","Grade 3 - 6","A symbol key and a description of materials introduce readers to origami before they dive into step-by-step instructions illustrated with full-color diagrams to create awesome animals from land and sea, including a frog, a rabbit, a seal, and a whale. A glossary helps readers learn new vocabulary, and a further reading section with books and websites encourages further exploration of the topic.","English",27.93,20.95,"736/.982--dc23","48 pp.",{"$f":"Table1[[#This Row],[QTY]]*Table1[[#This Row],['# of Books]]","v":0},{"$f":"Table1[[#This Row],[QTY]]*Table1[[#This Row],[School & Library Price]]","v":0}]
[null,null,null,25,"Future Ready Project Skills","Future Ready Project Skills",6,"Library Set","978-0-7660-8593-0",2018,"August 2017","7.250 X 9.250",null,null,null,null,null,null,null,null,"Grade 3 - 4","Grade 3 - 6","Each book in this stimulating series will teach readers a fundamental study skill they will need for the rest of their academic lives. Each book includes at least three examples with notes that highlight well-done (or poorly done) assignments and about five graphic organizers. Writing prompts allow students to practice what they learn. Full-color images and a lively, clear writing style will hold the students’ interest. Further reading sections will inspire students to learn more about each topic.\n\n","English",167.58,125.7,null,"48 pp.",{"$f":"Table1[[#This Row],[QTY]]*Table1[[#This Row],['# of Books]]","v":0},{"$f":"Table1[[#This Row],[QTY]]*Table1[[#This Row],[School & Library Price]]","v":0}]
[null,null,null,25,"Future Ready Project Skills","Future Ready Creative Writing Projects",1,"Library Bound Book","978-0-7660-8653-1",2018,"August 2017","7.250 X 9.250","Author, Author","Lyric Green, Dana Meachen Rau",null,null,null,null,"P",null,"Grade 3 - 4","Grade 3 - 6","Writing skills are important. Not only can writing be used to convey a meaning, but it can also be a means of being creative. Here, readers will learn some of the skills they need to master creative writing. Activities and clear examples help encourage students to come up with their own ideas. Basic story elements are explained in detail, allowing readers to understand the functioning principals of narration, plot, characters, setting, and more. Full-color photos and exciting language make readers eager to try their own hand at writing. Fast facts and sidebars bring new insight into the task of writing, while the glossary reinforces new vocabulary. A Further Reading section inspires further research.","English",27.93,20.95,"372.62/3--dc23","48 pp.",{"$f":"Table1[[#This Row],[QTY]]*Table1[[#This Row],['# of Books]]","v":0},{"$f":"Table1[[#This Row],[QTY]]*Table1[[#This Row],[School & Library Price]]","v":0}]
[null,null,null,25,"Future Ready Project Skills","Future Ready Creative Writing Projects",1,"eBook","978-0-7660-8654-8",2018,"August 2017",null,"Author, Author","Lyric Green, Dana Meachen Rau",null,null,null,null,"P",null,"Grade 3 - 4","Grade 3 - 6","Writing skills are important. Not only can writing be used to convey a meaning, but it can also be a means of being creative. Here, readers will learn some of the skills they need to master creative writing. Activities and clear examples help encourage students to come up with their own ideas. Basic story elements are explained in detail, allowing readers to understand the functioning principals of narration, plot, characters, setting, and more. Full-color photos and exciting language make readers eager to try their own hand at writing. Fast facts and sidebars bring new insight into the task of writing, while the glossary reinforces new vocabulary. A Further Reading section inspires further research.","English",27.93,20.95,"372.62/3--dc23","48 pp.",{"$f":"Table1[[#This Row],[QTY]]*Table1[[#This Row],['# of Books]]","v":0},{"$f":"Table1[[#This Row],[QTY]]*Table1[[#This Row],[School & Library Price]]","v":0}]
[null,null,null,25,"Future Ready Project Skills","Future Ready Internet Research Skills",1,"Library Bound Book","978-0-7660-8655-5",2018,"August 2017","7.250 X 9.250","Author, Author","Lyric Green, Ann Graham Gaines",null,null,null,null,"Q",null,"Grade 3 - 4","Grade 3 - 6","The Internet has a wealth of information. And there are many quick ways to get answers. But, students must know how to perform real research on the Internet. Using clear and concise text with descriptive examples, this book shows readers how to perform their own research and teaches them skills for citing their sources as well as figuring out which ones seem reliable. Full-color photos, quick facts, and sidebars help students understand Internet research better, while the glossary reinforces new vocabulary. A Further Reading section inspires further research.","English",27.93,20.95,"001.4/202854678--dc23","48 pp.",{"$f":"Table1[[#This Row],[QTY]]*Table1[[#This Row],['# of Books]]","v":0},{"$f":"Table1[[#This Row],[QTY]]*Table1[[#This Row],[School & Library Price]]","v":0}]
[null,null,null,25,"Future Ready Project Skills","Future Ready Internet Research Skills",1,"eBook","978-0-7660-8656-2",2018,"August 2017",null,"Author, Author","Lyric Green, Ann Graham Gaines",null,null,null,null,"Q",null,"Grade 3 - 4","Grade 3 - 6","The Internet has a wealth of information. And there are many quick ways to get answers. But, students must know how to perform real research on the Internet. Using clear and concise text with descriptive examples, this book shows readers how to perform their own research and teaches them skills for citing their sources as well as figuring out which ones seem reliable. Full-color photos, quick facts, and sidebars help students understand Internet research better, while the glossary reinforces new vocabulary. A Further Reading section inspires further research.","English",27.93,20.95,"001.4/202854678--dc23","48 pp.",{"$f":"Table1[[#This Row],[QTY]]*Table1[[#This Row],['# of Books]]","v":0},{"$f":"Table1[[#This Row],[QTY]]*Table1[[#This Row],[School & Library Price]]","v":0}]
[null,null,null,25,"Future Ready Project Skills","Future Ready Library and Media Center Mastery",1,"Library Bound Book","978-0-7660-8657-9",2018,"August 2017","7.250 X 9.250","Author, Author","Lyric Green, Ann Graham Gaines",null,null,null,null,"P",null,"Grade 3 - 4","Grade 3 - 6","Despite the availability of the Internet, the library is still an important place for research. Through clear text and full-color photos, readers will learn how to conduct research in the library and the media center, as well as how to make the best use of their time. Activities will encourage familiarity with the library while fast facts and sidebars will help student grasp new concepts. A glossary reinforces new vocabulary, and a Further Reading section inspires further research.","English",27.93,20.95,"027--dc23","48 pp.",{"$f":"Table1[[#This Row],[QTY]]*Table1[[#This Row],['# of Books]]","v":0},{"$f":"Table1[[#This Row],[QTY]]*Table1[[#This Row],[School & Library Price]]","v":0}]
[null,null,null,25,"Future Ready Project Skills","Future Ready Library and Media Center Mastery",1,"eBook","978-0-7660-8658-6",2018,"August 2017",null,"Author, Author","Lyric Green, Ann Graham Gaines",null,null,null,null,"P",null,"Grade 3 - 4","Grade 3 - 6","Despite the availability of the Internet, the library is still an important place for research. Through clear text and full-color photos, readers will learn how to conduct research in the library and the media center, as well as how to make the best use of their time. Activities will encourage familiarity with the library while fast facts and sidebars will help student grasp new concepts. A glossary reinforces new vocabulary, and a Further Reading section inspires further research.","English",27.93,20.95,"027--dc23","48 pp.",{"$f":"Table1[[#This Row],[QTY]]*Table1[[#This Row],['# of Books]]","v":0},{"$f":"Table1[[#This Row],[QTY]]*Table1[[#This Row],[School & Library Price]]","v":0}]
[null,null,null,25,"Future Ready Project Skills","Future Ready Oral and Multimedia Presentations",1,"Library Bound Book","978-0-7660-8659-3",2018,"August 2017","7.250 X 9.250","Author, Author","Lyric Green, Lisa Bullard",null,null,null,null,"R",null,"Grade 3 - 4","Grade 3 - 6","Multimedia presentations are a part of every person’s education. From the time we start using computers, we’re expected to know how to use various programs and equipment in order to create videos, slideshows, recordings, and many other elements to create stimulating presentations and projects. Through eye-catching photos and specific text, students will learn how to create oral and multimedia presentations. These skills will be used through college and beyond, and they will be very useful to students for many years to come. The glossary reinforces new vocabulary, and a Further Reading section inspires further research.","English",27.93,20.95,"808.5/1--dc23","48 pp.",{"$f":"Table1[[#This Row],[QTY]]*Table1[[#This Row],['# of Books]]","v":0},{"$f":"Table1[[#This Row],[QTY]]*Table1[[#This Row],[School & Library Price]]","v":0}]
[null,null,null,25,"Future Ready Project Skills","Future Ready Oral and Multimedia Presentations",1,"eBook","978-0-7660-8660-9",2018,"August 2017",null,"Author, Author","Lyric Green, Lisa Bullard",null,null,null,null,"R",null,"Grade 3 - 4","Grade 3 - 6","Multimedia presentations are a part of every person’s education. From the time we start using computers, we’re expected to know how to use various programs and equipment in order to create videos, slideshows, recordings, and many other elements to create stimulating presentations and projects. Through eye-catching photos and specific text, students will learn how to create oral and multimedia presentations. These skills will be used through college and beyond, and they will be very useful to students for many years to come. The glossary reinforces new vocabulary, and a Further Reading section inspires further research.","English",27.93,20.95,"808.5/1--dc23","48 pp.",{"$f":"Table1[[#This Row],[QTY]]*Table1[[#This Row],['# of Books]]","v":0},{"$f":"Table1[[#This Row],[QTY]]*Table1[[#This Row],[School & Library Price]]","v":0}]
[null,null,null,25,"Future Ready Project Skills","Future Ready Research Papers",1,"Library Bound Book","978-0-7660-8661-6",2018,"August 2017","7.250 X 9.250","Author, Author","Lyric Green, Ann Graham Gaines",null,null,null,null,"O",null,"Grade 3 - 4","Grade 3 - 6","Students start writing research papers at a young age and continue to do so throughout the course of their education. But writing a research paper may not be as easy as it seems. Through easy-to follow instructions, examples, and clear text, student will learn how to write a research paper and cite their sources. Quick facts, activities, and sidebars help make the concept of research clearer for the reader. The glossary reinforces new vocabulary, while Further Reading encourages further exploration into the topic.","English",27.93,20.95,"371.30281--dc23","48 pp.",{"$f":"Table1[[#This Row],[QTY]]*Table1[[#This Row],['# of Books]]","v":0},{"$f":"Table1[[#This Row],[QTY]]*Table1[[#This Row],[School & Library Price]]","v":0}]
[null,null,null,25,"Future Ready Project Skills","Future Ready Research Papers",1,"eBook","978-0-7660-8662-3",2018,"August 2017",null,"Author, Author","Lyric Green, Ann Graham Gaines",null,null,null,null,"O",null,"Grade 3 - 4","Grade 3 - 6","Students start writing research papers at a young age and continue to do so throughout the course of their education. But writing a research paper may not be as easy as it seems. Through easy-to follow instructions, examples, and clear text, student will learn how to write a research paper and cite their sources. Quick facts, activities, and sidebars help make the concept of research clearer for the reader. The glossary reinforces new vocabulary, while Further Reading encourages further exploration into the topic.","English",27.93,20.95,"371.30281--dc23","48 pp.",{"$f":"Table1[[#This Row],[QTY]]*Table1[[#This Row],['# of Books]]","v":0},{"$f":"Table1[[#This Row],[QTY]]*Table1[[#This Row],[School & Library Price]]","v":0}]
[null,null,null,25,"Future Ready Project Skills","Future Ready Writing Assignments",1,"Library Bound Book","978-0-7660-8719-4",2018,"August 2017","7.250 X 9.250","Author, Author","Lyric Green, Dana Meachen Rau",null,null,null,null,"O",null,"Grade 3 - 4","Grade 3 - 6","From research papers to poetry, students will be given many writing assignments over the course of their education. Through easy-to-follow text and clear examples, students will learn about the different types of writing assignments they’ll receive and how to write each one. Activities will encourage students to extend their writing skills further. Fast facts and sidebars bring new insight into the task of writing, while the glossary reinforces new vocabulary. A Further Reading section inspires further research.","English",27.93,20.95,"372.62/3044--dc23","48 pp.",{"$f":"Table1[[#This Row],[QTY]]*Table1[[#This Row],['# of Books]]","v":0},{"$f":"Table1[[#This Row],[QTY]]*Table1[[#This Row],[School & Library Price]]","v":0}]
[null,null,null,25,"Future Ready Project Skills","Future Ready Writing Assignments",1,"eBook","978-0-7660-8663-0",2018,"August 2017",null,"Author, Author","Lyric Green, Dana Meachen Rau",null,null,null,null,"O",null,"Grade 3 - 4","Grade 3 - 6","From research papers to poetry, students will be given many writing assignments over the course of their education. Through easy-to-follow text and clear examples, students will learn about the different types of writing assignments they’ll receive and how to write each one. Activities will encourage students to extend their writing skills further. Fast facts and sidebars bring new insight into the task of writing, while the glossary reinforces new vocabulary. A Further Reading section inspires further research.","English",27.93,20.95,"372.62/3044--dc23","48 pp.",{"$f":"Table1[[#This Row],[QTY]]*Table1[[#This Row],['# of Books]]","v":0},{"$f":"Table1[[#This Row],[QTY]]*Table1[[#This Row],[School & Library Price]]","v":0}]
[null,null,null,26,"Junior Biographies (All 12 Titles)","Junior Biographies (All 12 Titles)",12,"Library Set","978-0-7660-8815-3",2018,"August 2017","7.125 X 8.500",null,null,null,null,null,null,null,null,"Grade 3 - 4","Grade 3 - 5","Role models and champions come in all forms. These brief yet comprehensive biographies of athletes, musicians, politicians, and other public figures include full-color photographs and well-researched information on their lives and accomplishments. In addition, direct quotations from the individuals help readers understand the inspiration and drive behind each distinguished person, encouraging readers to find and follow their own dreams.","English",271.2,203.4,null,"24 pp.",{"$f":"Table1[[#This Row],[QTY]]*Table1[[#This Row],['# of Books]]","v":0},{"$f":"Table1[[#This Row],[QTY]]*Table1[[#This Row],[School & Library Price]]","v":0}]
[null,null,null,26,"Junior Biographies (NEW Set of 6 Titles)","Junior Biographies (NEW Set of 6 Titles)",6,"Library Set","978-0-7660-8594-7",2018,"August 2017","7.125 X 8.500",null,null,null,null,null,null,null,null,"Grade 3 - 4","Grade 3 - 5","Role models and champions come in all forms. These brief yet comprehensive biographies of athletes, musicians, politicians, and other public figures include full-color photographs and well-researched information on their lives and accomplishments. In addition, direct quotations from the individuals help readers understand the inspiration and drive behind each distinguished person, encouraging readers to find and follow their own dreams.","English",135.6,101.7,null,"24 pp.",{"$f":"Table1[[#This Row],[QTY]]*Table1[[#This Row],['# of Books]]","v":0},{"$f":"Table1[[#This Row],[QTY]]*Table1[[#This Row],[School & Library Price]]","v":0}]
[null,null,null,26,"Junior Biographies","Cam Newton: MVP Quarterback",1,"Library Bound Book","978-0-7660-8664-7",2018,"August 2017","7.125 X 8.500","Author","Therese M. Shea",null,null,null,null,"N",null,"Grade 3 - 4","Grade 3 - 5","Heisman winner Cam Newton became a bonafide NFL star the moment he was selected first in the 2011 draft. But he has been attracting attention for his cannon-like arm since high school. Natural talent did not mean that his journey to the NFL was easy. This compelling biography takes readers through Newton’s journey from aspiring athlete to MVP quarterback. They will learn about what happens in the locker room as well as Newton’s interests off the gridiron. Accessible text is supported by dynamic on-the-field photographs as well as insightful quotes from the Carolina Panther himself.","English",22.6,16.95,"796.332092--dc23","24 pp.",{"$f":"Table1[[#This Row],[QTY]]*Table1[[#This Row],['# of Books]]","v":0},{"$f":"Table1[[#This Row],[QTY]]*Table1[[#This Row],[School & Library Price]]","v":0}]
[null,null,null,26,"Junior Biographies","Cam Newton: MVP Quarterback",1,"eBook","978-0-7660-8665-4",2018,"August 2017",null,"Author","Therese M. Shea",null,null,null,null,"N",null,"Grade 3 - 4","Grade 3 - 5","Heisman winner Cam Newton became a bonafide NFL star the moment he was selected first in the 2011 draft. But he has been attracting attention for his cannon-like arm since high school. Natural talent did not mean that his journey to the NFL was easy. This compelling biography takes readers through Newton’s journey from aspiring athlete to MVP quarterback. They will learn about what happens in the locker room as well as Newton’s interests off the gridiron. Accessible text is supported by dynamic on-the-field photographs as well as insightful quotes from the Carolina Panther himself.","English",22.6,16.95,"796.332092--dc23","24 pp.",{"$f":"Table1[[#This Row],[QTY]]*Table1[[#This Row],['# of Books]]","v":0},{"$f":"Table1[[#This Row],[QTY]]*Table1[[#This Row],[School & Library Price]]","v":0}]
[null,null,null,26,"Junior Biographies","China Anne McClain: Actress, Singer, and Songwriter",1,"Library Bound Book","978-0-7660-8186-4",2017,"January 2017","7.125 X 8.500","Author","Kristen Rajczak Nelson",5.4,0.5,null,null,"N",null,"Grade 3 - 4","Grade 3 - 5","China Anne McClain started singing and acting from a young age. A talented musician, who with her sisters formed the pop group McClain, China has also appeared in major motion pictures as well popular television shows. In 2014, she won an Image Award for her work as a young African American actress. Through simple text and colorful photos, readers will be enthralled by McClain’s success story. A Words to Know section in the beginning of the text helps students learn new vocabulary, and direct quotations allow readers to relate to the young star on a deeper level.","English",22.6,16.95,"791.4302/8092--dc23","24 pp.",{"$f":"Table1[[#This Row],[QTY]]*Table1[[#This Row],['# of Books]]","v":0},{"$f":"Table1[[#This Row],[QTY]]*Table1[[#This Row],[School & Library Price]]","v":0}]
[null,null,null,26,"Junior Biographies","China Anne McClain: Actress, Singer, and Songwriter",1,"eBook","978-0-7660-8187-1",2017,"January 2017",null,"Author","Kristen Rajczak Nelson",null,null,null,null,"N",null,"Grade 3 - 4","Grade 3 - 5","China Anne McClain started singing and acting from a young age. A talented musician, who with her sisters formed the pop group McClain, China has also appeared in major motion pictures as well popular television shows. In 2014, she won an Image Award for her work as a young African American actress. Through simple text and colorful photos, readers will be enthralled by McClain’s success story. A Words to Know section in the beginning of the text helps students learn new vocabulary, and direct quotations allow readers to relate to the young star on a deeper level.","English",22.6,16.95,"791.4302/8092--dc23","24 pp.",{"$f":"Table1[[#This Row],[QTY]]*Table1[[#This Row],['# of Books]]","v":0},{"$f":"Table1[[#This Row],[QTY]]*Table1[[#This Row],[School & Library Price]]","v":0}]
[null,null,null,26,"Junior Biographies","Donald Trump: Businessman and President",1,"Library Bound Book","978-0-7660-8666-1",2018,"August 2017","7.125 X 8.500","Author","Rita Santos",null,null,null,null,"N",null,"Grade 3 - 4","Grade 3 - 5","From the business world to the television screen, Donald John Trump leaves a big impression wherever he goes. After making his family's New York real estate business a household name and hosting a successful TV series, he became the Republican candidate for president of the United States in 2016. Young readers will learn more about the businessman-turned-politician’s life and careers through easy-to-follow text accompanied by dynamic full-color photographs, as well as direct quotes from Trump himself.","English",22.6,16.95,"333.33092--dc23","24 pp.",{"$f":"Table1[[#This Row],[QTY]]*Table1[[#This Row],['# of Books]]","v":0},{"$f":"Table1[[#This Row],[QTY]]*Table1[[#This Row],[School & Library Price]]","v":0}]
[null,null,null,26,"Junior Biographies","Donald Trump: Businessman and President",1,"eBook","978-0-7660-8667-8",2018,"August 2017",null,"Author","Rita Santos",null,null,null,null,"N",null,"Grade 3 - 4","Grade 3 - 5","From the business world to the television screen, Donald John Trump leaves a big impression wherever he goes. After making his family's New York real estate business a household name and hosting a successful TV series, he became the Republican candidate for president of the United States in 2016. Young readers will learn more about the businessman-turned-politician’s life and careers through easy-to-follow text accompanied by dynamic full-color photographs, as well as direct quotes from Trump himself.","English",22.6,16.95,"333.33092--dc23","24 pp.",{"$f":"Table1[[#This Row],[QTY]]*Table1[[#This Row],['# of Books]]","v":0},{"$f":"Table1[[#This Row],[QTY]]*Table1[[#This Row],[School & Library Price]]","v":0}]
[null,null,null,26,"Junior Biographies","Drake: Actor and Rapper",1,"Library Bound Book","978-0-7660-8668-5",2018,"August 2017","7.125 X 8.500","Author","Hannah Isbell",null,null,null,null,"N",null,"Grade 3 - 4","Grade 3 - 5","Drake began his career as an actor, but his fame skyrocketed when he focused his talents on music. The multiple award-winning singer, songwriter, and rapper is one of the biggest names in hip-hop and R&B today. Young readers will learn about Drake's career and life through highly accessible text accompanied by a variety of nonfiction text features, including dynamic full-color photographs, fact boxes, and direct quotes from Drake himself.","English",22.6,16.95,"782.421649092--dc23","24 pp.",{"$f":"Table1[[#This Row],[QTY]]*Table1[[#This Row],['# of Books]]","v":0},{"$f":"Table1[[#This Row],[QTY]]*Table1[[#This Row],[School & Library Price]]","v":0}]
[null,null,null,26,"Junior Biographies","Drake: Actor and Rapper",1,"eBook","978-0-7660-8669-2",2018,"August 2017",null,"Author","Hannah Isbell",null,null,null,null,"N",null,"Grade 3 - 4","Grade 3 - 5","Drake began his career as an actor, but his fame skyrocketed when he focused his talents on music. The multiple award-winning singer, songwriter, and rapper is one of the biggest names in hip-hop and R&B today. Young readers will learn about Drake's career and life through highly accessible text accompanied by a variety of nonfiction text features, including dynamic full-color photographs, fact boxes, and direct quotes from Drake himself.","English",22.6,16.95,"782.421649092--dc23","24 pp.",{"$f":"Table1[[#This Row],[QTY]]*Table1[[#This Row],['# of Books]]","v":0},{"$f":"Table1[[#This Row],[QTY]]*Table1[[#This Row],[School & Library Price]]","v":0}]
[null,null,null,26,"Junior Biographies","Hillary Clinton: Politician and Activist",1,"Library Bound Book","978-0-7660-8670-8",2018,"August 2017","7.125 X 8.500","Author","Portia Summers",null,null,null,null,"N",null,"Grade 3 - 4","Grade 3 - 5","Hillary Rodham Clinton has had significant \"firsts\": First Lady of the United States and the first female candidate for a major political party to run for president of the United States. She has endured her share of scandals and is a celebrated former secretary of state, senator, and political activist. Young readers will learn more about the politician’s life and accomplishments through easy-to-follow text accompanied by dynamic full-color photographs as well as direct quotes from Clinton herself. A Words to Know section helps readers learn new vocabulary, while Further Reading encourages deeper learning.","English",22.6,16.95,"324.092--dc23","24 pp.",{"$f":"Table1[[#This Row],[QTY]]*Table1[[#This Row],['# of Books]]","v":0},{"$f":"Table1[[#This Row],[QTY]]*Table1[[#This Row],[School & Library Price]]","v":0}]
[null,null,null,26,"Junior Biographies","Hillary Clinton: Politician and Activist",1,"eBook","978-0-7660-8671-5",2018,"August 2017",null,"Author","Portia Summers",null,null,null,null,"N",null,"Grade 3 - 4","Grade 3 - 5","Hillary Rodham Clinton has had significant \"firsts\": First Lady of the United States and the first female candidate for a major political party to run for president of the United States. She has endured her share of scandals and is a celebrated former secretary of state, senator, and political activist. Young readers will learn more about the politician’s life and accomplishments through easy-to-follow text accompanied by dynamic full-color photographs as well as direct quotes from Clinton herself. A Words to Know section helps readers learn new vocabulary, while Further Reading encourages deeper learning.","English",22.6,16.95,"324.092--dc23","24 pp.",{"$f":"Table1[[#This Row],[QTY]]*Table1[[#This Row],['# of Books]]","v":0},{"$f":"Table1[[#This Row],[QTY]]*Table1[[#This Row],[School & Library Price]]","v":0}]
[null,null,null,26,"Junior Biographies","Kate Middleton: Duchess of Cambridge",1,"Library Bound Book","978-0-7660-8672-2",2018,"August 2017","7.125 X 8.500","Author","Portia Summers",null,null,null,null,"N",null,"Grade 3 - 4","Grade 3 - 5","Catherine, Duchess of Cambridge, was born in Berkshire, England, to a middle-class family. She had no aspirations to be royalty. Now married to Prince William, Duke of Cambridge, “Kate” is a mother, an activist, and a style icon. Young readers will learn about her early life in England, the issues that are important to her, and how she became the subject of a modern-day fairy tale. Easy-to-follow text is supported by full-color photos and quotes from the duchess herself. A Words to Know section helps readers learn new vocabulary, while Further Reading encourages deeper learning.","English",22.6,16.95,"941.086/12092--dc23","24 pp.",{"$f":"Table1[[#This Row],[QTY]]*Table1[[#This Row],['# of Books]]","v":0},{"$f":"Table1[[#This Row],[QTY]]*Table1[[#This Row],[School & Library Price]]","v":0}]
[null,null,null,26,"Junior Biographies","Kate Middleton: Duchess of Cambridge",1,"eBook","978-0-7660-8673-9",2018,"August 2017",null,"Author","Portia Summers",null,null,null,null,"N",null,"Grade 3 - 4","Grade 3 - 5","Catherine, Duchess of Cambridge, was born in Berkshire, England, to a middle-class family. She had no aspirations to be royalty. Now married to Prince William, Duke of Cambridge, “Kate” is a mother, an activist, and a style icon. Young readers will learn about her early life in England, the issues that are important to her, and how she became the subject of a modern-day fairy tale. Easy-to-follow text is supported by full-color photos and quotes from the duchess herself. A Words to Know section helps readers learn new vocabulary, while Further Reading encourages deeper learning.","English",22.6,16.95,"941.086/12092--dc23","24 pp.",{"$f":"Table1[[#This Row],[QTY]]*Table1[[#This Row],['# of Books]]","v":0},{"$f":"Table1[[#This Row],[QTY]]*Table1[[#This Row],[School & Library Price]]","v":0}]
[null,null,null,26,"Junior Biographies","Misty Copeland: Ballerina",1,"Library Bound Book","978-0-7660-8179-6",2017,"January 2017","7.125 X 8.500","Author","Hannah Isbell",5.4,0.5,null,null,"P",null,"Grade 3 - 4","Grade 3 - 5","In 2015, Misty Copeland was named principal ballerina of the American Ballet Theatre, the first African American to earn the title in the ballet company’s history. She has danced all over the country, on Broadway, and on television, but she had to break many barriers to do it, including racism and poverty. Through simple text and vivid photos, readers will appreciate Copeland’s struggles and will learn about her dedication to promoting diversity in ballet. A Words to Know section helps readers with new vocabulary, and quotations by Copeland shed light on this talented woman.","English",22.6,16.95,"792.802/8092--dc23","24 pp.",{"$f":"Table1[[#This Row],[QTY]]*Table1[[#This Row],['# of Books]]","v":0},{"$f":"Table1[[#This Row],[QTY]]*Table1[[#This Row],[School & Library Price]]","v":0}]
[null,null,null,26,"Junior Biographies","Misty Copeland: Ballerina",1,"eBook","978-0-7660-8180-2",2017,"January 2017",null,"Author","Hannah Isbell",null,null,null,null,"P",null,"Grade 3 - 4","Grade 3 - 5","In 2015, Misty Copeland was named principal ballerina of the American Ballet Theatre, the first African American to earn the title in the ballet company’s history. She has danced all over the country, on Broadway, and on television, but she had to break many barriers to do it, including racism and poverty. Through simple text and vivid photos, readers will appreciate Copeland’s struggles and will learn about her dedication to promoting diversity in ballet. A Words to Know section helps readers with new vocabulary, and quotations by Copeland shed light on this talented woman.","English",22.6,16.95,"792.802/8092--dc23","24 pp.",{"$f":"Table1[[#This Row],[QTY]]*Table1[[#This Row],['# of Books]]","v":0},{"$f":"Table1[[#This Row],[QTY]]*Table1[[#This Row],[School & Library Price]]","v":0}]
[null,null,null,26,"Junior Biographies","Pharrell Williams: Singer and Songwriter",1,"Library Bound Book","978-0-7660-8194-9",2017,"January 2017","7.125 X 8.500","Author","Chris Flores",5.7,0.5,null,null,"N",null,"Grade 3 - 4","Grade 3 - 5","Pharrell Williams is a Grammy Award–winning singer, rapper, and record producer. Famous record producer Teddy Riley discovered Williams’s R&B group, the Neptunes, in the early 1990s during a high school talent show. Since then, Williams has worked with such chart-topping acts as Britney Spears, Justin Timberlake, and Beyoncé and has launched a clothing line, written children’s picture books, and founded a charity to help underprivileged schools. This colorful biography uses vibrant photos, simple text, and direct quotations from Williams himself to tell the story of his ascension to fame.","English",22.6,16.95,"782.421649092--dc23","24 pp.",{"$f":"Table1[[#This Row],[QTY]]*Table1[[#This Row],['# of Books]]","v":0},{"$f":"Table1[[#This Row],[QTY]]*Table1[[#This Row],[School & Library Price]]","v":0}]
[null,null,null,26,"Junior Biographies","Pharrell Williams: Singer and Songwriter",1,"eBook","978-0-7660-8195-6",2017,"January 2017",null,"Author","Chris Flores",null,null,null,null,"N",null,"Grade 3 - 4","Grade 3 - 5","Pharrell Williams is a Grammy Award–winning singer, rapper, and record producer. Famous record producer Teddy Riley discovered Williams’s R&B group, the Neptunes, in the early 1990s during a high school talent show. Since then, Williams has worked with such chart-topping acts as Britney Spears, Justin Timberlake, and Beyoncé and has launched a clothing line, written children’s picture books, and founded a charity to help underprivileged schools. This colorful biography uses vibrant photos, simple text, and direct quotations from Williams himself to tell the story of his ascension to fame.","English",22.6,16.95,"782.421649092--dc23","24 pp.",{"$f":"Table1[[#This Row],[QTY]]*Table1[[#This Row],['# of Books]]","v":0},{"$f":"Table1[[#This Row],[QTY]]*Table1[[#This Row],[School & Library Price]]","v":0}]
[null,null,null,26,"Junior Biographies","Rihanna: Pop Star",1,"Library Bound Book","978-0-7660-8674-6",2018,"August 2017","7.125 X 8.500","Author","Hannah Isbell",null,null,null,null,"N",null,"Grade 3 - 4","Grade 3 - 5","Rihanna is known world over as a music icon, but she is more than just a pop princess. Over the past ten years, Rihanna has worked hard to break stereotypes, develop a definitive style, and maintain creative control of her music. In the process, she's won dozens of awards, including eight Grammys. Young readers will learn about the musician and businesswoman's life through easy-to-follow text accompanied by dynamic full-color photographs, as well as direct quotes from Rihanna herself.","English",22.6,16.95,"782.42164092--dc23","24 pp.",{"$f":"Table1[[#This Row],[QTY]]*Table1[[#This Row],['# of Books]]","v":0},{"$f":"Table1[[#This Row],[QTY]]*Table1[[#This Row],[School & Library Price]]","v":0}]
[null,null,null,26,"Junior Biographies","Rihanna: Pop Star",1,"eBook","978-0-7660-8675-3",2018,"August 2017",null,"Author","Hannah Isbell",null,null,null,null,"N",null,"Grade 3 - 4","Grade 3 - 5","Rihanna is known world over as a music icon, but she is more than just a pop princess. Over the past ten years, Rihanna has worked hard to break stereotypes, develop a definitive style, and maintain creative control of her music. In the process, she's won dozens of awards, including eight Grammys. Young readers will learn about the musician and businesswoman's life through easy-to-follow text accompanied by dynamic full-color photographs, as well as direct quotes from Rihanna herself.","English",22.6,16.95,"782.42164092--dc23","24 pp.",{"$f":"Table1[[#This Row],[QTY]]*Table1[[#This Row],['# of Books]]","v":0},{"$f":"Table1[[#This Row],[QTY]]*Table1[[#This Row],[School & Library Price]]","v":0}]
[null,null,null,26,"Junior Biographies","Serena Williams: Tennis Star",1,"Library Bound Book","978-0-7660-8182-6",2017,"January 2017","7.125 X 8.500","Author","Kristen Rajczak Nelson",5.3,0.5,null,null,"N",null,"Grade 3 - 4","Grade 3 - 5","Serena Williams is considered one of the best female athletes of all time. At age seventeen, she became the first African American woman to win a Grand Slam tournament in forty-one years. Readers will discover that in addition to her prowess on the tennis courts, Williams has also made her mark on the world through charity work with her organization, the Serena Williams Fund, and UNICEF. A Words to Know section prepares readers for any unfamiliar vocabulary they may find in the text, and colorful photographs and direct quotations from Williams help students connect with this extraordinary athlete.","English",22.6,16.95,"796.342092--dc23","24 pp.",{"$f":"Table1[[#This Row],[QTY]]*Table1[[#This Row],['# of Books]]","v":0},{"$f":"Table1[[#This Row],[QTY]]*Table1[[#This Row],[School & Library Price]]","v":0}]
[null,null,null,26,"Junior Biographies","Serena Williams: Tennis Star",1,"eBook","978-0-7660-8183-3",2017,"January 2017",null,"Author","Kristen Rajczak Nelson",null,null,null,null,"N",null,"Grade 3 - 4","Grade 3 - 5","Serena Williams is considered one of the best female athletes of all time. At age seventeen, she became the first African American woman to win a Grand Slam tournament in forty-one years. Readers will discover that in addition to her prowess on the tennis courts, Williams has also made her mark on the world through charity work with her organization, the Serena Williams Fund, and UNICEF. A Words to Know section prepares readers for any unfamiliar vocabulary they may find in the text, and colorful photographs and direct quotations from Williams help students connect with this extraordinary athlete.","English",22.6,16.95,"796.342092--dc23","24 pp.",{"$f":"Table1[[#This Row],[QTY]]*Table1[[#This Row],['# of Books]]","v":0},{"$f":"Table1[[#This Row],[QTY]]*Table1[[#This Row],[School & Library Price]]","v":0}]
[null,null,null,26,"Junior Biographies","Sharon Draper: Author",1,"Library Bound Book","978-0-7660-8190-1",2017,"January 2017","7.125 X 8.500","Author","Therese M. Shea",5.0999999999999996,0.5,null,null,"O",null,"Grade 3 - 4","Grade 3 - 5","Sharon Draper is a celebrated educator and author. Her readers, from elementary school children to young adults, connect with her characters, who often face real-world challenges such as addiction (in 1995's Tears of a Tiger) and cerebral palsy (in 2010's Out of My Mind). Full of fascinating details, full-color photographs, and insightful quotations from Draper, this simple yet informative text will show readers how a love of books from an early age inspired a young girl to become a writer and teacher who has touched the lives of millions of young people around the world.","English",22.6,16.95,"813/.54--dc23","24 pp.",{"$f":"Table1[[#This Row],[QTY]]*Table1[[#This Row],['# of Books]]","v":0},{"$f":"Table1[[#This Row],[QTY]]*Table1[[#This Row],[School & Library Price]]","v":0}]
[null,null,null,26,"Junior Biographies","Sharon Draper: Author",1,"eBook","978-0-7660-8191-8",2017,"January 2017",null,"Author","Therese M. Shea",null,null,null,null,"O",null,"Grade 3 - 4","Grade 3 - 5","Sharon Draper is a celebrated educator and author. Her readers, from elementary school children to young adults, connect with her characters, who often face real-world challenges such as addiction (in 1995's Tears of a Tiger) and cerebral palsy (in 2010's Out of My Mind). Full of fascinating details, full-color photographs, and insightful quotations from Draper, this simple yet informative text will show readers how a love of books from an early age inspired a young girl to become a writer and teacher who has touched the lives of millions of young people around the world.","English",22.6,16.95,"813/.54--dc23","24 pp.",{"$f":"Table1[[#This Row],[QTY]]*Table1[[#This Row],['# of Books]]","v":0},{"$f":"Table1[[#This Row],[QTY]]*Table1[[#This Row],[School & Library Price]]","v":0}]
[null,null,null,26,"Junior Biographies","Stephen Curry: Basketball's MVP",1,"Library Bound Book","978-0-7660-8175-8",2017,"January 2017","7.125 X 8.500","Author","Therese M. Shea",5.3,0.5,null,null,"O",null,"Grade 3 - 4","Grade 3 - 5","Born Wardell Stephen Curry II on March 14, 1988, in Akron, Ohio, Stephen Curry may be the best shooter in NBA history. He is an NBA champion, an MVP, and a player at the top of his game, and he uses his stardom to give back to the community. Readers will be fascinated by the story of this tremendous athlete, told with simple text and supplemented with color photos. A Words to Know section helps prepare readers for vocabulary in the text, and quotes from Curry himself allow readers to connect with this basketball star.","English",22.6,16.95,"796.323092--dc23","24 pp.",{"$f":"Table1[[#This Row],[QTY]]*Table1[[#This Row],['# of Books]]","v":0},{"$f":"Table1[[#This Row],[QTY]]*Table1[[#This Row],[School & Library Price]]","v":0}]
[null,null,null,26,"Junior Biographies","Stephen Curry: Basketball's MVP",1,"eBook","978-0-7660-8176-5",2017,"January 2017",null,"Author","Therese M. Shea",null,null,null,null,"O",null,"Grade 3 - 4","Grade 3 - 5","Born Wardell Stephen Curry II on March 14, 1988, in Akron, Ohio, Stephen Curry may be the best shooter in NBA history. He is an NBA champion, an MVP, and a player at the top of his game, and he uses his stardom to give back to the community. Readers will be fascinated by the story of this tremendous athlete, told with simple text and supplemented with color photos. A Words to Know section helps prepare readers for vocabulary in the text, and quotes from Curry himself allow readers to connect with this basketball star.","English",22.6,16.95,"796.323092--dc23","24 pp.",{"$f":"Table1[[#This Row],[QTY]]*Table1[[#This Row],['# of Books]]","v":0},{"$f":"Table1[[#This Row],[QTY]]*Table1[[#This Row],[School & Library Price]]","v":0}]
[null,null,null,26,"Junior Biographies","Junior Biographies: Sets 1 – 3",18,"Library Set","978-0-7660-9155-9",2018,"January 2018","7.125 X 8.500"," "," ",null,null,null,null,null,null,"Grade 3 - 4","Grade 3 - 6","Role models and champions come in all forms. These brief yet comprehensive biographies of athletes, musicians, politicians, and other public figures include full-color photographs and well-researched information on their lives and accomplishments. In addition, direct quotations from the individuals help readers understand the inspiration and drive behind each distinguished person, encouraging readers to find and follow their own dreams.","English",406.8,305.10000000000002,null,"24 pp.",{"$f":"Table1[[#This Row],[QTY]]*Table1[[#This Row],['# of Books]]","v":0},{"$f":"Table1[[#This Row],[QTY]]*Table1[[#This Row],[School & Library Price]]","v":0}]
[null,null,null,26,"Junior Biographies","Junior Biographies: Set 3",6,"Library Set","978-0-7660-9154-2",2018,"January 2018","7.125 X 8.500"," "," ",null,null,null,null,null,null,"Grade 3 - 4","Grade 3 - 6","Role models and champions come in all forms. These brief yet comprehensive biographies of athletes, musicians, politicians, and other public figures include full-color photographs and well-researched information on their lives and accomplishments. In addition, direct quotations from the individuals help readers understand the inspiration and drive behind each distinguished person to encourage readers to find and follow their own dreams.","English",135.6,101.7,null,"24 pp.",{"$f":"Table1[[#This Row],[QTY]]*Table1[[#This Row],['# of Books]]","v":0},{"$f":"Table1[[#This Row],[QTY]]*Table1[[#This Row],[School & Library Price]]","v":0}]
[null,null,null,26,"Junior Biographies","Alexander Hamilton: Founding Father and Treasury Secretary",1,"Library Bound Book","978-0-7660-9047-7",2018,"January 2018","7.125 X 8.500","Author","Therese M. Shea",null,null,null,null,"P",null,"Grade 3 - 4","Grade 3 - 6","Though a renowned Founding Father, Alexander Hamilton's fame has recently received a boost from the hit musical Hamilton. He was chosen as the subject of that work because of his extraordinary biography. He was raised by a single mother in the Caribbean, volunteered to be a soldier in the American Revolution, rose to become the U.S. Secretary of the Treasury, and tragically killed in a duel with Aaron Burr. This accessible book presents Hamilton's life story to young readers through engaging text and includes surprising facts, relevant quotes from Hamilton himself, and striking historical images.","English",22.6,16.95,"973.4092--dc23","24 pp.",{"$f":"Table1[[#This Row],[QTY]]*Table1[[#This Row],['# of Books]]","v":0},{"$f":"Table1[[#This Row],[QTY]]*Table1[[#This Row],[School & Library Price]]","v":0}]
[null,null,null,26,"Junior Biographies","Alexander Hamilton: Founding Father and Treasury Secretary",1,"eBook","978-0-7660-9048-4",2018,"January 2018",null,"Author","Therese M. Shea",null,null,null,null,"P",null,"Grade 3 - 4","Grade 3 - 6","Though a renowned Founding Father, Alexander Hamilton's fame has recently received a boost from the hit musical Hamilton. He was chosen as the subject of that work because of his extraordinary biography. He was raised by a single mother in the Caribbean, volunteered to be a soldier in the American Revolution, rose to become the U.S. Secretary of the Treasury, and tragically killed in a duel with Aaron Burr. This accessible book presents Hamilton's life story to young readers through engaging text and includes surprising facts, relevant quotes from Hamilton himself, and striking historical images.","English",22.6,16.95,"973.4092--dc23","24 pp.",{"$f":"Table1[[#This Row],[QTY]]*Table1[[#This Row],['# of Books]]","v":0},{"$f":"Table1[[#This Row],[QTY]]*Table1[[#This Row],[School & Library Price]]","v":0}]
[null,null,null,26,"Junior Biographies","Jeff Kinney: Children's Book Author and Cartoonist",1,"Library Bound Book","978-0-7660-9063-7",2018,"January 2018","7.125 X 8.500","Author","Kathy Furgang",null,null,null,null,"M",null,"Grade 3 - 4","Grade 3 - 6","One of America's bestselling children's book authors cartooned his way to fame. This accessible, easy-to-follow book about Diary of a Wimpy Kid author, Jeff Kinney, offers fascinating facts about the creator's life and work. From his time as a cartoonist for his college newspaper to his international fame as an author, Kinney has stayed dedicated to the art of storytelling. Millions of children around the world have enjoyed the antics of Kinney's lovable middle school character, Greg Heffley. It's not just doodling. Kinney's humorous work has captured the hearts of kids everywhere, and has them reading, too.","English",22.6,16.95,null,"24 pp.",{"$f":"Table1[[#This Row],[QTY]]*Table1[[#This Row],['# of Books]]","v":0},{"$f":"Table1[[#This Row],[QTY]]*Table1[[#This Row],[School & Library Price]]","v":0}]
[null,null,null,26,"Junior Biographies","Jeff Kinney: Children's Book Author and Cartoonist",1,"eBook","978-0-7660-9064-4",2018,"January 2018",null,"Author","Kathy Furgang",null,null,null,null,"M",null,"Grade 3 - 4","Grade 3 - 6","One of America's bestselling children's book authors cartooned his way to fame. This accessible, easy-to-follow book about Diary of a Wimpy Kid author, Jeff Kinney, offers fascinating facts about the creator's life and work. From his time as a cartoonist for his college newspaper to his international fame as an author, Kinney has stayed dedicated to the art of storytelling. Millions of children around the world have enjoyed the antics of Kinney's lovable middle school character, Greg Heffley. It's not just doodling. Kinney's humorous work has captured the hearts of kids everywhere, and has them reading, too.","English",22.6,16.95,null,"24 pp.",{"$f":"Table1[[#This Row],[QTY]]*Table1[[#This Row],['# of Books]]","v":0},{"$f":"Table1[[#This Row],[QTY]]*Table1[[#This Row],[School & Library Price]]","v":0}]
[null,null,null,26,"Junior Biographies","Jim Henson: Puppeteer and Producer",1,"Library Bound Book","978-0-7660-9055-2",2018,"January 2018","7.125 X 8.500","Author","Hannah Isbell",null,null,null,null,"M",null,"Grade 3 - 4","Grade 3 - 6","Jim Henson created some of the most well-known and beloved characters, stories, and songs of the 20th century, making his name synonymous with children's entertainment. From Kermit the Frog to The Dark Crystal, his creative legacy has impacted children for two generations with no sign of stopping. Through vibrant, full-color illustrations, easy-to-follow text, and direct quotes, students will learn how one man used his talent for art, music, and performance not only to entertain children and adults around the world, but also to change the way kids learn.","English",22.6,16.95,null,"24 pp.",{"$f":"Table1[[#This Row],[QTY]]*Table1[[#This Row],['# of Books]]","v":0},{"$f":"Table1[[#This Row],[QTY]]*Table1[[#This Row],[School & Library Price]]","v":0}]
[null,null,null,26,"Junior Biographies","Jim Henson: Puppeteer and Producer",1,"eBook","978-0-7660-9056-9",2018,"January 2018",null,"Author","Hannah Isbell",null,null,null,null,"M",null,"Grade 3 - 4","Grade 3 - 6","Jim Henson created some of the most well-known and beloved characters, stories, and songs of the 20th century, making his name synonymous with children's entertainment. From Kermit the Frog to The Dark Crystal, his creative legacy has impacted children for two generations with no sign of stopping. Through vibrant, full-color illustrations, easy-to-follow text, and direct quotes, students will learn how one man used his talent for art, music, and performance not only to entertain children and adults around the world, but also to change the way kids learn.","English",22.6,16.95,null,"24 pp.",{"$f":"Table1[[#This Row],[QTY]]*Table1[[#This Row],['# of Books]]","v":0},{"$f":"Table1[[#This Row],[QTY]]*Table1[[#This Row],[School & Library Price]]","v":0}]
[null,null,null,26,"Junior Biographies","Pope Francis: Priest of the People",1,"Library Bound Book","978-0-7660-9051-4",2018,"January 2018","7.125 X 8.500","Author","Kathy Furgang",null,null,null,null,"O",null,"Grade 3 - 4","Grade 3 - 6","This book explores the life of Pope Francis, a Roman Catholic pope of many firsts. He is the first Jesuit pope, the first from the Americas, and even the first from the Southern Hemisphere. This thoughtful and insightful book discusses the pope's early life as Jorge Mario Bergoglio and his work as a chemical technologist and nightclub bouncer before studying to become a priest. The book's focus will be on his concern for and work with the poor, and his outreach to people of different faiths.","English",22.6,16.95,"282.092--dc23","24 pp.",{"$f":"Table1[[#This Row],[QTY]]*Table1[[#This Row],['# of Books]]","v":0},{"$f":"Table1[[#This Row],[QTY]]*Table1[[#This Row],[School & Library Price]]","v":0}]
[null,null,null,26,"Junior Biographies","Pope Francis: Priest of the People",1,"eBook","978-0-7660-9052-1",2018,"January 2018",null,"Author","Kathy Furgang",null,null,null,null,"O",null,"Grade 3 - 4","Grade 3 - 6","This book explores the life of Pope Francis, a Roman Catholic pope of many firsts. He is the first Jesuit pope, the first from the Americas, and even the first from the Southern Hemisphere. This thoughtful and insightful book discusses the pope's early life as Jorge Mario Bergoglio and his work as a chemical technologist and nightclub bouncer before studying to become a priest. The book's focus will be on his concern for and work with the poor, and his outreach to people of different faiths.","English",22.6,16.95,"282.092--dc23","24 pp.",{"$f":"Table1[[#This Row],[QTY]]*Table1[[#This Row],['# of Books]]","v":0},{"$f":"Table1[[#This Row],[QTY]]*Table1[[#This Row],[School & Library Price]]","v":0}]
[null,null,null,26,"Junior Biographies","Squanto: Native American Translator and Guide",1,"Library Bound Book","978-0-7660-9066-8",2018,"January 2018","7.125 X 8.500","Author","Hannah Isbell",null,null,null,null,"P",null,"Grade 3 - 4","Grade 3 - 6","Squanto's name is legend in American history, but behind the legend was a real man who lived an exciting life of kidnap, escape, exploration, and diplomacy. One of the last of his people and one of the first to travel the world, Squanto was so much more than just a translator to the Pilgrims. Through accessible text, full color illustrations, and direct quotes, young readers will learn about the fascinating man and his crucial role in American history.","English",22.6,16.95,"974.4/00497--dc23","24 pp.",{"$f":"Table1[[#This Row],[QTY]]*Table1[[#This Row],['# of Books]]","v":0},{"$f":"Table1[[#This Row],[QTY]]*Table1[[#This Row],[School & Library Price]]","v":0}]
[null,null,null,26,"Junior Biographies","Squanto: Native American Translator and Guide",1,"eBook","978-0-7660-9067-5",2018,"January 2018",null,"Author","Hannah Isbell",null,null,null,null,"P",null,"Grade 3 - 4","Grade 3 - 6","Squanto's name is legend in American history, but behind the legend was a real man who lived an exciting life of kidnap, escape, exploration, and diplomacy. One of the last of his people and one of the first to travel the world, Squanto was so much more than just a translator to the Pilgrims. Through accessible text, full color illustrations, and direct quotes, young readers will learn about the fascinating man and his crucial role in American history.","English",22.6,16.95,"974.4/00497--dc23","24 pp.",{"$f":"Table1[[#This Row],[QTY]]*Table1[[#This Row],['# of Books]]","v":0},{"$f":"Table1[[#This Row],[QTY]]*Table1[[#This Row],[School & Library Price]]","v":0}]
[null,null,null,26,"Junior Biographies","Taylor Swift: Singer and Songwriter",1,"Library Bound Book","978-0-7660-9059-0",2018,"January 2018","7.125 X 8.500","Author","Heather Moore Niver",null,null,null,null,"L",null,"Grade 3 - 4","Grade 3 - 6","Musician Taylor Swift has written music that puts her heart on the page, but even at a young age, Swift was clearly more than a lovelorn songwriter. This vibrant biography offers a glimpse into the musical celebrity's life, her childhood, her rise to fame, and her impressive accomplishments along the way. Readers will learn about her staunch stance on how she is photographed, her support of other female musicians, and her giving spirit. Quotes straight from Swift's lips further inspire the fan and budding musician alike.","English",22.6,16.95,"782.421642092--dc23","24 pp.",{"$f":"Table1[[#This Row],[QTY]]*Table1[[#This Row],['# of Books]]","v":0},{"$f":"Table1[[#This Row],[QTY]]*Table1[[#This Row],[School & Library Price]]","v":0}]
[null,null,null,26,"Junior Biographies","Taylor Swift: Singer and Songwriter",1,"eBook","978-0-7660-9060-6",2018,"January 2018",null,"Author","Heather Moore Niver",null,null,null,null,"L",null,"Grade 3 - 4","Grade 3 - 6","Musician Taylor Swift has written music that puts her heart on the page, but even at a young age, Swift was clearly more than a lovelorn songwriter. This vibrant biography offers a glimpse into the musical celebrity's life, her childhood, her rise to fame, and her impressive accomplishments along the way. Readers will learn about her staunch stance on how she is photographed, her support of other female musicians, and her giving spirit. Quotes straight from Swift's lips further inspire the fan and budding musician alike.","English",22.6,16.95,"782.421642092--dc23","24 pp.",{"$f":"Table1[[#This Row],[QTY]]*Table1[[#This Row],['# of Books]]","v":0},{"$f":"Table1[[#This Row],[QTY]]*Table1[[#This Row],[School & Library Price]]","v":0}]
[null,null,null,27,"You Choose (All 8 Titles)","You Choose (All 8 Titles)",8,"Library Set","978-0-7660-9039-2",2018,"August 2017","8.250 X 9.000",null,null,null,null,null,null,null,null,"Grade 2","Grade Pre-K - 3","Children may be surprised to learn that doing the right thing isn't always easy. Each of these engaging, accessible values education titles explores the story of one child who faces dilemmas about different social situations, the choices he or she makes, and the consequences of those choices. The interactive question-and-answer approach engages the reader in real-life situations while the charming, colorful illustrations keep the tome of the book light, whimsical, playful, and fun.","English",202.16,151.6,null,"32 pp.",{"$f":"Table1[[#This Row],[QTY]]*Table1[[#This Row],['# of Books]]","v":0},{"$f":"Table1[[#This Row],[QTY]]*Table1[[#This Row],[School & Library Price]]","v":0}]
[null,null,null,27,"You Choose (NEW Set of 4 Titles)","You Choose (NEW Set of 4 Titles)",4,"Library Set","978-0-7660-8076-8",2018,"August 2017","8.250 X 9.000",null,null,null,null,null,null,null,null,"Grade 2","Grade Pre-K - 3","Children may be surprised to learn that doing the right thing isn’t always easy. Each of these engaging, accessible value education titles explores the story of one child who faces dilemmas about different social situations, the choices he or she makes, and the consequences of those choices. The Interactive question and answer approach engages the reader in real life situations while the charming, colorful illustrations keeps the tone of the book whimsical and playful.\n\n","English",101.08,75.8,null,"32 pp.",{"$f":"Table1[[#This Row],[QTY]]*Table1[[#This Row],['# of Books]]","v":0},{"$f":"Table1[[#This Row],[QTY]]*Table1[[#This Row],[School & Library Price]]","v":0}]
[null,null,null,27,"You Choose","Chin Up, Charlie",1,"Library Bound Book","978-0-7660-4305-3",2014,"August 2013","8.250 X 9.000","Author","Sarah Eason",2.6,null,null,null,"K","550L","Grade 2","Grade Pre-K - 3",null,"English",25.27,18.95,"179","32 pp.",{"$f":"Table1[[#This Row],[QTY]]*Table1[[#This Row],['# of Books]]","v":0},{"$f":"Table1[[#This Row],[QTY]]*Table1[[#This Row],[School & Library Price]]","v":0}]
[null,null,null,27,"You Choose","Come Clean, Carlos",1,"Library Bound Book","978-0-7660-4306-0",2014,"August 2013","8.250 X 9.000","Author","Sarah Eason",2.8,null,null,null,"K","670L","Grade 2","Grade Pre-K - 3",null,"English",25.27,18.95,"155.4","32 pp.",{"$f":"Table1[[#This Row],[QTY]]*Table1[[#This Row],['# of Books]]","v":0},{"$f":"Table1[[#This Row],[QTY]]*Table1[[#This Row],[School & Library Price]]","v":0}]
[null,null,null,27,"You Choose","Don't Be Sad, Sam: It's Ok",1,"Library Bound Book","978-0-7660-8698-2",2018,"August 2017","8.250 X 9.000","Author","Lisa Regan",null,null,null,null,"M",null,"Grade 2","Grade Pre-K - 3","Readers will be delighted by colorful illustrations as they immerse themselves in Sam’s story and try to make the right decisions. Sam finds himself in several situations that make him sad: his hamster dies, his best friend moves away, and his parents pay more attention to his little sister than to him. There are three ways Sam can act in every situation. The reader can compare Sam’s choices to the ones he or she would have made and gain a deeper understanding of the central lesson.","English",25.27,18.95,"152.4--dc23","32 pp.",{"$f":"Table1[[#This Row],[QTY]]*Table1[[#This Row],['# of Books]]","v":0},{"$f":"Table1[[#This Row],[QTY]]*Table1[[#This Row],[School & Library Price]]","v":0}]
[null,null,null,27,"You Choose","Don't Be Sad, Sam: It's Ok",1,"eBook","978-0-7660-8699-9",2018,"August 2017",null,"Author","Lisa Regan",null,null,null,null,"M",null,"Grade 2","Grade Pre-K - 3","Readers will be delighted by colorful illustrations as they immerse themselves in Sam’s story and try to make the right decisions. Sam finds himself in several situations that make him sad: his hamster dies, his best friend moves away, and his parents pay more attention to his little sister than to him. There are three ways Sam can act in every situation. The reader can compare Sam’s choices to the ones he or she would have made and gain a deeper understanding of the central lesson.","English",25.27,18.95,"152.4--dc23","32 pp.",{"$f":"Table1[[#This Row],[QTY]]*Table1[[#This Row],['# of Books]]","v":0},{"$f":"Table1[[#This Row],[QTY]]*Table1[[#This Row],[School & Library Price]]","v":0}]
[null,null,null,27,"You Choose","Don't Get Angry, Annie: Stay Calm",1,"Library Bound Book","978-0-7660-8700-2",2018,"August 2017","8.250 X 9.000","Author","Lisa Regan",null,null,null,null,"M",null,"Grade 2","Grade Pre-K - 3","Whimsical illustrations and simple, engaging narrative guide readers through different situations Annie faces that cause her to get angry. She becomes frustrated when her dog drawing comes out poorly. Her mother will not allow her to have a cookie before tea. Her little brother is not playing a game correctly. Annie chooses one out of three behaviors for each situation, and the consequences of that choice is explained. A “How to Use This Book Section” for both parents and children shows how to apply these lessons to real life.","English",25.27,18.95,"152.4’7—dc23","32 pp.",{"$f":"Table1[[#This Row],[QTY]]*Table1[[#This Row],['# of Books]]","v":0},{"$f":"Table1[[#This Row],[QTY]]*Table1[[#This Row],[School & Library Price]]","v":0}]
[null,null,null,27,"You Choose","Don't Get Angry, Annie: Stay Calm",1,"eBook","978-0-7660-8701-9",2018,"August 2017",null,"Author","Lisa Regan",null,null,null,null,"M",null,"Grade 2","Grade Pre-K - 3","Whimsical illustrations and simple, engaging narrative guide readers through different situations Annie faces that cause her to get angry. She becomes frustrated when her dog drawing comes out poorly. Her mother will not allow her to have a cookie before tea. Her little brother is not playing a game correctly. Annie chooses one out of three behaviors for each situation, and the consequences of that choice is explained. A “How to Use This Book Section” for both parents and children shows how to apply these lessons to real life.","English",25.27,18.95,"152.4’7—dc23","32 pp.",{"$f":"Table1[[#This Row],[QTY]]*Table1[[#This Row],['# of Books]]","v":0},{"$f":"Table1[[#This Row],[QTY]]*Table1[[#This Row],[School & Library Price]]","v":0}]
[null,null,null,27,"You Choose","Don't Play Dirty, Gertie",1,"Library Bound Book","978-0-7660-4307-7",2014,"August 2013","8.250 X 9.000","Author","Sarah Eason",3.2,null,null,null,"K","650L","Grade 2","Grade Pre-K - 3",null,"English",25.27,18.95,"155.4","32 pp.",{"$f":"Table1[[#This Row],[QTY]]*Table1[[#This Row],['# of Books]]","v":0},{"$f":"Table1[[#This Row],[QTY]]*Table1[[#This Row],[School & Library Price]]","v":0}]
[null,null,null,27,"You Choose","Hand it Over, Harry",1,"Library Bound Book","978-0-7660-4308-4",2014,"August 2013","8.250 X 9.000","Author","Sarah Eason",3.1,null,null,null,"K","650L","Grade 2","Grade Pre-K - 3",null,"English",25.27,18.95,"179","32 pp.",{"$f":"Table1[[#This Row],[QTY]]*Table1[[#This Row],['# of Books]]","v":0},{"$f":"Table1[[#This Row],[QTY]]*Table1[[#This Row],[School & Library Price]]","v":0}]
[null,null,null,27,"You Choose","No Hitting, Henry: Don't Hurt",1,"Library Bound Book","978-0-7660-8702-6",2018,"August 2017","8.250 X 9.000","Author","Lisa Regan",null,null,null,null,"N",null,"Grade 2","Grade Pre-K - 3","Children will follow Henry as he deals with his feelings of anger and his bad habit of hitting through various situations involving friends and family. His big brother Ben cheats at hide-and-seek. A group of children playing in the park leave him out of their game. His father asks him to behave while they shop. Readers are given a description of the situation, three choices, the action chosen by the character, and consequences of that choice. The interactive question-and-answer approach engages the reader in real-life situations while the charming, colorful illustrations keep the tone of the book whimsical and playful.","English",25.27,18.95,"153.8—dc23","32 pp.",{"$f":"Table1[[#This Row],[QTY]]*Table1[[#This Row],['# of Books]]","v":0},{"$f":"Table1[[#This Row],[QTY]]*Table1[[#This Row],[School & Library Price]]","v":0}]
[null,null,null,27,"You Choose","No Hitting, Henry: Don't Hurt",1,"eBook","978-0-7660-8703-3",2018,"August 2017",null,"Author","Lisa Regan",null,null,null,null,"N",null,"Grade 2","Grade Pre-K - 3","Children will follow Henry as he deals with his feelings of anger and his bad habit of hitting through various situations involving friends and family. His big brother Ben cheats at hide-and-seek. A group of children playing in the park leave him out of their game. His father asks him to behave while they shop. Readers are given a description of the situation, three choices, the action chosen by the character, and consequences of that choice. The interactive question-and-answer approach engages the reader in real-life situations while the charming, colorful illustrations keep the tone of the book whimsical and playful.","English",25.27,18.95,"153.8—dc23","32 pp.",{"$f":"Table1[[#This Row],[QTY]]*Table1[[#This Row],['# of Books]]","v":0},{"$f":"Table1[[#This Row],[QTY]]*Table1[[#This Row],[School & Library Price]]","v":0}]
[null,null,null,27,"You Choose","Wait Your Turn, Tilly: Be Patient",1,"Library Bound Book","978-0-7660-8704-0",2018,"August 2017","8.250 X 9.000","Author","Lisa Regan",null,null,null,null,"O",null,"Grade 2","Grade Pre-K - 3","This accessible value education title explores the story of an impatient child named Tilly who does not like waiting or letting others have their turn. She wants to play the video game her brother is playing. She wants to go on the seesaw her friends are on. She wants to tell her parents about her swimming lesson in the middle of their conversation. Tilly chooses one out of three behaviors for each situation, and the consequences of each choice is explained. The interactive question-and-answer approach engages the reader in real-life situations, while the charming, colorful illustrations keep the tone of the book whimsical and playful.","English",25.27,18.95,"179’.9—dc23","32 pp.",{"$f":"Table1[[#This Row],[QTY]]*Table1[[#This Row],['# of Books]]","v":0},{"$f":"Table1[[#This Row],[QTY]]*Table1[[#This Row],[School & Library Price]]","v":0}]
[null,null,null,27,"You Choose","Wait Your Turn, Tilly: Be Patient",1,"eBook","978-0-7660-8705-7",2018,"August 2017",null,"Author","Lisa Regan",null,null,null,null,"O",null,"Grade 2","Grade Pre-K - 3","This accessible value education title explores the story of an impatient child named Tilly who does not like waiting or letting others have their turn. She wants to play the video game her brother is playing. She wants to go on the seesaw her friends are on. She wants to tell her parents about her swimming lesson in the middle of their conversation. Tilly chooses one out of three behaviors for each situation, and the consequences of each choice is explained. The interactive question-and-answer approach engages the reader in real-life situations, while the charming, colorful illustrations keep the tone of the book whimsical and playful.","English",25.27,18.95,"179’.9—dc23","32 pp.",{"$f":"Table1[[#This Row],[QTY]]*Table1[[#This Row],['# of Books]]","v":0},{"$f":"Table1[[#This Row],[QTY]]*Table1[[#This Row],[School & Library Price]]","v":0}]
[null,null,null,28,"I Want to Know","I Want to Know",6,"Library Set","978-0-7660-8414-8",2017,"January 2017","7.125 X 8.500",null,null,null,null,null,null,null,null,"Grade 3","Grade 3 - 5","Mythology and cryptozoology continue to make their way into our mainstream culture. This leaves many students wondering about the existence of such entities as unicorns, dragons, and aliens. Using easy-to-understand text and full-color photographs, this new series dives into the world of mythology and tracks down the facts about ghosts, monsters, and mermaids. Possible scientific explanations for sightings and experiences are also provided, giving each reader the opportunity to decide for him or herself.","English",151.62,113.7,null,"32 pp.",{"$f":"Table1[[#This Row],[QTY]]*Table1[[#This Row],['# of Books]]","v":0},{"$f":"Table1[[#This Row],[QTY]]*Table1[[#This Row],[School & Library Price]]","v":0}]
[null,null,null,28,"I Want to Know","Are Aliens Real?",1,"Library Bound Book","978-0-7660-8230-4",2017,"January 2017","7.125 X 8.500","Author, Author","Portia Summers, Dana Meachen Rau",null,null,null,null,"U",null,"Grade 3","Grade 3 - 5","Information about aliens and UFOs is presented through historical accounts and personal experiences, as well as possible scientific explanations. Vivid images and a colorful design will keep even reluctant readers interested, while a glossary strengthens vocabulary. Then, readers can decide for themselves based on the evidence presented.","English",25.27,18.95,"001.942--dc23","32 pp.",{"$f":"Table1[[#This Row],[QTY]]*Table1[[#This Row],['# of Books]]","v":0},{"$f":"Table1[[#This Row],[QTY]]*Table1[[#This Row],[School & Library Price]]","v":0}]
[null,null,null,28,"I Want to Know","Are Aliens Real?",1,"eBook","978-0-7660-8231-1",2017,"January 2017",null,"Author, Author","Portia Summers, Dana Meachen Rau",null,null,null,null,"U",null,"Grade 3","Grade 3 - 5","Information about aliens and UFOs is presented through historical accounts and personal experiences, as well as possible scientific explanations. Vivid images and a colorful design will keep even reluctant readers interested, while a glossary strengthens vocabulary. Then, readers can decide for themselves based on the evidence presented.","English",25.27,18.95,"001.942--dc23","32 pp.",{"$f":"Table1[[#This Row],[QTY]]*Table1[[#This Row],['# of Books]]","v":0},{"$f":"Table1[[#This Row],[QTY]]*Table1[[#This Row],[School & Library Price]]","v":0}]
[null,null,null,28,"I Want to Know","Are Dragons Real?",1,"Library Bound Book","978-0-7660-8234-2",2017,"January 2017","7.125 X 8.500","Author, Author","Portia Summers, Dana Meachen Rau",null,null,null,null,"N",null,"Grade 3","Grade 3 - 5","Delving deep into mythology of dragons from across the globe, this narrative text will inform readers about different cultures and present possible scientific explanations. A glossary strengthens vocabulary, while full-color images and a bright design will keep even the most reluctant readers interested. Then, readers can decide for themselves based on the evidence presented.","English",25.27,18.95,"398.24/54--dc23","32 pp.",{"$f":"Table1[[#This Row],[QTY]]*Table1[[#This Row],['# of Books]]","v":0},{"$f":"Table1[[#This Row],[QTY]]*Table1[[#This Row],[School & Library Price]]","v":0}]
[null,null,null,28,"I Want to Know","Are Dragons Real?",1,"eBook","978-0-7660-8235-9",2017,"January 2017",null,"Author, Author","Portia Summers, Dana Meachen Rau",null,null,null,null,"N",null,"Grade 3","Grade 3 - 5","Delving deep into mythology of dragons from across the globe, this narrative text will inform readers about different cultures and present possible scientific explanations. A glossary strengthens vocabulary, while full-color images and a bright design will keep even the most reluctant readers interested. Then, readers can decide for themselves based on the evidence presented.","English",25.27,18.95,"398.24/54--dc23","32 pp.",{"$f":"Table1[[#This Row],[QTY]]*Table1[[#This Row],['# of Books]]","v":0},{"$f":"Table1[[#This Row],[QTY]]*Table1[[#This Row],[School & Library Price]]","v":0}]
[null,null,null,28,"I Want to Know","Are Ghosts Real?",1,"Library Bound Book","978-0-7660-8238-0",2017,"January 2017","7.125 X 8.500","Author","Heather Moore Niver",null,null,null,null,"O",null,"Grade 3","Grade 3 - 5","Haunted houses, spirits, and ghosts are explored through historical accounts, personal experiences, photographs, and legendary stories. Full-color images and a fun design will keep even reluctant readers interested, while a glossary strengthens vocabulary. Then, readers can come to their own conclusions.","English",25.27,18.95,"133.1--dc23","32 pp.",{"$f":"Table1[[#This Row],[QTY]]*Table1[[#This Row],['# of Books]]","v":0},{"$f":"Table1[[#This Row],[QTY]]*Table1[[#This Row],[School & Library Price]]","v":0}]
[null,null,null,28,"I Want to Know","Are Ghosts Real?",1,"eBook","978-0-7660-8239-7",2017,"January 2017",null,"Author","Heather Moore Niver",null,null,null,null,"O",null,"Grade 3","Grade 3 - 5","Haunted houses, spirits, and ghosts are explored through historical accounts, personal experiences, photographs, and legendary stories. Full-color images and a fun design will keep even reluctant readers interested, while a glossary strengthens vocabulary. Then, readers can come to their own conclusions.","English",25.27,18.95,"133.1--dc23","32 pp.",{"$f":"Table1[[#This Row],[QTY]]*Table1[[#This Row],['# of Books]]","v":0},{"$f":"Table1[[#This Row],[QTY]]*Table1[[#This Row],[School & Library Price]]","v":0}]
[null,null,null,28,"I Want to Know","Are Mermaids Real?",1,"Library Bound Book","978-0-7660-8242-7",2017,"January 2017","7.125 X 8.500","Author, Author","Portia Summers, Dana Meachen Rau",null,null,null,null,"O",null,"Grade 3","Grade 3 - 5","Exploring legends from across the globe, this narrative text presents the story of the mermaid, offering possible scientific explanations for the myths. Bright images and a playful design will keep even the most reluctant readers interested, while a glossary helps build vocabulary. A broad spectrum of ideas encourages critical thinking.","English",25.27,18.95,"398.21--dc23","32 pp.",{"$f":"Table1[[#This Row],[QTY]]*Table1[[#This Row],['# of Books]]","v":0},{"$f":"Table1[[#This Row],[QTY]]*Table1[[#This Row],[School & Library Price]]","v":0}]
[null,null,null,28,"I Want to Know","Are Mermaids Real?",1,"eBook","978-0-7660-8243-4",2017,"January 2017",null,"Author, Author","Portia Summers, Dana Meachen Rau",null,null,null,null,"O",null,"Grade 3","Grade 3 - 5","Exploring legends from across the globe, this narrative text presents the story of the mermaid, offering possible scientific explanations for the myths. Bright images and a playful design will keep even the most reluctant readers interested, while a glossary helps build vocabulary. A broad spectrum of ideas encourages critical thinking.","English",25.27,18.95,"398.21--dc23","32 pp.",{"$f":"Table1[[#This Row],[QTY]]*Table1[[#This Row],['# of Books]]","v":0},{"$f":"Table1[[#This Row],[QTY]]*Table1[[#This Row],[School & Library Price]]","v":0}]
[null,null,null,28,"I Want to Know","Are Monsters Real?",1,"Library Bound Book","978-0-7660-8246-5",2017,"January 2017","7.125 X 8.500","Author, Author","Portia Summers, Dana Meachen Rau",null,null,null,null,"P",null,"Grade 3","Grade 3 - 5","Delving into myths and legends from across many cultures, this narrative text presents classic legends side by side with possible scientific explanations. Vivid images and a dynamic design will keep even the most reluctant readers interested, while a glossary allows readers to build vocabulary. Then, readers can examine the evidence and decide for themselves.","English",25.27,18.95,"001.944--dc23","32 pp.",{"$f":"Table1[[#This Row],[QTY]]*Table1[[#This Row],['# of Books]]","v":0},{"$f":"Table1[[#This Row],[QTY]]*Table1[[#This Row],[School & Library Price]]","v":0}]
[null,null,null,28,"I Want to Know","Are Monsters Real?",1,"eBook","978-0-7660-8247-2",2017,"January 2017",null,"Author, Author","Portia Summers, Dana Meachen Rau",null,null,null,null,"P",null,"Grade 3","Grade 3 - 5","Delving into myths and legends from across many cultures, this narrative text presents classic legends side by side with possible scientific explanations. Vivid images and a dynamic design will keep even the most reluctant readers interested, while a glossary allows readers to build vocabulary. Then, readers can examine the evidence and decide for themselves.","English",25.27,18.95,"001.944--dc23","32 pp.",{"$f":"Table1[[#This Row],[QTY]]*Table1[[#This Row],['# of Books]]","v":0},{"$f":"Table1[[#This Row],[QTY]]*Table1[[#This Row],[School & Library Price]]","v":0}]
[null,null,null,28,"I Want to Know","Are Unicorns Real?",1,"Library Bound Book","978-0-7660-8250-2",2017,"January 2017","7.125 X 8.500","Author, Author","Portia Summers, Dana Meachen Rau",null,null,null,null,"N",null,"Grade 3","Grade 3 - 5","Exploring stories about unicorns from around the globe, this narrative text presents myths and legends in an easy-to-follow narrative voice in conjunction with possible scientific explanations. Bright images and a playful design will keep even the most reluctant readers interested, while a glossary allows readers to build upon their vocabulary.","English",25.27,18.95,"398.24/54--dc23","32 pp.",{"$f":"Table1[[#This Row],[QTY]]*Table1[[#This Row],['# of Books]]","v":0},{"$f":"Table1[[#This Row],[QTY]]*Table1[[#This Row],[School & Library Price]]","v":0}]
[null,null,null,28,"I Want to Know","Are Unicorns Real?",1,"eBook","978-0-7660-8251-9",2017,"January 2017",null,"Author, Author","Portia Summers, Dana Meachen Rau",null,null,null,null,"N",null,"Grade 3","Grade 3 - 5","Exploring stories about unicorns from around the globe, this narrative text presents myths and legends in an easy-to-follow narrative voice in conjunction with possible scientific explanations. Bright images and a playful design will keep even the most reluctant readers interested, while a glossary allows readers to build upon their vocabulary.","English",25.27,18.95,"398.24/54--dc23","32 pp.",{"$f":"Table1[[#This Row],[QTY]]*Table1[[#This Row],['# of Books]]","v":0},{"$f":"Table1[[#This Row],[QTY]]*Table1[[#This Row],[School & Library Price]]","v":0}]
[null,null,null,28,"I Want to Know","I Want to Know: Sets 1 – 2",12,"Library Set","978-0-7660-9203-7",2018,"January 2018","7.125 X 8.500"," "," ",null,null,null,null,null,null,"Grade 3","Grade 3 - 6","Mythology and cryptozoology continue to make their way into our mainstream culture. This leaves many students wondering about the existence of such entities as unicorns, dragons, and aliens. Readers also often wonder if characters like Sherlock Holmes, Moby Dick and Captain Ahab, King Arthur, and Dracula have any basis in history. Using easy-to-understand text and full-color photographs, this thrilling series dives into the world of mythology, legend, and fiction and tracks down the facts about ghosts, monsters, mermaids, vampires, and kings. Possible scientific explanations for sightings and experiences are also provided as are historical accounts, giving each reader the opportunity to decide for him or herself. Features include: High-interest topics. \"Fast Facts\" give the reader details about the cultures and traditions of each mythological creature or the basis in fact for certain legends and legendary literary figures. Explores and compares myths of different cultures or legends and literary figures in each book. \"Words to Know\" section helps readers learn new vocabulary. \"Further Reading\" section encourages readers to further explore the subject.","English",303.24,227.4,null,"32 pp.",{"$f":"Table1[[#This Row],[QTY]]*Table1[[#This Row],['# of Books]]","v":0},{"$f":"Table1[[#This Row],[QTY]]*Table1[[#This Row],[School & Library Price]]","v":0}]
[null,null,null,28,"I Want to Know","I Want to Know: Set 2",6,"Library Set","978-0-7660-9202-0",2018,"January 2018","7.125 X 8.500"," "," ",null,null,null,null,null,null,"Grade 3","Grade 3 - 6","Believe it or not, larger-than-life characters and places from stories often have roots in reality. Did you know that Count Dracula was based on the fifteenth-century Transylvanian prince Vlad the Impaler? He was infamous for his cruelty...but did he really drink blood? Through exciting, easy-to-understand texts and vibrant full-color photographs, students will dive into the captivating world of mythology and literature and discover fascinating facts about the legends of Atlantis, King Arthur, Moby Dick, and more. After a peek into the origins of these tales, young readers will be able to decide what's fact and what's fiction, with all being truly fascinating.","English",151.62,113.7,null,"32 pp.",{"$f":"Table1[[#This Row],[QTY]]*Table1[[#This Row],['# of Books]]","v":0},{"$f":"Table1[[#This Row],[QTY]]*Table1[[#This Row],[School & Library Price]]","v":0}]
[null,null,null,28,"I Want to Know","Was Atlantis Real?",1,"Library Bound Book","978-0-7660-9201-3",2018,"January 2018","7.125 X 8.500","Author","Portia Summers",null,null,null,null,"L",null,"Grade 3","Grade 3 - 6","Already a legend during the time of the ancient Greeks, the story of Atlantis told of a sophisticated civilization that disappeared underwater. Civilizations and floods have been talked about for centuries, across many cultures and continents. Readers will discover the many stories of underwater cities and how they have been discussed over the years. Vibrant images and fast facts will help readers further explore the legend of Atlantis, and curious minds will be encouraged to answer the question for themselves.","English",25.27,18.95,"001.94--dc23","32 pp.",{"$f":"Table1[[#This Row],[QTY]]*Table1[[#This Row],['# of Books]]","v":0},{"$f":"Table1[[#This Row],[QTY]]*Table1[[#This Row],[School & Library Price]]","v":0}]
[null,null,null,28,"I Want to Know","Was Atlantis Real?",1,"eBook","978-0-7660-9337-9",2018,"January 2018",null,"Author","Portia Summers",null,null,null,null,"L",null,"Grade 3","Grade 3 - 6","Already a legend during the time of the ancient Greeks, the story of Atlantis told of a sophisticated civilization that disappeared underwater. Civilizations and floods have been talked about for centuries, across many cultures and continents. Readers will discover the many stories of underwater cities and how they have been discussed over the years. Vibrant images and fast facts will help readers further explore the legend of Atlantis, and curious minds will be encouraged to answer the question for themselves.","English",25.27,18.95,"001.94--dc23","32 pp.",{"$f":"Table1[[#This Row],[QTY]]*Table1[[#This Row],['# of Books]]","v":0},{"$f":"Table1[[#This Row],[QTY]]*Table1[[#This Row],[School & Library Price]]","v":0}]
[null,null,null,28,"I Want to Know","Was Count Dracula Real?",1,"Library Bound Book","978-0-7660-9196-2",2018,"January 2018","7.125 X 8.500","Author","Heather Moore Niver",null,null,null,null,"M",null,"Grade 3","Grade 3 - 6","Count Dracula strikes a memorable figure with his dark swooping cape, pale skin, and gleaming sharp teeth. He has lurked in the shadows of fiction as well as film, giving more than a few people goosebumps through the years. Author Bram Stoker certainly made this image of Dracula popular, but this illuminating resource will shed light on the flesh-and-blood origins of the creepy count. Fast facts also flesh out the alluring lore that has contributed to the image of the vampire, which is so common today.","English",25.27,18.95,"949.8/014092--dc23","32 pp.",{"$f":"Table1[[#This Row],[QTY]]*Table1[[#This Row],['# of Books]]","v":0},{"$f":"Table1[[#This Row],[QTY]]*Table1[[#This Row],[School & Library Price]]","v":0}]
[null,null,null,28,"I Want to Know","Was Count Dracula Real?",1,"eBook","978-0-7660-9333-1",2018,"January 2018",null,"Author","Heather Moore Niver",null,null,null,null,"M",null,"Grade 3","Grade 3 - 6","Count Dracula strikes a memorable figure with his dark swooping cape, pale skin, and gleaming sharp teeth. He has lurked in the shadows of fiction as well as film, giving more than a few people goosebumps through the years. Author Bram Stoker certainly made this image of Dracula popular, but this illuminating resource will shed light on the flesh-and-blood origins of the creepy count. Fast facts also flesh out the alluring lore that has contributed to the image of the vampire, which is so common today.","English",25.27,18.95,"949.8/014092--dc23","32 pp.",{"$f":"Table1[[#This Row],[QTY]]*Table1[[#This Row],['# of Books]]","v":0},{"$f":"Table1[[#This Row],[QTY]]*Table1[[#This Row],[School & Library Price]]","v":0}]
[null,null,null,28,"I Want to Know","Was Dr. Frankenstein Real?",1,"Library Bound Book","978-0-7660-9198-6",2018,"January 2018","7.125 X 8.500","Author","Therese M. Shea",null,null,null,null,"N",null,"Grade 3","Grade 3 - 6","The Frankenstein monster is an icon of horror. Even the youngest trick-or-treaters recognize Frankenstein's green-skinned costume. However, many people are surprised to know this monster's name is not actually Frankenstein. That's the name of its creator, Dr. Victor Frankenstein, from the nineteenth-century novel written by Mary Shelley. This fictitious doctor, one of the first \"mad scientists,\" was based on real-life researchers and their experiments. This compelling volume examines the work of Shelley and its possible inspirations in the world of science. The high-interest topic, thought-provoking sidebars, fun fact boxes, and historical images will attract all levels of readers.","English",25.27,18.95,"823/.7--dc23","32 pp.",{"$f":"Table1[[#This Row],[QTY]]*Table1[[#This Row],['# of Books]]","v":0},{"$f":"Table1[[#This Row],[QTY]]*Table1[[#This Row],[School & Library Price]]","v":0}]
[null,null,null,28,"I Want to Know","Was Dr. Frankenstein Real?",1,"eBook","978-0-7660-9335-5",2018,"January 2018",null,"Author","Therese M. Shea",null,null,null,null,"N",null,"Grade 3","Grade 3 - 6","The Frankenstein monster is an icon of horror. Even the youngest trick-or-treaters recognize Frankenstein's green-skinned costume. However, many people are surprised to know this monster's name is not actually Frankenstein. That's the name of its creator, Dr. Victor Frankenstein, from the nineteenth-century novel written by Mary Shelley. This fictitious doctor, one of the first \"mad scientists,\" was based on real-life researchers and their experiments. This compelling volume examines the work of Shelley and its possible inspirations in the world of science. The high-interest topic, thought-provoking sidebars, fun fact boxes, and historical images will attract all levels of readers.","English",25.27,18.95,"823/.7--dc23","32 pp.",{"$f":"Table1[[#This Row],[QTY]]*Table1[[#This Row],['# of Books]]","v":0},{"$f":"Table1[[#This Row],[QTY]]*Table1[[#This Row],[School & Library Price]]","v":0}]
[null,null,null,28,"I Want to Know","Was King Arthur Real?",1,"Library Bound Book","978-0-7660-9200-6",2018,"January 2018","7.125 X 8.500","Author","Portia Summers",null,null,null,null,"M",null,"Grade 3","Grade 3 - 6","The legend of King Arthur has been told for generations. It epitomizes a mythical time when kings and knights lived in castles and went on quests, when damsels needed saving, and magic lurked around every corner. This book will bring the legend of King Arthur to light and allow readers to learn about the different stories that surround King Arthur and his Knights of the Round Table. Readers will learn if this legendary king was a historical figure. Fast facts and captivating photographs will help readers further explore Camelot, and encourage them to dive deeper into the stories of King Arthur and his court.","English",25.27,18.95,"942.01/4--dc23","32 pp.",{"$f":"Table1[[#This Row],[QTY]]*Table1[[#This Row],['# of Books]]","v":0},{"$f":"Table1[[#This Row],[QTY]]*Table1[[#This Row],[School & Library Price]]","v":0}]
[null,null,null,28,"I Want to Know","Was King Arthur Real?",1,"eBook","978-0-7660-9338-6",2018,"January 2018",null,"Author","Portia Summers",null,null,null,null,"M",null,"Grade 3","Grade 3 - 6","The legend of King Arthur has been told for generations. It epitomizes a mythical time when kings and knights lived in castles and went on quests, when damsels needed saving, and magic lurked around every corner. This book will bring the legend of King Arthur to light and allow readers to learn about the different stories that surround King Arthur and his Knights of the Round Table. Readers will learn if this legendary king was a historical figure. Fast facts and captivating photographs will help readers further explore Camelot, and encourage them to dive deeper into the stories of King Arthur and his court.","English",25.27,18.95,"942.01/4--dc23","32 pp.",{"$f":"Table1[[#This Row],[QTY]]*Table1[[#This Row],['# of Books]]","v":0},{"$f":"Table1[[#This Row],[QTY]]*Table1[[#This Row],[School & Library Price]]","v":0}]
[null,null,null,28,"I Want to Know","Was Moby Dick Real?",1,"Library Bound Book","978-0-7660-9197-9",2018,"January 2018","7.125 X 8.500","Author","Laura Baskes Litwin",null,null,null,null,"P",null,"Grade 3","Grade 3 - 6","The tale of the giant white whale immortalized in Herman Melville's classic 1851 novel was inspired by horrifying real events: the shipwreck of a whaling boat and the desperate efforts of its twenty-man crew to survive. With accessible text and vivid full-color imagery, this engrossing volume investigates both the legend and the true story behind Moby Dick. Entertaining fast facts and insightful sidebars will keep elementary-level readers engaged throughout. A Further Reading list with books and websites encourages further exploration.","English",25.27,18.95,"813/.3--dc23","32 pp.",{"$f":"Table1[[#This Row],[QTY]]*Table1[[#This Row],['# of Books]]","v":0},{"$f":"Table1[[#This Row],[QTY]]*Table1[[#This Row],[School & Library Price]]","v":0}]
[null,null,null,28,"I Want to Know","Was Moby Dick Real?",1,"eBook","978-0-7660-9334-8",2018,"January 2018",null,"Author","Laura Baskes Litwin",null,null,null,null,"P",null,"Grade 3","Grade 3 - 6","The tale of the giant white whale immortalized in Herman Melville's classic 1851 novel was inspired by horrifying real events: the shipwreck of a whaling boat and the desperate efforts of its twenty-man crew to survive. With accessible text and vivid full-color imagery, this engrossing volume investigates both the legend and the true story behind Moby Dick. Entertaining fast facts and insightful sidebars will keep elementary-level readers engaged throughout. A Further Reading list with books and websites encourages further exploration.","English",25.27,18.95,"813/.3--dc23","32 pp.",{"$f":"Table1[[#This Row],[QTY]]*Table1[[#This Row],['# of Books]]","v":0},{"$f":"Table1[[#This Row],[QTY]]*Table1[[#This Row],[School & Library Price]]","v":0}]
[null,null,null,28,"I Want to Know","Was Sherlock Holmes Real?",1,"Library Bound Book","978-0-7660-9199-3",2018,"January 2018","7.125 X 8.500","Author","Heather Moore Niver",null,null,null,null,"O",null,"Grade 3","Grade 3 - 6","The quirky sleuth Sherlock Holmes has been a popular character on the page and stage, as well as on television and in movies. Made famous by Scottish writer Sir Arthur Conan Doyle, Holmes became a model for many future detectives. Readers will learn whether this character came from the brilliant mind of his writer or if Sherlock's sometimes outrageous means of solving cases were actually those of a real-life detective. Fast facts add entertaining and informative clues to help readers solve this mystery for themselves.","English",25.27,18.95,"823/.8--dc23","32 pp.",{"$f":"Table1[[#This Row],[QTY]]*Table1[[#This Row],['# of Books]]","v":0},{"$f":"Table1[[#This Row],[QTY]]*Table1[[#This Row],[School & Library Price]]","v":0}]
[null,null,null,28,"I Want to Know","Was Sherlock Holmes Real?",1,"eBook","978-0-7660-9336-2",2018,"January 2018",null,"Author","Heather Moore Niver",null,null,null,null,"O",null,"Grade 3","Grade 3 - 6","The quirky sleuth Sherlock Holmes has been a popular character on the page and stage, as well as on television and in movies. Made famous by Scottish writer Sir Arthur Conan Doyle, Holmes became a model for many future detectives. Readers will learn whether this character came from the brilliant mind of his writer or if Sherlock's sometimes outrageous means of solving cases were actually those of a real-life detective. Fast facts add entertaining and informative clues to help readers solve this mystery for themselves.","English",25.27,18.95,"823/.8--dc23","32 pp.",{"$f":"Table1[[#This Row],[QTY]]*Table1[[#This Row],['# of Books]]","v":0},{"$f":"Table1[[#This Row],[QTY]]*Table1[[#This Row],[School & Library Price]]","v":0}]
[null,null,null,29,"Mastering Math Word Problems","Mastering Math Word Problems",6,"Library Set","978-0-7660-8468-1",2017,"January 2017","7.250 X 9.250",null,null,null,null,null,null,null,null,"Grade 3 - 4","Grade 3 - 5","Using simple language and everyday situations, these books help elementary readers with word problems and basic math skills. Each book covers a different mathematical subject and has a different theme. Full-color photos correlate with text and problem-solving tips are included .","English",167.58,125.7,null,"48 pp.",{"$f":"Table1[[#This Row],[QTY]]*Table1[[#This Row],['# of Books]]","v":0},{"$f":"Table1[[#This Row],[QTY]]*Table1[[#This Row],[School & Library Price]]","v":0}]
[null,null,null,29,"Mastering Math Word Problems","Word Problems Using Addition and Subtraction",1,"Library Bound Book","978-0-7660-8254-0",2017,"January 2017","7.250 X 9.250","Author, Author","Zella Williams, Rebecca Wingard-Nelson",null,null,null,null,"T",null,"Grade 3 - 4","Grade 3 - 5","Word problems can be daunting for students, young and old alike. This book teaches students to break the solving process into four simple steps. They learn that every problem has clue words to tell them which operation to use, and easy-to-follow sample problems—all related to animals—give readers the confidence to solve new problems on their own. A tips section helps encourage readers to try their best, to ask for help, and to keep practicing.","English",27.93,20.95,"513.2--dc23","48 pp.",{"$f":"Table1[[#This Row],[QTY]]*Table1[[#This Row],['# of Books]]","v":0},{"$f":"Table1[[#This Row],[QTY]]*Table1[[#This Row],[School & Library Price]]","v":0}]
[null,null,null,29,"Mastering Math Word Problems","Word Problems Using Addition and Subtraction",1,"eBook","978-0-7660-8255-7",2017,"January 2017",null,"Author, Author","Zella Williams, Rebecca Wingard-Nelson",null,null,null,null,"T",null,"Grade 3 - 4","Grade 3 - 5","Word problems can be daunting for students, young and old alike. This book teaches students to break the solving process into four simple steps. They learn that every problem has clue words to tell them which operation to use, and easy-to-follow sample problems—all related to animals—give readers the confidence to solve new problems on their own. A tips section helps encourage readers to try their best, to ask for help, and to keep practicing.","English",27.93,20.95,"513.2--dc23","48 pp.",{"$f":"Table1[[#This Row],[QTY]]*Table1[[#This Row],['# of Books]]","v":0},{"$f":"Table1[[#This Row],[QTY]]*Table1[[#This Row],[School & Library Price]]","v":0}]
[null,null,null,29,"Mastering Math Word Problems","Word Problems Using Decimals and Percentages",1,"Library Bound Book","978-0-7660-8258-8",2017,"January 2017","7.250 X 9.250","Author, Author","Zella Williams, Rebecca Wingard-Nelson",null,null,null,null,"U",null,"Grade 3 - 4","Grade 3 - 5","Straightforward yet engaging text and attainable, sports-related examples will help even the most reluctant math student tackle word problems using decimals and percentages. Full-color photos help connect math to the real world, and the inviting design supports understanding while drawing readers in. A Words to Know section defines any unfamiliar terms to allow readers to fully engage with the text.","English",27.93,20.95,"513.2/45--dc23","48 pp.",{"$f":"Table1[[#This Row],[QTY]]*Table1[[#This Row],['# of Books]]","v":0},{"$f":"Table1[[#This Row],[QTY]]*Table1[[#This Row],[School & Library Price]]","v":0}]
[null,null,null,29,"Mastering Math Word Problems","Word Problems Using Decimals and Percentages",1,"eBook","978-0-7660-8259-5",2017,"January 2017",null,"Author, Author","Zella Williams, Rebecca Wingard-Nelson",null,null,null,null,"U",null,"Grade 3 - 4","Grade 3 - 5","Straightforward yet engaging text and attainable, sports-related examples will help even the most reluctant math student tackle word problems using decimals and percentages. Full-color photos help connect math to the real world, and the inviting design supports understanding while drawing readers in. A Words to Know section defines any unfamiliar terms to allow readers to fully engage with the text.","English",27.93,20.95,"513.2/45--dc23","48 pp.",{"$f":"Table1[[#This Row],[QTY]]*Table1[[#This Row],['# of Books]]","v":0},{"$f":"Table1[[#This Row],[QTY]]*Table1[[#This Row],[School & Library Price]]","v":0}]
[null,null,null,29,"Mastering Math Word Problems","Word Problems Using Fractions",1,"Library Bound Book","978-0-7660-8262-5",2017,"January 2017","7.250 X 9.250","Author, Author","Zella Williams, Rebecca Wingard-Nelson",null,null,null,null,"U",null,"Grade 3 - 4","Grade 3 - 5","Not everyone loves word problems or fractions, but everyone loves food! Every sample problem relates to kids’ favorite snacks. Even better, each problem is broken down into four easy-to-follow steps, with tips and pointers on how to successfully solve the problem and apply the same strategies to other problems. Design elements aid in understanding the math concepts, and lively, color photographs pull the reader in.","English",27.93,20.95,"513.2/6--dc23","48 pp.",{"$f":"Table1[[#This Row],[QTY]]*Table1[[#This Row],['# of Books]]","v":0},{"$f":"Table1[[#This Row],[QTY]]*Table1[[#This Row],[School & Library Price]]","v":0}]
[null,null,null,29,"Mastering Math Word Problems","Word Problems Using Fractions",1,"eBook","978-0-7660-8263-2",2017,"January 2017",null,"Author, Author","Zella Williams, Rebecca Wingard-Nelson",null,null,null,null,"U",null,"Grade 3 - 4","Grade 3 - 5","Not everyone loves word problems or fractions, but everyone loves food! Every sample problem relates to kids’ favorite snacks. Even better, each problem is broken down into four easy-to-follow steps, with tips and pointers on how to successfully solve the problem and apply the same strategies to other problems. Design elements aid in understanding the math concepts, and lively, color photographs pull the reader in.","English",27.93,20.95,"513.2/6--dc23","48 pp.",{"$f":"Table1[[#This Row],[QTY]]*Table1[[#This Row],['# of Books]]","v":0},{"$f":"Table1[[#This Row],[QTY]]*Table1[[#This Row],[School & Library Price]]","v":0}]
[null,null,null,29,"Mastering Math Word Problems","Word Problems Using Multiplication and Division",1,"Library Bound Book","978-0-7660-8266-3",2017,"January 2017","7.250 X 9.250","Author, Author","Zella Williams, Rebecca Wingard-Nelson",null,null,null,null,"U",null,"Grade 3 - 4","Grade 3 - 5","This book makes multiplication and division word problems fun using facts about big trucks and cars. The tips section takes the mystery out of word problems, making them accessible to even reluctant mathematicians. Sample problems highlight the clue words that word problems use to help students solve them. The vibrant photos and highly approachable text will encourage readers to think differently about word problems, and readers will close the book feeling new confidence in their abilities to solve word problems using multiplication and division.","English",27.93,20.95,"513.2’13—dc23","48 pp.",{"$f":"Table1[[#This Row],[QTY]]*Table1[[#This Row],['# of Books]]","v":0},{"$f":"Table1[[#This Row],[QTY]]*Table1[[#This Row],[School & Library Price]]","v":0}]
[null,null,null,29,"Mastering Math Word Problems","Word Problems Using Multiplication and Division",1,"eBook","978-0-7660-8267-0",2017,"January 2017",null,"Author, Author","Zella Williams, Rebecca Wingard-Nelson",null,null,null,null,"U",null,"Grade 3 - 4","Grade 3 - 5","This book makes multiplication and division word problems fun using facts about big trucks and cars. The tips section takes the mystery out of word problems, making them accessible to even reluctant mathematicians. Sample problems highlight the clue words that word problems use to help students solve them. The vibrant photos and highly approachable text will encourage readers to think differently about word problems, and readers will close the book feeling new confidence in their abilities to solve word problems using multiplication and division.","English",27.93,20.95,"513.2’13—dc23","48 pp.",{"$f":"Table1[[#This Row],[QTY]]*Table1[[#This Row],['# of Books]]","v":0},{"$f":"Table1[[#This Row],[QTY]]*Table1[[#This Row],[School & Library Price]]","v":0}]
[null,null,null,29,"Mastering Math Word Problems","Word Problems Using Operations and Algebraic Thinking",1,"Library Bound Book","978-0-7660-8270-0",2017,"January 2017","7.250 X 9.250","Author, Author","Zella Williams, Rebecca Wingard-Nelson",null,null,null,null,"V",null,"Grade 3 - 4","Grade 3 - 5","Word problems using operations and algebraic thinking may sound dry and boring, but not when they are done at the amusement park. Each sample problem connects to real-life examples a young person might come across at the park. Text is accessible and engaging but also provides real math content and challenges.","English",27.93,20.95,"512.9--dc23","48 pp.",{"$f":"Table1[[#This Row],[QTY]]*Table1[[#This Row],['# of Books]]","v":0},{"$f":"Table1[[#This Row],[QTY]]*Table1[[#This Row],[School & Library Price]]","v":0}]
[null,null,null,29,"Mastering Math Word Problems","Word Problems Using Operations and Algebraic Thinking",1,"eBook","978-0-7660-8271-7",2017,"January 2017",null,"Author, Author","Zella Williams, Rebecca Wingard-Nelson",null,null,null,null,"V",null,"Grade 3 - 4","Grade 3 - 5","Word problems using operations and algebraic thinking may sound dry and boring, but not when they are done at the amusement park. Each sample problem connects to real-life examples a young person might come across at the park. Text is accessible and engaging but also provides real math content and challenges.","English",27.93,20.95,"512.9--dc23","48 pp.",{"$f":"Table1[[#This Row],[QTY]]*Table1[[#This Row],['# of Books]]","v":0},{"$f":"Table1[[#This Row],[QTY]]*Table1[[#This Row],[School & Library Price]]","v":0}]
[null,null,null,29,"Mastering Math Word Problems","Word Problems Using Ratios and Proportions",1,"Library Bound Book","978-0-7660-8274-8",2017,"January 2017","7.250 X 9.250","Author, Author","Zella Williams, Rebecca Wingard-Nelson",null,null,null,null,"V",null,"Grade 3 - 4","Grade 3 - 5","Ratios and proportions are good ways to break down and understand really big numbers, and the numbers don’t get any bigger than they do in outer space. This book brings young mathematicians on a space odyssey that will ultimately end with them gaining a greater understanding of how to solve word problems using ratios and proportions—and they might even learn a little science along the way. A tips section helps break down the problem-solving process into manageable steps designed to build confidence. These steps are repeated in every problem, helping reinforce the concepts and make them second nature.","English",27.93,20.95,"513.2/4--dc23","48 pp.",{"$f":"Table1[[#This Row],[QTY]]*Table1[[#This Row],['# of Books]]","v":0},{"$f":"Table1[[#This Row],[QTY]]*Table1[[#This Row],[School & Library Price]]","v":0}]
[null,null,null,29,"Mastering Math Word Problems","Word Problems Using Ratios and Proportions",1,"eBook","978-0-7660-8275-5",2017,"January 2017",null,"Author, Author","Zella Williams, Rebecca Wingard-Nelson",null,null,null,null,"V",null,"Grade 3 - 4","Grade 3 - 5","Ratios and proportions are good ways to break down and understand really big numbers, and the numbers don’t get any bigger than they do in outer space. This book brings young mathematicians on a space odyssey that will ultimately end with them gaining a greater understanding of how to solve word problems using ratios and proportions—and they might even learn a little science along the way. A tips section helps break down the problem-solving process into manageable steps designed to build confidence. These steps are repeated in every problem, helping reinforce the concepts and make them second nature.","English",27.93,20.95,"513.2/4--dc23","48 pp.",{"$f":"Table1[[#This Row],[QTY]]*Table1[[#This Row],['# of Books]]","v":0},{"$f":"Table1[[#This Row],[QTY]]*Table1[[#This Row],[School & Library Price]]","v":0}]
[null,null,null,30,"The Weather Report","The Weather Report",6,"Library Set","978-0-7660-9035-4",2018,"August 2017","8.500 X 7.125",null,null,null,null,null,null,null,null,"Grade 3","Grade 3 - 5","Weather is part of our daily lives. Indeed, watching the weather or checking a weather app on a phone or computer is part of most people's daily routine. Various weather phenomenon, including storms and the northern lights, and key players in the formation of weather, such as air pressure and the jet stream, are covered in-depth through a fun, captivating format and fact-laden text.","English",151.62,113.7,null,"32 pp.",{"$f":"Table1[[#This Row],[QTY]]*Table1[[#This Row],['# of Books]]","v":0},{"$f":"Table1[[#This Row],[QTY]]*Table1[[#This Row],[School & Library Price]]","v":0}]
[null,null,null,30,"The Weather Report","Air Pressure Driving the Weather!",1,"Library Bound Book","978-0-7660-9007-1",2018,"August 2017","8.500 X 7.125","Edited by","Joanne Randolph",null,null,null,null,"P",null,"Grade 3","Grade 3 - 5","As one of the five elements of weather, air pressure is the driving force behind shifting weather patterns. Readers discover how high and low pressure areas work and the ways in which hot and cold air vie against each other every day, shaping our weather. A “Learn More” section will direct students to further information resources, and a detailed index serves as a quick reference to what is contained in the book (and where to find it).","English",25.27,18.95,"551.5/4--dc23","32 pp.",{"$f":"Table1[[#This Row],[QTY]]*Table1[[#This Row],['# of Books]]","v":0},{"$f":"Table1[[#This Row],[QTY]]*Table1[[#This Row],[School & Library Price]]","v":0}]
[null,null,null,30,"The Weather Report","Air Pressure Driving the Weather!",1,"eBook","978-0-7660-9008-8",2018,"August 2017",null,"Edited by","Joanne Randolph",null,null,null,null,"P",null,"Grade 3","Grade 3 - 5","As one of the five elements of weather, air pressure is the driving force behind shifting weather patterns. Readers discover how high and low pressure areas work and the ways in which hot and cold air vie against each other every day, shaping our weather. A “Learn More” section will direct students to further information resources, and a detailed index serves as a quick reference to what is contained in the book (and where to find it).","English",25.27,18.95,"551.5/4--dc23","32 pp.",{"$f":"Table1[[#This Row],[QTY]]*Table1[[#This Row],['# of Books]]","v":0},{"$f":"Table1[[#This Row],[QTY]]*Table1[[#This Row],[School & Library Price]]","v":0}]
[null,null,null,30,"The Weather Report","Extreme Weather Ahead!",1,"Library Bound Book","978-0-7660-9011-8",2018,"August 2017","8.500 X 7.125","Edited by","Joanne Randolph",null,null,null,null,"O",null,"Grade 3","Grade 3 - 5","With climate change seeming to become an increasingly undeniable reality, we find ourselves facing more extreme weather than ever before. This title take a look at some examples of extreme weather, such as droughts and supercell thunder storms, and how and why they form.","English",25.27,18.95,"551.55--dc23","32 pp.",{"$f":"Table1[[#This Row],[QTY]]*Table1[[#This Row],['# of Books]]","v":0},{"$f":"Table1[[#This Row],[QTY]]*Table1[[#This Row],[School & Library Price]]","v":0}]
[null,null,null,30,"The Weather Report","Extreme Weather Ahead!",1,"eBook","978-0-7660-9012-5",2018,"August 2017",null,"Edited by","Joanne Randolph",null,null,null,null,"O",null,"Grade 3","Grade 3 - 5","With climate change seeming to become an increasingly undeniable reality, we find ourselves facing more extreme weather than ever before. This title take a look at some examples of extreme weather, such as droughts and supercell thunder storms, and how and why they form.","English",25.27,18.95,"551.55--dc23","32 pp.",{"$f":"Table1[[#This Row],[QTY]]*Table1[[#This Row],['# of Books]]","v":0},{"$f":"Table1[[#This Row],[QTY]]*Table1[[#This Row],[School & Library Price]]","v":0}]
[null,null,null,30,"The Weather Report","Hurricane Warning!",1,"Library Bound Book","978-0-7660-9015-6",2018,"August 2017","8.500 X 7.125","Edited by","Joanne Randolph",null,null,null,null,"O",null,"Grade 3","Grade 3 - 5","This title provides readers with a solid understanding of what a hurricane is and how it forms. It also provides information about how meteorologists track storms and the instruments they use to study and collect data about them. Readers will be blown away by the fascinating text, supported by full-color photographs and an eye-catching design.","English",25.27,18.95,"551.55/2--dc23","32 pp.",{"$f":"Table1[[#This Row],[QTY]]*Table1[[#This Row],['# of Books]]","v":0},{"$f":"Table1[[#This Row],[QTY]]*Table1[[#This Row],[School & Library Price]]","v":0}]
[null,null,null,30,"The Weather Report","Hurricane Warning!",1,"eBook","978-0-7660-9016-3",2018,"August 2017",null,"Edited by","Joanne Randolph",null,null,null,null,"O",null,"Grade 3","Grade 3 - 5","This title provides readers with a solid understanding of what a hurricane is and how it forms. It also provides information about how meteorologists track storms and the instruments they use to study and collect data about them. Readers will be blown away by the fascinating text, supported by full-color photographs and an eye-catching design.","English",25.27,18.95,"551.55/2--dc23","32 pp.",{"$f":"Table1[[#This Row],[QTY]]*Table1[[#This Row],['# of Books]]","v":0},{"$f":"Table1[[#This Row],[QTY]]*Table1[[#This Row],[School & Library Price]]","v":0}]
[null,null,null,30,"The Weather Report","Jet Stream Steering the Winds!",1,"Library Bound Book","978-0-7660-9019-4",2018,"August 2017","8.500 X 7.125","Edited by","Joanne Randolph",null,null,null,null,"P",null,"Grade 3","Grade 3 - 5","This title introduces readers to the jet stream and examines how it impacts the formation of winds and weather. Diagrams and full-color photos draw in even the most reluctant readers and the informative text will keep them turning the pages.","English",25.27,18.95,"551.51/87--dc23","32 pp.",{"$f":"Table1[[#This Row],[QTY]]*Table1[[#This Row],['# of Books]]","v":0},{"$f":"Table1[[#This Row],[QTY]]*Table1[[#This Row],[School & Library Price]]","v":0}]
[null,null,null,30,"The Weather Report","Jet Stream Steering the Winds!",1,"eBook","978-0-7660-9020-0",2018,"August 2017",null,"Edited by","Joanne Randolph",null,null,null,null,"P",null,"Grade 3","Grade 3 - 5","This title introduces readers to the jet stream and examines how it impacts the formation of winds and weather. Diagrams and full-color photos draw in even the most reluctant readers and the informative text will keep them turning the pages.","English",25.27,18.95,"551.51/87--dc23","32 pp.",{"$f":"Table1[[#This Row],[QTY]]*Table1[[#This Row],['# of Books]]","v":0},{"$f":"Table1[[#This Row],[QTY]]*Table1[[#This Row],[School & Library Price]]","v":0}]
[null,null,null,30,"The Weather Report","Northern Lights Sighting!",1,"Library Bound Book","978-0-7660-9023-1",2018,"August 2017","8.500 X 7.125","Edited by","Joanne Randolph",null,null,null,null,"P",null,"Grade 3","Grade 3 - 5","The mysterious lights of the aurora borealis are a thing of legend. Some people live where they can see this phenomenon nearly every night, while others of us can only imagine what it must be like to see these eerie and awe-inspiring lights dancing across the night skies. This information-packed volume will take away some of the mystery, but not the awe, as it reveals what meteorologists have learned about the lights, and how and why they occur.","English",25.27,18.95,"538'.768--dc23","32 pp.",{"$f":"Table1[[#This Row],[QTY]]*Table1[[#This Row],['# of Books]]","v":0},{"$f":"Table1[[#This Row],[QTY]]*Table1[[#This Row],[School & Library Price]]","v":0}]
[null,null,null,30,"The Weather Report","Northern Lights Sighting!",1,"eBook","978-0-7660-9024-8",2018,"August 2017",null,"Edited by","Joanne Randolph",null,null,null,null,"P",null,"Grade 3","Grade 3 - 5","The mysterious lights of the aurora borealis are a thing of legend. Some people live where they can see this phenomenon nearly every night, while others of us can only imagine what it must be like to see these eerie and awe-inspiring lights dancing across the night skies. This information-packed volume will take away some of the mystery, but not the awe, as it reveals what meteorologists have learned about the lights, and how and why they occur.","English",25.27,18.95,"538'.768--dc23","32 pp.",{"$f":"Table1[[#This Row],[QTY]]*Table1[[#This Row],['# of Books]]","v":0},{"$f":"Table1[[#This Row],[QTY]]*Table1[[#This Row],[School & Library Price]]","v":0}]
[null,null,null,30,"The Weather Report","Tornado Alert!",1,"Library Bound Book","978-0-7660-9027-9",2018,"August 2017","8.500 X 7.125","Edited by","Joanne Randolph",null,null,null,null,"O",null,"Grade 3","Grade 3 - 5","From the anatomy of a tornado to the weather conditions that invite them to form, this title has everything a person wants to know about tornados. There is discussion of historic twisters, as well, and a map showing the infamous area of our country known as “Tornado Alley” with detailed information about why this region is so prone to tornados.","English",25.27,18.95,"551.55'3--dc23","32 pp.",{"$f":"Table1[[#This Row],[QTY]]*Table1[[#This Row],['# of Books]]","v":0},{"$f":"Table1[[#This Row],[QTY]]*Table1[[#This Row],[School & Library Price]]","v":0}]
[null,null,null,30,"The Weather Report","Tornado Alert!",1,"eBook","978-0-7660-9028-6",2018,"August 2017",null,"Edited by","Joanne Randolph",null,null,null,null,"O",null,"Grade 3","Grade 3 - 5","From the anatomy of a tornado to the weather conditions that invite them to form, this title has everything a person wants to know about tornados. There is discussion of historic twisters, as well, and a map showing the infamous area of our country known as “Tornado Alley” with detailed information about why this region is so prone to tornados.","English",25.27,18.95,"551.55'3--dc23","32 pp.",{"$f":"Table1[[#This Row],[QTY]]*Table1[[#This Row],['# of Books]]","v":0},{"$f":"Table1[[#This Row],[QTY]]*Table1[[#This Row],[School & Library Price]]","v":0}]
[null,null,null,31,"Saving the Planet Through Green Energy","Saving the Planet Through Green Energy",6,"Library Set","978-0-7660-8402-5",2017,"January 2017","7.125 X 8.500",null,null,null,null,null,null,null,null,"Grade 3","Grade 3 - 5","Green energy and climate change are hot-button topics these days. Using simple language, this series helps readers understand green energy and how it can help the planet. Each book covers one type of energy commonly used in construction, for fuel, or to power our infrastructure. Full-color photos and in-depth information help the reader grasp each type of energy and its practical application in the real world.","English",135.6,101.7,null,"24 pp.",{"$f":"Table1[[#This Row],[QTY]]*Table1[[#This Row],['# of Books]]","v":0},{"$f":"Table1[[#This Row],[QTY]]*Table1[[#This Row],[School & Library Price]]","v":0}]
[null,null,null,31,"Saving the Planet Through Green Energy","Fossil Fuels",1,"Library Bound Book","978-0-7660-8278-6",2017,"January 2017","7.125 X 8.500","Author","Colin Grady",4.7,0.5,null,null,"V",null,"Grade 3","Grade 3 - 5","Readers may have heard the term “fossil fuels,” but they may not know exactly what they are. Oil, natural gas, and coal are fossil fuels, but they are not clean or renewable sources of energy. This book takes a look at the history of fossil fuels and how we burn them to make heat and electricity as well as what can be done to decrease our use of these fuels and why this change is important. Color photos, a glossary, a timeline, and easy-to-read text help readers learn more about the sources of power that fuel their high-energy lives.","English",22.6,16.95,"333.8/2--dc23","24 pp.",{"$f":"Table1[[#This Row],[QTY]]*Table1[[#This Row],['# of Books]]","v":0},{"$f":"Table1[[#This Row],[QTY]]*Table1[[#This Row],[School & Library Price]]","v":0}]
[null,null,null,31,"Saving the Planet Through Green Energy","Fossil Fuels",1,"eBook","978-0-7660-8279-3",2017,"January 2017",null,"Author","Colin Grady",null,null,null,null,"V",null,"Grade 3","Grade 3 - 5","Readers may have heard the term “fossil fuels,” but they may not know exactly what they are. Oil, natural gas, and coal are fossil fuels, but they are not clean or renewable sources of energy. This book takes a look at the history of fossil fuels and how we burn them to make heat and electricity as well as what can be done to decrease our use of these fuels and why this change is important. Color photos, a glossary, a timeline, and easy-to-read text help readers learn more about the sources of power that fuel their high-energy lives.","English",22.6,16.95,"333.8/2--dc23","24 pp.",{"$f":"Table1[[#This Row],[QTY]]*Table1[[#This Row],['# of Books]]","v":0},{"$f":"Table1[[#This Row],[QTY]]*Table1[[#This Row],[School & Library Price]]","v":0}]
[null,null,null,31,"Saving the Planet Through Green Energy","Geothermal Energy",1,"Library Bound Book","978-0-7660-8282-3",2017,"January 2017","7.125 X 8.500","Author","Colin Grady",5,0.5,null,null,"V",null,"Grade 3","Grade 3 - 5","The heat that comes from inside Earth is called geothermal energy. This clean energy source is used to heat or cool buildings and to make electricity. Readers will learn about this renewable energy source, how we do not pollute when we use it, and the future plans for using this geothermal energy on a wider level. Color photos, a geothermal energy timeline, and a glossary round out this title.","English",22.6,16.95,"621.44--dc23","24 pp.",{"$f":"Table1[[#This Row],[QTY]]*Table1[[#This Row],['# of Books]]","v":0},{"$f":"Table1[[#This Row],[QTY]]*Table1[[#This Row],[School & Library Price]]","v":0}]
[null,null,null,31,"Saving the Planet Through Green Energy","Geothermal Energy",1,"eBook","978-0-7660-8283-0",2017,"January 2017",null,"Author","Colin Grady",null,null,null,null,"V",null,"Grade 3","Grade 3 - 5","The heat that comes from inside Earth is called geothermal energy. This clean energy source is used to heat or cool buildings and to make electricity. Readers will learn about this renewable energy source, how we do not pollute when we use it, and the future plans for using this geothermal energy on a wider level. Color photos, a geothermal energy timeline, and a glossary round out this title.","English",22.6,16.95,"621.44--dc23","24 pp.",{"$f":"Table1[[#This Row],[QTY]]*Table1[[#This Row],['# of Books]]","v":0},{"$f":"Table1[[#This Row],[QTY]]*Table1[[#This Row],[School & Library Price]]","v":0}]
[null,null,null,31,"Saving the Planet Through Green Energy","Hydropower",1,"Library Bound Book","978-0-7660-8286-1",2017,"January 2017","7.125 X 8.500","Author","Colin Grady",5,0.5,null,null,"V",null,"Grade 3","Grade 3 - 5","Anyone who has been walloped by a large ocean wave or has watched water tumble down a tall waterfall knows the power of water. Readers will learn about hydropower throughout history and find out about the water cycle. Reading about how this clean energy source is used today and what the future of hydropower may look like will educate young readers about renewable energy fueled by water. Color photos and a glossary are also included.","English",22.6,16.95,"621.31’2134—dc23","24 pp.",{"$f":"Table1[[#This Row],[QTY]]*Table1[[#This Row],['# of Books]]","v":0},{"$f":"Table1[[#This Row],[QTY]]*Table1[[#This Row],[School & Library Price]]","v":0}]
[null,null,null,31,"Saving the Planet Through Green Energy","Hydropower",1,"eBook","978-0-7660-8287-8",2017,"January 2017",null,"Author","Colin Grady",null,null,null,null,"V",null,"Grade 3","Grade 3 - 5","Anyone who has been walloped by a large ocean wave or has watched water tumble down a tall waterfall knows the power of water. Readers will learn about hydropower throughout history and find out about the water cycle. Reading about how this clean energy source is used today and what the future of hydropower may look like will educate young readers about renewable energy fueled by water. Color photos and a glossary are also included.","English",22.6,16.95,"621.31’2134—dc23","24 pp.",{"$f":"Table1[[#This Row],[QTY]]*Table1[[#This Row],['# of Books]]","v":0},{"$f":"Table1[[#This Row],[QTY]]*Table1[[#This Row],[School & Library Price]]","v":0}]
[null,null,null,31,"Saving the Planet Through Green Energy","Nuclear Energy",1,"Library Bound Book","978-0-7660-8290-8",2017,"January 2017","7.125 X 8.500","Author","Colin Grady",5.3,0.5,null,null,"V",null,"Grade 3","Grade 3 - 5","Readers will delight in learning more about nuclear energy when they read about nuclear power plants, nuclear fusion, and nuclear fission. They will learn what nuclear energy is exactly, how safe it is, and how it is used to make electricity to power our world. A timeline covers the events in history related to nuclear energy, and color photos complement the easy-to-read text.","English",22.6,16.95,"333.792/4--dc23","24 pp.",{"$f":"Table1[[#This Row],[QTY]]*Table1[[#This Row],['# of Books]]","v":0},{"$f":"Table1[[#This Row],[QTY]]*Table1[[#This Row],[School & Library Price]]","v":0}]
[null,null,null,31,"Saving the Planet Through Green Energy","Nuclear Energy",1,"eBook","978-0-7660-8291-5",2017,"January 2017",null,"Author","Colin Grady",null,null,null,null,"V",null,"Grade 3","Grade 3 - 5","Readers will delight in learning more about nuclear energy when they read about nuclear power plants, nuclear fusion, and nuclear fission. They will learn what nuclear energy is exactly, how safe it is, and how it is used to make electricity to power our world. A timeline covers the events in history related to nuclear energy, and color photos complement the easy-to-read text.","English",22.6,16.95,"333.792/4--dc23","24 pp.",{"$f":"Table1[[#This Row],[QTY]]*Table1[[#This Row],['# of Books]]","v":0},{"$f":"Table1[[#This Row],[QTY]]*Table1[[#This Row],[School & Library Price]]","v":0}]
[null,null,null,31,"Saving the Planet Through Green Energy","Solar Energy",1,"Library Bound Book","978-0-7660-8294-6",2017,"January 2017","7.125 X 8.500","Author","Colin Grady",4.9000000000000004,0.5,null,null,"V",null,"Grade 3","Grade 3 - 5","The sun, responsible for life on our planet, is a valuable clean energy source that can lessen our dependence on fossil fuels. With color photos, a glossary, and simple text, this book explains how solar panels work, what passive solar power is, and how the sun can be used to make electricity. Young readers will be excited to learn more about renewable energy.","English",22.6,16.95,"333.792/3--dc23","24 pp.",{"$f":"Table1[[#This Row],[QTY]]*Table1[[#This Row],['# of Books]]","v":0},{"$f":"Table1[[#This Row],[QTY]]*Table1[[#This Row],[School & Library Price]]","v":0}]
[null,null,null,31,"Saving the Planet Through Green Energy","Solar Energy",1,"eBook","978-0-7660-8295-3",2017,"January 2017",null,"Author","Colin Grady",null,null,null,null,"V",null,"Grade 3","Grade 3 - 5","The sun, responsible for life on our planet, is a valuable clean energy source that can lessen our dependence on fossil fuels. With color photos, a glossary, and simple text, this book explains how solar panels work, what passive solar power is, and how the sun can be used to make electricity. Young readers will be excited to learn more about renewable energy.","English",22.6,16.95,"333.792/3--dc23","24 pp.",{"$f":"Table1[[#This Row],[QTY]]*Table1[[#This Row],['# of Books]]","v":0},{"$f":"Table1[[#This Row],[QTY]]*Table1[[#This Row],[School & Library Price]]","v":0}]
[null,null,null,31,"Saving the Planet Through Green Energy","Wind Energy",1,"Library Bound Book","978-0-7660-8298-4",2017,"January 2017","7.125 X 8.500","Author","Colin Grady",4.5999999999999996,0.5,null,null,"V",null,"Grade 3","Grade 3 - 5","People have been harnessing the power of wind for a long time. This renewable, clean energy source can power our high-tech world without creating as much pollution as fossil fuels do. Readers will learn about wind turbines and how they make electricity and what the future of wind power looks like. A glossary, timeline, and color photos add to this easy-to-read addition to the series.","English",22.6,16.95,"333.9/2--dc23","24 pp.",{"$f":"Table1[[#This Row],[QTY]]*Table1[[#This Row],['# of Books]]","v":0},{"$f":"Table1[[#This Row],[QTY]]*Table1[[#This Row],[School & Library Price]]","v":0}]
[null,null,null,31,"Saving the Planet Through Green Energy","Wind Energy",1,"eBook","978-0-7660-8299-1",2017,"January 2017",null,"Author","Colin Grady",null,null,null,null,"V",null,"Grade 3","Grade 3 - 5","People have been harnessing the power of wind for a long time. This renewable, clean energy source can power our high-tech world without creating as much pollution as fossil fuels do. Readers will learn about wind turbines and how they make electricity and what the future of wind power looks like. A glossary, timeline, and color photos add to this easy-to-read addition to the series.","English",22.6,16.95,"333.9/2--dc23","24 pp.",{"$f":"Table1[[#This Row],[QTY]]*Table1[[#This Row],['# of Books]]","v":0},{"$f":"Table1[[#This Row],[QTY]]*Table1[[#This Row],[School & Library Price]]","v":0}]
[null,null,null,32,"Hands-On Science","Hands-On Science",6,"Library Set","978-0-7660-8392-9",2017,"January 2017","7.250 X 9.250",null,null,null,null,null,null,null,null,"Grade 4","Grade 3 - 5","With these easy-to-follow experiments enhanced by bright, colorful illustrations, readers will explore key earth science concepts. Science fair projects ideas and safety tips help young scientists further understand the information that is being presented.","English",167.58,125.7,null,"48 pp.",{"$f":"Table1[[#This Row],[QTY]]*Table1[[#This Row],['# of Books]]","v":0},{"$f":"Table1[[#This Row],[QTY]]*Table1[[#This Row],[School & Library Price]]","v":0}]
[null,null,null,32,"Hands-On Science","Science Fair Projects About Planet Earth",1,"Library Bound Book","978-0-7660-8219-9",2017,"January 2017","7.250 X 9.250","Author","Robert Gardner",null,null,null,null,"V",null,"Grade 4","Grade 3 - 5","Hands-on experiments are a great way to engage young scientists. Instead of simply reading facts, they will experience the science that is happening in front of their eyes! The simple experiments in this book, illustrated in color, will unlock the secrets of planet Earth, including why Earth has layers, how continents move, and how we know Earth is round. By the time young readers are finished with the activities in this book, they will be ready to design some of their own to enter in their next science fair.","English",27.93,20.95,"550.78--dc23","48 pp.",{"$f":"Table1[[#This Row],[QTY]]*Table1[[#This Row],['# of Books]]","v":0},{"$f":"Table1[[#This Row],[QTY]]*Table1[[#This Row],[School & Library Price]]","v":0}]
[null,null,null,32,"Hands-On Science","Science Fair Projects About Planet Earth",1,"eBook","978-0-7660-8343-1",2017,"January 2017",null,"Author","Robert Gardner",null,null,null,null,"V",null,"Grade 4","Grade 3 - 5","Hands-on experiments are a great way to engage young scientists. Instead of simply reading facts, they will experience the science that is happening in front of their eyes! The simple experiments in this book, illustrated in color, will unlock the secrets of planet Earth, including why Earth has layers, how continents move, and how we know Earth is round. By the time young readers are finished with the activities in this book, they will be ready to design some of their own to enter in their next science fair.","English",27.93,20.95,"550.78--dc23","48 pp.",{"$f":"Table1[[#This Row],[QTY]]*Table1[[#This Row],['# of Books]]","v":0},{"$f":"Table1[[#This Row],[QTY]]*Table1[[#This Row],[School & Library Price]]","v":0}]
[null,null,null,32,"Hands-On Science","Science Fair Projects About Rocks and Minerals",1,"Library Bound Book","978-0-7660-8209-0",2017,"January 2017","7.250 X 9.250","Author","Robert Gardner",null,null,null,null,"V",null,"Grade 4","Grade 3 - 5","The hands-on experiments in this book, illustrated in color, will unlock the secrets of rocks and minerals, including how sedimentary rock is different from metamorphic rock, what is in soil, and what minerals can be found at home. Some will even give readers ideas for their own science fair project. All they need are some simple materials, most of which can be found around the home, school, or neighborhood.","English",27.93,20.95,"549.078--dc23","48 pp.",{"$f":"Table1[[#This Row],[QTY]]*Table1[[#This Row],['# of Books]]","v":0},{"$f":"Table1[[#This Row],[QTY]]*Table1[[#This Row],[School & Library Price]]","v":0}]
[null,null,null,32,"Hands-On Science","Science Fair Projects About Rocks and Minerals",1,"eBook","978-0-7660-8210-6",2017,"January 2017",null,"Author","Robert Gardner",null,null,null,null,"V",null,"Grade 4","Grade 3 - 5","The hands-on experiments in this book, illustrated in color, will unlock the secrets of rocks and minerals, including how sedimentary rock is different from metamorphic rock, what is in soil, and what minerals can be found at home. Some will even give readers ideas for their own science fair project. All they need are some simple materials, most of which can be found around the home, school, or neighborhood.","English",27.93,20.95,"549.078--dc23","48 pp.",{"$f":"Table1[[#This Row],[QTY]]*Table1[[#This Row],['# of Books]]","v":0},{"$f":"Table1[[#This Row],[QTY]]*Table1[[#This Row],[School & Library Price]]","v":0}]
[null,null,null,32,"Hands-On Science","Science Fair Projects About the Atmosphere",1,"Library Bound Book","978-0-7660-8222-9",2017,"January 2017","7.250 X 9.250","Author","Robert Gardner",null,null,null,null,"U",null,"Grade 4","Grade 3 - 5","By doing the simple science projects in this book, young scientists will discover if air has weight, if one can make a cloud, and the reason the sky is blue. The experiments use materials found at home or at school. Young scientists can take what they've learned from these experiments and use suggestions to create their own unique science fair projects. Detailed explanations explain the science used in each experiment. A glossary and full-color illustrations complete each title.","English",27.93,20.95,"551.5078--dc23","48 pp.",{"$f":"Table1[[#This Row],[QTY]]*Table1[[#This Row],['# of Books]]","v":0},{"$f":"Table1[[#This Row],[QTY]]*Table1[[#This Row],[School & Library Price]]","v":0}]
[null,null,null,32,"Hands-On Science","Science Fair Projects About the Atmosphere",1,"eBook","978-0-7660-8223-6",2017,"January 2017",null,"Author","Robert Gardner",null,null,null,null,"U",null,"Grade 4","Grade 3 - 5","By doing the simple science projects in this book, young scientists will discover if air has weight, if one can make a cloud, and the reason the sky is blue. The experiments use materials found at home or at school. Young scientists can take what they've learned from these experiments and use suggestions to create their own unique science fair projects. Detailed explanations explain the science used in each experiment. A glossary and full-color illustrations complete each title.","English",27.93,20.95,"551.5078--dc23","48 pp.",{"$f":"Table1[[#This Row],[QTY]]*Table1[[#This Row],['# of Books]]","v":0},{"$f":"Table1[[#This Row],[QTY]]*Table1[[#This Row],[School & Library Price]]","v":0}]
[null,null,null,32,"Hands-On Science","Science Fair Projects About the Sun and the Moon",1,"Library Bound Book","978-0-7660-8217-5",2017,"January 2017","7.250 X 9.250","Author","Robert Gardner",null,null,null,null,"U",null,"Grade 4","Grade 3 - 5","Using materials they can find in their home, students can start to learn the facts about our sun and moon, including how to get the time or direction by looking at the sun, the colors in sunlight, and why the moon's appearance changes during the month. Each activity is followed by an explanation section to discuss the science concepts that were covered in the experiment. Engaging color illustrations accompany every experiment, and a glossary defines scientific terms.","English",27.93,20.95,"523.7078--dc23","48 pp.",{"$f":"Table1[[#This Row],[QTY]]*Table1[[#This Row],['# of Books]]","v":0},{"$f":"Table1[[#This Row],[QTY]]*Table1[[#This Row],[School & Library Price]]","v":0}]
[null,null,null,32,"Hands-On Science","Science Fair Projects About the Sun and the Moon",1,"eBook","978-0-7660-8218-2",2017,"January 2017",null,"Author","Robert Gardner",null,null,null,null,"U",null,"Grade 4","Grade 3 - 5","Using materials they can find in their home, students can start to learn the facts about our sun and moon, including how to get the time or direction by looking at the sun, the colors in sunlight, and why the moon's appearance changes during the month. Each activity is followed by an explanation section to discuss the science concepts that were covered in the experiment. Engaging color illustrations accompany every experiment, and a glossary defines scientific terms.","English",27.93,20.95,"523.7078--dc23","48 pp.",{"$f":"Table1[[#This Row],[QTY]]*Table1[[#This Row],['# of Books]]","v":0},{"$f":"Table1[[#This Row],[QTY]]*Table1[[#This Row],[School & Library Price]]","v":0}]
[null,null,null,32,"Hands-On Science","Science Fair Projects About Water and Soil",1,"Library Bound Book","978-0-7660-8213-7",2017,"January 2017","7.250 X 9.250","Author","Robert Gardner",null,null,null,null,"U",null,"Grade 4","Grade 3 - 5","Award-winning author Robert Gardner makes earth science fun. Using common materials found in the home or school, students can perform simple, hands-on experiments and find out what an aquifer is, if water ever disappears, and in what type of soil plants grow best. The follow-up section to every activity includes narrative that explains the scientific concepts of each experiment. Color illustrations and a glossary add even more to this fun title.","English",27.93,20.95,"631.4--dc23","48 pp.",{"$f":"Table1[[#This Row],[QTY]]*Table1[[#This Row],['# of Books]]","v":0},{"$f":"Table1[[#This Row],[QTY]]*Table1[[#This Row],[School & Library Price]]","v":0}]
[null,null,null,32,"Hands-On Science","Science Fair Projects About Water and Soil",1,"eBook","978-0-7660-8214-4",2017,"January 2017",null,"Author","Robert Gardner",null,null,null,null,"U",null,"Grade 4","Grade 3 - 5","Award-winning author Robert Gardner makes earth science fun. Using common materials found in the home or school, students can perform simple, hands-on experiments and find out what an aquifer is, if water ever disappears, and in what type of soil plants grow best. The follow-up section to every activity includes narrative that explains the scientific concepts of each experiment. Color illustrations and a glossary add even more to this fun title.","English",27.93,20.95,"631.4--dc23","48 pp.",{"$f":"Table1[[#This Row],[QTY]]*Table1[[#This Row],['# of Books]]","v":0},{"$f":"Table1[[#This Row],[QTY]]*Table1[[#This Row],[School & Library Price]]","v":0}]
[null,null,null,32,"Hands-On Science","Science Fair Projects About Weather",1,"Library Bound Book","978-0-7660-8206-9",2017,"January 2017","7.250 X 9.250","Author","Robert Gardner",null,null,null,null,"U",null,"Grade 4","Grade 3 - 5","Award-winning author Robert Gardner has been engaging young readers for decades. He continues to educate readers with simple hands-on activities that help kids understand earth science, including what exactly rain is, what air pressure is, and if rainfall can be measured. A glossary and a detailed explanation section following each experiment describe the science concepts and terms. Color illustrations accompany each experiment.","English",27.93,20.95,"551.5078--dc23","48 pp.",{"$f":"Table1[[#This Row],[QTY]]*Table1[[#This Row],['# of Books]]","v":0},{"$f":"Table1[[#This Row],[QTY]]*Table1[[#This Row],[School & Library Price]]","v":0}]
[null,null,null,32,"Hands-On Science","Science Fair Projects About Weather",1,"eBook","978-0-7660-8207-6",2017,"January 2017",null,"Author","Robert Gardner",null,null,null,null,"U",null,"Grade 4","Grade 3 - 5","Award-winning author Robert Gardner has been engaging young readers for decades. He continues to educate readers with simple hands-on activities that help kids understand earth science, including what exactly rain is, what air pressure is, and if rainfall can be measured. A glossary and a detailed explanation section following each experiment describe the science concepts and terms. Color illustrations accompany each experiment.","English",27.93,20.95,"551.5078--dc23","48 pp.",{"$f":"Table1[[#This Row],[QTY]]*Table1[[#This Row],['# of Books]]","v":0},{"$f":"Table1[[#This Row],[QTY]]*Table1[[#This Row],[School & Library Price]]","v":0}]
[null,null,null,33,"The Story of Our Holidays (All 22 Titles)","The Story of Our Holidays (All 22 Titles)",22,"Library Set","978-0-7660-8462-9",2017,"January 2017","7.125 X 8.500",null,null,null,null,null,null,null,null,"Grade 3","Grade 3 - 5","Readers will learn about the history, cultural traditions, and symbols associated with each of these well-known—and some not so well-known—holidays and come to understand the meaning behind each holiday in addition to reveling in the pure fun of celebrating it. With help from an adult, students can also make an easy recipe and complete a simple craft associated with each holiday.","English",555.94000000000005,416.9,null,"32 pp.",{"$f":"Table1[[#This Row],[QTY]]*Table1[[#This Row],['# of Books]]","v":0},{"$f":"Table1[[#This Row],[QTY]]*Table1[[#This Row],[School & Library Price]]","v":0}]
[null,null,null,33,"The Story of Our Holidays (NEW Set of 7 Titles)","The Story of Our Holidays (NEW Set of 7 Titles)",7,"Library Set","978-0-7660-8410-0",2017,"January 2017","7.125 X 8.500",null,null,null,null,null,null,null,null,"Grade 3","Grade 3 - 5","Young readers will explore the history, traditions, and symbols associated with popular holidays. Cultural aspects of the holiday are examined in a way that is easy for readers to understand. Each book contains a recipe for a holiday-themed food, as well as a craft to help them celebrate with family and friends.","English",176.89,132.65,null,"32 pp.",{"$f":"Table1[[#This Row],[QTY]]*Table1[[#This Row],['# of Books]]","v":0},{"$f":"Table1[[#This Row],[QTY]]*Table1[[#This Row],[School & Library Price]]","v":0}]
[null,null,null,33,"The Story of Our Holidays","Chinese New Year",1,"Library Bound Book","978-0-7660-8326-4",2017,"January 2017","7.125 X 8.500","Author, Author","Fay Robinson, Joanna Ponto",5,0.5,null,null,"M",null,"Grade 3","Grade 3 - 5","Chinese New Year has been celebrated for thousands of years in China. Now it is celebrated all around the world. It does not always come on the same date each year, but it is always in January or February. Readers of this volume will learn the meaning behind the holiday as well as the costumes, decorations, food, and other customs, such as the dragon parade, associated with it. This simple yet engaging book also provides instructions on how to make ya sui qian, or the red envelopes the Chinese use for gifts of money, as well as a recipe for fried rice.","English",25.27,18.95,"394.261--dc23","32 pp.",{"$f":"Table1[[#This Row],[QTY]]*Table1[[#This Row],['# of Books]]","v":0},{"$f":"Table1[[#This Row],[QTY]]*Table1[[#This Row],[School & Library Price]]","v":0}]
[null,null,null,33,"The Story of Our Holidays","Chinese New Year",1,"eBook","978-0-7660-8327-1",2017,"January 2017",null,"Author, Author","Fay Robinson, Joanna Ponto",null,null,null,null,"M",null,"Grade 3","Grade 3 - 5","Chinese New Year has been celebrated for thousands of years in China. Now it is celebrated all around the world. It does not always come on the same date each year, but it is always in January or February. Readers of this volume will learn the meaning behind the holiday as well as the costumes, decorations, food, and other customs, such as the dragon parade, associated with it. This simple yet engaging book also provides instructions on how to make ya sui qian, or the red envelopes the Chinese use for gifts of money, as well as a recipe for fried rice.","English",25.27,18.95,"394.261--dc23","32 pp.",{"$f":"Table1[[#This Row],[QTY]]*Table1[[#This Row],['# of Books]]","v":0},{"$f":"Table1[[#This Row],[QTY]]*Table1[[#This Row],[School & Library Price]]","v":0}]
[null,null,null,33,"The Story of Our Holidays","Christmas",1,"Library Bound Book","978-0-7660-7619-8",2017,"August 2016","7.125 X 8.500","Author","Joanna Ponto",5.3,0.5,null,null,"L",null,"Grade 3","Grade 3 - 5","Every December millions of people all over the world wait for the twenty-fifth day of the month. They are looking forward to Christmas, one of the most celebrated holidays of the year. This heavily illustrated volume explores the holiday’s rich history, as well as various ways it is celebrated around the world. Readers will have a chance to prepare a gingerbread recipe and create a reindeer ornament craft.","English",25.27,18.95,"394.2663--dc23","32 pp.",{"$f":"Table1[[#This Row],[QTY]]*Table1[[#This Row],['# of Books]]","v":0},{"$f":"Table1[[#This Row],[QTY]]*Table1[[#This Row],[School & Library Price]]","v":0}]
[null,null,null,33,"The Story of Our Holidays","Christmas",1,"eBook","978-0-7660-7620-4",2017,"August 2016",null,"Author","Joanna Ponto",5.3,0.5,null,null,"L",null,"Grade 3","Grade 3 - 5","Every December millions of people all over the world wait for the twenty-fifth day of the month. They are looking forward to Christmas, one of the most celebrated holidays of the year. This heavily illustrated volume explores the holiday’s rich history, as well as various ways it is celebrated around the world. Readers will have a chance to prepare a gingerbread recipe and create a reindeer ornament craft.","English",25.27,18.95,"394.2663--dc23","32 pp.",{"$f":"Table1[[#This Row],[QTY]]*Table1[[#This Row],['# of Books]]","v":0},{"$f":"Table1[[#This Row],[QTY]]*Table1[[#This Row],[School & Library Price]]","v":0}]
[null,null,null,33,"The Story of Our Holidays","Cinco de Mayo",1,"Library Bound Book","978-0-7660-8330-1",2017,"January 2017","7.125 X 8.500","Author, Author","Carol Gnojewski, Joanna Ponto",4.7,0.5,null,null,"M",null,"Grade 3","Grade 3 - 5","Cinco de Mayo is a Mexican holiday that celebrates the country’s defeat of invading French forces during the Battle of Puebla. Readers of this volume will learn the history behind the holiday as well as the music, dances, and food associated with it. A recipe for salsa fresca and instructions to create a Mexican flag are also provided.","English",25.27,18.95,"394.262--dc23","32 pp.",{"$f":"Table1[[#This Row],[QTY]]*Table1[[#This Row],['# of Books]]","v":0},{"$f":"Table1[[#This Row],[QTY]]*Table1[[#This Row],[School & Library Price]]","v":0}]
[null,null,null,33,"The Story of Our Holidays","Cinco de Mayo",1,"eBook","978-0-7660-8331-8",2017,"January 2017",null,"Author, Author","Carol Gnojewski, Joanna Ponto",null,null,null,null,"M",null,"Grade 3","Grade 3 - 5","Cinco de Mayo is a Mexican holiday that celebrates the country’s defeat of invading French forces during the Battle of Puebla. Readers of this volume will learn the history behind the holiday as well as the music, dances, and food associated with it. A recipe for salsa fresca and instructions to create a Mexican flag are also provided.","English",25.27,18.95,"394.262--dc23","32 pp.",{"$f":"Table1[[#This Row],[QTY]]*Table1[[#This Row],['# of Books]]","v":0},{"$f":"Table1[[#This Row],[QTY]]*Table1[[#This Row],[School & Library Price]]","v":0}]
[null,null,null,33,"The Story of Our Holidays","Columbus Day",1,"Library Bound Book","978-0-7660-7657-0",2017,"August 2016","7.125 X 8.500","Author","Joanna Ponto",4.5,0.5,null,null,"M",null,"Grade 3","Grade 3 - 5","Columbus Day might seem like just another day off from school, but every year we remember Columbus’s important contributions to our nation. Today Columbus’s journey to the West Indies is celebrated in a variety of ways, including parades, reenactments, and Italian-American festivals. Readers can learn about the holiday’s history and significance, in addition to following a blue corn cake recipe and making a boat craft from a walnut shell and clay.","English",25.27,18.95,"394.264--dc23","32 pp.",{"$f":"Table1[[#This Row],[QTY]]*Table1[[#This Row],['# of Books]]","v":0},{"$f":"Table1[[#This Row],[QTY]]*Table1[[#This Row],[School & Library Price]]","v":0}]
[null,null,null,33,"The Story of Our Holidays","Columbus Day",1,"eBook","978-0-7660-7658-7",2017,"August 2016",null,"Author","Joanna Ponto",4.5,0.5,null,null,"M",null,"Grade 3","Grade 3 - 5","Columbus Day might seem like just another day off from school, but every year we remember Columbus’s important contributions to our nation. Today Columbus’s journey to the West Indies is celebrated in a variety of ways, including parades, reenactments, and Italian-American festivals. Readers can learn about the holiday’s history and significance, in addition to following a blue corn cake recipe and making a boat craft from a walnut shell and clay.","English",25.27,18.95,"394.264--dc23","32 pp.",{"$f":"Table1[[#This Row],[QTY]]*Table1[[#This Row],['# of Books]]","v":0},{"$f":"Table1[[#This Row],[QTY]]*Table1[[#This Row],[School & Library Price]]","v":0}]
[null,null,null,33,"The Story of Our Holidays","Day of the Dead",1,"Library Bound Book","978-0-7660-7644-0",2017,"August 2016","7.125 X 8.500","Author","Joanna Ponto",5,0.5,null,null,"M",null,"Grade 3","Grade 3 - 5","The Day of the Dead is a celebration honoring those who have left this world. Readers of this volume will understand the meaning behind the holiday as well as the costumes, decorations, food, and other customs associated with it. A recipe for champurrado (Mexican drinking chocolate) and instructions to create a skeleton craft are also provided.","English",25.27,18.95,"394.266--dc23","32 pp.",{"$f":"Table1[[#This Row],[QTY]]*Table1[[#This Row],['# of Books]]","v":0},{"$f":"Table1[[#This Row],[QTY]]*Table1[[#This Row],[School & Library Price]]","v":0}]
[null,null,null,33,"The Story of Our Holidays","Day of the Dead",1,"eBook","978-0-7660-7645-7",2017,"August 2016",null,"Author","Joanna Ponto",5,0.5,null,null,"M",null,"Grade 3","Grade 3 - 5","The Day of the Dead is a celebration honoring those who have left this world. Readers of this volume will understand the meaning behind the holiday as well as the costumes, decorations, food, and other customs associated with it. A recipe for champurrado (Mexican drinking chocolate) and instructions to create a skeleton craft are also provided.","English",25.27,18.95,"394.266--dc23","32 pp.",{"$f":"Table1[[#This Row],[QTY]]*Table1[[#This Row],['# of Books]]","v":0},{"$f":"Table1[[#This Row],[QTY]]*Table1[[#This Row],[School & Library Price]]","v":0}]
[null,null,null,33,"The Story of Our Holidays","Diwali",1,"Library Bound Book","978-0-7660-7648-8",2017,"August 2016","7.125 X 8.500","Author","Joanna Ponto",5,0.5,null,null,"M",null,"Grade 3","Grade 3 - 5","Diwali, the Hindu festival of lights, is celebrated with firecrackers, sweet treats, and exciting tales of a prince and princess. Readers will learn about the customs involved in celebrating this joyful holiday, and they can prepare a delicious mango lassi and construct a fun Diwali game to play on the big day.","English",25.27,18.95,"294.5/36--dc23","32 pp.",{"$f":"Table1[[#This Row],[QTY]]*Table1[[#This Row],['# of Books]]","v":0},{"$f":"Table1[[#This Row],[QTY]]*Table1[[#This Row],[School & Library Price]]","v":0}]
[null,null,null,33,"The Story of Our Holidays","Diwali",1,"eBook","978-0-7660-7649-5",2017,"August 2016",null,"Author","Joanna Ponto",5,0.5,null,null,"M",null,"Grade 3","Grade 3 - 5","Diwali, the Hindu festival of lights, is celebrated with firecrackers, sweet treats, and exciting tales of a prince and princess. Readers will learn about the customs involved in celebrating this joyful holiday, and they can prepare a delicious mango lassi and construct a fun Diwali game to play on the big day.","English",25.27,18.95,"294.5/36--dc23","32 pp.",{"$f":"Table1[[#This Row],[QTY]]*Table1[[#This Row],['# of Books]]","v":0},{"$f":"Table1[[#This Row],[QTY]]*Table1[[#This Row],[School & Library Price]]","v":0}]
[null,null,null,33,"The Story of Our Holidays","Earth Day",1,"Library Bound Book","978-0-7660-7457-6",2016,"January 2016","7.125 X 8.500","Author","Joanna Ponto",4,0.5,null,null,"L",null,"Grade 3","Grade 3 - 5","By reading about Earth Day’s history and purpose as well as how it is celebrated the world over, students will learn that there is more to the holiday than just recycling and planting trees. To celebrate our planet, children can create a rock paperweight and make an Earth Day-related recipe to share with family and friends.","English",25.27,18.95,"394.262--dc23","32 pp.",{"$f":"Table1[[#This Row],[QTY]]*Table1[[#This Row],['# of Books]]","v":0},{"$f":"Table1[[#This Row],[QTY]]*Table1[[#This Row],[School & Library Price]]","v":0}]
[null,null,null,33,"The Story of Our Holidays","Earth Day",1,"eBook","978-0-7660-7451-4",2016,"January 2016",null,"Author","Joanna Ponto",4,0.5,null,null,"L",null,"Grade 3","Grade 3 - 5","By reading about Earth Day’s history and purpose as well as how it is celebrated the world over, students will learn that there is more to the holiday than just recycling and planting trees. To celebrate our planet, children can create a rock paperweight and make an Earth Day-related recipe to share with family and friends.","English",25.27,18.95,"394.262--dc23","32 pp.",{"$f":"Table1[[#This Row],[QTY]]*Table1[[#This Row],['# of Books]]","v":0},{"$f":"Table1[[#This Row],[QTY]]*Table1[[#This Row],[School & Library Price]]","v":0}]
[null,null,null,33,"The Story of Our Holidays","Easter",1,"Library Bound Book","978-0-7660-7458-3",2016,"January 2016","7.125 X 8.500","Author","Joanna Ponto",4.0999999999999996,0.5,null,null,"L",null,"Grade 3","Grade 3 - 5","Through full-color photos and exciting text, young readers will discover that Easter is not just a religious holiday, but also a time to celebrate spring and rebirth. They will learn about the history of this holiday and how it is celebrated throughout diverse cultures all over the world. Students can even make baby chick crafts and an Easter-related recipe to share.","English",25.27,18.95,"394.2’68283--dc23","32 pp.",{"$f":"Table1[[#This Row],[QTY]]*Table1[[#This Row],['# of Books]]","v":0},{"$f":"Table1[[#This Row],[QTY]]*Table1[[#This Row],[School & Library Price]]","v":0}]
[null,null,null,33,"The Story of Our Holidays","Easter",1,"eBook","978-0-7660-7452-1",2016,"January 2016",null,"Author","Joanna Ponto",4.0999999999999996,0.5,null,null,"L",null,"Grade 3","Grade 3 - 5","Through full-color photos and exciting text, young readers will discover that Easter is not just a religious holiday, but also a time to celebrate spring and rebirth. They will learn about the history of this holiday and how it is celebrated throughout diverse cultures all over the world. Students can even make baby chick crafts and an Easter-related recipe to share.","English",25.27,18.95,"394.2’68283--dc23","32 pp.",{"$f":"Table1[[#This Row],[QTY]]*Table1[[#This Row],['# of Books]]","v":0},{"$f":"Table1[[#This Row],[QTY]]*Table1[[#This Row],[School & Library Price]]","v":0}]
[null,null,null,33,"The Story of Our Holidays","Groundhog Day",1,"Library Bound Book","978-0-7660-8334-9",2017,"January 2017","7.125 X 8.500","Author","Hannah Isbell",5.7,0.5,null,null,"M",null,"Grade 3","Grade 3 - 5","Early in the morning on February 2, as many as thirty thousand people make their way to Gobbler’s Knob to see Punxsutawney Phil, the most famous groundhog in the United States. They watch and wait to see whether he will see his shadow and predict six more weeks of winter. Readers will learn how this strange tradition came to be and its significance, in addition to following a German apple brown bread recipe and making a groundhog shadow box.","English",25.27,18.95,"394.261--dc23","32 pp.",{"$f":"Table1[[#This Row],[QTY]]*Table1[[#This Row],['# of Books]]","v":0},{"$f":"Table1[[#This Row],[QTY]]*Table1[[#This Row],[School & Library Price]]","v":0}]
[null,null,null,33,"The Story of Our Holidays","Groundhog Day",1,"eBook","978-0-7660-8335-6",2017,"January 2017",null,"Author","Hannah Isbell",null,null,null,null,"M",null,"Grade 3","Grade 3 - 5","Early in the morning on February 2, as many as thirty thousand people make their way to Gobbler’s Knob to see Punxsutawney Phil, the most famous groundhog in the United States. They watch and wait to see whether he will see his shadow and predict six more weeks of winter. Readers will learn how this strange tradition came to be and its significance, in addition to following a German apple brown bread recipe and making a groundhog shadow box.","English",25.27,18.95,"394.261--dc23","32 pp.",{"$f":"Table1[[#This Row],[QTY]]*Table1[[#This Row],['# of Books]]","v":0},{"$f":"Table1[[#This Row],[QTY]]*Table1[[#This Row],[School & Library Price]]","v":0}]
[null,null,null,33,"The Story of Our Holidays","Halloween",1,"Library Bound Book","978-0-7660-7652-5",2017,"August 2016","7.125 X 8.500","Author","Joanna Ponto",4.4000000000000004,0.5,null,null,"L",null,"Grade 3","Grade 3 - 5","Most kids think about candy and costumes when they think about Halloween. Readers of this engaging volume will be excited to learn about the way other cultures celebrate and honor the dead, as well as their differing customs. They can round off their learning by making witch finger treats and mini ghost decorations.","English",25.27,18.95,"394.2646--dc23","32 pp.",{"$f":"Table1[[#This Row],[QTY]]*Table1[[#This Row],['# of Books]]","v":0},{"$f":"Table1[[#This Row],[QTY]]*Table1[[#This Row],[School & Library Price]]","v":0}]
[null,null,null,33,"The Story of Our Holidays","Halloween",1,"eBook","978-0-7660-7653-2",2017,"August 2016",null,"Author","Joanna Ponto",4.4000000000000004,0.5,null,null,"L",null,"Grade 3","Grade 3 - 5","Most kids think about candy and costumes when they think about Halloween. Readers of this engaging volume will be excited to learn about the way other cultures celebrate and honor the dead, as well as their differing customs. They can round off their learning by making witch finger treats and mini ghost decorations.","English",25.27,18.95,"394.2646--dc23","32 pp.",{"$f":"Table1[[#This Row],[QTY]]*Table1[[#This Row],['# of Books]]","v":0},{"$f":"Table1[[#This Row],[QTY]]*Table1[[#This Row],[School & Library Price]]","v":0}]
[null,null,null,33,"The Story of Our Holidays","Hanukkah",1,"Library Bound Book","978-0-7660-7628-0",2017,"August 2016","7.125 X 8.500","Author","Joanna Ponto",5.0999999999999996,0.5,null,null,"L",null,"Grade 3","Grade 3 - 5","Young readers will learn how Jews in the United States and abroad celebrate Hanukkah, an eight-day commemoration of the Maccabean rebellion, when a lamp with enough oil to last only one day burned for eight days and nights. This simple yet engaging book also provides instructions on how to make a dreidel and play the game as well as a recipe for applesauce to enjoy over latkes, roast chicken, or just on its own.","English",25.27,18.95,"296.4/35--dc23","32 pp.",{"$f":"Table1[[#This Row],[QTY]]*Table1[[#This Row],['# of Books]]","v":0},{"$f":"Table1[[#This Row],[QTY]]*Table1[[#This Row],[School & Library Price]]","v":0}]
[null,null,null,33,"The Story of Our Holidays","Hanukkah",1,"eBook","978-0-7660-7629-7",2017,"August 2016",null,"Author","Joanna Ponto",5.0999999999999996,0.5,null,null,"L",null,"Grade 3","Grade 3 - 5","Young readers will learn how Jews in the United States and abroad celebrate Hanukkah, an eight-day commemoration of the Maccabean rebellion, when a lamp with enough oil to last only one day burned for eight days and nights. This simple yet engaging book also provides instructions on how to make a dreidel and play the game as well as a recipe for applesauce to enjoy over latkes, roast chicken, or just on its own.","English",25.27,18.95,"296.4/35--dc23","32 pp.",{"$f":"Table1[[#This Row],[QTY]]*Table1[[#This Row],['# of Books]]","v":0},{"$f":"Table1[[#This Row],[QTY]]*Table1[[#This Row],[School & Library Price]]","v":0}]
[null,null,null,33,"The Story of Our Holidays","Independence Day",1,"Library Bound Book","978-0-7660-7459-0",2016,"January 2016","7.125 X 8.500","Author","Joanna Ponto",4.7,0.5,null,null,"N",null,"Grade 3","Grade 3 - 5","Through captivating, simple language, young readers will learn about the history of America’s independence and how it is celebrated across the country. From flags to fireworks, full-color photos will be sure to make this text a favorite for students across the United States. Readers can even make their own sparklers and a Fourth of July-inspired recipe to celebrate!","English",25.27,18.95,"394.2634--dc23","32 pp.",{"$f":"Table1[[#This Row],[QTY]]*Table1[[#This Row],['# of Books]]","v":0},{"$f":"Table1[[#This Row],[QTY]]*Table1[[#This Row],[School & Library Price]]","v":0}]
[null,null,null,33,"The Story of Our Holidays","Independence Day",1,"eBook","978-0-7660-7453-8",2016,"January 2016",null,"Author","Joanna Ponto",4.7,0.5,null,null,"N",null,"Grade 3","Grade 3 - 5","Through captivating, simple language, young readers will learn about the history of America’s independence and how it is celebrated across the country. From flags to fireworks, full-color photos will be sure to make this text a favorite for students across the United States. Readers can even make their own sparklers and a Fourth of July-inspired recipe to celebrate!","English",25.27,18.95,"394.2634--dc23","32 pp.",{"$f":"Table1[[#This Row],[QTY]]*Table1[[#This Row],['# of Books]]","v":0},{"$f":"Table1[[#This Row],[QTY]]*Table1[[#This Row],[School & Library Price]]","v":0}]
[null,null,null,33,"The Story of Our Holidays","Juneteenth",1,"Library Bound Book","978-0-7660-8338-7",2017,"January 2017","7.125 X 8.500","Author, Author","Angela Leeper, Joanna Ponto",5.0999999999999996,0.5,null,null,"M",null,"Grade 3","Grade 3 - 5","In Texas, all slaves found out they were free on June 19, 1865. This day is known as Juneteenth. At first, it was a holiday in Texas, but now people celebrate Juneteenth all across the United States. Readers will learn about the history of the holiday as well as how it is celebrated today. In addition, they can prepare a delicious recipe for corn muffins and construct Juneteenth flag pinwheels to place in a garden, yard, or window.","English",25.27,18.95,"394.263--dc23","32 pp.",{"$f":"Table1[[#This Row],[QTY]]*Table1[[#This Row],['# of Books]]","v":0},{"$f":"Table1[[#This Row],[QTY]]*Table1[[#This Row],[School & Library Price]]","v":0}]
[null,null,null,33,"The Story of Our Holidays","Juneteenth",1,"eBook","978-0-7660-8339-4",2017,"January 2017",null,"Author, Author","Angela Leeper, Joanna Ponto",null,null,null,null,"M",null,"Grade 3","Grade 3 - 5","In Texas, all slaves found out they were free on June 19, 1865. This day is known as Juneteenth. At first, it was a holiday in Texas, but now people celebrate Juneteenth all across the United States. Readers will learn about the history of the holiday as well as how it is celebrated today. In addition, they can prepare a delicious recipe for corn muffins and construct Juneteenth flag pinwheels to place in a garden, yard, or window.","English",25.27,18.95,"394.263--dc23","32 pp.",{"$f":"Table1[[#This Row],[QTY]]*Table1[[#This Row],['# of Books]]","v":0},{"$f":"Table1[[#This Row],[QTY]]*Table1[[#This Row],[School & Library Price]]","v":0}]
[null,null,null,33,"The Story of Our Holidays","Kwanzaa",1,"Library Bound Book","978-0-7660-7623-5",2017,"August 2016","7.125 X 8.500","Author","Joanna Ponto",4.7,0.5,null,null,"L",null,"Grade 3","Grade 3 - 5","First observed in 1966, Kwanzaa is the weeklong celebration of African traditions in American culture. Readers will be introduced to the black power movement of the last century and understand that this holiday was created to connect African Americans with their heritage. This informative resource includes colorful photos, an easy-to-follow recipe for Botswanan stew and instructions on how to make and play the mancala counting game.","English",25.27,18.95,"394.2612--dc23","32 pp.",{"$f":"Table1[[#This Row],[QTY]]*Table1[[#This Row],['# of Books]]","v":0},{"$f":"Table1[[#This Row],[QTY]]*Table1[[#This Row],[School & Library Price]]","v":0}]
[null,null,null,33,"The Story of Our Holidays","Kwanzaa",1,"eBook","978-0-7660-7624-2",2017,"August 2016",null,"Author","Joanna Ponto",4.7,0.5,null,null,"L",null,"Grade 3","Grade 3 - 5","First observed in 1966, Kwanzaa is the weeklong celebration of African traditions in American culture. Readers will be introduced to the black power movement of the last century and understand that this holiday was created to connect African Americans with their heritage. This informative resource includes colorful photos, an easy-to-follow recipe for Botswanan stew and instructions on how to make and play the mancala counting game.","English",25.27,18.95,"394.2612--dc23","32 pp.",{"$f":"Table1[[#This Row],[QTY]]*Table1[[#This Row],['# of Books]]","v":0},{"$f":"Table1[[#This Row],[QTY]]*Table1[[#This Row],[School & Library Price]]","v":0}]
[null,null,null,33,"The Story of Our Holidays","Mardi Gras",1,"Library Bound Book","978-0-7660-7460-6",2016,"January 2016","7.125 X 8.500","Author","Joanna Ponto",4.3,0.5,null,null,"M",null,"Grade 3","Grade 3 - 5","Young readers will learn all about the culture, history, and celebrations of Mardi Gras. From costumes to carnivals and music, students will want to revel in the festivities. Students can make gumbo according to the recipe in the book, as well as create a Mardi Gras mask to celebrate!","English",25.27,18.95,"394.2509763'35--dc23","32 pp.",{"$f":"Table1[[#This Row],[QTY]]*Table1[[#This Row],['# of Books]]","v":0},{"$f":"Table1[[#This Row],[QTY]]*Table1[[#This Row],[School & Library Price]]","v":0}]
[null,null,null,33,"The Story of Our Holidays","Mardi Gras",1,"eBook","978-0-7660-7454-5",2016,"January 2016",null,"Author","Joanna Ponto",4.3,0.5,null,null,"M",null,"Grade 3","Grade 3 - 5","Young readers will learn all about the culture, history, and celebrations of Mardi Gras. From costumes to carnivals and music, students will want to revel in the festivities. Students can make gumbo according to the recipe in the book, as well as create a Mardi Gras mask to celebrate!","English",25.27,18.95,"394.2509763'35--dc23","32 pp.",{"$f":"Table1[[#This Row],[QTY]]*Table1[[#This Row],['# of Books]]","v":0},{"$f":"Table1[[#This Row],[QTY]]*Table1[[#This Row],[School & Library Price]]","v":0}]
[null,null,null,33,"The Story of Our Holidays","Martin Luther King Jr. Day",1,"Library Bound Book","978-0-7660-8342-4",2017,"January 2017","7.125 X 8.500","Author, Author","Carol Gnojewski, Joanna Ponto",4.4000000000000004,0.5,null,null,"M",null,"Grade 3","Grade 3 - 5","The United States celebrated the first Martin Luther King Jr. Day on January 20, 1986. There were marches, parades, and candlelight gatherings. Readers will learn about the life and accomplishments of Martin Luther King Jr. and why his birthday was made an official national holiday. This informative resource includes black-and-white and color photos, an easy-to-follow recipe for peach pie, and instructions on how to make a “Circle of Friendship” craft.","English",25.27,18.95,"323.092--dc23","32 pp.",{"$f":"Table1[[#This Row],[QTY]]*Table1[[#This Row],['# of Books]]","v":0},{"$f":"Table1[[#This Row],[QTY]]*Table1[[#This Row],[School & Library Price]]","v":0}]
[null,null,null,33,"The Story of Our Holidays","Martin Luther King Jr. Day",1,"eBook","978-0-7660-8344-8",2017,"January 2017",null,"Author, Author","Carol Gnojewski, Joanna Ponto",null,null,null,null,"M",null,"Grade 3","Grade 3 - 5","The United States celebrated the first Martin Luther King Jr. Day on January 20, 1986. There were marches, parades, and candlelight gatherings. Readers will learn about the life and accomplishments of Martin Luther King Jr. and why his birthday was made an official national holiday. This informative resource includes black-and-white and color photos, an easy-to-follow recipe for peach pie, and instructions on how to make a “Circle of Friendship” craft.","English",25.27,18.95,"323.092--dc23","32 pp.",{"$f":"Table1[[#This Row],[QTY]]*Table1[[#This Row],['# of Books]]","v":0},{"$f":"Table1[[#This Row],[QTY]]*Table1[[#This Row],[School & Library Price]]","v":0}]
[null,null,null,33,"The Story of Our Holidays","Presidents' Day",1,"Library Bound Book","978-0-7660-8348-6",2017,"January 2017","7.125 X 8.500","Author","Mary Dodson Wade",4.4000000000000004,0.5,null,null,"M",null,"Grade 3","Grade 3 - 5","On the third Monday in February, the United States celebrates Presidents’ Day, which honors all of its commanders in chief. This heavily illustrated volume explores the holiday’s rich history, including its roots dating back to Washington’s birthday. Readers will have a chance to prepare a cherry pie recipe and create a booklet that shows what they would do if they were president.","English",25.27,18.95,"394.261--dc23","32 pp.",{"$f":"Table1[[#This Row],[QTY]]*Table1[[#This Row],['# of Books]]","v":0},{"$f":"Table1[[#This Row],[QTY]]*Table1[[#This Row],[School & Library Price]]","v":0}]
[null,null,null,33,"The Story of Our Holidays","Presidents' Day",1,"eBook","978-0-7660-8349-3",2017,"January 2017",null,"Author","Mary Dodson Wade",null,null,null,null,"M",null,"Grade 3","Grade 3 - 5","On the third Monday in February, the United States celebrates Presidents’ Day, which honors all of its commanders in chief. This heavily illustrated volume explores the holiday’s rich history, including its roots dating back to Washington’s birthday. Readers will have a chance to prepare a cherry pie recipe and create a booklet that shows what they would do if they were president.","English",25.27,18.95,"394.261--dc23","32 pp.",{"$f":"Table1[[#This Row],[QTY]]*Table1[[#This Row],['# of Books]]","v":0},{"$f":"Table1[[#This Row],[QTY]]*Table1[[#This Row],[School & Library Price]]","v":0}]
[null,null,null,33,"The Story of Our Holidays","Ramadan",1,"Library Bound Book","978-0-7660-8352-3",2017,"January 2017","7.125 X 8.500","Author, Author","Carol Gnojewski, Joanna Ponto",5.5,0.5,null,null,"M",null,"Grade 3","Grade 3 - 5","One special night each year, at moonrise, Ramadan, the ninth month of the Islamic year, begins. During Ramadan, Muslims spend the entire month gathering as families and communities. They celebrate with prayer, fasts, and feasts in honor of God. Readers will learn the history and significance of this holy month and how it is celebrated around the world. They can also follow a recipe for an apricot honey walnut tart and instructions to make a garland featuring stars and moons.","English",25.27,18.95,"297.3/62--dc23","32 pp.",{"$f":"Table1[[#This Row],[QTY]]*Table1[[#This Row],['# of Books]]","v":0},{"$f":"Table1[[#This Row],[QTY]]*Table1[[#This Row],[School & Library Price]]","v":0}]
[null,null,null,33,"The Story of Our Holidays","Ramadan",1,"eBook","978-0-7660-8353-0",2017,"January 2017",null,"Author, Author","Carol Gnojewski, Joanna Ponto",null,null,null,null,"M",null,"Grade 3","Grade 3 - 5","One special night each year, at moonrise, Ramadan, the ninth month of the Islamic year, begins. During Ramadan, Muslims spend the entire month gathering as families and communities. They celebrate with prayer, fasts, and feasts in honor of God. Readers will learn the history and significance of this holy month and how it is celebrated around the world. They can also follow a recipe for an apricot honey walnut tart and instructions to make a garland featuring stars and moons.","English",25.27,18.95,"297.3/62--dc23","32 pp.",{"$f":"Table1[[#This Row],[QTY]]*Table1[[#This Row],['# of Books]]","v":0},{"$f":"Table1[[#This Row],[QTY]]*Table1[[#This Row],[School & Library Price]]","v":0}]
[null,null,null,33,"The Story of Our Holidays","St. Patrick's Day",1,"Library Bound Book","978-0-7660-7461-3",2016,"January 2016","7.125 X 8.500","Author","Joanna Ponto",3.9,0.5,null,null,"N",null,"Grade 3","Grade 3 - 5","Students will discover who St. Patrick really was and learn all about the traditions and history associated with the holiday. Hands-on projects such as making their own pots of gold and a St. Patrick’s Day-related recipe gives kids the chance to fully immerse themselves in the celebration.","English",25.27,18.95,"394.262--dc23","32 pp.",{"$f":"Table1[[#This Row],[QTY]]*Table1[[#This Row],['# of Books]]","v":0},{"$f":"Table1[[#This Row],[QTY]]*Table1[[#This Row],[School & Library Price]]","v":0}]
[null,null,null,33,"The Story of Our Holidays","St. Patrick's Day",1,"eBook","978-0-7660-7455-2",2016,"January 2016",null,"Author","Joanna Ponto",3.9,0.5,null,null,"N",null,"Grade 3","Grade 3 - 5","Students will discover who St. Patrick really was and learn all about the traditions and history associated with the holiday. Hands-on projects such as making their own pots of gold and a St. Patrick’s Day-related recipe gives kids the chance to fully immerse themselves in the celebration.","English",25.27,18.95,"394.262--dc23","32 pp.",{"$f":"Table1[[#This Row],[QTY]]*Table1[[#This Row],['# of Books]]","v":0},{"$f":"Table1[[#This Row],[QTY]]*Table1[[#This Row],[School & Library Price]]","v":0}]
[null,null,null,33,"The Story of Our Holidays","Thanksgiving",1,"Library Bound Book","978-0-7660-7634-1",2017,"August 2016","7.125 X 8.500","Author","Joanna Ponto",4.5999999999999996,0.5,null,null,"L",null,"Grade 3","Grade 3 - 5","Thanksgiving is one of the most traditional holidays celebrated in America. We associate the day with turkey, football, and family. Many students might not know that even though the holiday celebrates a harvest feast that supposedly took place in the seventeenth century, Thanksgiving was not declared a federal holiday until 1941. This resource will tell young readers all they need to know about Thanksgiving, in addition to providing a recipe for cranberry sauce and instructions to make turkey-themed seating cards that are sure to be big hits at their next Thanksgiving dinner.","English",25.27,18.95,"394.2649--dc23","32 pp.",{"$f":"Table1[[#This Row],[QTY]]*Table1[[#This Row],['# of Books]]","v":0},{"$f":"Table1[[#This Row],[QTY]]*Table1[[#This Row],[School & Library Price]]","v":0}]
[null,null,null,33,"The Story of Our Holidays","Thanksgiving",1,"eBook","978-0-7660-7636-5",2017,"August 2016",null,"Author","Joanna Ponto",4.5999999999999996,0.5,null,null,"L",null,"Grade 3","Grade 3 - 5","Thanksgiving is one of the most traditional holidays celebrated in America. We associate the day with turkey, football, and family. Many students might not know that even though the holiday celebrates a harvest feast that supposedly took place in the seventeenth century, Thanksgiving was not declared a federal holiday until 1941. This resource will tell young readers all they need to know about Thanksgiving, in addition to providing a recipe for cranberry sauce and instructions to make turkey-themed seating cards that are sure to be big hits at their next Thanksgiving dinner.","English",25.27,18.95,"394.2649--dc23","32 pp.",{"$f":"Table1[[#This Row],[QTY]]*Table1[[#This Row],['# of Books]]","v":0},{"$f":"Table1[[#This Row],[QTY]]*Table1[[#This Row],[School & Library Price]]","v":0}]
[null,null,null,33,"The Story of Our Holidays","Valentine's Day",1,"Library Bound Book","978-0-7660-7462-0",2016,"January 2016","7.125 X 8.500","Author","Joanna Ponto",4.0999999999999996,0.5,null,null,"M",null,"Grade 3","Grade 3 - 5","This simple yet engaging text will show readers that Valentine’s Day is more than candy hearts and flowers. They will learn about the long history of the holiday, who St. Valentine actually was, and how the holiday is celebrated around the world. Also included is a Valentine’s Day-inspired craft and recipe.","English",25.27,18.95,"394.2618--dc23","32 pp.",{"$f":"Table1[[#This Row],[QTY]]*Table1[[#This Row],['# of Books]]","v":0},{"$f":"Table1[[#This Row],[QTY]]*Table1[[#This Row],[School & Library Price]]","v":0}]
[null,null,null,33,"The Story of Our Holidays","Valentine's Day",1,"eBook","978-0-7660-7456-9",2016,"January 2016",null,"Author","Joanna Ponto",4.0999999999999996,0.5,null,null,"M",null,"Grade 3","Grade 3 - 5","This simple yet engaging text will show readers that Valentine’s Day is more than candy hearts and flowers. They will learn about the long history of the holiday, who St. Valentine actually was, and how the holiday is celebrated around the world. Also included is a Valentine’s Day-inspired craft and recipe.","English",25.27,18.95,"394.2618--dc23","32 pp.",{"$f":"Table1[[#This Row],[QTY]]*Table1[[#This Row],['# of Books]]","v":0},{"$f":"Table1[[#This Row],[QTY]]*Table1[[#This Row],[School & Library Price]]","v":0}]
[null,null,null,33,"The Story of Our Holidays","Veterans Day",1,"Library Bound Book","978-0-7660-7640-2",2017,"August 2016","7.125 X 8.500","Author","Joanna Ponto",4.7,0.5,null,null,"M",null,"Grade 3","Grade 3 - 5","On Veterans Day, Americans honor all who have served in the US armed forces. The holiday began in commemoration of the one-year anniversary of the end of World War I and continues to be celebrated every year on November 11. Readers will learn the ways this holiday is celebrated across the country, and can reinforce their understanding by following a recipe for the all-American Apple Brown Betty and instructions to make a thank-you card they can give to a veteran they know.","English",25.27,18.95,"394.264--dc23","32 pp.",{"$f":"Table1[[#This Row],[QTY]]*Table1[[#This Row],['# of Books]]","v":0},{"$f":"Table1[[#This Row],[QTY]]*Table1[[#This Row],[School & Library Price]]","v":0}]
[null,null,null,33,"The Story of Our Holidays","Veterans Day",1,"eBook","978-0-7660-7641-9",2017,"August 2016",null,"Author","Joanna Ponto",4.7,0.5,null,null,"M",null,"Grade 3","Grade 3 - 5","On Veterans Day, Americans honor all who have served in the US armed forces. The holiday began in commemoration of the one-year anniversary of the end of World War I and continues to be celebrated every year on November 11. Readers will learn the ways this holiday is celebrated across the country, and can reinforce their understanding by following a recipe for the all-American Apple Brown Betty and instructions to make a thank-you card they can give to a veteran they know.","English",25.27,18.95,"394.264--dc23","32 pp.",{"$f":"Table1[[#This Row],[QTY]]*Table1[[#This Row],['# of Books]]","v":0},{"$f":"Table1[[#This Row],[QTY]]*Table1[[#This Row],[School & Library Price]]","v":0}]
[null,null,null,34,"Animals of the Night","Animals of the Night",18,"Library Set","978-0-7660-7937-3",2017,"August 2016","7.125 X 8.500",null,null,null,null,null,null,null,null,"Grade 3","Grade 3 - 5","This engaging series is teeming with zoological information, including details about each nocturnal animal’s habitat, hunting methods, survival skills, family life, and relationship with people, as well as fun facts. A Words to Know at the beginning of the book introduces readers to key vocabulary, while safety tips at the end of the book advise readers on what to do if they come face to face with these animals.","English",454.86,341.1,null,"32 pp.",{"$f":"Table1[[#This Row],[QTY]]*Table1[[#This Row],['# of Books]]","v":0},{"$f":"Table1[[#This Row],[QTY]]*Table1[[#This Row],[School & Library Price]]","v":0}]
[null,null,null,34,"Animals of the Night","Aardvarks After Dark",1,"Library Bound Book","978-0-7660-7709-6",2017,"August 2016","7.125 X 8.500","Author","Heather Moore Niver",null,null,null,null,"P",null,"Grade 3","Grade 3 - 5","Aardvark, what a long snout you have! This nocturnal mammal uses its prominent nose to sniff out its next meal of termites and ants. Through fact-filled text and color photos, readers learn about these quiet African animals, including their relationship with their habitat. Read about their homes, body features, reproduction, diet, and family life. Words to Know appear at the front of the book so that readers are ready when they encounter a new term in the text.","English",25.27,18.95,"599.3/1--dc23","32 pp.",{"$f":"Table1[[#This Row],[QTY]]*Table1[[#This Row],['# of Books]]","v":0},{"$f":"Table1[[#This Row],[QTY]]*Table1[[#This Row],[School & Library Price]]","v":0}]
[null,null,null,34,"Animals of the Night","Aardvarks After Dark",1,"eBook","978-0-7660-7697-6",2017,"August 2016",null,"Author","Heather Moore Niver",null,null,null,null,"P",null,"Grade 3","Grade 3 - 5","Aardvark, what a long snout you have! This nocturnal mammal uses its prominent nose to sniff out its next meal of termites and ants. Through fact-filled text and color photos, readers learn about these quiet African animals, including their relationship with their habitat. Read about their homes, body features, reproduction, diet, and family life. Words to Know appear at the front of the book so that readers are ready when they encounter a new term in the text.","English",25.27,18.95,"599.3/1--dc23","32 pp.",{"$f":"Table1[[#This Row],[QTY]]*Table1[[#This Row],['# of Books]]","v":0},{"$f":"Table1[[#This Row],[QTY]]*Table1[[#This Row],[School & Library Price]]","v":0}]
[null,null,null,34,"Animals of the Night","Badgers After Dark",1,"Library Bound Book","978-0-7660-7168-1",2016,"January 2016","7.125 X 8.500","Author","Heather Moore Niver",4.0999999999999996,0.5,null,null,"N",null,"Grade 3","Grade 3 - 5","Full-color images, fun facts, and informational text will bring readers into the secret world of badgers, from their hunting and eating habits to where they live and how they have impacted human life. In addition, safety tips explain what to do if someone comes face-to-face with a badger.","English",25.27,18.95,"599.76'7--dc23","32 pp.",{"$f":"Table1[[#This Row],[QTY]]*Table1[[#This Row],['# of Books]]","v":0},{"$f":"Table1[[#This Row],[QTY]]*Table1[[#This Row],[School & Library Price]]","v":0}]
[null,null,null,34,"Animals of the Night","Badgers After Dark",1,"eBook","978-0-7660-7177-3",2016,"January 2016",null,"Author","Heather Moore Niver",4.0999999999999996,0.5,null,null,"N",null,"Grade 3","Grade 3 - 5","Full-color images, fun facts, and informational text will bring readers into the secret world of badgers, from their hunting and eating habits to where they live and how they have impacted human life. In addition, safety tips explain what to do if someone comes face-to-face with a badger.","English",25.27,18.95,"599.76'7--dc23","32 pp.",{"$f":"Table1[[#This Row],[QTY]]*Table1[[#This Row],['# of Books]]","v":0},{"$f":"Table1[[#This Row],[QTY]]*Table1[[#This Row],[School & Library Price]]","v":0}]
[null,null,null,34,"Animals of the Night","Bats After Dark",1,"Library Bound Book","978-0-7660-6752-3",2016,"August 2015","7.125 X 8.500","Author","Ruth O'Shaughnessy",4.3,0.5,null,null,"M",null,"Grade 3 - 4","Grade 3 - 5","Blind, bloodsucking creatures that fly through the night air—is that what bats really are? In fact, bats are gentle, intelligent, and extremely useful to humans. Learn how these flying mammals communicate, what they eat, where they live, and more. By the time you finish reading, you might even be excited by the idea of encountering one!","English",25.27,18.95,"599.4--dc23","32 pp.",{"$f":"Table1[[#This Row],[QTY]]*Table1[[#This Row],['# of Books]]","v":0},{"$f":"Table1[[#This Row],[QTY]]*Table1[[#This Row],[School & Library Price]]","v":0}]
[null,null,null,34,"Animals of the Night","Bats After Dark",1,"eBook","978-0-7660-6753-0",2016,"August 2015",null,"Author","Ruth O'Shaughnessy",4.3,0.5,null,null,"M",null,"Grade 3 - 4","Grade 3 - 5","Blind, bloodsucking creatures that fly through the night air—is that what bats really are? In fact, bats are gentle, intelligent, and extremely useful to humans. Learn how these flying mammals communicate, what they eat, where they live, and more. By the time you finish reading, you might even be excited by the idea of encountering one!","English",25.27,18.95,"599.4--dc23","32 pp.",{"$f":"Table1[[#This Row],[QTY]]*Table1[[#This Row],['# of Books]]","v":0},{"$f":"Table1[[#This Row],[QTY]]*Table1[[#This Row],[School & Library Price]]","v":0}]
[null,null,null,34,"Animals of the Night","Big Cats After Dark",1,"Library Bound Book","978-0-7660-7046-2",2016,"August 2015","7.125 X 8.500","Author","Ruth O'Shaughnessy",4.4000000000000004,0.5,null,null,"M",null,"Grade 3 - 4","Grade 3 - 5","Your kitty at home may eat food from a can and sleep in the sunshine, but big cats of the wild are a different story. Where do tigers live? What do lions hunt? How do leopards and jaguars see in the dark? This book will tell you all about your cat's larger relatives that still roam the wild!","English",25.27,18.95,"599.75--dc23","32 pp.",{"$f":"Table1[[#This Row],[QTY]]*Table1[[#This Row],['# of Books]]","v":0},{"$f":"Table1[[#This Row],[QTY]]*Table1[[#This Row],[School & Library Price]]","v":0}]
[null,null,null,34,"Animals of the Night","Big Cats After Dark",1,"eBook","978-0-7660-7047-9",2016,"August 2015",null,"Author","Ruth O'Shaughnessy",4.4000000000000004,0.5,null,null,"M",null,"Grade 3 - 4","Grade 3 - 5","Your kitty at home may eat food from a can and sleep in the sunshine, but big cats of the wild are a different story. Where do tigers live? What do lions hunt? How do leopards and jaguars see in the dark? This book will tell you all about your cat's larger relatives that still roam the wild!","English",25.27,18.95,"599.75--dc23","32 pp.",{"$f":"Table1[[#This Row],[QTY]]*Table1[[#This Row],['# of Books]]","v":0},{"$f":"Table1[[#This Row],[QTY]]*Table1[[#This Row],[School & Library Price]]","v":0}]
[null,null,null,34,"Animals of the Night","Bull Sharks After Dark",1,"Library Bound Book","978-0-7660-7712-6",2017,"August 2016","7.125 X 8.500","Author","Heather Moore Niver",null,null,null,null,"N",null,"Grade 3","Grade 3 - 5","Full-color images, fun facts, and informational text will bring readers into the secret world of bull sharks. This solitary hunter inhabits shallow areas of warm coastal waters throughout the world. Engaging text highlights this predator’s habitat, diet, family life, and hunting style. A safety section educates readers about the possible dangers of encountering this fish in the wild.","English",25.27,18.95,"597.3/4--dc23","32 pp.",{"$f":"Table1[[#This Row],[QTY]]*Table1[[#This Row],['# of Books]]","v":0},{"$f":"Table1[[#This Row],[QTY]]*Table1[[#This Row],[School & Library Price]]","v":0}]
[null,null,null,34,"Animals of the Night","Bull Sharks After Dark",1,"eBook","978-0-7660-7701-0",2017,"August 2016",null,"Author","Heather Moore Niver",null,null,null,null,"N",null,"Grade 3","Grade 3 - 5","Full-color images, fun facts, and informational text will bring readers into the secret world of bull sharks. This solitary hunter inhabits shallow areas of warm coastal waters throughout the world. Engaging text highlights this predator’s habitat, diet, family life, and hunting style. A safety section educates readers about the possible dangers of encountering this fish in the wild.","English",25.27,18.95,"597.3/4--dc23","32 pp.",{"$f":"Table1[[#This Row],[QTY]]*Table1[[#This Row],['# of Books]]","v":0},{"$f":"Table1[[#This Row],[QTY]]*Table1[[#This Row],[School & Library Price]]","v":0}]
[null,null,null,34,"Animals of the Night","Capybaras After Dark",1,"Library Bound Book","978-0-7660-7706-5",2017,"August 2016","7.125 X 8.500","Author","Heather Moore Niver",null,null,null,null,"P",null,"Grade 3","Grade 3 - 5","Did you know that capybaras yelp, bark, chirp, whistle, huff, and growl? These Central and South American rodents have unique ways of communicating with each other. Vivid full-color images illustrate the nocturnal capybara’s habitat and unique adaptations in the wild. Words to Know, fun facts, accessible text, and safety tips educate readers about how capybaras eat, reproduce, and interact with other herds.","English",25.27,18.95,"599.35/9--dc23","32 pp.",{"$f":"Table1[[#This Row],[QTY]]*Table1[[#This Row],['# of Books]]","v":0},{"$f":"Table1[[#This Row],[QTY]]*Table1[[#This Row],[School & Library Price]]","v":0}]
[null,null,null,34,"Animals of the Night","Capybaras After Dark",1,"eBook","978-0-7660-7692-1",2017,"August 2016",null,"Author","Heather Moore Niver",null,null,null,null,"P",null,"Grade 3","Grade 3 - 5","Did you know that capybaras yelp, bark, chirp, whistle, huff, and growl? These Central and South American rodents have unique ways of communicating with each other. Vivid full-color images illustrate the nocturnal capybara’s habitat and unique adaptations in the wild. Words to Know, fun facts, accessible text, and safety tips educate readers about how capybaras eat, reproduce, and interact with other herds.","English",25.27,18.95,"599.35/9--dc23","32 pp.",{"$f":"Table1[[#This Row],[QTY]]*Table1[[#This Row],['# of Books]]","v":0},{"$f":"Table1[[#This Row],[QTY]]*Table1[[#This Row],[School & Library Price]]","v":0}]
[null,null,null,34,"Animals of the Night","Coyotes After Dark",1,"Library Bound Book","978-0-7660-7183-4",2016,"January 2016","7.125 X 8.500","Author","Heather Moore Niver",4.5,0.5,null,null,"N",null,"Grade 3","Grade 3 - 5","After the sun sets, many coyotes come out to hunt, eat, and play. Words to Know, fun facts, accessible text, and safety tips inform readers about the different ways coyotes communicate, their hunting skills, their family life, and even how to stay safe around coyotes, while full-color photos illustrate the coyote’s habits and environment.","English",25.27,18.95,"599.77'25--dc23","32 pp.",{"$f":"Table1[[#This Row],[QTY]]*Table1[[#This Row],['# of Books]]","v":0},{"$f":"Table1[[#This Row],[QTY]]*Table1[[#This Row],[School & Library Price]]","v":0}]
[null,null,null,34,"Animals of the Night","Coyotes After Dark",1,"eBook","978-0-7660-7184-1",2016,"January 2016",null,"Author","Heather Moore Niver",4.5,0.5,null,null,"N",null,"Grade 3","Grade 3 - 5","After the sun sets, many coyotes come out to hunt, eat, and play. Words to Know, fun facts, accessible text, and safety tips inform readers about the different ways coyotes communicate, their hunting skills, their family life, and even how to stay safe around coyotes, while full-color photos illustrate the coyote’s habits and environment.","English",25.27,18.95,"599.77'25--dc23","32 pp.",{"$f":"Table1[[#This Row],[QTY]]*Table1[[#This Row],['# of Books]]","v":0},{"$f":"Table1[[#This Row],[QTY]]*Table1[[#This Row],[School & Library Price]]","v":0}]
[null,null,null,34,"Animals of the Night","Crocodiles and Alligators After Dark",1,"Library Bound Book","978-0-7660-6756-1",2016,"August 2015","7.125 X 8.500","Author","Ruth O'Shaughnessy",4.7,0.5,null,null,"N",null,"Grade 3 - 4","Grade 3 - 5","What's the difference between a crocodile and an alligator? Where do they live? What do they eat? Find out all about these descendants of dinosaurs, and you'll be ready the next time you see one!","English",25.27,18.95,"597.98--dc23","32 pp.",{"$f":"Table1[[#This Row],[QTY]]*Table1[[#This Row],['# of Books]]","v":0},{"$f":"Table1[[#This Row],[QTY]]*Table1[[#This Row],[School & Library Price]]","v":0}]
[null,null,null,34,"Animals of the Night","Crocodiles and Alligators After Dark",1,"eBook","978-0-7660-6757-8",2016,"August 2015",null,"Author","Ruth O'Shaughnessy",4.7,0.5,null,null,"N",null,"Grade 3 - 4","Grade 3 - 5","What's the difference between a crocodile and an alligator? Where do they live? What do they eat? Find out all about these descendants of dinosaurs, and you'll be ready the next time you see one!","English",25.27,18.95,"597.98--dc23","32 pp.",{"$f":"Table1[[#This Row],[QTY]]*Table1[[#This Row],['# of Books]]","v":0},{"$f":"Table1[[#This Row],[QTY]]*Table1[[#This Row],[School & Library Price]]","v":0}]
[null,null,null,34,"Animals of the Night","Foxes After Dark",1,"Library Bound Book","978-0-7660-7214-5",2016,"January 2016","7.125 X 8.500","Author","Heather Moore Niver",4.4000000000000004,0.5,null,null,"M",null,"Grade 3","Grade 3 - 5","Foxes, like other nocturnal canines, do their hunting and playing after dark. Through informational text and full-color photos, readers will learn what foxes eat, how they hunt, how they raise their cubs, and if they have any natural predators. In addition, a Words to Know at the beginning of the book helps readers understand new vocabulary they will come across in the text, and safety tips at the end of the book will inform them how to stay safe if they ever encounter a fox.","English",25.27,18.95,"599.775--dc23","32 pp.",{"$f":"Table1[[#This Row],[QTY]]*Table1[[#This Row],['# of Books]]","v":0},{"$f":"Table1[[#This Row],[QTY]]*Table1[[#This Row],[School & Library Price]]","v":0}]
[null,null,null,34,"Animals of the Night","Foxes After Dark",1,"eBook","978-0-7660-7215-2",2016,"January 2016",null,"Author","Heather Moore Niver",4.4000000000000004,0.5,null,null,"M",null,"Grade 3","Grade 3 - 5","Foxes, like other nocturnal canines, do their hunting and playing after dark. Through informational text and full-color photos, readers will learn what foxes eat, how they hunt, how they raise their cubs, and if they have any natural predators. In addition, a Words to Know at the beginning of the book helps readers understand new vocabulary they will come across in the text, and safety tips at the end of the book will inform them how to stay safe if they ever encounter a fox.","English",25.27,18.95,"599.775--dc23","32 pp.",{"$f":"Table1[[#This Row],[QTY]]*Table1[[#This Row],['# of Books]]","v":0},{"$f":"Table1[[#This Row],[QTY]]*Table1[[#This Row],[School & Library Price]]","v":0}]
[null,null,null,34,"Animals of the Night","Opossums After Dark",1,"Library Bound Book","978-0-7660-7304-3",2016,"January 2016","7.125 X 8.500","Author","Heather Moore Niver",4,0.5,null,null,"M",null,"Grade 3","Grade 3 - 5","There is much more to opossums than just their well-known ability to play dead. Opossums are great climbers and scavengers, as well as protective mothers. They have a well-developed sense of smell and strong jaws. Through fact-filled text and color photos, readers will learn all about these North American marsupials, including what they eat, where they live, how they are helpful to people, and how to stay safe around them.","English",25.27,18.95,"599.2’76--dc23","32 pp.",{"$f":"Table1[[#This Row],[QTY]]*Table1[[#This Row],['# of Books]]","v":0},{"$f":"Table1[[#This Row],[QTY]]*Table1[[#This Row],[School & Library Price]]","v":0}]
[null,null,null,34,"Animals of the Night","Opossums After Dark",1,"eBook","978-0-7660-7305-0",2016,"January 2016",null,"Author","Heather Moore Niver",4,0.5,null,null,"M",null,"Grade 3","Grade 3 - 5","There is much more to opossums than just their well-known ability to play dead. Opossums are great climbers and scavengers, as well as protective mothers. They have a well-developed sense of smell and strong jaws. Through fact-filled text and color photos, readers will learn all about these North American marsupials, including what they eat, where they live, how they are helpful to people, and how to stay safe around them.","English",25.27,18.95,"599.2’76--dc23","32 pp.",{"$f":"Table1[[#This Row],[QTY]]*Table1[[#This Row],['# of Books]]","v":0},{"$f":"Table1[[#This Row],[QTY]]*Table1[[#This Row],[School & Library Price]]","v":0}]
[null,null,null,34,"Animals of the Night","Owls After Dark",1,"Library Bound Book","978-0-7660-6760-8",2016,"August 2015","7.125 X 8.500","Author","Ruth O'Shaughnessy",4.3,0.5,null,null,"M",null,"Grade 3 - 4","Grade 3 - 5","Everyone knows how an owl sounds. But do you know what they eat? How they hunt? Why they only come out at night? Learn how these magnificent birds live and why they capture our imaginations.","English",25.27,18.95,"598.9'7--dc23","32 pp.",{"$f":"Table1[[#This Row],[QTY]]*Table1[[#This Row],['# of Books]]","v":0},{"$f":"Table1[[#This Row],[QTY]]*Table1[[#This Row],[School & Library Price]]","v":0}]
[null,null,null,34,"Animals of the Night","Owls After Dark",1,"eBook","978-0-7660-6761-5",2016,"August 2015",null,"Author","Ruth O'Shaughnessy",4.3,0.5,null,null,"M",null,"Grade 3 - 4","Grade 3 - 5","Everyone knows how an owl sounds. But do you know what they eat? How they hunt? Why they only come out at night? Learn how these magnificent birds live and why they capture our imaginations.","English",25.27,18.95,"598.9'7--dc23","32 pp.",{"$f":"Table1[[#This Row],[QTY]]*Table1[[#This Row],['# of Books]]","v":0},{"$f":"Table1[[#This Row],[QTY]]*Table1[[#This Row],[School & Library Price]]","v":0}]
[null,null,null,34,"Animals of the Night","Raccoons After Dark",1,"Library Bound Book","978-0-7660-6764-6",2016,"August 2015","7.125 X 8.500","Author","Ruth O'Shaughnessy",4.4000000000000004,0.5,null,null,"N",null,"Grade 3 - 4","Grade 3 - 5","Many people think of raccoons as adorable little bandits or pests that rummage through their trash—and they are, but they are also much more interesting. Where do raccoons live? What do they eat? Do they have predators? Learn all about raccoons and view these masked creatures in a new light!","English",25.27,18.95,"599.76","32 pp.",{"$f":"Table1[[#This Row],[QTY]]*Table1[[#This Row],['# of Books]]","v":0},{"$f":"Table1[[#This Row],[QTY]]*Table1[[#This Row],[School & Library Price]]","v":0}]
[null,null,null,34,"Animals of the Night","Raccoons After Dark",1,"eBook","978-0-7660-6765-3",2016,"August 2015",null,"Author","Ruth O'Shaughnessy",4.4000000000000004,0.5,null,null,"N",null,"Grade 3 - 4","Grade 3 - 5","Many people think of raccoons as adorable little bandits or pests that rummage through their trash—and they are, but they are also much more interesting. Where do raccoons live? What do they eat? Do they have predators? Learn all about raccoons and view these masked creatures in a new light!","English",25.27,18.95,"599.76","32 pp.",{"$f":"Table1[[#This Row],[QTY]]*Table1[[#This Row],['# of Books]]","v":0},{"$f":"Table1[[#This Row],[QTY]]*Table1[[#This Row],[School & Library Price]]","v":0}]
[null,null,null,34,"Animals of the Night","River Otters After Dark",1,"Library Bound Book","978-0-7660-7702-7",2017,"August 2016","7.125 X 8.500","Author","Heather Moore Niver",null,null,null,null,"N",null,"Grade 3","Grade 3 - 5","Midnight snacks aren’t just for people! River otters splash into the water at night, searching for their next meal. Full-page, color images and engaging narrative showcase the playful and industrious river otter. Read about its behavior, habitat, family life, and unique adaptations. Text features include Words to Know at the opening of the book and a Stay Safe section to inform readers how to act if they encounter a river otter in the wild.","English",25.27,18.95,"599.769/2--dc23","32 pp.",{"$f":"Table1[[#This Row],[QTY]]*Table1[[#This Row],['# of Books]]","v":0},{"$f":"Table1[[#This Row],[QTY]]*Table1[[#This Row],[School & Library Price]]","v":0}]
[null,null,null,34,"Animals of the Night","River Otters After Dark",1,"eBook","978-0-7660-7690-7",2017,"August 2016",null,"Author","Heather Moore Niver",null,null,null,null,"N",null,"Grade 3","Grade 3 - 5","Midnight snacks aren’t just for people! River otters splash into the water at night, searching for their next meal. Full-page, color images and engaging narrative showcase the playful and industrious river otter. Read about its behavior, habitat, family life, and unique adaptations. Text features include Words to Know at the opening of the book and a Stay Safe section to inform readers how to act if they encounter a river otter in the wild.","English",25.27,18.95,"599.769/2--dc23","32 pp.",{"$f":"Table1[[#This Row],[QTY]]*Table1[[#This Row],['# of Books]]","v":0},{"$f":"Table1[[#This Row],[QTY]]*Table1[[#This Row],[School & Library Price]]","v":0}]
[null,null,null,34,"Animals of the Night","Skunks After Dark",1,"Library Bound Book","978-0-7660-7360-9",2016,"January 2016","7.125 X 8.500","Author","Heather Moore Niver",3.8,0.5,null,null,"L",null,"Grade 3","Grade 3 - 5","Through text filled with fascinating details and beautiful color photos, readers will learn about skunks’ behaviors, habitats, diet, family life, and struggles in the wild, as well as how to stay safe around skunks.","English",25.27,18.95,"599.76’8--dc23","32 pp.",{"$f":"Table1[[#This Row],[QTY]]*Table1[[#This Row],['# of Books]]","v":0},{"$f":"Table1[[#This Row],[QTY]]*Table1[[#This Row],[School & Library Price]]","v":0}]
[null,null,null,34,"Animals of the Night","Skunks After Dark",1,"eBook","978-0-7660-7369-2",2016,"January 2016",null,"Author","Heather Moore Niver",3.8,0.5,null,null,"L",null,"Grade 3","Grade 3 - 5","Through text filled with fascinating details and beautiful color photos, readers will learn about skunks’ behaviors, habitats, diet, family life, and struggles in the wild, as well as how to stay safe around skunks.","English",25.27,18.95,"599.76’8--dc23","32 pp.",{"$f":"Table1[[#This Row],[QTY]]*Table1[[#This Row],['# of Books]]","v":0},{"$f":"Table1[[#This Row],[QTY]]*Table1[[#This Row],[School & Library Price]]","v":0}]
[null,null,null,34,"Animals of the Night","Snakes After Dark",1,"Library Bound Book","978-0-7660-6768-4",2016,"August 2015","7.125 X 8.500","Author","Ruth O'Shaughnessy",4.5999999999999996,0.5,null,null,"N",null,"Grade 3 - 4","Grade 3 - 5","You hear a hiss in the grass or a rattling in the rocks . . .  you know a snake is near. But which snakes are venomous? How do they kill their prey? Where do they live? Learn all about snakes and their habits so you’ll be prepared should you cross paths with one of these slithering reptiles!","English",25.27,18.95,"597.96--dc23","32 pp.",{"$f":"Table1[[#This Row],[QTY]]*Table1[[#This Row],['# of Books]]","v":0},{"$f":"Table1[[#This Row],[QTY]]*Table1[[#This Row],[School & Library Price]]","v":0}]
[null,null,null,34,"Animals of the Night","Snakes After Dark",1,"eBook","978-0-7660-7003-5",2016,"August 2015",null,"Author","Ruth O'Shaughnessy",4.5999999999999996,0.5,null,null,"N",null,"Grade 3 - 4","Grade 3 - 5","You hear a hiss in the grass or a rattling in the rocks . . .  you know a snake is near. But which snakes are venomous? How do they kill their prey? Where do they live? Learn all about snakes and their habits so you’ll be prepared should you cross paths with one of these slithering reptiles!","English",25.27,18.95,"597.96--dc23","32 pp.",{"$f":"Table1[[#This Row],[QTY]]*Table1[[#This Row],['# of Books]]","v":0},{"$f":"Table1[[#This Row],[QTY]]*Table1[[#This Row],[School & Library Price]]","v":0}]
[null,null,null,34,"Animals of the Night","Snow Leopards After Dark",1,"Library Bound Book","978-0-7660-7708-9",2017,"August 2016","7.125 X 8.500","Author","Heather Moore Niver",null,null,null,null,"N",null,"Grade 3","Grade 3 - 5","Most people never see the secretive and shy snow leopard. But the stunning full-color images and rich narrative of this book gives readers a special glimpse at this nocturnal predator of the mountains. Words to Know appear at the front of the book so that readers are ready when they encounter a new term in the text. Learn about a snow leopard’s behaviors, habitat, diet, and family life. Fun facts scattered throughout the book add even more insight into the lives of these majestic cats of Asia.","English",25.27,18.95,"599.75/54--dc23","32 pp.",{"$f":"Table1[[#This Row],[QTY]]*Table1[[#This Row],['# of Books]]","v":0},{"$f":"Table1[[#This Row],[QTY]]*Table1[[#This Row],[School & Library Price]]","v":0}]
[null,null,null,34,"Animals of the Night","Snow Leopards After Dark",1,"eBook","978-0-7660-7694-5",2017,"August 2016",null,"Author","Heather Moore Niver",null,null,null,null,"N",null,"Grade 3","Grade 3 - 5","Most people never see the secretive and shy snow leopard. But the stunning full-color images and rich narrative of this book gives readers a special glimpse at this nocturnal predator of the mountains. Words to Know appear at the front of the book so that readers are ready when they encounter a new term in the text. Learn about a snow leopard’s behaviors, habitat, diet, and family life. Fun facts scattered throughout the book add even more insight into the lives of these majestic cats of Asia.","English",25.27,18.95,"599.75/54--dc23","32 pp.",{"$f":"Table1[[#This Row],[QTY]]*Table1[[#This Row],['# of Books]]","v":0},{"$f":"Table1[[#This Row],[QTY]]*Table1[[#This Row],[School & Library Price]]","v":0}]
[null,null,null,34,"Animals of the Night","Vampire Bats After Dark",1,"Library Bound Book","978-0-7660-7711-9",2017,"August 2016","7.125 X 8.500","Author","Heather Moore Niver",null,null,null,null,"O",null,"Grade 3","Grade 3 - 5","Hunting by moonlight, the unique vampire bat is the only known mammal in the world that feeds exclusively on blood! How do these Central and South American bats feed, communicate, reproduce, and roost? Full-page photos share the lives of these nocturnal creatures. Fun facts showcase the vampire batﾒs unique adaptations and Words to Know introduce readers to new vocabulary.","English",25.27,18.95,"599.4/5--dc23","32 pp.",{"$f":"Table1[[#This Row],[QTY]]*Table1[[#This Row],['# of Books]]","v":0},{"$f":"Table1[[#This Row],[QTY]]*Table1[[#This Row],[School & Library Price]]","v":0}]
[null,null,null,34,"Animals of the Night","Vampire Bats After Dark",1,"eBook","978-0-7660-7699-0",2017,"August 2016",null,"Author","Heather Moore Niver",null,null,null,null,"O",null,"Grade 3","Grade 3 - 5","Hunting by moonlight, the unique vampire bat is the only known mammal in the world that feeds exclusively on blood! How do these Central and South American bats feed, communicate, reproduce, and roost? Full-page photos share the lives of these nocturnal creatures. Fun facts showcase the vampire batﾒs unique adaptations and Words to Know introduce readers to new vocabulary.","English",25.27,18.95,"599.4/5--dc23","32 pp.",{"$f":"Table1[[#This Row],[QTY]]*Table1[[#This Row],['# of Books]]","v":0},{"$f":"Table1[[#This Row],[QTY]]*Table1[[#This Row],[School & Library Price]]","v":0}]
[null,null,null,34,"Animals of the Night","Wolves After Dark",1,"Library Bound Book","978-0-7660-7418-7",2016,"January 2016","7.125 X 8.500","Author","Heather Moore Niver",3.9,0.5,null,null,"L",null,"Grade 3","Grade 3 - 5","Readers learn about wolves and their extraordinary senses, their family life in the pack, and the dangers wolves face every day. Key details describe the life of the wolf and highlight what the future might hold for these majestic canines. Words to Know in the beginning of the text facilitates reading comprehension, and safety tips tell readers what to do if they ever encounter a wolf in real life.","English",25.27,18.95,"599.773--dc23","32 pp.",{"$f":"Table1[[#This Row],[QTY]]*Table1[[#This Row],['# of Books]]","v":0},{"$f":"Table1[[#This Row],[QTY]]*Table1[[#This Row],[School & Library Price]]","v":0}]
[null,null,null,34,"Animals of the Night","Wolves After Dark",1,"eBook","978-0-7660-7419-4",2016,"January 2016",null,"Author","Heather Moore Niver",3.9,0.5,null,null,"L",null,"Grade 3","Grade 3 - 5","Readers learn about wolves and their extraordinary senses, their family life in the pack, and the dangers wolves face every day. Key details describe the life of the wolf and highlight what the future might hold for these majestic canines. Words to Know in the beginning of the text facilitates reading comprehension, and safety tips tell readers what to do if they ever encounter a wolf in real life.","English",25.27,18.95,"599.773--dc23","32 pp.",{"$f":"Table1[[#This Row],[QTY]]*Table1[[#This Row],['# of Books]]","v":0},{"$f":"Table1[[#This Row],[QTY]]*Table1[[#This Row],[School & Library Price]]","v":0}]
[null,null,null,35,"American Humane Association Top 10 Pets for Kids","American Humane Association Top 10 Pets for Kids",6,"Library Set","978-0-7660-7999-1",2015,null,"7.500 X 9.000",null,null,null,null,null,null,null,null,"Grade 3 - 6","Grade 3 - 6",null,"English",151.62,113.7,null,"48 pp.",{"$f":"Table1[[#This Row],[QTY]]*Table1[[#This Row],['# of Books]]","v":0},{"$f":"Table1[[#This Row],[QTY]]*Table1[[#This Row],[School & Library Price]]","v":0}]
[null,null,null,35,"American Humane Association Top 10 Pets for Kids","Kids Top 10 Pet Birds",1,"Library Bound Book","978-0-7660-6625-0",2015,"January 2015","7.500 X 9.000","Author","Wendy Mead",null,null,null,null,null,null,"Grade 3 - 4","Grade 3 - 6","What bird is best for me? Birds come in all different colors and sizes. Some are loud, while others are quiet. Some are playful, while others are shy. This book can help you pick the pet that is best for you and your family. The American Humane Association has approved the top 10 birds, which are listed alphabetically.","English",25.27,18.95,null,"48 pp.",{"$f":"Table1[[#This Row],[QTY]]*Table1[[#This Row],['# of Books]]","v":0},{"$f":"Table1[[#This Row],[QTY]]*Table1[[#This Row],[School & Library Price]]","v":0}]
[null,null,null,35,"American Humane Association Top 10 Pets for Kids","Kids Top 10 Pet Birds",1,"eBook","978-0-7660-6629-8",2015,"January 2015",null,"Author","Wendy Mead",null,null,null,null,null,null,"Grade 3 - 4","Grade 3 - 6","What bird is best for me? Birds come in all different colors and sizes. Some are loud, while others are quiet. Some are playful, while others are shy. This book can help you pick the pet that is best for you and your family. The American Humane Association has approved the top 10 birds, which are listed alphabetically.","English",25.27,18.95,null,"48 pp.",{"$f":"Table1[[#This Row],[QTY]]*Table1[[#This Row],['# of Books]]","v":0},{"$f":"Table1[[#This Row],[QTY]]*Table1[[#This Row],[School & Library Price]]","v":0}]
[null,null,null,35,"American Humane Association Top 10 Pets for Kids","Kids Top 10 Pet Cats",1,"Library Bound Book","978-0-7660-6630-4",2015,"January 2015","7.500 X 9.000","Author","Dana Meachen Rau",null,null,null,null,null,null,"Grade 3 - 4","Grade 3 - 6","What kind of cat should I adopt? There are many types of cats. Some have long hair, and others have short hair. Some have a lot of energy, while others are more relaxed. This book can help you pick the pet that is best for you and your family. The American Humane Association has approved the top 10 cats, which are listed alphabetically.","English",25.27,18.95,"636.8","48 pp.",{"$f":"Table1[[#This Row],[QTY]]*Table1[[#This Row],['# of Books]]","v":0},{"$f":"Table1[[#This Row],[QTY]]*Table1[[#This Row],[School & Library Price]]","v":0}]
[null,null,null,35,"American Humane Association Top 10 Pets for Kids","Kids Top 10 Pet Cats",1,"eBook","978-0-7660-6634-2",2015,"January 2015",null,"Author","Dana Meachen Rau",null,null,null,null,null,null,"Grade 3 - 4","Grade 3 - 6","What kind of cat should I adopt? There are many types of cats. Some have long hair, and others have short hair. Some have a lot of energy, while others are more relaxed. This book can help you pick the pet that is best for you and your family. The American Humane Association has approved the top 10 cats, which are listed alphabetically.","English",25.27,18.95,"636.8","48 pp.",{"$f":"Table1[[#This Row],[QTY]]*Table1[[#This Row],['# of Books]]","v":0},{"$f":"Table1[[#This Row],[QTY]]*Table1[[#This Row],[School & Library Price]]","v":0}]
[null,null,null,35,"American Humane Association Top 10 Pets for Kids","Kids Top 10 Pet Dogs",1,"Library Bound Book","978-0-7660-6635-9",2015,"January 2015","7.500 X 9.000","Author","Ann Graham Gaines",null,null,null,null,null,null,"Grade 3 - 4","Grade 3 - 6","What dog should I choose? Dogs come in all different sizes and colors. Some are big, while some are small. Some like to play, while others like to cuddle. This book can help you pick the pet that is best for you and your family. The American Humane Association has approved the top 10 dogs, which are listed alphabetically.","English",25.27,18.95,null,"48 pp.",{"$f":"Table1[[#This Row],[QTY]]*Table1[[#This Row],['# of Books]]","v":0},{"$f":"Table1[[#This Row],[QTY]]*Table1[[#This Row],[School & Library Price]]","v":0}]
[null,null,null,35,"American Humane Association Top 10 Pets for Kids","Kids Top 10 Pet Dogs",1,"eBook","978-0-7660-6639-7",2015,"January 2015",null,"Author","Ann Graham Gaines",null,null,null,null,null,null,"Grade 3 - 4","Grade 3 - 6","What dog should I choose? Dogs come in all different sizes and colors. Some are big, while some are small. Some like to play, while others like to cuddle. This book can help you pick the pet that is best for you and your family. The American Humane Association has approved the top 10 dogs, which are listed alphabetically.","English",25.27,18.95,null,"48 pp.",{"$f":"Table1[[#This Row],[QTY]]*Table1[[#This Row],['# of Books]]","v":0},{"$f":"Table1[[#This Row],[QTY]]*Table1[[#This Row],[School & Library Price]]","v":0}]
[null,null,null,35,"American Humane Association Top 10 Pets for Kids","Kids Top 10 Pet Fish",1,"Library Bound Book","978-0-7660-6640-3",2015,"January 2015","7.500 X 9.000","Author","Dana Meachen Rau",null,null,null,null,null,null,"Grade 3 - 4","Grade 3 - 6","What type of pet fish should I pick? Fish come in all sorts of colors, shapes, and sizes. Some fish like to live alone, while others enjoy living in groups. Some need freshwater, while others need salt water. This book can help you pick the pet that is best for you and your family. The American Humane Association has approved the top 10 fish, which are listed alphabetically.","English",25.27,18.95,"639.34","48 pp.",{"$f":"Table1[[#This Row],[QTY]]*Table1[[#This Row],['# of Books]]","v":0},{"$f":"Table1[[#This Row],[QTY]]*Table1[[#This Row],[School & Library Price]]","v":0}]
[null,null,null,35,"American Humane Association Top 10 Pets for Kids","Kids Top 10 Pet Fish",1,"eBook","978-0-7660-6644-1",2015,"January 2015",null,"Author","Dana Meachen Rau",null,null,null,null,null,null,"Grade 3 - 4","Grade 3 - 6","What type of pet fish should I pick? Fish come in all sorts of colors, shapes, and sizes. Some fish like to live alone, while others enjoy living in groups. Some need freshwater, while others need salt water. This book can help you pick the pet that is best for you and your family. The American Humane Association has approved the top 10 fish, which are listed alphabetically.","English",25.27,18.95,"639.34","48 pp.",{"$f":"Table1[[#This Row],[QTY]]*Table1[[#This Row],['# of Books]]","v":0},{"$f":"Table1[[#This Row],[QTY]]*Table1[[#This Row],[School & Library Price]]","v":0}]
[null,null,null,35,"American Humane Association Top 10 Pets for Kids","Kids Top 10 Pet Reptiles and Amphibians",1,"Library Bound Book","978-0-7660-6645-8",2015,"January 2015","7.500 X 9.000","Author","Ann Graham Gaines",null,null,null,null,null,null,"Grade 3 - 4","Grade 3 - 6","Is a reptile or amphibian the right pet for me? Some reptiles can be held, while many amphibians are just for watching. Some eat plants, while others need meat. This book can help you pick the pet that is best for you and your family. The American Humane Association has approved the top 10 reptiles and amphibians, which are listed alphabetically.","English",25.27,18.95,"639.3","48 pp.",{"$f":"Table1[[#This Row],[QTY]]*Table1[[#This Row],['# of Books]]","v":0},{"$f":"Table1[[#This Row],[QTY]]*Table1[[#This Row],[School & Library Price]]","v":0}]
[null,null,null,35,"American Humane Association Top 10 Pets for Kids","Kids Top 10 Pet Reptiles and Amphibians",1,"eBook","978-0-7660-6649-6",2015,"January 2015",null,"Author","Ann Graham Gaines",null,null,null,null,null,null,"Grade 3 - 4","Grade 3 - 6","Is a reptile or amphibian the right pet for me? Some reptiles can be held, while many amphibians are just for watching. Some eat plants, while others need meat. This book can help you pick the pet that is best for you and your family. The American Humane Association has approved the top 10 reptiles and amphibians, which are listed alphabetically.","English",25.27,18.95,"639.3","48 pp.",{"$f":"Table1[[#This Row],[QTY]]*Table1[[#This Row],['# of Books]]","v":0},{"$f":"Table1[[#This Row],[QTY]]*Table1[[#This Row],[School & Library Price]]","v":0}]
[null,null,null,35,"American Humane Association Top 10 Pets for Kids","Kids Top 10 Small Mammal Pets",1,"Library Bound Book","978-0-7660-6650-2",2015,"January 2015","7.500 X 9.000","Author","Ann Graham Gaines",null,null,null,null,null,null,"Grade 3 - 4","Grade 3 - 6","What kind of small mammal should I choose? Rabbits, guinea pigs, hamsters, and other small mammals may all be cute and fuzzy, but each animal is special. The American Humane Association has approved the top 10 small mammals, which are listed alphabetically.","English",25.27,18.95,"636.9","48 pp.",{"$f":"Table1[[#This Row],[QTY]]*Table1[[#This Row],['# of Books]]","v":0},{"$f":"Table1[[#This Row],[QTY]]*Table1[[#This Row],[School & Library Price]]","v":0}]
[null,null,null,35,"American Humane Association Top 10 Pets for Kids","Kids Top 10 Small Mammal Pets",1,"eBook","978-0-7660-6654-0",2015,"January 2015",null,"Author","Ann Graham Gaines",null,null,null,null,null,null,"Grade 3 - 4","Grade 3 - 6","What kind of small mammal should I choose? Rabbits, guinea pigs, hamsters, and other small mammals may all be cute and fuzzy, but each animal is special. The American Humane Association has approved the top 10 small mammals, which are listed alphabetically.","English",25.27,18.95,"636.9","48 pp.",{"$f":"Table1[[#This Row],[QTY]]*Table1[[#This Row],['# of Books]]","v":0},{"$f":"Table1[[#This Row],[QTY]]*Table1[[#This Row],[School & Library Price]]","v":0}]
[null,null,null,35,"Animals on the Family Farm","Animals on the Family Farm",6,"Library Set","978-0-7660-8000-3",2013,"January 2013","9.000 X 7.500",null,null,null,null,null,null,null,null,"Grade 3 - 6","Grade 3 - 6",null,"English",135.6,101.7,null,"24 pp.",{"$f":"Table1[[#This Row],[QTY]]*Table1[[#This Row],['# of Books]]","v":0},{"$f":"Table1[[#This Row],[QTY]]*Table1[[#This Row],[School & Library Price]]","v":0}]
[null,null,null,35,"Animals on the Family Farm","Chickens on the Family Farm",1,"Library Bound Book","978-0-7660-4204-9",2013,"January 2013","9.000 X 7.500","Author","Chana Stiefel",2.4,0.5,null,null,"F","470L","Grade K - 2","Grade K - 3","What is a chicken’s life like? What does it eat? Where does it live? Discover how a chicken lives on a small, family-owned farm.  ","English",22.6,16.95,"636.5","24 pp.",{"$f":"Table1[[#This Row],[QTY]]*Table1[[#This Row],['# of Books]]","v":0},{"$f":"Table1[[#This Row],[QTY]]*Table1[[#This Row],[School & Library Price]]","v":0}]
[null,null,null,35,"Animals on the Family Farm","Chickens on the Family Farm",1,"eBook","978-0-7660-5826-2",2013,"January 2013",null,"Author","Chana Stiefel",2.4,0.5,null,null,"F","470L","Grade K - 2","Grade K - 3","What is a chicken’s life like? What does it eat? Where does it live? Discover how a chicken lives on a small, family-owned farm.  ","English",22.6,16.95,"636.5","24 pp.",{"$f":"Table1[[#This Row],[QTY]]*Table1[[#This Row],['# of Books]]","v":0},{"$f":"Table1[[#This Row],[QTY]]*Table1[[#This Row],[School & Library Price]]","v":0}]
[null,null,null,35,"Animals on the Family Farm","Cows on the Family Farm",1,"Library Bound Book","978-0-7660-4205-6",2013,"January 2013","9.000 X 7.500","Author","Chana Stiefel",2.6,0.5,null,null,"F","560L","Grade K - 2","Grade K - 3","Author Chana Stiefel takes readers onto the farm in COWS ON THE FAMILY FARM. Find out how cows live, what they eat, and how they spend their days. ","English",22.6,16.95,"636.2","24 pp.",{"$f":"Table1[[#This Row],[QTY]]*Table1[[#This Row],['# of Books]]","v":0},{"$f":"Table1[[#This Row],[QTY]]*Table1[[#This Row],[School & Library Price]]","v":0}]
[null,null,null,35,"Animals on the Family Farm","Cows on the Family Farm",1,"eBook","978-0-7660-5827-9",2013,"January 2013",null,"Author","Chana Stiefel",2.6,0.5,null,null,"F","560L","Grade K - 2","Grade K - 3","Author Chana Stiefel takes readers onto the farm in COWS ON THE FAMILY FARM. Find out how cows live, what they eat, and how they spend their days. ","English",22.6,16.95,"636.2","24 pp.",{"$f":"Table1[[#This Row],[QTY]]*Table1[[#This Row],['# of Books]]","v":0},{"$f":"Table1[[#This Row],[QTY]]*Table1[[#This Row],[School & Library Price]]","v":0}]
[null,null,null,35,"Animals on the Family Farm","Goats on the Family Farm",1,"Library Bound Book","978-0-7660-4206-3",2013,"January 2013","9.000 X 7.500","Author","Chana Stiefel",2.6,0.5,null,null,"F","580L","Grade K - 2","Grade K - 3","GOATS ON THE FAMILY FARM explores a goat’s life. Did you know that you can make cheese from goat’s milk, or that goats are really great jumpers? Discover what a goat’s life is like in this addition to the ANIMALS ON THE FAMILY FARM series. ","English",22.6,16.95,"636.3","24 pp.",{"$f":"Table1[[#This Row],[QTY]]*Table1[[#This Row],['# of Books]]","v":0},{"$f":"Table1[[#This Row],[QTY]]*Table1[[#This Row],[School & Library Price]]","v":0}]
[null,null,null,35,"Animals on the Family Farm","Goats on the Family Farm",1,"eBook","978-0-7660-5828-6",2013,"January 2013",null,"Author","Chana Stiefel",2.6,0.5,null,null,"F","580L","Grade K - 2","Grade K - 3","GOATS ON THE FAMILY FARM explores a goat’s life. Did you know that you can make cheese from goat’s milk, or that goats are really great jumpers? Discover what a goat’s life is like in this addition to the ANIMALS ON THE FAMILY FARM series. ","English",22.6,16.95,"636.3","24 pp.",{"$f":"Table1[[#This Row],[QTY]]*Table1[[#This Row],['# of Books]]","v":0},{"$f":"Table1[[#This Row],[QTY]]*Table1[[#This Row],[School & Library Price]]","v":0}]
[null,null,null,35,"Animals on the Family Farm","Pigs on the Family Farm",1,"Library Bound Book","978-0-7660-4208-7",2013,"January 2013","9.000 X 7.500","Author","Chana Stiefel",2.9,0.5,null,null,"F","610L","Grade K - 2","Grade K - 3","Did you know that some pigs can weigh over 400 pounds? Or that a baby pig is called a piglet? Author Chana Stiefel explores what a pig’s life is like in PIGS ON THE FAMILY FARM.  ","English",22.6,16.95,"636.4","24 pp.",{"$f":"Table1[[#This Row],[QTY]]*Table1[[#This Row],['# of Books]]","v":0},{"$f":"Table1[[#This Row],[QTY]]*Table1[[#This Row],[School & Library Price]]","v":0}]
[null,null,null,35,"Animals on the Family Farm","Pigs on the Family Farm",1,"eBook","978-0-7660-5830-9",2013,"January 2013",null,"Author","Chana Stiefel",2.9,0.5,null,null,"F","610L","Grade K - 2","Grade K - 3","Did you know that some pigs can weigh over 400 pounds? Or that a baby pig is called a piglet? Author Chana Stiefel explores what a pig’s life is like in PIGS ON THE FAMILY FARM.  ","English",22.6,16.95,"636.4","24 pp.",{"$f":"Table1[[#This Row],[QTY]]*Table1[[#This Row],['# of Books]]","v":0},{"$f":"Table1[[#This Row],[QTY]]*Table1[[#This Row],[School & Library Price]]","v":0}]
[null,null,null,35,"Animals on the Family Farm","Sheep on the Family Farm",1,"Library Bound Book","978-0-7660-4209-4",2013,"January 2013","9.000 X 7.500","Author","Chana Stiefel",2.7,0.5,null,null,"F","560L","Grade K - 2","Grade K - 3","Did you know that the fluffy fur on a sheep is called wool? It’s used to make some sweaters or blankets! Take a visit to the farm and learn about sheep with author Chana Stiefel. ","English",22.6,16.95,"636.3","24 pp.",{"$f":"Table1[[#This Row],[QTY]]*Table1[[#This Row],['# of Books]]","v":0},{"$f":"Table1[[#This Row],[QTY]]*Table1[[#This Row],[School & Library Price]]","v":0}]
[null,null,null,35,"Animals on the Family Farm","Sheep on the Family Farm",1,"eBook","978-0-7660-5831-6",2013,"January 2013",null,"Author","Chana Stiefel",2.7,0.5,null,null,"F","560L","Grade K - 2","Grade K - 3","Did you know that the fluffy fur on a sheep is called wool? It’s used to make some sweaters or blankets! Take a visit to the farm and learn about sheep with author Chana Stiefel. ","English",22.6,16.95,"636.3","24 pp.",{"$f":"Table1[[#This Row],[QTY]]*Table1[[#This Row],['# of Books]]","v":0},{"$f":"Table1[[#This Row],[QTY]]*Table1[[#This Row],[School & Library Price]]","v":0}]
[null,null,null,35,"Animals on the Family Farm","Turkeys on the Family Farm",1,"Library Bound Book","978-0-7660-4207-0",2013,"January 2013","9.000 X 7.500","Author","Chana Stiefel",2.8,0.5,null,null,"F","520L","Grade K - 2","Grade K - 3","What are baby turkeys called? Poults! Find out all sorts of facts about a turkey in TURKEYS ON THE FAMILY FARM. Author Chana Stiefel explores where turkeys live, what they eat, and their life cycle in this exciting addition to ANIMALS ON THE FAMILY FARM. ","English",22.6,16.95,"636.5","24 pp.",{"$f":"Table1[[#This Row],[QTY]]*Table1[[#This Row],['# of Books]]","v":0},{"$f":"Table1[[#This Row],[QTY]]*Table1[[#This Row],[School & Library Price]]","v":0}]
[null,null,null,35,"Animals on the Family Farm","Turkeys on the Family Farm",1,"eBook","978-0-7660-5829-3",2013,"January 2013",null,"Author","Chana Stiefel",2.8,0.5,null,null,"F","520L","Grade K - 2","Grade K - 3","What are baby turkeys called? Poults! Find out all sorts of facts about a turkey in TURKEYS ON THE FAMILY FARM. Author Chana Stiefel explores where turkeys live, what they eat, and their life cycle in this exciting addition to ANIMALS ON THE FAMILY FARM. ","English",22.6,16.95,"636.5","24 pp.",{"$f":"Table1[[#This Row],[QTY]]*Table1[[#This Row],['# of Books]]","v":0},{"$f":"Table1[[#This Row],[QTY]]*Table1[[#This Row],[School & Library Price]]","v":0}]
[null,null,null,36,"The American Humane Association Pet Care Series","The American Humane Association Pet Care Series",6,"Library Set","978-0-7660-8001-0",2013,"January 2013","7.500 X 9.000",null,null,null,null,null,null,null,null,"Grade 3 - 6","Grade 3 - 6",null,"English",151.62,113.7,null,"48 pp.",{"$f":"Table1[[#This Row],[QTY]]*Table1[[#This Row],['# of Books]]","v":0},{"$f":"Table1[[#This Row],[QTY]]*Table1[[#This Row],[School & Library Price]]","v":0}]
[null,null,null,36,"The American Humane Association Pet Care Series","Choosing a Bird: How to Choose and Care for a Bird",1,"Library Bound Book","978-0-7660-4078-6",2013,"January 2013","7.500 X 9.000","Author","Laura S. Jeffrey",5,null,null,null,"M","850L","Grade 3 - ","Grade 3 - 5","Is a bird the right pet for you? Birds are social, outgoing, and smart. The most popular birds to keep as pets are parakeets, canaries, finches, cockatiels, and parrots. CHOOSING A BIRD will help you decide what kind of bird to get, what to feed it, and how to make it feel comfortable and safe. Learn how to keep your new pet healthy and happy for many fun-filled years together. ","English",25.27,18.95,"636.6","48 pp.",{"$f":"Table1[[#This Row],[QTY]]*Table1[[#This Row],['# of Books]]","v":0},{"$f":"Table1[[#This Row],[QTY]]*Table1[[#This Row],[School & Library Price]]","v":0}]
[null,null,null,36,"The American Humane Association Pet Care Series","Choosing a Bird: How to Choose and Care for a Bird",1,"eBook","978-0-7660-5755-5",2013,"January 2013",null,"Author","Laura S. Jeffrey",5,null,null,null,"M","850L","Grade 3 - ","Grade 3 - 5","Is a bird the right pet for you? Birds are social, outgoing, and smart. The most popular birds to keep as pets are parakeets, canaries, finches, cockatiels, and parrots. CHOOSING A BIRD will help you decide what kind of bird to get, what to feed it, and how to make it feel comfortable and safe. Learn how to keep your new pet healthy and happy for many fun-filled years together. ","English",25.27,18.95,"636.6","48 pp.",{"$f":"Table1[[#This Row],[QTY]]*Table1[[#This Row],['# of Books]]","v":0},{"$f":"Table1[[#This Row],[QTY]]*Table1[[#This Row],[School & Library Price]]","v":0}]
[null,null,null,36,"The American Humane Association Pet Care Series","Choosing a Cat: How to Choose and Care for a Cat",1,"Library Bound Book","978-0-7660-4079-3",2013,"January 2013","7.500 X 9.000","Author","Laura S. Jeffrey",4.8,null,null,null,"M","850L","Grade 3 - ","Grade 3 - 5","Is a purebred cat or mixed-breed cat right for you? Cats are playful, loving, and clean pets. There are more than seventy breeds and millions of mixed-breed cats in shelters waiting for homes. CHOOSING A CAT will help you figure out which cat or kitten is the best fit for you, what to feed it, how to keep it safe, and much more. Learn how to take good care of your new cat so you can enjoy many happy years together. ","English",25.27,18.95,"636.8","48 pp.",{"$f":"Table1[[#This Row],[QTY]]*Table1[[#This Row],['# of Books]]","v":0},{"$f":"Table1[[#This Row],[QTY]]*Table1[[#This Row],[School & Library Price]]","v":0}]
[null,null,null,36,"The American Humane Association Pet Care Series","Choosing a Cat: How to Choose and Care for a Cat",1,"eBook","978-0-7660-5756-2",2013,"January 2013",null,"Author","Laura S. Jeffrey",4.8,null,null,null,"M","850L","Grade 3 - ","Grade 3 - 5","Is a purebred cat or mixed-breed cat right for you? Cats are playful, loving, and clean pets. There are more than seventy breeds and millions of mixed-breed cats in shelters waiting for homes. CHOOSING A CAT will help you figure out which cat or kitten is the best fit for you, what to feed it, how to keep it safe, and much more. Learn how to take good care of your new cat so you can enjoy many happy years together. ","English",25.27,18.95,"636.8","48 pp.",{"$f":"Table1[[#This Row],[QTY]]*Table1[[#This Row],['# of Books]]","v":0},{"$f":"Table1[[#This Row],[QTY]]*Table1[[#This Row],[School & Library Price]]","v":0}]
[null,null,null,36,"The American Humane Association Pet Care Series","Choosing a Dog: How to Choose and Care for a Dog",1,"Library Bound Book","978-0-7660-4080-9",2013,"January 2013","7.500 X 9.000","Author","Laura S. Jeffrey",4.8,null,null,null,"M","830L","Grade 3 - ","Grade 3 - 5","Is a puppy or a dog better for your family? Dogs are loyal, playful, and loving. There are hundreds of different breeds of dogs in the world. Or maybe you want a mixed-breed dog. CHOOSING A DOG will help you find the right dog for you. Read about where to get one, what to feed it, why you should train your dog, and much more. Learn how you and your dog can spend many happy years together. ","English",25.27,18.95,"636.7","48 pp.",{"$f":"Table1[[#This Row],[QTY]]*Table1[[#This Row],['# of Books]]","v":0},{"$f":"Table1[[#This Row],[QTY]]*Table1[[#This Row],[School & Library Price]]","v":0}]
[null,null,null,36,"The American Humane Association Pet Care Series","Choosing a Dog: How to Choose and Care for a Dog",1,"eBook","978-0-7660-5757-9",2013,"January 2013",null,"Author","Laura S. Jeffrey",4.8,null,null,null,"M","830L","Grade 3 - ","Grade 3 - 5","Is a puppy or a dog better for your family? Dogs are loyal, playful, and loving. There are hundreds of different breeds of dogs in the world. Or maybe you want a mixed-breed dog. CHOOSING A DOG will help you find the right dog for you. Read about where to get one, what to feed it, why you should train your dog, and much more. Learn how you and your dog can spend many happy years together. ","English",25.27,18.95,"636.7","48 pp.",{"$f":"Table1[[#This Row],[QTY]]*Table1[[#This Row],['# of Books]]","v":0},{"$f":"Table1[[#This Row],[QTY]]*Table1[[#This Row],[School & Library Price]]","v":0}]
[null,null,null,36,"The American Humane Association Pet Care Series","Choosing a Fish: How to Choose and Care for a Fish",1,"Library Bound Book","978-0-7660-4081-6",2013,"January 2013","7.500 X 9.000","Author","Laura S. Jeffrey",5,null,null,null,"M","820L","Grade 3 - ","Grade 3 - 5","Is a fish the right pet for you? Fish are beautiful to look at and fun to watch. They come in many different shapes, sizes, and colors. Some types of fish are harder to care for than others. CHOOSING A FISH will help you decide what kind of freshwater fish and how many to get. Read about the kind of food to feed your fish, what size tank you should get, and much more. Learn how to keep your fish healthy and happy for years to come.  ","English",25.27,18.95,"639.34","48 pp.",{"$f":"Table1[[#This Row],[QTY]]*Table1[[#This Row],['# of Books]]","v":0},{"$f":"Table1[[#This Row],[QTY]]*Table1[[#This Row],[School & Library Price]]","v":0}]
[null,null,null,36,"The American Humane Association Pet Care Series","Choosing a Fish: How to Choose and Care for a Fish",1,"eBook","978-0-7660-5758-6",2013,"January 2013",null,"Author","Laura S. Jeffrey",5,null,null,null,"M","820L","Grade 3 - ","Grade 3 - 5","Is a fish the right pet for you? Fish are beautiful to look at and fun to watch. They come in many different shapes, sizes, and colors. Some types of fish are harder to care for than others. CHOOSING A FISH will help you decide what kind of freshwater fish and how many to get. Read about the kind of food to feed your fish, what size tank you should get, and much more. Learn how to keep your fish healthy and happy for years to come.  ","English",25.27,18.95,"639.34","48 pp.",{"$f":"Table1[[#This Row],[QTY]]*Table1[[#This Row],['# of Books]]","v":0},{"$f":"Table1[[#This Row],[QTY]]*Table1[[#This Row],[School & Library Price]]","v":0}]
[null,null,null,36,"The American Humane Association Pet Care Series","Choosing a Hamster, Gerbil, Guinea Pig, Rabbit, Ferret, Mouse, or Rat: How to Choose and Care for a Small Mammal",1,"Library Bound Book","978-0-7660-4082-3",2013,"January 2013","7.500 X 9.000","Author","Laura S. Jeffrey",5.3,null,null,null,"M","930L","Grade 3 - ","Grade 3 - 5","Which small mammal is best for your family? Hamsters, gerbils, guinea pigs, rabbits, ferrets, mice, and rats make great pets. They do not need much room and they are fun to play with. CHOOSING A HAMSTER, GERBIL, GUINEA PIG, RABBIT, FERRET, MOUSE, OR RAT will help you pick the right pet for you. Read about what to feed your small mammal, what size cage to get, which animals can be trained, and much more. Learn how to take good care of your new pet so you can enjoy many fun-filled years together.  ","English",25.27,18.95,"636.088","48 pp.",{"$f":"Table1[[#This Row],[QTY]]*Table1[[#This Row],['# of Books]]","v":0},{"$f":"Table1[[#This Row],[QTY]]*Table1[[#This Row],[School & Library Price]]","v":0}]
[null,null,null,36,"The American Humane Association Pet Care Series","Choosing a Hamster, Gerbil, Guinea Pig, Rabbit, Ferret, Mouse, or Rat: How to Choose and Care for a Small Mammal",1,"eBook","978-0-7660-5759-3",2013,"January 2013",null,"Author","Laura S. Jeffrey",5.3,null,null,null,"M","930L","Grade 3 - ","Grade 3 - 5","Which small mammal is best for your family? Hamsters, gerbils, guinea pigs, rabbits, ferrets, mice, and rats make great pets. They do not need much room and they are fun to play with. CHOOSING A HAMSTER, GERBIL, GUINEA PIG, RABBIT, FERRET, MOUSE, OR RAT will help you pick the right pet for you. Read about what to feed your small mammal, what size cage to get, which animals can be trained, and much more. Learn how to take good care of your new pet so you can enjoy many fun-filled years together.  ","English",25.27,18.95,"636.088","48 pp.",{"$f":"Table1[[#This Row],[QTY]]*Table1[[#This Row],['# of Books]]","v":0},{"$f":"Table1[[#This Row],[QTY]]*Table1[[#This Row],[School & Library Price]]","v":0}]
[null,null,null,36,"The American Humane Association Pet Care Series","Choosing a Horse: How to Choose and Care for a Horse",1,"Library Bound Book","978-0-7660-4083-0",2013,"January 2013","7.500 X 9.000","Author","Laura S. Jeffrey",5.0999999999999996,null,null,null,"M","840L","Grade 3 - ","Grade 3 - 5","Are you ready for a horse? Horses are graceful, majestic, and intelligent animals. They can be great pets, but it takes a lot of work to take care of a horse. CHOOSING A HORSE will tell you about the different types of horses, where you can get one, and how to care for one. Learn about a horse’s diet, training, grooming, and much more. If you have the time and money to keep a horse healthy and happy, you can spend many fun-filled years together. ","English",25.27,18.95,"636.1","48 pp.",{"$f":"Table1[[#This Row],[QTY]]*Table1[[#This Row],['# of Books]]","v":0},{"$f":"Table1[[#This Row],[QTY]]*Table1[[#This Row],[School & Library Price]]","v":0}]
[null,null,null,36,"The American Humane Association Pet Care Series","Choosing a Horse: How to Choose and Care for a Horse",1,"eBook","978-0-7660-5760-9",2013,"January 2013",null,"Author","Laura S. Jeffrey",5.0999999999999996,null,null,null,"M","840L","Grade 3 - ","Grade 3 - 5","Are you ready for a horse? Horses are graceful, majestic, and intelligent animals. They can be great pets, but it takes a lot of work to take care of a horse. CHOOSING A HORSE will tell you about the different types of horses, where you can get one, and how to care for one. Learn about a horse’s diet, training, grooming, and much more. If you have the time and money to keep a horse healthy and happy, you can spend many fun-filled years together. ","English",25.27,18.95,"636.1","48 pp.",{"$f":"Table1[[#This Row],[QTY]]*Table1[[#This Row],['# of Books]]","v":0},{"$f":"Table1[[#This Row],[QTY]]*Table1[[#This Row],[School & Library Price]]","v":0}]
[null,null,null,36,"Horses That Help with the American Humane Association","Horses That Help with the American Humane Association",4,"Library Set","978-0-7660-8002-7",2014,"January 2014","7.500 X 9.000",null,null,null,null,null,null,null,null,null,null,null,"English",101.08,75.8,null,"48 pp.",{"$f":"Table1[[#This Row],[QTY]]*Table1[[#This Row],['# of Books]]","v":0},{"$f":"Table1[[#This Row],[QTY]]*Table1[[#This Row],[School & Library Price]]","v":0}]
[null,null,null,36,"Horses That Help with the American Humane Association","Draft Horses: Horses That Work",1,"Library Bound Book","978-0-7660-4220-9",2014,"January 2014","7.500 X 9.000","Author","Loren Spiotta-Dimare",5.6,1,null,null,"M","980L","Grade 3 - ","Grade 3 - 5","In DRAFT HORSES, read about Carlos and his two Belgian draft horses, Dick and Dolly, which are trained to pull the family wagon. Discover the history of draft horses, what breeds are used, what being on the job is like for a draft horse, the training involved, and what happens when draft horses retire. Learn how these powerful animals became important in people’s daily lives, both on farms and in cities. ","English",25.27,18.95,"636.1","48 pp.",{"$f":"Table1[[#This Row],[QTY]]*Table1[[#This Row],['# of Books]]","v":0},{"$f":"Table1[[#This Row],[QTY]]*Table1[[#This Row],[School & Library Price]]","v":0}]
[null,null,null,36,"Horses That Help with the American Humane Association","Draft Horses: Horses That Work",1,"eBook","978-0-7660-5843-9",2014,"January 2014",null,"Author","Loren Spiotta-Dimare",5.6,1,null,null,"M","980L","Grade 3 - ","Grade 3 - 5","In DRAFT HORSES, read about Carlos and his two Belgian draft horses, Dick and Dolly, which are trained to pull the family wagon. Discover the history of draft horses, what breeds are used, what being on the job is like for a draft horse, the training involved, and what happens when draft horses retire. Learn how these powerful animals became important in people’s daily lives, both on farms and in cities. ","English",25.27,18.95,"636.1","48 pp.",{"$f":"Table1[[#This Row],[QTY]]*Table1[[#This Row],['# of Books]]","v":0},{"$f":"Table1[[#This Row],[QTY]]*Table1[[#This Row],[School & Library Price]]","v":0}]
[null,null,null,36,"Horses That Help with the American Humane Association","Performing Horses: Horses That Entertain",1,"Library Bound Book","978-0-7660-4219-3",2014,"January 2014","7.500 X 9.000","Author","Loren Spiotta-Dimare",5.8,1,null,null,"M","1030L","Grade 3 - ","Grade 3 - 5","In PERFORMING HORSES, read about Tony Maglio and the horses he has trained to appear in movies and television. Discover the history of performing horses, what breeds are used, what being on the job is like for a performing horse, the training involved, and what happens when performing horses retire. Learn how these incredible animals bring joy into people's lives with their amazing talents. ","English",25.27,18.95,"791.3","48 pp.",{"$f":"Table1[[#This Row],[QTY]]*Table1[[#This Row],['# of Books]]","v":0},{"$f":"Table1[[#This Row],[QTY]]*Table1[[#This Row],[School & Library Price]]","v":0}]
[null,null,null,36,"Horses That Help with the American Humane Association","Performing Horses: Horses That Entertain",1,"eBook","978-0-7660-5842-2",2014,"January 2014",null,"Author","Loren Spiotta-Dimare",5.8,1,null,null,"M","1030L","Grade 3 - ","Grade 3 - 5","In PERFORMING HORSES, read about Tony Maglio and the horses he has trained to appear in movies and television. Discover the history of performing horses, what breeds are used, what being on the job is like for a performing horse, the training involved, and what happens when performing horses retire. Learn how these incredible animals bring joy into people's lives with their amazing talents. ","English",25.27,18.95,"791.3","48 pp.",{"$f":"Table1[[#This Row],[QTY]]*Table1[[#This Row],['# of Books]]","v":0},{"$f":"Table1[[#This Row],[QTY]]*Table1[[#This Row],[School & Library Price]]","v":0}]
[null,null,null,36,"Horses That Help with the American Humane Association","Police Horses: Horses That Protect",1,"Library Bound Book","978-0-7660-4218-6",2014,"January 2014","7.500 X 9.000","Author","Loren Spiotta-Dimare",5.2,1,null,null,"M","950L","Grade 3 - ","Grade 3 - 5","In POLICE HORSES, read about the incredible bond between Lieutenant Bob Marelli and his police horse Lieu. Discover the history of police horses, what breeds are used, what being on the job is like for a mounted police officer and his horse, the training involved, and what happens when police horses retire. Learn how these amazing animals help their officers serve and protect people. ","English",25.27,18.95,"363.2","48 pp.",{"$f":"Table1[[#This Row],[QTY]]*Table1[[#This Row],['# of Books]]","v":0},{"$f":"Table1[[#This Row],[QTY]]*Table1[[#This Row],[School & Library Price]]","v":0}]
[null,null,null,36,"Horses That Help with the American Humane Association","Police Horses: Horses That Protect",1,"eBook","978-0-7660-5841-5",2014,"January 2014",null,"Author","Loren Spiotta-Dimare",5.2,1,null,null,"M","950L","Grade 3 - ","Grade 3 - 5","In POLICE HORSES, read about the incredible bond between Lieutenant Bob Marelli and his police horse Lieu. Discover the history of police horses, what breeds are used, what being on the job is like for a mounted police officer and his horse, the training involved, and what happens when police horses retire. Learn how these amazing animals help their officers serve and protect people. ","English",25.27,18.95,"363.2","48 pp.",{"$f":"Table1[[#This Row],[QTY]]*Table1[[#This Row],['# of Books]]","v":0},{"$f":"Table1[[#This Row],[QTY]]*Table1[[#This Row],[School & Library Price]]","v":0}]
[null,null,null,36,"Horses That Help with the American Humane Association","Therapy Horses: Horses That Heal",1,"Library Bound Book","978-0-7660-4217-9",2014,"January 2014","7.500 X 9.000","Author","Loren Spiotta-Dimare",6.1,1,null,null,"M","1000L","Grade 3 - ","Grade 3 - 5","In THERAPY HORSES, read about Michelle, who has special needs, and the therapy horses that helped her. Discover the history of therapy horses, what breeds are used, what being on the job is like for a therapy horse, the training involved, and what happens when therapy horses retire. Learn how these amazing animals help heal people with physical and emotional challenges. ","English",25.27,18.95,"615.8","48 pp.",{"$f":"Table1[[#This Row],[QTY]]*Table1[[#This Row],['# of Books]]","v":0},{"$f":"Table1[[#This Row],[QTY]]*Table1[[#This Row],[School & Library Price]]","v":0}]
[null,null,null,36,"Horses That Help with the American Humane Association","Therapy Horses: Horses That Heal",1,"eBook","978-0-7660-5840-8",2014,"January 2014",null,"Author","Loren Spiotta-Dimare",6.1,1,null,null,"M","1000L","Grade 3 - ","Grade 3 - 5","In THERAPY HORSES, read about Michelle, who has special needs, and the therapy horses that helped her. Discover the history of therapy horses, what breeds are used, what being on the job is like for a therapy horse, the training involved, and what happens when therapy horses retire. Learn how these amazing animals help heal people with physical and emotional challenges. ","English",25.27,18.95,"615.8","48 pp.",{"$f":"Table1[[#This Row],[QTY]]*Table1[[#This Row],['# of Books]]","v":0},{"$f":"Table1[[#This Row],[QTY]]*Table1[[#This Row],[School & Library Price]]","v":0}]
[null,null,null,37,"Draw the Magic Fairy","Draw the Magic Fairy",4,"Library Set","978-0-7660-8003-4",2014,"August 2013","9.500 X 9.500",null,null,null,null,null,null,null,null,"Grade K - 3","Grade K - 3",null,"English",95.76,71.8,null,"36 pp.",{"$f":"Table1[[#This Row],[QTY]]*Table1[[#This Row],['# of Books]]","v":0},{"$f":"Table1[[#This Row],[QTY]]*Table1[[#This Row],[School & Library Price]]","v":0}]
[null,null,null,37,"Draw the Magic Fairy","Draw the Magic Blue Fairy",1,"Library Bound Book","978-0-7660-4265-0",2014,"August 2013","9.500 X 9.500","Author","Rosa M. Curto",2.7,null,null,null,null,"450L","Grade K - 2","Grade K - 3","You can find the blue fairy among the flowers! With easy, step-by-step instructions, you can create your own fairy world! In DRAW THE MAGIC BLUE FAIRY, learn how to draw delicious cakes, colorful butterflies, pretty clothes and hairstyles, fun fairy friends, and much more. Let your imagination guide you! ","English",23.94,17.95,"741.2","36 pp.",{"$f":"Table1[[#This Row],[QTY]]*Table1[[#This Row],['# of Books]]","v":0},{"$f":"Table1[[#This Row],[QTY]]*Table1[[#This Row],[School & Library Price]]","v":0}]
[null,null,null,37,"Draw the Magic Fairy","Draw the Magic Green Fairy",1,"Library Bound Book","978-0-7660-4268-1",2014,"August 2013","9.500 X 9.500","Author","Rosa M. Curto",2.9,null,null,null,null,"540L","Grade K - 2","Grade K - 3","The green fairy loves to dance with her friends! Follow easy step-by-step instructions to create your own magical world. In DRAW THE MAGIC GREEN FAIRY, learn how to draw yummy ice cream, busy bees, funny hats, fun fairy friends, and much more. Let your imagination soar! ","English",23.94,17.95,"741.2","36 pp.",{"$f":"Table1[[#This Row],[QTY]]*Table1[[#This Row],['# of Books]]","v":0},{"$f":"Table1[[#This Row],[QTY]]*Table1[[#This Row],[School & Library Price]]","v":0}]
[null,null,null,37,"Draw the Magic Fairy","Draw the Magic Pink Fairy",1,"Library Bound Book","978-0-7660-4266-7",2014,"August 2013","9.500 X 9.500","Author","Rosa M. Curto",2.8,null,null,null,null,"490L","Grade K - 2","Grade K - 3","The pink fairy plays in the forest! Simple step-by-step directions show you how to create your own fairy lands. In DRAW THE MAGIC PINK FAIRY, learn how to draw colorful candy, fancy flowers, pretty dresses, fun fairy friends, and much more. Your imagination rules the fairy world! ","English",23.94,17.95,"741.2","36 pp.",{"$f":"Table1[[#This Row],[QTY]]*Table1[[#This Row],['# of Books]]","v":0},{"$f":"Table1[[#This Row],[QTY]]*Table1[[#This Row],[School & Library Price]]","v":0}]
[null,null,null,37,"Draw the Magic Fairy","Draw the Magic Red Fairy",1,"Library Bound Book","978-0-7660-4267-4",2014,"August 2013","9.500 X 9.500","Author","Rosa M. Curto",2.8,null,null,null,null,"470L","Grade K - 2","Grade K - 3","The red fairy loves to watch her flowers bloom! Learn to create your own fairy world by following easy step-by-step directions. In DRAW THE MAGIC RED FAIRY, you can draw tasty cookies, colorful beetles, pretty dresses and parasols, fun fairy friends, and much more.  Let your imagination fly! ","English",23.94,17.95,"741.2","36 pp.",{"$f":"Table1[[#This Row],[QTY]]*Table1[[#This Row],['# of Books]]","v":0},{"$f":"Table1[[#This Row],[QTY]]*Table1[[#This Row],[School & Library Price]]","v":0}]
[null,null,null,37,"Fun and Easy Drawing","Fun and Easy Drawing",4,"Library Set","978-0-7660-8004-1",2014,"August 2013","9.500 X 9.500",null,null,null,null,null,null,null,null,"Grade K - 3","Grade K - 3",null,"English",95.76,71.8,null,"36 pp.",{"$f":"Table1[[#This Row],[QTY]]*Table1[[#This Row],['# of Books]]","v":0},{"$f":"Table1[[#This Row],[QTY]]*Table1[[#This Row],[School & Library Price]]","v":0}]
[null,null,null,37,"Fun and Easy Drawing","Fun and Easy Drawing at Sea",1,"Library Bound Book","978-0-7660-6039-5",2014,"August 2013","9.500 X 9.500","Author","Rosa M. Curto",2.8,null,null,null,null,"480L","Grade K - 2","Grade K - 3","Seals! Whales! Sharks! With easy step-by-step instructions, you can create your own ocean scene!  FUN AND EASY DRAWING AT SEA teaches you how to draw sea animals, sailors, submarines, and more! Also learn how to use different kinds of lines and colors to make the water look as real as can be! ","English",23.94,17.95,"743","36 pp.",{"$f":"Table1[[#This Row],[QTY]]*Table1[[#This Row],['# of Books]]","v":0},{"$f":"Table1[[#This Row],[QTY]]*Table1[[#This Row],[School & Library Price]]","v":0}]
[null,null,null,37,"Fun and Easy Drawing","Fun and Easy Drawing Fantasy Characters",1,"Library Bound Book","978-0-7660-6041-8",2014,"August 2013","9.500 X 9.500","Author","Rosa M. Curto",2.6,null,null,null,null,"350L","Grade K - 2","Grade K - 3","Aliens! Fairies! Dragons! Create your own fantasy world!  Learn how to draw ghosts, robots, mermaids, genies, and other incredible creatures in just a few easy steps! Also learn how to use shading and shadows to make your drawings pop from the page! ","English",23.94,17.95,"743","36 pp.",{"$f":"Table1[[#This Row],[QTY]]*Table1[[#This Row],['# of Books]]","v":0},{"$f":"Table1[[#This Row],[QTY]]*Table1[[#This Row],[School & Library Price]]","v":0}]
[null,null,null,37,"Fun and Easy Drawing","Fun and Easy Drawing on the Farm",1,"Library Bound Book","978-0-7660-6037-1",2014,"August 2013","9.500 X 9.500","Author","Rosa M. Curto",2.8,null,null,null,null,"470L","Grade K - 2","Grade K - 3","Cows! Chickens! Sheep! Learn how to draw farm animals, farmers, tractors, and more! Start with simple shapes. Then just follow the easy steps to create your own farm scene! Also learn about using distance and different points of view to make your art come alive! ","English",23.94,17.95,"741.2","36 pp.",{"$f":"Table1[[#This Row],[QTY]]*Table1[[#This Row],['# of Books]]","v":0},{"$f":"Table1[[#This Row],[QTY]]*Table1[[#This Row],[School & Library Price]]","v":0}]
[null,null,null,37,"Fun and Easy Drawing","Fun and Easy Drawing Storybook Characters",1,"Library Bound Book","978-0-7660-6043-2",2014,"August 2013","9.500 X 9.500","Author","Rosa M. Curto",2.8,null,null,null,null,"390L","Grade K - 2","Grade K - 3","Magicians! Pirates! Princesses! Would you like to draw your own storybook? FUN AND EASY STORYBOOK CHARACTERS shows you how to create clowns, ballerinas, kings, queens, and more! Just follow the steps to turn a few simple shapes into awesome works of art! Also learn how different lines, thought bubbles, and symbols can help you tell your story. ","English",23.94,17.95,"743","36 pp.",{"$f":"Table1[[#This Row],[QTY]]*Table1[[#This Row],['# of Books]]","v":0},{"$f":"Table1[[#This Row],[QTY]]*Table1[[#This Row],[School & Library Price]]","v":0}]
[null,null,null,38,"The Little Chef","The Little Chef",4,"Library Set","978-0-7660-8005-8",2014,"August 2013","9.500 X 9.500",null,null,null,null,null,null,null,null,"Grade K - 3","Grade K - 3",null,"English",95.7,71.8,null,"36 pp.",{"$f":"Table1[[#This Row],[QTY]]*Table1[[#This Row],['# of Books]]","v":0},{"$f":"Table1[[#This Row],[QTY]]*Table1[[#This Row],[School & Library Price]]","v":0}]
[null,null,null,38,"The Little Chef","Fun Party Food: Little Chef Recipes",1,"Library Bound Book","978-0-7660-4262-9",2014,"August 2013","9.500 X 9.500","Author","Mercedes Segarra",4.0999999999999996,null,null,null,null,"760L","Grade K - 2","Grade K - 3","Tasty foods that are great for parties! Are you having a party? Would you like to make the yummy food yourself? FUN PARTY FOOD will show you how to make fun favorites, such as chicken nuggets and mini cheeseburgers. Or if you feel like making something special, how about tomato and mozzarella skewers or popcorn balls? Learn how to make meals and desserts your party guests can enjoy! ","English",23.94,17.95,"642","36 pp.",{"$f":"Table1[[#This Row],[QTY]]*Table1[[#This Row],['# of Books]]","v":0},{"$f":"Table1[[#This Row],[QTY]]*Table1[[#This Row],[School & Library Price]]","v":0}]
[null,null,null,38,"The Little Chef","Pizza and Pasta: Little Chef Recipes",1,"Library Bound Book","978-0-7660-4263-6",2014,"August 2013","9.500 X 9.500","Author","Mercedes Segarra",4.3,null,null,null,null,"730L","Grade K - 2","Grade K - 3","Easy pizza and pasta recipes kids can cook! Do you like to cook? Learn how to make fun foods such as pasta salad or stuffed mini pizzas. Or try something new! Try making curry macaroni or sweet pizza! PIZZA AND PASTA will show you how to make many delicious dishes! ","English",23.94,17.95,"641.82","36 pp.",{"$f":"Table1[[#This Row],[QTY]]*Table1[[#This Row],['# of Books]]","v":0},{"$f":"Table1[[#This Row],[QTY]]*Table1[[#This Row],[School & Library Price]]","v":0}]
[null,null,null,38,"The Little Chef","Tasty Desserts: Little Chef Recipes",1,"Library Bound Book","978-0-7660-4261-2",2014,"August 2013","9.500 X 9.500","Author","Mercedes Segarra",4.4000000000000004,null,null,null,null,"740L","Grade K - 2","Grade K - 3","Sweet treats that are fun to eat! Do you enjoy fun favorites, such as brownies or cheesecake? Or if you feel like making something special, how about watermelon soup or lemon pie? TASTY DESSERTS will show you how to make many different delicious desserts! ","English",23.94,17.95,"641.86","36 pp.",{"$f":"Table1[[#This Row],[QTY]]*Table1[[#This Row],['# of Books]]","v":0},{"$f":"Table1[[#This Row],[QTY]]*Table1[[#This Row],[School & Library Price]]","v":0}]
[null,null,null,38,"The Little Chef","Yummy Snacks: Little Chef Recipes",1,"Library Bound Book","978-0-7660-4264-3",2014,"August 2013","9.500 X 9.500","Author","Mercedes Segarra",4.5999999999999996,null,null,null,null,"770L","Grade K - 2","Grade K - 3","Easy snacks kids can make! Do you want to learn how to make fun foods? How about chocolate shakes or chicken sandwiches? Try something new! Make eggs in a nest or a strawberry charlotte! YUMMY SNACKS will show you how to make many tasty recipes! ","English",23.94,17.95,"641.5","36 pp.",{"$f":"Table1[[#This Row],[QTY]]*Table1[[#This Row],['# of Books]]","v":0},{"$f":"Table1[[#This Row],[QTY]]*Table1[[#This Row],[School & Library Price]]","v":0}]
[null,null,null,38,"Multicultural Crafts","Multicultural Crafts",5,"Library Set","978-0-7660-6678-6",2016,"August 2015","7.125 X 8.500",null,null,null,null,null,null,null,null,"Grade 3 - 4","Grade 3 - 5","Prepare students to become global citizens by introducing them to many of the wonderful cultures that make up our country and our world. Kids can do ten different crafts based on traditional art, myths, games, and toys of the most prominent cultures in the world. From Balinese Shadow Puppets to Turkish Evil Eye Luck Charms to the Zuni Corncob Dart Game, children will come to appreciate the diversity of the global community.\n\n\n\n-Connects curriculum standards for holidays and cultural studies to hands-on learning\n\n-Simple step-by-step instructions with photos and illustrations of each step\n\n-Crafts use inexpensive, at-hand materials\n\n-Includes short history of the culture, patterns, game rules, Learn More, and Web sites\n\n","English",126.35,94.75,null,"32 pp.",{"$f":"Table1[[#This Row],[QTY]]*Table1[[#This Row],['# of Books]]","v":0},{"$f":"Table1[[#This Row],[QTY]]*Table1[[#This Row],[School & Library Price]]","v":0}]
[null,null,null,38,"Multicultural Crafts","Exploring African-American Culture Through Crafts",1,"Library Bound Book","978-0-7660-6771-4",2016,"August 2015","7.125 X 8.500","Author","Mia Farrell",null,null,null,null,"S",null,"Grade 3 - 4","Grade 3 - 5","From inventors to writers to heroes, African-American history is made up of remarkable people. Step into the world of African-American culture with these fun, easy crafts and connect with people like Harriet Tubman, Ralph Ellison, George Washington Carver, and the Harlem Globetrotters!","English",25.27,18.95,"745.5089’96073--d23","32 pp.",{"$f":"Table1[[#This Row],[QTY]]*Table1[[#This Row],['# of Books]]","v":0},{"$f":"Table1[[#This Row],[QTY]]*Table1[[#This Row],[School & Library Price]]","v":0}]
[null,null,null,38,"Multicultural Crafts","Exploring African-American Culture Through Crafts",1,"eBook","978-0-7660-6772-1",2016,"August 2015",null,"Author","Mia Farrell",null,null,null,null,"S",null,"Grade 3 - 4","Grade 3 - 5","From inventors to writers to heroes, African-American history is made up of remarkable people. Step into the world of African-American culture with these fun, easy crafts and connect with people like Harriet Tubman, Ralph Ellison, George Washington Carver, and the Harlem Globetrotters!","English",25.27,18.95,"745.5089’96073--d23","32 pp.",{"$f":"Table1[[#This Row],[QTY]]*Table1[[#This Row],['# of Books]]","v":0},{"$f":"Table1[[#This Row],[QTY]]*Table1[[#This Row],[School & Library Price]]","v":0}]
[null,null,null,38,"Multicultural Crafts","Exploring Asian Cultures Through Crafts",1,"Library Bound Book","978-0-7660-6774-5",2016,"August 2015","7.125 X 8.500","Author","Mia Farrell",null,null,null,null,"T",null,"Grade 3 - 4","Grade 3 - 5","From shadow puppets to mandalas to lanterns, these fun, easy crafts introduce you to the beauty and rich variety of Asian cultures. \n\n","English",25.27,18.95,"745.5095--d23","32 pp.",{"$f":"Table1[[#This Row],[QTY]]*Table1[[#This Row],['# of Books]]","v":0},{"$f":"Table1[[#This Row],[QTY]]*Table1[[#This Row],[School & Library Price]]","v":0}]
[null,null,null,38,"Multicultural Crafts","Exploring Asian Cultures Through Crafts",1,"eBook","978-0-7660-6775-2",2016,"August 2015",null,"Author","Mia Farrell",null,null,null,null,"T",null,"Grade 3 - 4","Grade 3 - 5","From shadow puppets to mandalas to lanterns, these fun, easy crafts introduce you to the beauty and rich variety of Asian cultures. \n\n","English",25.27,18.95,"745.5095--d23","32 pp.",{"$f":"Table1[[#This Row],[QTY]]*Table1[[#This Row],['# of Books]]","v":0},{"$f":"Table1[[#This Row],[QTY]]*Table1[[#This Row],[School & Library Price]]","v":0}]
[null,null,null,38,"Multicultural Crafts","Exploring Latino Cultures Through Crafts",1,"Library Bound Book","978-0-7660-6779-0",2016,"August 2015","7.125 X 8.500","Author","Mia Farrell",null,null,null,null,"S",null,"Grade 3 - 4","Grade 3 - 5","From weavings to piñatas to pottery, these fun, easy crafts introduce you to the vibrant and diverse world of Latino cultures.","English",25.27,18.95,"745.5089’68073--d23","32 pp.",{"$f":"Table1[[#This Row],[QTY]]*Table1[[#This Row],['# of Books]]","v":0},{"$f":"Table1[[#This Row],[QTY]]*Table1[[#This Row],[School & Library Price]]","v":0}]
[null,null,null,38,"Multicultural Crafts","Exploring Latino Cultures Through Crafts",1,"eBook","978-0-7660-6780-6",2016,"August 2015",null,"Author","Mia Farrell",null,null,null,null,"S",null,"Grade 3 - 4","Grade 3 - 5","From weavings to piñatas to pottery, these fun, easy crafts introduce you to the vibrant and diverse world of Latino cultures.","English",25.27,18.95,"745.5089’68073--d23","32 pp.",{"$f":"Table1[[#This Row],[QTY]]*Table1[[#This Row],['# of Books]]","v":0},{"$f":"Table1[[#This Row],[QTY]]*Table1[[#This Row],[School & Library Price]]","v":0}]
[null,null,null,38,"Multicultural Crafts","Exploring Middle Eastern Cultures Through Crafts",1,"Library Bound Book","978-0-7660-6783-7",2016,"August 2015","7.125 X 8.500","Author","Mia Farrell",null,null,null,null,"T",null,"Grade 3 - 4","Grade 3 - 5","From evil eye good luck charms to prayer rugs to perfume bottles, these fun, easy crafts introduce you to the beautiful world of the Middle East.","English",25.27,18.95,"745.50956--d23","32 pp.",{"$f":"Table1[[#This Row],[QTY]]*Table1[[#This Row],['# of Books]]","v":0},{"$f":"Table1[[#This Row],[QTY]]*Table1[[#This Row],[School & Library Price]]","v":0}]
[null,null,null,38,"Multicultural Crafts","Exploring Middle Eastern Cultures Through Crafts",1,"eBook","978-0-7660-6784-4",2016,"August 2015",null,"Author","Mia Farrell",null,null,null,null,"T",null,"Grade 3 - 4","Grade 3 - 5","From evil eye good luck charms to prayer rugs to perfume bottles, these fun, easy crafts introduce you to the beautiful world of the Middle East.","English",25.27,18.95,"745.50956--d23","32 pp.",{"$f":"Table1[[#This Row],[QTY]]*Table1[[#This Row],['# of Books]]","v":0},{"$f":"Table1[[#This Row],[QTY]]*Table1[[#This Row],[School & Library Price]]","v":0}]
[null,null,null,38,"Multicultural Crafts","Exploring Native American Cultures Through Crafts",1,"Library Bound Book","978-0-7660-6787-5",2016,"August 2015","7.125 X 8.500","Author","Mia Farrell",null,null,null,null,"U",null,"Grade 3 - 4","Grade 3 - 5","From Cherokee marble games to Penobscot triangle toys, these fun, easy crafts and activities introduce readers to the fascinating, diverse cultures of the Native American peoples.","English",25.27,18.95,"745.5089’97--d23","32 pp.",{"$f":"Table1[[#This Row],[QTY]]*Table1[[#This Row],['# of Books]]","v":0},{"$f":"Table1[[#This Row],[QTY]]*Table1[[#This Row],[School & Library Price]]","v":0}]
[null,null,null,38,"Multicultural Crafts","Exploring Native American Cultures Through Crafts",1,"eBook","978-0-7660-6788-2",2016,"August 2015",null,"Author","Mia Farrell",null,null,null,null,"U",null,"Grade 3 - 4","Grade 3 - 5","From Cherokee marble games to Penobscot triangle toys, these fun, easy crafts and activities introduce readers to the fascinating, diverse cultures of the Native American peoples.","English",25.27,18.95,"745.5089’97--d23","32 pp.",{"$f":"Table1[[#This Row],[QTY]]*Table1[[#This Row],['# of Books]]","v":0},{"$f":"Table1[[#This Row],[QTY]]*Table1[[#This Row],[School & Library Price]]","v":0}]
[null,null,null,39,"Celebrate Holidays with Paper Crafts","Celebrate Holidays with Paper Crafts",6,"Library Set","978-0-7660-8006-5",2015,null,"7.500 X 9.000",null,null,null,null,null,null,null,null,"Grade 3 - 6","Grade 3 - 6",null,"English",151.62,113.7,null,"48 pp.",{"$f":"Table1[[#This Row],[QTY]]*Table1[[#This Row],['# of Books]]","v":0},{"$f":"Table1[[#This Row],[QTY]]*Table1[[#This Row],[School & Library Price]]","v":0}]
[null,null,null,39,"Celebrate Holidays with Paper Crafts","Celebrate Chinese New Year with Paper Crafts",1,"Library Bound Book","978-0-7660-6350-1",2015,"January 2015","7.500 X 9.000","Author","Randel McGee",null,null,null,null,null,null,"Grade 3 - 4","Grade 3 - 6","Make your own dancing dragon puppet!  Dragons, lions, and lanterns are important symbols of Chinese New Year. Follow storyteller Randel McGee as he explores Chinese New Year in CELEBRATE CHINESE NEW YEAR WITH PAPER CRAFTS. Learn to make a tangram game, LAI SEE envelopes, shadow puppets, and more!","English",25.27,18.95,null,"48 pp.",{"$f":"Table1[[#This Row],[QTY]]*Table1[[#This Row],['# of Books]]","v":0},{"$f":"Table1[[#This Row],[QTY]]*Table1[[#This Row],[School & Library Price]]","v":0}]
[null,null,null,39,"Celebrate Holidays with Paper Crafts","Celebrate Chinese New Year with Paper Crafts",1,"eBook","978-0-7660-6354-9",2015,"January 2015",null,"Author","Randel McGee",null,null,null,null,null,null,"Grade 3 - 4","Grade 3 - 6","Make your own dancing dragon puppet!  Dragons, lions, and lanterns are important symbols of Chinese New Year. Follow storyteller Randel McGee as he explores Chinese New Year in CELEBRATE CHINESE NEW YEAR WITH PAPER CRAFTS. Learn to make a tangram game, LAI SEE envelopes, shadow puppets, and more!","English",25.27,18.95,null,"48 pp.",{"$f":"Table1[[#This Row],[QTY]]*Table1[[#This Row],['# of Books]]","v":0},{"$f":"Table1[[#This Row],[QTY]]*Table1[[#This Row],[School & Library Price]]","v":0}]
[null,null,null,39,"Celebrate Holidays with Paper Crafts","Celebrate Christmas with Paper Crafts",1,"Library Bound Book","978-0-7660-6355-6",2015,"January 2015","7.500 X 9.000","Author","Randel McGee",null,null,null,null,null,null,"Grade 3 - 4","Grade 3 - 6","Celebrate Christmas with your own Little Santa!  Snowflakes, holly wreathes, and angels are important symbols of Christmas. Follow storyteller Randel McGee as he explores Christmas in CELEBRATE CHRISTMAS WITH PAPER CRAFTS. Learn to make a Christmas tree, pop-up card, reindeer, and more!","English",25.27,18.95,null,"48 pp.",{"$f":"Table1[[#This Row],[QTY]]*Table1[[#This Row],['# of Books]]","v":0},{"$f":"Table1[[#This Row],[QTY]]*Table1[[#This Row],[School & Library Price]]","v":0}]
[null,null,null,39,"Celebrate Holidays with Paper Crafts","Celebrate Christmas with Paper Crafts",1,"eBook","978-0-7660-6359-4",2015,"January 2015",null,"Author","Randel McGee",null,null,null,null,null,null,"Grade 3 - 4","Grade 3 - 6","Celebrate Christmas with your own Little Santa!  Snowflakes, holly wreathes, and angels are important symbols of Christmas. Follow storyteller Randel McGee as he explores Christmas in CELEBRATE CHRISTMAS WITH PAPER CRAFTS. Learn to make a Christmas tree, pop-up card, reindeer, and more!","English",25.27,18.95,null,"48 pp.",{"$f":"Table1[[#This Row],[QTY]]*Table1[[#This Row],['# of Books]]","v":0},{"$f":"Table1[[#This Row],[QTY]]*Table1[[#This Row],[School & Library Price]]","v":0}]
[null,null,null,39,"Celebrate Holidays with Paper Crafts","Celebrate Day of the Dead with Paper Crafts",1,"Library Bound Book","978-0-7660-6360-0",2015,"January 2015","7.500 X 9.000","Author","Randel McGee",null,null,null,null,null,null,"Grade 3 - 4","Grade 3 - 6","Create your own skeleton figures!  Skeletons, skulls, and marigolds are important symbols of Day of the Dead. Follow storyteller Randel McGee as he explores Day of the Dead in CELEBRATE DAY OF THE DEAD WITH PAPER CRAFTS. Learn to make a skull mask, a skeleton candy basket, fancy cut-paper window banners, and more!","English",25.27,18.95,null,"48 pp.",{"$f":"Table1[[#This Row],[QTY]]*Table1[[#This Row],['# of Books]]","v":0},{"$f":"Table1[[#This Row],[QTY]]*Table1[[#This Row],[School & Library Price]]","v":0}]
[null,null,null,39,"Celebrate Holidays with Paper Crafts","Celebrate Day of the Dead with Paper Crafts",1,"eBook","978-0-7660-6364-8",2015,"January 2015",null,"Author","Randel McGee",null,null,null,null,null,null,"Grade 3 - 4","Grade 3 - 6","Create your own skeleton figures!  Skeletons, skulls, and marigolds are important symbols of Day of the Dead. Follow storyteller Randel McGee as he explores Day of the Dead in CELEBRATE DAY OF THE DEAD WITH PAPER CRAFTS. Learn to make a skull mask, a skeleton candy basket, fancy cut-paper window banners, and more!","English",25.27,18.95,null,"48 pp.",{"$f":"Table1[[#This Row],[QTY]]*Table1[[#This Row],['# of Books]]","v":0},{"$f":"Table1[[#This Row],[QTY]]*Table1[[#This Row],[School & Library Price]]","v":0}]
[null,null,null,39,"Celebrate Holidays with Paper Crafts","Celebrate Halloween with Paper Crafts",1,"Library Bound Book","978-0-7660-6365-5",2015,"January 2015","7.500 X 9.000","Author","Randel McGee",null,null,null,null,null,null,"Grade 3 - 4","Grade 3 - 6","Spook your friends with your own flying bat!  Bats, ghosts, and black cats are popular symbols of Halloween. Follow storyteller Randel McGee as he explores Halloween in CELEBRATE HALLOWEEN WITH PAPER CRAFTS. Learn to make a standing witch, skull headdress, goofy goggles, and even a haunted house!","English",25.27,18.95,null,"48 pp.",{"$f":"Table1[[#This Row],[QTY]]*Table1[[#This Row],['# of Books]]","v":0},{"$f":"Table1[[#This Row],[QTY]]*Table1[[#This Row],[School & Library Price]]","v":0}]
[null,null,null,39,"Celebrate Holidays with Paper Crafts","Celebrate Halloween with Paper Crafts",1,"eBook","978-0-7660-6369-3",2015,"January 2015",null,"Author","Randel McGee",null,null,null,null,null,null,"Grade 3 - 4","Grade 3 - 6","Spook your friends with your own flying bat!  Bats, ghosts, and black cats are popular symbols of Halloween. Follow storyteller Randel McGee as he explores Halloween in CELEBRATE HALLOWEEN WITH PAPER CRAFTS. Learn to make a standing witch, skull headdress, goofy goggles, and even a haunted house!","English",25.27,18.95,null,"48 pp.",{"$f":"Table1[[#This Row],[QTY]]*Table1[[#This Row],['# of Books]]","v":0},{"$f":"Table1[[#This Row],[QTY]]*Table1[[#This Row],[School & Library Price]]","v":0}]
[null,null,null,39,"Celebrate Holidays with Paper Crafts","Celebrate Kwanzaa with Paper Crafts",1,"Library Bound Book","978-0-7660-6370-9",2015,"January 2015","7.500 X 9.000","Author","Randel McGee",null,null,null,null,null,null,"Grade 3 - 4","Grade 3 - 6","Celebrate Kwanzaa with your own paper kinara pop-up card! The kinara, mkeka (the mat used in Kwanzaa celebrations), and ear of corn are important symbols of Kwanzaa. Follow storyteller Randel McGee as he explores Kwanzaa in CELEBRATE KWANZAA WITH PAPER CRAFTS. Learn to make a lion, standing Kwanzaa figures, a African-style hat, and more!","English",25.27,18.95,null,"48 pp.",{"$f":"Table1[[#This Row],[QTY]]*Table1[[#This Row],['# of Books]]","v":0},{"$f":"Table1[[#This Row],[QTY]]*Table1[[#This Row],[School & Library Price]]","v":0}]
[null,null,null,39,"Celebrate Holidays with Paper Crafts","Celebrate Kwanzaa with Paper Crafts",1,"eBook","978-0-7660-6374-7",2015,"January 2015",null,"Author","Randel McGee",null,null,null,null,null,null,"Grade 3 - 4","Grade 3 - 6","Celebrate Kwanzaa with your own paper kinara pop-up card! The kinara, mkeka (the mat used in Kwanzaa celebrations), and ear of corn are important symbols of Kwanzaa. Follow storyteller Randel McGee as he explores Kwanzaa in CELEBRATE KWANZAA WITH PAPER CRAFTS. Learn to make a lion, standing Kwanzaa figures, a African-style hat, and more!","English",25.27,18.95,null,"48 pp.",{"$f":"Table1[[#This Row],[QTY]]*Table1[[#This Row],['# of Books]]","v":0},{"$f":"Table1[[#This Row],[QTY]]*Table1[[#This Row],[School & Library Price]]","v":0}]
[null,null,null,39,"Celebrate Holidays with Paper Crafts","Celebrate Valentine’s Day with Paper Crafts",1,"Library Bound Book","978-0-7660-6375-4",2015,"January 2015","7.500 X 9.000","Author","Randel McGee",null,null,null,null,null,null,"Grade 3 - 4","Grade 3 - 6","Make your own heart sculpture! Hearts, Cupid, and flowers are popular symbols of Valentine's Day. Follow storyteller Randel McGee as he explores Valentine's Day in CELEBRATE VALENTINE'S DAY WITH PAPER CRAFTS. Learn to make a Danish woven heart basket, a lacy heart card, a Valentine heart pop-up puppet, and more!","English",25.27,18.95,null,"48 pp.",{"$f":"Table1[[#This Row],[QTY]]*Table1[[#This Row],['# of Books]]","v":0},{"$f":"Table1[[#This Row],[QTY]]*Table1[[#This Row],[School & Library Price]]","v":0}]
[null,null,null,39,"Celebrate Holidays with Paper Crafts","Celebrate Valentine’s Day with Paper Crafts",1,"eBook","978-0-7660-6379-2",2015,"January 2015",null,"Author","Randel McGee",null,null,null,null,null,null,"Grade 3 - 4","Grade 3 - 6","Make your own heart sculpture! Hearts, Cupid, and flowers are popular symbols of Valentine's Day. Follow storyteller Randel McGee as he explores Valentine's Day in CELEBRATE VALENTINE'S DAY WITH PAPER CRAFTS. Learn to make a Danish woven heart basket, a lacy heart card, a Valentine heart pop-up puppet, and more!","English",25.27,18.95,null,"48 pp.",{"$f":"Table1[[#This Row],[QTY]]*Table1[[#This Row],['# of Books]]","v":0},{"$f":"Table1[[#This Row],[QTY]]*Table1[[#This Row],[School & Library Price]]","v":0}]
[null,null,null,39,"Kid Fun Holiday Crafts!","Kid Fun Holiday Crafts!",6,"Library Set","978-0-7660-8007-2",2015,"January 2015","7.500 X 9.000",null,null,null,null,null,null,null,null,"Grade 3 - 6","Grade 3 - 6","Getting ready for the holidays will be more fun than ever as readers create their own unique, handmade holiday crafts. With the help of the books in this series, festive decorations young crafters create will inspire fantastic projects with holiday themes. By using materials already on-hand, readers will be inspire their creativity in numerous ways.","English",143.63999999999999,101.7,"745.594","48 pp.",{"$f":"Table1[[#This Row],[QTY]]*Table1[[#This Row],['# of Books]]","v":0},{"$f":"Table1[[#This Row],[QTY]]*Table1[[#This Row],[School & Library Price]]","v":0}]
[null,null,null,39,"Kid Fun Holiday Crafts!","Fun Chinese New Year Crafts",1,"Library Bound Book","978-0-7660-6240-5",2015,"January 2015","7.500 X 9.000","Author","Karen E. Bledsoe",null,null,null,null,null,null,"Grade 3 - 4","Grade 3 - 6","Join the Chinese New Year celebration by making fun crafts! Follow these easy-to-follow directions and traceable patterns to create a dragon costume, ribbon lantern, Chinese papercuts, and more!","English",23.94,17.95,"745.594","32 pp.",{"$f":"Table1[[#This Row],[QTY]]*Table1[[#This Row],['# of Books]]","v":0},{"$f":"Table1[[#This Row],[QTY]]*Table1[[#This Row],[School & Library Price]]","v":0}]
[null,null,null,39,"Kid Fun Holiday Crafts!","Fun Chinese New Year Crafts",1,"eBook","978-0-7660-6244-3",2015,"January 2015",null,"Author","Karen E. Bledsoe",null,null,null,null,null,null,"Grade 3 - 4","Grade 3 - 6","Join the Chinese New Year celebration by making fun crafts! Follow these easy-to-follow directions and traceable patterns to create a dragon costume, ribbon lantern, Chinese papercuts, and more!","English",23.94,17.95,"745.594","32 pp.",{"$f":"Table1[[#This Row],[QTY]]*Table1[[#This Row],['# of Books]]","v":0},{"$f":"Table1[[#This Row],[QTY]]*Table1[[#This Row],[School & Library Price]]","v":0}]
[null,null,null,39,"Kid Fun Holiday Crafts!","Fun Halloween Crafts",1,"Library Bound Book","978-0-7660-6235-1",2015,"January 2015","7.500 X 9.000","Author","Fay Robinson",null,null,null,null,null,null,"Grade 3 - 4","Grade 3 - 6","Halloween is a fun and spooky time of year when monsters peek out from doorways and ghosts gather in the streets. You can be anything you want to be, so get ready to celebrate! Use these step-by-step instructions, photographs, and traceable patterns to make a ghoulish hand to creep out your friends, a coffin to hold your candy, a haunted house of your own, and much more!","English",23.94,17.95,"745.594","32 pp.",{"$f":"Table1[[#This Row],[QTY]]*Table1[[#This Row],['# of Books]]","v":0},{"$f":"Table1[[#This Row],[QTY]]*Table1[[#This Row],[School & Library Price]]","v":0}]
[null,null,null,39,"Kid Fun Holiday Crafts!","Fun Halloween Crafts",1,"eBook","978-0-7660-6239-9",2015,"January 2015",null,"Author","Fay Robinson",null,null,null,null,null,null,"Grade 3 - 4","Grade 3 - 6","Halloween is a fun and spooky time of year when monsters peek out from doorways and ghosts gather in the streets. You can be anything you want to be, so get ready to celebrate! Use these step-by-step instructions, photographs, and traceable patterns to make a ghoulish hand to creep out your friends, a coffin to hold your candy, a haunted house of your own, and much more!","English",23.94,17.95,"745.594","32 pp.",{"$f":"Table1[[#This Row],[QTY]]*Table1[[#This Row],['# of Books]]","v":0},{"$f":"Table1[[#This Row],[QTY]]*Table1[[#This Row],[School & Library Price]]","v":0}]
[null,null,null,39,"Kid Fun Holiday Crafts!","Fun Mother's Day Crafts",1,"Library Bound Book","978-0-7660-6245-0",2015,"January 2015","7.500 X 9.000","Author, Author","Arlene Erlbach, Herbert Erlbach",null,null,null,null,null,null,"Grade 3 - 4","Grade 3 - 6","Let your Mom know you think she is special with these creative Mother's Day crafts! FUN MOTHER'S DAY CRAFTS includes ten easy crafts you can make for Mom. Follow simple directions and traceable patterns to make your mom a flower photo card, garden in a jar, or a unique picture frame.","English",23.94,17.95,"745.594","32 pp.",{"$f":"Table1[[#This Row],[QTY]]*Table1[[#This Row],['# of Books]]","v":0},{"$f":"Table1[[#This Row],[QTY]]*Table1[[#This Row],[School & Library Price]]","v":0}]
[null,null,null,39,"Kid Fun Holiday Crafts!","Fun Mother's Day Crafts",1,"eBook","978-0-7660-6249-8",2015,"January 2015",null,"Author, Author","Arlene Erlbach, Herbert Erlbach",null,null,null,null,null,null,"Grade 3 - 4","Grade 3 - 6","Let your Mom know you think she is special with these creative Mother's Day crafts! FUN MOTHER'S DAY CRAFTS includes ten easy crafts you can make for Mom. Follow simple directions and traceable patterns to make your mom a flower photo card, garden in a jar, or a unique picture frame.","English",23.94,17.95,"745.594","32 pp.",{"$f":"Table1[[#This Row],[QTY]]*Table1[[#This Row],['# of Books]]","v":0},{"$f":"Table1[[#This Row],[QTY]]*Table1[[#This Row],[School & Library Price]]","v":0}]
[null,null,null,39,"Kid Fun Holiday Crafts!","Fun St. Patrick's Day Crafts",1,"Library Bound Book","978-0-7660-6230-6",2015,"January 2015","7.500 X 9.000","Author","Carol Gnojewski",null,null,null,null,null,null,"Grade 3 - 4","Grade 3 - 6","Get ready to decorate your home and wear something green . . . because on St. Patrick's Day, everyone can be Irish! In FUN ST. PATRICK'S DAY CRAFTS, learn about the origins of this festive holiday and follow easy step-by-step directions and traceable patterns to make Celtic jewelry, leprechaun puppets, an Irish shamrock, and much more!","English",23.94,17.95,"745.594","32 pp.",{"$f":"Table1[[#This Row],[QTY]]*Table1[[#This Row],['# of Books]]","v":0},{"$f":"Table1[[#This Row],[QTY]]*Table1[[#This Row],[School & Library Price]]","v":0}]
[null,null,null,39,"Kid Fun Holiday Crafts!","Fun St. Patrick's Day Crafts",1,"eBook","978-0-7660-6234-4",2015,"January 2015",null,"Author","Carol Gnojewski",null,null,null,null,null,null,"Grade 3 - 4","Grade 3 - 6","Get ready to decorate your home and wear something green . . . because on St. Patrick's Day, everyone can be Irish! In FUN ST. PATRICK'S DAY CRAFTS, learn about the origins of this festive holiday and follow easy step-by-step directions and traceable patterns to make Celtic jewelry, leprechaun puppets, an Irish shamrock, and much more!","English",23.94,17.95,"745.594","32 pp.",{"$f":"Table1[[#This Row],[QTY]]*Table1[[#This Row],['# of Books]]","v":0},{"$f":"Table1[[#This Row],[QTY]]*Table1[[#This Row],[School & Library Price]]","v":0}]
[null,null,null,39,"Kid Fun Holiday Crafts!","Fun Thanksgiving Day Crafts",1,"Library Bound Book","978-0-7660-6250-4",2015,"January 2015","7.500 X 9.000","Author, Author","Arlene Erlbach, Herbert Erlbach",null,null,null,null,null,null,"Grade 3 - 4","Grade 3 - 6","Thanksgiving has arrived and everyone is ready to celebrate! Help make your Thanksgiving Day fun with these ten unique crafts. Use these easy-to-follow directions and traceable patterns to make your very own rocking miniature MAYFLOWER, a beaded corn pin or magnet, pumpkin napkin rings, and more!","English",23.94,17.95,null,"32 pp.",{"$f":"Table1[[#This Row],[QTY]]*Table1[[#This Row],['# of Books]]","v":0},{"$f":"Table1[[#This Row],[QTY]]*Table1[[#This Row],[School & Library Price]]","v":0}]
[null,null,null,39,"Kid Fun Holiday Crafts!","Fun Thanksgiving Day Crafts",1,"eBook","978-0-7660-6254-2",2015,"January 2015",null,"Author, Author","Arlene Erlbach, Herbert Erlbach",null,null,null,null,null,null,"Grade 3 - 4","Grade 3 - 6","Thanksgiving has arrived and everyone is ready to celebrate! Help make your Thanksgiving Day fun with these ten unique crafts. Use these easy-to-follow directions and traceable patterns to make your very own rocking miniature MAYFLOWER, a beaded corn pin or magnet, pumpkin napkin rings, and more!","English",23.94,17.95,null,"32 pp.",{"$f":"Table1[[#This Row],[QTY]]*Table1[[#This Row],['# of Books]]","v":0},{"$f":"Table1[[#This Row],[QTY]]*Table1[[#This Row],[School & Library Price]]","v":0}]
[null,null,null,39,"Kid Fun Holiday Crafts!","Fun Valentine's Day Crafts",1,"Library Bound Book","978-0-7660-6255-9",2015,"January 2015","7.500 X 9.000","Author, Author","Arlene Erlbach, Herbert Erlbach",null,null,null,null,null,null,"Grade 3 - 4","Grade 3 - 6","Want to make Valentine’s Day even more special? Then follow these easy step-by-step instructions, photographs, and traceable patterns to create unique crafts for Valentine's Day with materials that can be found around the house. You can make a friendship necklace, a Valentine cat, a heart ornament, and much more!","English",23.94,17.95,"745.594","32 pp.",{"$f":"Table1[[#This Row],[QTY]]*Table1[[#This Row],['# of Books]]","v":0},{"$f":"Table1[[#This Row],[QTY]]*Table1[[#This Row],[School & Library Price]]","v":0}]
[null,null,null,39,"Kid Fun Holiday Crafts!","Fun Valentine's Day Crafts",1,"eBook","978-0-7660-6259-7",2015,"January 2015",null,"Author, Author","Arlene Erlbach, Herbert Erlbach",null,null,null,null,null,null,"Grade 3 - 4","Grade 3 - 6","Want to make Valentine’s Day even more special? Then follow these easy step-by-step instructions, photographs, and traceable patterns to create unique crafts for Valentine's Day with materials that can be found around the house. You can make a friendship necklace, a Valentine cat, a heart ornament, and much more!","English",23.94,17.95,"745.594","32 pp.",{"$f":"Table1[[#This Row],[QTY]]*Table1[[#This Row],['# of Books]]","v":0},{"$f":"Table1[[#This Row],[QTY]]*Table1[[#This Row],[School & Library Price]]","v":0}]
[null,null,null,40,"Earth-Friendly Crafts in 5 Easy Steps","Earth-Friendly Crafts in 5 Easy Steps",6,"Library Set","978-0-7660-8008-9",2014,"August 2013","8.500 X 9.000",null,null,null,null,null,null,null,null,"Grade 3 - 6","Grade 3 - 6",null,"English",143.63999999999999,101.7,null,"32 pp.",{"$f":"Table1[[#This Row],[QTY]]*Table1[[#This Row],['# of Books]]","v":0},{"$f":"Table1[[#This Row],[QTY]]*Table1[[#This Row],[School & Library Price]]","v":0}]
[null,null,null,40,"Earth-Friendly Crafts in 5 Easy Steps","Earth-Friendly Christmas Crafts in 5 Easy Steps",1,"Library Bound Book","978-0-7660-4188-2",2014,"August 2013","8.625 X 9.000","Author","Anna Llimós",3.4,null,null,null,null,"630L","Grade 3 - ","Grade 3 - 5","Craft festive decorations and funky holiday cards! You can turn ordinary household items into fun, unique crafts in just five easy steps! Get creative and at the same time, help keep the planet a little cleaner, too! Make a Santa card holder with clothespins, bells from an egg carton, an angel out of a toilet tissue tube, and much more! ","English",23.94,17.95,"745.594","32 pp.",{"$f":"Table1[[#This Row],[QTY]]*Table1[[#This Row],['# of Books]]","v":0},{"$f":"Table1[[#This Row],[QTY]]*Table1[[#This Row],[School & Library Price]]","v":0}]
[null,null,null,40,"Earth-Friendly Crafts in 5 Easy Steps","Earth-Friendly Clay Crafts in 5 Easy Steps",1,"Library Bound Book","978-0-7660-4189-9",2014,"August 2013","8.625 X 9.000","Author","Anna Llimós",3.6,null,null,null,null,"540L","Grade 3 - ","Grade 3 - 5","Create creatures and decorations from homemade vegan clay! In just five easy steps, you can turn everyday household items into works of art! Get creative and at the same time, help keep the planet a little cleaner, too! Make a starry night mobile, a jewelry box, a picture frame, a giraffe, and much more! ","English",23.94,17.95,"731.4","32 pp.",{"$f":"Table1[[#This Row],[QTY]]*Table1[[#This Row],['# of Books]]","v":0},{"$f":"Table1[[#This Row],[QTY]]*Table1[[#This Row],[School & Library Price]]","v":0}]
[null,null,null,40,"Earth-Friendly Crafts in 5 Easy Steps","Earth-Friendly Crafts from Recycled Stuff in 5 Easy Steps",1,"Library Bound Book","978-0-7660-4190-5",2014,"August 2013","8.625 X 9.000","Author","Anna Llimós",3.9,null,null,null,null,"580L","Grade 3 - ","Grade 3 - 5","Make creatures and toys from common plastic items! Transform ordinary household items into creative crafts in just five easy steps! Have fun and at the same time, do your part in keeping the earth beautiful! Make an airplane from a plastic bottle, an octopus from bubble wrap, a doll from hair rollers, and much more! ","English",23.94,17.95,"745.5","32 pp.",{"$f":"Table1[[#This Row],[QTY]]*Table1[[#This Row],['# of Books]]","v":0},{"$f":"Table1[[#This Row],[QTY]]*Table1[[#This Row],[School & Library Price]]","v":0}]
[null,null,null,40,"Earth-Friendly Crafts in 5 Easy Steps","Earth-Friendly Crafts with Nuts and Veggies in 5 Easy Steps",1,"Library Bound Book","978-0-7660-4191-2",2014,"August 2013","8.625 X 9.000","Author","Anna Llimós",3,null,null,null,null,"620L","Grade 3 - ","Grade 3 - 5","Cook up creatures and games from nuts, beans, and leaves! Ordinary household items become fun, unique crafts in just five easy steps! Use your imagination and at the same time, help keep the earth a little cleaner, too! Make a caterpillar with walnuts, a little monster from a pinecone, a tic-tac-toe game from a dry leaf and pumpkin seeds, and much more! ","English",23.94,17.95,"745.5","32 pp.",{"$f":"Table1[[#This Row],[QTY]]*Table1[[#This Row],['# of Books]]","v":0},{"$f":"Table1[[#This Row],[QTY]]*Table1[[#This Row],[School & Library Price]]","v":0}]
[null,null,null,40,"Earth-Friendly Crafts in 5 Easy Steps","Earth-Friendly Papier-Mâché Crafts in 5 Easy Steps",1,"Library Bound Book","978-0-7660-4192-9",2014,"August 2013","8.625 X 9.000","Author","Anna Llimós",3.4,null,null,null,null,"590L","Grade 3 - ","Grade 3 - 5","Craft creatures and accessories from old newspaper! Just follow five easy steps to transform ordinary household items into fun crafts! Make art and at the same time, help keep the planet a little cleaner, too! Make bracelets out of newspaper, a centipede out of an egg carton, a pencil case out of a paper towel tube, and much more! ","English",23.94,17.95,"745.54","32 pp.",{"$f":"Table1[[#This Row],[QTY]]*Table1[[#This Row],['# of Books]]","v":0},{"$f":"Table1[[#This Row],[QTY]]*Table1[[#This Row],[School & Library Price]]","v":0}]
[null,null,null,40,"Earth-Friendly Crafts in 5 Easy Steps","Earth-Friendly Wood Crafts in 5 Easy Steps",1,"Library Bound Book","978-0-7660-4193-6",2014,"August 2013","8.625 X 9.000","Author","Anna Llimós",3.2,null,null,null,null,"680L","Grade 3 - ","Grade 3 - 5","Use cork and wood to create creatures and games! All it takes is just  five simple steps to make extraordinary crafts from ordinary items you have lying around! Have fun and go green! Make race cars out of clothespins, a dinosaur out of cork, a city out of wood, and much more! ","English",23.94,17.95,"684","32 pp.",{"$f":"Table1[[#This Row],[QTY]]*Table1[[#This Row],['# of Books]]","v":0},{"$f":"Table1[[#This Row],[QTY]]*Table1[[#This Row],[School & Library Price]]","v":0}]
[null,null,null,40,"Eco Chic","Eco Chic",4,"Library Set","978-0-7660-8009-6",2014,"August 2013","8.625 X 10.63",null,null,null,null,null,null,null,null,"Grade 9 - 11","Grade 9 - 20",null,"English",95.76,71.8,"646.2","32 pp.",{"$f":"Table1[[#This Row],[QTY]]*Table1[[#This Row],['# of Books]]","v":0},{"$f":"Table1[[#This Row],[QTY]]*Table1[[#This Row],[School & Library Price]]","v":0}]
[null,null,null,40,"Eco Chic","Crafts for Accessorizing that Look",1,"Library Bound Book","978-0-7660-4313-8",2014,"August 2013","8.625 X 10.63","Author","Susannah Blake",6.1,null,null,null,null,"1040L","Grade 4 - 6","Grade 4 - 10","Give your accessories a gorgeous eco-friendly make-over with these fab craft ideas! From wrist watches to fascinators for your hair, this book offers easy step-by-step instructions to upcycle, customize and add sparkle to your style. ","English",23.94,17.95,"745.594","32 pp.",{"$f":"Table1[[#This Row],[QTY]]*Table1[[#This Row],['# of Books]]","v":0},{"$f":"Table1[[#This Row],[QTY]]*Table1[[#This Row],[School & Library Price]]","v":0}]
[null,null,null,40,"Eco Chic","Crafts for Pampering Yourself",1,"Library Bound Book","978-0-7660-4314-5",2014,"August 2013","8.625 X 10.63","Author","Susannah Blake",6.1,null,null,null,null,"1030L","Grade 4 - 6","Grade 4 - 10","Have an eco-friendly pampering party with these fab craft ideas! From lip balms to bath infusions, this book offers easy step-by-step instructions to recycle, customize and add sparkle to your bathroom routines. ","English",23.94,17.95,"668","32 pp.",{"$f":"Table1[[#This Row],[QTY]]*Table1[[#This Row],['# of Books]]","v":0},{"$f":"Table1[[#This Row],[QTY]]*Table1[[#This Row],[School & Library Price]]","v":0}]
[null,null,null,40,"Eco Chic","Crafts for Revamping Your Room",1,"Library Bound Book","978-0-7660-4315-2",2014,"August 2013","8.625 X 10.63","Author","Susannah Blake",5.9,null,null,null,null,"1040L","Grade 4 - 6","Grade 4 - 10","Redo your room with a fabulous eco-friendly make-over with these craft ideas! From the nightstand to the doorstop, this book offers easy step-by-step instructions to upcycle, customize and add sparkle to your bedroom. ","English",23.94,17.95,"747","32 pp.",{"$f":"Table1[[#This Row],[QTY]]*Table1[[#This Row],['# of Books]]","v":0},{"$f":"Table1[[#This Row],[QTY]]*Table1[[#This Row],[School & Library Price]]","v":0}]
[null,null,null,40,"Eco Chic","Crafts for Styling Your Wardrobe",1,"Library Bound Book","978-0-7660-4316-9",2014,"August 2013","8.625 X 10.63","Author","Susannah Blake",5.8,null,null,null,null,"1020L","Grade 4 - 6","Grade 4 - 10","Is your wardrobe in need of a fashion fix? If you are an eco-girl who loves to set trends and strut her style, this book is for you! Simple step-by-step instructions show you how you can customize, upcycle and revamp your clothes the eco-friendly way. ","English",23.94,17.95,"646.2","32 pp.",{"$f":"Table1[[#This Row],[QTY]]*Table1[[#This Row],['# of Books]]","v":0},{"$f":"Table1[[#This Row],[QTY]]*Table1[[#This Row],[School & Library Price]]","v":0}]
[null,null,null,41,"Fun and Festive Crafts for the Seasons","Fun and Festive Crafts for the Seasons",4,"Library Set","978-0-7660-8010-2",2015,"August 2014","7.500 X 9.000",null,null,null,null,null,null,null,null,"Grade 3 - 6","Grade 3 - 6",null,"English",101.08,75.8,null,"48 pp.",{"$f":"Table1[[#This Row],[QTY]]*Table1[[#This Row],['# of Books]]","v":0},{"$f":"Table1[[#This Row],[QTY]]*Table1[[#This Row],[School & Library Price]]","v":0}]
[null,null,null,41,"Fun and Festive Crafts for the Seasons","Fun and Festive Fall Crafts: Leaf Rubbings, Dancing Scarecrows, and Pinecone Turkeys",1,"Library Bound Book","978-0-7660-4320-6",2015,"August 2014","7.500 X 9.000","Author","Randel McGee",null,null,null,null,"J","860L","Grade 3 - ","Grade 3 - 5","In autumn, crops are harvested, leaves change color, and school begins. In FUN AND FESTIVE FALL CRAFTS: LEAF RUBBINGS, DANCING SCARECROWS, AND PINECONE TURKEYS, follow easy step-by-step instructions to create unique crafts as you learn about fall. Discover an ancient Chinese legend about the moon harvest and the scientific reason we have a fall season. Also read about symbols, holidays, and special events that take place during this colorful time of year and get creative! ","English",25.27,18.95,"745.5","48 pp.",{"$f":"Table1[[#This Row],[QTY]]*Table1[[#This Row],['# of Books]]","v":0},{"$f":"Table1[[#This Row],[QTY]]*Table1[[#This Row],[School & Library Price]]","v":0}]
[null,null,null,41,"Fun and Festive Crafts for the Seasons","Fun and Festive Fall Crafts: Leaf Rubbings, Dancing Scarecrows, and Pinecone Turkeys",1,"eBook","978-0-7660-5914-6",2015,"August 2014",null,"Author","Randel McGee",null,null,null,null,"J","860L","Grade 3 - ","Grade 3 - 5","In autumn, crops are harvested, leaves change color, and school begins. In FUN AND FESTIVE FALL CRAFTS: LEAF RUBBINGS, DANCING SCARECROWS, AND PINECONE TURKEYS, follow easy step-by-step instructions to create unique crafts as you learn about fall. Discover an ancient Chinese legend about the moon harvest and the scientific reason we have a fall season. Also read about symbols, holidays, and special events that take place during this colorful time of year and get creative! ","English",25.27,18.95,"745.5","48 pp.",{"$f":"Table1[[#This Row],[QTY]]*Table1[[#This Row],['# of Books]]","v":0},{"$f":"Table1[[#This Row],[QTY]]*Table1[[#This Row],[School & Library Price]]","v":0}]
[null,null,null,41,"Fun and Festive Crafts for the Seasons","Fun and Festive Spring Crafts: Flower Puppets, Bunny Masks, and Mother's Day Pop-up Cards",1,"Library Bound Book","978-0-7660-4318-3",2015,"August 2014","7.500 X 9.000","Author","Randel McGee",null,null,null,null,"J","890L","Grade 3 - ","Grade 3 - 5","In spring, winter ice melts away, flowers bloom, and animals have babies. In FUN AND FESTIVE SPRING CRAFTS: FLOWER PUPPETS, BUNNY MASKS, AND MOTHER’S DAY POP-UP CARDS, follow easy step-by-step instructions to create unique crafts as you learn about spring. Discover the ancient Greek myth about Demeter, goddess of the harvest, and the scientific reason we have a spring season. Also read about symbols, holidays, and special events that take place during this fruitful time of year and get creative! ","English",25.27,18.95,"745.5","48 pp.",{"$f":"Table1[[#This Row],[QTY]]*Table1[[#This Row],['# of Books]]","v":0},{"$f":"Table1[[#This Row],[QTY]]*Table1[[#This Row],[School & Library Price]]","v":0}]
[null,null,null,41,"Fun and Festive Crafts for the Seasons","Fun and Festive Spring Crafts: Flower Puppets, Bunny Masks, and Mother's Day Pop-up Cards",1,"eBook","978-0-7660-5912-2",2015,"August 2014",null,"Author","Randel McGee",null,null,null,null,"J","890L","Grade 3 - ","Grade 3 - 5","In spring, winter ice melts away, flowers bloom, and animals have babies. In FUN AND FESTIVE SPRING CRAFTS: FLOWER PUPPETS, BUNNY MASKS, AND MOTHER’S DAY POP-UP CARDS, follow easy step-by-step instructions to create unique crafts as you learn about spring. Discover the ancient Greek myth about Demeter, goddess of the harvest, and the scientific reason we have a spring season. Also read about symbols, holidays, and special events that take place during this fruitful time of year and get creative! ","English",25.27,18.95,"745.5","48 pp.",{"$f":"Table1[[#This Row],[QTY]]*Table1[[#This Row],['# of Books]]","v":0},{"$f":"Table1[[#This Row],[QTY]]*Table1[[#This Row],[School & Library Price]]","v":0}]
[null,null,null,41,"Fun and Festive Crafts for the Seasons","Fun and Festive Summer Crafts: Tie-Dyed Shirts, Bug Cages, and Sand Castles",1,"Library Bound Book","978-0-7660-4319-0",2015,"August 2014","7.500 X 9.000","Author","Randel McGee",null,null,null,null,"J","910L","Grade 3 - ","Grade 3 - 5","In summer, the weather is hot, school is out, and people have picnics and barbecues. In FUN AND FESTIVE SUMMER CRAFTS: TIE-DYED SHIRTS, BUG CAGES, AND SAND CASTLES, follow easy step-by-step instructions to create unique crafts as you learn about summer. Discover a Hawaiian myth about the long days of summer and the scientific reason we have a summer season. Also read about symbols, holidays, and special events that take place during this fun-filled time of year and get creative! ","English",25.27,18.95,"745.5","48 pp.",{"$f":"Table1[[#This Row],[QTY]]*Table1[[#This Row],['# of Books]]","v":0},{"$f":"Table1[[#This Row],[QTY]]*Table1[[#This Row],[School & Library Price]]","v":0}]
[null,null,null,41,"Fun and Festive Crafts for the Seasons","Fun and Festive Summer Crafts: Tie-Dyed Shirts, Bug Cages, and Sand Castles",1,"eBook","978-0-7660-5913-9",2015,"August 2014",null,"Author","Randel McGee",null,null,null,null,"J","910L","Grade 3 - ","Grade 3 - 5","In summer, the weather is hot, school is out, and people have picnics and barbecues. In FUN AND FESTIVE SUMMER CRAFTS: TIE-DYED SHIRTS, BUG CAGES, AND SAND CASTLES, follow easy step-by-step instructions to create unique crafts as you learn about summer. Discover a Hawaiian myth about the long days of summer and the scientific reason we have a summer season. Also read about symbols, holidays, and special events that take place during this fun-filled time of year and get creative! ","English",25.27,18.95,"745.5","48 pp.",{"$f":"Table1[[#This Row],[QTY]]*Table1[[#This Row],['# of Books]]","v":0},{"$f":"Table1[[#This Row],[QTY]]*Table1[[#This Row],[School & Library Price]]","v":0}]
[null,null,null,41,"Fun and Festive Crafts for the Seasons","Fun and Festive Winter Crafts: Snow Globes, Groundhog Puppets, and Fairy Masks",1,"Library Bound Book","978-0-7660-4317-6",2015,"August 2014","7.500 X 9.000","Author","Randel McGee",null,null,null,null,"J","930L","Grade 3 - ","Grade 3 - 5","In winter, snow and ice cover the ground, the days are short, and the nights are long. In FUN AND FESTIVE WINTER CRAFTS: SNOW GLOBES, GROUNDHOG PUPPETS, AND FAIRY MASKS, follow easy step-by-step instructions to create unique crafts as you learn about winter. Discover an Abenaki myth about the cold days of winter and the scientific reason we have a winter season. Also read about symbols, holidays, and special events that take place during this frosty time of year and get creative! ","English",25.27,18.95,"745.5","48 pp.",{"$f":"Table1[[#This Row],[QTY]]*Table1[[#This Row],['# of Books]]","v":0},{"$f":"Table1[[#This Row],[QTY]]*Table1[[#This Row],[School & Library Price]]","v":0}]
[null,null,null,41,"Fun and Festive Crafts for the Seasons","Fun and Festive Winter Crafts: Snow Globes, Groundhog Puppets, and Fairy Masks",1,"eBook","978-0-7660-5911-5",2015,"August 2014",null,"Author","Randel McGee",null,null,null,null,"J","930L","Grade 3 - ","Grade 3 - 5","In winter, snow and ice cover the ground, the days are short, and the nights are long. In FUN AND FESTIVE WINTER CRAFTS: SNOW GLOBES, GROUNDHOG PUPPETS, AND FAIRY MASKS, follow easy step-by-step instructions to create unique crafts as you learn about winter. Discover an Abenaki myth about the cold days of winter and the scientific reason we have a winter season. Also read about symbols, holidays, and special events that take place during this frosty time of year and get creative! ","English",25.27,18.95,"745.5","48 pp.",{"$f":"Table1[[#This Row],[QTY]]*Table1[[#This Row],['# of Books]]","v":0},{"$f":"Table1[[#This Row],[QTY]]*Table1[[#This Row],[School & Library Price]]","v":0}]
[null,null,null,41,"Professor Cook's...","Professor Cook's...",4,"Library Set","978-0-7660-8011-9",2014,"August 2013","8.625 X 10.63",null,null,null,null,null,null,null,null,"Grade 3 - 6","Grade 3 - 6",null,"English",95.76,71.8,null,"32 pp.",{"$f":"Table1[[#This Row],[QTY]]*Table1[[#This Row],['# of Books]]","v":0},{"$f":"Table1[[#This Row],[QTY]]*Table1[[#This Row],[School & Library Price]]","v":0}]
[null,null,null,41,"Professor Cook's...","Professor Cook's Dynamite Dinners",1,"Library Bound Book","978-0-7660-4301-5",2014,"August 2013","8.625 X 10.63","Author","Lorna Brash",5.7,null,null,null,null,"1000L","Grade 4 - 6","Grade 4 - 10","Make marvelous meals such as incredibly edible soup (and bowl!) to chili with a deep, dark, secret! Find out why fish is good for the brain and why some dishes are utterly designed to make your tongue tingle! ","English",23.94,17.95,"641.5","32 pp.",{"$f":"Table1[[#This Row],[QTY]]*Table1[[#This Row],['# of Books]]","v":0},{"$f":"Table1[[#This Row],[QTY]]*Table1[[#This Row],[School & Library Price]]","v":0}]
[null,null,null,41,"Professor Cook's...","Professor Cook's Fruity Desserts",1,"Library Bound Book","978-0-7660-4302-2",2014,"August 2013","8.625 X 10.63","Author","Lorna Brash",5.5,null,null,null,null,"950L","Grade 4 - 6","Grade 4 - 10","Create deliciously decadent dishes from tantalizing tie-dye lollipops to wonderfully wobbly strawberry mousse! Find out how to ripen fruit super-quick, exactly what is \"brain freeze\" and why frozen fruits are frozen yogurt’s best friend! ","English",23.94,17.95,"641.86","32 pp.",{"$f":"Table1[[#This Row],[QTY]]*Table1[[#This Row],['# of Books]]","v":0},{"$f":"Table1[[#This Row],[QTY]]*Table1[[#This Row],[School & Library Price]]","v":0}]
[null,null,null,41,"Professor Cook's...","Professor Cook's Mind-Blowing Baking",1,"Library Bound Book","978-0-7660-4303-9",2014,"August 2013","8.625 X 10.63","Author","Lorna Brash",5,null,null,null,null,"930L","Grade 4 - 6","Grade 4 - 10","Make exquisite cakes and bakes, from oozing crust pizzas and stained glass cookies to exploding cupcakes! Find out about the marvelous magic of meringues and if cheese really can give you nightmares! ","English",23.94,17.95,"641.81","32 pp.",{"$f":"Table1[[#This Row],[QTY]]*Table1[[#This Row],['# of Books]]","v":0},{"$f":"Table1[[#This Row],[QTY]]*Table1[[#This Row],[School & Library Price]]","v":0}]
[null,null,null,41,"Professor Cook's...","Professor Cook's Smashing Snacks",1,"Library Bound Book","978-0-7660-4304-6",2014,"August 2013","8.625 X 10.63","Author","Lorna Brash",5.6,null,null,null,null,"1010L","Grade 4 - 6","Grade 4 - 10","Make deliciously simple “ice cream in a bag” or spicy onion bhajis—without the tears. Find out what makes popcorn explode, why mozzarella is so super stretchy or why oats are so good to eat for breakfast! ","English",23.94,17.95,"641.5","32 pp.",{"$f":"Table1[[#This Row],[QTY]]*Table1[[#This Row],['# of Books]]","v":0},{"$f":"Table1[[#This Row],[QTY]]*Table1[[#This Row],[School & Library Price]]","v":0}]
[null,null,null,42,"Mastering Origami","Mastering Origami",4,"Library Set","978-0-7660-7943-4",2017,"August 2016","7.250 X 9.250",null,null,null,null,null,null,null,null,"Grade 5 - 6","Grade 5 - 8","This series introduces students to the beautiful Japanese paper-folding art form known as origami. Readers learn the history behind origami, gaze at incredible origami masterpieces, and familiarize themselves with the basic folds before diving into ten to fifteen projects per book. Each book in this series covers a broad category of subjects: animals, toys and games, party tricks, and practical projects. From butterflies to magic stars that convert into Frisbees to blinking eyes to photo frames, children can create impressive pieces of art they can share with friends and family.","English",111.72,83.8,null,"48 pp.",{"$f":"Table1[[#This Row],[QTY]]*Table1[[#This Row],['# of Books]]","v":0},{"$f":"Table1[[#This Row],[QTY]]*Table1[[#This Row],[School & Library Price]]","v":0}]
[null,null,null,42,"Mastering Origami","Origami Animals",1,"Library Bound Book","978-0-7660-7946-5",2017,"August 2016","7.250 X 9.250","Author","Tom Butler",null,null,null,null,"V",null,"Grade 5 - 6","Grade 5 - 8","Through detailed step-by-step instructions and full-color photos, readers can practice origami and create a cute Scottish terrier, an adorable rabbit, an elegant peacock, and other animals. The book also includes a brief history of origami, a gallery of masterpieces, a glossary, and Further Reading.","English",27.93,20.95,"736’.982--dc23","48 pp.",{"$f":"Table1[[#This Row],[QTY]]*Table1[[#This Row],['# of Books]]","v":0},{"$f":"Table1[[#This Row],[QTY]]*Table1[[#This Row],[School & Library Price]]","v":0}]
[null,null,null,42,"Mastering Origami","Origami Animals",1,"eBook","978-0-7660-7947-2",2017,"August 2016",null,"Author","Tom Butler",null,null,null,null,"V",null,"Grade 5 - 6","Grade 5 - 8","Through detailed step-by-step instructions and full-color photos, readers can practice origami and create a cute Scottish terrier, an adorable rabbit, an elegant peacock, and other animals. The book also includes a brief history of origami, a gallery of masterpieces, a glossary, and Further Reading.","English",27.93,20.95,"736’.982--dc23","48 pp.",{"$f":"Table1[[#This Row],[QTY]]*Table1[[#This Row],['# of Books]]","v":0},{"$f":"Table1[[#This Row],[QTY]]*Table1[[#This Row],[School & Library Price]]","v":0}]
[null,null,null,42,"Mastering Origami","Origami Toys & Games",1,"Library Bound Book","978-0-7660-7950-2",2017,"August 2016","7.250 X 9.250","Author","Tom Butler",null,null,null,null,"W",null,"Grade 5 - 6","Grade 5 - 8","By following illustrated step-by-step instructions, children can create fun origami toys and games such as a zoomerang, a magic star that converts into a Frisbee, and a catapult and basketball hoop to share with their friends. A brief introduction explains the origins and significance of origami and examples of masterpieces will show readers what they can aspire to create.","English",27.93,20.95,"736’.982--dc23","48 pp.",{"$f":"Table1[[#This Row],[QTY]]*Table1[[#This Row],['# of Books]]","v":0},{"$f":"Table1[[#This Row],[QTY]]*Table1[[#This Row],[School & Library Price]]","v":0}]
[null,null,null,42,"Mastering Origami","Origami Toys & Games",1,"eBook","978-0-7660-7951-9",2017,"August 2016",null,"Author","Tom Butler",null,null,null,null,"W",null,"Grade 5 - 6","Grade 5 - 8","By following illustrated step-by-step instructions, children can create fun origami toys and games such as a zoomerang, a magic star that converts into a Frisbee, and a catapult and basketball hoop to share with their friends. A brief introduction explains the origins and significance of origami and examples of masterpieces will show readers what they can aspire to create.","English",27.93,20.95,"736’.982--dc23","48 pp.",{"$f":"Table1[[#This Row],[QTY]]*Table1[[#This Row],['# of Books]]","v":0},{"$f":"Table1[[#This Row],[QTY]]*Table1[[#This Row],[School & Library Price]]","v":0}]
[null,null,null,42,"Mastering Origami","Origami Vehicles",1,"Library Bound Book","978-0-7660-7953-3",2017,"August 2016","7.250 X 9.250","Author","Tom Butler",null,null,null,null,"X",null,"Grade 5 - 6","Grade 5 - 8","Step-by-step instructions illustrated with full-color photos show readers how to make fun origami pieces, such as blinking eyes, kissing lips, and a nodding dog, to impress their friends and family. By including a brief history of origami, a gallery of masterpieces, a glossary, and Further Reading, the book also informs as well as entertains.","English",27.93,20.95,"736’.982--dc23","48 pp.",{"$f":"Table1[[#This Row],[QTY]]*Table1[[#This Row],['# of Books]]","v":0},{"$f":"Table1[[#This Row],[QTY]]*Table1[[#This Row],[School & Library Price]]","v":0}]
[null,null,null,42,"Mastering Origami","Origami Vehicles",1,"eBook","978-0-7660-7954-0",2017,"August 2016",null,"Author","Tom Butler",null,null,null,null,"X",null,"Grade 5 - 6","Grade 5 - 8","Step-by-step instructions illustrated with full-color photos show readers how to make fun origami pieces, such as blinking eyes, kissing lips, and a nodding dog, to impress their friends and family. By including a brief history of origami, a gallery of masterpieces, a glossary, and Further Reading, the book also informs as well as entertains.","English",27.93,20.95,"736’.982--dc23","48 pp.",{"$f":"Table1[[#This Row],[QTY]]*Table1[[#This Row],['# of Books]]","v":0},{"$f":"Table1[[#This Row],[QTY]]*Table1[[#This Row],[School & Library Price]]","v":0}]
[null,null,null,42,"Mastering Origami","Practical Origami",1,"Library Bound Book","978-0-7660-7956-4",2017,"August 2016","7.250 X 9.250","Author","Tom Butler",null,null,null,null,"U",null,"Grade 5 - 6","Grade 5 - 8","Through detailed step-by-step instructions and full-color photos, students can create useful origami pieces, such as a pin tray, photo frame, business card holder, and coaster. A brief introduction explains the origins and significance of origami and examples of masterpieces will show readers what wonders imagination and skill can produce.","English",27.93,20.95,"736’.982--dc23","48 pp.",{"$f":"Table1[[#This Row],[QTY]]*Table1[[#This Row],['# of Books]]","v":0},{"$f":"Table1[[#This Row],[QTY]]*Table1[[#This Row],[School & Library Price]]","v":0}]
[null,null,null,42,"Mastering Origami","Practical Origami",1,"eBook","978-0-7660-7957-1",2017,"August 2016",null,"Author","Tom Butler",null,null,null,null,"U",null,"Grade 5 - 6","Grade 5 - 8","Through detailed step-by-step instructions and full-color photos, students can create useful origami pieces, such as a pin tray, photo frame, business card holder, and coaster. A brief introduction explains the origins and significance of origami and examples of masterpieces will show readers what wonders imagination and skill can produce.","English",27.93,20.95,"736’.982--dc23","48 pp.",{"$f":"Table1[[#This Row],[QTY]]*Table1[[#This Row],['# of Books]]","v":0},{"$f":"Table1[[#This Row],[QTY]]*Table1[[#This Row],[School & Library Price]]","v":0}]
[null,null,null,43,"Famous African Americans","Famous African Americans",12,"Library Set","978-0-7660-8012-6",2013,"January 2013","9.000 X 7.500",null,null,null,null,null,null,null,null,"Grade K - 3","Grade K - 3",null,"English",271.2,203.4,null,"24 pp.",{"$f":"Table1[[#This Row],[QTY]]*Table1[[#This Row],['# of Books]]","v":0},{"$f":"Table1[[#This Row],[QTY]]*Table1[[#This Row],[School & Library Price]]","v":0}]
[null,null,null,43,"Famous African Americans","Booker T. Washington: African-American Leader",1,"Library Bound Book","978-0-7660-4100-4",2013,"January 2013","9.000 X 7.500","Author, Author","Patricia Mckissack, Fredrick Mckissack",3.5,0.5,null,null,"M","530L","Grade K - 2","Grade K - 3","With skills like farming, carpentry, and sewing, Booker T. Washington believed that blacks could find acceptance in the racist white society of the late 1880s. His school became a leading educator of African Americans, and he became a powerful national figure, advising business owners and even presidents. Though many considered Washington the most important black leader of his time, some other black leaders criticized his accommodating \"Uncle Tom\" views. In simple language, the McKissacks clarify Booker T. Washington's philosophy, accomplishments, and place in history.","English",22.6,16.95,"370.92","24 pp.",{"$f":"Table1[[#This Row],[QTY]]*Table1[[#This Row],['# of Books]]","v":0},{"$f":"Table1[[#This Row],[QTY]]*Table1[[#This Row],[School & Library Price]]","v":0}]
[null,null,null,43,"Famous African Americans","Booker T. Washington: African-American Leader",1,"eBook","978-0-7660-5736-4",2013,"January 2013",null,"Author, Author","Patricia Mckissack, Fredrick Mckissack",3.5,0.5,null,null,"M","530L","Grade K - 2","Grade K - 3","With skills like farming, carpentry, and sewing, Booker T. Washington believed that blacks could find acceptance in the racist white society of the late 1880s. His school became a leading educator of African Americans, and he became a powerful national figure, advising business owners and even presidents. Though many considered Washington the most important black leader of his time, some other black leaders criticized his accommodating \"Uncle Tom\" views. In simple language, the McKissacks clarify Booker T. Washington's philosophy, accomplishments, and place in history.","English",22.6,16.95,"370.92","24 pp.",{"$f":"Table1[[#This Row],[QTY]]*Table1[[#This Row],['# of Books]]","v":0},{"$f":"Table1[[#This Row],[QTY]]*Table1[[#This Row],[School & Library Price]]","v":0}]
[null,null,null,43,"Famous African Americans","Carter G. Woodson: Black History Pioneer",1,"Library Bound Book","978-0-7660-4109-7",2013,"January 2013","9.000 X 7.500","Author, Author","Patricia Mckissack, Fredrick Mckissack",3.2,0.5,null,null,"M","480L","Grade K - 2","Grade K - 3","Carter G. Woodson, born just ten years after the Civil War ended, grew up in the lingering shadow of slavery. Woodson became a scholar dedicated to learning, teaching, and writing about the history of his people. Today, because of the efforts of this one man, Black History Month is celebrated annually and African-American history is a well-respected field of study. The McKissacks bring this pioneering historian to another generation of budding young scholars.","English",22.6,16.95,"973","24 pp.",{"$f":"Table1[[#This Row],[QTY]]*Table1[[#This Row],['# of Books]]","v":0},{"$f":"Table1[[#This Row],[QTY]]*Table1[[#This Row],[School & Library Price]]","v":0}]
[null,null,null,43,"Famous African Americans","Carter G. Woodson: Black History Pioneer",1,"eBook","978-0-7660-5737-1",2013,"January 2013",null,"Author, Author","Patricia Mckissack, Fredrick Mckissack",3.2,0.5,null,null,"M","480L","Grade K - 2","Grade K - 3","Carter G. Woodson, born just ten years after the Civil War ended, grew up in the lingering shadow of slavery. Woodson became a scholar dedicated to learning, teaching, and writing about the history of his people. Today, because of the efforts of this one man, Black History Month is celebrated annually and African-American history is a well-respected field of study. The McKissacks bring this pioneering historian to another generation of budding young scholars.","English",22.6,16.95,"973","24 pp.",{"$f":"Table1[[#This Row],[QTY]]*Table1[[#This Row],['# of Books]]","v":0},{"$f":"Table1[[#This Row],[QTY]]*Table1[[#This Row],[School & Library Price]]","v":0}]
[null,null,null,43,"Famous African Americans","Frederick Douglass: Fighter Against Slavery",1,"Library Bound Book","978-0-7660-4098-4",2013,"January 2013","9.000 X 7.500","Author, Author","Patricia Mckissack, Fredrick Mckissack",3.1,0.5,null,null,"M","470L","Grade K - 2","Grade K - 3","Despite being a slave, Frederick Douglass learned to read and write. At age 21, he escaped from slavery and created a new life for himself as a free man. Intelligent and charismatic, Douglass became the leading voice against slavery in the 1800s. \"There is no way a nation can call itself free and accept slavery,\" he said. The McKissacks’ lively, easy-to-read text highlights the importance of this internationally known author and orator.","English",22.6,16.95,"973.8092","24 pp.",{"$f":"Table1[[#This Row],[QTY]]*Table1[[#This Row],['# of Books]]","v":0},{"$f":"Table1[[#This Row],[QTY]]*Table1[[#This Row],[School & Library Price]]","v":0}]
[null,null,null,43,"Famous African Americans","Frederick Douglass: Fighter Against Slavery",1,"eBook","978-0-7660-5738-8",2013,"January 2013",null,"Author, Author","Patricia Mckissack, Fredrick Mckissack",3.1,0.5,null,null,"M","470L","Grade K - 2","Grade K - 3","Despite being a slave, Frederick Douglass learned to read and write. At age 21, he escaped from slavery and created a new life for himself as a free man. Intelligent and charismatic, Douglass became the leading voice against slavery in the 1800s. \"There is no way a nation can call itself free and accept slavery,\" he said. The McKissacks’ lively, easy-to-read text highlights the importance of this internationally known author and orator.","English",22.6,16.95,"973.8092","24 pp.",{"$f":"Table1[[#This Row],[QTY]]*Table1[[#This Row],['# of Books]]","v":0},{"$f":"Table1[[#This Row],[QTY]]*Table1[[#This Row],[School & Library Price]]","v":0}]
[null,null,null,43,"Famous African Americans","George Washington Carver: Scientist and Inventor",1,"Library Bound Book","978-0-7660-4102-8",2013,"January 2013","9.000 X 7.500","Author, Author","Patricia Mckissack, Fredrick Mckissack",3.2,0.5,null,null,"M","520L","Grade K - 2","Grade K - 3","George Washington Carver spent his life asking questions and looking for the answers. He gained a reputation as the farmers' best friend after teaching about crop rotation. He told farmers to grow peanuts and sweet potatoes to \"rest\" their soil between cotton crops. And what could they do with all those peanuts? Carver developed more than 300 peanut-based products—from milk to printers' ink—and more than 100 ways to use sweet potatoes.  Young children love the story of this exceptional inventor. ","English",22.6,16.95,"635","24 pp.",{"$f":"Table1[[#This Row],[QTY]]*Table1[[#This Row],['# of Books]]","v":0},{"$f":"Table1[[#This Row],[QTY]]*Table1[[#This Row],[School & Library Price]]","v":0}]
[null,null,null,43,"Famous African Americans","George Washington Carver: Scientist and Inventor",1,"eBook","978-0-7660-5739-5",2013,"January 2013",null,"Author, Author","Patricia Mckissack, Fredrick Mckissack",3.2,0.5,null,null,"M","520L","Grade K - 2","Grade K - 3","George Washington Carver spent his life asking questions and looking for the answers. He gained a reputation as the farmers' best friend after teaching about crop rotation. He told farmers to grow peanuts and sweet potatoes to \"rest\" their soil between cotton crops. And what could they do with all those peanuts? Carver developed more than 300 peanut-based products—from milk to printers' ink—and more than 100 ways to use sweet potatoes.  Young children love the story of this exceptional inventor. ","English",22.6,16.95,"635","24 pp.",{"$f":"Table1[[#This Row],[QTY]]*Table1[[#This Row],['# of Books]]","v":0},{"$f":"Table1[[#This Row],[QTY]]*Table1[[#This Row],[School & Library Price]]","v":0}]
[null,null,null,43,"Famous African Americans","Ida B. Wells-Barnett: Fighter for Justice",1,"Library Bound Book","978-0-7660-4108-0",2013,"January 2013","9.000 X 7.500","Author, Author","Patricia Mckissack, Fredrick Mckissack",3.5,0.5,null,null,"M","560L","Grade K - 2","Grade K - 3","Ida B. Wells-Barnett rose from her roots in slavery to become an outspoken voice for her people. She was an important and influential journalist at a time in history when few women had careers. Using the power of her writing, she launched the first anti-lynching campaign and gained worldwide attention for this cause. Give your readers a close-up look at this amazing, inspiring woman.","English",22.6,16.95,"323.092","24 pp.",{"$f":"Table1[[#This Row],[QTY]]*Table1[[#This Row],['# of Books]]","v":0},{"$f":"Table1[[#This Row],[QTY]]*Table1[[#This Row],[School & Library Price]]","v":0}]
[null,null,null,43,"Famous African Americans","Ida B. Wells-Barnett: Fighter for Justice",1,"eBook","978-0-7660-5740-1",2013,"January 2013",null,"Author, Author","Patricia Mckissack, Fredrick Mckissack",3.5,0.5,null,null,"M","560L","Grade K - 2","Grade K - 3","Ida B. Wells-Barnett rose from her roots in slavery to become an outspoken voice for her people. She was an important and influential journalist at a time in history when few women had careers. Using the power of her writing, she launched the first anti-lynching campaign and gained worldwide attention for this cause. Give your readers a close-up look at this amazing, inspiring woman.","English",22.6,16.95,"323.092","24 pp.",{"$f":"Table1[[#This Row],[QTY]]*Table1[[#This Row],['# of Books]]","v":0},{"$f":"Table1[[#This Row],[QTY]]*Table1[[#This Row],[School & Library Price]]","v":0}]
[null,null,null,43,"Famous African Americans","Jesse Owens: Legendary Track Star",1,"Library Bound Book","978-0-7660-4104-2",2013,"January 2013","9.000 X 7.500","Author, Author","Patricia Mckissack, Fredrick Mckissack",3.6,0.5,null,null,"M","590L","Grade K - 2","Grade K - 3","\"I always loved running,\" said Jesse Owens, who as a child could outrun all his playmates. When he competed in the Summer Olympics in Berlin, Germany, people used words like \"express\" and \"comet\" to describe him. Owens won an amazing four Olympic gold medals in track and field events, and demonstrated to the world that Nazi leader Adolf Hitler's theory of racial inferiority was wrong. An athlete, humanitarian, speaker, and author, Owens dedicated his later years to helping the youth of America reach for greatness. This biography will inspire your readers.","English",22.6,16.95,"796.42092","24 pp.",{"$f":"Table1[[#This Row],[QTY]]*Table1[[#This Row],['# of Books]]","v":0},{"$f":"Table1[[#This Row],[QTY]]*Table1[[#This Row],[School & Library Price]]","v":0}]
[null,null,null,43,"Famous African Americans","Jesse Owens: Legendary Track Star",1,"eBook","978-0-7660-5741-8",2013,"January 2013",null,"Author, Author","Patricia Mckissack, Fredrick Mckissack",3.6,0.5,null,null,"M","590L","Grade K - 2","Grade K - 3","\"I always loved running,\" said Jesse Owens, who as a child could outrun all his playmates. When he competed in the Summer Olympics in Berlin, Germany, people used words like \"express\" and \"comet\" to describe him. Owens won an amazing four Olympic gold medals in track and field events, and demonstrated to the world that Nazi leader Adolf Hitler's theory of racial inferiority was wrong. An athlete, humanitarian, speaker, and author, Owens dedicated his later years to helping the youth of America reach for greatness. This biography will inspire your readers.","English",22.6,16.95,"796.42092","24 pp.",{"$f":"Table1[[#This Row],[QTY]]*Table1[[#This Row],['# of Books]]","v":0},{"$f":"Table1[[#This Row],[QTY]]*Table1[[#This Row],[School & Library Price]]","v":0}]
[null,null,null,43,"Famous African Americans","Louis Armstrong: King of Jazz",1,"Library Bound Book","978-0-7660-4106-6",2013,"January 2013","9.000 X 7.500","Author, Author","Patricia Mckissack, Fredrick Mckissack",3,0.5,null,null,"M","490L","Grade K - 2","Grade K - 3","Music has been in my blood from the day I was born, said Louis Armstrong. He rose from a troubled childhood and a life of poverty to set the music world on fire. Armstrong's lively trumpet playing, trademark \"scat\" singing, and natural talent for showmanship dazzled audiences for more than fifty years. In clear, crisp prose, the McKissacks place Armstrong in American musical history and show the impact his extraordinary talent made throughout the world. ","English",22.6,16.95,"781.65092","24 pp.",{"$f":"Table1[[#This Row],[QTY]]*Table1[[#This Row],['# of Books]]","v":0},{"$f":"Table1[[#This Row],[QTY]]*Table1[[#This Row],[School & Library Price]]","v":0}]
[null,null,null,43,"Famous African Americans","Louis Armstrong: King of Jazz",1,"eBook","978-0-7660-5742-5",2013,"January 2013",null,"Author, Author","Patricia Mckissack, Fredrick Mckissack",3,0.5,null,null,"M","490L","Grade K - 2","Grade K - 3","Music has been in my blood from the day I was born, said Louis Armstrong. He rose from a troubled childhood and a life of poverty to set the music world on fire. Armstrong's lively trumpet playing, trademark \"scat\" singing, and natural talent for showmanship dazzled audiences for more than fifty years. In clear, crisp prose, the McKissacks place Armstrong in American musical history and show the impact his extraordinary talent made throughout the world. ","English",22.6,16.95,"781.65092","24 pp.",{"$f":"Table1[[#This Row],[QTY]]*Table1[[#This Row],['# of Books]]","v":0},{"$f":"Table1[[#This Row],[QTY]]*Table1[[#This Row],[School & Library Price]]","v":0}]
[null,null,null,43,"Famous African Americans","Madam C.J. Walker: Inventor and Millionaire",1,"Library Bound Book","978-0-7660-4105-9",2013,"January 2013","9.000 X 7.500","Author, Author","Patricia Mckissack, Fredrick Mckissack",3.6,0.5,null,null,"L","620L","Grade K - 2","Grade K - 3","\"Don't wait for opportunities to come . . . get up and make them,\" said Madam C. J. Walker. She rose from a laundry woman to become America’s first black woman millionaire. Born in poverty, Walker set her sights on a better life and made her fortune by developing hair care and beauty products specially formulated for African Americans. As her wealth and influence grew, she also channeled her energies into working for civil rights and social change. This real-life rags-to-riches story will inspire your readers.","English",22.6,16.95,"338.7","24 pp.",{"$f":"Table1[[#This Row],[QTY]]*Table1[[#This Row],['# of Books]]","v":0},{"$f":"Table1[[#This Row],[QTY]]*Table1[[#This Row],[School & Library Price]]","v":0}]
[null,null,null,43,"Famous African Americans","Madam C.J. Walker: Inventor and Millionaire",1,"eBook","978-0-7660-5743-2",2013,"January 2013",null,"Author, Author","Patricia Mckissack, Fredrick Mckissack",3.6,0.5,null,null,"L","620L","Grade K - 2","Grade K - 3","\"Don't wait for opportunities to come . . . get up and make them,\" said Madam C. J. Walker. She rose from a laundry woman to become America’s first black woman millionaire. Born in poverty, Walker set her sights on a better life and made her fortune by developing hair care and beauty products specially formulated for African Americans. As her wealth and influence grew, she also channeled her energies into working for civil rights and social change. This real-life rags-to-riches story will inspire your readers.","English",22.6,16.95,"338.7","24 pp.",{"$f":"Table1[[#This Row],[QTY]]*Table1[[#This Row],['# of Books]]","v":0},{"$f":"Table1[[#This Row],[QTY]]*Table1[[#This Row],[School & Library Price]]","v":0}]
[null,null,null,43,"Famous African Americans","Marian Anderson: Amazing Opera Singer",1,"Library Bound Book","978-0-7660-4101-1",2013,"January 2013","9.000 X 7.500","Author, Author","Patricia Mckissack, Fredrick Mckissack",3.3,0.5,null,null,"L","570L","Grade K - 2","Grade K - 3","Marian Anderson, with the power of her magnificent voice, triumphed over the racial barriers of her time. In a career that spanned four decades, she lifted herself out of poverty to become a world-famous singer. In this wonderful, easy text, the McKissacks show how the light of Marian Anderson grew bright and transformed her into one of the most beloved people around the world. ","English",22.6,16.95,"782.1","24 pp.",{"$f":"Table1[[#This Row],[QTY]]*Table1[[#This Row],['# of Books]]","v":0},{"$f":"Table1[[#This Row],[QTY]]*Table1[[#This Row],[School & Library Price]]","v":0}]
[null,null,null,43,"Famous African Americans","Marian Anderson: Amazing Opera Singer",1,"eBook","978-0-7660-5744-9",2013,"January 2013",null,"Author, Author","Patricia Mckissack, Fredrick Mckissack",3.3,0.5,null,null,"L","570L","Grade K - 2","Grade K - 3","Marian Anderson, with the power of her magnificent voice, triumphed over the racial barriers of her time. In a career that spanned four decades, she lifted herself out of poverty to become a world-famous singer. In this wonderful, easy text, the McKissacks show how the light of Marian Anderson grew bright and transformed her into one of the most beloved people around the world. ","English",22.6,16.95,"782.1","24 pp.",{"$f":"Table1[[#This Row],[QTY]]*Table1[[#This Row],['# of Books]]","v":0},{"$f":"Table1[[#This Row],[QTY]]*Table1[[#This Row],[School & Library Price]]","v":0}]
[null,null,null,43,"Famous African Americans","Martin Luther King, Jr.: Civil Rights Leader",1,"Library Bound Book","978-0-7660-4099-1",2013,"January 2013","9.000 X 7.500","Author, Author","Patricia Mckissack, Fredrick Mckissack",4.0999999999999996,0.5,null,null,"M","720L","Grade K - 2","Grade K - 3","Every school child knows the name of Martin Luther King, Jr., beacon of the civil rights movement. The McKissacks offer an easy-to-read journey through King's life, as he brought people of all races and religions together to fight, without violence, for equality. Young readers will come away from this book with an understanding of the civil rights movement and what made Dr. King so special.","English",22.6,16.95,"323.092","24 pp.",{"$f":"Table1[[#This Row],[QTY]]*Table1[[#This Row],['# of Books]]","v":0},{"$f":"Table1[[#This Row],[QTY]]*Table1[[#This Row],[School & Library Price]]","v":0}]
[null,null,null,43,"Famous African Americans","Martin Luther King, Jr.: Civil Rights Leader",1,"eBook","978-0-7660-5745-6",2013,"January 2013",null,"Author, Author","Patricia Mckissack, Fredrick Mckissack",4.0999999999999996,0.5,null,null,"M","720L","Grade K - 2","Grade K - 3","Every school child knows the name of Martin Luther King, Jr., beacon of the civil rights movement. The McKissacks offer an easy-to-read journey through King's life, as he brought people of all races and religions together to fight, without violence, for equality. Young readers will come away from this book with an understanding of the civil rights movement and what made Dr. King so special.","English",22.6,16.95,"323.092","24 pp.",{"$f":"Table1[[#This Row],[QTY]]*Table1[[#This Row],['# of Books]]","v":0},{"$f":"Table1[[#This Row],[QTY]]*Table1[[#This Row],[School & Library Price]]","v":0}]
[null,null,null,43,"Famous African Americans","Mary McLeod Bethune: Woman of Courage",1,"Library Bound Book","978-0-7660-4103-5",2013,"January 2013","9.000 X 7.500","Author, Author","Patricia Mckissack, Fredrick Mckissack",3.1,0.5,null,null,"M","510L","Grade K - 2","Grade K - 3","After having a book snatched from her little hand, Mary McLeod, the child of former slaves, resolved to learn to read. Many years later, with $1.50 in her pocket, Mary McLeod Bethune set out to make education a reality for other African Americans. The school she started in Florida is a legacy that continues her mission today. Bethune founded the National Council of Negro Women and was appointed to the National Youth Administration by President Franklin D. Roosevelt. This inspiring biography shows the power of determination and a dream.","English",22.6,16.95,"370.92","24 pp.",{"$f":"Table1[[#This Row],[QTY]]*Table1[[#This Row],['# of Books]]","v":0},{"$f":"Table1[[#This Row],[QTY]]*Table1[[#This Row],[School & Library Price]]","v":0}]
[null,null,null,43,"Famous African Americans","Mary McLeod Bethune: Woman of Courage",1,"eBook","978-0-7660-5746-3",2013,"January 2013",null,"Author, Author","Patricia Mckissack, Fredrick Mckissack",3.1,0.5,null,null,"M","510L","Grade K - 2","Grade K - 3","After having a book snatched from her little hand, Mary McLeod, the child of former slaves, resolved to learn to read. Many years later, with $1.50 in her pocket, Mary McLeod Bethune set out to make education a reality for other African Americans. The school she started in Florida is a legacy that continues her mission today. Bethune founded the National Council of Negro Women and was appointed to the National Youth Administration by President Franklin D. Roosevelt. This inspiring biography shows the power of determination and a dream.","English",22.6,16.95,"370.92","24 pp.",{"$f":"Table1[[#This Row],[QTY]]*Table1[[#This Row],['# of Books]]","v":0},{"$f":"Table1[[#This Row],[QTY]]*Table1[[#This Row],[School & Library Price]]","v":0}]
[null,null,null,43,"Famous African Americans","Paul Robeson: A Voice for Change",1,"Library Bound Book","978-0-7660-4107-3",2013,"January 2013","9.000 X 7.500","Author, Author","Patricia Mckissack, Fredrick Mckissack",3.6,0.5,null,null,"M","600L","Grade K - 2","Grade K - 3","Paul Robeson proved his prowess on the football field and excelled in college and law school in an era that offered few opportunities to African Americans. He won international acclaim as a singer and actor, but was blacklisted as a controversial political activist. Today, Robeson's legacy has reclaimed its rightful place in history. He is recognized for his astounding range of talents and his unwavering stature as a champion of civil rights. This biography will intrigue your readers and inspire them to action.","English",22.6,16.95,"782.0092","24 pp.",{"$f":"Table1[[#This Row],[QTY]]*Table1[[#This Row],['# of Books]]","v":0},{"$f":"Table1[[#This Row],[QTY]]*Table1[[#This Row],[School & Library Price]]","v":0}]
[null,null,null,43,"Famous African Americans","Paul Robeson: A Voice for Change",1,"eBook","978-0-7660-5747-0",2013,"January 2013",null,"Author, Author","Patricia Mckissack, Fredrick Mckissack",3.6,0.5,null,null,"M","600L","Grade K - 2","Grade K - 3","Paul Robeson proved his prowess on the football field and excelled in college and law school in an era that offered few opportunities to African Americans. He won international acclaim as a singer and actor, but was blacklisted as a controversial political activist. Today, Robeson's legacy has reclaimed its rightful place in history. He is recognized for his astounding range of talents and his unwavering stature as a champion of civil rights. This biography will intrigue your readers and inspire them to action.","English",22.6,16.95,"782.0092","24 pp.",{"$f":"Table1[[#This Row],[QTY]]*Table1[[#This Row],['# of Books]]","v":0},{"$f":"Table1[[#This Row],[QTY]]*Table1[[#This Row],[School & Library Price]]","v":0}]
[null,null,null,43,"Exceptional Asians","Exceptional Asians",6,"Library Set","978-0-7660-7492-7",2017,"August 2016","7.125 X 8.500",null,null,null,null,null,null,null,null,"Grade 2 - 3","Grade 3 - 5","Heroes and role models take all forms, and this series includes them all from architects to authors to musicians to actors. These brief, accessible biographies highlight the lives and achievements of six influential modern Asian Americans. Full-color photographs, well-researched information, and direct quotations from the individuals help readers understand what drove these exceptional Asians forward and will inspire others to do the same.","English",135.6,101.7,null,"24 pp.",{"$f":"Table1[[#This Row],[QTY]]*Table1[[#This Row],['# of Books]]","v":0},{"$f":"Table1[[#This Row],[QTY]]*Table1[[#This Row],[School & Library Price]]","v":0}]
[null,null,null,43,"Exceptional Asians","Brenda Song: Actress and Singer",1,"Library Bound Book","978-0-7660-7840-6",2017,"August 2016","7.125 X 8.500","Author","Portia Summers",5.0999999999999996,0.5,null,null,"O",null,"Grade 2 - 3","Grade 3 - 5","As a young girl growing up in California, Brenda Song knew that she wanted to be a performer. Years of hard work and determination eventually led to her starring role on the beloved Disney sitcom The Suite Life of Zack and Cody. Young readers will be enthralled by the details of Song’s little-known success story told with simple text and vibrant color photos. A Words to Know section in the beginning of the text helps readers with any unfamiliar vocabulary they may encounter, and direct quotations allow readers to connect with the inspirational Song, a role model for a modern generation.","English",22.6,16.95,"791.4302/8092--dc23","24 pp.",{"$f":"Table1[[#This Row],[QTY]]*Table1[[#This Row],['# of Books]]","v":0},{"$f":"Table1[[#This Row],[QTY]]*Table1[[#This Row],[School & Library Price]]","v":0}]
[null,null,null,43,"Exceptional Asians","Brenda Song: Actress and Singer",1,"eBook","978-0-7660-7822-2",2017,"August 2016",null,"Author","Portia Summers",5.0999999999999996,0.5,null,null,"O",null,"Grade 2 - 3","Grade 3 - 5","As a young girl growing up in California, Brenda Song knew that she wanted to be a performer. Years of hard work and determination eventually led to her starring role on the beloved Disney sitcom The Suite Life of Zack and Cody. Young readers will be enthralled by the details of Song’s little-known success story told with simple text and vibrant color photos. A Words to Know section in the beginning of the text helps readers with any unfamiliar vocabulary they may encounter, and direct quotations allow readers to connect with the inspirational Song, a role model for a modern generation.","English",22.6,16.95,"791.4302/8092--dc23","24 pp.",{"$f":"Table1[[#This Row],[QTY]]*Table1[[#This Row],['# of Books]]","v":0},{"$f":"Table1[[#This Row],[QTY]]*Table1[[#This Row],[School & Library Price]]","v":0}]
[null,null,null,43,"Exceptional Asians","Bruno Mars: Singer and Songwriter",1,"Library Bound Book","978-0-7660-7841-3",2017,"August 2016","7.125 X 8.500","Author","Kristen Rajczak Nelson",5.5,0.5,null,null,"O",null,"Grade 2 - 3","Grade 3 - 5","How did Peter Hernandez, a young Elvis impersonator from Honolulu, Hawaii, become Bruno Mars, one of the biggest pop stars of his time? This colorful biography uses vibrant photos and simple text to tell the story of Mars’s ascension to fame, including his family’s strong musical influence and his own early love of performing. Readers will benefit from the Words to Know section in the beginning of the book, and direct quotes by Mars allow readers to connect with this larger-than-life performer.","English",22.6,16.95,"782.42164092--dc23","24 pp.",{"$f":"Table1[[#This Row],[QTY]]*Table1[[#This Row],['# of Books]]","v":0},{"$f":"Table1[[#This Row],[QTY]]*Table1[[#This Row],[School & Library Price]]","v":0}]
[null,null,null,43,"Exceptional Asians","Bruno Mars: Singer and Songwriter",1,"eBook","978-0-7660-7823-9",2017,"August 2016",null,"Author","Kristen Rajczak Nelson",5.5,0.5,null,null,"O",null,"Grade 2 - 3","Grade 3 - 5","How did Peter Hernandez, a young Elvis impersonator from Honolulu, Hawaii, become Bruno Mars, one of the biggest pop stars of his time? This colorful biography uses vibrant photos and simple text to tell the story of Mars’s ascension to fame, including his family’s strong musical influence and his own early love of performing. Readers will benefit from the Words to Know section in the beginning of the book, and direct quotes by Mars allow readers to connect with this larger-than-life performer.","English",22.6,16.95,"782.42164092--dc23","24 pp.",{"$f":"Table1[[#This Row],[QTY]]*Table1[[#This Row],['# of Books]]","v":0},{"$f":"Table1[[#This Row],[QTY]]*Table1[[#This Row],[School & Library Price]]","v":0}]
[null,null,null,43,"Exceptional Asians","Laurence Yep: Newbery Award-Winning Author",1,"Library Bound Book","978-0-7660-7839-0",2017,"August 2016","7.125 X 8.500","Author","Kristen Rajczak Nelson",5.5,0.5,null,null,"N",null,"Grade 2 - 3","Grade 3 - 5","Growing up as a Chinese American in California, Laurence Yep felt trapped between two worlds, belonging to neither one. It was this feeling of being an outsider that caused him to lose himself in books and eventually become the writer of two Newbery Honor books himself. Readers will be inspired by this simply-told biography of the author of Dragonwings and Dragon’s Gate. A Words to Know section prepares readers for any unfamiliar vocabulary they may find in the text, and personal photographs and direct quotations from Yep paint a colorful picture of this important author.","English",22.6,16.95,"813/.54--dc23","24 pp.",{"$f":"Table1[[#This Row],[QTY]]*Table1[[#This Row],['# of Books]]","v":0},{"$f":"Table1[[#This Row],[QTY]]*Table1[[#This Row],[School & Library Price]]","v":0}]
[null,null,null,43,"Exceptional Asians","Laurence Yep: Newbery Award-Winning Author",1,"eBook","978-0-7660-7819-2",2017,"August 2016",null,"Author","Kristen Rajczak Nelson",5.5,0.5,null,null,"N",null,"Grade 2 - 3","Grade 3 - 5","Growing up as a Chinese American in California, Laurence Yep felt trapped between two worlds, belonging to neither one. It was this feeling of being an outsider that caused him to lose himself in books and eventually become the writer of two Newbery Honor books himself. Readers will be inspired by this simply-told biography of the author of Dragonwings and Dragon’s Gate. A Words to Know section prepares readers for any unfamiliar vocabulary they may find in the text, and personal photographs and direct quotations from Yep paint a colorful picture of this important author.","English",22.6,16.95,"813/.54--dc23","24 pp.",{"$f":"Table1[[#This Row],[QTY]]*Table1[[#This Row],['# of Books]]","v":0},{"$f":"Table1[[#This Row],[QTY]]*Table1[[#This Row],[School & Library Price]]","v":0}]
[null,null,null,43,"Exceptional Asians","Lucy Liu: Actress, Artist, and Activist",1,"Library Bound Book","978-0-7660-7842-0",2017,"August 2016","7.125 X 8.500","Author","Therese M. Shea",5.3,0.5,null,null,"N",null,"Grade 2 - 3","Grade 3 - 5","When Lucy Liu, the daughter of Chinese immigrants, landed the lead role in her college production of Alice in Wonderland, she could not have known that it would set her on the path to becoming one of the most successful Asian American actors in Hollywood. Through simple text and vivid photos, readers will appreciate Liu’s struggles as she grew up looking different from other girls, and learn about her dedication to important causes such as poverty and women’s rights. A Words to Know section helps readers with new vocabulary, and quotes by Liu shed light on this multifaceted woman who continues to break down barriers as an actor and an activist.","English",22.6,16.95,"791.4302/8092--dc23","24 pp.",{"$f":"Table1[[#This Row],[QTY]]*Table1[[#This Row],['# of Books]]","v":0},{"$f":"Table1[[#This Row],[QTY]]*Table1[[#This Row],[School & Library Price]]","v":0}]
[null,null,null,43,"Exceptional Asians","Lucy Liu: Actress, Artist, and Activist",1,"eBook","978-0-7660-7825-3",2017,"August 2016",null,"Author","Therese M. Shea",5.3,0.5,null,null,"N",null,"Grade 2 - 3","Grade 3 - 5","When Lucy Liu, the daughter of Chinese immigrants, landed the lead role in her college production of Alice in Wonderland, she could not have known that it would set her on the path to becoming one of the most successful Asian American actors in Hollywood. Through simple text and vivid photos, readers will appreciate Liu’s struggles as she grew up looking different from other girls, and learn about her dedication to important causes such as poverty and women’s rights. A Words to Know section helps readers with new vocabulary, and quotes by Liu shed light on this multifaceted woman who continues to break down barriers as an actor and an activist.","English",22.6,16.95,"791.4302/8092--dc23","24 pp.",{"$f":"Table1[[#This Row],[QTY]]*Table1[[#This Row],['# of Books]]","v":0},{"$f":"Table1[[#This Row],[QTY]]*Table1[[#This Row],[School & Library Price]]","v":0}]
[null,null,null,43,"Exceptional Asians","Maya Lin: Artist and Architect",1,"Library Bound Book","978-0-7660-7838-3",2017,"August 2016","7.125 X 8.500","Author","Cecelia H. Brannon",5.7,0.5,null,null,"O",null,"Grade 2 - 3","Grade 3 - 5","When Maya Lin’s design for the new Vietnam Veterans Memorial was chosen in 1981 over more than a thousand other designs, it was a highly controversial decision. But Lin, a young Chinese American, believed in herself and her work, and she not only saw her design come to fruition, but she went on to create numerous other buildings, sculptures, and memorials around the country. Readers will be fascinated by the story of this creative young artist, told with simple text and supplemented with color photos. A Words to Know section helps prepare readers for vocabulary in the text, and quotes from Lin herself paint a clearer picture of an accomplished artist whose influences range from her cultural background to the biodiversity of our planet.","English",22.6,16.95,"720.92--dc23","24 pp.",{"$f":"Table1[[#This Row],[QTY]]*Table1[[#This Row],['# of Books]]","v":0},{"$f":"Table1[[#This Row],[QTY]]*Table1[[#This Row],[School & Library Price]]","v":0}]
[null,null,null,43,"Exceptional Asians","Maya Lin: Artist and Architect",1,"eBook","978-0-7660-7817-8",2017,"August 2016",null,"Author","Cecelia H. Brannon",5.7,0.5,null,null,"O",null,"Grade 2 - 3","Grade 3 - 5","When Maya Lin’s design for the new Vietnam Veterans Memorial was chosen in 1981 over more than a thousand other designs, it was a highly controversial decision. But Lin, a young Chinese American, believed in herself and her work, and she not only saw her design come to fruition, but she went on to create numerous other buildings, sculptures, and memorials around the country. Readers will be fascinated by the story of this creative young artist, told with simple text and supplemented with color photos. A Words to Know section helps prepare readers for vocabulary in the text, and quotes from Lin herself paint a clearer picture of an accomplished artist whose influences range from her cultural background to the biodiversity of our planet.","English",22.6,16.95,"720.92--dc23","24 pp.",{"$f":"Table1[[#This Row],[QTY]]*Table1[[#This Row],['# of Books]]","v":0},{"$f":"Table1[[#This Row],[QTY]]*Table1[[#This Row],[School & Library Price]]","v":0}]
[null,null,null,43,"Exceptional Asians","Yo-Yo Ma: Classical Musician",1,"Library Bound Book","978-0-7660-7837-6",2017,"August 2016","7.125 X 8.500","Author","Therese M. Shea",5.3,0.5,null,null,"N",null,"Grade 2 - 3","Grade 3 - 5","While most people know Yo-Yo Ma as the most famous cellist in the world, they may not know that he actually started out as a violin player—until the four-year-old told his parents he wanted to play a big instrument. Much more than a uniquely talented classical musician, Ma has written an Academy Award-winning film score, played for eight presidents, and appeared on The Simpsons. Readers will enjoy learning about this dynamic man through simple text and vibrant color photos. A Words to Know section familiarizes readers with new vocabulary, and quotes from Ma reflect his beliefs on a range of topics from teachers to multiculturalism.","English",22.6,16.95,"787.4092--dc23","24 pp.",{"$f":"Table1[[#This Row],[QTY]]*Table1[[#This Row],['# of Books]]","v":0},{"$f":"Table1[[#This Row],[QTY]]*Table1[[#This Row],[School & Library Price]]","v":0}]
[null,null,null,43,"Exceptional Asians","Yo-Yo Ma: Classical Musician",1,"eBook","978-0-7660-7816-1",2017,"August 2016",null,"Author","Therese M. Shea",5.3,0.5,null,null,"N",null,"Grade 2 - 3","Grade 3 - 5","While most people know Yo-Yo Ma as the most famous cellist in the world, they may not know that he actually started out as a violin player—until the four-year-old told his parents he wanted to play a big instrument. Much more than a uniquely talented classical musician, Ma has written an Academy Award-winning film score, played for eight presidents, and appeared on The Simpsons. Readers will enjoy learning about this dynamic man through simple text and vibrant color photos. A Words to Know section familiarizes readers with new vocabulary, and quotes from Ma reflect his beliefs on a range of topics from teachers to multiculturalism.","English",22.6,16.95,"787.4092--dc23","24 pp.",{"$f":"Table1[[#This Row],[QTY]]*Table1[[#This Row],['# of Books]]","v":0},{"$f":"Table1[[#This Row],[QTY]]*Table1[[#This Row],[School & Library Price]]","v":0}]
[null,null,null,44,"Exceptional African Americans","Exceptional African Americans",12,"Library Set","978-0-7660-7483-5",2016,"January 2016","7.125 X 8.500",null,null,null,null,null,null,"Z",null,"Grade 3","Grade 3 - 5","Young readers will learn all about their favorite role models from the world of sports, science, literature, social activism, politics, and music. Short, simple language; full-color images; and direct quotations from the individuals detail the lives and achievements of influential historic and modern African Americans. Students will discover what drove these exceptional African Americans forward, inspiring others to do the same.","English",271.2,203.4,null,"24 pp.",{"$f":"Table1[[#This Row],[QTY]]*Table1[[#This Row],['# of Books]]","v":0},{"$f":"Table1[[#This Row],[QTY]]*Table1[[#This Row],[School & Library Price]]","v":0}]
[null,null,null,44,"Exceptional African Americans","Barack Obama: First African-American President",1,"Library Bound Book","978-0-7660-7124-7",2016,"August 2015","7.125 X 8.500","Author, Author","Stephen Feinstein, Charlotte Taylor",4.0999999999999996,0.5,null,null,"L",null,"Grade 3 - 4","Grade 3 - 5","The first African-American president of the United States lived a colorful life before he was elected. Young readers will learn about his family, where he grew up, and how he came to be a history-making president.","English",22.6,16.95,"973.932092—dc23","24 pp.",{"$f":"Table1[[#This Row],[QTY]]*Table1[[#This Row],['# of Books]]","v":0},{"$f":"Table1[[#This Row],[QTY]]*Table1[[#This Row],[School & Library Price]]","v":0}]
[null,null,null,44,"Exceptional African Americans","Barack Obama: First African-American President",1,"eBook","978-0-7660-7125-4",2016,"August 2015",null,"Author, Author","Stephen Feinstein, Charlotte Taylor",4.0999999999999996,0.5,null,null,"L",null,"Grade 3 - 4","Grade 3 - 5","The first African-American president of the United States lived a colorful life before he was elected. Young readers will learn about his family, where he grew up, and how he came to be a history-making president.","English",22.6,16.95,"973.932092—dc23","24 pp.",{"$f":"Table1[[#This Row],[QTY]]*Table1[[#This Row],['# of Books]]","v":0},{"$f":"Table1[[#This Row],[QTY]]*Table1[[#This Row],[School & Library Price]]","v":0}]
[null,null,null,44,"Exceptional African Americans","Beyoncé: Singer, Songwriter, and Actress",1,"Library Bound Book","978-0-7660-7170-4",2016,"January 2016","7.125 X 8.500","Author","Joseph Kampff",4.9000000000000004,0.5,null,null,"N",null,"Grade 3","Grade 3 - 5","Through engaging, easy-to-understand text and full-color photos that document Beyoncé’s rise to fame, readers can discover more about her accomplishments both in the public eye and in her private life. A Words to Know section at the beginning of the book prepares students for new vocabulary introduced in the text, and quotes from the icon herself will help readers get to know Beyoncé better.","English",22.6,16.95,"782.42164092--dc23[B]","24 pp.",{"$f":"Table1[[#This Row],[QTY]]*Table1[[#This Row],['# of Books]]","v":0},{"$f":"Table1[[#This Row],[QTY]]*Table1[[#This Row],[School & Library Price]]","v":0}]
[null,null,null,44,"Exceptional African Americans","Beyoncé: Singer, Songwriter, and Actress",1,"eBook","978-0-7660-7171-1",2016,"January 2016",null,"Author","Joseph Kampff",4.9000000000000004,0.5,null,null,"N",null,"Grade 3","Grade 3 - 5","Through engaging, easy-to-understand text and full-color photos that document Beyoncé’s rise to fame, readers can discover more about her accomplishments both in the public eye and in her private life. A Words to Know section at the beginning of the book prepares students for new vocabulary introduced in the text, and quotes from the icon herself will help readers get to know Beyoncé better.","English",22.6,16.95,"782.42164092--dc23[B]","24 pp.",{"$f":"Table1[[#This Row],[QTY]]*Table1[[#This Row],['# of Books]]","v":0},{"$f":"Table1[[#This Row],[QTY]]*Table1[[#This Row],[School & Library Price]]","v":0}]
[null,null,null,44,"Exceptional African Americans","Crispus Attucks: A Hero of the American Revolution",1,"Library Bound Book","978-0-7660-7187-2",2016,"January 2016","7.125 X 8.500","Author","Charlotte Taylor",4,0.5,null,null,"M",null,"Grade 3","Grade 3 - 5","Through simple, informational text supported by black-and-white and color illustrations, readers will learn about Crispus Attucks, who had an exciting life at sea before going down in history as the first casualty of the Boston Massacre. A Words to Know section at the beginning of the book prepares students to understand the vocabulary they encounter in the text, and quotations about Attucks demonstrate how he inspired generations of Americans long after his death.","English",22.6,16.95,"973.3113092--dc23[B]","24 pp.",{"$f":"Table1[[#This Row],[QTY]]*Table1[[#This Row],['# of Books]]","v":0},{"$f":"Table1[[#This Row],[QTY]]*Table1[[#This Row],[School & Library Price]]","v":0}]
[null,null,null,44,"Exceptional African Americans","Crispus Attucks: A Hero of the American Revolution",1,"eBook","978-0-7660-7188-9",2016,"January 2016",null,"Author","Charlotte Taylor",4,0.5,null,null,"M",null,"Grade 3","Grade 3 - 5","Through simple, informational text supported by black-and-white and color illustrations, readers will learn about Crispus Attucks, who had an exciting life at sea before going down in history as the first casualty of the Boston Massacre. A Words to Know section at the beginning of the book prepares students to understand the vocabulary they encounter in the text, and quotations about Attucks demonstrate how he inspired generations of Americans long after his death.","English",22.6,16.95,"973.3113092--dc23[B]","24 pp.",{"$f":"Table1[[#This Row],[QTY]]*Table1[[#This Row],['# of Books]]","v":0},{"$f":"Table1[[#This Row],[QTY]]*Table1[[#This Row],[School & Library Price]]","v":0}]
[null,null,null,44,"Exceptional African Americans","Harriet Tubman: Hero of the Underground Railroad",1,"Library Bound Book","978-0-7660-7128-5",2016,"August 2015","7.125 X 8.500","Author, Author","Stephen Feinstein, Charlotte Taylor",3.8,0.5,null,null,"L",null,"Grade 3 - 4","Grade 3 - 5","Harriet Tubman’s brave journey from slave to free woman empowered her to help countless other slaves successfully travel the road to freedom. Be inspired by her extraordinary deeds and life.","English",22.6,16.95,"326.8092—dc23","24 pp.",{"$f":"Table1[[#This Row],[QTY]]*Table1[[#This Row],['# of Books]]","v":0},{"$f":"Table1[[#This Row],[QTY]]*Table1[[#This Row],[School & Library Price]]","v":0}]
[null,null,null,44,"Exceptional African Americans","Harriet Tubman: Hero of the Underground Railroad",1,"eBook","978-0-7660-7129-2",2016,"August 2015",null,"Author, Author","Stephen Feinstein, Charlotte Taylor",3.8,0.5,null,null,"L",null,"Grade 3 - 4","Grade 3 - 5","Harriet Tubman’s brave journey from slave to free woman empowered her to help countless other slaves successfully travel the road to freedom. Be inspired by her extraordinary deeds and life.","English",22.6,16.95,"326.8092—dc23","24 pp.",{"$f":"Table1[[#This Row],[QTY]]*Table1[[#This Row],['# of Books]]","v":0},{"$f":"Table1[[#This Row],[QTY]]*Table1[[#This Row],[School & Library Price]]","v":0}]
[null,null,null,44,"Exceptional African Americans","Jay Z: Rapper and Businessman",1,"Library Bound Book","978-0-7660-7254-1",2016,"January 2016","7.125 X 8.500","Author","Joseph Kampff",4.7,0.5,null,null,"M",null,"Grade 3","Grade 3 - 5","Rapper, producer, and entrepreneur Jay Z is one of the most successful hip-hop artists in the world. Full-color photos and engrossing text detail his career and personal life, while a Words to Know section primes readers for new terminology.","English",22.6,16.95,"782.421649092--dc23[B]","24 pp.",{"$f":"Table1[[#This Row],[QTY]]*Table1[[#This Row],['# of Books]]","v":0},{"$f":"Table1[[#This Row],[QTY]]*Table1[[#This Row],[School & Library Price]]","v":0}]
[null,null,null,44,"Exceptional African Americans","Jay Z: Rapper and Businessman",1,"eBook","978-0-7660-7255-8",2016,"January 2016",null,"Author","Joseph Kampff",4.7,0.5,null,null,"M",null,"Grade 3","Grade 3 - 5","Rapper, producer, and entrepreneur Jay Z is one of the most successful hip-hop artists in the world. Full-color photos and engrossing text detail his career and personal life, while a Words to Know section primes readers for new terminology.","English",22.6,16.95,"782.421649092--dc23[B]","24 pp.",{"$f":"Table1[[#This Row],[QTY]]*Table1[[#This Row],['# of Books]]","v":0},{"$f":"Table1[[#This Row],[QTY]]*Table1[[#This Row],[School & Library Price]]","v":0}]
[null,null,null,44,"Exceptional African Americans","Kobe Bryant: All-Star Shooting Guard",1,"Library Bound Book","978-0-7660-7258-9",2016,"January 2016","7.125 X 8.500","Author","Joseph Kampff",4.8,0.5,null,null,"M",null,"Grade 3","Grade 3 - 5","Through straightforward language, direct quotations, and full-page photos, young readers will learn about Kobe Bryant’s life on and off the court. A Words to Know at the beginning of the book prepares students for new vocabulary they will come across in the text.","English",22.6,16.95,"796.323092--dc23[B]","24 pp.",{"$f":"Table1[[#This Row],[QTY]]*Table1[[#This Row],['# of Books]]","v":0},{"$f":"Table1[[#This Row],[QTY]]*Table1[[#This Row],[School & Library Price]]","v":0}]
[null,null,null,44,"Exceptional African Americans","Kobe Bryant: All-Star Shooting Guard",1,"eBook","978-0-7660-7259-6",2016,"January 2016",null,"Author","Joseph Kampff",4.8,0.5,null,null,"M",null,"Grade 3","Grade 3 - 5","Through straightforward language, direct quotations, and full-page photos, young readers will learn about Kobe Bryant’s life on and off the court. A Words to Know at the beginning of the book prepares students for new vocabulary they will come across in the text.","English",22.6,16.95,"796.323092--dc23[B]","24 pp.",{"$f":"Table1[[#This Row],[QTY]]*Table1[[#This Row],['# of Books]]","v":0},{"$f":"Table1[[#This Row],[QTY]]*Table1[[#This Row],[School & Library Price]]","v":0}]
[null,null,null,44,"Exceptional African Americans","Laila Ali: Champion Boxer",1,"Library Bound Book","978-0-7660-6656-4",2016,"August 2015","7.125 X 8.500","Author","Norman D. Graubart",4.8,0.5,null,null,"L",null,"Grade 3 - 4","Grade 3 - 5","The daughter of famous boxing legend Muhammad Ali, Laila Ali is a boxing icon in her own right. But she is also a television personality and an advocate for health and fitness for women. Learn all about this inspiring woman and her amazing life.","English",22.6,16.95,"796.83092—dc23","24 pp.",{"$f":"Table1[[#This Row],[QTY]]*Table1[[#This Row],['# of Books]]","v":0},{"$f":"Table1[[#This Row],[QTY]]*Table1[[#This Row],[School & Library Price]]","v":0}]
[null,null,null,44,"Exceptional African Americans","Laila Ali: Champion Boxer",1,"eBook","978-0-7660-6657-1",2016,"August 2015",null,"Author","Norman D. Graubart",4.8,0.5,null,null,"L",null,"Grade 3 - 4","Grade 3 - 5","The daughter of famous boxing legend Muhammad Ali, Laila Ali is a boxing icon in her own right. But she is also a television personality and an advocate for health and fitness for women. Learn all about this inspiring woman and her amazing life.","English",22.6,16.95,"796.83092—dc23","24 pp.",{"$f":"Table1[[#This Row],[QTY]]*Table1[[#This Row],['# of Books]]","v":0},{"$f":"Table1[[#This Row],[QTY]]*Table1[[#This Row],[School & Library Price]]","v":0}]
[null,null,null,44,"Exceptional African Americans","LeBron James: Basketball Champion",1,"Library Bound Book","978-0-7660-6660-1",2016,"August 2015","7.125 X 8.500","Author, Author","Stephen Feinstein, Charlotte Taylor",3.9,0.5,null,null,"L",null,"Grade 3 - 4","Grade 3 - 5","LeBron James is a living basketball legend. He is the youngest player in the history of the NBA to score 20,000 career points. He represented the United States in the 2008 Summer Olympics in Beijing. And he is one of the most influential athletes in the world. Learn more about his rise to superstardom and his life on and off the court.","English",22.6,16.95,"796.323092—dc23","24 pp.",{"$f":"Table1[[#This Row],[QTY]]*Table1[[#This Row],['# of Books]]","v":0},{"$f":"Table1[[#This Row],[QTY]]*Table1[[#This Row],[School & Library Price]]","v":0}]
[null,null,null,44,"Exceptional African Americans","LeBron James: Basketball Champion",1,"eBook","978-0-7660-6661-8",2016,"August 2015",null,"Author, Author","Stephen Feinstein, Charlotte Taylor",3.9,0.5,null,null,"L",null,"Grade 3 - 4","Grade 3 - 5","LeBron James is a living basketball legend. He is the youngest player in the history of the NBA to score 20,000 career points. He represented the United States in the 2008 Summer Olympics in Beijing. And he is one of the most influential athletes in the world. Learn more about his rise to superstardom and his life on and off the court.","English",22.6,16.95,"796.323092—dc23","24 pp.",{"$f":"Table1[[#This Row],[QTY]]*Table1[[#This Row],['# of Books]]","v":0},{"$f":"Table1[[#This Row],[QTY]]*Table1[[#This Row],[School & Library Price]]","v":0}]
[null,null,null,44,"Exceptional African Americans","Mae Jemison: First African-American Woman in Space",1,"Library Bound Book","978-0-7660-6664-9",2016,"August 2015","7.125 X 8.500","Author, Author","Stephen Feinstein, Charlotte Taylor",4.0999999999999996,0.5,null,null,"L",null,"Grade 3 - 4","Grade 3 - 5","Scientist. Engineer. Doctor. Astronaut. Mae Jemison has done it all. Discover how a girl from Alabama became the first African-American woman in space thanks to her ambition, her intelligence, and her determination.","English",22.6,16.95,"629.450092—dc23","24 pp.",{"$f":"Table1[[#This Row],[QTY]]*Table1[[#This Row],['# of Books]]","v":0},{"$f":"Table1[[#This Row],[QTY]]*Table1[[#This Row],[School & Library Price]]","v":0}]
[null,null,null,44,"Exceptional African Americans","Mae Jemison: First African-American Woman in Space",1,"eBook","978-0-7660-6665-6",2016,"August 2015",null,"Author, Author","Stephen Feinstein, Charlotte Taylor",4.0999999999999996,0.5,null,null,"L",null,"Grade 3 - 4","Grade 3 - 5","Scientist. Engineer. Doctor. Astronaut. Mae Jemison has done it all. Discover how a girl from Alabama became the first African-American woman in space thanks to her ambition, her intelligence, and her determination.","English",22.6,16.95,"629.450092—dc23","24 pp.",{"$f":"Table1[[#This Row],[QTY]]*Table1[[#This Row],['# of Books]]","v":0},{"$f":"Table1[[#This Row],[QTY]]*Table1[[#This Row],[School & Library Price]]","v":0}]
[null,null,null,44,"Exceptional African Americans","Neil deGrasse Tyson: Spokesperson for Science",1,"Library Bound Book","978-0-7660-6668-7",2016,"August 2015","7.125 X 8.500","Author","Norman D. Graubart",4.5999999999999996,0.5,null,null,"M",null,"Grade 3 - 4","Grade 3 - 5","Astrophysicist, cosmologist, and author, Neil deGrasse Tyson has devoted his life to understanding the universe and helping others do the same. He is an activist, an educator, and a television personality. Let his passion for making science fun inspire the scientist in you.","English",22.6,16.95,"523.01092—dc23","24 pp.",{"$f":"Table1[[#This Row],[QTY]]*Table1[[#This Row],['# of Books]]","v":0},{"$f":"Table1[[#This Row],[QTY]]*Table1[[#This Row],[School & Library Price]]","v":0}]
[null,null,null,44,"Exceptional African Americans","Neil deGrasse Tyson: Spokesperson for Science",1,"eBook","978-0-7660-6669-4",2016,"August 2015",null,"Author","Norman D. Graubart",4.5999999999999996,0.5,null,null,"M",null,"Grade 3 - 4","Grade 3 - 5","Astrophysicist, cosmologist, and author, Neil deGrasse Tyson has devoted his life to understanding the universe and helping others do the same. He is an activist, an educator, and a television personality. Let his passion for making science fun inspire the scientist in you.","English",22.6,16.95,"523.01092—dc23","24 pp.",{"$f":"Table1[[#This Row],[QTY]]*Table1[[#This Row],['# of Books]]","v":0},{"$f":"Table1[[#This Row],[QTY]]*Table1[[#This Row],[School & Library Price]]","v":0}]
[null,null,null,44,"Exceptional African Americans","Phillis Wheatley: Colonial African-American Poet",1,"Library Bound Book","978-0-7660-7326-5",2016,"January 2016","7.125 X 8.500","Author","Charlotte Taylor",4,0.5,null,null,"L",null,"Grade 3","Grade 3 - 5","With simple yet engaging language, illustrations, and direct quotations, this text introduces young readers to Phillis Wheatley’s life and poetry. A Words to Know section in the beginning of the book prepares young readers for new vocabulary they will encounter in the book.","English",22.6,16.95,"811'.1--dc23[B]","24 pp.",{"$f":"Table1[[#This Row],[QTY]]*Table1[[#This Row],['# of Books]]","v":0},{"$f":"Table1[[#This Row],[QTY]]*Table1[[#This Row],[School & Library Price]]","v":0}]
[null,null,null,44,"Exceptional African Americans","Phillis Wheatley: Colonial African-American Poet",1,"eBook","978-0-7660-7327-2",2016,"January 2016",null,"Author","Charlotte Taylor",4,0.5,null,null,"L",null,"Grade 3","Grade 3 - 5","With simple yet engaging language, illustrations, and direct quotations, this text introduces young readers to Phillis Wheatley’s life and poetry. A Words to Know section in the beginning of the book prepares young readers for new vocabulary they will encounter in the book.","English",22.6,16.95,"811'.1--dc23[B]","24 pp.",{"$f":"Table1[[#This Row],[QTY]]*Table1[[#This Row],['# of Books]]","v":0},{"$f":"Table1[[#This Row],[QTY]]*Table1[[#This Row],[School & Library Price]]","v":0}]
[null,null,null,44,"Exceptional African Americans","Sojourner Truth: Abolitionist and Activist",1,"Library Bound Book","978-0-7660-7372-2",2016,"January 2016","7.125 X 8.500","Author","Charlotte Taylor",4.5,0.5,null,null,"N",null,"Grade 3","Grade 3 - 5","Abolitionist, author, and human rights activist Sojourner Truth was born a slave and fought her whole life to abolish slavery. Readers will learn about one of the first feminists through intriguing narrative, easy-to-comprehend information, black-and-white and color images, and direct quotations.","English",22.6,16.95,"326'.8092--dc23","24 pp.",{"$f":"Table1[[#This Row],[QTY]]*Table1[[#This Row],['# of Books]]","v":0},{"$f":"Table1[[#This Row],[QTY]]*Table1[[#This Row],[School & Library Price]]","v":0}]
[null,null,null,44,"Exceptional African Americans","Sojourner Truth: Abolitionist and Activist",1,"eBook","978-0-7660-7373-9",2016,"January 2016",null,"Author","Charlotte Taylor",4.5,0.5,null,null,"N",null,"Grade 3","Grade 3 - 5","Abolitionist, author, and human rights activist Sojourner Truth was born a slave and fought her whole life to abolish slavery. Readers will learn about one of the first feminists through intriguing narrative, easy-to-comprehend information, black-and-white and color images, and direct quotations.","English",22.6,16.95,"326'.8092--dc23","24 pp.",{"$f":"Table1[[#This Row],[QTY]]*Table1[[#This Row],['# of Books]]","v":0},{"$f":"Table1[[#This Row],[QTY]]*Table1[[#This Row],[School & Library Price]]","v":0}]
[null,null,null,45,"Exceptional Latinos","Exceptional Latinos",6,"Library Set","978-0-7660-6672-4",2016,"August 2015","7.125 X 8.500",null,null,null,null,null,null,null,null,"Grade 3 - 4","Grade 3 - 5","This inviting series introduces young readers to important Latinos who have made many contributions to history, the arts, entertainment, and government. Accessible text, full-color photos, and quotations from each person make this an appealing read for pleasure, research, or motivation.\n\n\n\n-Informational text features help readers find key facts quickly  \n\n-Connects events with the people who made them happen\n\n-Good for beginning-level reports  \n\n","English",135.6,101.7,null,"24 pp.",{"$f":"Table1[[#This Row],[QTY]]*Table1[[#This Row],['# of Books]]","v":0},{"$f":"Table1[[#This Row],[QTY]]*Table1[[#This Row],[School & Library Price]]","v":0}]
[null,null,null,45,"Exceptional Latinos","Diego Rivera: Famous Mexican Painter",1,"Library Bound Book","978-0-7660-6704-2",2016,"August 2015","7.125 X 8.500","Author","Mateo Alvarez",4.3,0.5,null,null,"L",null,"Grade 3 - 4","Grade 3 - 5","\"The secret of my best work is that it is Mexican,\" Diego Rivera once said in talking about his art. Learn what inspired this creative, talented, complicated artist.","English",22.6,16.95,"759.972—d23","24 pp.",{"$f":"Table1[[#This Row],[QTY]]*Table1[[#This Row],['# of Books]]","v":0},{"$f":"Table1[[#This Row],[QTY]]*Table1[[#This Row],[School & Library Price]]","v":0}]
[null,null,null,45,"Exceptional Latinos","Diego Rivera: Famous Mexican Painter",1,"eBook","978-0-7660-6705-9",2016,"August 2015",null,"Author","Mateo Alvarez",4.3,0.5,null,null,"L",null,"Grade 3 - 4","Grade 3 - 5","\"The secret of my best work is that it is Mexican,\" Diego Rivera once said in talking about his art. Learn what inspired this creative, talented, complicated artist.","English",22.6,16.95,"759.972—d23","24 pp.",{"$f":"Table1[[#This Row],[QTY]]*Table1[[#This Row],['# of Books]]","v":0},{"$f":"Table1[[#This Row],[QTY]]*Table1[[#This Row],[School & Library Price]]","v":0}]
[null,null,null,45,"Exceptional Latinos","Eva Longoria: Actress and Businesswoman",1,"Library Bound Book","978-0-7660-6708-0",2016,"August 2015","7.125 X 8.500","Author","Maria Betances",4.8,0.5,null,null,"L",null,"Grade 3 - 4","Grade 3 - 5","Eva Longoria has used her fame to call attention to people in need. Learn about her struggles in the entertainment industry and her success in the spotlight and in the community.","English",22.6,16.95,"791.43028—d23","24 pp.",{"$f":"Table1[[#This Row],[QTY]]*Table1[[#This Row],['# of Books]]","v":0},{"$f":"Table1[[#This Row],[QTY]]*Table1[[#This Row],[School & Library Price]]","v":0}]
[null,null,null,45,"Exceptional Latinos","Eva Longoria: Actress and Businesswoman",1,"eBook","978-0-7660-6709-7",2016,"August 2015",null,"Author","Maria Betances",4.8,0.5,null,null,"L",null,"Grade 3 - 4","Grade 3 - 5","Eva Longoria has used her fame to call attention to people in need. Learn about her struggles in the entertainment industry and her success in the spotlight and in the community.","English",22.6,16.95,"791.43028—d23","24 pp.",{"$f":"Table1[[#This Row],[QTY]]*Table1[[#This Row],['# of Books]]","v":0},{"$f":"Table1[[#This Row],[QTY]]*Table1[[#This Row],[School & Library Price]]","v":0}]
[null,null,null,45,"Exceptional Latinos","Father Junipero Serra: Founder of the California Missions",1,"Library Bound Book","978-0-7660-6712-7",2016,"August 2015","7.125 X 8.500","Author","Lynda Arnéz",5.0999999999999996,0.5,null,null,"L",null,"Grade 3 - 4","Grade 3 - 5","Born in Spain in 1713, Father Serra was sent to the New World to spread the  Catholic religion. He founded twenty-one missions in what became the state of California, and influenced the lives of thousands of people. Learn about Father Serra’s remarkable life and accomplishments.","English",22.6,16.95,"759.972—d23","24 pp.",{"$f":"Table1[[#This Row],[QTY]]*Table1[[#This Row],['# of Books]]","v":0},{"$f":"Table1[[#This Row],[QTY]]*Table1[[#This Row],[School & Library Price]]","v":0}]
[null,null,null,45,"Exceptional Latinos","Father Junipero Serra: Founder of the California Missions",1,"eBook","978-0-7660-6713-4",2016,"August 2015",null,"Author","Lynda Arnéz",5.0999999999999996,0.5,null,null,"L",null,"Grade 3 - 4","Grade 3 - 5","Born in Spain in 1713, Father Serra was sent to the New World to spread the  Catholic religion. He founded twenty-one missions in what became the state of California, and influenced the lives of thousands of people. Learn about Father Serra’s remarkable life and accomplishments.","English",22.6,16.95,"759.972—d23","24 pp.",{"$f":"Table1[[#This Row],[QTY]]*Table1[[#This Row],['# of Books]]","v":0},{"$f":"Table1[[#This Row],[QTY]]*Table1[[#This Row],[School & Library Price]]","v":0}]
[null,null,null,45,"Exceptional Latinos","Frida Kahlo: Famous Mexican Artist",1,"Library Bound Book","978-0-7660-6716-5",2016,"August 2015","7.125 X 8.500","Author","Mateo Alvarez",3.8,0.5,null,null,"K",null,"Grade 3 - 4","Grade 3 - 5","Frida Kahlo may be Mexico's most famous artist. Her paintings are known and seen around the world. Learn what inspired and tortured one of the twentieth century's most famous women.","English",22.6,16.95,"759.972—d23","24 pp.",{"$f":"Table1[[#This Row],[QTY]]*Table1[[#This Row],['# of Books]]","v":0},{"$f":"Table1[[#This Row],[QTY]]*Table1[[#This Row],[School & Library Price]]","v":0}]
[null,null,null,45,"Exceptional Latinos","Frida Kahlo: Famous Mexican Artist",1,"eBook","978-0-7660-6717-2",2016,"August 2015",null,"Author","Mateo Alvarez",3.8,0.5,null,null,"K",null,"Grade 3 - 4","Grade 3 - 5","Frida Kahlo may be Mexico's most famous artist. Her paintings are known and seen around the world. Learn what inspired and tortured one of the twentieth century's most famous women.","English",22.6,16.95,"759.972—d23","24 pp.",{"$f":"Table1[[#This Row],[QTY]]*Table1[[#This Row],['# of Books]]","v":0},{"$f":"Table1[[#This Row],[QTY]]*Table1[[#This Row],[School & Library Price]]","v":0}]
[null,null,null,45,"Exceptional Latinos","Selena Gomez: Superstar Singer and Actress",1,"Library Bound Book","978-0-7660-6720-2",2016,"August 2015","7.125 X 8.500","Author","Maria Betances",4.5999999999999996,0.5,null,null,"L",null,"Grade 3 - 4","Grade 3 - 5","Selena Gomez came from humble beginnings in Texas. She has worked hard in her short life and has risen to the top as a singer, actress, fashion designer, and role model. Learn about her struggles and her stardom and be inspired to work hard for your dreams!","English",22.6,16.95,"791.4302’8092—d23","24 pp.",{"$f":"Table1[[#This Row],[QTY]]*Table1[[#This Row],['# of Books]]","v":0},{"$f":"Table1[[#This Row],[QTY]]*Table1[[#This Row],[School & Library Price]]","v":0}]
[null,null,null,45,"Exceptional Latinos","Selena Gomez: Superstar Singer and Actress",1,"eBook","978-0-7660-6721-9",2016,"August 2015",null,"Author","Maria Betances",4.5999999999999996,0.5,null,null,"L",null,"Grade 3 - 4","Grade 3 - 5","Selena Gomez came from humble beginnings in Texas. She has worked hard in her short life and has risen to the top as a singer, actress, fashion designer, and role model. Learn about her struggles and her stardom and be inspired to work hard for your dreams!","English",22.6,16.95,"791.4302’8092—d23","24 pp.",{"$f":"Table1[[#This Row],[QTY]]*Table1[[#This Row],['# of Books]]","v":0},{"$f":"Table1[[#This Row],[QTY]]*Table1[[#This Row],[School & Library Price]]","v":0}]
[null,null,null,45,"Exceptional Latinos","Sonia Sotomayor: Supreme Court Justice",1,"Library Bound Book","978-0-7660-6724-0",2016,"August 2015","7.125 X 8.500","Author","Stephanie Sammartino McPherson",4.5999999999999996,0.5,null,null,"L",null,"Grade 3 - 4","Grade 3 - 5","The first Latina to serve in the United States Supreme Court, Sonia came from humble beginnings in the Bronx in New York City. Overcoming health and financial problems, she earned a high-level college degree, became a lawyer, and eventually became a judge. Learn about Sonia’s inspiring life, her refusal to back down, and her insistence on fighting for the American Dream.","English",22.6,16.95,"347.73’2634—d23","24 pp.",{"$f":"Table1[[#This Row],[QTY]]*Table1[[#This Row],['# of Books]]","v":0},{"$f":"Table1[[#This Row],[QTY]]*Table1[[#This Row],[School & Library Price]]","v":0}]
[null,null,null,45,"Exceptional Latinos","Sonia Sotomayor: Supreme Court Justice",1,"eBook","978-0-7660-6725-7",2016,"August 2015",null,"Author","Stephanie Sammartino McPherson",4.5999999999999996,0.5,null,null,"L",null,"Grade 3 - 4","Grade 3 - 5","The first Latina to serve in the United States Supreme Court, Sonia came from humble beginnings in the Bronx in New York City. Overcoming health and financial problems, she earned a high-level college degree, became a lawyer, and eventually became a judge. Learn about Sonia’s inspiring life, her refusal to back down, and her insistence on fighting for the American Dream.","English",22.6,16.95,"347.73’2634—d23","24 pp.",{"$f":"Table1[[#This Row],[QTY]]*Table1[[#This Row],['# of Books]]","v":0},{"$f":"Table1[[#This Row],[QTY]]*Table1[[#This Row],[School & Library Price]]","v":0}]
[null,null,null,45,"Famous Artists","Famous Artists",6,"Library Set","978-0-7660-7425-5",2016,"January 2016","7.250 X 9.250",null,null,null,null,null,null,null,null,"Grade 3 - 4","Grade 3 - 5","Kick-start a life-long appreciation for art with this series of accessible, compelling biographies. From initial inspiration to the development of talent to the drive for creative expression, each book delves deeply into the life and times of the featured artist. \n\n• Large, full-color reproductions of some of the most famous pieces\n\n• Art Smart boxes help readers understand the form, style, medium, and content of the work\n\n• Good resource for research or pleasure reading","English",167.58,125.7,null,"48 pp.",{"$f":"Table1[[#This Row],[QTY]]*Table1[[#This Row],['# of Books]]","v":0},{"$f":"Table1[[#This Row],[QTY]]*Table1[[#This Row],[School & Library Price]]","v":0}]
[null,null,null,45,"Famous Artists","Get to Know Andy Warhol",1,"Library Bound Book","978-0-7660-7218-3",2016,"January 2016","7.250 X 9.250","Author","Charlotte Taylor",5.2,1,null,null,"U",null,"Grade 3 - 4","Grade 3 - 5","In the 1960s, Warhol created a brand-new kind of art—pop art—changing the face of the art world forever. Readers can see Warhol’s style develop through images of his paintings, as well as learn details about his life that inspired and shaped the artist. In addition, Art Smart boxes help readers gain a deeper understanding of the form, style, medium, and content of Warhol’s work.","English",27.93,20.95,"700.92--dc23[B]","48 pp.",{"$f":"Table1[[#This Row],[QTY]]*Table1[[#This Row],['# of Books]]","v":0},{"$f":"Table1[[#This Row],[QTY]]*Table1[[#This Row],[School & Library Price]]","v":0}]
[null,null,null,45,"Famous Artists","Get to Know Andy Warhol",1,"eBook","978-0-7660-7219-0",2016,"January 2016",null,"Author","Charlotte Taylor",5.2,1,null,null,"U",null,"Grade 3 - 4","Grade 3 - 5","In the 1960s, Warhol created a brand-new kind of art—pop art—changing the face of the art world forever. Readers can see Warhol’s style develop through images of his paintings, as well as learn details about his life that inspired and shaped the artist. In addition, Art Smart boxes help readers gain a deeper understanding of the form, style, medium, and content of Warhol’s work.","English",27.93,20.95,"700.92--dc23[B]","48 pp.",{"$f":"Table1[[#This Row],[QTY]]*Table1[[#This Row],['# of Books]]","v":0},{"$f":"Table1[[#This Row],[QTY]]*Table1[[#This Row],[School & Library Price]]","v":0}]
[null,null,null,45,"Famous Artists","Get to Know Edward Hopper",1,"Library Bound Book","978-0-7660-7222-0",2016,"January 2016","7.250 X 9.250","Author","Charlotte Taylor",4.5,1,null,null,"T",null,"Grade 3 - 4","Grade 3 - 5","Through details about his life and education, readers learn not only to appreciate Edward Hopper’s paintings, but also his contributions to modern art. Images of his work show readers how his unique style developed, while Art Smart boxes help students understand the mediums and elements of Hopper’s work.","English",27.93,20.95,"759.13--dc23[B]","48 pp.",{"$f":"Table1[[#This Row],[QTY]]*Table1[[#This Row],['# of Books]]","v":0},{"$f":"Table1[[#This Row],[QTY]]*Table1[[#This Row],[School & Library Price]]","v":0}]
[null,null,null,45,"Famous Artists","Get to Know Edward Hopper",1,"eBook","978-0-7660-7223-7",2016,"January 2016",null,"Author","Charlotte Taylor",4.5,1,null,null,"T",null,"Grade 3 - 4","Grade 3 - 5","Through details about his life and education, readers learn not only to appreciate Edward Hopper’s paintings, but also his contributions to modern art. Images of his work show readers how his unique style developed, while Art Smart boxes help students understand the mediums and elements of Hopper’s work.","English",27.93,20.95,"759.13--dc23[B]","48 pp.",{"$f":"Table1[[#This Row],[QTY]]*Table1[[#This Row],['# of Books]]","v":0},{"$f":"Table1[[#This Row],[QTY]]*Table1[[#This Row],[School & Library Price]]","v":0}]
[null,null,null,45,"Famous Artists","Get to Know Georgia O'Keeffe",1,"Library Bound Book","978-0-7660-7226-8",2016,"January 2016","7.250 X 9.250","Author","Charlotte Taylor",4.5999999999999996,1,null,null,"W",null,"Grade 3 - 4","Grade 3 - 5","American painter and writer Georgia O’Keeffe is best known for her paintings of enlarged flowers and landscapes, but the “Mother of American Modernism” was heavily influenced by personal experience. Through engaging text and illustrations of her work, readers will learn to appreciate O’Keeffe’s unique style and her contributions to the art world. Art Smart boxes help readers to understand O’Keeffe’s style and methods.","English",27.93,20.95,"759.13--dc23[B]","48 pp.",{"$f":"Table1[[#This Row],[QTY]]*Table1[[#This Row],['# of Books]]","v":0},{"$f":"Table1[[#This Row],[QTY]]*Table1[[#This Row],[School & Library Price]]","v":0}]
[null,null,null,45,"Famous Artists","Get to Know Georgia O'Keeffe",1,"eBook","978-0-7660-7229-9",2016,"January 2016",null,"Author","Charlotte Taylor",4.5999999999999996,1,null,null,"W",null,"Grade 3 - 4","Grade 3 - 5","American painter and writer Georgia O’Keeffe is best known for her paintings of enlarged flowers and landscapes, but the “Mother of American Modernism” was heavily influenced by personal experience. Through engaging text and illustrations of her work, readers will learn to appreciate O’Keeffe’s unique style and her contributions to the art world. Art Smart boxes help readers to understand O’Keeffe’s style and methods.","English",27.93,20.95,"759.13--dc23[B]","48 pp.",{"$f":"Table1[[#This Row],[QTY]]*Table1[[#This Row],['# of Books]]","v":0},{"$f":"Table1[[#This Row],[QTY]]*Table1[[#This Row],[School & Library Price]]","v":0}]
[null,null,null,45,"Famous Artists","Get to Know John Singer Sargent",1,"Library Bound Book","978-0-7660-7230-5",2016,"January 2016","7.250 X 9.250","Author","Charlotte Taylor",5.2,1,null,null,"R",null,"Grade 3 - 4","Grade 3 - 5","American artist John Singer Sargent is considered the leading portrait painter of his generation. Through specific details about his life and photos of his work, readers will learn about Sargent and the changing times in which he lived, developing a deeper appreciation of his work. Art Smart boxes inform readers on the style, form, and mediums of Sargent’s work.","English",27.93,20.95,"759.13--dc23[B]","48 pp.",{"$f":"Table1[[#This Row],[QTY]]*Table1[[#This Row],['# of Books]]","v":0},{"$f":"Table1[[#This Row],[QTY]]*Table1[[#This Row],[School & Library Price]]","v":0}]
[null,null,null,45,"Famous Artists","Get to Know John Singer Sargent",1,"eBook","978-0-7660-7231-2",2016,"January 2016",null,"Author","Charlotte Taylor",5.2,1,null,null,"R",null,"Grade 3 - 4","Grade 3 - 5","American artist John Singer Sargent is considered the leading portrait painter of his generation. Through specific details about his life and photos of his work, readers will learn about Sargent and the changing times in which he lived, developing a deeper appreciation of his work. Art Smart boxes inform readers on the style, form, and mediums of Sargent’s work.","English",27.93,20.95,"759.13--dc23[B]","48 pp.",{"$f":"Table1[[#This Row],[QTY]]*Table1[[#This Row],['# of Books]]","v":0},{"$f":"Table1[[#This Row],[QTY]]*Table1[[#This Row],[School & Library Price]]","v":0}]
[null,null,null,45,"Famous Artists","Get to Know Mary Cassatt",1,"Library Bound Book","978-0-7660-7234-3",2016,"January 2016","7.250 X 9.250","Author","Charlotte Taylor",5.4,1,null,null,"S",null,"Grade 3 - 4","Grade 3 - 5","American-born impressionist painter Mary Cassatt depicted the intelligent, successful, and independent “new woman” of the nineteenth century. Through engaging text and photos, readers will learn about Cassatt’s adventurous life and discover more about the period in which she lived. Art Smart boxes clue students in to the way Cassatt worked and created her beautiful paintings.","English",27.93,20.95,"759.13--dc23[B]","48 pp.",{"$f":"Table1[[#This Row],[QTY]]*Table1[[#This Row],['# of Books]]","v":0},{"$f":"Table1[[#This Row],[QTY]]*Table1[[#This Row],[School & Library Price]]","v":0}]
[null,null,null,45,"Famous Artists","Get to Know Mary Cassatt",1,"eBook","978-0-7660-7235-0",2016,"January 2016",null,"Author","Charlotte Taylor",5.4,1,null,null,"S",null,"Grade 3 - 4","Grade 3 - 5","American-born impressionist painter Mary Cassatt depicted the intelligent, successful, and independent “new woman” of the nineteenth century. Through engaging text and photos, readers will learn about Cassatt’s adventurous life and discover more about the period in which she lived. Art Smart boxes clue students in to the way Cassatt worked and created her beautiful paintings.","English",27.93,20.95,"759.13--dc23[B]","48 pp.",{"$f":"Table1[[#This Row],[QTY]]*Table1[[#This Row],['# of Books]]","v":0},{"$f":"Table1[[#This Row],[QTY]]*Table1[[#This Row],[School & Library Price]]","v":0}]
[null,null,null,45,"Famous Artists","Get to Know Norman Rockwell",1,"Library Bound Book","978-0-7660-7238-1",2016,"January 2016","7.250 X 9.250","Author","Charlotte Taylor",5,1,null,null,"R",null,"Grade 3 - 4","Grade 3 - 5","American painter and illustrator Norman Rockwell is probably best known for his iconic Saturday Evening Post covers. Through captivating text detailing his life and photos of his work, this book will foster in readers a new appreciation for Rockwell. Art Smart boxes provide insight into Rockwell’s methods and mediums.","English",27.93,20.95,"759.13--dc23[B]","48 pp.",{"$f":"Table1[[#This Row],[QTY]]*Table1[[#This Row],['# of Books]]","v":0},{"$f":"Table1[[#This Row],[QTY]]*Table1[[#This Row],[School & Library Price]]","v":0}]
[null,null,null,45,"Famous Artists","Get to Know Norman Rockwell",1,"eBook","978-0-7660-7239-8",2016,"January 2016",null,"Author","Charlotte Taylor",5,1,null,null,"R",null,"Grade 3 - 4","Grade 3 - 5","American painter and illustrator Norman Rockwell is probably best known for his iconic Saturday Evening Post covers. Through captivating text detailing his life and photos of his work, this book will foster in readers a new appreciation for Rockwell. Art Smart boxes provide insight into Rockwell’s methods and mediums.","English",27.93,20.95,"759.13--dc23[B]","48 pp.",{"$f":"Table1[[#This Row],[QTY]]*Table1[[#This Row],['# of Books]]","v":0},{"$f":"Table1[[#This Row],[QTY]]*Table1[[#This Row],[School & Library Price]]","v":0}]
[null,null,null,46,"Genius Inventors and Their Great Ideas","The African-American Heart Surgery Pioneer: The Genius of Vivien Thomas",1,"Library Bound Book","978-0-7660-4140-0",2014,"August 2013","7.500 X 9.000","Author","Edwin Brit Wyckoff",4.5999999999999996,0.5,null,null,"R","750L","Grade 3 - ","Grade 3 - 5","Vivien Theodore Thomas was an African-American surgical technician who developed the procedures used to treat blue baby syndrome in the 1940s. He was an assistant to surgeon Alfred Blalock in Blalock's experimental animal laboratory at Vanderbilt University in Nashville, Tennessee and later at the Johns Hopkins University in Baltimore, Maryland. Without any education past high school, Thomas rose above poverty and racism to become a cardiac surgery pioneer and a teacher of operative techniques to many of the country's most prominent surgeons. Vivien Thomas was the first African American without a doctorate to perform open heart surgery on a white patient in the United States. ","English",25.27,18.95,"617.4","48 pp.",{"$f":"Table1[[#This Row],[QTY]]*Table1[[#This Row],['# of Books]]","v":0},{"$f":"Table1[[#This Row],[QTY]]*Table1[[#This Row],[School & Library Price]]","v":0}]
[null,null,null,46,"Genius Inventors and Their Great Ideas","The African-American Heart Surgery Pioneer: The Genius of Vivien Thomas",1,"eBook","978-0-7660-5752-4",2014,"August 2013",null,"Author","Edwin Brit Wyckoff",4.5999999999999996,0.5,null,null,"R","750L","Grade 3 - ","Grade 3 - 5","Vivien Theodore Thomas was an African-American surgical technician who developed the procedures used to treat blue baby syndrome in the 1940s. He was an assistant to surgeon Alfred Blalock in Blalock's experimental animal laboratory at Vanderbilt University in Nashville, Tennessee and later at the Johns Hopkins University in Baltimore, Maryland. Without any education past high school, Thomas rose above poverty and racism to become a cardiac surgery pioneer and a teacher of operative techniques to many of the country's most prominent surgeons. Vivien Thomas was the first African American without a doctorate to perform open heart surgery on a white patient in the United States. ","English",25.27,18.95,"617.4","48 pp.",{"$f":"Table1[[#This Row],[QTY]]*Table1[[#This Row],['# of Books]]","v":0},{"$f":"Table1[[#This Row],[QTY]]*Table1[[#This Row],[School & Library Price]]","v":0}]
[null,null,null,46,"Genius Inventors and Their Great Ideas","The Man Who Invented the Electric Guitar: The Genius of Les Paul",1,"Library Bound Book","978-0-7660-4137-0",2014,"August 2013","7.500 X 9.000","Author","Edwin Brit Wyckoff",4.4000000000000004,0.5,null,null,"R","780L","Grade 3 - ","Grade 3 - 5","Les Paul was an American jazz, country and blues guitarist, songwriter and inventor. He was the inventor of the electric guitar which made the sound of rock and roll possible. He is also credited with many recording innovations. Although he was not the first to use the technique, his early experiments with recording sound on sound, and changing speeds were among the first to attract widespread attention. ","English",25.27,18.95,"787.87092","48 pp.",{"$f":"Table1[[#This Row],[QTY]]*Table1[[#This Row],['# of Books]]","v":0},{"$f":"Table1[[#This Row],[QTY]]*Table1[[#This Row],[School & Library Price]]","v":0}]
[null,null,null,46,"Genius Inventors and Their Great Ideas","The Man Who Invented the Electric Guitar: The Genius of Les Paul",1,"eBook","978-0-7660-5749-4",2014,"August 2013",null,"Author","Edwin Brit Wyckoff",4.4000000000000004,0.5,null,null,"R","780L","Grade 3 - ","Grade 3 - 5","Les Paul was an American jazz, country and blues guitarist, songwriter and inventor. He was the inventor of the electric guitar which made the sound of rock and roll possible. He is also credited with many recording innovations. Although he was not the first to use the technique, his early experiments with recording sound on sound, and changing speeds were among the first to attract widespread attention. ","English",25.27,18.95,"787.87092","48 pp.",{"$f":"Table1[[#This Row],[QTY]]*Table1[[#This Row],['# of Books]]","v":0},{"$f":"Table1[[#This Row],[QTY]]*Table1[[#This Row],[School & Library Price]]","v":0}]
[null,null,null,46,"Genius Inventors and Their Great Ideas","The Man Who Invented the Ferris Wheel: The Genius of George Ferris",1,"Library Bound Book","978-0-7660-4136-3",2014,"August 2013","7.500 X 9.000","Author","Dani Sneed",4.7,0.5,null,null,"Q","790L","Grade 3 - ","Grade 3 - 5","George Washington Gale Ferris, Jr. was an American engineer.  He graduated from Rensselaer Polytechnic Institute in Troy, NY, where he was a member of the Rensselaer Society of Engineers, in the class of 1881 with a degree in Civil Engineering. He was made a member of the Rensselaer Polytechnic Institute Alumni Hall of Fame in 1998.  He is most famous for creating the original Ferris Wheel for the 1893 Chicago World's Columbian Exposition. ","English",25.27,18.95,"624.1092","48 pp.",{"$f":"Table1[[#This Row],[QTY]]*Table1[[#This Row],['# of Books]]","v":0},{"$f":"Table1[[#This Row],[QTY]]*Table1[[#This Row],[School & Library Price]]","v":0}]
[null,null,null,46,"Genius Inventors and Their Great Ideas","The Man Who Invented the Ferris Wheel: The Genius of George Ferris",1,"eBook","978-0-7660-5748-7",2014,"August 2013",null,"Author","Dani Sneed",4.7,0.5,null,null,"Q","790L","Grade 3 - ","Grade 3 - 5","George Washington Gale Ferris, Jr. was an American engineer.  He graduated from Rensselaer Polytechnic Institute in Troy, NY, where he was a member of the Rensselaer Society of Engineers, in the class of 1881 with a degree in Civil Engineering. He was made a member of the Rensselaer Polytechnic Institute Alumni Hall of Fame in 1998.  He is most famous for creating the original Ferris Wheel for the 1893 Chicago World's Columbian Exposition. ","English",25.27,18.95,"624.1092","48 pp.",{"$f":"Table1[[#This Row],[QTY]]*Table1[[#This Row],['# of Books]]","v":0},{"$f":"Table1[[#This Row],[QTY]]*Table1[[#This Row],[School & Library Price]]","v":0}]
[null,null,null,46,"Genius Inventors and Their Great Ideas","The Man Who Invented the Game of Basketball: The Genius of James Naismith",1,"Library Bound Book","978-0-7660-4142-4",2014,"August 2013","7.500 X 9.000","Author","Edwin Brit Wyckoff",4.2,0.5,null,null,"Q","720L","Grade 3 - ","Grade 3 - 5","Dr. James Naismith was a Canadian-American sports coach and innovator. He invented the sport of basketball in 1891 and is often credited with introducing the first football helmet. He wrote the original basketball rulebook, founded the University of Kansas basketball program, and lived to see basketball adopted as an Olympic demonstration sport in 1904 and as an official event at the 1936 Summer Olympics in Berlin, as well as the birth of both the National Invitation Tournament (1938) and the NCAA Men's Division I Basketball Championship (1939). ","English",25.27,18.95,"796.323092","48 pp.",{"$f":"Table1[[#This Row],[QTY]]*Table1[[#This Row],['# of Books]]","v":0},{"$f":"Table1[[#This Row],[QTY]]*Table1[[#This Row],[School & Library Price]]","v":0}]
[null,null,null,46,"Genius Inventors and Their Great Ideas","The Man Who Invented the Game of Basketball: The Genius of James Naismith",1,"eBook","978-0-7660-5754-8",2014,"August 2013",null,"Author","Edwin Brit Wyckoff",4.2,0.5,null,null,"Q","720L","Grade 3 - ","Grade 3 - 5","Dr. James Naismith was a Canadian-American sports coach and innovator. He invented the sport of basketball in 1891 and is often credited with introducing the first football helmet. He wrote the original basketball rulebook, founded the University of Kansas basketball program, and lived to see basketball adopted as an Olympic demonstration sport in 1904 and as an official event at the 1936 Summer Olympics in Berlin, as well as the birth of both the National Invitation Tournament (1938) and the NCAA Men's Division I Basketball Championship (1939). ","English",25.27,18.95,"796.323092","48 pp.",{"$f":"Table1[[#This Row],[QTY]]*Table1[[#This Row],['# of Books]]","v":0},{"$f":"Table1[[#This Row],[QTY]]*Table1[[#This Row],[School & Library Price]]","v":0}]
[null,null,null,46,"Genius Inventors and Their Great Ideas","The Man Who Invented the Laser: The Genius of Theodore H. Maiman",1,"Library Bound Book","978-0-7660-4138-7",2014,"August 2013","7.500 X 9.000","Author","Edwin Brit Wyckoff",4.8,0.5,null,null,"R","770L","Grade 3 - ","Grade 3 - 5","Maiman was a graduate of the University of Colorado, which awarded him a B.S. in engineering physics in 1949. Later, he received his Ph.D. in physics in 1955 from Stanford University and began work at the Hughes Research Laboratory (HRL). There he concentrated on creating a device capable of converting mixed frequency electromagnetic radiation into highly amplified and coherent light of discrete frequency. Maiman later found that the accepted calculations of the fluorescence quantum efficiency of ruby were wrong and that the material could be used for his research. His persistence with ruby eventually paid off, for on May 16, 1960, the device he built using it became the world’s first operable laser (acronym for light amplification by stimulated emission of radiation). ","English",25.27,18.95,"621.36","48 pp.",{"$f":"Table1[[#This Row],[QTY]]*Table1[[#This Row],['# of Books]]","v":0},{"$f":"Table1[[#This Row],[QTY]]*Table1[[#This Row],[School & Library Price]]","v":0}]
[null,null,null,46,"Genius Inventors and Their Great Ideas","The Man Who Invented the Laser: The Genius of Theodore H. Maiman",1,"eBook","978-0-7660-5750-0",2014,"August 2013",null,"Author","Edwin Brit Wyckoff",4.8,0.5,null,null,"R","770L","Grade 3 - ","Grade 3 - 5","Maiman was a graduate of the University of Colorado, which awarded him a B.S. in engineering physics in 1949. Later, he received his Ph.D. in physics in 1955 from Stanford University and began work at the Hughes Research Laboratory (HRL). There he concentrated on creating a device capable of converting mixed frequency electromagnetic radiation into highly amplified and coherent light of discrete frequency. Maiman later found that the accepted calculations of the fluorescence quantum efficiency of ruby were wrong and that the material could be used for his research. His persistence with ruby eventually paid off, for on May 16, 1960, the device he built using it became the world’s first operable laser (acronym for light amplification by stimulated emission of radiation). ","English",25.27,18.95,"621.36","48 pp.",{"$f":"Table1[[#This Row],[QTY]]*Table1[[#This Row],['# of Books]]","v":0},{"$f":"Table1[[#This Row],[QTY]]*Table1[[#This Row],[School & Library Price]]","v":0}]
[null,null,null,46,"Genius Inventors and Their Great Ideas","The Woman Who Invented the Thread that Stops Bullets: The Genius of Stephanie Kwolek",1,"Library Bound Book","978-0-7660-4141-7",2014,"August 2013","7.500 X 9.000","Author","Edwin Brit Wyckoff",4.5,0.5,null,null,"Q","730L","Grade 3 - ","Grade 3 - 5","Stephanie Louise Kwolek is an American chemist who invented poly-paraphenylene terephtalamide—better known as Kevlar. She was born in the Pittsburgh suburb of New Kensington, Pennsylvania. In 1964, in anticipation of a gasoline shortage, her group began searching for a lightweight yet strong fiber to be used in tires. The polymers she had been working with at the time formed liquid crystal while in solution, something unique to those polymers at the time. However, Kwolek persuaded technician Charles Smullen to test her solution. She was amazed to find that the new fiber would not break when nylon typically would. ","English",25.27,18.95,"660.092","48 pp.",{"$f":"Table1[[#This Row],[QTY]]*Table1[[#This Row],['# of Books]]","v":0},{"$f":"Table1[[#This Row],[QTY]]*Table1[[#This Row],[School & Library Price]]","v":0}]
[null,null,null,46,"Genius Inventors and Their Great Ideas","The Woman Who Invented the Thread that Stops Bullets: The Genius of Stephanie Kwolek",1,"eBook","978-0-7660-5753-1",2014,"August 2013",null,"Author","Edwin Brit Wyckoff",4.5,0.5,null,null,"Q","730L","Grade 3 - ","Grade 3 - 5","Stephanie Louise Kwolek is an American chemist who invented poly-paraphenylene terephtalamide—better known as Kevlar. She was born in the Pittsburgh suburb of New Kensington, Pennsylvania. In 1964, in anticipation of a gasoline shortage, her group began searching for a lightweight yet strong fiber to be used in tires. The polymers she had been working with at the time formed liquid crystal while in solution, something unique to those polymers at the time. However, Kwolek persuaded technician Charles Smullen to test her solution. She was amazed to find that the new fiber would not break when nylon typically would. ","English",25.27,18.95,"660.092","48 pp.",{"$f":"Table1[[#This Row],[QTY]]*Table1[[#This Row],['# of Books]]","v":0},{"$f":"Table1[[#This Row],[QTY]]*Table1[[#This Row],[School & Library Price]]","v":0}]
[null,null,null,46,"Goal! Latin Stars of Soccer","Goal! Latin Stars of Soccer",6,"Library Set","978-0-7660-8014-0",2014,"January 2014","5.250 X 7.500",null,null,null,null,null,null,null,null,"Grade 3 - 6","Grade 3 - 6",null,"English",101.7,76.260000000000005,null,"48 pp.",{"$f":"Table1[[#This Row],[QTY]]*Table1[[#This Row],['# of Books]]","v":0},{"$f":"Table1[[#This Row],[QTY]]*Table1[[#This Row],[School & Library Price]]","v":0}]
[null,null,null,46,"Goal! Latin Stars of Soccer","Soccer Star Andrés Iniesta",1,"eBook","978-1-6228-5229-1",2014,"January 2014",null,"Author","Jeff Burlingame",6.4,1,null,null,"S","1010L","Grade 4 - 6","Grade 4 - 8","This sports biography tells the story of Andrés Iniesta from his childhood to his position as an elite soccer star for F.C. Barcelona and the Spanish national team. Iniesta has helped both teams win multiple championships, including the 2010 World Cup. In 2012, he was named the Best Player in Europe by the UEFA. ","English",27.93,20.95,"796.334092","48 pp.",{"$f":"Table1[[#This Row],[QTY]]*Table1[[#This Row],['# of Books]]","v":0},{"$f":"Table1[[#This Row],[QTY]]*Table1[[#This Row],[School & Library Price]]","v":0}]
[null,null,null,46,"Goal! Latin Stars of Soccer","Soccer Star Cristiano Ronaldo",1,"eBook","978-1-6228-5166-9",2014,"January 2014",null,"Author","John A. Torres",6.4,1,null,null,"R","1070L","Grade 4 - 6","Grade 4 - 8","Cristiano Ronaldo is one of the biggest names in all of sports and one of the most iconic figures in international soccer. This biography covers the hardships that Ronaldo faced as a child, and how he overcame them to become the face of the powerhouse soccer club Real Madrid and the Portuguese national team. ","English",27.93,20.95,"796.334092","48 pp.",{"$f":"Table1[[#This Row],[QTY]]*Table1[[#This Row],['# of Books]]","v":0},{"$f":"Table1[[#This Row],[QTY]]*Table1[[#This Row],[School & Library Price]]","v":0}]
[null,null,null,46,"Goal! Latin Stars of Soccer","Soccer Star Kaká",1,"eBook","978-1-6228-5234-5",2014,"January 2014",null,"Author","Jeff Burlingame",6.5,1,null,null,"R","1010L","Grade 4 - 6","Grade 4 - 8","In this biography, readers can follow Real Madrid superstar Kaká through all of thrilling and shocking moments of his life, including an injury that almost left him paralyzed. Kaká’s journey includes being honored as the 2007 FIFA World Player of the Year. that makes readers interested in learning more about the star. ","English",27.93,20.95,"796.334092","48 pp.",{"$f":"Table1[[#This Row],[QTY]]*Table1[[#This Row],['# of Books]]","v":0},{"$f":"Table1[[#This Row],[QTY]]*Table1[[#This Row],[School & Library Price]]","v":0}]
[null,null,null,46,"Goal! Latin Stars of Soccer","Soccer Star Lionel Messi",1,"eBook","978-1-6228-5165-2",2014,"January 2014",null,"Author","John A. Torres",6.3,1,null,null,"S","1000L","Grade 4 - 6","Grade 4 - 8","Considered by some to be the greatest soccer star of all time, Lionel Messi’s story is nothing short of spectacular. As this sports biography highlights the biggest moments of his career, it becomes quite clear why he is the most important player to Argentina’s national squad and his club team, FC Barcelona.  ","English",27.93,20.95,"796.334092","48 pp.",{"$f":"Table1[[#This Row],[QTY]]*Table1[[#This Row],['# of Books]]","v":0},{"$f":"Table1[[#This Row],[QTY]]*Table1[[#This Row],[School & Library Price]]","v":0}]
[null,null,null,46,"Goal! Latin Stars of Soccer","Soccer Star Robinho",1,"eBook","978-1-6228-5220-8",2014,"January 2014",null,"Author","Marty Gitlin",5.3,1,null,null,"S","790L","Grade 4 - 6","Grade 4 - 8","A tale of an exciting life, this sports biography covers all of the ups and downs of soccer star Robinho. From family members being kidnapped, to winning titles with three major clubs, including Real Madrid and AC Milan, this young superstar has seen it all. All the while, he has secured his place as one of the biggest names in soccer.  ","English",27.93,20.95,"796.334092","48 pp.",{"$f":"Table1[[#This Row],[QTY]]*Table1[[#This Row],['# of Books]]","v":0},{"$f":"Table1[[#This Row],[QTY]]*Table1[[#This Row],[School & Library Price]]","v":0}]
[null,null,null,46,"Goal! Latin Stars of Soccer","Soccer Star Ronaldinho",1,"eBook","978-1-6228-5180-5",2014,"January 2014",null,"Author","John A. Torres",6.3,1,null,null,"S","1020L","Grade 4 - 6","Grade 4 - 8","Brazilian superstar Ronaldinho has had an amazing and colorful career. Playing for FC Barcelona and AC Milan, as well as the Brazilian national team, Ronaldinho has been on some of the greatest teams in soccer history. This biography will show that even as he nears the end of his career, his continued production on the field has led fans to consider Ronaldinho to be one of the all-time greats. ","English",27.93,20.95,"796.334092","48 pp.",{"$f":"Table1[[#This Row],[QTY]]*Table1[[#This Row],['# of Books]]","v":0},{"$f":"Table1[[#This Row],[QTY]]*Table1[[#This Row],[School & Library Price]]","v":0}]
[null,null,null,46,"Goal! Latin Stars of Soccer","Soccer Star Andrés Iniesta",1,"Library Bound Book","978-1-6228-5225-3",2014,"January 2014","5.250 X 7.500","Author","Jeff Burlingame",6.4,1,null,null,"S","1010L","Grade 4 - 6","Grade 4 - 8","This sports biography tells the story of Andrés Iniesta from his childhood to his position as an elite soccer star for F.C. Barcelona and the Spanish national team. Iniesta has helped both teams win multiple championships, including the 2010 World Cup. In 2012, he was named the Best Player in Europe by the UEFA. ","English",16.95,12.71,"796.334092","48 pp.",{"$f":"Table1[[#This Row],[QTY]]*Table1[[#This Row],['# of Books]]","v":0},{"$f":"Table1[[#This Row],[QTY]]*Table1[[#This Row],[School & Library Price]]","v":0}]
[null,null,null,46,"Goal! Latin Stars of Soccer","Soccer Star Cristiano Ronaldo",1,"Library Bound Book","978-1-6228-5222-2",2014,"January 2014","5.250 X 7.500","Author","John A. Torres",6.4,1,null,null,"R","1070L","Grade 4 - 6","Grade 4 - 8","Cristiano Ronaldo is one of the biggest names in all of sports and one of the most iconic figures in international soccer. This biography covers the hardships that Ronaldo faced as a child, and how he overcame them to become the face of the powerhouse soccer club Real Madrid and the Portuguese national team. ","English",16.95,12.71,"796.334092","48 pp.",{"$f":"Table1[[#This Row],[QTY]]*Table1[[#This Row],['# of Books]]","v":0},{"$f":"Table1[[#This Row],[QTY]]*Table1[[#This Row],[School & Library Price]]","v":0}]
[null,null,null,46,"Goal! Latin Stars of Soccer","Soccer Star Kaká",1,"Library Bound Book","978-1-6228-5230-7",2014,"January 2014","5.250 X 7.500","Author","Jeff Burlingame",6.5,1,null,null,"R","1010L","Grade 4 - 6","Grade 4 - 8","In this biography, readers can follow Real Madrid superstar Kaká through all of thrilling and shocking moments of his life, including an injury that almost left him paralyzed. Kaká’s journey includes being honored as the 2007 FIFA World Player of the Year. that makes readers interested in learning more about the star. ","English",16.95,12.71,"796.334092","48 pp.",{"$f":"Table1[[#This Row],[QTY]]*Table1[[#This Row],['# of Books]]","v":0},{"$f":"Table1[[#This Row],[QTY]]*Table1[[#This Row],[School & Library Price]]","v":0}]
[null,null,null,46,"Goal! Latin Stars of Soccer","Soccer Star Lionel Messi",1,"Library Bound Book","978-1-6228-5221-5",2014,"January 2014","5.250 X 7.500","Author","John A. Torres",6.3,1,null,null,"S","1000L","Grade 4 - 6","Grade 4 - 8","Considered by some to be the greatest soccer star of all time, Lionel Messi’s story is nothing short of spectacular. As this sports biography highlights the biggest moments of his career, it becomes quite clear why he is the most important player to Argentina’s national squad and his club team, FC Barcelona.  ","English",16.95,12.71,"796.334092","48 pp.",{"$f":"Table1[[#This Row],[QTY]]*Table1[[#This Row],['# of Books]]","v":0},{"$f":"Table1[[#This Row],[QTY]]*Table1[[#This Row],[School & Library Price]]","v":0}]
[null,null,null,46,"Goal! Latin Stars of Soccer","Soccer Star Robinho",1,"Library Bound Book","978-1-6228-5216-1",2014,"January 2014","5.250 X 7.500","Author","Marty Gitlin",5.3,1,null,null,"S","790L","Grade 4 - 6","Grade 4 - 8","A tale of an exciting life, this sports biography covers all of the ups and downs of soccer star Robinho. From family members being kidnapped, to winning titles with three major clubs, including Real Madrid and AC Milan, this young superstar has seen it all. All the while, he has secured his place as one of the biggest names in soccer.  ","English",16.95,12.71,"796.334092","48 pp.",{"$f":"Table1[[#This Row],[QTY]]*Table1[[#This Row],['# of Books]]","v":0},{"$f":"Table1[[#This Row],[QTY]]*Table1[[#This Row],[School & Library Price]]","v":0}]
[null,null,null,46,"Goal! Latin Stars of Soccer","Soccer Star Ronaldinho",1,"Library Bound Book","978-1-6228-5223-9",2014,"January 2014","5.250 X 7.500","Author","John A. Torres",6.3,1,null,null,"S","1020L","Grade 4 - 6","Grade 4 - 8","Brazilian superstar Ronaldinho has had an amazing and colorful career. Playing for FC Barcelona and AC Milan, as well as the Brazilian national team, Ronaldinho has been on some of the greatest teams in soccer history. This biography will show that even as he nears the end of his career, his continued production on the field has led fans to consider Ronaldinho to be one of the all-time greats. ","English",16.95,12.71,"796.334092","48 pp.",{"$f":"Table1[[#This Row],[QTY]]*Table1[[#This Row],['# of Books]]","v":0},{"$f":"Table1[[#This Row],[QTY]]*Table1[[#This Row],[School & Library Price]]","v":0}]
[null,null,null,47,"Hall of Fame Sports Greats","Hall of Fame Sports Greats",6,"Library Set","978-0-7660-8015-7",2014,"August 2013","5.250 X 7.500",null,null,null,null,null,null,null,null,"Grade 3 - 6","Grade 3 - 6",null,"English",107.7,80.760000000000005,null,"64 pp.",{"$f":"Table1[[#This Row],[QTY]]*Table1[[#This Row],['# of Books]]","v":0},{"$f":"Table1[[#This Row],[QTY]]*Table1[[#This Row],[School & Library Price]]","v":0}]
[null,null,null,47,"Hall of Fame Sports Greats","Cal Ripken, Jr.: Hall of Fame Baseball Superstar",1,"eBook","978-1-6228-5147-8",2014,"August 2013",null,"Author","Glen Macnow",5.4,2,null,null,"S","820L","Grade 4 - 6","Grade 4 - 8","Owning the record for consecutive games played, Cal Ripken, Jr., is known as baseball’s Iron Man. Find out what other accomplishments landed him in the Baseball Hall of Fame. ","English",27.93,20.95,"796.357092","64 pp.",{"$f":"Table1[[#This Row],[QTY]]*Table1[[#This Row],['# of Books]]","v":0},{"$f":"Table1[[#This Row],[QTY]]*Table1[[#This Row],[School & Library Price]]","v":0}]
[null,null,null,47,"Hall of Fame Sports Greats","Deion Sanders: Hall of Fame Football Superstar",1,"eBook","978-1-6228-5152-2",2014,"August 2013",null,"Author","Glen Macnow",5.9,2,null,null,"S","850L","Grade 4 - 6","Grade 4 - 8","Deion Sanders was known as \"Prime Time\" because he always played his best when the most people were watching. The only man to play in both the Super Bowl and the World Series, Sanders was a two-sport star. Author Glen Macnow puts the reader in the center of the action, as he tells the story of how Sanders came to be considered one of the greatest cornerbacks in NFL history. ","English",27.93,20.95,"796.332092","64 pp.",{"$f":"Table1[[#This Row],[QTY]]*Table1[[#This Row],['# of Books]]","v":0},{"$f":"Table1[[#This Row],[QTY]]*Table1[[#This Row],[School & Library Price]]","v":0}]
[null,null,null,47,"Hall of Fame Sports Greats","Larry Bird: Hall of Fame Basketball Superstar",1,"eBook","978-1-6228-5149-2",2014,"August 2013",null,"Author","Jack Kavanagh",5.6,2,null,null,"S","820L","Grade 4 - 6","Grade 4 - 8","Many basketball experts consider Larry Bird among the greatest all-around players in the history of basketball. A three-time MVP, Bird guided the Boston Celtics to three NBA championships. Find out how Bird went from a small-town Indiana boy to a basketball star on the greatest stage. ","English",27.93,20.95,"796.323092","64 pp.",{"$f":"Table1[[#This Row],[QTY]]*Table1[[#This Row],['# of Books]]","v":0},{"$f":"Table1[[#This Row],[QTY]]*Table1[[#This Row],[School & Library Price]]","v":0}]
[null,null,null,47,"Hall of Fame Sports Greats","Michael Jordan: Hall of Fame Basketball Superstar",1,"eBook","978-1-6228-5150-8",2014,"August 2013",null,"Author","Nathan Aaseng",6.2,2,null,null,"R","920L","Grade 4 - 6","Grade 4 - 8","There was nothing Michael Jordan could not do on the basketball court. He could soar through the lane and dunk over opponents, he could shoot from the outside with great accuracy, and he was one of the best defenders to ever play the game. Nathan Aaseng tells the story of how Michael Jordan became a living NBA legend. ","English",27.93,20.95,"796.323092","64 pp.",{"$f":"Table1[[#This Row],[QTY]]*Table1[[#This Row],['# of Books]]","v":0},{"$f":"Table1[[#This Row],[QTY]]*Table1[[#This Row],[School & Library Price]]","v":0}]
[null,null,null,47,"Hall of Fame Sports Greats","Nolan Ryan: Hall of Fame Baseball Superstar",1,"eBook","978-1-6228-5148-5",2014,"August 2013",null,"Author","William W. Lace",5.8,2,null,null,"R","870L","Grade 4 - 6","Grade 4 - 8","For more than twenty-five years, Nolan Ryan thrilled audiences with his sizzling 100-plus mile-per-hour fastballs. Ryan set numerous records, including the career mark for most strikeouts and no-hitters. Follow along with the author as he weaves the tale of Ryan’s Hall-of-Fame journey. ","English",27.93,20.95,"796.357092","64 pp.",{"$f":"Table1[[#This Row],[QTY]]*Table1[[#This Row],['# of Books]]","v":0},{"$f":"Table1[[#This Row],[QTY]]*Table1[[#This Row],[School & Library Price]]","v":0}]
[null,null,null,47,"Hall of Fame Sports Greats","Troy Aikman: Hall of Fame Football Superstar",1,"eBook","978-1-6228-5151-5",2014,"August 2013",null,"Author","Glen Macnow",5.4,2,null,null,"S","820L","Grade 4 - 6","Grade 4 - 8","Troy Aikman was known as the \"Quarterback of the '90s'.\" During that decade, the rifle-armed passer led the Dallas Cowboys to three Super Bowl titles. Read about how Aikman became the No. 1 pick in the 1989 NFL Draft and stayed on top to become a Pro Football Hall of Famer. ","English",27.93,20.95,"796.332092","64 pp.",{"$f":"Table1[[#This Row],[QTY]]*Table1[[#This Row],['# of Books]]","v":0},{"$f":"Table1[[#This Row],[QTY]]*Table1[[#This Row],[School & Library Price]]","v":0}]
[null,null,null,47,"Hall of Fame Sports Greats","Cal Ripken, Jr.: Hall of Fame Baseball Superstar",1,"Library Bound Book","978-1-6228-5020-4",2014,"August 2013","5.250 X 7.500","Author","Glen Macnow",5.4,2,null,null,"S","820L","Grade 4 - 6","Grade 4 - 8","Owning the record for consecutive games played, Cal Ripken, Jr., is known as baseball’s Iron Man. Find out what other accomplishments landed him in the Baseball Hall of Fame. ","English",17.95,13.46,"796.357092","64 pp.",{"$f":"Table1[[#This Row],[QTY]]*Table1[[#This Row],['# of Books]]","v":0},{"$f":"Table1[[#This Row],[QTY]]*Table1[[#This Row],[School & Library Price]]","v":0}]
[null,null,null,47,"Hall of Fame Sports Greats","Deion Sanders: Hall of Fame Football Superstar",1,"Library Bound Book","978-1-6228-5045-7",2014,"August 2013","5.250 X 7.500","Author","Glen Macnow",5.9,2,null,null,"S","850L","Grade 4 - 6","Grade 4 - 8","Deion Sanders was known as \"Prime Time\" because he always played his best when the most people were watching. The only man to play in both the Super Bowl and the World Series, Sanders was a two-sport star. Author Glen Macnow puts the reader in the center of the action, as he tells the story of how Sanders came to be considered one of the greatest cornerbacks in NFL history. ","English",17.95,13.46,"796.332092","64 pp.",{"$f":"Table1[[#This Row],[QTY]]*Table1[[#This Row],['# of Books]]","v":0},{"$f":"Table1[[#This Row],[QTY]]*Table1[[#This Row],[School & Library Price]]","v":0}]
[null,null,null,47,"Hall of Fame Sports Greats","Larry Bird: Hall of Fame Basketball Superstar",1,"Library Bound Book","978-1-6228-5030-3",2014,"August 2013","5.250 X 7.500","Author","Jack Kavanagh",5.6,2,null,null,"S","820L","Grade 4 - 6","Grade 4 - 8","Many basketball experts consider Larry Bird among the greatest all-around players in the history of basketball. A three-time MVP, Bird guided the Boston Celtics to three NBA championships. Find out how Bird went from a small-town Indiana boy to a basketball star on the greatest stage. ","English",17.95,13.46,"796.323092","64 pp.",{"$f":"Table1[[#This Row],[QTY]]*Table1[[#This Row],['# of Books]]","v":0},{"$f":"Table1[[#This Row],[QTY]]*Table1[[#This Row],[School & Library Price]]","v":0}]
[null,null,null,47,"Hall of Fame Sports Greats","Michael Jordan: Hall of Fame Basketball Superstar",1,"Library Bound Book","978-1-6228-5035-8",2014,"August 2013","5.250 X 7.500","Author","Nathan Aaseng",6.2,2,null,null,"R","920L","Grade 4 - 6","Grade 4 - 8","There was nothing Michael Jordan could not do on the basketball court. He could soar through the lane and dunk over opponents, he could shoot from the outside with great accuracy, and he was one of the best defenders to ever play the game. Nathan Aaseng tells the story of how Michael Jordan became a living NBA legend. ","English",17.95,13.46,"796.323092","64 pp.",{"$f":"Table1[[#This Row],[QTY]]*Table1[[#This Row],['# of Books]]","v":0},{"$f":"Table1[[#This Row],[QTY]]*Table1[[#This Row],[School & Library Price]]","v":0}]
[null,null,null,47,"Hall of Fame Sports Greats","Nolan Ryan: Hall of Fame Baseball Superstar",1,"Library Bound Book","978-1-6228-5025-9",2014,"August 2013","5.250 X 7.500","Author","William W. Lace",5.8,2,null,null,"R","870L","Grade 4 - 6","Grade 4 - 8","For more than twenty-five years, Nolan Ryan thrilled audiences with his sizzling 100-plus mile-per-hour fastballs. Ryan set numerous records, including the career mark for most strikeouts and no-hitters. Follow along with the author as he weaves the tale of Ryan’s Hall-of-Fame journey. ","English",17.95,13.46,"796.357092","64 pp.",{"$f":"Table1[[#This Row],[QTY]]*Table1[[#This Row],['# of Books]]","v":0},{"$f":"Table1[[#This Row],[QTY]]*Table1[[#This Row],[School & Library Price]]","v":0}]
[null,null,null,47,"Hall of Fame Sports Greats","Troy Aikman: Hall of Fame Football Superstar",1,"Library Bound Book","978-1-6228-5040-2",2014,"August 2013","5.250 X 7.500","Author","Glen Macnow",5.4,2,null,null,"S","820L","Grade 4 - 6","Grade 4 - 8","Troy Aikman was known as the \"Quarterback of the '90s'.\" During that decade, the rifle-armed passer led the Dallas Cowboys to three Super Bowl titles. Read about how Aikman became the No. 1 pick in the 1989 NFL Draft and stayed on top to become a Pro Football Hall of Famer. ","English",17.95,13.46,"796.332092","64 pp.",{"$f":"Table1[[#This Row],[QTY]]*Table1[[#This Row],['# of Books]]","v":0},{"$f":"Table1[[#This Row],[QTY]]*Table1[[#This Row],[School & Library Price]]","v":0}]
[null,null,null,47,"Inventors at Work!","Inventors at Work!",5,"Library Set","978-0-7660-8016-4",2014,"January 2014","7.500 X 9.000",null,null,null,null,null,null,null,null,"Grade 3 - 6","Grade 3 - 6",null,"English",126.35,94.75,null,"48 pp.",{"$f":"Table1[[#This Row],[QTY]]*Table1[[#This Row],['# of Books]]","v":0},{"$f":"Table1[[#This Row],[QTY]]*Table1[[#This Row],[School & Library Price]]","v":0}]
[null,null,null,47,"Inventors at Work!","Microwave Man: Percy Spencer and His Sizzling Invention",1,"Library Bound Book","978-0-7660-4201-8",2014,"January 2014","7.500 X 9.000","Author","Sara L. Latta",4.7,0.5,null,null,"O","740L","Grade 3 - ","Grade 3 - 5","Most people love microwave popcorn or a warm snack from the microwave. But before 1975, homes did not have this great device! How did Percy Spencer go from a small town mill worker to the inventor of one of the most popular devices in the world? Find out how Spencer’s love of science and machines, along with his strong work ethic, helped him achieve a patent for the invention of the microwave oven. ","English",25.27,18.95,"609.2","48 pp.",{"$f":"Table1[[#This Row],[QTY]]*Table1[[#This Row],['# of Books]]","v":0},{"$f":"Table1[[#This Row],[QTY]]*Table1[[#This Row],[School & Library Price]]","v":0}]
[null,null,null,47,"Inventors at Work!","Microwave Man: Percy Spencer and His Sizzling Invention",1,"eBook","978-0-7660-5823-1",2014,"January 2014",null,"Author","Sara L. Latta",4.7,0.5,null,null,"O","740L","Grade 3 - ","Grade 3 - 5","Most people love microwave popcorn or a warm snack from the microwave. But before 1975, homes did not have this great device! How did Percy Spencer go from a small town mill worker to the inventor of one of the most popular devices in the world? Find out how Spencer’s love of science and machines, along with his strong work ethic, helped him achieve a patent for the invention of the microwave oven. ","English",25.27,18.95,"609.2","48 pp.",{"$f":"Table1[[#This Row],[QTY]]*Table1[[#This Row],['# of Books]]","v":0},{"$f":"Table1[[#This Row],[QTY]]*Table1[[#This Row],[School & Library Price]]","v":0}]
[null,null,null,47,"Inventors at Work!","SCUBA Man: Jacques Cousteau and His Amazing Underwater Invention",1,"Library Bound Book","978-0-7660-4231-5",2014,"January 2014","7.500 X 9.000","Author","Carmen Bredeson",3.9,0.5,null,null,"O","550L","Grade 3 - ","Grade 3 - 5","Swimming under the sea, looking at ocean life, is a very popular pastime. But there was a time when SCUBA diving did not exist. People had to wear very heavy diving suits, boots, and helmets. They could not swim freely and easily. Jacques Cousteau changed all that! Read about his invention of the Aqua-Lung and how his love of swimming as a boy led to a lifetime of adventure, movie-making, and discovery. ","English",25.27,18.95,"688.7","48 pp.",{"$f":"Table1[[#This Row],[QTY]]*Table1[[#This Row],['# of Books]]","v":0},{"$f":"Table1[[#This Row],[QTY]]*Table1[[#This Row],[School & Library Price]]","v":0}]
[null,null,null,47,"Inventors at Work!","SCUBA Man: Jacques Cousteau and His Amazing Underwater Invention",1,"eBook","978-0-7660-5854-5",2014,"January 2014",null,"Author","Carmen Bredeson",3.9,0.5,null,null,"O","550L","Grade 3 - ","Grade 3 - 5","Swimming under the sea, looking at ocean life, is a very popular pastime. But there was a time when SCUBA diving did not exist. People had to wear very heavy diving suits, boots, and helmets. They could not swim freely and easily. Jacques Cousteau changed all that! Read about his invention of the Aqua-Lung and how his love of swimming as a boy led to a lifetime of adventure, movie-making, and discovery. ","English",25.27,18.95,"688.7","48 pp.",{"$f":"Table1[[#This Row],[QTY]]*Table1[[#This Row],['# of Books]]","v":0},{"$f":"Table1[[#This Row],[QTY]]*Table1[[#This Row],[School & Library Price]]","v":0}]
[null,null,null,47,"Inventors at Work!","The Chocolate Chip Cookie Queen: Ruth Wakefield and Her Yummy Invention",1,"Library Bound Book","978-0-7660-4242-1",2014,"January 2014","7.500 X 9.000","Author","Carmen Bredeson",4.0999999999999996,0.5,null,null,"O","620L","Grade 3 - ","Grade 3 - 5","Sometimes inventing can be sweet. Author Carmen Bredeson explores the creation of everyone's favorite cookie in THE CHOCOLATE CHIP COOKIE QUEEN. Find out about Ruth Wakefield, the Toll House Inn, and the invention of the chocolate chip cookie. ","English",25.27,18.95,"641.5092","48 pp.",{"$f":"Table1[[#This Row],[QTY]]*Table1[[#This Row],['# of Books]]","v":0},{"$f":"Table1[[#This Row],[QTY]]*Table1[[#This Row],[School & Library Price]]","v":0}]
[null,null,null,47,"Inventors at Work!","The Chocolate Chip Cookie Queen: Ruth Wakefield and Her Yummy Invention",1,"eBook","978-0-7660-5865-1",2014,"January 2014",null,"Author","Carmen Bredeson",4.0999999999999996,0.5,null,null,"O","620L","Grade 3 - ","Grade 3 - 5","Sometimes inventing can be sweet. Author Carmen Bredeson explores the creation of everyone's favorite cookie in THE CHOCOLATE CHIP COOKIE QUEEN. Find out about Ruth Wakefield, the Toll House Inn, and the invention of the chocolate chip cookie. ","English",25.27,18.95,"641.5092","48 pp.",{"$f":"Table1[[#This Row],[QTY]]*Table1[[#This Row],['# of Books]]","v":0},{"$f":"Table1[[#This Row],[QTY]]*Table1[[#This Row],[School & Library Price]]","v":0}]
[null,null,null,47,"Inventors at Work!","The Coolest Inventor: Willis Haviland Carrier and His Air Conditioner",1,"Library Bound Book","978-0-7660-4216-2",2014,"January 2014","7.500 X 9.000","Author, Author","Alison Eldridge, Stephen Eldridge",4.8,0.5,null,null,"N","760L","Grade 3 - ","Grade 3 - 5","Icy cold air conditioning is very common in many people's lives. But there was a time when this popular luxury did not exist. People had to think of other ways to keep cool on hot, humid days. It was also too hot in factories and hospitals, theaters and cars. Willis Carrier changed all that! Authors Alison and Stephen Eldridge explore how his love of science and fixing things led to a lifetime of adventure, research, and the discovery of air conditioning! ","English",25.27,18.95,"697.9","48 pp.",{"$f":"Table1[[#This Row],[QTY]]*Table1[[#This Row],['# of Books]]","v":0},{"$f":"Table1[[#This Row],[QTY]]*Table1[[#This Row],[School & Library Price]]","v":0}]
[null,null,null,47,"Inventors at Work!","The Coolest Inventor: Willis Haviland Carrier and His Air Conditioner",1,"eBook","978-0-7660-5839-2",2014,"January 2014",null,"Author, Author","Alison Eldridge, Stephen Eldridge",4.8,0.5,null,null,"N","760L","Grade 3 - ","Grade 3 - 5","Icy cold air conditioning is very common in many people's lives. But there was a time when this popular luxury did not exist. People had to think of other ways to keep cool on hot, humid days. It was also too hot in factories and hospitals, theaters and cars. Willis Carrier changed all that! Authors Alison and Stephen Eldridge explore how his love of science and fixing things led to a lifetime of adventure, research, and the discovery of air conditioning! ","English",25.27,18.95,"697.9","48 pp.",{"$f":"Table1[[#This Row],[QTY]]*Table1[[#This Row],['# of Books]]","v":0},{"$f":"Table1[[#This Row],[QTY]]*Table1[[#This Row],[School & Library Price]]","v":0}]
[null,null,null,47,"Inventors at Work!","The Woman Who Invented Windshield Wipers: Mary Anderson and Her Wonderful Invention",1,"Library Bound Book","978-0-7660-4203-2",2014,"January 2014","7.500 X 9.000","Author","Sara L. Latta",5,0.5,null,null,"N","820L","Grade 3 - ","Grade 3 - 5","Most people can't imagine a car without windshield wipers. How would you possibly see during a snow storm or downpour? But there was a time when drivers had to wipe the windshield themselves to clear it of snow and rain. And boy did they get wet! Find out how Mary Anderson's smart thinking helped her get a patent for the Windshield Cleaning Device. ","English",25.27,18.95,"629.2","48 pp.",{"$f":"Table1[[#This Row],[QTY]]*Table1[[#This Row],['# of Books]]","v":0},{"$f":"Table1[[#This Row],[QTY]]*Table1[[#This Row],[School & Library Price]]","v":0}]
[null,null,null,47,"Inventors at Work!","The Woman Who Invented Windshield Wipers: Mary Anderson and Her Wonderful Invention",1,"eBook","978-0-7660-5825-5",2014,"January 2014",null,"Author","Sara L. Latta",5,0.5,null,null,"N","820L","Grade 3 - ","Grade 3 - 5","Most people can't imagine a car without windshield wipers. How would you possibly see during a snow storm or downpour? But there was a time when drivers had to wipe the windshield themselves to clear it of snow and rain. And boy did they get wet! Find out how Mary Anderson's smart thinking helped her get a patent for the Windshield Cleaning Device. ","English",25.27,18.95,"629.2","48 pp.",{"$f":"Table1[[#This Row],[QTY]]*Table1[[#This Row],['# of Books]]","v":0},{"$f":"Table1[[#This Row],[QTY]]*Table1[[#This Row],[School & Library Price]]","v":0}]
[null,null,null,48,"Sizzling Celebrities","Sizzling Celebrities",7,"Library Set","978-0-7660-8017-1",2014,"August 2013","7.500 X 9.000",null,null,null,null,null,null,null,null,"Grade 3 - 6","Grade 3 - 6",null,"English",176.75,132.65,null,"48 pp.",{"$f":"Table1[[#This Row],[QTY]]*Table1[[#This Row],['# of Books]]","v":0},{"$f":"Table1[[#This Row],[QTY]]*Table1[[#This Row],[School & Library Price]]","v":0}]
[null,null,null,48,"Sizzling Celebrities","Adele!: Singing Sensation",1,"Library Bound Book","978-0-7660-4172-1",2014,"August 2013","7.500 X 9.000","Author","Ally Azzarelli",5.6,1,null,null,"S","860L","Grade 4 - 6","Grade 4 - 8","Superstar Adele has reached the top of the charts with her dynamic voice and songs that are easy to relate to.  Author Ally Azzarelli explores Adele's life in this addition to the SIZZLING CELEBRITIES series. Read about her childhood, her first musical interests, and her rise to fame. A wonderful biography for anyone who wants to know more about this talented singer.  ","English",25.27,18.95,"782.4216409","48 pp.",{"$f":"Table1[[#This Row],[QTY]]*Table1[[#This Row],['# of Books]]","v":0},{"$f":"Table1[[#This Row],[QTY]]*Table1[[#This Row],[School & Library Price]]","v":0}]
[null,null,null,48,"Sizzling Celebrities","Adele!: Singing Sensation",1,"eBook","978-0-7660-5807-1",2014,"August 2013",null,"Author","Ally Azzarelli",5.6,1,null,null,"S","860L","Grade 4 - 6","Grade 4 - 8","Superstar Adele has reached the top of the charts with her dynamic voice and songs that are easy to relate to.  Author Ally Azzarelli explores Adele's life in this addition to the SIZZLING CELEBRITIES series. Read about her childhood, her first musical interests, and her rise to fame. A wonderful biography for anyone who wants to know more about this talented singer.  ","English",25.27,18.95,"782.4216409","48 pp.",{"$f":"Table1[[#This Row],[QTY]]*Table1[[#This Row],['# of Books]]","v":0},{"$f":"Table1[[#This Row],[QTY]]*Table1[[#This Row],[School & Library Price]]","v":0}]
[null,null,null,48,"Sizzling Celebrities","Demi!: Latina Star Demi Lovato",1,"Library Bound Book","978-0-7660-4169-1",2014,"August 2013","7.500 X 9.000","Author","Jeff Burlingame",6.3,1,null,null,"R","960L","Grade 4 - 6","Grade 4 - 8","Another title in the SIZZLING CELEBRITIES series, DEMI! explores this talented singer and actress' life, and struggles with bipolar disorder. Find out about her early acting days on Barney and Friends with Selena Gomez to being \"discovered\" by Disney to her Stay Strong special on MTV. ","English",25.27,18.95,"792.02","48 pp.",{"$f":"Table1[[#This Row],[QTY]]*Table1[[#This Row],['# of Books]]","v":0},{"$f":"Table1[[#This Row],[QTY]]*Table1[[#This Row],[School & Library Price]]","v":0}]
[null,null,null,48,"Sizzling Celebrities","Demi!: Latina Star Demi Lovato",1,"eBook","978-0-7660-5804-0",2014,"August 2013",null,"Author","Jeff Burlingame",6.3,1,null,null,"R","960L","Grade 4 - 6","Grade 4 - 8","Another title in the SIZZLING CELEBRITIES series, DEMI! explores this talented singer and actress' life, and struggles with bipolar disorder. Find out about her early acting days on Barney and Friends with Selena Gomez to being \"discovered\" by Disney to her Stay Strong special on MTV. ","English",25.27,18.95,"792.02","48 pp.",{"$f":"Table1[[#This Row],[QTY]]*Table1[[#This Row],['# of Books]]","v":0},{"$f":"Table1[[#This Row],[QTY]]*Table1[[#This Row],[School & Library Price]]","v":0}]
[null,null,null,48,"Sizzling Celebrities","Drake!: Hip-Hop Celebrity",1,"Library Bound Book","978-0-7660-4168-4",2014,"August 2013","7.500 X 9.000","Author","Ally Azzarelli",5.0999999999999996,1,null,null,"S","820L","Grade 4 - 6","Grade 4 - 8","Drake, the Canadian rapper, actually began in television, on the teen drama DEGRASSI: THE NEXT GENERATION. Read about his rise to stardom, and his friends, family, and fans. Find out what motivates him, and his plans for the future. ","English",25.27,18.95,"782.4216491","48 pp.",{"$f":"Table1[[#This Row],[QTY]]*Table1[[#This Row],['# of Books]]","v":0},{"$f":"Table1[[#This Row],[QTY]]*Table1[[#This Row],[School & Library Price]]","v":0}]
[null,null,null,48,"Sizzling Celebrities","Drake!: Hip-Hop Celebrity",1,"eBook","978-0-7660-5803-3",2014,"August 2013",null,"Author","Ally Azzarelli",5.0999999999999996,1,null,null,"S","820L","Grade 4 - 6","Grade 4 - 8","Drake, the Canadian rapper, actually began in television, on the teen drama DEGRASSI: THE NEXT GENERATION. Read about his rise to stardom, and his friends, family, and fans. Find out what motivates him, and his plans for the future. ","English",25.27,18.95,"782.4216491","48 pp.",{"$f":"Table1[[#This Row],[QTY]]*Table1[[#This Row],['# of Books]]","v":0},{"$f":"Table1[[#This Row],[QTY]]*Table1[[#This Row],[School & Library Price]]","v":0}]
[null,null,null,48,"Sizzling Celebrities","Emma!: Amazing Actress Emma Stone",1,"Library Bound Book","978-0-7660-4113-4",2014,"August 2013","7.500 X 9.000","Author","Michael A. Schuman",6.2,1,null,null,"S","930L","Grade 4 - 6","Grade 4 - 8","Actress and Trailblazer Emma Stone is rapidly becoming one of Hollywood's leading ladies. Read all acting career in this engaging title from Michael A. Schuman. EMMA! explores her life in Arizona, her rise to fame, and her future plans. ","English",25.27,18.95,"791.4302","48 pp.",{"$f":"Table1[[#This Row],[QTY]]*Table1[[#This Row],['# of Books]]","v":0},{"$f":"Table1[[#This Row],[QTY]]*Table1[[#This Row],[School & Library Price]]","v":0}]
[null,null,null,48,"Sizzling Celebrities","Emma!: Amazing Actress Emma Stone",1,"eBook","978-0-7660-5716-6",2014,"August 2013",null,"Author","Michael A. Schuman",6.2,1,null,null,"S","930L","Grade 4 - 6","Grade 4 - 8","Actress and Trailblazer Emma Stone is rapidly becoming one of Hollywood's leading ladies. Read all acting career in this engaging title from Michael A. Schuman. EMMA! explores her life in Arizona, her rise to fame, and her future plans. ","English",25.27,18.95,"791.4302","48 pp.",{"$f":"Table1[[#This Row],[QTY]]*Table1[[#This Row],['# of Books]]","v":0},{"$f":"Table1[[#This Row],[QTY]]*Table1[[#This Row],[School & Library Price]]","v":0}]
[null,null,null,48,"Sizzling Celebrities","Jennifer!: Film Star Jennifer Lawrence",1,"Library Bound Book","978-0-7660-4170-7",2014,"August 2013","7.500 X 9.000","Author","Jeff Burlingame",6.2,1,null,null,"S","940L","Grade 4 - 6","Grade 4 - 8","Jennifer Lawrence was nominated for her first Academy Award at 20 years old. Her determination and drive have seen her go from modeling to acting in some of the biggest blockbusters in recent years. Find out what her future plans are, and how she became such an amazing actress. ","English",25.27,18.95,"791.4302","48 pp.",{"$f":"Table1[[#This Row],[QTY]]*Table1[[#This Row],['# of Books]]","v":0},{"$f":"Table1[[#This Row],[QTY]]*Table1[[#This Row],[School & Library Price]]","v":0}]
[null,null,null,48,"Sizzling Celebrities","Jennifer!: Film Star Jennifer Lawrence",1,"eBook","978-0-7660-5805-7",2014,"August 2013",null,"Author","Jeff Burlingame",6.2,1,null,null,"S","940L","Grade 4 - 6","Grade 4 - 8","Jennifer Lawrence was nominated for her first Academy Award at 20 years old. Her determination and drive have seen her go from modeling to acting in some of the biggest blockbusters in recent years. Find out what her future plans are, and how she became such an amazing actress. ","English",25.27,18.95,"791.4302","48 pp.",{"$f":"Table1[[#This Row],[QTY]]*Table1[[#This Row],['# of Books]]","v":0},{"$f":"Table1[[#This Row],[QTY]]*Table1[[#This Row],[School & Library Price]]","v":0}]
[null,null,null,48,"Sizzling Celebrities","Josh!: Leading Man Josh Hutcherson",1,"Library Bound Book","978-0-7660-4200-1",2014,"August 2013","7.500 X 9.000","Author","Sherri Mabry Gordon",6.4,1,null,null,"S","1030L","Grade 4 - 6","Grade 4 - 8","Considered one of today's hottest young actors, Josh Hutcherson took Hollywood and the world by storm with his performance in THE HUNGER GAMES. From the time that he was little, Josh knew that he wanted to be an actor, and he got his first role at age nine. Author Sherri Mabry Gordon explores Josh's acting career as well as his past and future plans. ","English",25.27,18.95,"791.4302","48 pp.",{"$f":"Table1[[#This Row],[QTY]]*Table1[[#This Row],['# of Books]]","v":0},{"$f":"Table1[[#This Row],[QTY]]*Table1[[#This Row],[School & Library Price]]","v":0}]
[null,null,null,48,"Sizzling Celebrities","Josh!: Leading Man Josh Hutcherson",1,"eBook","978-0-7660-5822-4",2014,"August 2013",null,"Author","Sherri Mabry Gordon",6.4,1,null,null,"S","1030L","Grade 4 - 6","Grade 4 - 8","Considered one of today's hottest young actors, Josh Hutcherson took Hollywood and the world by storm with his performance in THE HUNGER GAMES. From the time that he was little, Josh knew that he wanted to be an actor, and he got his first role at age nine. Author Sherri Mabry Gordon explores Josh's acting career as well as his past and future plans. ","English",25.27,18.95,"791.4302","48 pp.",{"$f":"Table1[[#This Row],[QTY]]*Table1[[#This Row],['# of Books]]","v":0},{"$f":"Table1[[#This Row],[QTY]]*Table1[[#This Row],[School & Library Price]]","v":0}]
[null,null,null,48,"Sizzling Celebrities","Logan!: Rising Star Logan Lerman",1,"Library Bound Book","978-0-7660-4171-4",2014,"August 2013","7.500 X 9.000","Author","Stephen Eldridge",6.8,1,null,null,"R","1020L","Grade 4 - 6","Grade 4 - 8","Signed by an agent when he was only four years old, Logan's dreams of becoming an actor began at an early age. Whether he's playing the future president of the United States or a demi-god, movies have always been an important part of Logan Lerman's life. In LOGAN! you'll read about his early acting roles, his rise to fame, and his plans for the future. ","English",25.27,18.95,"791.4302","48 pp.",{"$f":"Table1[[#This Row],[QTY]]*Table1[[#This Row],['# of Books]]","v":0},{"$f":"Table1[[#This Row],[QTY]]*Table1[[#This Row],[School & Library Price]]","v":0}]
[null,null,null,48,"Sizzling Celebrities","Logan!: Rising Star Logan Lerman",1,"eBook","978-0-7660-5806-4",2014,"August 2013",null,"Author","Stephen Eldridge",6.8,1,null,null,"R","1020L","Grade 4 - 6","Grade 4 - 8","Signed by an agent when he was only four years old, Logan's dreams of becoming an actor began at an early age. Whether he's playing the future president of the United States or a demi-god, movies have always been an important part of Logan Lerman's life. In LOGAN! you'll read about his early acting roles, his rise to fame, and his plans for the future. ","English",25.27,18.95,"791.4302","48 pp.",{"$f":"Table1[[#This Row],[QTY]]*Table1[[#This Row],['# of Books]]","v":0},{"$f":"Table1[[#This Row],[QTY]]*Table1[[#This Row],[School & Library Price]]","v":0}]
[null,null,null,48,"Sports Stars Who Care","Sports Stars Who Care",13,"Library Set","978-0-7660-8018-8",2012,"January 2011","7.500 X 9.000",null,null,null,null,null,null,null,null,"Grade 3 - 6","Grade 3 - 6",null,"English",328.51,246.35,null,"48 pp.",{"$f":"Table1[[#This Row],[QTY]]*Table1[[#This Row],['# of Books]]","v":0},{"$f":"Table1[[#This Row],[QTY]]*Table1[[#This Row],[School & Library Price]]","v":0}]
[null,null,null,48,"Sports Stars Who Care","Albert Pujols: A Baseball Star Who Cares",1,"Library Bound Book","978-0-7660-4228-5",2014,"January 2014","7.500 X 9.000","Author","Jeff C. Young",6.2,1,null,null,"O",null,"Grade 3 - ","Grade 3 - 5","Los Angeles Angels first baseman Albert Pujols has been called \"The Machine,\" as in the hitting machine! In his first 12 seasons, Pujols hit over 30 homers each year and over 100 RBIs in 11 of the 12. But he's just as productive off the field, having started the Pujols' Family Foundation. The foundation provides money and support to children with Down syndrome, as well as needy children in his native Dominican Republic. ","English",25.27,18.95,"796.357092","48 pp.",{"$f":"Table1[[#This Row],[QTY]]*Table1[[#This Row],['# of Books]]","v":0},{"$f":"Table1[[#This Row],[QTY]]*Table1[[#This Row],[School & Library Price]]","v":0}]
[null,null,null,48,"Sports Stars Who Care","Albert Pujols: A Baseball Star Who Cares",1,"eBook","978-0-7660-5851-4",2014,"January 2014",null,"Author","Jeff C. Young",6.2,1,null,null,"O",null,"Grade 3 - ","Grade 3 - 5","Los Angeles Angels first baseman Albert Pujols has been called \"The Machine,\" as in the hitting machine! In his first 12 seasons, Pujols hit over 30 homers each year and over 100 RBIs in 11 of the 12. But he's just as productive off the field, having started the Pujols' Family Foundation. The foundation provides money and support to children with Down syndrome, as well as needy children in his native Dominican Republic. ","English",25.27,18.95,"796.357092","48 pp.",{"$f":"Table1[[#This Row],[QTY]]*Table1[[#This Row],['# of Books]]","v":0},{"$f":"Table1[[#This Row],[QTY]]*Table1[[#This Row],[School & Library Price]]","v":0}]
[null,null,null,48,"Sports Stars Who Care","Dale Earnhardt, Jr.: A Car Racer Who Cares",1,"Library Bound Book","978-0-7660-3777-9",2011,"January 2011","7.500 X 9.000","Author","Ken Rappoport",4.4000000000000004,0.5,null,null,"O",null,"Grade 3 - ","Grade 3 - 5","In or out of his flaming red No. 8 car, Dale Earnhardt, Jr. is one of the most successful and recognized racecar drivers in the world today. Racing in the shadows of both his famous father and grandfather, Dale Jr. earned his place in the world of car racing. Away from the racetrack, he started the Dale Jr. Foundation to help kids in need reach their goals. ","English",25.27,18.95,"796.72092","48 pp.",{"$f":"Table1[[#This Row],[QTY]]*Table1[[#This Row],['# of Books]]","v":0},{"$f":"Table1[[#This Row],[QTY]]*Table1[[#This Row],[School & Library Price]]","v":0}]
[null,null,null,48,"Sports Stars Who Care","Dale Earnhardt, Jr.: A Car Racer Who Cares",1,"eBook","978-0-7660-5504-9",2011,"January 2011",null,"Author","Ken Rappoport",4.4000000000000004,0.5,null,null,"O",null,"Grade 3 - ","Grade 3 - 5","In or out of his flaming red No. 8 car, Dale Earnhardt, Jr. is one of the most successful and recognized racecar drivers in the world today. Racing in the shadows of both his famous father and grandfather, Dale Jr. earned his place in the world of car racing. Away from the racetrack, he started the Dale Jr. Foundation to help kids in need reach their goals. ","English",25.27,18.95,"796.72092","48 pp.",{"$f":"Table1[[#This Row],[QTY]]*Table1[[#This Row],['# of Books]]","v":0},{"$f":"Table1[[#This Row],[QTY]]*Table1[[#This Row],[School & Library Price]]","v":0}]
[null,null,null,48,"Sports Stars Who Care","David Wright: A Baseball Star Who Cares",1,"Library Bound Book","978-0-7660-3775-5",2011,"January 2011","7.500 X 9.000","Author","Ken Rappoport",4.2,0.5,null,null,"O",null,"Grade 3 - ","Grade 3 - 5","David Wright is living out his childhood dream, playing baseball for the team he grew up rooting for: The New York Mets. In addition to being an All-Star third baseman, he started his own charitable foundation in 2005 to help fight multiple sclerosis. ","English",25.27,18.95,"796.357092","48 pp.",{"$f":"Table1[[#This Row],[QTY]]*Table1[[#This Row],['# of Books]]","v":0},{"$f":"Table1[[#This Row],[QTY]]*Table1[[#This Row],[School & Library Price]]","v":0}]
[null,null,null,48,"Sports Stars Who Care","David Wright: A Baseball Star Who Cares",1,"eBook","978-0-7660-5494-3",2011,"January 2011",null,"Author","Ken Rappoport",4.2,0.5,null,null,"O",null,"Grade 3 - ","Grade 3 - 5","David Wright is living out his childhood dream, playing baseball for the team he grew up rooting for: The New York Mets. In addition to being an All-Star third baseman, he started his own charitable foundation in 2005 to help fight multiple sclerosis. ","English",25.27,18.95,"796.357092","48 pp.",{"$f":"Table1[[#This Row],[QTY]]*Table1[[#This Row],['# of Books]]","v":0},{"$f":"Table1[[#This Row],[QTY]]*Table1[[#This Row],[School & Library Price]]","v":0}]
[null,null,null,48,"Sports Stars Who Care","Derek Jeter: A Baseball Star Who Cares",1,"Library Bound Book","978-0-7660-4298-8",2014,"January 2014","7.500 X 9.000","Author","Kimberly Gatto",4.8,0.5,null,null,"O",null,"Grade 3 - ","Grade 3 - 5","Through his Turn 2 Foundation, Derek Jeter helps young people learn to live a healthier lifestyle. As captain of the Yankees, Jeter is considered one of the greatest leaders in the history of professional sports. Author Kimberly Gatto's profile of this star shortstop will help you get to know this superstar athlete and celebrity. ","English",25.27,18.95,"796.357092","48 pp.",{"$f":"Table1[[#This Row],[QTY]]*Table1[[#This Row],['# of Books]]","v":0},{"$f":"Table1[[#This Row],[QTY]]*Table1[[#This Row],[School & Library Price]]","v":0}]
[null,null,null,48,"Sports Stars Who Care","Derek Jeter: A Baseball Star Who Cares",1,"eBook","978-0-7660-5908-5",2014,"January 2014",null,"Author","Kimberly Gatto",4.8,0.5,null,null,"O",null,"Grade 3 - ","Grade 3 - 5","Through his Turn 2 Foundation, Derek Jeter helps young people learn to live a healthier lifestyle. As captain of the Yankees, Jeter is considered one of the greatest leaders in the history of professional sports. Author Kimberly Gatto's profile of this star shortstop will help you get to know this superstar athlete and celebrity. ","English",25.27,18.95,"796.357092","48 pp.",{"$f":"Table1[[#This Row],[QTY]]*Table1[[#This Row],['# of Books]]","v":0},{"$f":"Table1[[#This Row],[QTY]]*Table1[[#This Row],[School & Library Price]]","v":0}]
[null,null,null,48,"Sports Stars Who Care","Dwight Howard: A Basketball Star Who Cares",1,"Library Bound Book","978-0-7660-4294-0",2014,"January 2014","7.500 X 9.000","Author","John A. Torres",5.9,1,null,null,"O",null,"Grade 3 - ","Grade 3 - 5","On the basketball court, Lakers center Dwight Howard is intimidating. A three-time NBA Defensive Player of the Year, and a five-time selection to the All-NBA First Team, Howard is widely considered the best center in the game today. Off the court he's a role model, having started his own foundation and aid fund, as well as giving his time to many charitable causes. Find out how Howard became a star on and off the court. ","English",25.27,18.95,"796.323092","48 pp.",{"$f":"Table1[[#This Row],[QTY]]*Table1[[#This Row],['# of Books]]","v":0},{"$f":"Table1[[#This Row],[QTY]]*Table1[[#This Row],[School & Library Price]]","v":0}]
[null,null,null,48,"Sports Stars Who Care","Dwight Howard: A Basketball Star Who Cares",1,"eBook","978-0-7660-5904-7",2014,"January 2014",null,"Author","John A. Torres",5.9,1,null,null,"O",null,"Grade 3 - ","Grade 3 - 5","On the basketball court, Lakers center Dwight Howard is intimidating. A three-time NBA Defensive Player of the Year, and a five-time selection to the All-NBA First Team, Howard is widely considered the best center in the game today. Off the court he's a role model, having started his own foundation and aid fund, as well as giving his time to many charitable causes. Find out how Howard became a star on and off the court. ","English",25.27,18.95,"796.323092","48 pp.",{"$f":"Table1[[#This Row],[QTY]]*Table1[[#This Row],['# of Books]]","v":0},{"$f":"Table1[[#This Row],[QTY]]*Table1[[#This Row],[School & Library Price]]","v":0}]
[null,null,null,48,"Sports Stars Who Care","Eli Manning: A Football Star Who Cares",1,"Library Bound Book","978-0-7660-4300-8",2014,"January 2014","7.500 X 9.000","Author","Barry Wilner",5.9,1,null,null,"O",null,"Grade 3 - ","Grade 3 - 5","During the football season, Eli Manning spends his weekends heaving touchdown passes and leading the New York Giants to victory. In the offseason, one can argue that Manning is even more productive with all of his charitable work. With quotes directly from Manning himself, author Barry Wilner tells us why Eli Manning is a champion both between the lines and after the season is over. ","English",25.27,18.95,"796.332092","48 pp.",{"$f":"Table1[[#This Row],[QTY]]*Table1[[#This Row],['# of Books]]","v":0},{"$f":"Table1[[#This Row],[QTY]]*Table1[[#This Row],[School & Library Price]]","v":0}]
[null,null,null,48,"Sports Stars Who Care","Eli Manning: A Football Star Who Cares",1,"eBook","978-0-7660-5910-8",2014,"January 2014",null,"Author","Barry Wilner",5.9,1,null,null,"O",null,"Grade 3 - ","Grade 3 - 5","During the football season, Eli Manning spends his weekends heaving touchdown passes and leading the New York Giants to victory. In the offseason, one can argue that Manning is even more productive with all of his charitable work. With quotes directly from Manning himself, author Barry Wilner tells us why Eli Manning is a champion both between the lines and after the season is over. ","English",25.27,18.95,"796.332092","48 pp.",{"$f":"Table1[[#This Row],[QTY]]*Table1[[#This Row],['# of Books]]","v":0},{"$f":"Table1[[#This Row],[QTY]]*Table1[[#This Row],[School & Library Price]]","v":0}]
[null,null,null,48,"Sports Stars Who Care","Kevin Garnett: A Basketball Star Who Cares",1,"Library Bound Book","978-0-7660-3772-4",2011,"January 2011","7.500 X 9.000","Author","Kimberly Gatto",4.5999999999999996,1,null,null,"O",null,"Grade 3 - ","Grade 3 - 5","Kevin Garnett is the star forward for the Boston Celtics. With his ability to jumpshoot as well as play close to the hoop, Garnett is one of the most versatile and talented players in basketball. In addition to his skill on the court, he also has done important work away from the sport. Through his 4XL Foundation, Kevin helps teens prepare for careers in business. He also donated more than $1 million to help rebuild homes devastated by Hurricane Katrina. ","English",25.27,18.95,"796.323092","48 pp.",{"$f":"Table1[[#This Row],[QTY]]*Table1[[#This Row],['# of Books]]","v":0},{"$f":"Table1[[#This Row],[QTY]]*Table1[[#This Row],[School & Library Price]]","v":0}]
[null,null,null,48,"Sports Stars Who Care","Kevin Garnett: A Basketball Star Who Cares",1,"eBook","978-0-7660-4923-9",2011,"January 2011",null,"Author","Kimberly Gatto",4.5999999999999996,1,null,null,"O",null,"Grade 3 - ","Grade 3 - 5","Kevin Garnett is the star forward for the Boston Celtics. With his ability to jumpshoot as well as play close to the hoop, Garnett is one of the most versatile and talented players in basketball. In addition to his skill on the court, he also has done important work away from the sport. Through his 4XL Foundation, Kevin helps teens prepare for careers in business. He also donated more than $1 million to help rebuild homes devastated by Hurricane Katrina. ","English",25.27,18.95,"796.323092","48 pp.",{"$f":"Table1[[#This Row],[QTY]]*Table1[[#This Row],['# of Books]]","v":0},{"$f":"Table1[[#This Row],[QTY]]*Table1[[#This Row],[School & Library Price]]","v":0}]
[null,null,null,48,"Sports Stars Who Care","LeBron James: A Basketball Star Who Cares",1,"Library Bound Book","978-0-7660-3776-2",2011,"January 2011","7.500 X 9.000","Author","Kimberly Gatto",4.0999999999999996,0.5,null,null,"O","680L","Grade 3 - ","Grade 3 - 5","Lebron \"King\" James is basketball's biggest breakout star since Michael Jordan. A true media superstar whose appeal transcends sports, his free-agent move from the Cleveland Cavaliers to the Miami Heat rocked the news world in 2010. In addition to all of his accomplishments on the court, James has established the James Family Foundation to help children and single-parent families. ","English",25.27,18.95,"796.323092","48 pp.",{"$f":"Table1[[#This Row],[QTY]]*Table1[[#This Row],['# of Books]]","v":0},{"$f":"Table1[[#This Row],[QTY]]*Table1[[#This Row],[School & Library Price]]","v":0}]
[null,null,null,48,"Sports Stars Who Care","LeBron James: A Basketball Star Who Cares",1,"eBook","978-0-7660-4904-8",2011,"January 2011",null,"Author","Kimberly Gatto",4.0999999999999996,0.5,null,null,"O","680L","Grade 3 - ","Grade 3 - 5","Lebron \"King\" James is basketball's biggest breakout star since Michael Jordan. A true media superstar whose appeal transcends sports, his free-agent move from the Cleveland Cavaliers to the Miami Heat rocked the news world in 2010. In addition to all of his accomplishments on the court, James has established the James Family Foundation to help children and single-parent families. ","English",25.27,18.95,"796.323092","48 pp.",{"$f":"Table1[[#This Row],[QTY]]*Table1[[#This Row],['# of Books]]","v":0},{"$f":"Table1[[#This Row],[QTY]]*Table1[[#This Row],[School & Library Price]]","v":0}]
[null,null,null,48,"Sports Stars Who Care","Lionel Messi: A Soccer Star Who Cares",1,"Library Bound Book","978-0-7660-4299-5",2014,"January 2014","7.500 X 9.000","Author","Kimberly Gatto",4.4000000000000004,0.5,null,null,"P",null,"Grade 3 - ","Grade 3 - 5","Born in Argentina, soccer star Lionel Messi is most famous for being the best player on perhaps Spain's best team, FC Barcelona. During the 2011–12 season, Messi scored an astonishing 73 goals in 60 league games. When not on the pitch, Messi continues to amaze. Through his Leo Messi Foundation, he works to provide underprivileged children with access to education and healthcare. Readers will be both captivated by the action and touched by his rags-to-riches story. ","English",25.27,18.95,"796.334092","48 pp.",{"$f":"Table1[[#This Row],[QTY]]*Table1[[#This Row],['# of Books]]","v":0},{"$f":"Table1[[#This Row],[QTY]]*Table1[[#This Row],[School & Library Price]]","v":0}]
[null,null,null,48,"Sports Stars Who Care","Lionel Messi: A Soccer Star Who Cares",1,"eBook","978-0-7660-5909-2",2014,"January 2014",null,"Author","Kimberly Gatto",4.4000000000000004,0.5,null,null,"P",null,"Grade 3 - ","Grade 3 - 5","Born in Argentina, soccer star Lionel Messi is most famous for being the best player on perhaps Spain's best team, FC Barcelona. During the 2011–12 season, Messi scored an astonishing 73 goals in 60 league games. When not on the pitch, Messi continues to amaze. Through his Leo Messi Foundation, he works to provide underprivileged children with access to education and healthcare. Readers will be both captivated by the action and touched by his rags-to-riches story. ","English",25.27,18.95,"796.334092","48 pp.",{"$f":"Table1[[#This Row],[QTY]]*Table1[[#This Row],['# of Books]]","v":0},{"$f":"Table1[[#This Row],[QTY]]*Table1[[#This Row],[School & Library Price]]","v":0}]
[null,null,null,48,"Sports Stars Who Care","Peyton Manning: A Football Star Who Cares",1,"Library Bound Book","978-0-7660-3774-8",2011,"January 2011","7.500 X 9.000","Author","Barry Wilner",6.4,1,null,null,"P",null,"Grade 3 - ","Grade 3 - 5","Peyton Manning is arguably the greatest quarterback of all time and his career is still going strong. He is on pace to shatter every passing record in football history, which would mark him as one of the greatest athletes in U.S. sports history. Outside of football, Manning started his Peyback Foundation to help disadvantaged kids. ","English",25.27,18.95,"796.332092","48 pp.",{"$f":"Table1[[#This Row],[QTY]]*Table1[[#This Row],['# of Books]]","v":0},{"$f":"Table1[[#This Row],[QTY]]*Table1[[#This Row],[School & Library Price]]","v":0}]
[null,null,null,48,"Sports Stars Who Care","Peyton Manning: A Football Star Who Cares",1,"eBook","978-0-7660-4806-5",2011,"January 2011",null,"Author","Barry Wilner",6.4,1,null,null,"P",null,"Grade 3 - ","Grade 3 - 5","Peyton Manning is arguably the greatest quarterback of all time and his career is still going strong. He is on pace to shatter every passing record in football history, which would mark him as one of the greatest athletes in U.S. sports history. Outside of football, Manning started his Peyback Foundation to help disadvantaged kids. ","English",25.27,18.95,"796.332092","48 pp.",{"$f":"Table1[[#This Row],[QTY]]*Table1[[#This Row],['# of Books]]","v":0},{"$f":"Table1[[#This Row],[QTY]]*Table1[[#This Row],[School & Library Price]]","v":0}]
[null,null,null,48,"Sports Stars Who Care","Shaun White: A Snowboarder and Skateboarder Who Cares",1,"Library Bound Book","978-0-7660-4295-7",2014,"January 2014","7.500 X 9.000","Author","John A. Torres",5.5,1,null,null,"O",null,"Grade 3 - ","Grade 3 - 5","Whether he's flying up a half-pipe on his skateboard or whizzing through the air on a gold-medal snowboard run, Shaun White is one of the most exciting athletes in the world. In a competition, or making a public appearance, White's bright-red hair makes him hard to miss. Author John Albert Torres explains that there is more to White than his stunts and fame, such as his work with St. Jude's Children's Hospital and his goal to encourage kids to make healthier choices. ","English",25.27,18.95,"796.939092","48 pp.",{"$f":"Table1[[#This Row],[QTY]]*Table1[[#This Row],['# of Books]]","v":0},{"$f":"Table1[[#This Row],[QTY]]*Table1[[#This Row],[School & Library Price]]","v":0}]
[null,null,null,48,"Sports Stars Who Care","Shaun White: A Snowboarder and Skateboarder Who Cares",1,"eBook","978-0-7660-5905-4",2014,"January 2014",null,"Author","John A. Torres",5.5,1,null,null,"O",null,"Grade 3 - ","Grade 3 - 5","Whether he's flying up a half-pipe on his skateboard or whizzing through the air on a gold-medal snowboard run, Shaun White is one of the most exciting athletes in the world. In a competition, or making a public appearance, White's bright-red hair makes him hard to miss. Author John Albert Torres explains that there is more to White than his stunts and fame, such as his work with St. Jude's Children's Hospital and his goal to encourage kids to make healthier choices. ","English",25.27,18.95,"796.939092","48 pp.",{"$f":"Table1[[#This Row],[QTY]]*Table1[[#This Row],['# of Books]]","v":0},{"$f":"Table1[[#This Row],[QTY]]*Table1[[#This Row],[School & Library Price]]","v":0}]
[null,null,null,48,"Sports Stars Who Care","Tim Tebow: A Football Star Who Cares",1,"Library Bound Book","978-0-7660-4297-1",2014,"January 2014","7.500 X 9.000","Author","Ken Rappoport",4.9000000000000004,1,null,null,"O",null,"Grade 3 - ","Grade 3 - 5","When he scrambles out of the pocket, Tim Tebow makes incredible things happen on the football field. In Ken Rappoport's biography of Tebow, you will see that he does even more amazing things off the field. Having started a foundation while still in college, Tebow has continued his good works as a professional. ","English",25.27,18.95,"796.332092","48 pp.",{"$f":"Table1[[#This Row],[QTY]]*Table1[[#This Row],['# of Books]]","v":0},{"$f":"Table1[[#This Row],[QTY]]*Table1[[#This Row],[School & Library Price]]","v":0}]
[null,null,null,48,"Sports Stars Who Care","Tim Tebow: A Football Star Who Cares",1,"eBook","978-0-7660-5907-8",2014,"January 2014",null,"Author","Ken Rappoport",4.9000000000000004,1,null,null,"O",null,"Grade 3 - ","Grade 3 - 5","When he scrambles out of the pocket, Tim Tebow makes incredible things happen on the football field. In Ken Rappoport's biography of Tebow, you will see that he does even more amazing things off the field. Having started a foundation while still in college, Tebow has continued his good works as a professional. ","English",25.27,18.95,"796.332092","48 pp.",{"$f":"Table1[[#This Row],[QTY]]*Table1[[#This Row],['# of Books]]","v":0},{"$f":"Table1[[#This Row],[QTY]]*Table1[[#This Row],[School & Library Price]]","v":0}]
[null,null,null,48,"Sports Stars Who Care","Tom Brady: A Football Star Who Cares",1,"Library Bound Book","978-0-7660-3773-1",2011,"January 2011","7.500 X 9.000","Author","Barry Wilner",5.8,0.5,null,null,"P",null,"Grade 3 - ","Grade 3 - 5","After making a big splash by winning the Super Bowl in his first year as a starting quarterback, Tom Brady proved himself to be one of the all-time greats when he led the New England Patriots to victory in the big game again in two of the next three years. One of the biggest names in football, Brady also donates a great deal to charitable efforts, including the \"One Laptop Per Child\" effort in the African country of Uganda, and \"Best Buddies,\" a charity aiding the mentally and physically challenged. ","English",25.27,18.95,"796.332092","48 pp.",{"$f":"Table1[[#This Row],[QTY]]*Table1[[#This Row],['# of Books]]","v":0},{"$f":"Table1[[#This Row],[QTY]]*Table1[[#This Row],[School & Library Price]]","v":0}]
[null,null,null,48,"Sports Stars Who Care","Tom Brady: A Football Star Who Cares",1,"eBook","978-0-7660-4585-9",2011,"January 2011",null,"Author","Barry Wilner",5.8,0.5,null,null,"P",null,"Grade 3 - ","Grade 3 - 5","After making a big splash by winning the Super Bowl in his first year as a starting quarterback, Tom Brady proved himself to be one of the all-time greats when he led the New England Patriots to victory in the big game again in two of the next three years. One of the biggest names in football, Brady also donates a great deal to charitable efforts, including the \"One Laptop Per Child\" effort in the African country of Uganda, and \"Best Buddies,\" a charity aiding the mentally and physically challenged. ","English",25.27,18.95,"796.332092","48 pp.",{"$f":"Table1[[#This Row],[QTY]]*Table1[[#This Row],['# of Books]]","v":0},{"$f":"Table1[[#This Row],[QTY]]*Table1[[#This Row],[School & Library Price]]","v":0}]
[null,null,null,49,"The Baseball Geeks Adventures","The Baseball Geeks Adventures",4,"Library Set","978-0-7660-8019-5",2015,"August 2014","6.000 X 9.000",null,null,null,null,null,null,null,null,"Grade 3 - 6","Grade 3 - 6",null,"English",79.8,59.84,null,"96 pp.",{"$f":"Table1[[#This Row],[QTY]]*Table1[[#This Row],['# of Books]]","v":0},{"$f":"Table1[[#This Row],[QTY]]*Table1[[#This Row],[School & Library Price]]","v":0}]
[null,null,null,49,"The Baseball Geeks Adventures","A Hall Lot of Trouble at Cooperstown",1,"eBook","978-1-6228-5167-6",2015,"August 2014",null,"Author","David Aretha",null,null,null,null,"N","620L","Grade 4 - 6","Grade 4 - 8","Author David Aretha introduces readers to the “baseball geeks” characters: Joe, Kevin, and Omar. In their first adventure, they find themselves in a crazy situation when they find out one of their family members stole something extremely important from the Baseball Hall of Fame. How are the baseball geeks going to fix this when they live in Ohio and the Hall of Fame is in New York?","English",34.6,25.95,"FIC","96 pp.",{"$f":"Table1[[#This Row],[QTY]]*Table1[[#This Row],['# of Books]]","v":0},{"$f":"Table1[[#This Row],[QTY]]*Table1[[#This Row],[School & Library Price]]","v":0}]
[null,null,null,49,"The Baseball Geeks Adventures","Bossing the Bronx Bombers at Yankee Stadium: The Baseball Geeks Adventures Book 4",1,"eBook","978-1-6228-5170-6",2015,"August 2014",null,"Author","David Aretha",null,null,null,null,"N","760L","Grade 4 - 6","Grade 4 - 8","After being invited to watch a game at Yankee Stadium in one of the luxury suites, the baseball geeks find themselves bringing good luck to the Yankees…well sort of. But will they be able to get out of New York before their luck runs out, or will they end up getting people hurt…like themselves? ","English",34.6,25.95,"FIC","96 pp.",{"$f":"Table1[[#This Row],[QTY]]*Table1[[#This Row],['# of Books]]","v":0},{"$f":"Table1[[#This Row],[QTY]]*Table1[[#This Row],[School & Library Price]]","v":0}]
[null,null,null,49,"The Baseball Geeks Adventures","Foul Ball Frame-up at Wrigley Field: The Baseball Geeks Adventures Book 2",1,"eBook","978-1-6228-5168-3",2015,"August 2014",null,"Author","David Aretha",null,null,null,null,"N","680L","Grade 4 - 6","Grade 4 - 8","The baseball geeks are back at it again in this second installment from David Aretha. When Omar’s dad takes the boys to Wrigley Field to see a Chicago Cubs game, the geeks find themselves in a big mess when Omar gets blamed for something he didn’t do. Is Omar going to be the newest curse in the Cubs’ history, or will Kevin and Joe save their best friend from having to hide forever? ","English",34.6,25.95,"FIC","96 pp.",{"$f":"Table1[[#This Row],[QTY]]*Table1[[#This Row],['# of Books]]","v":0},{"$f":"Table1[[#This Row],[QTY]]*Table1[[#This Row],[School & Library Price]]","v":0}]
[null,null,null,49,"The Baseball Geeks Adventures","The Treasure Hunt Stunt at Fenway Park: The Baseball Geeks Adventures Book 3",1,"eBook","978-1-6228-5169-0",2015,"August 2014",null,"Author","David Aretha",null,null,null,null,"N","710L","Grade 4 - 6","Grade 4 - 8","The baseball geeks have become celebrities and are going to appear on a television show at Fenway Park. With the chance to win a huge prize, the geeks must find a way to beat all of their opponents, especially the Little League Champs. Will the geeks be able to outsmart AND outrun their opponents before they lose their chance at a once-in-a-lifetime prize?","English",34.6,25.95,"FIC","96 pp.",{"$f":"Table1[[#This Row],[QTY]]*Table1[[#This Row],['# of Books]]","v":0},{"$f":"Table1[[#This Row],[QTY]]*Table1[[#This Row],[School & Library Price]]","v":0}]
[null,null,null,49,"The Baseball Geeks Adventures","A Hall Lot of Trouble at Cooperstown",1,"Library Bound Book","978-1-6228-5118-8",2015,"August 2014","6.000 X 9.000","Author","David Aretha",null,null,null,null,"N","620L","Grade 4 - 6","Grade 4 - 8","Author David Aretha introduces readers to the “baseball geeks” characters: Joe, Kevin, and Omar. In their first adventure, they find themselves in a crazy situation when they find out one of their family members stole something extremely important from the Baseball Hall of Fame. How are the baseball geeks going to fix this when they live in Ohio and the Hall of Fame is in New York?","English",19.95,14.96,"FIC","96 pp.",{"$f":"Table1[[#This Row],[QTY]]*Table1[[#This Row],['# of Books]]","v":0},{"$f":"Table1[[#This Row],[QTY]]*Table1[[#This Row],[School & Library Price]]","v":0}]
[null,null,null,49,"The Baseball Geeks Adventures","Bossing the Bronx Bombers at Yankee Stadium: The Baseball Geeks Adventures Book 4",1,"Library Bound Book","978-1-6228-5133-1",2015,"August 2014","6.000 X 9.000","Author","David Aretha",null,null,null,null,"N","760L","Grade 4 - 6","Grade 4 - 8","After being invited to watch a game at Yankee Stadium in one of the luxury suites, the baseball geeks find themselves bringing good luck to the Yankees…well sort of. But will they be able to get out of New York before their luck runs out, or will they end up getting people hurt…like themselves? ","English",19.95,14.96,"FIC","96 pp.",{"$f":"Table1[[#This Row],[QTY]]*Table1[[#This Row],['# of Books]]","v":0},{"$f":"Table1[[#This Row],[QTY]]*Table1[[#This Row],[School & Library Price]]","v":0}]
[null,null,null,49,"The Baseball Geeks Adventures","Foul Ball Frame-up at Wrigley Field: The Baseball Geeks Adventures Book 2",1,"Library Bound Book","978-1-6228-5123-2",2015,"August 2014","6.000 X 9.000","Author","David Aretha",null,null,null,null,"N","680L","Grade 4 - 6","Grade 4 - 8","The baseball geeks are back at it again in this second installment from David Aretha. When Omar’s dad takes the boys to Wrigley Field to see a Chicago Cubs game, the geeks find themselves in a big mess when Omar gets blamed for something he didn’t do. Is Omar going to be the newest curse in the Cubs’ history, or will Kevin and Joe save their best friend from having to hide forever? ","English",19.95,14.96,"FIC","96 pp.",{"$f":"Table1[[#This Row],[QTY]]*Table1[[#This Row],['# of Books]]","v":0},{"$f":"Table1[[#This Row],[QTY]]*Table1[[#This Row],[School & Library Price]]","v":0}]
[null,null,null,49,"The Baseball Geeks Adventures","The Treasure Hunt Stunt at Fenway Park: The Baseball Geeks Adventures Book 3",1,"Library Bound Book","978-1-6228-5128-7",2015,"August 2014","6.000 X 9.000","Author","David Aretha",null,null,null,null,"N","710L","Grade 4 - 6","Grade 4 - 8","The baseball geeks have become celebrities and are going to appear on a television show at Fenway Park. With the chance to win a huge prize, the geeks must find a way to beat all of their opponents, especially the Little League Champs. Will the geeks be able to outsmart AND outrun their opponents before they lose their chance at a once-in-a-lifetime prize?","English",19.95,14.96,"FIC","96 pp.",{"$f":"Table1[[#This Row],[QTY]]*Table1[[#This Row],['# of Books]]","v":0},{"$f":"Table1[[#This Row],[QTY]]*Table1[[#This Row],[School & Library Price]]","v":0}]
[null,null,null,50,"Zombie Zappers","Zombie Field Day: Zombie Zappers Book 2",1,"Library Bound Book","978-1-6228-5005-1",2014,"January 2014","5.250 X 7.500","Author","Nadia Higgins",4.0999999999999996,null,null,null,"O","630L","Grade 5 - 7","Grade 5 - 9","Readers follow the Zombie Zappers back at school for the next round of zombie mayhem. When Rotfield Middle School students start turning into zombies, Leo and his friends are the only ones who might be able to save them. Can they discover the cause of this outbreak before it's too late?","English",16.95,12.71,"FIC","64 pp.",{"$f":"Table1[[#This Row],[QTY]]*Table1[[#This Row],['# of Books]]","v":0},{"$f":"Table1[[#This Row],[QTY]]*Table1[[#This Row],[School & Library Price]]","v":0}]
[null,null,null,50,"Zombie Zappers","Zombie Field Day: Zombie Zappers Book 2",1,"eBook","978-1-6228-5144-7",2014,"January 2014",null,"Author","Nadia Higgins",4.0999999999999996,null,null,null,"O","630L","Grade 5 - 7","Grade 5 - 9","Readers follow the Zombie Zappers back at school for the next round of zombie mayhem. When Rotfield Middle School students start turning into zombies, Leo and his friends are the only ones who might be able to save them. Can they discover the cause of this outbreak before it's too late?","English",27.93,20.95,"FIC","64 pp.",{"$f":"Table1[[#This Row],[QTY]]*Table1[[#This Row],['# of Books]]","v":0},{"$f":"Table1[[#This Row],[QTY]]*Table1[[#This Row],[School & Library Price]]","v":0}]
[null,null,null,50,"Zombie Zappers","The Zombie Next Door: Zombie Zappers Book 3",1,"Library Bound Book","978-1-6228-5010-5",2014,"January 2014","5.250 X 7.500","Author","Nadia Higgins",3.9,null,null,null,"O","610L","Grade 5 - 7","Grade 5 - 9","Creepy is too close for comfort. Leo is convinced his next-door neighbor, Mr. Smith, is a zombie. But in Rotfield, things aren't always what they seem. When a terrible incident happens to Mr. Smith, Leo realizes it's his fault. He and Chad try their best to make things right. But something about Mr. Smith seems very wrong. The boys are sure he's hiding something. Will they learn his deepest, darkest secret?","English",16.95,12.71,"FIC","64 pp.",{"$f":"Table1[[#This Row],[QTY]]*Table1[[#This Row],['# of Books]]","v":0},{"$f":"Table1[[#This Row],[QTY]]*Table1[[#This Row],[School & Library Price]]","v":0}]
[null,null,null,50,"Zombie Zappers","The Zombie Next Door: Zombie Zappers Book 3",1,"eBook","978-1-6228-5145-4",2014,"January 2014",null,"Author","Nadia Higgins",3.9,null,null,null,"O","610L","Grade 5 - 7","Grade 5 - 9","Creepy is too close for comfort. Leo is convinced his next-door neighbor, Mr. Smith, is a zombie. But in Rotfield, things aren't always what they seem. When a terrible incident happens to Mr. Smith, Leo realizes it's his fault. He and Chad try their best to make things right. But something about Mr. Smith seems very wrong. The boys are sure he's hiding something. Will they learn his deepest, darkest secret?","English",27.93,20.95,"FIC","64 pp.",{"$f":"Table1[[#This Row],[QTY]]*Table1[[#This Row],['# of Books]]","v":0},{"$f":"Table1[[#This Row],[QTY]]*Table1[[#This Row],[School & Library Price]]","v":0}]
[null,null,null,50,"Zombie Zappers","Down, Zombie, Down!: Zombie Zappers Book 4",1,"Library Bound Book","978-1-6228-5015-0",2014,"January 2014","5.250 X 7.500","Author","Nadia Higgins",3.8,null,null,null,"O","590L","Grade 5 - 7","Grade 5 - 9","Who let the zombies out? Leo is hurt when Chad starts spending all his time with Jeremy. Only his family's new dog, Tina, can make him feel better. She's been acting funny lately, and she's not the only one. The Zombie Zappers soon realize Rotfield is facing a rare zombie epidemic. Leo and the rest of the gang won't be able to save their town without the help of Chad's new best friend.","English",16.95,12.71,"FIC","64 pp.",{"$f":"Table1[[#This Row],[QTY]]*Table1[[#This Row],['# of Books]]","v":0},{"$f":"Table1[[#This Row],[QTY]]*Table1[[#This Row],[School & Library Price]]","v":0}]
[null,null,null,50,"Zombie Zappers","Down, Zombie, Down!: Zombie Zappers Book 4",1,"eBook","978-1-6228-5146-1",2014,"January 2014",null,"Author","Nadia Higgins",3.8,null,null,null,"O","590L","Grade 5 - 7","Grade 5 - 9","Who let the zombies out? Leo is hurt when Chad starts spending all his time with Jeremy. Only his family's new dog, Tina, can make him feel better. She's been acting funny lately, and she's not the only one. The Zombie Zappers soon realize Rotfield is facing a rare zombie epidemic. Leo and the rest of the gang won't be able to save their town without the help of Chad's new best friend.","English",27.93,20.95,"FIC","64 pp.",{"$f":"Table1[[#This Row],[QTY]]*Table1[[#This Row],['# of Books]]","v":0},{"$f":"Table1[[#This Row],[QTY]]*Table1[[#This Row],[School & Library Price]]","v":0}]
[null,null,null,50,"The Briny Deep Mysteries","The Briny Deep Mysteries",3,"Library Set","978-0-7660-8020-1",2015,"August 2014","6.000 X 9.000",null,null,null,null,null,null,null,null,"Grade 3 - 6","Grade 3 - 6",null,"English",59.85,44.88,null,"96 pp.",{"$f":"Table1[[#This Row],[QTY]]*Table1[[#This Row],['# of Books]]","v":0},{"$f":"Table1[[#This Row],[QTY]]*Table1[[#This Row],[School & Library Price]]","v":0}]
[null,null,null,50,"The Briny Deep Mysteries","The Disappearing: The Briny Deep Mysteries Book 1",1,"Library Bound Book","978-1-6228-5172-0",2015,"August 2014","6.000 X 9.000","Author","Jennifer Torres",null,null,null,null,"Q","740L","Grade 4 - 6","Grade 4 - 8","Other than a strange, recurring dream that involves running for his life, Tim is a happy guy. In this paranormal mystery, Jennifer Torres introduces us to the seaside town of Briny Deep; an ideal spot to grow up for Tim and his close friends: Max, Emily, Luke, and Nina. Nothing bad ever happens here, until a stranger appears in town and a young girl vanishes, and then others disappear. The friends must scramble to uncover the truth as they begin to wonder if those closest to them have been hiding something unimaginable.","English",19.95,14.96,"FIC","96 pp.",{"$f":"Table1[[#This Row],[QTY]]*Table1[[#This Row],['# of Books]]","v":0},{"$f":"Table1[[#This Row],[QTY]]*Table1[[#This Row],[School & Library Price]]","v":0}]
[null,null,null,50,"The Briny Deep Mysteries","The Disappearing: The Briny Deep Mysteries Book 1",1,"eBook","978-1-6228-5176-8",2015,"August 2014",null,"Author","Jennifer Torres",null,null,null,null,"Q","740L","Grade 4 - 6","Grade 4 - 8","Other than a strange, recurring dream that involves running for his life, Tim is a happy guy. In this paranormal mystery, Jennifer Torres introduces us to the seaside town of Briny Deep; an ideal spot to grow up for Tim and his close friends: Max, Emily, Luke, and Nina. Nothing bad ever happens here, until a stranger appears in town and a young girl vanishes, and then others disappear. The friends must scramble to uncover the truth as they begin to wonder if those closest to them have been hiding something unimaginable.","English",34.6,25.95,"FIC","96 pp.",{"$f":"Table1[[#This Row],[QTY]]*Table1[[#This Row],['# of Books]]","v":0},{"$f":"Table1[[#This Row],[QTY]]*Table1[[#This Row],[School & Library Price]]","v":0}]
[null,null,null,50,"The Briny Deep Mysteries","The Return: The Briny Deep Mysteries Book 2",1,"Library Bound Book","978-1-6228-5181-2",2015,"August 2014","6.000 X 9.000","Author","Jennifer Torres",null,null,null,null,"Q","760L","Grade 4 - 6","Grade 4 - 8","Life is anything but normal in the small seaside town of Briny Deep. As the mystery of the missing kids remains unsolved, Tim vows to find answers. With the help of his friends, the group must bravely search the town for clues, but someone close to them may be hiding the biggest secret of all. Briny Deep is no longer the place that Tim and his friends once knew.","English",19.95,14.96,"FIC","96 pp.",{"$f":"Table1[[#This Row],[QTY]]*Table1[[#This Row],['# of Books]]","v":0},{"$f":"Table1[[#This Row],[QTY]]*Table1[[#This Row],[School & Library Price]]","v":0}]
[null,null,null,50,"The Briny Deep Mysteries","The Return: The Briny Deep Mysteries Book 2",1,"eBook","978-1-6228-5185-0",2015,"August 2014",null,"Author","Jennifer Torres",null,null,null,null,"Q","760L","Grade 4 - 6","Grade 4 - 8","Life is anything but normal in the small seaside town of Briny Deep. As the mystery of the missing kids remains unsolved, Tim vows to find answers. With the help of his friends, the group must bravely search the town for clues, but someone close to them may be hiding the biggest secret of all. Briny Deep is no longer the place that Tim and his friends once knew.","English",34.6,25.95,"FIC","96 pp.",{"$f":"Table1[[#This Row],[QTY]]*Table1[[#This Row],['# of Books]]","v":0},{"$f":"Table1[[#This Row],[QTY]]*Table1[[#This Row],[School & Library Price]]","v":0}]
[null,null,null,50,"The Briny Deep Mysteries","The Battle: The Briny Deep Mysteries Book 3",1,"Library Bound Book","978-1-6228-5186-7",2015,"August 2014","6.000 X 9.000","Author","Jennifer Torres",null,null,null,null,"Q","670L","Grade 4 - 6","Grade 4 - 8","With the secret of Briny Deep finally exposed, Tim and his friends must run for their lives. Their journey will take them far away to a strange land where more incredible surprises await. And as a war between two distant lands begins to erupt, Tim must have the courage to dig deeper than he ever has before. ","English",19.95,14.96,"FIC","96 pp.",{"$f":"Table1[[#This Row],[QTY]]*Table1[[#This Row],['# of Books]]","v":0},{"$f":"Table1[[#This Row],[QTY]]*Table1[[#This Row],[School & Library Price]]","v":0}]
[null,null,null,50,"The Briny Deep Mysteries","The Battle: The Briny Deep Mysteries Book 3",1,"eBook","978-1-6228-5190-4",2015,"August 2014",null,"Author","Jennifer Torres",null,null,null,null,"Q","670L","Grade 4 - 6","Grade 4 - 8","With the secret of Briny Deep finally exposed, Tim and his friends must run for their lives. Their journey will take them far away to a strange land where more incredible surprises await. And as a war between two distant lands begins to erupt, Tim must have the courage to dig deeper than he ever has before. ","English",34.6,25.95,"FIC","96 pp.",{"$f":"Table1[[#This Row],[QTY]]*Table1[[#This Row],['# of Books]]","v":0},{"$f":"Table1[[#This Row],[QTY]]*Table1[[#This Row],[School & Library Price]]","v":0}]
[null,null,null,51,"Online Smarts","Online Smarts",6,"Library Set","978-0-7660-6684-7",2016,"August 2015","7.125 X 8.500",null,null,null,null,null,null,null,null,"Grade 3 - 4","Grade 3 - 5","Although children are considered digital natives, savvy Internet skills are learned behaviors. Through friendly, accessible, age-appropriate language, readers learn the best practices for online behavior that will serve them well as they progress through school and life.\n\n\n\n-\"Safety Tips\" reinforce smart online conduct\n\n-Suggestions for nonfiction and fiction books, and Web sites for additional information\n\n-\"Words to Know\" prepares readers to understand new vocabulary terms\n\n","English",151.62,113.7,null,"32 pp.",{"$f":"Table1[[#This Row],[QTY]]*Table1[[#This Row],['# of Books]]","v":0},{"$f":"Table1[[#This Row],[QTY]]*Table1[[#This Row],[School & Library Price]]","v":0}]
[null,null,null,51,"Online Smarts","How Do I Find Information Online?",1,"Library Bound Book","978-0-7660-6839-1",2016,"August 2015","7.125 X 8.500","Author","Tricia Yearling",null,null,null,null,"O",null,"Grade 3 - 4","Grade 3 - 5","Learn about search engines, reliable sources, and the best way to conduct research online. From online databases to Google, this book will teach you how to safely and effectively find the information you need online.","English",25.27,18.95,"025.0425—dc23","32 pp.",{"$f":"Table1[[#This Row],[QTY]]*Table1[[#This Row],['# of Books]]","v":0},{"$f":"Table1[[#This Row],[QTY]]*Table1[[#This Row],[School & Library Price]]","v":0}]
[null,null,null,51,"Online Smarts","How Do I Find Information Online?",1,"eBook","978-0-7660-6840-7",2016,"August 2015",null,"Author","Tricia Yearling",null,null,null,null,"O",null,"Grade 3 - 4","Grade 3 - 5","Learn about search engines, reliable sources, and the best way to conduct research online. From online databases to Google, this book will teach you how to safely and effectively find the information you need online.","English",25.27,18.95,"025.0425—dc23","32 pp.",{"$f":"Table1[[#This Row],[QTY]]*Table1[[#This Row],['# of Books]]","v":0},{"$f":"Table1[[#This Row],[QTY]]*Table1[[#This Row],[School & Library Price]]","v":0}]
[null,null,null,51,"Online Smarts","How Do I Keep My Privacy Online?",1,"Library Bound Book","978-0-7660-6843-8",2016,"August 2015","7.125 X 8.500","Author","Tricia Yearling",null,null,null,null,"P",null,"Grade 3 - 4","Grade 3 - 5","Between social media, instant messaging, and e-mail, it can be difficult to maintain privacy online. This book will give you key tips and tricks to maintain your privacy and keep your information safe.","English",25.27,18.95,"005.8—dc23","32 pp.",{"$f":"Table1[[#This Row],[QTY]]*Table1[[#This Row],['# of Books]]","v":0},{"$f":"Table1[[#This Row],[QTY]]*Table1[[#This Row],[School & Library Price]]","v":0}]
[null,null,null,51,"Online Smarts","How Do I Keep My Privacy Online?",1,"eBook","978-0-7660-6844-5",2016,"August 2015",null,"Author","Tricia Yearling",null,null,null,null,"P",null,"Grade 3 - 4","Grade 3 - 5","Between social media, instant messaging, and e-mail, it can be difficult to maintain privacy online. This book will give you key tips and tricks to maintain your privacy and keep your information safe.","English",25.27,18.95,"005.8—dc23","32 pp.",{"$f":"Table1[[#This Row],[QTY]]*Table1[[#This Row],['# of Books]]","v":0},{"$f":"Table1[[#This Row],[QTY]]*Table1[[#This Row],[School & Library Price]]","v":0}]
[null,null,null,51,"Online Smarts","How Do I Play Games Online?",1,"Library Bound Book","978-0-7660-6847-6",2016,"August 2015","7.125 X 8.500","Author","Tricia Yearling",null,null,null,null,"O",null,"Grade 3 - 4","Grade 3 - 5","Between computers, mobile devices, and gaming systems, it has never been easier to play games online. There is a game for every interest, skill set, and personality. This book will show you ways to play and how to stay safe while doing so. Playing online has never been more fun!","English",25.27,18.95,"004.67’8083—dc23","32 pp.",{"$f":"Table1[[#This Row],[QTY]]*Table1[[#This Row],['# of Books]]","v":0},{"$f":"Table1[[#This Row],[QTY]]*Table1[[#This Row],[School & Library Price]]","v":0}]
[null,null,null,51,"Online Smarts","How Do I Play Games Online?",1,"eBook","978-0-7660-6848-3",2016,"August 2015",null,"Author","Tricia Yearling",null,null,null,null,"O",null,"Grade 3 - 4","Grade 3 - 5","Between computers, mobile devices, and gaming systems, it has never been easier to play games online. There is a game for every interest, skill set, and personality. This book will show you ways to play and how to stay safe while doing so. Playing online has never been more fun!","English",25.27,18.95,"004.67’8083—dc23","32 pp.",{"$f":"Table1[[#This Row],[QTY]]*Table1[[#This Row],['# of Books]]","v":0},{"$f":"Table1[[#This Row],[QTY]]*Table1[[#This Row],[School & Library Price]]","v":0}]
[null,null,null,51,"Online Smarts","How Do I Stay Safe From Cyberbullies?",1,"Library Bound Book","978-0-7660-6851-3",2016,"August 2015","7.125 X 8.500","Author","Tricia Yearling",null,null,null,null,"P",null,"Grade 3 - 4","Grade 3 - 5","Social media is a fun way to stay connected with friends and family, but it can also be a way to be connected with cyberbullies. Cyberbullies can make life miserable. This book teaches you how to protect yourself and how to stop a cyberbully.","English",25.27,18.95,"613.6—dc23","32 pp.",{"$f":"Table1[[#This Row],[QTY]]*Table1[[#This Row],['# of Books]]","v":0},{"$f":"Table1[[#This Row],[QTY]]*Table1[[#This Row],[School & Library Price]]","v":0}]
[null,null,null,51,"Online Smarts","How Do I Stay Safe From Cyberbullies?",1,"eBook","978-0-7660-6852-0",2016,"August 2015",null,"Author","Tricia Yearling",null,null,null,null,"P",null,"Grade 3 - 4","Grade 3 - 5","Social media is a fun way to stay connected with friends and family, but it can also be a way to be connected with cyberbullies. Cyberbullies can make life miserable. This book teaches you how to protect yourself and how to stop a cyberbully.","English",25.27,18.95,"613.6—dc23","32 pp.",{"$f":"Table1[[#This Row],[QTY]]*Table1[[#This Row],['# of Books]]","v":0},{"$f":"Table1[[#This Row],[QTY]]*Table1[[#This Row],[School & Library Price]]","v":0}]
[null,null,null,51,"Online Smarts","How Do I Stay Safe from Online Predators?",1,"Library Bound Book","978-0-7660-6854-4",2016,"August 2015","7.125 X 8.500","Author","Tricia Yearling",null,null,null,null,"O",null,"Grade 3 - 4","Grade 3 - 5","The Internet is great for entertainment, information, and keeping in touch with people who are far away. But it can also connect you to predators who could take advantage of you, or worse! This book teaches you how to stay safe from online predators.","English",25.27,18.95,"025.042028’9—dc23","32 pp.",{"$f":"Table1[[#This Row],[QTY]]*Table1[[#This Row],['# of Books]]","v":0},{"$f":"Table1[[#This Row],[QTY]]*Table1[[#This Row],[School & Library Price]]","v":0}]
[null,null,null,51,"Online Smarts","How Do I Stay Safe from Online Predators?",1,"eBook","978-0-7660-6855-1",2016,"August 2015",null,"Author","Tricia Yearling",null,null,null,null,"O",null,"Grade 3 - 4","Grade 3 - 5","The Internet is great for entertainment, information, and keeping in touch with people who are far away. But it can also connect you to predators who could take advantage of you, or worse! This book teaches you how to stay safe from online predators.","English",25.27,18.95,"025.042028’9—dc23","32 pp.",{"$f":"Table1[[#This Row],[QTY]]*Table1[[#This Row],['# of Books]]","v":0},{"$f":"Table1[[#This Row],[QTY]]*Table1[[#This Row],[School & Library Price]]","v":0}]
[null,null,null,51,"Online Smarts","How Do I Use Social Networking?",1,"Library Bound Book","978-0-7660-6858-2",2016,"August 2015","7.125 X 8.500","Author","Tricia Yearling",null,null,null,null,"P",null,"Grade 3 - 4","Grade 3 - 5","Most people are part of an online community. Social networking is a great way to stay in touch with friends, family, and neighbors. Learn about different social networking sites and how to use them safely.","English",25.27,18.95,"302.23’1—dc23","32 pp.",{"$f":"Table1[[#This Row],[QTY]]*Table1[[#This Row],['# of Books]]","v":0},{"$f":"Table1[[#This Row],[QTY]]*Table1[[#This Row],[School & Library Price]]","v":0}]
[null,null,null,51,"Online Smarts","How Do I Use Social Networking?",1,"eBook","978-0-7660-6859-9",2016,"August 2015",null,"Author","Tricia Yearling",null,null,null,null,"P",null,"Grade 3 - 4","Grade 3 - 5","Most people are part of an online community. Social networking is a great way to stay in touch with friends, family, and neighbors. Learn about different social networking sites and how to use them safely.","English",25.27,18.95,"302.23’1—dc23","32 pp.",{"$f":"Table1[[#This Row],[QTY]]*Table1[[#This Row],['# of Books]]","v":0},{"$f":"Table1[[#This Row],[QTY]]*Table1[[#This Row],[School & Library Price]]","v":0}]
[null,null,null,52,"True or False?","True or False?",4,"Library Set","978-0-7660-7497-2",2017,"August 2016","7.250 X 9.250",null,null,null,null,null,null,null,null,"Grade 3","Grade 3 - 5","A mouthful of seawater contains millions of organisms. No plants can grow in Antarctica. Sir Isaac Newton wrote his theory of relativity after an apple fell on his head. These are well-known facts. Or are they? Through clever language and fun information, readers can learn facts about history, animal science, the planet, outer space, and scientific breakthroughs. A quiz begins each chapter so readers can test their knowledge and then find out the answers. A score card in the back lets them compare with their friends and classmates. Colorful illustrations help these facts stay on the mind and will keep readers talking about weird science, heroes and heroines, and strange biology for a long time to come.","English",111.72,83.8,null,"48 pp.",{"$f":"Table1[[#This Row],[QTY]]*Table1[[#This Row],['# of Books]]","v":0},{"$f":"Table1[[#This Row],[QTY]]*Table1[[#This Row],[School & Library Price]]","v":0}]
[null,null,null,52,"True or False?","Attila the Hun Was Killed by a Nosebleed: And Other Facts About History",1,"Library Bound Book","978-0-7660-7726-3",2017,"August 2016","7.250 X 9.250","Author","Jan Payne",6.5,1,null,null,"S",null,"Grade 3","Grade 3 - 5","History is filled with interesting people, places, and events. Many have become commonly known, while others are still tall tales. Through engaging text enhanced by whimsical color illustrations and a fun quiz, students can test their knowledge of history.","English",27.93,20.95,"909--dc23","48 pp.",{"$f":"Table1[[#This Row],[QTY]]*Table1[[#This Row],['# of Books]]","v":0},{"$f":"Table1[[#This Row],[QTY]]*Table1[[#This Row],[School & Library Price]]","v":0}]
[null,null,null,52,"True or False?","Attila the Hun Was Killed by a Nosebleed: And Other Facts About History",1,"eBook","978-0-7660-7727-0",2017,"August 2016",null,"Author","Jan Payne",6.5,1,null,null,"S",null,"Grade 3","Grade 3 - 5","History is filled with interesting people, places, and events. Many have become commonly known, while others are still tall tales. Through engaging text enhanced by whimsical color illustrations and a fun quiz, students can test their knowledge of history.","English",27.93,20.95,"909--dc23","48 pp.",{"$f":"Table1[[#This Row],[QTY]]*Table1[[#This Row],['# of Books]]","v":0},{"$f":"Table1[[#This Row],[QTY]]*Table1[[#This Row],[School & Library Price]]","v":0}]
[null,null,null,52,"True or False?","It Can Rain Frogs and Fish: And Other Facts About Planet Earth",1,"Library Bound Book","978-0-7660-7736-2",2017,"August 2016","7.250 X 9.250","Author","Jan Payne",6.5,1,null,null,"S",null,"Grade 3","Grade 3 - 5","Earth is a mesmerizing place to live. Weather, climate, and the solar system surrounding it are filled with fascinating phenomena. Many are well known, while others are still hearsay. Through engaging text enhanced by whimsical color illustrations and a fun quiz, readers can test their knowledge of earth science.","English",27.93,20.95,"525--dc23","48 pp.",{"$f":"Table1[[#This Row],[QTY]]*Table1[[#This Row],['# of Books]]","v":0},{"$f":"Table1[[#This Row],[QTY]]*Table1[[#This Row],[School & Library Price]]","v":0}]
[null,null,null,52,"True or False?","It Can Rain Frogs and Fish: And Other Facts About Planet Earth",1,"eBook","978-0-7660-7737-9",2017,"August 2016",null,"Author","Jan Payne",6.5,1,null,null,"S",null,"Grade 3","Grade 3 - 5","Earth is a mesmerizing place to live. Weather, climate, and the solar system surrounding it are filled with fascinating phenomena. Many are well known, while others are still hearsay. Through engaging text enhanced by whimsical color illustrations and a fun quiz, readers can test their knowledge of earth science.","English",27.93,20.95,"525--dc23","48 pp.",{"$f":"Table1[[#This Row],[QTY]]*Table1[[#This Row],['# of Books]]","v":0},{"$f":"Table1[[#This Row],[QTY]]*Table1[[#This Row],[School & Library Price]]","v":0}]
[null,null,null,52,"True or False?","Penicillin Was Discovered by Accident: And Other Facts About Inventions and Discoveries",1,"Library Bound Book","978-0-7660-7742-3",2017,"August 2016","7.250 X 9.250","Author","Jan Payne",6.5,1,null,null,"T",null,"Grade 3","Grade 3 - 5","Science has made some incredible things possible. Many medications, technology, and scientific theory are well known, while others remain inventions of the imagination. Through engaging text enhanced by whimsical color illustrations and a fun quiz, readers can discover just how much they know about the history of science.","English",27.93,20.95,"609--dc23","48 pp.",{"$f":"Table1[[#This Row],[QTY]]*Table1[[#This Row],['# of Books]]","v":0},{"$f":"Table1[[#This Row],[QTY]]*Table1[[#This Row],[School & Library Price]]","v":0}]
[null,null,null,52,"True or False?","Penicillin Was Discovered by Accident: And Other Facts About Inventions and Discoveries",1,"eBook","978-0-7660-7921-2",2017,"August 2016",null,"Author","Jan Payne",6.5,1,null,null,"T",null,"Grade 3","Grade 3 - 5","Science has made some incredible things possible. Many medications, technology, and scientific theory are well known, while others remain inventions of the imagination. Through engaging text enhanced by whimsical color illustrations and a fun quiz, readers can discover just how much they know about the history of science.","English",27.93,20.95,"609--dc23","48 pp.",{"$f":"Table1[[#This Row],[QTY]]*Table1[[#This Row],['# of Books]]","v":0},{"$f":"Table1[[#This Row],[QTY]]*Table1[[#This Row],[School & Library Price]]","v":0}]
[null,null,null,52,"True or False?","Rabbits Eat Their Own Poop: And Other Facts About Animals",1,"Library Bound Book","978-0-7660-7730-0",2017,"August 2016","7.250 X 9.250","Author","Jan Payne",6,1,null,null,"T",null,"Grade 3","Grade 3 - 5","When broken down into their biological elements, people and animals are fascinating creatures that exhibit unique characteristics and go through very interesting life processes. Through engaging text enhanced by whimsical color illustrations and a fun quiz, students can discover just how much they know about animals.","English",27.93,20.95,"591.5--dc23","48 pp.",{"$f":"Table1[[#This Row],[QTY]]*Table1[[#This Row],['# of Books]]","v":0},{"$f":"Table1[[#This Row],[QTY]]*Table1[[#This Row],[School & Library Price]]","v":0}]
[null,null,null,52,"True or False?","Rabbits Eat Their Own Poop: And Other Facts About Animals",1,"eBook","978-0-7660-7731-7",2017,"August 2016",null,"Author","Jan Payne",6,1,null,null,"T",null,"Grade 3","Grade 3 - 5","When broken down into their biological elements, people and animals are fascinating creatures that exhibit unique characteristics and go through very interesting life processes. Through engaging text enhanced by whimsical color illustrations and a fun quiz, students can discover just how much they know about animals.","English",27.93,20.95,"591.5--dc23","48 pp.",{"$f":"Table1[[#This Row],[QTY]]*Table1[[#This Row],['# of Books]]","v":0},{"$f":"Table1[[#This Row],[QTY]]*Table1[[#This Row],[School & Library Price]]","v":0}]
[null,null,null,53,"Fast Wheels!","Fast Wheels!",6,"Library Set","978-0-7660-8022-5",2014,"August 2013","5.250 X 7.500",null,null,null,null,null,null,null,null,"Grade 3 - 6","Grade 3 - 6",null,"English",101.7,76.260000000000005,null,"48 pp.",{"$f":"Table1[[#This Row],[QTY]]*Table1[[#This Row],['# of Books]]","v":0},{"$f":"Table1[[#This Row],[QTY]]*Table1[[#This Row],[School & Library Price]]","v":0}]
[null,null,null,53,"Fast Wheels!","Smokin' Dragsters and Funny Cars",1,"Library Bound Book","978-1-6228-5070-9",2014,"August 2013","5.250 X 7.500","Author","Jim Gigliotti",5.3,null,null,null,"Q","900L","Grade 4 - 6","Grade 4 - 8","SMOKIN' DRAGSTERS AND FUNNY CARS explores the personalities, the history, and the crazy cars associated with the wild world of drag racing. Readers get a look into the different types of drag racing—and a \"day at the races\" for an exciting you-are-there feeling. ","English",16.95,12.71,"629.228","48 pp.",{"$f":"Table1[[#This Row],[QTY]]*Table1[[#This Row],['# of Books]]","v":0},{"$f":"Table1[[#This Row],[QTY]]*Table1[[#This Row],[School & Library Price]]","v":0}]
[null,null,null,53,"Fast Wheels!","Smokin' Dragsters and Funny Cars",1,"eBook","978-1-6228-5159-1",2014,"August 2013",null,"Author","Jim Gigliotti",5.3,null,null,null,"Q","900L","Grade 4 - 6","Grade 4 - 8","SMOKIN' DRAGSTERS AND FUNNY CARS explores the personalities, the history, and the crazy cars associated with the wild world of drag racing. Readers get a look into the different types of drag racing—and a \"day at the races\" for an exciting you-are-there feeling. ","English",27.93,20.95,"629.228","48 pp.",{"$f":"Table1[[#This Row],[QTY]]*Table1[[#This Row],['# of Books]]","v":0},{"$f":"Table1[[#This Row],[QTY]]*Table1[[#This Row],[School & Library Price]]","v":0}]
[null,null,null,53,"Fast Wheels!","Smokin' Motorcycles",1,"Library Bound Book","978-1-6228-5085-3",2014,"August 2013","5.250 X 7.500","Author","Bob Woods",6.1,null,null,null,"P","1070L","Grade 4 - 6","Grade 4 - 8","Author Bob Woods takes readers on a wild ride through the exciting world of motorcycles! From the history of motorcycles to motorcycle racing, cruisers, choppers, and motocross, biking fans will find plenty here to keep them hooked. ","English",16.95,12.71,"629.227","48 pp.",{"$f":"Table1[[#This Row],[QTY]]*Table1[[#This Row],['# of Books]]","v":0},{"$f":"Table1[[#This Row],[QTY]]*Table1[[#This Row],[School & Library Price]]","v":0}]
[null,null,null,53,"Fast Wheels!","Smokin' Motorcycles",1,"eBook","978-1-6228-5160-7",2014,"August 2013",null,"Author","Bob Woods",6.1,null,null,null,"P","1070L","Grade 4 - 6","Grade 4 - 8","Author Bob Woods takes readers on a wild ride through the exciting world of motorcycles! From the history of motorcycles to motorcycle racing, cruisers, choppers, and motocross, biking fans will find plenty here to keep them hooked. ","English",27.93,20.95,"629.227","48 pp.",{"$f":"Table1[[#This Row],[QTY]]*Table1[[#This Row],['# of Books]]","v":0},{"$f":"Table1[[#This Row],[QTY]]*Table1[[#This Row],[School & Library Price]]","v":0}]
[null,null,null,53,"Fast Wheels!","Smokin' Muscle Cars",1,"Library Bound Book","978-1-6228-5090-7",2014,"August 2013","5.250 X 7.500","Author","Bob Woods",6,null,null,null,"P","1000L","Grade 4 - 6","Grade 4 - 8","America's love affair with cars is most passionate when it comes to the fastest, most powerful, and coolest-looking models on the nation's roads. Author Bob Woods takes readers through the history of flashy \"muscle\" cars, such as the Pontiac GTO, Ford Mustang, Chevy Camaro, Dodge Charger, and Chevy Corvette. ","English",16.95,12.71,"629.222","48 pp.",{"$f":"Table1[[#This Row],[QTY]]*Table1[[#This Row],['# of Books]]","v":0},{"$f":"Table1[[#This Row],[QTY]]*Table1[[#This Row],[School & Library Price]]","v":0}]
[null,null,null,53,"Fast Wheels!","Smokin' Muscle Cars",1,"eBook","978-1-6228-5161-4",2014,"August 2013",null,"Author","Bob Woods",6,null,null,null,"P","1000L","Grade 4 - 6","Grade 4 - 8","America's love affair with cars is most passionate when it comes to the fastest, most powerful, and coolest-looking models on the nation's roads. Author Bob Woods takes readers through the history of flashy \"muscle\" cars, such as the Pontiac GTO, Ford Mustang, Chevy Camaro, Dodge Charger, and Chevy Corvette. ","English",27.93,20.95,"629.222","48 pp.",{"$f":"Table1[[#This Row],[QTY]]*Table1[[#This Row],['# of Books]]","v":0},{"$f":"Table1[[#This Row],[QTY]]*Table1[[#This Row],[School & Library Price]]","v":0}]
[null,null,null,53,"Fast Wheels!","Smokin' Open-Wheel Race Cars",1,"Library Bound Book","978-1-6228-5100-3",2014,"August 2013","5.250 X 7.500","Author","Erin Egan",null,null,null,null,"P","950L","Grade 4 - 6","Grade 4 - 8","In five fast-paced chapters, author Erin Egan takes readers through the wild world of open-wheel racing. From Formula 1 to the Indy Racing League, racing fans will learn about the history, personalities, and famous races associated with the different styles of open wheel race cars. ","English",16.95,12.71,"796.72","48 pp.",{"$f":"Table1[[#This Row],[QTY]]*Table1[[#This Row],['# of Books]]","v":0},{"$f":"Table1[[#This Row],[QTY]]*Table1[[#This Row],[School & Library Price]]","v":0}]
[null,null,null,53,"Fast Wheels!","Smokin' Open-Wheel Race Cars",1,"eBook","978-1-6228-5163-8",2014,"August 2013",null,"Author","Erin Egan",null,null,null,null,"P","950L","Grade 4 - 6","Grade 4 - 8","In five fast-paced chapters, author Erin Egan takes readers through the wild world of open-wheel racing. From Formula 1 to the Indy Racing League, racing fans will learn about the history, personalities, and famous races associated with the different styles of open wheel race cars. ","English",27.93,20.95,"796.72","48 pp.",{"$f":"Table1[[#This Row],[QTY]]*Table1[[#This Row],['# of Books]]","v":0},{"$f":"Table1[[#This Row],[QTY]]*Table1[[#This Row],[School & Library Price]]","v":0}]
[null,null,null,53,"Fast Wheels!","Smokin' Race Cars",1,"Library Bound Book","978-1-6228-5095-2",2014,"August 2013","5.250 X 7.500",null,null,5.7,null,null,null,"Q","1000L","Grade 4 - 6","Grade 4 - 8","Read about the cars, the races, and the exciting personalities of the Sprint Cup series! This book explores the world of stock car racing and gives fans insight into all that goes into a big race. ","English",16.95,12.71,"796.720973","48 pp.",{"$f":"Table1[[#This Row],[QTY]]*Table1[[#This Row],['# of Books]]","v":0},{"$f":"Table1[[#This Row],[QTY]]*Table1[[#This Row],[School & Library Price]]","v":0}]
[null,null,null,53,"Fast Wheels!","Smokin' Race Cars",1,"eBook","978-1-6228-5162-1",2014,"August 2013",null,"Author","K. C. Kelley",5.7,null,null,null,"Q","1000L","Grade 4 - 6","Grade 4 - 8","Read about the cars, the races, and the exciting personalities of the Sprint Cup series! This book explores the world of stock car racing and gives fans insight into all that goes into a big race. ","English",27.93,20.95,"796.720973","48 pp.",{"$f":"Table1[[#This Row],[QTY]]*Table1[[#This Row],['# of Books]]","v":0},{"$f":"Table1[[#This Row],[QTY]]*Table1[[#This Row],[School & Library Price]]","v":0}]
[null,null,null,53,"Fast Wheels!","Smokin' Sports Cars",1,"Library Bound Book","978-1-6228-5105-8",2014,"August 2013","5.250 X 7.500","Author","Bob Woods",6.1,null,null,null,"P","1020L","Grade 4 - 6","Grade 4 - 8","Readers who love fast cars will love this book, featuring many of the fastest, most powerful cars on the planet. Meet the international \"superstars\" adored by car lovers the world over—sports cars from Ferrari, Lamborghini, BMW, Porsche, Jaguar, and more. ","English",16.95,12.71,"629.222","48 pp.",{"$f":"Table1[[#This Row],[QTY]]*Table1[[#This Row],['# of Books]]","v":0},{"$f":"Table1[[#This Row],[QTY]]*Table1[[#This Row],[School & Library Price]]","v":0}]
[null,null,null,53,"Fast Wheels!","Smokin' Sports Cars",1,"eBook","978-1-6228-5164-5",2014,"August 2013",null,"Author","Bob Woods",6.1,null,null,null,"P","1020L","Grade 4 - 6","Grade 4 - 8","Readers who love fast cars will love this book, featuring many of the fastest, most powerful cars on the planet. Meet the international \"superstars\" adored by car lovers the world over—sports cars from Ferrari, Lamborghini, BMW, Porsche, Jaguar, and more. ","English",27.93,20.95,"629.222","48 pp.",{"$f":"Table1[[#This Row],[QTY]]*Table1[[#This Row],['# of Books]]","v":0},{"$f":"Table1[[#This Row],[QTY]]*Table1[[#This Row],[School & Library Price]]","v":0}]
[null,null,null,53,"Outdoor Sports Skills","Outdoor Sports Skills",4,"Library Set","978-0-7660-8023-2",2015,"August 2014","6.000 X 9.000",null,null,null,null,null,null,null,null,"Grade 3 - 6","Grade 3 - 6",null,"English",67.8,50.84,null,"48 pp.",{"$f":"Table1[[#This Row],[QTY]]*Table1[[#This Row],['# of Books]]","v":0},{"$f":"Table1[[#This Row],[QTY]]*Table1[[#This Row],[School & Library Price]]","v":0}]
[null,null,null,53,"Outdoor Sports Skills","How to Camp Like a Pro",1,"Library Bound Book","978-1-6228-5239-0",2015,"August 2014","6.000 X 9.000","Author","Jeff Burlingame",null,null,null,null,"N","1050L","Grade 4 - 6","Grade 4 - 8","With this \"How-to\" guide, readers will learn all the basic knowledge of camping and the important components that will make a first time camping trip a success. Between picking a location and setting up camp to the necessary gear and supplies, readers will learn everything needed to become a skilled camper! ","English",16.95,12.71,"796.54","48 pp.",{"$f":"Table1[[#This Row],[QTY]]*Table1[[#This Row],['# of Books]]","v":0},{"$f":"Table1[[#This Row],[QTY]]*Table1[[#This Row],[School & Library Price]]","v":0}]
[null,null,null,53,"Outdoor Sports Skills","How to Camp Like a Pro",1,"eBook","978-1-6228-5243-7",2015,"August 2014",null,"Author","Jeff Burlingame",null,null,null,null,"N","1050L","Grade 4 - 6","Grade 4 - 8","With this \"How-to\" guide, readers will learn all the basic knowledge of camping and the important components that will make a first time camping trip a success. Between picking a location and setting up camp to the necessary gear and supplies, readers will learn everything needed to become a skilled camper! ","English",27.93,20.95,"796.54","48 pp.",{"$f":"Table1[[#This Row],[QTY]]*Table1[[#This Row],['# of Books]]","v":0},{"$f":"Table1[[#This Row],[QTY]]*Table1[[#This Row],[School & Library Price]]","v":0}]
[null,null,null,53,"Outdoor Sports Skills","How to Canoe and Kayak Like a Pro",1,"Library Bound Book","978-1-6228-5244-4",2015,"August 2014","6.000 X 9.000",null,null,null,null,null,null,"N","950L","Grade 4 - 6","Grade 4 - 8","With this \"How-to\" guide, readers will learn all the basic knowledge of canoeing and kayaking and the important aspects of each. Between the terminology and necessary gear to reading the water and safety rules, readers will learn what is needed to become a skilled canoer and kayaker! ","English",16.95,12.71,"797.122","48 pp.",{"$f":"Table1[[#This Row],[QTY]]*Table1[[#This Row],['# of Books]]","v":0},{"$f":"Table1[[#This Row],[QTY]]*Table1[[#This Row],[School & Library Price]]","v":0}]
[null,null,null,53,"Outdoor Sports Skills","How to Canoe and Kayak Like a Pro",1,"eBook","978-1-6228-5248-2",2015,"August 2014",null,"Author","Ashley P. Watson Norris",null,null,null,null,"N","950L","Grade 4 - 6","Grade 4 - 8","With this \"How-to\" guide, readers will learn all the basic knowledge of canoeing and kayaking and the important aspects of each. Between the terminology and necessary gear to reading the water and safety rules, readers will learn what is needed to become a skilled canoer and kayaker! ","English",27.93,20.95,"797.122","48 pp.",{"$f":"Table1[[#This Row],[QTY]]*Table1[[#This Row],['# of Books]]","v":0},{"$f":"Table1[[#This Row],[QTY]]*Table1[[#This Row],[School & Library Price]]","v":0}]
[null,null,null,53,"Outdoor Sports Skills","How to Freshwater Fish Like a Pro",1,"Library Bound Book","978-1-6228-5224-6",2015,"August 2014","6.000 X 9.000","Author","Jeff Burlingame",null,null,null,null,"O","1080L","Grade 4 - 6","Grade 4 - 8","With this \"How-to\" guide, readers will learn all the basic knowledge of freshwater fishing and what essentials are needed to making a first time fishing experience a success. From supplies and safety to picking a spot and actually fishing, readers will learn what’s needed to become a skilled freshwater fisherman! ","English",16.95,12.71,"799.1","48 pp.",{"$f":"Table1[[#This Row],[QTY]]*Table1[[#This Row],['# of Books]]","v":0},{"$f":"Table1[[#This Row],[QTY]]*Table1[[#This Row],[School & Library Price]]","v":0}]
[null,null,null,53,"Outdoor Sports Skills","How to Freshwater Fish Like a Pro",1,"eBook","978-1-6228-5238-3",2015,"August 2014",null,"Author","Jeff Burlingame",null,null,null,null,"O","1080L","Grade 4 - 6","Grade 4 - 8","With this \"How-to\" guide, readers will learn all the basic knowledge of freshwater fishing and what essentials are needed to making a first time fishing experience a success. From supplies and safety to picking a spot and actually fishing, readers will learn what’s needed to become a skilled freshwater fisherman! ","English",27.93,20.95,"799.1","48 pp.",{"$f":"Table1[[#This Row],[QTY]]*Table1[[#This Row],['# of Books]]","v":0},{"$f":"Table1[[#This Row],[QTY]]*Table1[[#This Row],[School & Library Price]]","v":0}]
[null,null,null,53,"Outdoor Sports Skills","How to Hike Like a Pro",1,"Library Bound Book","978-1-6228-5138-6",2015,"August 2014","6.000 X 9.000",null,null,null,null,null,null,"N","940L","Grade 4 - 6","Grade 4 - 8","With this \"How-to\" guide, readers will learn all the basic knowledge of hiking and the necessary skills and supplies needed to make a new hiker ready to make a fun-filled and safe hike. From etiquette to necessary gear to food and safety, readers will learn what is needed to become a skilled hiker! ","English",16.95,12.71,"796.51","48 pp.",{"$f":"Table1[[#This Row],[QTY]]*Table1[[#This Row],['# of Books]]","v":0},{"$f":"Table1[[#This Row],[QTY]]*Table1[[#This Row],[School & Library Price]]","v":0}]
[null,null,null,53,"Outdoor Sports Skills","How to Hike Like a Pro",1,"eBook","978-1-6228-5171-3",2015,"August 2014",null,null,null,null,null,null,null,"N","940L","Grade 4 - 6","Grade 4 - 8","With this \"How-to\" guide, readers will learn all the basic knowledge of hiking and the necessary skills and supplies needed to make a new hiker ready to make a fun-filled and safe hike. From etiquette to necessary gear to food and safety, readers will learn what is needed to become a skilled hiker! ","English",27.93,20.95,"796.51","48 pp.",{"$f":"Table1[[#This Row],[QTY]]*Table1[[#This Row],['# of Books]]","v":0},{"$f":"Table1[[#This Row],[QTY]]*Table1[[#This Row],[School & Library Price]]","v":0}]
[null,null,null,54,"Funniest Bone Animal Jokes","Funniest Bone Animal Jokes",6,"Library Set","978-0-7660-8024-9",2015,"August 2014",null,null,null,null,null,null,null,null,null,"Grade 3 - 6","Grade 3 - 6",null,"English",101.7,76.260000000000005,null,"48 pp.",{"$f":"Table1[[#This Row],[QTY]]*Table1[[#This Row],['# of Books]]","v":0},{"$f":"Table1[[#This Row],[QTY]]*Table1[[#This Row],[School & Library Price]]","v":0}]
[null,null,null,54,"Funniest Bone Animal Jokes","Amusing Animal Jokes to Tickle Your Funny Bone",1,"Library Bound Book","978-0-7660-5968-9",2015,"August 2014","6.000 X 9.000","Author","Amelia LaRoche",null,null,null,null,"L","660L","Grade 3 - ","Grade 3 - 5","Why did the deer have to get braces? He had buck teeth. This jokebook contains silly jokes, limericks, tongue twisters, knock-knock jokes, and fun facts about all kinds of animals, big and small. Readers also learn how to write their own animal joke book.","English",16.95,12.71,"818","48 pp.",{"$f":"Table1[[#This Row],[QTY]]*Table1[[#This Row],['# of Books]]","v":0},{"$f":"Table1[[#This Row],[QTY]]*Table1[[#This Row],[School & Library Price]]","v":0}]
[null,null,null,54,"Funniest Bone Animal Jokes","Amusing Animal Jokes to Tickle Your Funny Bone",1,"eBook","978-0-7660-5972-6",2015,"August 2014",null,"Author","Amelia LaRoche",null,null,null,null,"L","660L","Grade 3 - ","Grade 3 - 5","Why did the deer have to get braces? He had buck teeth. This jokebook contains silly jokes, limericks, tongue twisters, knock-knock jokes, and fun facts about all kinds of animals, big and small. Readers also learn how to write their own animal joke book.","English",27.93,20.95,"818","48 pp.",{"$f":"Table1[[#This Row],[QTY]]*Table1[[#This Row],['# of Books]]","v":0},{"$f":"Table1[[#This Row],[QTY]]*Table1[[#This Row],[School & Library Price]]","v":0}]
[null,null,null,54,"Funniest Bone Animal Jokes","Fowl Chicken Jokes to Tickle Your Funny Bone",1,"Library Bound Book","978-0-7660-5963-4",2015,"August 2014","6.000 X 9.000","Author","Amelia LaRoche",null,null,null,null,"L","750L","Grade 3 - ","Grade 3 - 5","What do you call a crazy chicken that can tell time? A cuckoo cluck. Corny jokes, limericks, tongue twisters, and knock-knock jokes fly. Readers learn fun fowl facts about chickens and other birds, and learn how to create a joke flipbook.","English",16.95,12.71,"818","48 pp.",{"$f":"Table1[[#This Row],[QTY]]*Table1[[#This Row],['# of Books]]","v":0},{"$f":"Table1[[#This Row],[QTY]]*Table1[[#This Row],[School & Library Price]]","v":0}]
[null,null,null,54,"Funniest Bone Animal Jokes","Fowl Chicken Jokes to Tickle Your Funny Bone",1,"eBook","978-0-7660-5967-2",2015,"August 2014",null,"Author","Amelia LaRoche",null,null,null,null,"L","750L","Grade 3 - ","Grade 3 - 5","What do you call a crazy chicken that can tell time? A cuckoo cluck. Corny jokes, limericks, tongue twisters, and knock-knock jokes fly. Readers learn fun fowl facts about chickens and other birds, and learn how to create a joke flipbook.","English",27.93,20.95,"818","48 pp.",{"$f":"Table1[[#This Row],[QTY]]*Table1[[#This Row],['# of Books]]","v":0},{"$f":"Table1[[#This Row],[QTY]]*Table1[[#This Row],[School & Library Price]]","v":0}]
[null,null,null,54,"Funniest Bone Animal Jokes","Hilarious Huge Animal Jokes to Tickle Your Funny Bone",1,"Library Bound Book","978-0-7660-5948-1",2015,"August 2014","6.000 X 9.000","Author","Felicia Lowenstein Niven",null,null,null,null,"M","650L","Grade 3 - ","Grade 3 - 5","Why do elephants have trunks? Because they don’t have any pockets. Make your readers giggle with the silly jokes, limericks, tongue twisters, and knock-knock jokes. Students will read fascinating facts about elephants, whales, dinosaurs, and other giants, and learn how to draw a big animal cartoon.","English",16.95,12.71,"818","48 pp.",{"$f":"Table1[[#This Row],[QTY]]*Table1[[#This Row],['# of Books]]","v":0},{"$f":"Table1[[#This Row],[QTY]]*Table1[[#This Row],[School & Library Price]]","v":0}]
[null,null,null,54,"Funniest Bone Animal Jokes","Hilarious Huge Animal Jokes to Tickle Your Funny Bone",1,"eBook","978-0-7660-5952-8",2015,"August 2014",null,"Author","Felicia Lowenstein Niven",null,null,null,null,"M","650L","Grade 3 - ","Grade 3 - 5","Why do elephants have trunks? Because they don’t have any pockets. Make your readers giggle with the silly jokes, limericks, tongue twisters, and knock-knock jokes. Students will read fascinating facts about elephants, whales, dinosaurs, and other giants, and learn how to draw a big animal cartoon.","English",27.93,20.95,"818","48 pp.",{"$f":"Table1[[#This Row],[QTY]]*Table1[[#This Row],['# of Books]]","v":0},{"$f":"Table1[[#This Row],[QTY]]*Table1[[#This Row],[School & Library Price]]","v":0}]
[null,null,null,54,"Funniest Bone Animal Jokes","Humorous Small Critter Jokes to Tickle Your Funny Bone",1,"Library Bound Book","978-0-7660-6032-6",2015,"August 2014","6.000 X 9.000","Author","Susan K. Mitchell",null,null,null,null,"L","630L","Grade 3 - ","Grade 3 - 5","What type of mouse plays football? A field mouse. This book is filled with fun jokes, limericks, tongue twisters, and knock-knock jokes that will make you squeal in delight. Included are fascinating facts about mice, moles, gophers, and other small animals, and instructions on how to make a book of silly limericks.","English",16.95,12.71,"818","48 pp.",{"$f":"Table1[[#This Row],[QTY]]*Table1[[#This Row],['# of Books]]","v":0},{"$f":"Table1[[#This Row],[QTY]]*Table1[[#This Row],[School & Library Price]]","v":0}]
[null,null,null,54,"Funniest Bone Animal Jokes","Humorous Small Critter Jokes to Tickle Your Funny Bone",1,"eBook","978-0-7660-6036-4",2015,"August 2014",null,"Author","Susan K. Mitchell",null,null,null,null,"L","630L","Grade 3 - ","Grade 3 - 5","What type of mouse plays football? A field mouse. This book is filled with fun jokes, limericks, tongue twisters, and knock-knock jokes that will make you squeal in delight. Included are fascinating facts about mice, moles, gophers, and other small animals, and instructions on how to make a book of silly limericks.","English",27.93,20.95,"818","48 pp.",{"$f":"Table1[[#This Row],[QTY]]*Table1[[#This Row],['# of Books]]","v":0},{"$f":"Table1[[#This Row],[QTY]]*Table1[[#This Row],[School & Library Price]]","v":0}]
[null,null,null,54,"Funniest Bone Animal Jokes","Hysterical Dog Jokes to Tickle Your Funny Bone",1,"Library Bound Book","978-0-7660-5958-0",2015,"August 2014","6.000 X 9.000","Author","Felicia Lowenstein Niven",null,null,null,null,"M","620L","Grade 3 - ","Grade 3 - 5","Why don’t dogs make good dancers? They have two left feet. Are your readers ready for a howling good time? Then check out the silly jokes, limericks, tongue twisters, and knock-knock jokes. Readers learn fun facts about canines and how to create a dog breed book.","English",16.95,12.71,"818","48 pp.",{"$f":"Table1[[#This Row],[QTY]]*Table1[[#This Row],['# of Books]]","v":0},{"$f":"Table1[[#This Row],[QTY]]*Table1[[#This Row],[School & Library Price]]","v":0}]
[null,null,null,54,"Funniest Bone Animal Jokes","Hysterical Dog Jokes to Tickle Your Funny Bone",1,"eBook","978-0-7660-5962-7",2015,"August 2014",null,"Author","Felicia Lowenstein Niven",null,null,null,null,"M","620L","Grade 3 - ","Grade 3 - 5","Why don’t dogs make good dancers? They have two left feet. Are your readers ready for a howling good time? Then check out the silly jokes, limericks, tongue twisters, and knock-knock jokes. Readers learn fun facts about canines and how to create a dog breed book.","English",27.93,20.95,"818","48 pp.",{"$f":"Table1[[#This Row],[QTY]]*Table1[[#This Row],['# of Books]]","v":0},{"$f":"Table1[[#This Row],[QTY]]*Table1[[#This Row],[School & Library Price]]","v":0}]
[null,null,null,54,"Funniest Bone Animal Jokes","Silly Cat Jokes to Tickle Your Funny Bone",1,"Library Bound Book","978-0-7660-5991-7",2015,"August 2014","6.000 X 9.000","Author","Doreen Gonzales",null,null,null,null,"L","620L","Grade 3 - ","Grade 3 - 5","What do you get when you cross a cat with a lemon? A sour puss. This book features jokes, limericks, tongue twisters, knock-knock jokes, and fun facts about house cats and wild cats. Readers will learn how to make a limerick book of their own.","English",16.95,12.71,"818","48 pp.",{"$f":"Table1[[#This Row],[QTY]]*Table1[[#This Row],['# of Books]]","v":0},{"$f":"Table1[[#This Row],[QTY]]*Table1[[#This Row],[School & Library Price]]","v":0}]
[null,null,null,54,"Funniest Bone Animal Jokes","Silly Cat Jokes to Tickle Your Funny Bone",1,"eBook","978-0-7660-5995-5",2015,"August 2014",null,"Author","Doreen Gonzales",null,null,null,null,"L","620L","Grade 3 - ","Grade 3 - 5","What do you get when you cross a cat with a lemon? A sour puss. This book features jokes, limericks, tongue twisters, knock-knock jokes, and fun facts about house cats and wild cats. Readers will learn how to make a limerick book of their own.","English",27.93,20.95,"818","48 pp.",{"$f":"Table1[[#This Row],[QTY]]*Table1[[#This Row],['# of Books]]","v":0},{"$f":"Table1[[#This Row],[QTY]]*Table1[[#This Row],[School & Library Price]]","v":0}]
[null,null,null,54,"Funnier Bone Jokes","Funnier Bone Jokes",6,"Library Set","978-0-7660-8077-5",2011,"January 2011","6.000 X 9.000",null,null,null,null,null,null,null,null,"Grade 3 - 6","Grade 3 - 6",null,"",135.6,101.7,null,"48 pp.",{"$f":"Table1[[#This Row],[QTY]]*Table1[[#This Row],['# of Books]]","v":0},{"$f":"Table1[[#This Row],[QTY]]*Table1[[#This Row],[School & Library Price]]","v":0}]
[null,null,null,54,"Funnier Bone Jokes","April Fool's Day Jokes to Tickle Your Funny Bone",1,"Library Bound Book","978-0-7660-4122-6",2013,"January 2013","6.000 X 9.000","Author","Amelia LaRoche",3.6,null,null,null,"M","800L","Grade 3 - ","Grade 3 - 5","Why did the fool throw his alarm clock out the window? He wanted to see time fly. This book contains all the corny, funny, and silly jokes, limericks, tongue twisters, knock-knock jokes, and fun facts about the trickiest holiday of the year. Readers will be thrilled to find an amusing how-to activity, and play an easy, fun prank on an unsuspecting friend or relative.","English",22.6,16.95,"818","48 pp.",{"$f":"Table1[[#This Row],[QTY]]*Table1[[#This Row],['# of Books]]","v":0},{"$f":"Table1[[#This Row],[QTY]]*Table1[[#This Row],[School & Library Price]]","v":0}]
[null,null,null,54,"Funnier Bone Jokes","April Fool's Day Jokes to Tickle Your Funny Bone",1,"eBook","978-0-7660-5722-7",2013,"January 2013",null,"Author","Amelia LaRoche",3.6,null,null,null,"M","800L","Grade 3 - ","Grade 3 - 5","Why did the fool throw his alarm clock out the window? He wanted to see time fly. This book contains all the corny, funny, and silly jokes, limericks, tongue twisters, knock-knock jokes, and fun facts about the trickiest holiday of the year. Readers will be thrilled to find an amusing how-to activity, and play an easy, fun prank on an unsuspecting friend or relative.","English",22.6,16.95,"818","48 pp.",{"$f":"Table1[[#This Row],[QTY]]*Table1[[#This Row],['# of Books]]","v":0},{"$f":"Table1[[#This Row],[QTY]]*Table1[[#This Row],[School & Library Price]]","v":0}]
[null,null,null,54,"Funnier Bone Jokes","Brainless Birthday Jokes to Tickle Your Funny Bone",1,"Library Bound Book","978-0-7660-4121-9",2013,"January 2013","6.000 X 9.000","Author","Felicia Lowenstein Niven",3.1,null,null,null,"M","640L","Grade 3 - ","Grade 3 - 5","Why was the birthday cake as hard as a rock? Because it was marble cake. Author Felicia Lowenstein Niven explores the world of corny birthday jokes. This book includes limericks, knock-knock jokes and tongue twisters, as well as directions on how to make a funny birthday card.","English",22.6,16.95,"818","48 pp.",{"$f":"Table1[[#This Row],[QTY]]*Table1[[#This Row],['# of Books]]","v":0},{"$f":"Table1[[#This Row],[QTY]]*Table1[[#This Row],[School & Library Price]]","v":0}]
[null,null,null,54,"Funnier Bone Jokes","Brainless Birthday Jokes to Tickle Your Funny Bone",1,"eBook","978-0-7660-5720-3",2013,"January 2013",null,"Author","Felicia Lowenstein Niven",3.1,null,null,null,"M","640L","Grade 3 - ","Grade 3 - 5","Why was the birthday cake as hard as a rock? Because it was marble cake. Author Felicia Lowenstein Niven explores the world of corny birthday jokes. This book includes limericks, knock-knock jokes and tongue twisters, as well as directions on how to make a funny birthday card.","English",22.6,16.95,"818","48 pp.",{"$f":"Table1[[#This Row],[QTY]]*Table1[[#This Row],['# of Books]]","v":0},{"$f":"Table1[[#This Row],[QTY]]*Table1[[#This Row],[School & Library Price]]","v":0}]
[null,null,null,54,"Funnier Bone Jokes","Corny Thanksgiving Jokes to Tickle Your Funny Bone",1,"Library Bound Book","978-0-7660-4120-2",2013,"January 2013","6.000 X 9.000","Author","Linda Bozzo",3.3,null,null,null,"N","700L","Grade 3 - ","Grade 3 - 5","If April showers bring May flowers, what do Mayflowers bring? Pilgrims. This book delves into silly jokes, limericks, tongue twisters and knock-knock jokes about a favorite fall holiday.","English",22.6,16.95,"818","48 pp.",{"$f":"Table1[[#This Row],[QTY]]*Table1[[#This Row],['# of Books]]","v":0},{"$f":"Table1[[#This Row],[QTY]]*Table1[[#This Row],[School & Library Price]]","v":0}]
[null,null,null,54,"Funnier Bone Jokes","Corny Thanksgiving Jokes to Tickle Your Funny Bone",1,"eBook","978-0-7660-5719-7",2013,"January 2013",null,"Author","Linda Bozzo",3.3,null,null,null,"N","700L","Grade 3 - ","Grade 3 - 5","If April showers bring May flowers, what do Mayflowers bring? Pilgrims. This book delves into silly jokes, limericks, tongue twisters and knock-knock jokes about a favorite fall holiday.","English",22.6,16.95,"818","48 pp.",{"$f":"Table1[[#This Row],[QTY]]*Table1[[#This Row],['# of Books]]","v":0},{"$f":"Table1[[#This Row],[QTY]]*Table1[[#This Row],[School & Library Price]]","v":0}]
[null,null,null,54,"Funnier Bone Jokes","Funny Valentine's Day Jokes to Tickle Your Funny Bone",1,"Library Bound Book","978-0-7660-4119-6",2013,"January 2013","6.000 X 9.000","Author","Linda Bozzo",3.5,null,null,null,"N","700L","Grade 3 - ","Grade 3 - 5","How did the elephant and the ant start dating? It began as a crush. This jokebook contains all the corny, funny, and silly jokes, limericks, tongue twisters, knock-knock jokes, and fun facts about the most romantic holiday of the year.","English",22.6,16.95,"818","48 pp.",{"$f":"Table1[[#This Row],[QTY]]*Table1[[#This Row],['# of Books]]","v":0},{"$f":"Table1[[#This Row],[QTY]]*Table1[[#This Row],[School & Library Price]]","v":0}]
[null,null,null,54,"Funnier Bone Jokes","Funny Valentine's Day Jokes to Tickle Your Funny Bone",1,"eBook","978-0-7660-5718-0",2013,"January 2013",null,"Author","Linda Bozzo",3.5,null,null,null,"N","700L","Grade 3 - ","Grade 3 - 5","How did the elephant and the ant start dating? It began as a crush. This jokebook contains all the corny, funny, and silly jokes, limericks, tongue twisters, knock-knock jokes, and fun facts about the most romantic holiday of the year.","English",22.6,16.95,"818","48 pp.",{"$f":"Table1[[#This Row],[QTY]]*Table1[[#This Row],['# of Books]]","v":0},{"$f":"Table1[[#This Row],[QTY]]*Table1[[#This Row],[School & Library Price]]","v":0}]
[null,null,null,54,"Funnier Bone Jokes","Ho-Ho-Ho Christmas Jokes to Tickle Your Funny Bone",1,"Library Bound Book","978-0-7660-4123-3",2013,"January 2013","6.000 X 9.000","Author","Amelia LaRoche",3.5,null,null,null,"N","780L","Grade 3 - ","Grade 3 - 5","How much did Santa pay for his sleigh? Nothing, it was on the house. Author Amelia LaRoche has fun with corny, funny, and silly jokes, limericks, tongue twisters, knock-knock jokes, and fun facts. Readers also discover how to make funny Christmas cards.","English",22.6,16.95,"818","48 pp.",{"$f":"Table1[[#This Row],[QTY]]*Table1[[#This Row],['# of Books]]","v":0},{"$f":"Table1[[#This Row],[QTY]]*Table1[[#This Row],[School & Library Price]]","v":0}]
[null,null,null,54,"Funnier Bone Jokes","Ho-Ho-Ho Christmas Jokes to Tickle Your Funny Bone",1,"eBook","978-0-7660-5723-4",2013,"January 2013",null,"Author","Amelia LaRoche",3.5,null,null,null,"N","780L","Grade 3 - ","Grade 3 - 5","How much did Santa pay for his sleigh? Nothing, it was on the house. Author Amelia LaRoche has fun with corny, funny, and silly jokes, limericks, tongue twisters, knock-knock jokes, and fun facts. Readers also discover how to make funny Christmas cards.","English",22.6,16.95,"818","48 pp.",{"$f":"Table1[[#This Row],[QTY]]*Table1[[#This Row],['# of Books]]","v":0},{"$f":"Table1[[#This Row],[QTY]]*Table1[[#This Row],[School & Library Price]]","v":0}]
[null,null,null,54,"Funnier Bone Jokes","Kooky Halloween Jokes to Tickle Your Funny Bone",1,"Library Bound Book","978-0-7660-4118-9",2013,"January 2013","6.000 X 9.000","Author","Linda Bozzo",3.3,null,null,null,"M","630L","Grade 3 - ","Grade 3 - 5","Why didn't the skeleton dance at the Halloween party? He had no body to dance with. This jokebook is filled with corny, funny, and silly jokes, limericks, tongue twisters, knock-knock jokes, and fun facts about our scariest holiday. Readers will learn how to make their own knock-knock jokes too.","English",22.6,16.95,"818","48 pp.",{"$f":"Table1[[#This Row],[QTY]]*Table1[[#This Row],['# of Books]]","v":0},{"$f":"Table1[[#This Row],[QTY]]*Table1[[#This Row],[School & Library Price]]","v":0}]
[null,null,null,54,"Funnier Bone Jokes","Kooky Halloween Jokes to Tickle Your Funny Bone",1,"eBook","978-0-7660-5717-3",2013,"January 2013",null,"Author","Linda Bozzo",3.3,null,null,null,"M","630L","Grade 3 - ","Grade 3 - 5","Why didn't the skeleton dance at the Halloween party? He had no body to dance with. This jokebook is filled with corny, funny, and silly jokes, limericks, tongue twisters, knock-knock jokes, and fun facts about our scariest holiday. Readers will learn how to make their own knock-knock jokes too.","English",22.6,16.95,"818","48 pp.",{"$f":"Table1[[#This Row],[QTY]]*Table1[[#This Row],['# of Books]]","v":0},{"$f":"Table1[[#This Row],[QTY]]*Table1[[#This Row],[School & Library Price]]","v":0}]
[null,null,null,55,"The Value of Money","The Value of Money",6,"Library Set","978-0-7660-7491-0",2017,"August 2016","7.125 X 8.500",null,null,null,null,null,null,null,null,"Grade 1 - 2","Grade K - 3","Money math is an important part of everyday life. This book breaks down the value of a dollar and teaches young readers how to create a dollar with smaller change. With language that easily breaks down the subject so anyone can understand and full-color photographs that illustrate each denomination, students will easily grasp the basics of counting money and how to use it.","English",135.6,101.7,null,"24 pp.",{"$f":"Table1[[#This Row],[QTY]]*Table1[[#This Row],['# of Books]]","v":0},{"$f":"Table1[[#This Row],[QTY]]*Table1[[#This Row],[School & Library Price]]","v":0}]
[null,null,null,55,"The Value of Money","Adding Coins and Bills",1,"Library Bound Book","978-0-7660-7696-9",2017,"August 2016","7.125 X 8.500","Author","Portia Summers",null,null,null,null,"F",null,"Grade 1 - 2","Grade K - 3","This book teaches young readers how to use the math skills they already have and apply it to currency. Full-color photographs illustrate each denomination, helping students easily grasp the basics of adding money. Words to Know help students learn new vocabulary and “Moments in Minting” sidebars introduce young readers to interesting facts about currency.","English",22.6,16.95,"332.4--dc23","24 pp.",{"$f":"Table1[[#This Row],[QTY]]*Table1[[#This Row],['# of Books]]","v":0},{"$f":"Table1[[#This Row],[QTY]]*Table1[[#This Row],[School & Library Price]]","v":0}]
[null,null,null,55,"The Value of Money","Adding Coins and Bills",1,"eBook","978-0-7660-7698-3",2017,"August 2016",null,"Author","Portia Summers",null,null,null,null,"F",null,"Grade 1 - 2","Grade K - 3","This book teaches young readers how to use the math skills they already have and apply it to currency. Full-color photographs illustrate each denomination, helping students easily grasp the basics of adding money. Words to Know help students learn new vocabulary and “Moments in Minting” sidebars introduce young readers to interesting facts about currency.","English",22.6,16.95,"332.4--dc23","24 pp.",{"$f":"Table1[[#This Row],[QTY]]*Table1[[#This Row],['# of Books]]","v":0},{"$f":"Table1[[#This Row],[QTY]]*Table1[[#This Row],[School & Library Price]]","v":0}]
[null,null,null,55,"The Value of Money","Counting Coins and Bills",1,"Library Bound Book","978-0-7660-7704-1",2017,"August 2016","7.125 X 8.500","Author","Portia Summers",null,null,null,null,"E",null,"Grade 1 - 2","Grade K - 3","Through simple language and full-color photographs, young readers will learn how to count different denominations of currency. Words to Know help students learn new vocabulary and “Moments in Minting” sidebars introduce young readers to interesting facts about money.","English",22.6,16.95,"332.4--dc23","24 pp.",{"$f":"Table1[[#This Row],[QTY]]*Table1[[#This Row],['# of Books]]","v":0},{"$f":"Table1[[#This Row],[QTY]]*Table1[[#This Row],[School & Library Price]]","v":0}]
[null,null,null,55,"The Value of Money","Counting Coins and Bills",1,"eBook","978-0-7660-7705-8",2017,"August 2016",null,"Author","Portia Summers",null,null,null,null,"E",null,"Grade 1 - 2","Grade K - 3","Through simple language and full-color photographs, young readers will learn how to count different denominations of currency. Words to Know help students learn new vocabulary and “Moments in Minting” sidebars introduce young readers to interesting facts about money.","English",22.6,16.95,"332.4--dc23","24 pp.",{"$f":"Table1[[#This Row],[QTY]]*Table1[[#This Row],['# of Books]]","v":0},{"$f":"Table1[[#This Row],[QTY]]*Table1[[#This Row],[School & Library Price]]","v":0}]
[null,null,null,55,"The Value of Money","One Dollar: How Many Pennies?",1,"Library Bound Book","978-0-7660-7688-4",2017,"August 2016","7.125 X 8.500","Author","Portia Summers",null,null,null,null,"E",null,"Grade 1 - 2","Grade K - 3","Money math is an important part of every day life. This book breaks down the value of a dollar, teaching young readers how to create a dollar with smaller change. With language that easily breaks down the subject so that anyone can understand, and full-color photographs that illustrate each denomination, students will easily grasp the basics of counting money and how to use it.","English",22.6,16.95,"332.4/040973--dc23","24 pp.",{"$f":"Table1[[#This Row],[QTY]]*Table1[[#This Row],['# of Books]]","v":0},{"$f":"Table1[[#This Row],[QTY]]*Table1[[#This Row],[School & Library Price]]","v":0}]
[null,null,null,55,"The Value of Money","One Dollar: How Many Pennies?",1,"eBook","978-0-7660-7691-4",2017,"August 2016",null,"Author","Portia Summers",null,null,null,null,"E",null,"Grade 1 - 2","Grade K - 3","Money math is an important part of every day life. This book breaks down the value of a dollar, teaching young readers how to create a dollar with smaller change. With language that easily breaks down the subject so that anyone can understand, and full-color photographs that illustrate each denomination, students will easily grasp the basics of counting money and how to use it.","English",22.6,16.95,"332.4/040973--dc23","24 pp.",{"$f":"Table1[[#This Row],[QTY]]*Table1[[#This Row],['# of Books]]","v":0},{"$f":"Table1[[#This Row],[QTY]]*Table1[[#This Row],[School & Library Price]]","v":0}]
[null,null,null,55,"The Value of Money","Subtracting Coins and Bills",1,"Library Bound Book","978-0-7660-7722-5",2017,"August 2016","7.125 X 8.500","Author","Portia Summers",null,null,null,null,"F",null,"Grade 1 - 2","Grade K - 3","Through simple text and full-color photos, this book breaks down how to subtract dollars and cents, teaching young readers how to use the math skills they already have and apply it to currency. Words to Know help students learn new vocabulary and “Moments in Minting” sidebars introduce young readers to interesting facts about currency.","English",22.6,16.95,"332.4--dc23 (LOC)","24 pp.",{"$f":"Table1[[#This Row],[QTY]]*Table1[[#This Row],['# of Books]]","v":0},{"$f":"Table1[[#This Row],[QTY]]*Table1[[#This Row],[School & Library Price]]","v":0}]
[null,null,null,55,"The Value of Money","Subtracting Coins and Bills",1,"eBook","978-0-7660-7723-2",2017,"August 2016",null,"Author","Portia Summers",null,null,null,null,"F",null,"Grade 1 - 2","Grade K - 3","Through simple text and full-color photos, this book breaks down how to subtract dollars and cents, teaching young readers how to use the math skills they already have and apply it to currency. Words to Know help students learn new vocabulary and “Moments in Minting” sidebars introduce young readers to interesting facts about currency.","English",22.6,16.95,"332.4--dc23 (LOC)","24 pp.",{"$f":"Table1[[#This Row],[QTY]]*Table1[[#This Row],['# of Books]]","v":0},{"$f":"Table1[[#This Row],[QTY]]*Table1[[#This Row],[School & Library Price]]","v":0}]
[null,null,null,55,"The Value of Money","What Is Money?",1,"Library Bound Book","978-0-7660-7718-8",2017,"August 2016","7.125 X 8.500","Author","Portia Summers",null,null,null,null,"E",null,"Grade 1 - 2","Grade K - 3","Using easy-to-understand language, this book introduces young readers to the concept of money and how to use it. Full-color photographs illustrate each denomination and will help students grasp the basics of money and how to use it. Words to Know help students learn new vocabulary and “Moments in Minting” sidebars introduce young readers to interesting facts about currency.","English",22.6,16.95,"332.4--dc23","24 pp.",{"$f":"Table1[[#This Row],[QTY]]*Table1[[#This Row],['# of Books]]","v":0},{"$f":"Table1[[#This Row],[QTY]]*Table1[[#This Row],[School & Library Price]]","v":0}]
[null,null,null,55,"The Value of Money","What Is Money?",1,"eBook","978-0-7660-7719-5",2017,"August 2016",null,"Author","Portia Summers",null,null,null,null,"E",null,"Grade 1 - 2","Grade K - 3","Using easy-to-understand language, this book introduces young readers to the concept of money and how to use it. Full-color photographs illustrate each denomination and will help students grasp the basics of money and how to use it. Words to Know help students learn new vocabulary and “Moments in Minting” sidebars introduce young readers to interesting facts about currency.","English",22.6,16.95,"332.4--dc23","24 pp.",{"$f":"Table1[[#This Row],[QTY]]*Table1[[#This Row],['# of Books]]","v":0},{"$f":"Table1[[#This Row],[QTY]]*Table1[[#This Row],[School & Library Price]]","v":0}]
[null,null,null,55,"The Value of Money","Word Problems With Money",1,"Library Bound Book","978-0-7660-7713-3",2017,"August 2016","7.125 X 8.500","Author","Portia Summers",null,null,null,null,"F",null,"Grade 1 - 2","Grade K - 3","With full-color photos and simple, engaging language, this book introduces young readers to word problems involving money, helping them learn the skills needed to handle money on a daily basis. Words to Know help students learn new vocabulary and “Moments in Minting” sidebars introduce young readers to interesting facts about currency.","English",22.6,16.95,"332.4/040973--dc23","24 pp.",{"$f":"Table1[[#This Row],[QTY]]*Table1[[#This Row],['# of Books]]","v":0},{"$f":"Table1[[#This Row],[QTY]]*Table1[[#This Row],[School & Library Price]]","v":0}]
[null,null,null,55,"The Value of Money","Word Problems With Money",1,"eBook","978-0-7660-7714-0",2017,"August 2016",null,"Author","Portia Summers",null,null,null,null,"F",null,"Grade 1 - 2","Grade K - 3","With full-color photos and simple, engaging language, this book introduces young readers to word problems involving money, helping them learn the skills needed to handle money on a daily basis. Words to Know help students learn new vocabulary and “Moments in Minting” sidebars introduce young readers to interesting facts about currency.","English",22.6,16.95,"332.4/040973--dc23","24 pp.",{"$f":"Table1[[#This Row],[QTY]]*Table1[[#This Row],['# of Books]]","v":0},{"$f":"Table1[[#This Row],[QTY]]*Table1[[#This Row],[School & Library Price]]","v":0}]
[null,null,null,55,"Easy Genius Math","Easy Genius Math",6,"Library Set","978-0-7660-8025-6",2014,"January 2014","6.000 X 9.000",null,null,null,null,null,null,null,null,"Grade 3 - 6","Grade 3 - 6",null,"English",175.62,131.69999999999999,null,"64 pp.",{"$f":"Table1[[#This Row],[QTY]]*Table1[[#This Row],['# of Books]]","v":0},{"$f":"Table1[[#This Row],[QTY]]*Table1[[#This Row],[School & Library Price]]","v":0}]
[null,null,null,55,"Easy Genius Math","Algebra and Pre-Algebra: It's Easy",1,"Library Bound Book","978-0-7660-4251-3",2014,"January 2014","6.000 X 9.000","Author","Rebecca Wingard-Nelson",null,null,null,null,"P","680L","Grade 4 - 6","Grade 4 - 8","This book teaches and discusses variables, integers, expressions, and absolute values. It also describes the order of operations and takes the reader through multi-step problems. It clearly describes how things change and how things are related. It can be read from beginning to end or used to review a specific topic.","English",29.27,21.95,"512.9","64 pp.",{"$f":"Table1[[#This Row],[QTY]]*Table1[[#This Row],['# of Books]]","v":0},{"$f":"Table1[[#This Row],[QTY]]*Table1[[#This Row],[School & Library Price]]","v":0}]
[null,null,null,55,"Easy Genius Math","Algebra and Pre-Algebra: It's Easy",1,"eBook","978-0-7660-5874-3",2014,"January 2014",null,"Author","Rebecca Wingard-Nelson",null,null,null,null,"P","680L","Grade 4 - 6","Grade 4 - 8","This book teaches and discusses variables, integers, expressions, and absolute values. It also describes the order of operations and takes the reader through multi-step problems. It clearly describes how things change and how things are related. It can be read from beginning to end or used to review a specific topic.","English",29.27,21.95,"512.9","64 pp.",{"$f":"Table1[[#This Row],[QTY]]*Table1[[#This Row],['# of Books]]","v":0},{"$f":"Table1[[#This Row],[QTY]]*Table1[[#This Row],[School & Library Price]]","v":0}]
[null,null,null,55,"Easy Genius Math","Decimals and Fractions: It's Easy",1,"Library Bound Book","978-0-7660-4252-0",2014,"January 2014","6.000 X 9.000","Author","Rebecca Wingard-Nelson",null,null,null,null,"P","640L","Grade 4 - 6","Grade 4 - 8","In this book, students learn how decimals and fractions are related. Add and subtract like and unlike numbers. Write fractions and decimals as percents, and learn how to estimate. This book can be read from beginning to end or used to review a specific topic.","English",29.27,21.95,"513.2","64 pp.",{"$f":"Table1[[#This Row],[QTY]]*Table1[[#This Row],['# of Books]]","v":0},{"$f":"Table1[[#This Row],[QTY]]*Table1[[#This Row],[School & Library Price]]","v":0}]
[null,null,null,55,"Easy Genius Math","Decimals and Fractions: It's Easy",1,"eBook","978-0-7660-5875-0",2014,"January 2014",null,"Author","Rebecca Wingard-Nelson",null,null,null,null,"P","640L","Grade 4 - 6","Grade 4 - 8","In this book, students learn how decimals and fractions are related. Add and subtract like and unlike numbers. Write fractions and decimals as percents, and learn how to estimate. This book can be read from beginning to end or used to review a specific topic.","English",29.27,21.95,"513.2","64 pp.",{"$f":"Table1[[#This Row],[QTY]]*Table1[[#This Row],['# of Books]]","v":0},{"$f":"Table1[[#This Row],[QTY]]*Table1[[#This Row],[School & Library Price]]","v":0}]
[null,null,null,55,"Easy Genius Math","Division and Multiplication: It's Easy",1,"Library Bound Book","978-0-7660-4287-2",2014,"January 2014","6.000 X 9.000","Author","Rebecca Wingard-Nelson",null,null,null,null,"O","690L","Grade 4 - 6","Grade 4 - 8","Readers learn to do long division with remainders, how to multiply two-digit numbers, and get great tips for solving word problems. Multiply and divide fractions and decimals, and learn how to estimate. This book can be read from beginning to end or used to review a specific topic.","English",29.27,21.95,"513.2","64 pp.",{"$f":"Table1[[#This Row],[QTY]]*Table1[[#This Row],['# of Books]]","v":0},{"$f":"Table1[[#This Row],[QTY]]*Table1[[#This Row],[School & Library Price]]","v":0}]
[null,null,null,55,"Easy Genius Math","Division and Multiplication: It's Easy",1,"eBook","978-0-7660-5899-6",2014,"January 2014",null,"Author","Rebecca Wingard-Nelson",null,null,null,null,"O","690L","Grade 4 - 6","Grade 4 - 8","Readers learn to do long division with remainders, how to multiply two-digit numbers, and get great tips for solving word problems. Multiply and divide fractions and decimals, and learn how to estimate. This book can be read from beginning to end or used to review a specific topic.","English",29.27,21.95,"513.2","64 pp.",{"$f":"Table1[[#This Row],[QTY]]*Table1[[#This Row],['# of Books]]","v":0},{"$f":"Table1[[#This Row],[QTY]]*Table1[[#This Row],[School & Library Price]]","v":0}]
[null,null,null,55,"Easy Genius Math","Geometry: It's Easy",1,"Library Bound Book","978-0-7660-4288-9",2014,"January 2014","6.000 X 9.000","Author","Rebecca Wingard-Nelson",null,null,null,null,"O","730L","Grade 4 - 6","Grade 4 - 8","Readers discover points, lines, and planes, and learn about circles, symmetry, and line relationships. They'll practice finding perimeter, area, volume, and circumference. This book can be read from beginning to end, or used to review a specific topic.","English",29.27,21.95,"516","64 pp.",{"$f":"Table1[[#This Row],[QTY]]*Table1[[#This Row],['# of Books]]","v":0},{"$f":"Table1[[#This Row],[QTY]]*Table1[[#This Row],[School & Library Price]]","v":0}]
[null,null,null,55,"Easy Genius Math","Geometry: It's Easy",1,"eBook","978-0-7660-5900-9",2014,"January 2014",null,"Author","Rebecca Wingard-Nelson",null,null,null,null,"O","730L","Grade 4 - 6","Grade 4 - 8","Readers discover points, lines, and planes, and learn about circles, symmetry, and line relationships. They'll practice finding perimeter, area, volume, and circumference. This book can be read from beginning to end, or used to review a specific topic.","English",29.27,21.95,"516","64 pp.",{"$f":"Table1[[#This Row],[QTY]]*Table1[[#This Row],['# of Books]]","v":0},{"$f":"Table1[[#This Row],[QTY]]*Table1[[#This Row],[School & Library Price]]","v":0}]
[null,null,null,55,"Easy Genius Math","Ratios and Percents: It's Easy",1,"Library Bound Book","978-0-7660-4289-6",2014,"January 2014","6.000 X 9.000","Author","Rebecca Wingard-Nelson",null,null,null,null,"O","660L","Grade 4 - 6","Grade 4 - 8","This concise book covers many basic topics on ratios and percents, including equivalent ratios, proportions, scale drawings, rates, and percent change. Readers learn to find sales tax, sale prices, interest, and tips.","English",29.27,21.95,"513.2","64 pp.",{"$f":"Table1[[#This Row],[QTY]]*Table1[[#This Row],['# of Books]]","v":0},{"$f":"Table1[[#This Row],[QTY]]*Table1[[#This Row],[School & Library Price]]","v":0}]
[null,null,null,55,"Easy Genius Math","Ratios and Percents: It's Easy",1,"eBook","978-0-7660-5901-6",2014,"January 2014",null,"Author","Rebecca Wingard-Nelson",null,null,null,null,"O","660L","Grade 4 - 6","Grade 4 - 8","This concise book covers many basic topics on ratios and percents, including equivalent ratios, proportions, scale drawings, rates, and percent change. Readers learn to find sales tax, sale prices, interest, and tips.","English",29.27,21.95,"513.2","64 pp.",{"$f":"Table1[[#This Row],[QTY]]*Table1[[#This Row],['# of Books]]","v":0},{"$f":"Table1[[#This Row],[QTY]]*Table1[[#This Row],[School & Library Price]]","v":0}]
[null,null,null,55,"Easy Genius Math","Subtraction and Addition: It's Easy",1,"Library Bound Book","978-0-7660-4291-9",2014,"January 2014","6.000 X 9.000","Author","Rebecca Wingard-Nelson",null,null,null,null,"O","590L","Grade 4 - 6","Grade 4 - 8","Readers learn to add and subtract mixed numbers and decimals. Pick up great tips for solving word problems. Add and subtract money and time values, and learn to estimate. You can read this book from beginning to end, or use it to review a specific topic.","English",29.27,21.95,"513.2","64 pp.",{"$f":"Table1[[#This Row],[QTY]]*Table1[[#This Row],['# of Books]]","v":0},{"$f":"Table1[[#This Row],[QTY]]*Table1[[#This Row],[School & Library Price]]","v":0}]
[null,null,null,55,"Easy Genius Math","Subtraction and Addition: It's Easy",1,"eBook","978-0-7660-5902-3",2014,"January 2014",null,"Author","Rebecca Wingard-Nelson",null,null,null,null,"O","590L","Grade 4 - 6","Grade 4 - 8","Readers learn to add and subtract mixed numbers and decimals. Pick up great tips for solving word problems. Add and subtract money and time values, and learn to estimate. You can read this book from beginning to end, or use it to review a specific topic.","English",29.27,21.95,"513.2","64 pp.",{"$f":"Table1[[#This Row],[QTY]]*Table1[[#This Row],['# of Books]]","v":0},{"$f":"Table1[[#This Row],[QTY]]*Table1[[#This Row],[School & Library Price]]","v":0}]
[null,null,null,56,"Ready for Math","Ready for Math",6,"Library Set","978-0-7660-8026-3",2014,"January 2014","7.500 X 9.000",null,null,null,null,null,null,null,null,"Grade 3 - 6","Grade 3 - 6",null,"English",151.62,113.7,null,"48 pp.",{"$f":"Table1[[#This Row],[QTY]]*Table1[[#This Row],['# of Books]]","v":0},{"$f":"Table1[[#This Row],[QTY]]*Table1[[#This Row],[School & Library Price]]","v":0}]
[null,null,null,56,"Ready for Math","Ready for Addition",1,"Library Bound Book","978-0-7660-4245-2",2014,"January 2014","7.500 X 9.000","Author","Rebecca Wingard-Nelson",null,null,null,null,"N","590L","Grade 3 - ","Grade 3 - 5","This book covers one-digit, two-digit, and three-digit addition. Learn about partial sums, regrouping, and place value. Add money, time, and key words too! ","English",25.27,18.95,"513.2","48 pp.",{"$f":"Table1[[#This Row],[QTY]]*Table1[[#This Row],['# of Books]]","v":0},{"$f":"Table1[[#This Row],[QTY]]*Table1[[#This Row],[School & Library Price]]","v":0}]
[null,null,null,56,"Ready for Math","Ready for Addition",1,"eBook","978-0-7660-5868-2",2014,"January 2014",null,"Author","Rebecca Wingard-Nelson",null,null,null,null,"N","590L","Grade 3 - ","Grade 3 - 5","This book covers one-digit, two-digit, and three-digit addition. Learn about partial sums, regrouping, and place value. Add money, time, and key words too! ","English",25.27,18.95,"513.2","48 pp.",{"$f":"Table1[[#This Row],[QTY]]*Table1[[#This Row],['# of Books]]","v":0},{"$f":"Table1[[#This Row],[QTY]]*Table1[[#This Row],[School & Library Price]]","v":0}]
[null,null,null,56,"Ready for Math","Ready for Division",1,"Library Bound Book","978-0-7660-4249-0",2014,"January 2014","7.500 X 9.000","Author","Rebecca Wingard-Nelson",null,null,null,null,"N","640L","Grade 3 - ","Grade 3 - 5","This author simply explains topics such as inverse operations, key words, interpreting remainders, and dividing greater numbers. It also covers multiplication, word problems, and remainders. ","English",25.27,18.95,"513.2","48 pp.",{"$f":"Table1[[#This Row],[QTY]]*Table1[[#This Row],['# of Books]]","v":0},{"$f":"Table1[[#This Row],[QTY]]*Table1[[#This Row],[School & Library Price]]","v":0}]
[null,null,null,56,"Ready for Math","Ready for Division",1,"eBook","978-0-7660-5872-9",2014,"January 2014",null,"Author","Rebecca Wingard-Nelson",null,null,null,null,"N","640L","Grade 3 - ","Grade 3 - 5","This author simply explains topics such as inverse operations, key words, interpreting remainders, and dividing greater numbers. It also covers multiplication, word problems, and remainders. ","English",25.27,18.95,"513.2","48 pp.",{"$f":"Table1[[#This Row],[QTY]]*Table1[[#This Row],['# of Books]]","v":0},{"$f":"Table1[[#This Row],[QTY]]*Table1[[#This Row],[School & Library Price]]","v":0}]
[null,null,null,56,"Ready for Math","Ready for Fractions and Decimals",1,"Library Bound Book","978-0-7660-4247-6",2014,"January 2014","7.500 X 9.000","Author","Rebecca Wingard-Nelson",null,null,null,null,"N","680L","Grade 3 - ","Grade 3 - 5","Rebecca Wingard-Nelson simply explains fraction and decimal skills, such as adding mixed numbers, rewriting fractions, estimating decimals, and more.  Learn about equivalent fractions and estimating fractions, as well as comparing and rounding decimals. ","English",25.27,18.95,"513.2","48 pp.",{"$f":"Table1[[#This Row],[QTY]]*Table1[[#This Row],['# of Books]]","v":0},{"$f":"Table1[[#This Row],[QTY]]*Table1[[#This Row],[School & Library Price]]","v":0}]
[null,null,null,56,"Ready for Math","Ready for Fractions and Decimals",1,"eBook","978-0-7660-5870-5",2014,"January 2014",null,"Author","Rebecca Wingard-Nelson",null,null,null,null,"N","680L","Grade 3 - ","Grade 3 - 5","Rebecca Wingard-Nelson simply explains fraction and decimal skills, such as adding mixed numbers, rewriting fractions, estimating decimals, and more.  Learn about equivalent fractions and estimating fractions, as well as comparing and rounding decimals. ","English",25.27,18.95,"513.2","48 pp.",{"$f":"Table1[[#This Row],[QTY]]*Table1[[#This Row],['# of Books]]","v":0},{"$f":"Table1[[#This Row],[QTY]]*Table1[[#This Row],[School & Library Price]]","v":0}]
[null,null,null,56,"Ready for Math","Ready for Multiplication",1,"Library Bound Book","978-0-7660-4248-3",2014,"January 2014","7.500 X 9.000","Author","Rebecca Wingard-Nelson",null,null,null,null,"N","660L","Grade 3 - ","Grade 3 - 5","Learn to tackle topics such as multiplying greater numbers, multiples of ten, and regrouping. You’ll learn multiplication key words, rounding to estimate, and word problems. It also gives a detailed description of basic fact hints that will help the reader. ","English",25.27,18.95,"513.2","48 pp.",{"$f":"Table1[[#This Row],[QTY]]*Table1[[#This Row],['# of Books]]","v":0},{"$f":"Table1[[#This Row],[QTY]]*Table1[[#This Row],[School & Library Price]]","v":0}]
[null,null,null,56,"Ready for Math","Ready for Multiplication",1,"eBook","978-0-7660-5871-2",2014,"January 2014",null,"Author","Rebecca Wingard-Nelson",null,null,null,null,"N","660L","Grade 3 - ","Grade 3 - 5","Learn to tackle topics such as multiplying greater numbers, multiples of ten, and regrouping. You’ll learn multiplication key words, rounding to estimate, and word problems. It also gives a detailed description of basic fact hints that will help the reader. ","English",25.27,18.95,"513.2","48 pp.",{"$f":"Table1[[#This Row],[QTY]]*Table1[[#This Row],['# of Books]]","v":0},{"$f":"Table1[[#This Row],[QTY]]*Table1[[#This Row],[School & Library Price]]","v":0}]
[null,null,null,56,"Ready for Math","Ready for Subtraction",1,"Library Bound Book","978-0-7660-4246-9",2014,"January 2014","7.500 X 9.000","Author","Rebecca Wingard-Nelson",null,null,null,null,"N","600L","Grade 3 - ","Grade 3 - 5","Included in this book are topics such as one-digit, two-digit, and three-digit subtraction. Learn about estimating, regrouping, place value, and rounding. There is also a section on working with and using word problems. ","English",25.27,18.95,"513.2","48 pp.",{"$f":"Table1[[#This Row],[QTY]]*Table1[[#This Row],['# of Books]]","v":0},{"$f":"Table1[[#This Row],[QTY]]*Table1[[#This Row],[School & Library Price]]","v":0}]
[null,null,null,56,"Ready for Math","Ready for Subtraction",1,"eBook","978-0-7660-5869-9",2014,"January 2014",null,"Author","Rebecca Wingard-Nelson",null,null,null,null,"N","600L","Grade 3 - ","Grade 3 - 5","Included in this book are topics such as one-digit, two-digit, and three-digit subtraction. Learn about estimating, regrouping, place value, and rounding. There is also a section on working with and using word problems. ","English",25.27,18.95,"513.2","48 pp.",{"$f":"Table1[[#This Row],[QTY]]*Table1[[#This Row],['# of Books]]","v":0},{"$f":"Table1[[#This Row],[QTY]]*Table1[[#This Row],[School & Library Price]]","v":0}]
[null,null,null,56,"Ready for Math","Ready for Word Problems and Problem Solving",1,"Library Bound Book","978-0-7660-4250-6",2014,"January 2014","7.500 X 9.000","Author","Rebecca Wingard-Nelson",null,null,null,null,"N","590L","Grade 3 - ","Grade 3 - 5","This book explains the steps needed to solve word problems. It begins with problem-solving steps and tips, and then guides readers through the information they need to solve the problem. It covers topics such as looking for patterns and drawing a picture. The reader also learns about logical thinking, and how to work backwards to solve the problem. ","English",25.27,18.95,"510.76","48 pp.",{"$f":"Table1[[#This Row],[QTY]]*Table1[[#This Row],['# of Books]]","v":0},{"$f":"Table1[[#This Row],[QTY]]*Table1[[#This Row],[School & Library Price]]","v":0}]
[null,null,null,56,"Ready for Math","Ready for Word Problems and Problem Solving",1,"eBook","978-0-7660-5873-6",2014,"January 2014",null,"Author","Rebecca Wingard-Nelson",null,null,null,null,"N","590L","Grade 3 - ","Grade 3 - 5","This book explains the steps needed to solve word problems. It begins with problem-solving steps and tips, and then guides readers through the information they need to solve the problem. It covers topics such as looking for patterns and drawing a picture. The reader also learns about logical thinking, and how to work backwards to solve the problem. ","English",25.27,18.95,"510.76","48 pp.",{"$f":"Table1[[#This Row],[QTY]]*Table1[[#This Row],['# of Books]]","v":0},{"$f":"Table1[[#This Row],[QTY]]*Table1[[#This Row],[School & Library Price]]","v":0}]
[null,null,null,56,"Score with Sports Math","Score with Sports Math",6,"Library Set","978-0-7660-8027-0",2014,"August 2013","7.500 X 9.000",null,null,null,null,null,null,null,null,"Grade 3 - 6","Grade 3 - 6",null,"English",151.62,113.7,null,"48 pp.",{"$f":"Table1[[#This Row],[QTY]]*Table1[[#This Row],['# of Books]]","v":0},{"$f":"Table1[[#This Row],[QTY]]*Table1[[#This Row],[School & Library Price]]","v":0}]
[null,null,null,56,"Score with Sports Math","Score with Baseball Math",1,"Library Bound Book","978-0-7660-4174-5",2014,"August 2013","7.500 X 9.000","Author","Stuart A. P. Murray",4.7,null,null,null,"O","760L","Grade 3 - ","Grade 3 - 5","How do you figure out a player's batting average? Which stadium has the biggest outfield? This book uses a variety of techniques to solve a variety of baseball-related math questions. Readers also learn some baseball history and fun facts.","English",25.27,18.95,"796.357","48 pp.",{"$f":"Table1[[#This Row],[QTY]]*Table1[[#This Row],['# of Books]]","v":0},{"$f":"Table1[[#This Row],[QTY]]*Table1[[#This Row],[School & Library Price]]","v":0}]
[null,null,null,56,"Score with Sports Math","Score with Baseball Math",1,"eBook","978-0-7660-5809-5",2014,"August 2013",null,"Author","Stuart A. P. Murray",4.7,null,null,null,"O","760L","Grade 3 - ","Grade 3 - 5","How do you figure out a player's batting average? Which stadium has the biggest outfield? This book uses a variety of techniques to solve a variety of baseball-related math questions. Readers also learn some baseball history and fun facts.","English",25.27,18.95,"796.357","48 pp.",{"$f":"Table1[[#This Row],[QTY]]*Table1[[#This Row],['# of Books]]","v":0},{"$f":"Table1[[#This Row],[QTY]]*Table1[[#This Row],[School & Library Price]]","v":0}]
[null,null,null,56,"Score with Sports Math","Score with Basketball Math",1,"Library Bound Book","978-0-7660-4178-3",2014,"August 2013","7.500 X 9.000","Author","Stuart A. P. Murray",5,null,null,null,"O","760L","Grade 3 - ","Grade 3 - 5","Author Stuart Murray uses a variety of math techniques. Readers learn fun basketball facts and the sports history while brushing up on math skills.","English",25.27,18.95,"513","48 pp.",{"$f":"Table1[[#This Row],[QTY]]*Table1[[#This Row],['# of Books]]","v":0},{"$f":"Table1[[#This Row],[QTY]]*Table1[[#This Row],[School & Library Price]]","v":0}]
[null,null,null,56,"Score with Sports Math","Score with Basketball Math",1,"eBook","978-0-7660-5813-2",2014,"August 2013",null,"Author","Stuart A. P. Murray",5,null,null,null,"O","760L","Grade 3 - ","Grade 3 - 5","Author Stuart Murray uses a variety of math techniques. Readers learn fun basketball facts and the sports history while brushing up on math skills.","English",25.27,18.95,"513","48 pp.",{"$f":"Table1[[#This Row],[QTY]]*Table1[[#This Row],['# of Books]]","v":0},{"$f":"Table1[[#This Row],[QTY]]*Table1[[#This Row],[School & Library Price]]","v":0}]
[null,null,null,56,"Score with Sports Math","Score with Football Math",1,"Library Bound Book","978-0-7660-4173-8",2014,"August 2013","7.500 X 9.000","Author","Stuart A. P. Murray",4.9000000000000004,null,null,null,"O","810L","Grade 3 - ","Grade 3 - 5","This guidebook explores the variety of math skills that are needed to understand football better. Find out how geometry, statistics, and other math skills are part of the game. Author Stuart A.P. Murray also includes history, trivia and math problem solving tips to keep readers interested.","English",25.27,18.95,"796.332092","48 pp.",{"$f":"Table1[[#This Row],[QTY]]*Table1[[#This Row],['# of Books]]","v":0},{"$f":"Table1[[#This Row],[QTY]]*Table1[[#This Row],[School & Library Price]]","v":0}]
[null,null,null,56,"Score with Sports Math","Score with Football Math",1,"eBook","978-0-7660-5808-8",2014,"August 2013",null,"Author","Stuart A. P. Murray",4.9000000000000004,null,null,null,"O","810L","Grade 3 - ","Grade 3 - 5","This guidebook explores the variety of math skills that are needed to understand football better. Find out how geometry, statistics, and other math skills are part of the game. Author Stuart A.P. Murray also includes history, trivia and math problem solving tips to keep readers interested.","English",25.27,18.95,"796.332092","48 pp.",{"$f":"Table1[[#This Row],[QTY]]*Table1[[#This Row],['# of Books]]","v":0},{"$f":"Table1[[#This Row],[QTY]]*Table1[[#This Row],[School & Library Price]]","v":0}]
[null,null,null,56,"Score with Sports Math","Score with Race Car Math",1,"Library Bound Book","978-0-7660-4177-6",2014,"August 2013","7.500 X 9.000","Author","Stuart A. P. Murray",5.0999999999999996,null,null,null,"O","800L","Grade 3 - ","Grade 3 - 5","Which driver was faster? How long is each lap at a race track? How much faster are cars now, compared to the first race cars? Author Stuart Murray uses math to explore the fast paced world of racing. He also includes history facts, trivia, and math problem-solving tips.","English",25.27,18.95,"796.72","48 pp.",{"$f":"Table1[[#This Row],[QTY]]*Table1[[#This Row],['# of Books]]","v":0},{"$f":"Table1[[#This Row],[QTY]]*Table1[[#This Row],[School & Library Price]]","v":0}]
[null,null,null,56,"Score with Sports Math","Score with Race Car Math",1,"eBook","978-0-7660-5812-5",2014,"August 2013",null,"Author","Stuart A. P. Murray",5.0999999999999996,null,null,null,"O","800L","Grade 3 - ","Grade 3 - 5","Which driver was faster? How long is each lap at a race track? How much faster are cars now, compared to the first race cars? Author Stuart Murray uses math to explore the fast paced world of racing. He also includes history facts, trivia, and math problem-solving tips.","English",25.27,18.95,"796.72","48 pp.",{"$f":"Table1[[#This Row],[QTY]]*Table1[[#This Row],['# of Books]]","v":0},{"$f":"Table1[[#This Row],[QTY]]*Table1[[#This Row],[School & Library Price]]","v":0}]
[null,null,null,56,"Score with Sports Math","Score with Soccer Math",1,"Library Bound Book","978-0-7660-4175-2",2014,"August 2013","7.500 X 9.000","Author","Stuart A. P. Murray",5.2,null,null,null,"O","740L","Grade 3 - ","Grade 3 - 5","Readers learn how to find out the perimeter of the penalty box on a soccer field, how to figure out statistics, and how many penalty shots a goalie saves on average. They'll also learn about the history of the sport and math problem-solving tips.","English",25.27,18.95,"796.334","48 pp.",{"$f":"Table1[[#This Row],[QTY]]*Table1[[#This Row],['# of Books]]","v":0},{"$f":"Table1[[#This Row],[QTY]]*Table1[[#This Row],[School & Library Price]]","v":0}]
[null,null,null,56,"Score with Sports Math","Score with Soccer Math",1,"eBook","978-0-7660-5810-1",2014,"August 2013",null,"Author","Stuart A. P. Murray",5.2,null,null,null,"O","740L","Grade 3 - ","Grade 3 - 5","Readers learn how to find out the perimeter of the penalty box on a soccer field, how to figure out statistics, and how many penalty shots a goalie saves on average. They'll also learn about the history of the sport and math problem-solving tips.","English",25.27,18.95,"796.334","48 pp.",{"$f":"Table1[[#This Row],[QTY]]*Table1[[#This Row],['# of Books]]","v":0},{"$f":"Table1[[#This Row],[QTY]]*Table1[[#This Row],[School & Library Price]]","v":0}]
[null,null,null,56,"Score with Sports Math","Score with Track and Field Math",1,"Library Bound Book","978-0-7660-4176-9",2014,"August 2013","7.500 X 9.000","Author","Stuart A. P. Murray",5.0999999999999996,null,null,null,"O","770L","Grade 3 - ","Grade 3 - 5","How many times do runners go around a 400 meter track in a 1,000 meter race? Author Stuart Murray explores the world of track and field sports. Find out history and trivia, such as who first broke the 4-minute mile, and math problem-solving tips.","English",25.27,18.95,"796.01","48 pp.",{"$f":"Table1[[#This Row],[QTY]]*Table1[[#This Row],['# of Books]]","v":0},{"$f":"Table1[[#This Row],[QTY]]*Table1[[#This Row],[School & Library Price]]","v":0}]
[null,null,null,56,"Score with Sports Math","Score with Track and Field Math",1,"eBook","978-0-7660-5811-8",2014,"August 2013",null,"Author","Stuart A. P. Murray",5.0999999999999996,null,null,null,"O","770L","Grade 3 - ","Grade 3 - 5","How many times do runners go around a 400 meter track in a 1,000 meter race? Author Stuart Murray explores the world of track and field sports. Find out history and trivia, such as who first broke the 4-minute mile, and math problem-solving tips.","English",25.27,18.95,"796.01","48 pp.",{"$f":"Table1[[#This Row],[QTY]]*Table1[[#This Row],['# of Books]]","v":0},{"$f":"Table1[[#This Row],[QTY]]*Table1[[#This Row],[School & Library Price]]","v":0}]
[null,null,null,57,"How Does Weather Happen?","How Does Weather Happen?",4,"Library Set","978-0-7660-8028-7",2015,"January 2015","7.500 X 9.000",null,null,null,null,null,null,null,null,"Grade K - 3","Grade K - 3","With the help of this series, early readers eagerly explore the weather around us. Weather affects our daily lives, from the outdoor activities we do, to the clothes we wear. Awareness of weather also allows young readers to begin to consider the world around them. Help prepare your readers with this imaginative set about early science concepts like temperature and the water cycle.","English",90.4,67.8,null,"24 pp.",{"$f":"Table1[[#This Row],[QTY]]*Table1[[#This Row],['# of Books]]","v":0},{"$f":"Table1[[#This Row],[QTY]]*Table1[[#This Row],[School & Library Price]]","v":0}]
[null,null,null,57,"How Does Weather Happen?","Does the Sun Make Weather?",1,"Library Bound Book","978-0-7660-6395-2",2015,"January 2015","7.500 X 9.000","Author","Judith Williams",null,null,null,null,null,null,"Grade K - 1","Grade K - 3","Does the sun make it rain? Do the season change because of the sun? How do you measure temperature? Learn the answers to these questions, and many others in ready to read aloud or for early readers to read on their own. An experiment, \"How can you find out if there is water in plants and soil?\" will challenge young scientists to find their own answers. This title supports the National Science Education Standards for K-4 science.","English",22.6,16.95,null,"24 pp.",{"$f":"Table1[[#This Row],[QTY]]*Table1[[#This Row],['# of Books]]","v":0},{"$f":"Table1[[#This Row],[QTY]]*Table1[[#This Row],[School & Library Price]]","v":0}]
[null,null,null,57,"How Does Weather Happen?","Does the Sun Make Weather?",1,"eBook","978-0-7660-6399-0",2015,"January 2015",null,"Author","Judith Williams",null,null,null,null,null,null,"Grade K - 1","Grade K - 3","Does the sun make it rain? Do the season change because of the sun? How do you measure temperature? Learn the answers to these questions, and many others in ready to read aloud or for early readers to read on their own. An experiment, \"How can you find out if there is water in plants and soil?\" will challenge young scientists to find their own answers. This title supports the National Science Education Standards for K-4 science.","English",22.6,16.95,null,"24 pp.",{"$f":"Table1[[#This Row],[QTY]]*Table1[[#This Row],['# of Books]]","v":0},{"$f":"Table1[[#This Row],[QTY]]*Table1[[#This Row],[School & Library Price]]","v":0}]
[null,null,null,57,"How Does Weather Happen?","How Come It's Raining?",1,"Library Bound Book","978-0-7660-6380-8",2015,"January 2015","7.500 X 9.000","Author","Judith Williams",null,null,null,null,null,null,"Grade K - 1","Grade K - 3","What shape are falling raindrops? Does every cloud make rain? Where does the rain go? Learn the answers to these questions and many others in this title for read-aloud or for early readers.  This book also supports the National Science Education Standards for K–4 science. Young scientists will enjoy trying the experiment \"How much rain has fallen?\" by making their own rain gauge.","English",22.6,16.95,null,"24 pp.",{"$f":"Table1[[#This Row],[QTY]]*Table1[[#This Row],['# of Books]]","v":0},{"$f":"Table1[[#This Row],[QTY]]*Table1[[#This Row],[School & Library Price]]","v":0}]
[null,null,null,57,"How Does Weather Happen?","How Come It's Raining?",1,"eBook","978-0-7660-6384-6",2015,"January 2015",null,"Author","Judith Williams",null,null,null,null,null,null,"Grade K - 1","Grade K - 3","What shape are falling raindrops? Does every cloud make rain? Where does the rain go? Learn the answers to these questions and many others in this title for read-aloud or for early readers.  This book also supports the National Science Education Standards for K–4 science. Young scientists will enjoy trying the experiment \"How much rain has fallen?\" by making their own rain gauge.","English",22.6,16.95,null,"24 pp.",{"$f":"Table1[[#This Row],[QTY]]*Table1[[#This Row],['# of Books]]","v":0},{"$f":"Table1[[#This Row],[QTY]]*Table1[[#This Row],[School & Library Price]]","v":0}]
[null,null,null,57,"How Does Weather Happen?","How Come It's Snowing?",1,"Library Bound Book","978-0-7660-6385-3",2015,"January 2015","7.500 X 9.000","Author","Judith Williams",null,null,null,null,null,null,"Grade K - 1","Grade K - 3","How does water vapor become snow? How many shapes can a snow crystal have? Why are some snowflakes so big? What is a blizzard? How is snow measured? There is so much to learn about snow! New readers will enjoy this colorful, fact-filled book that answers these and other questions. There is even an experiment at the end of the book so the reader can be a scientist! This title is ideal for early readers or read-aloud and also supports the National Science Education Standards for K–4 science.","English",22.6,16.95,null,"24 pp.",{"$f":"Table1[[#This Row],[QTY]]*Table1[[#This Row],['# of Books]]","v":0},{"$f":"Table1[[#This Row],[QTY]]*Table1[[#This Row],[School & Library Price]]","v":0}]
[null,null,null,57,"How Does Weather Happen?","How Come It's Snowing?",1,"eBook","978-0-7660-6389-1",2015,"January 2015",null,"Author","Judith Williams",null,null,null,null,null,null,"Grade K - 1","Grade K - 3","How does water vapor become snow? How many shapes can a snow crystal have? Why are some snowflakes so big? What is a blizzard? How is snow measured? There is so much to learn about snow! New readers will enjoy this colorful, fact-filled book that answers these and other questions. There is even an experiment at the end of the book so the reader can be a scientist! This title is ideal for early readers or read-aloud and also supports the National Science Education Standards for K–4 science.","English",22.6,16.95,null,"24 pp.",{"$f":"Table1[[#This Row],[QTY]]*Table1[[#This Row],['# of Books]]","v":0},{"$f":"Table1[[#This Row],[QTY]]*Table1[[#This Row],[School & Library Price]]","v":0}]
[null,null,null,57,"How Does Weather Happen?","How Come It's Windy?",1,"Library Bound Book","978-0-7660-6390-7",2015,"January 2015","7.500 X 9.000","Author","Judith Williams",null,null,null,null,null,null,"Grade K - 1","Grade K - 3","Ever wonder what makes the wind blow? Or if you can see the wind? How fast does the wind blow? Learn the answers to these questions and many others, as you start reading about the wind. Ideal for read aloud or for early readers to read on their own this fact-filled, full color book also supports the National Science Education Standards for K–4 science. Young weather scientists will want to try the experiment , “How hard is the wind blowing this week?”, to satisfy their curiosity.","English",22.6,16.95,null,"24 pp.",{"$f":"Table1[[#This Row],[QTY]]*Table1[[#This Row],['# of Books]]","v":0},{"$f":"Table1[[#This Row],[QTY]]*Table1[[#This Row],[School & Library Price]]","v":0}]
[null,null,null,57,"How Does Weather Happen?","How Come It's Windy?",1,"eBook","978-0-7660-6394-5",2015,"January 2015",null,"Author","Judith Williams",null,null,null,null,null,null,"Grade K - 1","Grade K - 3","Ever wonder what makes the wind blow? Or if you can see the wind? How fast does the wind blow? Learn the answers to these questions and many others, as you start reading about the wind. Ideal for read aloud or for early readers to read on their own this fact-filled, full color book also supports the National Science Education Standards for K–4 science. Young weather scientists will want to try the experiment , “How hard is the wind blowing this week?”, to satisfy their curiosity.","English",22.6,16.95,null,"24 pp.",{"$f":"Table1[[#This Row],[QTY]]*Table1[[#This Row],['# of Books]]","v":0},{"$f":"Table1[[#This Row],[QTY]]*Table1[[#This Row],[School & Library Price]]","v":0}]
[null,null,null,57,"Earth's Natural Disasters","Earth's Natural Disasters",6,"Library Set","978-0-7660-6680-9",2016,"August 2015","7.125 X 8.500",null,null,null,null,null,null,null,null,"Grade 3 - 4","Grade 3 - 5","Earth is an ever-changing planet, sometimes with disastrous results to humans. In this series, readers learn about some of the most impactful disasters as well as the science behind these natural catastrophes. Each book includes coverage of the most recent events and what scientists are doing to help better predict, prevent, and protect people from the effects.\n\n-\"Words to Know\" prepares readers to understand new vocabulary terms\n\n-Introduces readers to natural hazards associated with plate tectonics and large-scale system interactions\n\n-Connects Earth science to recent events in the news \n\n","English",151.62,113.7,null,"32 pp.",{"$f":"Table1[[#This Row],[QTY]]*Table1[[#This Row],['# of Books]]","v":0},{"$f":"Table1[[#This Row],[QTY]]*Table1[[#This Row],[School & Library Price]]","v":0}]
[null,null,null,57,"Earth's Natural Disasters","Awful Avalanches",1,"Library Bound Book","978-0-7660-6791-2",2016,"August 2015","7.125 X 8.500","Author, Author","Jane Katirgis, Michele Ingber Drohan",4.5,0.5,null,null,"N",null,"Grade 3 - 4","Grade 3 - 5","What are avalanches? What causes them? Learn about avalanches and what is being done to keep people safe from them.","English",25.27,18.95,"551.57'848--dc23","32 pp.",{"$f":"Table1[[#This Row],[QTY]]*Table1[[#This Row],['# of Books]]","v":0},{"$f":"Table1[[#This Row],[QTY]]*Table1[[#This Row],[School & Library Price]]","v":0}]
[null,null,null,57,"Earth's Natural Disasters","Awful Avalanches",1,"eBook","978-0-7660-6792-9",2016,"August 2015",null,"Author, Author","Jane Katirgis, Michele Ingber Drohan",4.5,0.5,null,null,"N",null,"Grade 3 - 4","Grade 3 - 5","What are avalanches? What causes them? Learn about avalanches and what is being done to keep people safe from them.","English",25.27,18.95,"551.57'848--dc23","32 pp.",{"$f":"Table1[[#This Row],[QTY]]*Table1[[#This Row],['# of Books]]","v":0},{"$f":"Table1[[#This Row],[QTY]]*Table1[[#This Row],[School & Library Price]]","v":0}]
[null,null,null,57,"Earth's Natural Disasters","Eerie Earthquakes",1,"Library Bound Book","978-0-7660-6795-0",2016,"August 2015","7.125 X 8.500","Author, Author","Jane Katirgis, Michele Ingber Drohan",4.5999999999999996,0.5,null,null,"M",null,"Grade 3 - 4","Grade 3 - 5","What causes earthquakes? Where do they happen?  How can people stay safe during them? Learn all about earthquakes so that you can be prepared.","English",25.27,18.95,"551.22--dc23","32 pp.",{"$f":"Table1[[#This Row],[QTY]]*Table1[[#This Row],['# of Books]]","v":0},{"$f":"Table1[[#This Row],[QTY]]*Table1[[#This Row],[School & Library Price]]","v":0}]
[null,null,null,57,"Earth's Natural Disasters","Eerie Earthquakes",1,"eBook","978-0-7660-6796-7",2016,"August 2015",null,"Author, Author","Jane Katirgis, Michele Ingber Drohan",4.5999999999999996,0.5,null,null,"M",null,"Grade 3 - 4","Grade 3 - 5","What causes earthquakes? Where do they happen?  How can people stay safe during them? Learn all about earthquakes so that you can be prepared.","English",25.27,18.95,"551.22--dc23","32 pp.",{"$f":"Table1[[#This Row],[QTY]]*Table1[[#This Row],['# of Books]]","v":0},{"$f":"Table1[[#This Row],[QTY]]*Table1[[#This Row],[School & Library Price]]","v":0}]
[null,null,null,57,"Earth's Natural Disasters","Fearsome Forest Fires",1,"Library Bound Book","978-0-7660-6811-7",2016,"August 2015","7.125 X 8.500","Author, Author","Jane Katirgis, Michele Ingber Drohan",4.2,0.5,null,null,"M",null,"Grade 3 - 4","Grade 3 - 5","What causes forest fires? How are they stopped? What are we doing to protect our forests, our animals, and ourselves from them? Find answers to these questions and more.","English",25.27,18.95,"634.9'618--dc23","32 pp.",{"$f":"Table1[[#This Row],[QTY]]*Table1[[#This Row],['# of Books]]","v":0},{"$f":"Table1[[#This Row],[QTY]]*Table1[[#This Row],[School & Library Price]]","v":0}]
[null,null,null,57,"Earth's Natural Disasters","Fearsome Forest Fires",1,"eBook","978-0-7660-6812-4",2016,"August 2015",null,"Author, Author","Jane Katirgis, Michele Ingber Drohan",4.2,0.5,null,null,"M",null,"Grade 3 - 4","Grade 3 - 5","What causes forest fires? How are they stopped? What are we doing to protect our forests, our animals, and ourselves from them? Find answers to these questions and more.","English",25.27,18.95,"634.9'618--dc23","32 pp.",{"$f":"Table1[[#This Row],[QTY]]*Table1[[#This Row],['# of Books]]","v":0},{"$f":"Table1[[#This Row],[QTY]]*Table1[[#This Row],[School & Library Price]]","v":0}]
[null,null,null,57,"Earth's Natural Disasters","Frightening Floods",1,"Library Bound Book","978-0-7660-6799-8",2016,"August 2015","7.125 X 8.500","Author, Author","Jane Katirgis, Michele Ingber Drohan",4.5999999999999996,0.5,null,null,"M",null,"Grade 3 - 4","Grade 3 - 5","What causes floods? How can we prevent them? How do you stay safe in a flood? Find out answers to these questions and more.","English",25.27,18.95,"551.48'9--dc23","32 pp.",{"$f":"Table1[[#This Row],[QTY]]*Table1[[#This Row],['# of Books]]","v":0},{"$f":"Table1[[#This Row],[QTY]]*Table1[[#This Row],[School & Library Price]]","v":0}]
[null,null,null,57,"Earth's Natural Disasters","Frightening Floods",1,"eBook","978-0-7660-6800-1",2016,"August 2015",null,"Author, Author","Jane Katirgis, Michele Ingber Drohan",4.5999999999999996,0.5,null,null,"M",null,"Grade 3 - 4","Grade 3 - 5","What causes floods? How can we prevent them? How do you stay safe in a flood? Find out answers to these questions and more.","English",25.27,18.95,"551.48'9--dc23","32 pp.",{"$f":"Table1[[#This Row],[QTY]]*Table1[[#This Row],['# of Books]]","v":0},{"$f":"Table1[[#This Row],[QTY]]*Table1[[#This Row],[School & Library Price]]","v":0}]
[null,null,null,57,"Earth's Natural Disasters","Scary Tsunamis",1,"Library Bound Book","978-0-7660-6807-0",2016,"August 2015","7.125 X 8.500","Author, Author","Jane Katirgis, Michele Ingber Drohan",5,0.5,null,null,"N",null,"Grade 3 - 4","Grade 3 - 5","What is a tsunami? What causes one? Is there any way to predict them? Learn all about tsunamis and how to stay safe during one.","English",25.27,18.95,"551.46'37--dc23","32 pp.",{"$f":"Table1[[#This Row],[QTY]]*Table1[[#This Row],['# of Books]]","v":0},{"$f":"Table1[[#This Row],[QTY]]*Table1[[#This Row],[School & Library Price]]","v":0}]
[null,null,null,57,"Earth's Natural Disasters","Scary Tsunamis",1,"eBook","978-0-7660-6808-7",2016,"August 2015",null,"Author, Author","Jane Katirgis, Michele Ingber Drohan",5,0.5,null,null,"N",null,"Grade 3 - 4","Grade 3 - 5","What is a tsunami? What causes one? Is there any way to predict them? Learn all about tsunamis and how to stay safe during one.","English",25.27,18.95,"551.46'37--dc23","32 pp.",{"$f":"Table1[[#This Row],[QTY]]*Table1[[#This Row],['# of Books]]","v":0},{"$f":"Table1[[#This Row],[QTY]]*Table1[[#This Row],[School & Library Price]]","v":0}]
[null,null,null,57,"Earth's Natural Disasters","Volatile Volcanoes",1,"Library Bound Book","978-0-7660-6803-2",2016,"August 2015","7.125 X 8.500","Author, Author","Jane Katirgis, Michele Ingber Drohan",4.5999999999999996,0.5,null,null,"N",null,"Grade 3 - 4","Grade 3 - 5","What is a volcano? How is one formed? Is there a way to predict eruptions? Find out the answers to these questions and more.","English",25.27,18.95,"551.21--dc23","32 pp.",{"$f":"Table1[[#This Row],[QTY]]*Table1[[#This Row],['# of Books]]","v":0},{"$f":"Table1[[#This Row],[QTY]]*Table1[[#This Row],[School & Library Price]]","v":0}]
[null,null,null,57,"Earth's Natural Disasters","Volatile Volcanoes",1,"eBook","978-0-7660-6804-9",2016,"August 2015",null,"Author, Author","Jane Katirgis, Michele Ingber Drohan",4.5999999999999996,0.5,null,null,"N",null,"Grade 3 - 4","Grade 3 - 5","What is a volcano? How is one formed? Is there a way to predict eruptions? Find out the answers to these questions and more.","English",25.27,18.95,"551.21--dc23","32 pp.",{"$f":"Table1[[#This Row],[QTY]]*Table1[[#This Row],['# of Books]]","v":0},{"$f":"Table1[[#This Row],[QTY]]*Table1[[#This Row],[School & Library Price]]","v":0}]
[null,null,null,58,"Launch into Space!","Launch into Space!",6,"Library Set","978-0-7660-6682-3",2016,"August 2015","7.125 X 8.500",null,null,null,null,null,null,null,null,"Grade 3 - 4","Grade 3 - 5","Why are stars different colors? Where did the Moon come from? What are Saturn's rings made of? Blast off into space to discover the secrets of the universe! These friendly, accessible books introduce young readers to basic space concepts. Fun facts and information on careers exploring space may inspire even casual readers to take a deeper look.\n\n\n\n-Introduces readers to space systems, including the universe, its stars, Earth, and the solar system\n\n-Suggestions for nonfiction books and Web sites for additional information\n\n-\"Words to Know\" prepares readers to understand new vocabulary terms\n\n-Fact boxes provide engaging bonus information  \n\n","English",151.62,113.7,null,"32 pp.",{"$f":"Table1[[#This Row],[QTY]]*Table1[[#This Row],['# of Books]]","v":0},{"$f":"Table1[[#This Row],[QTY]]*Table1[[#This Row],[School & Library Price]]","v":0}]
[null,null,null,58,"Launch into Space!","Astronauts Explore the Galaxy",1,"Library Bound Book","978-0-7660-6815-5",2016,"August 2015","7.125 X 8.500","Author","Carmen Bredeson",4,0.5,null,null,"N",null,"Grade 3 - 4","Grade 3 - 5","Discover what life is like for astronauts in space—what they eat, how they sleep, how they work, and much more!","English",25.27,18.95,"629.45—dc23","32 pp.",{"$f":"Table1[[#This Row],[QTY]]*Table1[[#This Row],['# of Books]]","v":0},{"$f":"Table1[[#This Row],[QTY]]*Table1[[#This Row],[School & Library Price]]","v":0}]
[null,null,null,58,"Launch into Space!","Astronauts Explore the Galaxy",1,"eBook","978-0-7660-6816-2",2016,"August 2015",null,"Author","Carmen Bredeson",4,0.5,null,null,"N",null,"Grade 3 - 4","Grade 3 - 5","Discover what life is like for astronauts in space—what they eat, how they sleep, how they work, and much more!","English",25.27,18.95,"629.45—dc23","32 pp.",{"$f":"Table1[[#This Row],[QTY]]*Table1[[#This Row],['# of Books]]","v":0},{"$f":"Table1[[#This Row],[QTY]]*Table1[[#This Row],[School & Library Price]]","v":0}]
[null,null,null,58,"Launch into Space!","Exploring Earth",1,"Library Bound Book","978-0-7660-6819-3",2016,"August 2015","7.125 X 8.500","Author","Carmen Bredeson",3.6,0.5,null,null,"M",null,"Grade 3 - 4","Grade 3 - 5","Why is Earth the only planet in the solar system that has life? Why are there four seasons? What causes the weather? Discover the answers to these questions and more as you explore Earth.","English",25.27,18.95,"523.3—dc23","32 pp.",{"$f":"Table1[[#This Row],[QTY]]*Table1[[#This Row],['# of Books]]","v":0},{"$f":"Table1[[#This Row],[QTY]]*Table1[[#This Row],[School & Library Price]]","v":0}]
[null,null,null,58,"Launch into Space!","Exploring Earth",1,"eBook","978-0-7660-6820-9",2016,"August 2015",null,"Author","Carmen Bredeson",3.6,0.5,null,null,"M",null,"Grade 3 - 4","Grade 3 - 5","Why is Earth the only planet in the solar system that has life? Why are there four seasons? What causes the weather? Discover the answers to these questions and more as you explore Earth.","English",25.27,18.95,"523.3—dc23","32 pp.",{"$f":"Table1[[#This Row],[QTY]]*Table1[[#This Row],['# of Books]]","v":0},{"$f":"Table1[[#This Row],[QTY]]*Table1[[#This Row],[School & Library Price]]","v":0}]
[null,null,null,58,"Launch into Space!","Exploring the Moon",1,"Library Bound Book","978-0-7660-6823-0",2016,"August 2015","7.125 X 8.500","Author","Carmen Bredeson",4.0999999999999996,0.5,null,null,"N",null,"Grade 3 - 4","Grade 3 - 5","What is the Moon made of? Who has been to the Moon? Why does the Moon change shape? Discover the answers to these questions and more as you explore the Moon.","English",25.27,18.95,null,"32 pp.",{"$f":"Table1[[#This Row],[QTY]]*Table1[[#This Row],['# of Books]]","v":0},{"$f":"Table1[[#This Row],[QTY]]*Table1[[#This Row],[School & Library Price]]","v":0}]
[null,null,null,58,"Launch into Space!","Exploring the Moon",1,"eBook","978-0-7660-6824-7",2016,"August 2015",null,"Author","Carmen Bredeson",4.0999999999999996,0.5,null,null,"N",null,"Grade 3 - 4","Grade 3 - 5","What is the Moon made of? Who has been to the Moon? Why does the Moon change shape? Discover the answers to these questions and more as you explore the Moon.","English",25.27,18.95,null,"32 pp.",{"$f":"Table1[[#This Row],[QTY]]*Table1[[#This Row],['# of Books]]","v":0},{"$f":"Table1[[#This Row],[QTY]]*Table1[[#This Row],[School & Library Price]]","v":0}]
[null,null,null,58,"Launch into Space!","Exploring the Solar System",1,"Library Bound Book","978-0-7660-6827-8",2016,"August 2015","7.125 X 8.500","Author","Carmen Bredeson",4.3,0.5,null,null,"N",null,"Grade 3 - 4","Grade 3 - 5","What is a solar system? How many planets are there in our solar system? How many moons? What lies beyond our solar system? Discover the answers to all these questions and more as you explore the solar system.","English",25.27,18.95,"523.7—dc23","32 pp.",{"$f":"Table1[[#This Row],[QTY]]*Table1[[#This Row],['# of Books]]","v":0},{"$f":"Table1[[#This Row],[QTY]]*Table1[[#This Row],[School & Library Price]]","v":0}]
[null,null,null,58,"Launch into Space!","Exploring the Solar System",1,"eBook","978-0-7660-6828-5",2016,"August 2015",null,"Author","Carmen Bredeson",4.3,0.5,null,null,"N",null,"Grade 3 - 4","Grade 3 - 5","What is a solar system? How many planets are there in our solar system? How many moons? What lies beyond our solar system? Discover the answers to all these questions and more as you explore the solar system.","English",25.27,18.95,"523.7—dc23","32 pp.",{"$f":"Table1[[#This Row],[QTY]]*Table1[[#This Row],['# of Books]]","v":0},{"$f":"Table1[[#This Row],[QTY]]*Table1[[#This Row],[School & Library Price]]","v":0}]
[null,null,null,58,"Launch into Space!","Exploring the Stars",1,"Library Bound Book","978-0-7660-6831-5",2016,"August 2015","7.125 X 8.500","Author","Carmen Bredeson",3.9,0.5,null,null,"N",null,"Grade 3 - 4","Grade 3 - 5","What is a star? Why are stars different colors? What is a constellation? Who studies the stars? Discover the answers to all these questions and more as you explore the stars.","English",25.27,18.95,"523.8—dc23","32 pp.",{"$f":"Table1[[#This Row],[QTY]]*Table1[[#This Row],['# of Books]]","v":0},{"$f":"Table1[[#This Row],[QTY]]*Table1[[#This Row],[School & Library Price]]","v":0}]
[null,null,null,58,"Launch into Space!","Exploring the Stars",1,"eBook","978-0-7660-6832-2",2016,"August 2015",null,"Author","Carmen Bredeson",3.9,0.5,null,null,"N",null,"Grade 3 - 4","Grade 3 - 5","What is a star? Why are stars different colors? What is a constellation? Who studies the stars? Discover the answers to all these questions and more as you explore the stars.","English",25.27,18.95,"523.8—dc23","32 pp.",{"$f":"Table1[[#This Row],[QTY]]*Table1[[#This Row],['# of Books]]","v":0},{"$f":"Table1[[#This Row],[QTY]]*Table1[[#This Row],[School & Library Price]]","v":0}]
[null,null,null,58,"Launch into Space!","Exploring the Sun",1,"Library Bound Book","978-0-7660-6835-3",2016,"August 2015","7.125 X 8.500","Author","Carmen Bredeson",3.4,0.5,null,null,"N",null,"Grade 3 - 4","Grade 3 - 5","How far away is the Sun? What is the Sun made of? How big is the Sun? Why is it important to life on Earth? Discover the answers to these questions and more as you explore the Sun.","English",25.27,18.95,"523.7—dc23","32 pp.",{"$f":"Table1[[#This Row],[QTY]]*Table1[[#This Row],['# of Books]]","v":0},{"$f":"Table1[[#This Row],[QTY]]*Table1[[#This Row],[School & Library Price]]","v":0}]
[null,null,null,58,"Launch into Space!","Exploring the Sun",1,"eBook","978-0-7660-6836-0",2016,"August 2015",null,"Author","Carmen Bredeson",3.4,0.5,null,null,"N",null,"Grade 3 - 4","Grade 3 - 5","How far away is the Sun? What is the Sun made of? How big is the Sun? Why is it important to life on Earth? Discover the answers to these questions and more as you explore the Sun.","English",25.27,18.95,"523.7—dc23","32 pp.",{"$f":"Table1[[#This Row],[QTY]]*Table1[[#This Row],['# of Books]]","v":0},{"$f":"Table1[[#This Row],[QTY]]*Table1[[#This Row],[School & Library Price]]","v":0}]
[null,null,null,58,"The Rock Cycle","The Rock Cycle",6,"Library Set","978-0-7660-7434-7",2016,"January 2016","7.125 X 8.500",null,null,null,null,null,null,null,null,"Grade 3 - 4","Grade 3 - 6","Junior scientists can explore how rocks are formed, the huge variety in minerals and stones, and the affect erosion has on Earth. Full-page photos and graphs illustrate many ways rocks are essential to life on Earth. Easy-to-understand text helps young readers understand the intricacies of basic geology.\n\n• Explains the rock cycle\n\n• Supports Next Generation Science Standards","English",151.62,113.7,null,"32 pp.",{"$f":"Table1[[#This Row],[QTY]]*Table1[[#This Row],['# of Books]]","v":0},{"$f":"Table1[[#This Row],[QTY]]*Table1[[#This Row],[School & Library Price]]","v":0}]
[null,null,null,58,"The Rock Cycle","A Look at Erosion and Weathering",1,"Library Bound Book","978-0-7660-7280-0",2016,"January 2016","7.125 X 8.500","Author","Cecelia H. Brannon",5.2,0.5,null,null,"P",null,"Grade 3 - 4","Grade 3 - 6","Full-page photos and graphs illustrate the topics covered, while easy-to-comprehend text helps readers understand the concepts of erosion and weathering, including the difference between these two processes and how they affect rocks in the rock cycle.","English",25.27,18.95,"551.3'52--dc23","32 pp.",{"$f":"Table1[[#This Row],[QTY]]*Table1[[#This Row],['# of Books]]","v":0},{"$f":"Table1[[#This Row],[QTY]]*Table1[[#This Row],[School & Library Price]]","v":0}]
[null,null,null,58,"The Rock Cycle","A Look at Erosion and Weathering",1,"eBook","978-0-7660-7281-7",2016,"January 2016",null,"Author","Cecelia H. Brannon",5.2,0.5,null,null,"P",null,"Grade 3 - 4","Grade 3 - 6","Full-page photos and graphs illustrate the topics covered, while easy-to-comprehend text helps readers understand the concepts of erosion and weathering, including the difference between these two processes and how they affect rocks in the rock cycle.","English",25.27,18.95,"551.3'52--dc23","32 pp.",{"$f":"Table1[[#This Row],[QTY]]*Table1[[#This Row],['# of Books]]","v":0},{"$f":"Table1[[#This Row],[QTY]]*Table1[[#This Row],[School & Library Price]]","v":0}]
[null,null,null,58,"The Rock Cycle","A Look at Igneous Rocks",1,"Library Bound Book","978-0-7660-7318-0",2016,"January 2016","7.125 X 8.500","Author","Cecelia H. Brannon",5.4,0.5,null,null,"Q",null,"Grade 3 - 4","Grade 3 - 6","Easy-to-comprehend language and full-page photographs of igneous rocks inform readers on what they are, how they are formed, the different kinds that exist, and how humans use them.","English",25.27,18.95,"552.1--dc23","32 pp.",{"$f":"Table1[[#This Row],[QTY]]*Table1[[#This Row],['# of Books]]","v":0},{"$f":"Table1[[#This Row],[QTY]]*Table1[[#This Row],[School & Library Price]]","v":0}]
[null,null,null,58,"The Rock Cycle","A Look at Igneous Rocks",1,"eBook","978-0-7660-7319-7",2016,"January 2016",null,"Author","Cecelia H. Brannon",5.4,0.5,null,null,"Q",null,"Grade 3 - 4","Grade 3 - 6","Easy-to-comprehend language and full-page photographs of igneous rocks inform readers on what they are, how they are formed, the different kinds that exist, and how humans use them.","English",25.27,18.95,"552.1--dc23","32 pp.",{"$f":"Table1[[#This Row],[QTY]]*Table1[[#This Row],['# of Books]]","v":0},{"$f":"Table1[[#This Row],[QTY]]*Table1[[#This Row],[School & Library Price]]","v":0}]
[null,null,null,58,"The Rock Cycle","A Look at Metamorphic Rocks",1,"Library Bound Book","978-0-7660-7322-7",2016,"January 2016","7.125 X 8.500","Author","Cecelia H. Brannon",5.5,0.5,null,null,"R",null,"Grade 3 - 4","Grade 3 - 6","Through explanatory text and details written in an engaging and easy-to-understand style, this book explores metamorphic rocks in depth, including what they are, how they are formed, and the different kinds that exist. Full-page photos and graphics demonstrate key ideas for young readers.","English",25.27,18.95,"552.4--dc23","32 pp.",{"$f":"Table1[[#This Row],[QTY]]*Table1[[#This Row],['# of Books]]","v":0},{"$f":"Table1[[#This Row],[QTY]]*Table1[[#This Row],[School & Library Price]]","v":0}]
[null,null,null,58,"The Rock Cycle","A Look at Metamorphic Rocks",1,"eBook","978-0-7660-7323-4",2016,"January 2016",null,"Author","Cecelia H. Brannon",5.5,0.5,null,null,"R",null,"Grade 3 - 4","Grade 3 - 6","Through explanatory text and details written in an engaging and easy-to-understand style, this book explores metamorphic rocks in depth, including what they are, how they are formed, and the different kinds that exist. Full-page photos and graphics demonstrate key ideas for young readers.","English",25.27,18.95,"552.4--dc23","32 pp.",{"$f":"Table1[[#This Row],[QTY]]*Table1[[#This Row],['# of Books]]","v":0},{"$f":"Table1[[#This Row],[QTY]]*Table1[[#This Row],[School & Library Price]]","v":0}]
[null,null,null,58,"The Rock Cycle","A Look at Minerals",1,"Library Bound Book","978-0-7660-7309-8",2016,"January 2016","7.125 X 8.500","Author","Cecelia H. Brannon",5.5,0.5,null,null,"Q",null,"Grade 3 - 4","Grade 3 - 6","Analyzing texture, consistency, and hardness, this book discusses minerals in depth, even including what elements are in them and where they can be found. Full-page photos illustrate the differences between minerals and show readers just how fun geology can be!","English",25.27,18.95,"549--dc23","32 pp.",{"$f":"Table1[[#This Row],[QTY]]*Table1[[#This Row],['# of Books]]","v":0},{"$f":"Table1[[#This Row],[QTY]]*Table1[[#This Row],[School & Library Price]]","v":0}]
[null,null,null,58,"The Rock Cycle","A Look at Minerals",1,"eBook","978-0-7660-7310-4",2016,"January 2016",null,"Author","Cecelia H. Brannon",5.5,0.5,null,null,"Q",null,"Grade 3 - 4","Grade 3 - 6","Analyzing texture, consistency, and hardness, this book discusses minerals in depth, even including what elements are in them and where they can be found. Full-page photos illustrate the differences between minerals and show readers just how fun geology can be!","English",25.27,18.95,"549--dc23","32 pp.",{"$f":"Table1[[#This Row],[QTY]]*Table1[[#This Row],['# of Books]]","v":0},{"$f":"Table1[[#This Row],[QTY]]*Table1[[#This Row],[School & Library Price]]","v":0}]
[null,null,null,58,"The Rock Cycle","A Look at Sand, Silt, and Mud",1,"Library Bound Book","978-0-7660-7334-0",2016,"January 2016","7.125 X 8.500","Author","Cecelia H. Brannon",4.9000000000000004,0.5,null,null,"P",null,"Grade 3 - 4","Grade 3 - 6","They might just seem like types of dirt, but young readers will soon recognize the importance of sand, silt, and mud in the rock cycle. Full-page photos, intriguing text, and fun facts describe the differences between them, and why they’re such an integral part of the earth’s surface.","English",25.27,18.95,"553.6--dc23","32 pp.",{"$f":"Table1[[#This Row],[QTY]]*Table1[[#This Row],['# of Books]]","v":0},{"$f":"Table1[[#This Row],[QTY]]*Table1[[#This Row],[School & Library Price]]","v":0}]
[null,null,null,58,"The Rock Cycle","A Look at Sand, Silt, and Mud",1,"eBook","978-0-7660-7335-7",2016,"January 2016",null,"Author","Cecelia H. Brannon",4.9000000000000004,0.5,null,null,"P",null,"Grade 3 - 4","Grade 3 - 6","They might just seem like types of dirt, but young readers will soon recognize the importance of sand, silt, and mud in the rock cycle. Full-page photos, intriguing text, and fun facts describe the differences between them, and why they’re such an integral part of the earth’s surface.","English",25.27,18.95,"553.6--dc23","32 pp.",{"$f":"Table1[[#This Row],[QTY]]*Table1[[#This Row],['# of Books]]","v":0},{"$f":"Table1[[#This Row],[QTY]]*Table1[[#This Row],[School & Library Price]]","v":0}]
[null,null,null,58,"The Rock Cycle","A Look at Sedimentary Rocks",1,"Library Bound Book","978-0-7660-7338-8",2016,"January 2016","7.125 X 8.500","Author","Cecelia H. Brannon",5.7,0.5,null,null,"R",null,"Grade 3 - 4","Grade 3 - 6","Through simple text and intriguing facts, amateur geologists will learn about sedimentary rocks, including what they are, how they’re formed, and the different kinds found on earth. Young readers will recognize some of the most famous geological sites in the world through full-page photos and gain a new appreciation for the earth around them.","English",25.27,18.95,"552.5--dc23","32 pp.",{"$f":"Table1[[#This Row],[QTY]]*Table1[[#This Row],['# of Books]]","v":0},{"$f":"Table1[[#This Row],[QTY]]*Table1[[#This Row],[School & Library Price]]","v":0}]
[null,null,null,58,"The Rock Cycle","A Look at Sedimentary Rocks",1,"eBook","978-0-7660-7339-5",2016,"January 2016",null,"Author","Cecelia H. Brannon",5.7,0.5,null,null,"R",null,"Grade 3 - 4","Grade 3 - 6","Through simple text and intriguing facts, amateur geologists will learn about sedimentary rocks, including what they are, how they’re formed, and the different kinds found on earth. Young readers will recognize some of the most famous geological sites in the world through full-page photos and gain a new appreciation for the earth around them.","English",25.27,18.95,"552.5--dc23","32 pp.",{"$f":"Table1[[#This Row],[QTY]]*Table1[[#This Row],['# of Books]]","v":0},{"$f":"Table1[[#This Row],[QTY]]*Table1[[#This Row],[School & Library Price]]","v":0}]
[null,null,null,59,"Discover the World's Biomes","Discover the World's Biomes",6,"Library Set","978-0-7660-8029-4",2015,"January 2015","7.500 X 9.000",null,null,null,null,null,null,null,null,"Grade K - 3","Grade K - 3","The biomes of the world provide beauty, interest, and depth to our world. More importantly, biomes are a vital part of the Earth’s ecosystem. This in-depth series for early readers explores the environment and wildlife existing within these important communities. Warm, bright, and vibrant photographs visually explain each biome’s climate and landscape.","English",151.62,113.7,null,"48 pp.",{"$f":"Table1[[#This Row],[QTY]]*Table1[[#This Row],['# of Books]]","v":0},{"$f":"Table1[[#This Row],[QTY]]*Table1[[#This Row],[School & Library Price]]","v":0}]
[null,null,null,59,"Discover the World's Biomes","The Desert: Discover This Dry Biome",1,"Library Bound Book","978-0-7660-6400-3",2015,"January 2015","7.500 X 9.000","Author","Philip Johansson",null,null,null,null,null,null,"Grade 3 - 4","Grade 3 - 6","Take a walk in the desert during the day and you will probably feel the heat! But if you spend a little time there, you will also notice plants and animals that make the desert their home. What animals and plants could survive in such a place? In this eye-opening book, you will learn why the desert biome can support such a surprising variety of plants and wildlife, despite its harsh conditions. From tortoises and sheep to cacti and Joshua trees, every living thing plays a part in this biome community. Come take a hike along the sandy dunes and see how the web of life thrives in the desert biome.","English",25.27,18.95,null,"48 pp.",{"$f":"Table1[[#This Row],[QTY]]*Table1[[#This Row],['# of Books]]","v":0},{"$f":"Table1[[#This Row],[QTY]]*Table1[[#This Row],[School & Library Price]]","v":0}]
[null,null,null,59,"Discover the World's Biomes","The Desert: Discover This Dry Biome",1,"eBook","978-0-7660-6404-1",2015,"January 2015",null,"Author","Philip Johansson",null,null,null,null,null,null,"Grade 3 - 4","Grade 3 - 6","Take a walk in the desert during the day and you will probably feel the heat! But if you spend a little time there, you will also notice plants and animals that make the desert their home. What animals and plants could survive in such a place? In this eye-opening book, you will learn why the desert biome can support such a surprising variety of plants and wildlife, despite its harsh conditions. From tortoises and sheep to cacti and Joshua trees, every living thing plays a part in this biome community. Come take a hike along the sandy dunes and see how the web of life thrives in the desert biome.","English",25.27,18.95,null,"48 pp.",{"$f":"Table1[[#This Row],[QTY]]*Table1[[#This Row],['# of Books]]","v":0},{"$f":"Table1[[#This Row],[QTY]]*Table1[[#This Row],[School & Library Price]]","v":0}]
[null,null,null,59,"Discover the World's Biomes","The Grasslands: Discover This Wide Open Biome",1,"Library Bound Book","978-0-7660-6405-8",2015,"January 2015","7.500 X 9.000","Author","Philip Johansson",null,null,null,null,null,null,"Grade 3 - 4","Grade 3 - 6","You can find vast oceans of grass on every continent except Antarctica. But with its amazing variety of plant and wildlife, grasslands are much more than grass and low-lying plants. This informative book invites you into learn about the inner workings of this unique biome. From prairies and savannas, elephants to snakes, cottonwoods to wildflowers, every living thing plays a part in this biome community. Come see how the web of life thrives in the grasslands biome.","English",25.27,18.95,null,"48 pp.",{"$f":"Table1[[#This Row],[QTY]]*Table1[[#This Row],['# of Books]]","v":0},{"$f":"Table1[[#This Row],[QTY]]*Table1[[#This Row],[School & Library Price]]","v":0}]
[null,null,null,59,"Discover the World's Biomes","The Grasslands: Discover This Wide Open Biome",1,"eBook","978-0-7660-6409-6",2015,"January 2015",null,"Author","Philip Johansson",null,null,null,null,null,null,"Grade 3 - 4","Grade 3 - 6","You can find vast oceans of grass on every continent except Antarctica. But with its amazing variety of plant and wildlife, grasslands are much more than grass and low-lying plants. This informative book invites you into learn about the inner workings of this unique biome. From prairies and savannas, elephants to snakes, cottonwoods to wildflowers, every living thing plays a part in this biome community. Come see how the web of life thrives in the grasslands biome.","English",25.27,18.95,null,"48 pp.",{"$f":"Table1[[#This Row],[QTY]]*Table1[[#This Row],['# of Books]]","v":0},{"$f":"Table1[[#This Row],[QTY]]*Table1[[#This Row],[School & Library Price]]","v":0}]
[null,null,null,59,"Discover the World's Biomes","The Taiga: Discover This Forested Biome",1,"Library Bound Book","978-0-7660-6410-2",2015,"January 2015","7.500 X 9.000","Author","Philip Johansson",null,null,null,null,null,null,"Grade 3 - 4","Grade 3 - 6","The taiga is a world of long winters, hardy plants and animals, and lush evergreen trees. With its amazing variety of plant and wildlife, the forested taiga is the largest land biome in the world. In this informative book, you will be taken on a tour of this unique northern forest biome stretching across Europe, Asia, and North America. Learn about the flow of energy where each member of the community benefits from another. From the wolves and elk and pines to lichens, every living thing plays a part in the web of life in the taiga biome.","English",25.27,18.95,null,"48 pp.",{"$f":"Table1[[#This Row],[QTY]]*Table1[[#This Row],['# of Books]]","v":0},{"$f":"Table1[[#This Row],[QTY]]*Table1[[#This Row],[School & Library Price]]","v":0}]
[null,null,null,59,"Discover the World's Biomes","The Taiga: Discover This Forested Biome",1,"eBook","978-0-7660-6414-0",2015,"January 2015",null,"Author","Philip Johansson",null,null,null,null,null,null,"Grade 3 - 4","Grade 3 - 6","The taiga is a world of long winters, hardy plants and animals, and lush evergreen trees. With its amazing variety of plant and wildlife, the forested taiga is the largest land biome in the world. In this informative book, you will be taken on a tour of this unique northern forest biome stretching across Europe, Asia, and North America. Learn about the flow of energy where each member of the community benefits from another. From the wolves and elk and pines to lichens, every living thing plays a part in the web of life in the taiga biome.","English",25.27,18.95,null,"48 pp.",{"$f":"Table1[[#This Row],[QTY]]*Table1[[#This Row],['# of Books]]","v":0},{"$f":"Table1[[#This Row],[QTY]]*Table1[[#This Row],[School & Library Price]]","v":0}]
[null,null,null,59,"Discover the World's Biomes","The Temperate Forest: Discover This Wooded Biome",1,"Library Bound Book","978-0-7660-6415-7",2015,"January 2015","7.500 X 9.000","Author","Philip Johansson",null,null,null,null,null,null,"Grade 3 - 4","Grade 3 - 6","From bats to bears and ferns to herbs, the temperate forest is home to an amazing variety of plants and animals. The temperate forest is much more than tall trees, streams, and plants. This wonderful book invites you to learn about the inner workings of this unique biome where each member of the community benefits from another. Come take a walk in the woods, and see how the land, climate, plants, and wildlife interact to make the unique temperate forest biome.","English",25.27,18.95,null,"48 pp.",{"$f":"Table1[[#This Row],[QTY]]*Table1[[#This Row],['# of Books]]","v":0},{"$f":"Table1[[#This Row],[QTY]]*Table1[[#This Row],[School & Library Price]]","v":0}]
[null,null,null,59,"Discover the World's Biomes","The Temperate Forest: Discover This Wooded Biome",1,"eBook","978-0-7660-6419-5",2015,"January 2015",null,"Author","Philip Johansson",null,null,null,null,null,null,"Grade 3 - 4","Grade 3 - 6","From bats to bears and ferns to herbs, the temperate forest is home to an amazing variety of plants and animals. The temperate forest is much more than tall trees, streams, and plants. This wonderful book invites you to learn about the inner workings of this unique biome where each member of the community benefits from another. Come take a walk in the woods, and see how the land, climate, plants, and wildlife interact to make the unique temperate forest biome.","English",25.27,18.95,null,"48 pp.",{"$f":"Table1[[#This Row],[QTY]]*Table1[[#This Row],['# of Books]]","v":0},{"$f":"Table1[[#This Row],[QTY]]*Table1[[#This Row],[School & Library Price]]","v":0}]
[null,null,null,59,"Discover the World's Biomes","The Tropical Rain Forest: Discover This Wet Biome",1,"Library Bound Book","978-0-7660-6420-1",2015,"January 2015","7.500 X 9.000","Author","Philip Johansson",null,null,null,null,null,null,"Grade 3 - 4","Grade 3 - 6","Colorful macaws fly gracefully between trees while monkeys howl or chatter from high branches overhead. Many plants and animals display vibrant colors, while others like the sloth hide in plain sight. The tropical rain forest biome is chock full of life, and there are still many questions to be answered about this mysterious region. This informative book invites you to learn about the inner workings of this unique biome where every living thing plays a part in this biome community. Come see how the web of life thrives in the tropical rainforest biome.","English",25.27,18.95,null,"48 pp.",{"$f":"Table1[[#This Row],[QTY]]*Table1[[#This Row],['# of Books]]","v":0},{"$f":"Table1[[#This Row],[QTY]]*Table1[[#This Row],[School & Library Price]]","v":0}]
[null,null,null,59,"Discover the World's Biomes","The Tropical Rain Forest: Discover This Wet Biome",1,"eBook","978-0-7660-6424-9",2015,"January 2015",null,"Author","Philip Johansson",null,null,null,null,null,null,"Grade 3 - 4","Grade 3 - 6","Colorful macaws fly gracefully between trees while monkeys howl or chatter from high branches overhead. Many plants and animals display vibrant colors, while others like the sloth hide in plain sight. The tropical rain forest biome is chock full of life, and there are still many questions to be answered about this mysterious region. This informative book invites you to learn about the inner workings of this unique biome where every living thing plays a part in this biome community. Come see how the web of life thrives in the tropical rainforest biome.","English",25.27,18.95,null,"48 pp.",{"$f":"Table1[[#This Row],[QTY]]*Table1[[#This Row],['# of Books]]","v":0},{"$f":"Table1[[#This Row],[QTY]]*Table1[[#This Row],[School & Library Price]]","v":0}]
[null,null,null,59,"Discover the World's Biomes","The Tundra: Discover This Frozen Biome",1,"Library Bound Book","978-0-7660-6425-6",2015,"January 2015","7.500 X 9.000","Author","Philip Johansson",null,null,null,null,null,null,"Grade 3 - 4","Grade 3 - 6","Take a walk in the tundra in the summer and you will discover a biome where the sun never sets! But during the cold winter, the sun may not shine for months. What animals and plants could survive in such a place? In this eye-opening book, you will learn why the tundra biome can support such a surprising variety of plants and wildlife, despite its harsh conditions. From huge polar bears hunting silently on the ice to caribou herds migrating to warmer pastures, every living thing plays a part in the biome community. Come take a hike and see how the web of life thrives in the tundra biome.","English",25.27,18.95,null,"48 pp.",{"$f":"Table1[[#This Row],[QTY]]*Table1[[#This Row],['# of Books]]","v":0},{"$f":"Table1[[#This Row],[QTY]]*Table1[[#This Row],[School & Library Price]]","v":0}]
[null,null,null,59,"Discover the World's Biomes","The Tundra: Discover This Frozen Biome",1,"eBook","978-0-7660-6429-4",2015,"January 2015",null,"Author","Philip Johansson",null,null,null,null,null,null,"Grade 3 - 4","Grade 3 - 6","Take a walk in the tundra in the summer and you will discover a biome where the sun never sets! But during the cold winter, the sun may not shine for months. What animals and plants could survive in such a place? In this eye-opening book, you will learn why the tundra biome can support such a surprising variety of plants and wildlife, despite its harsh conditions. From huge polar bears hunting silently on the ice to caribou herds migrating to warmer pastures, every living thing plays a part in the biome community. Come take a hike and see how the web of life thrives in the tundra biome.","English",25.27,18.95,null,"48 pp.",{"$f":"Table1[[#This Row],[QTY]]*Table1[[#This Row],['# of Books]]","v":0},{"$f":"Table1[[#This Row],[QTY]]*Table1[[#This Row],[School & Library Price]]","v":0}]
[null,null,null,59,"I Love Our Earth","I Love Our Earth",6,"Library Set","978-0-7660-8030-0",2013,"August 2012","9.000 X 7.900",null,null,null,null,null,null,null,null,"Grade 3 - 6","Grade 3 - 6",null,"English",135.6,101.7,null,"24 pp.",{"$f":"Table1[[#This Row],[QTY]]*Table1[[#This Row],['# of Books]]","v":0},{"$f":"Table1[[#This Row],[QTY]]*Table1[[#This Row],[School & Library Price]]","v":0}]
[null,null,null,59,"I Love Our Earth","I Love Our Air",1,"Library Bound Book","978-0-7660-4037-3",2013,"August 2012","9.000 X 7.500","Author","Carol Greene",3.3,null,null,null,"I",550,"Grade 3 - ","Grade 3 - 5","Discover why air is so important in I LOVE OUR AIR. Author Carol Greene explains what air is, why it is important, and how air can become polluted. Find out what we can do to help keep our air clean—both as individuals and as a group. ","English",22.6,16.95,"628.5","24 pp.",{"$f":"Table1[[#This Row],[QTY]]*Table1[[#This Row],['# of Books]]","v":0},{"$f":"Table1[[#This Row],[QTY]]*Table1[[#This Row],[School & Library Price]]","v":0}]
[null,null,null,59,"I Love Our Earth","I Love Our Air",1,"eBook","978-0-7660-4425-8",2013,"August 2012",null,"Author","Carol Greene",3.3,null,null,null,"I",550,"Grade 3 - ","Grade 3 - 5","Discover why air is so important in I LOVE OUR AIR. Author Carol Greene explains what air is, why it is important, and how air can become polluted. Find out what we can do to help keep our air clean—both as individuals and as a group. ","English",22.6,16.95,"628.5","24 pp.",{"$f":"Table1[[#This Row],[QTY]]*Table1[[#This Row],['# of Books]]","v":0},{"$f":"Table1[[#This Row],[QTY]]*Table1[[#This Row],[School & Library Price]]","v":0}]
[null,null,null,59,"I Love Our Earth","I Love Our Animals",1,"Library Bound Book","978-0-7660-4038-0",2013,"August 2012","9.000 X 7.500","Author","Carol Greene",2.9,null,null,null,"I",540,"Grade 3 - ","Grade 3 - 5","Author Carol Greene explores why animals are important in I LOVE OUR ANIMALS. Find out how animals help the earth, how sometimes people hurt them, and how we can protect animals and keep them healthy. ","English",22.6,16.95,"333.95","24 pp.",{"$f":"Table1[[#This Row],[QTY]]*Table1[[#This Row],['# of Books]]","v":0},{"$f":"Table1[[#This Row],[QTY]]*Table1[[#This Row],[School & Library Price]]","v":0}]
[null,null,null,59,"I Love Our Earth","I Love Our Animals",1,"eBook","978-0-7660-4424-1",2013,"August 2012",null,"Author","Carol Greene",2.9,null,null,null,"I",540,"Grade 3 - ","Grade 3 - 5","Author Carol Greene explores why animals are important in I LOVE OUR ANIMALS. Find out how animals help the earth, how sometimes people hurt them, and how we can protect animals and keep them healthy. ","English",22.6,16.95,"333.95","24 pp.",{"$f":"Table1[[#This Row],[QTY]]*Table1[[#This Row],['# of Books]]","v":0},{"$f":"Table1[[#This Row],[QTY]]*Table1[[#This Row],[School & Library Price]]","v":0}]
[null,null,null,59,"I Love Our Earth","I Love Our Forests",1,"Library Bound Book","978-0-7660-4039-7",2013,"August 2012","9.000 X 7.500","Author","Carol Greene",3.4,null,null,null,"J",650,"Grade 3 - ","Grade 3 - 5","Do you know that forests clean our air so we can breathe? The trees are very important to both people and animals. I LOVE OUR FORESTS explores what can happen to forests if we are not careful, and give ideas to make sure our forests are saved for the future. ","English",22.6,16.95,"578.73","24 pp.",{"$f":"Table1[[#This Row],[QTY]]*Table1[[#This Row],['# of Books]]","v":0},{"$f":"Table1[[#This Row],[QTY]]*Table1[[#This Row],[School & Library Price]]","v":0}]
[null,null,null,59,"I Love Our Earth","I Love Our Forests",1,"eBook","978-0-7660-4426-5",2013,"August 2012",null,"Author","Carol Greene",3.4,null,null,null,"J",650,"Grade 3 - ","Grade 3 - 5","Do you know that forests clean our air so we can breathe? The trees are very important to both people and animals. I LOVE OUR FORESTS explores what can happen to forests if we are not careful, and give ideas to make sure our forests are saved for the future. ","English",22.6,16.95,"578.73","24 pp.",{"$f":"Table1[[#This Row],[QTY]]*Table1[[#This Row],['# of Books]]","v":0},{"$f":"Table1[[#This Row],[QTY]]*Table1[[#This Row],[School & Library Price]]","v":0}]
[null,null,null,59,"I Love Our Earth","I Love Our Land",1,"Library Bound Book","978-0-7660-4040-3",2013,"August 2012","9.000 X 7.500","Author","Carol Greene",3,null,null,null,"I",540,"Grade 3 - ","Grade 3 - 5","Why is land so important? It is where our food grows, and what we live on. Find out how to keep our land clean and safe in Carol Greene's I LOVE OUR LAND. ","English",22.6,16.95,"333.73","24 pp.",{"$f":"Table1[[#This Row],[QTY]]*Table1[[#This Row],['# of Books]]","v":0},{"$f":"Table1[[#This Row],[QTY]]*Table1[[#This Row],[School & Library Price]]","v":0}]
[null,null,null,59,"I Love Our Earth","I Love Our Land",1,"eBook","978-0-7660-4422-7",2013,"August 2012",null,"Author","Carol Greene",3,null,null,null,"I",540,"Grade 3 - ","Grade 3 - 5","Why is land so important? It is where our food grows, and what we live on. Find out how to keep our land clean and safe in Carol Greene's I LOVE OUR LAND. ","English",22.6,16.95,"333.73","24 pp.",{"$f":"Table1[[#This Row],[QTY]]*Table1[[#This Row],['# of Books]]","v":0},{"$f":"Table1[[#This Row],[QTY]]*Table1[[#This Row],[School & Library Price]]","v":0}]
[null,null,null,59,"I Love Our Earth","I Love Our People",1,"Library Bound Book","978-0-7660-4041-0",2013,"August 2012","9.000 X 7.500","Author","Carol Greene",3.1,null,null,null,"J",520,"Grade 3 - ","Grade 3 - 5","Another title in the I LOVE OUR EARTH series, I LOVE OUR PEOPLE explores what makes people unique and important. Author Carol Greene examines what happens when people do not take care of each other and the environment, and how the reader can help people and the planet. ","English",22.6,16.95,"304.2","24 pp.",{"$f":"Table1[[#This Row],[QTY]]*Table1[[#This Row],['# of Books]]","v":0},{"$f":"Table1[[#This Row],[QTY]]*Table1[[#This Row],[School & Library Price]]","v":0}]
[null,null,null,59,"I Love Our Earth","I Love Our People",1,"eBook","978-0-7660-4421-0",2013,"August 2012",null,"Author","Carol Greene",3.1,null,null,null,"J",520,"Grade 3 - ","Grade 3 - 5","Another title in the I LOVE OUR EARTH series, I LOVE OUR PEOPLE explores what makes people unique and important. Author Carol Greene examines what happens when people do not take care of each other and the environment, and how the reader can help people and the planet. ","English",22.6,16.95,"304.2","24 pp.",{"$f":"Table1[[#This Row],[QTY]]*Table1[[#This Row],['# of Books]]","v":0},{"$f":"Table1[[#This Row],[QTY]]*Table1[[#This Row],[School & Library Price]]","v":0}]
[null,null,null,59,"I Love Our Earth","I Love Our Water",1,"Library Bound Book","978-0-7660-4042-7",2013,"August 2012","9.000 X 7.500","Author","Carol Greene",3.1,null,null,null,"I",590,"Grade 3 - ","Grade 3 - 5","Do you know that all plants and animals need water? In I LOVE OUR WATER, learn why water is so important to everyone, and what it is used for. Also, discover ways to save water every day! ","English",22.6,16.95,"628.1","24 pp.",{"$f":"Table1[[#This Row],[QTY]]*Table1[[#This Row],['# of Books]]","v":0},{"$f":"Table1[[#This Row],[QTY]]*Table1[[#This Row],[School & Library Price]]","v":0}]
[null,null,null,59,"I Love Our Earth","I Love Our Water",1,"eBook","978-0-7660-4423-4",2013,"August 2012",null,"Author","Carol Greene",3.1,null,null,null,"I",590,"Grade 3 - ","Grade 3 - 5","Do you know that all plants and animals need water? In I LOVE OUR WATER, learn why water is so important to everyone, and what it is used for. Also, discover ways to save water every day! ","English",22.6,16.95,"628.1","24 pp.",{"$f":"Table1[[#This Row],[QTY]]*Table1[[#This Row],['# of Books]]","v":0},{"$f":"Table1[[#This Row],[QTY]]*Table1[[#This Row],[School & Library Price]]","v":0}]
[null,null,null,60,"Our Earth's Oceans","Our Earth's Oceans",5,"Library Set","978-0-7660-8032-4",2013,"January 2013","7.500 X 9.000",null,null,null,null,null,null,null,null,"Grade 3 - 6","Grade 3 - 6",null,"English",126.35,94.75,null,"48 pp.",{"$f":"Table1[[#This Row],[QTY]]*Table1[[#This Row],['# of Books]]","v":0},{"$f":"Table1[[#This Row],[QTY]]*Table1[[#This Row],[School & Library Price]]","v":0}]
[null,null,null,60,"Our Earth's Oceans","The Frigid Arctic Ocean",1,"Library Bound Book","978-0-7660-4087-8",2013,"January 2013","7.500 X 9.000","Author","Doreen Gonzales",5.0999999999999996,1,null,null,"M","780L","Grade 3 - ","Grade 3 - 5","The Arctic Ocean is a hard place to live. Frigidly cold, the ocean freezes during the long, dark winters. In summer, you can still find ice there. Discover the plants and animals that live in, on, and near this special place, and the scientists who explore its mysteries. ","English",25.27,18.95,"551.46","48 pp.",{"$f":"Table1[[#This Row],[QTY]]*Table1[[#This Row],['# of Books]]","v":0},{"$f":"Table1[[#This Row],[QTY]]*Table1[[#This Row],[School & Library Price]]","v":0}]
[null,null,null,60,"Our Earth's Oceans","The Frigid Arctic Ocean",1,"eBook","978-0-7660-4433-3",2013,"January 2013",null,"Author","Doreen Gonzales",5.0999999999999996,1,null,null,"M","780L","Grade 3 - ","Grade 3 - 5","The Arctic Ocean is a hard place to live. Frigidly cold, the ocean freezes during the long, dark winters. In summer, you can still find ice there. Discover the plants and animals that live in, on, and near this special place, and the scientists who explore its mysteries. ","English",25.27,18.95,"551.46","48 pp.",{"$f":"Table1[[#This Row],[QTY]]*Table1[[#This Row],['# of Books]]","v":0},{"$f":"Table1[[#This Row],[QTY]]*Table1[[#This Row],[School & Library Price]]","v":0}]
[null,null,null,60,"Our Earth's Oceans","The Huge Pacific Ocean",1,"Library Bound Book","978-0-7660-4090-8",2013,"January 2013","7.500 X 9.000","Author","Doreen Gonzales",5.0999999999999996,1,null,null,"M","770L","Grade 3 - ","Grade 3 - 5","The Pacific Ocean covers almost a third of the planet and is home to many different plants and animals. Find out why this ocean is so important to the plants and animals that live there, why it is so important, and how people can help clean and protect this ocean. ","English",25.27,18.95,"551.46","48 pp.",{"$f":"Table1[[#This Row],[QTY]]*Table1[[#This Row],['# of Books]]","v":0},{"$f":"Table1[[#This Row],[QTY]]*Table1[[#This Row],[School & Library Price]]","v":0}]
[null,null,null,60,"Our Earth's Oceans","The Huge Pacific Ocean",1,"eBook","978-0-7660-4436-4",2013,"January 2013",null,"Author","Doreen Gonzales",5.0999999999999996,1,null,null,"M","770L","Grade 3 - ","Grade 3 - 5","The Pacific Ocean covers almost a third of the planet and is home to many different plants and animals. Find out why this ocean is so important to the plants and animals that live there, why it is so important, and how people can help clean and protect this ocean. ","English",25.27,18.95,"551.46","48 pp.",{"$f":"Table1[[#This Row],[QTY]]*Table1[[#This Row],['# of Books]]","v":0},{"$f":"Table1[[#This Row],[QTY]]*Table1[[#This Row],[School & Library Price]]","v":0}]
[null,null,null,60,"Our Earth's Oceans","The Mighty Atlantic Ocean",1,"Library Bound Book","978-0-7660-4088-5",2013,"January 2013","7.500 X 9.000","Author","Doreen Gonzales",5.2,1,null,null,"M","720L","Grade 3 - ","Grade 3 - 5","Earth’s second largest ocean, the Atlantic, is home to many different plants and animals. It also has many resources that make many of the things we use every day. Discover the plants and animals that live in, on, and near this special place, the scientists who explore its mysteries, and the reasons we need to protect this mighty ocean. ","English",25.27,18.95,"551.46","48 pp.",{"$f":"Table1[[#This Row],[QTY]]*Table1[[#This Row],['# of Books]]","v":0},{"$f":"Table1[[#This Row],[QTY]]*Table1[[#This Row],[School & Library Price]]","v":0}]
[null,null,null,60,"Our Earth's Oceans","The Mighty Atlantic Ocean",1,"eBook","978-0-7660-4437-1",2013,"January 2013",null,"Author","Doreen Gonzales",5.2,1,null,null,"M","720L","Grade 3 - ","Grade 3 - 5","Earth’s second largest ocean, the Atlantic, is home to many different plants and animals. It also has many resources that make many of the things we use every day. Discover the plants and animals that live in, on, and near this special place, the scientists who explore its mysteries, and the reasons we need to protect this mighty ocean. ","English",25.27,18.95,"551.46","48 pp.",{"$f":"Table1[[#This Row],[QTY]]*Table1[[#This Row],['# of Books]]","v":0},{"$f":"Table1[[#This Row],[QTY]]*Table1[[#This Row],[School & Library Price]]","v":0}]
[null,null,null,60,"Our Earth's Oceans","The Stormy Southern Ocean",1,"Library Bound Book","978-0-7660-4091-5",2013,"January 2013","7.500 X 9.000","Author","Doreen Gonzales",5.3,1,null,null,"M","810L","Grade 3 - ","Grade 3 - 5","The Southern Ocean is home to many different plants and animals. It also has many resources that make many of the things we use every day. Discover the plants and animals that live in, on, and near this special place, the scientists who explore its mysteries, and why we need to protect this resource.","English",25.27,18.95,"551.46","48 pp.",{"$f":"Table1[[#This Row],[QTY]]*Table1[[#This Row],['# of Books]]","v":0},{"$f":"Table1[[#This Row],[QTY]]*Table1[[#This Row],[School & Library Price]]","v":0}]
[null,null,null,60,"Our Earth's Oceans","The Stormy Southern Ocean",1,"eBook","978-0-7660-4434-0",2013,"January 2013",null,"Author","Doreen Gonzales",5.3,1,null,null,"M","810L","Grade 3 - ","Grade 3 - 5","The Southern Ocean is home to many different plants and animals. It also has many resources that make many of the things we use every day. Discover the plants and animals that live in, on, and near this special place, the scientists who explore its mysteries, and why we need to protect this resource.","English",25.27,18.95,"551.46","48 pp.",{"$f":"Table1[[#This Row],[QTY]]*Table1[[#This Row],['# of Books]]","v":0},{"$f":"Table1[[#This Row],[QTY]]*Table1[[#This Row],[School & Library Price]]","v":0}]
[null,null,null,60,"Our Earth's Oceans","The Tropical Indian Ocean",1,"Library Bound Book","978-0-7660-4089-2",2013,"January 2013","7.500 X 9.000","Author","Doreen Gonzales",5.0999999999999996,1,null,null,"M","770L","Grade 3 - ","Grade 3 - 5","The Indian Ocean is home to many different plants and animals. It also has many resources that make many of the things we use every day. Discover the plants and animals that live in, on, and near this special place, the scientists who explore its mysteries, and the reasons we need to protect this tropical resource. ","English",25.27,18.95,"551.46","48 pp.",{"$f":"Table1[[#This Row],[QTY]]*Table1[[#This Row],['# of Books]]","v":0},{"$f":"Table1[[#This Row],[QTY]]*Table1[[#This Row],[School & Library Price]]","v":0}]
[null,null,null,60,"Our Earth's Oceans","The Tropical Indian Ocean",1,"eBook","978-0-7660-4435-7",2013,"January 2013",null,"Author","Doreen Gonzales",5.0999999999999996,1,null,null,"M","770L","Grade 3 - ","Grade 3 - 5","The Indian Ocean is home to many different plants and animals. It also has many resources that make many of the things we use every day. Discover the plants and animals that live in, on, and near this special place, the scientists who explore its mysteries, and the reasons we need to protect this tropical resource. ","English",25.27,18.95,"551.46","48 pp.",{"$f":"Table1[[#This Row],[QTY]]*Table1[[#This Row],['# of Books]]","v":0},{"$f":"Table1[[#This Row],[QTY]]*Table1[[#This Row],[School & Library Price]]","v":0}]
[null,null,null,60,"Zoom in on...","Zoom in on...",4,"Library Set","978-0-7660-8035-5",2014,"August 2013","8.625 X 10.63",null,null,null,null,null,null,null,null,"Grade 3 - 6","Grade 3 - 6",null,"English",95.76,71.8,null,"32 pp.",{"$f":"Table1[[#This Row],[QTY]]*Table1[[#This Row],['# of Books]]","v":0},{"$f":"Table1[[#This Row],[QTY]]*Table1[[#This Row],[School & Library Price]]","v":0}]
[null,null,null,60,"Zoom in on...","Zoom in on Bizarre Bugs",1,"Library Bound Book","978-0-7660-4309-1",2014,"August 2013","8.625 X 10.63","Author","Richard Spilsbury",5.0999999999999996,null,null,null,"Q","890L","Grade 4 - 6","Grade 4 - 10","Zero in on some of the weird and wonderful creatures—such as ticks, mites, lice and viruses—that live on and in our bodies. In BIZARRE BUGS, find about the creepy crawlies that live in your eyelashes, and meet the worms that feast on half-digested food in your gut. ","English",23.94,17.95,"595.7","32 pp.",{"$f":"Table1[[#This Row],[QTY]]*Table1[[#This Row],['# of Books]]","v":0},{"$f":"Table1[[#This Row],[QTY]]*Table1[[#This Row],[School & Library Price]]","v":0}]
[null,null,null,60,"Zoom in on...","Zoom in on Body Invaders",1,"Library Bound Book","978-0-7660-4310-7",2014,"August 2013","8.625 X 10.63","Author","Richard Spilsbury",5.6,null,null,null,"Q","970L","Grade 4 - 6","Grade 4 - 10","Meet the creepy crawlies that live in your eyelashes and the worms that feast on half-digested food in your gut.  BODY INVADERS zooms in on some of these weird and wonderful creatures—such as ticks, mites, lice and viruses—that live on and in our bodies.. ","English",23.94,17.95,"578.6","32 pp.",{"$f":"Table1[[#This Row],[QTY]]*Table1[[#This Row],['# of Books]]","v":0},{"$f":"Table1[[#This Row],[QTY]]*Table1[[#This Row],[School & Library Price]]","v":0}]
[null,null,null,60,"Zoom in on...","Zoom in on Crime Scenes",1,"Library Bound Book","978-0-7660-4311-4",2014,"August 2013","8.625 X 10.63","Author","Richard Spilsbury",6.3,null,null,null,"Q","990L","Grade 4 - 6","Grade 4 - 10","CRIME SCENES zooms in on tiny things—such as hair, skin, broken glass and dust—that reveal the truth about crimes. Learn about the bacteria that tell scientists where someone was killed, and meet the maggots that tell police the time of death. ","English",23.94,17.95,"363.25","32 pp.",{"$f":"Table1[[#This Row],[QTY]]*Table1[[#This Row],['# of Books]]","v":0},{"$f":"Table1[[#This Row],[QTY]]*Table1[[#This Row],[School & Library Price]]","v":0}]
[null,null,null,60,"Zoom in on...","Zoom in on House of Horrors",1,"Library Bound Book","978-0-7660-4312-1",2014,"August 2013","8.625 X 10.63","Author","Richard Spilsbury",5.2,null,null,null,"Q","920L","Grade 4 - 6","Grade 4 - 10","Zoom in on some of the weird and wonderful creatures—such as spiders, silverfish, dust mites and woodworms—that share our houses. In HOUSE OF HORRORS, learn how to follow a cockroach trail, and meet the beetles that love feasting on our carpets. ","English",23.94,17.95,"648","32 pp.",{"$f":"Table1[[#This Row],[QTY]]*Table1[[#This Row],['# of Books]]","v":0},{"$f":"Table1[[#This Row],[QTY]]*Table1[[#This Row],[School & Library Price]]","v":0}]
[null,null,null,61,"Surprising Science Experiments","Surprising Science Experiments",6,"Library Set","978-0-7660-7431-6",2016,"January 2016","7.250 X 9.250",null,null,null,null,null,null,null,null,"Grade 4","Grade 3 - 6","Award-winning science author Robert Gardner has created an all-new collection of hands-on experiments for budding scientists to explore the world around them. Perfect for science fair projects, to understand a complex concept learned in school, or to do on a rainy day, each experiment starts with an accessible explanation of the featured science topic, uses easy-to-find materials, and follows the scientific method. \n\n\n\n• Explains key science concepts through hands-on projects\n\n• Simple, illustrated step-by-step experiments\n\n• Gets readers questioning the world around them and discovering their own answers","English",167.58,125.7,null,"48 pp.",{"$f":"Table1[[#This Row],[QTY]]*Table1[[#This Row],['# of Books]]","v":0},{"$f":"Table1[[#This Row],[QTY]]*Table1[[#This Row],[School & Library Price]]","v":0}]
[null,null,null,61,"Surprising Science Experiments","A Kid's Book of Experiments with Animals",1,"Library Bound Book","978-0-7660-7266-4",2016,"January 2016","7.250 X 9.250","Author, Author","Robert Gardner, Joshua Conklin",null,null,null,null,"W",null,"Grade 4","Grade 3 - 6","Easily accessible materials, step-by-step instructions, and fascinating subjects (such as birds, fish, and worms), make these simple and engaging experiments that examine behavior a must-do for any animal lover!","English",27.93,20.95,"590.78--dc23","48 pp.",{"$f":"Table1[[#This Row],[QTY]]*Table1[[#This Row],['# of Books]]","v":0},{"$f":"Table1[[#This Row],[QTY]]*Table1[[#This Row],[School & Library Price]]","v":0}]
[null,null,null,61,"Surprising Science Experiments","A Kid's Book of Experiments with Animals",1,"eBook","978-0-7660-7267-1",2016,"January 2016",null,"Author, Author","Robert Gardner, Joshua Conklin",null,null,null,null,"W",null,"Grade 4","Grade 3 - 6","Easily accessible materials, step-by-step instructions, and fascinating subjects (such as birds, fish, and worms), make these simple and engaging experiments that examine behavior a must-do for any animal lover!","English",27.93,20.95,"590.78--dc23","48 pp.",{"$f":"Table1[[#This Row],[QTY]]*Table1[[#This Row],['# of Books]]","v":0},{"$f":"Table1[[#This Row],[QTY]]*Table1[[#This Row],[School & Library Price]]","v":0}]
[null,null,null,61,"Surprising Science Experiments","A Kid's Book of Experiments with Color",1,"Library Bound Book","978-0-7660-7201-5",2016,"January 2016","7.250 X 9.250","Author, Author","Robert Gardner, Joshua Conklin",null,null,null,null,"W",null,"Grade 4","Grade 3 - 6","With easy-to-find materials and simple steps to follow, these color experiments will educate and entertain young scientists. They will gain a deeper understanding of color theory by mixing colors and subtracting colors using filters and pigments.","English",27.93,20.95,"535.6--dc23","48 pp.",{"$f":"Table1[[#This Row],[QTY]]*Table1[[#This Row],['# of Books]]","v":0},{"$f":"Table1[[#This Row],[QTY]]*Table1[[#This Row],[School & Library Price]]","v":0}]
[null,null,null,61,"Surprising Science Experiments","A Kid's Book of Experiments with Color",1,"eBook","978-0-7660-7202-2",2016,"January 2016",null,"Author, Author","Robert Gardner, Joshua Conklin",null,null,null,null,"W",null,"Grade 4","Grade 3 - 6","With easy-to-find materials and simple steps to follow, these color experiments will educate and entertain young scientists. They will gain a deeper understanding of color theory by mixing colors and subtracting colors using filters and pigments.","English",27.93,20.95,"535.6--dc23","48 pp.",{"$f":"Table1[[#This Row],[QTY]]*Table1[[#This Row],['# of Books]]","v":0},{"$f":"Table1[[#This Row],[QTY]]*Table1[[#This Row],[School & Library Price]]","v":0}]
[null,null,null,61,"Surprising Science Experiments","A Kid's Book of Experiments with Light",1,"Library Bound Book","978-0-7660-7205-3",2016,"January 2016","7.250 X 9.250","Author, Author","Robert Gardner, Joshua Conklin",null,null,null,null,"W",null,"Grade 4","Grade 3 - 6","With these easy-to-follow experiments, budding scientists will explore the properties of light, including refraction, reflection, and how light travels. Readily accessible materials make this a go-to resource for young readers who want to learn more about light.","English",27.93,20.95,"535.078--dc23","48 pp.",{"$f":"Table1[[#This Row],[QTY]]*Table1[[#This Row],['# of Books]]","v":0},{"$f":"Table1[[#This Row],[QTY]]*Table1[[#This Row],[School & Library Price]]","v":0}]
[null,null,null,61,"Surprising Science Experiments","A Kid's Book of Experiments with Light",1,"eBook","978-0-7660-7206-0",2016,"January 2016",null,"Author, Author","Robert Gardner, Joshua Conklin",null,null,null,null,"W",null,"Grade 4","Grade 3 - 6","With these easy-to-follow experiments, budding scientists will explore the properties of light, including refraction, reflection, and how light travels. Readily accessible materials make this a go-to resource for young readers who want to learn more about light.","English",27.93,20.95,"535.078--dc23","48 pp.",{"$f":"Table1[[#This Row],[QTY]]*Table1[[#This Row],['# of Books]]","v":0},{"$f":"Table1[[#This Row],[QTY]]*Table1[[#This Row],[School & Library Price]]","v":0}]
[null,null,null,61,"Surprising Science Experiments","A Kid's Book of Experiments with Sound",1,"Library Bound Book","978-0-7660-7209-1",2016,"January 2016","7.250 X 9.250","Author, Author","Robert Gardner, Joshua Conklin",null,null,null,null,"V",null,"Grade 4","Grade 3 - 6","With clear text and easy-to-find supplies, these experiments invite readers to explore the scientific principles of sound, which include finding out what kinds of matter conduct sound, locating the sources of sound, and matching vibrations.","English",27.93,20.95,"534.078--dc23","48 pp.",{"$f":"Table1[[#This Row],[QTY]]*Table1[[#This Row],['# of Books]]","v":0},{"$f":"Table1[[#This Row],[QTY]]*Table1[[#This Row],[School & Library Price]]","v":0}]
[null,null,null,61,"Surprising Science Experiments","A Kid's Book of Experiments with Sound",1,"eBook","978-0-7660-7210-7",2016,"January 2016",null,"Author, Author","Robert Gardner, Joshua Conklin",null,null,null,null,"V",null,"Grade 4","Grade 3 - 6","With clear text and easy-to-find supplies, these experiments invite readers to explore the scientific principles of sound, which include finding out what kinds of matter conduct sound, locating the sources of sound, and matching vibrations.","English",27.93,20.95,"534.078--dc23","48 pp.",{"$f":"Table1[[#This Row],[QTY]]*Table1[[#This Row],['# of Books]]","v":0},{"$f":"Table1[[#This Row],[QTY]]*Table1[[#This Row],[School & Library Price]]","v":0}]
[null,null,null,61,"Surprising Science Experiments","A Kid's Book of Experiments with Stars",1,"Library Bound Book","978-0-7660-7270-1",2016,"January 2016","7.250 X 9.250","Author, Author","Robert Gardner, Joshua Conklin",null,null,null,null,"X",null,"Grade 4","Grade 3 - 6","Perfect for science fairs or sleepovers, this book will inspire young readers to learn about constellations, the Sun, and even the Moon through hands-on experiments that use easy-to-obtain materials and the scientific method.","English",27.93,20.95,"520.78--dc23","48 pp.",{"$f":"Table1[[#This Row],[QTY]]*Table1[[#This Row],['# of Books]]","v":0},{"$f":"Table1[[#This Row],[QTY]]*Table1[[#This Row],[School & Library Price]]","v":0}]
[null,null,null,61,"Surprising Science Experiments","A Kid's Book of Experiments with Stars",1,"eBook","978-0-7660-7271-8",2016,"January 2016",null,"Author, Author","Robert Gardner, Joshua Conklin",null,null,null,null,"X",null,"Grade 4","Grade 3 - 6","Perfect for science fairs or sleepovers, this book will inspire young readers to learn about constellations, the Sun, and even the Moon through hands-on experiments that use easy-to-obtain materials and the scientific method.","English",27.93,20.95,"520.78--dc23","48 pp.",{"$f":"Table1[[#This Row],[QTY]]*Table1[[#This Row],['# of Books]]","v":0},{"$f":"Table1[[#This Row],[QTY]]*Table1[[#This Row],[School & Library Price]]","v":0}]
[null,null,null,61,"Surprising Science Experiments","A Kid's Book of Experiments with Time",1,"Library Bound Book","978-0-7660-7274-9",2016,"January 2016","7.250 X 9.250","Author, Author","Robert Gardner, Joshua Conklin",null,null,null,null,"X",null,"Grade 4","Grade 3 - 6","Using easy-to-find supplies as well as simple language to explain scientific theories and experimental procedures, young readers with discover the intricacies of time, including how it is measured and how it affects everyday life.","English",27.93,20.95,"529’.7’078--d23","48 pp.",{"$f":"Table1[[#This Row],[QTY]]*Table1[[#This Row],['# of Books]]","v":0},{"$f":"Table1[[#This Row],[QTY]]*Table1[[#This Row],[School & Library Price]]","v":0}]
[null,null,null,61,"Surprising Science Experiments","A Kid's Book of Experiments with Time",1,"eBook","978-0-7660-7275-6",2016,"January 2016",null,"Author, Author","Robert Gardner, Joshua Conklin",null,null,null,null,"X",null,"Grade 4","Grade 3 - 6","Using easy-to-find supplies as well as simple language to explain scientific theories and experimental procedures, young readers with discover the intricacies of time, including how it is measured and how it affects everyday life.","English",27.93,20.95,"529’.7’078--d23","48 pp.",{"$f":"Table1[[#This Row],[QTY]]*Table1[[#This Row],['# of Books]]","v":0},{"$f":"Table1[[#This Row],[QTY]]*Table1[[#This Row],[School & Library Price]]","v":0}]
[null,null,null,62,"Hot Science Experiments","Hot Science Experiments",6,"Library Set","978-0-7660-8036-2",2015,"January 2015","7.500 X 9.000",null,null,null,null,null,null,null,null,"Grade 3 - 6","Grade 3 - 6","This set provides step by step and easy to perform science experiments for early readers. Weights, measures, and physical science unfold through clearly illustrated and explained activities which allow for an ease in comprehension about basic science concepts.","English",151.62,113.7,null,"48 pp.",{"$f":"Table1[[#This Row],[QTY]]*Table1[[#This Row],['# of Books]]","v":0},{"$f":"Table1[[#This Row],[QTY]]*Table1[[#This Row],[School & Library Price]]","v":0}]
[null,null,null,62,"Hot Science Experiments","How Big is Big?: Science Projects with Volume",1,"Library Bound Book","978-0-7660-6620-5",2015,"January 2015","7.500 X 9.000","Author","Robert Gardner",null,null,null,null,null,null,"Grade 3 - 4","Grade 3 - 6","What is the volume of your bedroom? How much space does a ball of clay take up? Does water take up more space when it freezes? Everything around you has volume, or takes up space. The ideas in this book will help you learn what volume is and how it can be measured. Using simple materials, you can do everything a scientist does: conduct experiments, keep records, and draw conclusions from what you have learned. Many chapters also include follow-up questions and ideas that are very useful if you are interested in entering a science fair. Lots of colorful drawings make the written instructions easy-to-follow.","English",25.27,18.95,null,"48 pp.",{"$f":"Table1[[#This Row],[QTY]]*Table1[[#This Row],['# of Books]]","v":0},{"$f":"Table1[[#This Row],[QTY]]*Table1[[#This Row],[School & Library Price]]","v":0}]
[null,null,null,62,"Hot Science Experiments","How Big is Big?: Science Projects with Volume",1,"eBook","978-0-7660-6624-3",2015,"January 2015",null,"Author","Robert Gardner",null,null,null,null,null,null,"Grade 3 - 4","Grade 3 - 6","What is the volume of your bedroom? How much space does a ball of clay take up? Does water take up more space when it freezes? Everything around you has volume, or takes up space. The ideas in this book will help you learn what volume is and how it can be measured. Using simple materials, you can do everything a scientist does: conduct experiments, keep records, and draw conclusions from what you have learned. Many chapters also include follow-up questions and ideas that are very useful if you are interested in entering a science fair. Lots of colorful drawings make the written instructions easy-to-follow.","English",25.27,18.95,null,"48 pp.",{"$f":"Table1[[#This Row],[QTY]]*Table1[[#This Row],['# of Books]]","v":0},{"$f":"Table1[[#This Row],[QTY]]*Table1[[#This Row],[School & Library Price]]","v":0}]
[null,null,null,62,"Hot Science Experiments","How Fast is Fast?: Science Projects with Speed",1,"Library Bound Book","978-0-7660-6615-1",2015,"January 2015","7.500 X 9.000","Author","Robert Gardner",null,null,null,null,null,null,"Grade 3 - 4","Grade 3 - 6","How fast can you run? How fast are you growing? How fast do you read? There are many things in the world around you that are moving fast! But how do you measure them? The ideas in this book will help you perform exciting and fun experiments. Some will even give you ideas for your science fair. Using simple materials, you can do everything a scientist does: conduct experiments, keep records, and draw conclusions from what you have learned. You will then be ready to discover the fast world around you!","English",25.27,18.95,null,"48 pp.",{"$f":"Table1[[#This Row],[QTY]]*Table1[[#This Row],['# of Books]]","v":0},{"$f":"Table1[[#This Row],[QTY]]*Table1[[#This Row],[School & Library Price]]","v":0}]
[null,null,null,62,"Hot Science Experiments","How Fast is Fast?: Science Projects with Speed",1,"eBook","978-0-7660-6619-9",2015,"January 2015",null,"Author","Robert Gardner",null,null,null,null,null,null,"Grade 3 - 4","Grade 3 - 6","How fast can you run? How fast are you growing? How fast do you read? There are many things in the world around you that are moving fast! But how do you measure them? The ideas in this book will help you perform exciting and fun experiments. Some will even give you ideas for your science fair. Using simple materials, you can do everything a scientist does: conduct experiments, keep records, and draw conclusions from what you have learned. You will then be ready to discover the fast world around you!","English",25.27,18.95,null,"48 pp.",{"$f":"Table1[[#This Row],[QTY]]*Table1[[#This Row],['# of Books]]","v":0},{"$f":"Table1[[#This Row],[QTY]]*Table1[[#This Row],[School & Library Price]]","v":0}]
[null,null,null,62,"Hot Science Experiments","How Heavy is Heavy?: Science Projects with Weight",1,"Library Bound Book","978-0-7660-6600-7",2015,"January 2015","7.500 X 9.000","Author","Robert Gardner",null,null,null,null,null,null,"Grade 3 - 4","Grade 3 - 6","Have you ever been weightless? Does your weight change when you sit or lie down? How do you weight air? There are many things, light and heavy in the world around you which you can measure. The concepts introduced in this book will help you perform exciting and fun experiments. Some will even give you ideas for your science fair. All you need are some simple materials, most of which can be found around your home, school, or neighborhood. You will then be ready to discover the world of weight!","English",25.27,18.95,null,"48 pp.",{"$f":"Table1[[#This Row],[QTY]]*Table1[[#This Row],['# of Books]]","v":0},{"$f":"Table1[[#This Row],[QTY]]*Table1[[#This Row],[School & Library Price]]","v":0}]
[null,null,null,62,"Hot Science Experiments","How Heavy is Heavy?: Science Projects with Weight",1,"eBook","978-0-7660-6604-5",2015,"January 2015",null,"Author","Robert Gardner",null,null,null,null,null,null,"Grade 3 - 4","Grade 3 - 6","Have you ever been weightless? Does your weight change when you sit or lie down? How do you weight air? There are many things, light and heavy in the world around you which you can measure. The concepts introduced in this book will help you perform exciting and fun experiments. Some will even give you ideas for your science fair. All you need are some simple materials, most of which can be found around your home, school, or neighborhood. You will then be ready to discover the world of weight!","English",25.27,18.95,null,"48 pp.",{"$f":"Table1[[#This Row],[QTY]]*Table1[[#This Row],['# of Books]]","v":0},{"$f":"Table1[[#This Row],[QTY]]*Table1[[#This Row],[School & Library Price]]","v":0}]
[null,null,null,62,"Hot Science Experiments","How High is High?: Science Projects with Height and Depth",1,"Library Bound Book","978-0-7660-6595-6",2015,"January 2015","7.500 X 9.000","Author","Robert Gardner",null,null,null,null,null,null,"Grade 3 - 4","Grade 3 - 6","How high is a skyscraper? How deep is a pond?How high is your school?  There are so many things to measure in the world around you. The concepts introduced in this book will help you perform exciting and fun experiments. Some will even give you ideas for your science fair. Using simple materials, you can do everything a scientist does: conduct experiments, keep records, and draw conclusions from what you have learned. You will then be ready to discover the world of height and depth!","English",25.27,18.95,null,"48 pp.",{"$f":"Table1[[#This Row],[QTY]]*Table1[[#This Row],['# of Books]]","v":0},{"$f":"Table1[[#This Row],[QTY]]*Table1[[#This Row],[School & Library Price]]","v":0}]
[null,null,null,62,"Hot Science Experiments","How High is High?: Science Projects with Height and Depth",1,"eBook","978-0-7660-6599-4",2015,"January 2015",null,"Author","Robert Gardner",null,null,null,null,null,null,"Grade 3 - 4","Grade 3 - 6","How high is a skyscraper? How deep is a pond?How high is your school?  There are so many things to measure in the world around you. The concepts introduced in this book will help you perform exciting and fun experiments. Some will even give you ideas for your science fair. Using simple materials, you can do everything a scientist does: conduct experiments, keep records, and draw conclusions from what you have learned. You will then be ready to discover the world of height and depth!","English",25.27,18.95,null,"48 pp.",{"$f":"Table1[[#This Row],[QTY]]*Table1[[#This Row],['# of Books]]","v":0},{"$f":"Table1[[#This Row],[QTY]]*Table1[[#This Row],[School & Library Price]]","v":0}]
[null,null,null,62,"Hot Science Experiments","How Hot is Hot?: Science Projects with Temperature",1,"Library Bound Book","978-0-7660-6605-2",2015,"January 2015","7.500 X 9.000","Author","Robert Gardner",null,null,null,null,null,null,"Grade 3 - 4","Grade 3 - 6","What is the coolest place in your house? Why should you wear dark-colored clothing if you want to stay warm? Is your body temperature higher on warmer days than on cold days? This book lets you perform lots of fun experiments while learning all about temperature. Using simple materials, you can do everything a scientist does: conduct experiments, keep records, and draw conclusions from what you have learned. You will also get many ideas for follow-up experiments in case you decide to enter a science fair. The colorful illustrations make the book fun and easy to read. Gather up your materials and get ready to learn all about temperature!","English",25.27,18.95,null,"48 pp.",{"$f":"Table1[[#This Row],[QTY]]*Table1[[#This Row],['# of Books]]","v":0},{"$f":"Table1[[#This Row],[QTY]]*Table1[[#This Row],[School & Library Price]]","v":0}]
[null,null,null,62,"Hot Science Experiments","How Hot is Hot?: Science Projects with Temperature",1,"eBook","978-0-7660-6609-0",2015,"January 2015",null,"Author","Robert Gardner",null,null,null,null,null,null,"Grade 3 - 4","Grade 3 - 6","What is the coolest place in your house? Why should you wear dark-colored clothing if you want to stay warm? Is your body temperature higher on warmer days than on cold days? This book lets you perform lots of fun experiments while learning all about temperature. Using simple materials, you can do everything a scientist does: conduct experiments, keep records, and draw conclusions from what you have learned. You will also get many ideas for follow-up experiments in case you decide to enter a science fair. The colorful illustrations make the book fun and easy to read. Gather up your materials and get ready to learn all about temperature!","English",25.27,18.95,null,"48 pp.",{"$f":"Table1[[#This Row],[QTY]]*Table1[[#This Row],['# of Books]]","v":0},{"$f":"Table1[[#This Row],[QTY]]*Table1[[#This Row],[School & Library Price]]","v":0}]
[null,null,null,62,"Hot Science Experiments","How Quick is Quick?: Science Projects with Time",1,"Library Bound Book","978-0-7660-6610-6",2015,"January 2015","7.500 X 9.000","Author","Robert Gardner",null,null,null,null,null,null,"Grade 3 - 4","Grade 3 - 6","How quickly does your hair grow? How long does it take to react to a command? Can you measure time with water? There are so many things to measure in the world around you. The concepts introduced in this book will help you perform exciting and fun experiments. Some will even give you ideas for your science fair. Using simple materials, you can do everything a scientist does: conduct experiments, keep records, and draw conclusions from what you have learned. You will then be ready to discover the world of time!","English",25.27,18.95,null,"48 pp.",{"$f":"Table1[[#This Row],[QTY]]*Table1[[#This Row],['# of Books]]","v":0},{"$f":"Table1[[#This Row],[QTY]]*Table1[[#This Row],[School & Library Price]]","v":0}]
[null,null,null,62,"Hot Science Experiments","How Quick is Quick?: Science Projects with Time",1,"eBook","978-0-7660-6614-4",2015,"January 2015",null,"Author","Robert Gardner",null,null,null,null,null,null,"Grade 3 - 4","Grade 3 - 6","How quickly does your hair grow? How long does it take to react to a command? Can you measure time with water? There are so many things to measure in the world around you. The concepts introduced in this book will help you perform exciting and fun experiments. Some will even give you ideas for your science fair. Using simple materials, you can do everything a scientist does: conduct experiments, keep records, and draw conclusions from what you have learned. You will then be ready to discover the world of time!","English",25.27,18.95,null,"48 pp.",{"$f":"Table1[[#This Row],[QTY]]*Table1[[#This Row],['# of Books]]","v":0},{"$f":"Table1[[#This Row],[QTY]]*Table1[[#This Row],[School & Library Price]]","v":0}]
[null,null,null,62,"Last Minute Science Projects with Biomes","Last Minute Science Projects with Biomes",6,"Library Set","978-0-7660-8031-7",2015,"August 2014","7.500 X 9.000",null,null,null,null,null,null,null,null,"Grade 3 - 6","Grade 3 - 6",null,"English",151.62,113.7,null,"48 pp.",{"$f":"Table1[[#This Row],[QTY]]*Table1[[#This Row],['# of Books]]","v":0},{"$f":"Table1[[#This Row],[QTY]]*Table1[[#This Row],[School & Library Price]]","v":0}]
[null,null,null,62,"Last Minute Science Projects with Biomes","Desert Experiments: 11 Science Experiments in One Hour or Less",1,"Library Bound Book","978-0-7660-5917-7",2015,"August 2014","7.500 X 9.000","Author","Robert Gardner",null,null,null,null,"N","790L","Grade 5 - 6","Grade 5 - 12","Have you waited until the last minute to start your science project? Don’t worry, award-winning author Robert Gardner has you covered. Most of these experiments about the desert biome can be done in an hour or less! There are also a few longer experiments for the budding scientist and ideas for science fair projects in case you have more time! ","English",25.27,18.95,"577.54","48 pp.",{"$f":"Table1[[#This Row],[QTY]]*Table1[[#This Row],['# of Books]]","v":0},{"$f":"Table1[[#This Row],[QTY]]*Table1[[#This Row],[School & Library Price]]","v":0}]
[null,null,null,62,"Last Minute Science Projects with Biomes","Desert Experiments: 11 Science Experiments in One Hour or Less",1,"eBook","978-0-7660-5921-4",2015,"August 2014",null,"Author","Robert Gardner",null,null,null,null,"N","790L","Grade 5 - 6","Grade 5 - 12","Have you waited until the last minute to start your science project? Don’t worry, award-winning author Robert Gardner has you covered. Most of these experiments about the desert biome can be done in an hour or less! There are also a few longer experiments for the budding scientist and ideas for science fair projects in case you have more time! ","English",25.27,18.95,"577.54","48 pp.",{"$f":"Table1[[#This Row],[QTY]]*Table1[[#This Row],['# of Books]]","v":0},{"$f":"Table1[[#This Row],[QTY]]*Table1[[#This Row],[School & Library Price]]","v":0}]
[null,null,null,62,"Last Minute Science Projects with Biomes","Grasslands Experiments: 11 Science Experiments in One Hour or Less",1,"Library Bound Book","978-0-7660-5927-6",2015,"August 2014","7.500 X 9.000","Author","Robert Gardner",null,null,null,null,"N","820L","Grade 5 - 6","Grade 5 - 12","Waited until the last minute to get started? No problem! Each experiment in GRASSLANDS EXPERIMENTS: 11 SCIENCE EXPERIMENTS IN ONE HOUR OR LESS follows the scientific method and can be completed in an hour or less. Make a climatogram for a city in the grasslands, experiment to find out why grasslands in the United States have seasons and find out how a prairie wind affects the evaporation of water. Experiments also include ideas for science fair projects in case you have extra time. ","English",25.27,18.95,"577.4","48 pp.",{"$f":"Table1[[#This Row],[QTY]]*Table1[[#This Row],['# of Books]]","v":0},{"$f":"Table1[[#This Row],[QTY]]*Table1[[#This Row],[School & Library Price]]","v":0}]
[null,null,null,62,"Last Minute Science Projects with Biomes","Grasslands Experiments: 11 Science Experiments in One Hour or Less",1,"eBook","978-0-7660-5931-3",2015,"August 2014",null,"Author","Robert Gardner",null,null,null,null,"N","820L","Grade 5 - 6","Grade 5 - 12","Waited until the last minute to get started? No problem! Each experiment in GRASSLANDS EXPERIMENTS: 11 SCIENCE EXPERIMENTS IN ONE HOUR OR LESS follows the scientific method and can be completed in an hour or less. Make a climatogram for a city in the grasslands, experiment to find out why grasslands in the United States have seasons and find out how a prairie wind affects the evaporation of water. Experiments also include ideas for science fair projects in case you have extra time. ","English",25.27,18.95,"577.4","48 pp.",{"$f":"Table1[[#This Row],[QTY]]*Table1[[#This Row],['# of Books]]","v":0},{"$f":"Table1[[#This Row],[QTY]]*Table1[[#This Row],[School & Library Price]]","v":0}]
[null,null,null,62,"Last Minute Science Projects with Biomes","Rain Forest Experiments: 10 Science Experiments in One Hour or Less",1,"Library Bound Book","978-0-7660-5937-5",2015,"August 2014","7.500 X 9.000","Author","Robert Gardner",null,null,null,null,"N","890L","Grade 5 - 6","Grade 5 - 12","Down to the wire? Have you waited until the last minute to start your science project? Don’t worry, award-winning author Robert Gardner has you covered! Each experiment in this book follows the scientific method, and can be completed in an hour or less. Find out how does your rainfall compare with a rain forest, create a model aquifer, and make a cloud. Most experiments also include ideas for science fair projects, in case you have more time than you originally thought! ","English",25.27,18.95,"577.34","48 pp.",{"$f":"Table1[[#This Row],[QTY]]*Table1[[#This Row],['# of Books]]","v":0},{"$f":"Table1[[#This Row],[QTY]]*Table1[[#This Row],[School & Library Price]]","v":0}]
[null,null,null,62,"Last Minute Science Projects with Biomes","Rain Forest Experiments: 10 Science Experiments in One Hour or Less",1,"eBook","978-0-7660-5941-2",2015,"August 2014",null,"Author","Robert Gardner",null,null,null,null,"N","890L","Grade 5 - 6","Grade 5 - 12","Down to the wire? Have you waited until the last minute to start your science project? Don’t worry, award-winning author Robert Gardner has you covered! Each experiment in this book follows the scientific method, and can be completed in an hour or less. Find out how does your rainfall compare with a rain forest, create a model aquifer, and make a cloud. Most experiments also include ideas for science fair projects, in case you have more time than you originally thought! ","English",25.27,18.95,"577.34","48 pp.",{"$f":"Table1[[#This Row],[QTY]]*Table1[[#This Row],['# of Books]]","v":0},{"$f":"Table1[[#This Row],[QTY]]*Table1[[#This Row],[School & Library Price]]","v":0}]
[null,null,null,62,"Last Minute Science Projects with Biomes","Taiga Experiments: 12 Science Experiments in One Hour or Less",1,"Library Bound Book","978-0-7660-5932-0",2015,"August 2014","7.500 X 9.000","Author","Robert Gardner",null,null,null,null,"N","860L","Grade 5 - 6","Grade 5 - 12","No energy to spare? This title in the LAST-MINUTE SCIENCE PROJECTS series is here to help. Discover how cool temperatures help to keep a taiga wet, and the relationship between a taiga animal’s wide feet and pressure. Each experiment follows the scientific method, and can be completed in an hour or less. Many experiments also include ideas for more detailed science fair projects. ","English",25.27,18.95,"577.3","48 pp.",{"$f":"Table1[[#This Row],[QTY]]*Table1[[#This Row],['# of Books]]","v":0},{"$f":"Table1[[#This Row],[QTY]]*Table1[[#This Row],[School & Library Price]]","v":0}]
[null,null,null,62,"Last Minute Science Projects with Biomes","Taiga Experiments: 12 Science Experiments in One Hour or Less",1,"eBook","978-0-7660-5936-8",2015,"August 2014",null,"Author","Robert Gardner",null,null,null,null,"N","860L","Grade 5 - 6","Grade 5 - 12","No energy to spare? This title in the LAST-MINUTE SCIENCE PROJECTS series is here to help. Discover how cool temperatures help to keep a taiga wet, and the relationship between a taiga animal’s wide feet and pressure. Each experiment follows the scientific method, and can be completed in an hour or less. Many experiments also include ideas for more detailed science fair projects. ","English",25.27,18.95,"577.3","48 pp.",{"$f":"Table1[[#This Row],[QTY]]*Table1[[#This Row],['# of Books]]","v":0},{"$f":"Table1[[#This Row],[QTY]]*Table1[[#This Row],[School & Library Price]]","v":0}]
[null,null,null,62,"Last Minute Science Projects with Biomes","Temperate Forest Experiments: 8 Science Experiments in One Hour or Less",1,"Library Bound Book","978-0-7660-5922-1",2015,"August 2014","7.500 X 9.000","Author","Robert Gardner",null,null,null,null,"N","830L","Grade 5 - 6","Grade 5 - 12","Have you waited until the last minute to start your science project? Don’t worry, award-winning author Robert Gardner has you covered!  Each experiment in TEMPERATE FOREST EXPERIMENTS: 8 SCIENCE EXPERIMENTS IN ONE HOUR OR LESS follows the scientific method, and can be completed in an hour or less. Explore leaf anatomy, use a tree’s shadow to measure its height, and find out how old that tree is. Most experiments also include ideas for science fair projects, in case you have more time than you originally thought. ","English",25.27,18.95,"577.3","48 pp.",{"$f":"Table1[[#This Row],[QTY]]*Table1[[#This Row],['# of Books]]","v":0},{"$f":"Table1[[#This Row],[QTY]]*Table1[[#This Row],[School & Library Price]]","v":0}]
[null,null,null,62,"Last Minute Science Projects with Biomes","Temperate Forest Experiments: 8 Science Experiments in One Hour or Less",1,"eBook","978-0-7660-5926-9",2015,"August 2014",null,"Author","Robert Gardner",null,null,null,null,"N","830L","Grade 5 - 6","Grade 5 - 12","Have you waited until the last minute to start your science project? Don’t worry, award-winning author Robert Gardner has you covered!  Each experiment in TEMPERATE FOREST EXPERIMENTS: 8 SCIENCE EXPERIMENTS IN ONE HOUR OR LESS follows the scientific method, and can be completed in an hour or less. Explore leaf anatomy, use a tree’s shadow to measure its height, and find out how old that tree is. Most experiments also include ideas for science fair projects, in case you have more time than you originally thought. ","English",25.27,18.95,"577.3","48 pp.",{"$f":"Table1[[#This Row],[QTY]]*Table1[[#This Row],['# of Books]]","v":0},{"$f":"Table1[[#This Row],[QTY]]*Table1[[#This Row],[School & Library Price]]","v":0}]
[null,null,null,62,"Last Minute Science Projects with Biomes","Tundra Experiments: 14 Science Experiments in One Hour or Less",1,"Library Bound Book","978-0-7660-5942-9",2015,"August 2014","7.500 X 9.000","Author","Robert Gardner",null,null,null,null,"N","880L","Grade 5 - 6","Grade 5 - 12","Award-winning author Robert Gardner comes to the rescue of busy students everywhere. Each experiment in TUNDRA EXPERIMENTS: 14 EXPERIMENTS follows the scientific method, and is designed to be completed in under an hour. Discover why a tundra stays wet when it receives little rain, finding the energy (heat) is needed to melt one gram of ice, build a model of the permafrost, and the science of solar heat and leaf color. There are also ideas for more science experiments if you have extra time. ","English",25.27,18.95,"577.5","48 pp.",{"$f":"Table1[[#This Row],[QTY]]*Table1[[#This Row],['# of Books]]","v":0},{"$f":"Table1[[#This Row],[QTY]]*Table1[[#This Row],[School & Library Price]]","v":0}]
[null,null,null,62,"Last Minute Science Projects with Biomes","Tundra Experiments: 14 Science Experiments in One Hour or Less",1,"eBook","978-0-7660-5946-7",2015,"August 2014",null,"Author","Robert Gardner",null,null,null,null,"N","880L","Grade 5 - 6","Grade 5 - 12","Award-winning author Robert Gardner comes to the rescue of busy students everywhere. Each experiment in TUNDRA EXPERIMENTS: 14 EXPERIMENTS follows the scientific method, and is designed to be completed in under an hour. Discover why a tundra stays wet when it receives little rain, finding the energy (heat) is needed to melt one gram of ice, build a model of the permafrost, and the science of solar heat and leaf color. There are also ideas for more science experiments if you have extra time. ","English",25.27,18.95,"577.5","48 pp.",{"$f":"Table1[[#This Row],[QTY]]*Table1[[#This Row],['# of Books]]","v":0},{"$f":"Table1[[#This Row],[QTY]]*Table1[[#This Row],[School & Library Price]]","v":0}]
[null,null,null,63,"What Are the Seven Wonders of the World?","What Are the Seven Wonders of the World?",4,"Library Set","978-0-7660-8034-8",2013,"January 2013","7.500 X 9.000",null,null,null,null,null,null,null,null,"Grade 3 - 6","Grade 3 - 6",null,"English",101.08,75.8,null,"48 pp.",{"$f":"Table1[[#This Row],[QTY]]*Table1[[#This Row],['# of Books]]","v":0},{"$f":"Table1[[#This Row],[QTY]]*Table1[[#This Row],[School & Library Price]]","v":0}]
[null,null,null,63,"What Are the Seven Wonders of the World?","What Are the 7 Natural Wonders of the United States?",1,"Library Bound Book","978-0-7660-4154-7",2013,"January 2013","7.500 X 9.000","Author","Cheryl L. Defries",8,null,null,null,"S","1120L","Grade 4 - 6","Grade 4 - 8","This book serves as an introduction and overview of the seven natural wonders of the United States. It discusses how many of these marvels have been created over millions of years. Glaciers, water, ice, wind, erosion and the movement of the earth’s plates have produced them. ","English",25.27,18.95,"917.3","48 pp.",{"$f":"Table1[[#This Row],[QTY]]*Table1[[#This Row],['# of Books]]","v":0},{"$f":"Table1[[#This Row],[QTY]]*Table1[[#This Row],[School & Library Price]]","v":0}]
[null,null,null,63,"What Are the Seven Wonders of the World?","What Are the 7 Natural Wonders of the United States?",1,"eBook","978-0-7660-5781-4",2013,"January 2013",null,"Author","Cheryl L. Defries",8,null,null,null,"S","1120L","Grade 4 - 6","Grade 4 - 8","This book serves as an introduction and overview of the seven natural wonders of the United States. It discusses how many of these marvels have been created over millions of years. Glaciers, water, ice, wind, erosion and the movement of the earth’s plates have produced them. ","English",25.27,18.95,"917.3","48 pp.",{"$f":"Table1[[#This Row],[QTY]]*Table1[[#This Row],['# of Books]]","v":0},{"$f":"Table1[[#This Row],[QTY]]*Table1[[#This Row],[School & Library Price]]","v":0}]
[null,null,null,63,"What Are the Seven Wonders of the World?","What Are the 7 Wonders of the Ancient World?",1,"Library Bound Book","978-0-7660-4151-6",2013,"January 2013","7.500 X 9.000","Author","Michelle Laliberte",7.8,null,null,null,"T","1060L","Grade 4 - 6","Grade 4 - 8","This book serves as an introduction and overview of the seven wonders of the ancient world. Majestic pyramids, grand monuments, and towering statues are among the many wonders that have graced the list. ","English",25.27,18.95,"722","48 pp.",{"$f":"Table1[[#This Row],[QTY]]*Table1[[#This Row],['# of Books]]","v":0},{"$f":"Table1[[#This Row],[QTY]]*Table1[[#This Row],[School & Library Price]]","v":0}]
[null,null,null,63,"What Are the Seven Wonders of the World?","What Are the 7 Wonders of the Ancient World?",1,"eBook","978-0-7660-5778-4",2013,"January 2013",null,"Author","Michelle Laliberte",7.8,null,null,null,"T","1060L","Grade 4 - 6","Grade 4 - 8","This book serves as an introduction and overview of the seven wonders of the ancient world. Majestic pyramids, grand monuments, and towering statues are among the many wonders that have graced the list. ","English",25.27,18.95,"722","48 pp.",{"$f":"Table1[[#This Row],[QTY]]*Table1[[#This Row],['# of Books]]","v":0},{"$f":"Table1[[#This Row],[QTY]]*Table1[[#This Row],[School & Library Price]]","v":0}]
[null,null,null,63,"What Are the Seven Wonders of the World?","What Are the 7 Wonders of the Modern World?",1,"Library Bound Book","978-0-7660-4152-3",2013,"January 2013","7.500 X 9.000","Author","Doreen Gonzales",7.3,null,null,null,"T","1000L","Grade 4 - 6","Grade 4 - 8","This book serves as an introduction and overview of the seven wonders of the modern world. Each of the structures in this book began as a dream to move faster, go higher, or live better. Discover the wonders of these structures and their fascinating facts. ","English",25.27,18.95,"624","48 pp.",{"$f":"Table1[[#This Row],[QTY]]*Table1[[#This Row],['# of Books]]","v":0},{"$f":"Table1[[#This Row],[QTY]]*Table1[[#This Row],[School & Library Price]]","v":0}]
[null,null,null,63,"What Are the Seven Wonders of the World?","What Are the 7 Wonders of the Modern World?",1,"eBook","978-0-7660-5779-1",2013,"January 2013",null,"Author","Doreen Gonzales",7.3,null,null,null,"T","1000L","Grade 4 - 6","Grade 4 - 8","This book serves as an introduction and overview of the seven wonders of the modern world. Each of the structures in this book began as a dream to move faster, go higher, or live better. Discover the wonders of these structures and their fascinating facts. ","English",25.27,18.95,"624","48 pp.",{"$f":"Table1[[#This Row],[QTY]]*Table1[[#This Row],['# of Books]]","v":0},{"$f":"Table1[[#This Row],[QTY]]*Table1[[#This Row],[School & Library Price]]","v":0}]
[null,null,null,63,"What Are the Seven Wonders of the World?","What Are the 7 Wonders of the Natural World?",1,"Library Bound Book","978-0-7660-4153-0",2013,"January 2013","7.500 X 9.000","Author","Amy Graham",6.1,null,null,null,"S","890L","Grade 4 - 6","Grade 4 - 8","This book serves as an introduction and overview of the seven wonders of the natural world. It explains how nature alone carved these sites that we so admire. From the ocean shores to the inland forests, discover how the natural world is a beautiful place. ","English",25.27,18.95,"551.41","48 pp.",{"$f":"Table1[[#This Row],[QTY]]*Table1[[#This Row],['# of Books]]","v":0},{"$f":"Table1[[#This Row],[QTY]]*Table1[[#This Row],[School & Library Price]]","v":0}]
[null,null,null,63,"What Are the Seven Wonders of the World?","What Are the 7 Wonders of the Natural World?",1,"eBook","978-0-7660-5780-7",2013,"January 2013",null,"Author","Amy Graham",6.1,null,null,null,"S","890L","Grade 4 - 6","Grade 4 - 8","This book serves as an introduction and overview of the seven wonders of the natural world. It explains how nature alone carved these sites that we so admire. From the ocean shores to the inland forests, discover how the natural world is a beautiful place. ","English",25.27,18.95,"551.41","48 pp.",{"$f":"Table1[[#This Row],[QTY]]*Table1[[#This Row],['# of Books]]","v":0},{"$f":"Table1[[#This Row],[QTY]]*Table1[[#This Row],[School & Library Price]]","v":0}]
[null,null,null,63,"The American Revolution Through Primary Sources","The American Revolution Through Primary Sources",6,"Library Set","978-0-7660-8033-1",2013,null,"7.500 X 9.000",null,null,null,null,null,null,null,null,"Grade 3 - 6","Grade 3 - 6",null,"English",151.62,113.7,null,"48 pp.",{"$f":"Table1[[#This Row],[QTY]]*Table1[[#This Row],['# of Books]]","v":0},{"$f":"Table1[[#This Row],[QTY]]*Table1[[#This Row],[School & Library Price]]","v":0}]
[null,null,null,63,"The American Revolution Through Primary Sources","American Indians and African Americans of the American Revolution—Through Primary Sources",1,"Library Bound Book","978-0-7660-4130-1",2013,"January 2013","7.500 X 9.000",null,null,5,null,null,null,"S","730L","Grade 4 - 6","Grade 4 - 8","When the American Revolution began, thousands of people rushed to join the fight—on both sides. For many, choosing which side to fight for was difficult. Half a million black slaves lived in the thirteen colonies. About 200,000 American Indians lived on lands east of the Mississippi River. Both groups had much to gain, or lose, depending on which side won the war. Should they support the Americans fighting for independence, or support the British cause? This book explores through primary sources the amazing stories of African Americans and American Indians during the American Revolution. ","English",25.27,18.95,"973.3","48 pp.",{"$f":"Table1[[#This Row],[QTY]]*Table1[[#This Row],['# of Books]]","v":0},{"$f":"Table1[[#This Row],[QTY]]*Table1[[#This Row],[School & Library Price]]","v":0}]
[null,null,null,63,"The American Revolution Through Primary Sources","American Indians and African Americans of the American Revolution—Through Primary Sources",1,"eBook","978-0-7660-5730-2",2013,"January 2013",null,"Author","John Micklos, Jr.",5,null,null,null,"S","730L","Grade 4 - 6","Grade 4 - 8","When the American Revolution began, thousands of people rushed to join the fight—on both sides. For many, choosing which side to fight for was difficult. Half a million black slaves lived in the thirteen colonies. About 200,000 American Indians lived on lands east of the Mississippi River. Both groups had much to gain, or lose, depending on which side won the war. Should they support the Americans fighting for independence, or support the British cause? This book explores through primary sources the amazing stories of African Americans and American Indians during the American Revolution. ","English",25.27,18.95,"973.3","48 pp.",{"$f":"Table1[[#This Row],[QTY]]*Table1[[#This Row],['# of Books]]","v":0},{"$f":"Table1[[#This Row],[QTY]]*Table1[[#This Row],[School & Library Price]]","v":0}]
[null,null,null,63,"The American Revolution Through Primary Sources","An Overview of the American Revolution—Through Primary Sources",1,"Library Bound Book","978-0-7660-4135-6",2013,"January 2013","7.500 X 9.000",null,null,5.5,null,null,null,"S","810L","Grade 4 - 6","Grade 4 - 8","Shots rang out. Soldiers fell dead. On April 19, 1775, the bitter conflict that had been brewing between the American colonists and Great Britain ignited on the battlefield. The British king’s unfair tax policies had pushed the colonists toward war, but the American Revolution became a struggle for something greater—independence. And the world would never be the same again!  ","English",25.27,18.95,"973.3","48 pp.",{"$f":"Table1[[#This Row],[QTY]]*Table1[[#This Row],['# of Books]]","v":0},{"$f":"Table1[[#This Row],[QTY]]*Table1[[#This Row],[School & Library Price]]","v":0}]
[null,null,null,63,"The American Revolution Through Primary Sources","An Overview of the American Revolution—Through Primary Sources",1,"eBook","978-0-7660-5735-7",2013,"January 2013",null,"Author","John Micklos, Jr.",5.5,null,null,null,"S","810L","Grade 4 - 6","Grade 4 - 8","Shots rang out. Soldiers fell dead. On April 19, 1775, the bitter conflict that had been brewing between the American colonists and Great Britain ignited on the battlefield. The British king’s unfair tax policies had pushed the colonists toward war, but the American Revolution became a struggle for something greater—independence. And the world would never be the same again!  ","English",25.27,18.95,"973.3","48 pp.",{"$f":"Table1[[#This Row],[QTY]]*Table1[[#This Row],['# of Books]]","v":0},{"$f":"Table1[[#This Row],[QTY]]*Table1[[#This Row],[School & Library Price]]","v":0}]
[null,null,null,63,"The American Revolution Through Primary Sources","Courageous Children and Women of the American Revolution—Through Primary Sources",1,"Library Bound Book","978-0-7660-4131-8",2013,"January 2013","7.500 X 9.000",null,null,4.7,null,null,null,"R","760L","Grade 4 - 6","Grade 4 - 8","History remembers the leaders of the American Revolution—George Washington, Thomas Jefferson, John Hancock. But the war could not have been won without the unsung heroes—courageous women and children. Women served as nurses and spies. A few even fought in battle. Children supported the cause, too. Although the fighting age was supposed to be sixteen, many young men fought in battle. Women and children made great sacrifices to help America win its freedom. ","English",25.27,18.95,"973.3083","48 pp.",{"$f":"Table1[[#This Row],[QTY]]*Table1[[#This Row],['# of Books]]","v":0},{"$f":"Table1[[#This Row],[QTY]]*Table1[[#This Row],[School & Library Price]]","v":0}]
[null,null,null,63,"The American Revolution Through Primary Sources","Courageous Children and Women of the American Revolution—Through Primary Sources",1,"eBook","978-0-7660-5731-9",2013,"January 2013",null,null,null,4.7,null,null,null,"R","760L","Grade 4 - 6","Grade 4 - 8","History remembers the leaders of the American Revolution—George Washington, Thomas Jefferson, John Hancock. But the war could not have been won without the unsung heroes—courageous women and children. Women served as nurses and spies. A few even fought in battle. Children supported the cause, too. Although the fighting age was supposed to be sixteen, many young men fought in battle. Women and children made great sacrifices to help America win its freedom. ","English",25.27,18.95,"973.3083","48 pp.",{"$f":"Table1[[#This Row],[QTY]]*Table1[[#This Row],['# of Books]]","v":0},{"$f":"Table1[[#This Row],[QTY]]*Table1[[#This Row],[School & Library Price]]","v":0}]
[null,null,null,63,"The American Revolution Through Primary Sources","The Making of the United States from Thirteen Colonies—Through Primary Sources",1,"Library Bound Book","978-0-7660-4133-2",2013,"January 2013","7.500 X 9.000",null,null,6.3,null,null,null,"S","880L","Grade 4 - 6","Grade 4 - 8","Winning the American Revolution was just the first step. After defeating Great Britain, the American colonies were united in name only. How would this independent nation be governed? During the summer of 1787, representatives went to Philadelphia to solve the problem. The result—the U.S. Constitution—created a new government, establishing the foundations of a free nation and setting a new course for history. ","English",25.27,18.95,"973.3","48 pp.",{"$f":"Table1[[#This Row],[QTY]]*Table1[[#This Row],['# of Books]]","v":0},{"$f":"Table1[[#This Row],[QTY]]*Table1[[#This Row],[School & Library Price]]","v":0}]
[null,null,null,63,"The American Revolution Through Primary Sources","The Making of the United States from Thirteen Colonies—Through Primary Sources",1,"eBook","978-0-7660-5733-3",2013,"January 2013",null,null,null,6.3,null,null,null,"S","880L","Grade 4 - 6","Grade 4 - 8","Winning the American Revolution was just the first step. After defeating Great Britain, the American colonies were united in name only. How would this independent nation be governed? During the summer of 1787, representatives went to Philadelphia to solve the problem. The result—the U.S. Constitution—created a new government, establishing the foundations of a free nation and setting a new course for history. ","English",25.27,18.95,"973.3","48 pp.",{"$f":"Table1[[#This Row],[QTY]]*Table1[[#This Row],['# of Books]]","v":0},{"$f":"Table1[[#This Row],[QTY]]*Table1[[#This Row],[School & Library Price]]","v":0}]
[null,null,null,63,"The American Revolution Through Primary Sources","Washington's Crossing the Delaware and the Winter at Valley Forge—Through Primary Sources",1,"Library Bound Book","978-0-7660-4132-5",2013,"January 2013","7.500 X 9.000",null,null,5,null,null,null,"S","740L","Grade 4 - 6","Grade 4 - 8","In the winter of 1776, the Americans looked defeated. But General George Washington did not give up. His troops made a daring move, crossing the Delaware River and winning two battles. The next winter, Washington’s soldiers were cold and starving at Valley Forge. How could poorly-equipped and untrained men crush the mighty British? Follow author John Micklos, Jr., as he explores two wild winters with Washington. ","English",25.27,18.95,"973.3","48 pp.",{"$f":"Table1[[#This Row],[QTY]]*Table1[[#This Row],['# of Books]]","v":0},{"$f":"Table1[[#This Row],[QTY]]*Table1[[#This Row],[School & Library Price]]","v":0}]
[null,null,null,63,"The American Revolution Through Primary Sources","Washington's Crossing the Delaware and the Winter at Valley Forge—Through Primary Sources",1,"eBook","978-0-7660-5732-6",2013,"January 2013",null,null,null,5,null,null,null,"S","740L","Grade 4 - 6","Grade 4 - 8","In the winter of 1776, the Americans looked defeated. But General George Washington did not give up. His troops made a daring move, crossing the Delaware River and winning two battles. The next winter, Washington’s soldiers were cold and starving at Valley Forge. How could poorly-equipped and untrained men crush the mighty British? Follow author John Micklos, Jr., as he explores two wild winters with Washington. ","English",25.27,18.95,"973.3","48 pp.",{"$f":"Table1[[#This Row],[QTY]]*Table1[[#This Row],['# of Books]]","v":0},{"$f":"Table1[[#This Row],[QTY]]*Table1[[#This Row],[School & Library Price]]","v":0}]
[null,null,null,63,"The American Revolution Through Primary Sources","Why We Won the American Revolution—Through Primary Sources",1,"Library Bound Book","978-0-7660-4134-9",2013,"January 2013","7.500 X 9.000",null,null,5.8,null,null,null,"R","880L","Grade 4 - 6","Grade 4 - 8","When the Founding Fathers signed the Declaration of Independence on July 4, 1776, it marked the birth of a new nation. But the United States of America was not yet free. A brutal war gripped the nation. The grueling fight against Great Britain was far from over. How did the colonies claim victory against the most powerful army in the world in the battle for independence? Find out why we won the American Revolution! ","English",25.27,18.95,"973.3","48 pp.",{"$f":"Table1[[#This Row],[QTY]]*Table1[[#This Row],['# of Books]]","v":0},{"$f":"Table1[[#This Row],[QTY]]*Table1[[#This Row],[School & Library Price]]","v":0}]
[null,null,null,63,"The American Revolution Through Primary Sources","Why We Won the American Revolution—Through Primary Sources",1,"eBook","978-0-7660-5734-0",2013,"January 2013",null,null,null,5.8,null,null,null,"R","880L","Grade 4 - 6","Grade 4 - 8","When the Founding Fathers signed the Declaration of Independence on July 4, 1776, it marked the birth of a new nation. But the United States of America was not yet free. A brutal war gripped the nation. The grueling fight against Great Britain was far from over. How did the colonies claim victory against the most powerful army in the world in the battle for independence? Find out why we won the American Revolution! ","English",25.27,18.95,"973.3","48 pp.",{"$f":"Table1[[#This Row],[QTY]]*Table1[[#This Row],['# of Books]]","v":0},{"$f":"Table1[[#This Row],[QTY]]*Table1[[#This Row],[School & Library Price]]","v":0}]
[null,null,null,64,"The Civil War Through Primary Sources","The Civil War Through Primary Sources",6,"Library Set","978-0-7660-8037-9",2013,"January 2013","7.500 X 9.000",null,null,null,null,null,null,null,null,"Grade 3 - 6","Grade 3 - 6",null,"English",151.62,113.7,null,null,{"$f":"Table1[[#This Row],[QTY]]*Table1[[#This Row],['# of Books]]","v":0},{"$f":"Table1[[#This Row],[QTY]]*Table1[[#This Row],[School & Library Price]]","v":0}]
[null,null,null,64,"The Civil War Through Primary Sources","An Overview of the American Civil War Through Primary Sources",1,"Library Bound Book","978-0-7660-4124-0",2013,"January 2013","7.500 X 9.000","Author","Carin T. Ford",5.7,null,null,null,"S","840L","Grade 4 - 6","Grade 4 - 8","In April 1861, Abraham Lincoln’s prophetic words, “A house divided against itself cannot stand,” came true when Confederate soldiers attacked Fort Sumter, beginning the American Civil War. The war pitted North against South, brother against brother, neighbor against neighbor. The issue of slavery had torn the nation apart. War would be required to put it back together. Author Carin T. Ford uses vivid primary sources to tell the story of the war that reunited the Union and ended slavery forever. ","English",25.27,18.95,"973.7","48 pp.",{"$f":"Table1[[#This Row],[QTY]]*Table1[[#This Row],['# of Books]]","v":0},{"$f":"Table1[[#This Row],[QTY]]*Table1[[#This Row],[School & Library Price]]","v":0}]
[null,null,null,64,"The Civil War Through Primary Sources","An Overview of the American Civil War Through Primary Sources",1,"eBook","978-0-7660-5724-1",2013,"January 2013",null,"Author","Carin T. Ford",5.7,null,null,null,"S","840L","Grade 4 - 6","Grade 4 - 8","In April 1861, Abraham Lincoln’s prophetic words, “A house divided against itself cannot stand,” came true when Confederate soldiers attacked Fort Sumter, beginning the American Civil War. The war pitted North against South, brother against brother, neighbor against neighbor. The issue of slavery had torn the nation apart. War would be required to put it back together. Author Carin T. Ford uses vivid primary sources to tell the story of the war that reunited the Union and ended slavery forever. ","English",25.27,18.95,"973.7","48 pp.",{"$f":"Table1[[#This Row],[QTY]]*Table1[[#This Row],['# of Books]]","v":0},{"$f":"Table1[[#This Row],[QTY]]*Table1[[#This Row],[School & Library Price]]","v":0}]
[null,null,null,64,"The Civil War Through Primary Sources","Lincoln's Gettysburg Address and the Battle of Gettysburg Through Primary Sources",1,"Library Bound Book","978-0-7660-4126-4",2013,"January 2013","7.500 X 9.000","Author","Carin T. Ford",5.5,null,null,null,"S","840L","Grade 4 - 6","Grade 4 - 8","“This nation . . . shall have a new birth of freedom.” President Abraham Lincoln delivered these words in his Gettysburg Address, a speech commemorating the fallen soldiers at the Battle of Gettysburg. The three-day battle, the bloodiest ever fought on American soil, was a turning point in the Civil War. The Union claimed victory, and the Confederacy suffered heavy losses. But both sides had thousands of casualties. Author Carin T. Ford explores this pivotal battle in American history and the famous speech that memorialized it forever. ","English",25.27,18.95,"973.7","48 pp.",{"$f":"Table1[[#This Row],[QTY]]*Table1[[#This Row],['# of Books]]","v":0},{"$f":"Table1[[#This Row],[QTY]]*Table1[[#This Row],[School & Library Price]]","v":0}]
[null,null,null,64,"The Civil War Through Primary Sources","Lincoln's Gettysburg Address and the Battle of Gettysburg Through Primary Sources",1,"eBook","978-0-7660-5726-5",2013,"January 2013",null,"Author","Carin T. Ford",5.5,null,null,null,"S","840L","Grade 4 - 6","Grade 4 - 8","“This nation . . . shall have a new birth of freedom.” President Abraham Lincoln delivered these words in his Gettysburg Address, a speech commemorating the fallen soldiers at the Battle of Gettysburg. The three-day battle, the bloodiest ever fought on American soil, was a turning point in the Civil War. The Union claimed victory, and the Confederacy suffered heavy losses. But both sides had thousands of casualties. Author Carin T. Ford explores this pivotal battle in American history and the famous speech that memorialized it forever. ","English",25.27,18.95,"973.7","48 pp.",{"$f":"Table1[[#This Row],[QTY]]*Table1[[#This Row],['# of Books]]","v":0},{"$f":"Table1[[#This Row],[QTY]]*Table1[[#This Row],[School & Library Price]]","v":0}]
[null,null,null,64,"The Civil War Through Primary Sources","The Civil War's African-American Soldiers Through Primary Sources",1,"Library Bound Book","978-0-7660-4125-7",2013,"January 2013","7.500 X 9.000","Author","Carin T. Ford",5.7,null,null,null,"R","860L","Grade 4 - 6","Grade 4 - 8","The Civil War began as a struggle to reunite a divided nation, and it became a fight to end slavery. For African-American soldiers, the cause was always greater—freedom. African Americans had been enslaved in the United States for more than two hundred years. Slavery had fractured the nation into two parts, North and South. Through primary sources, author Carin T. Ford explores the brave African-American soldiers who helped the Union win the Civil War and abolish slavery forever. ","English",25.27,18.95,"973.7","48 pp.",{"$f":"Table1[[#This Row],[QTY]]*Table1[[#This Row],['# of Books]]","v":0},{"$f":"Table1[[#This Row],[QTY]]*Table1[[#This Row],[School & Library Price]]","v":0}]
[null,null,null,64,"The Civil War Through Primary Sources","The Civil War's African-American Soldiers Through Primary Sources",1,"eBook","978-0-7660-5725-8",2013,"January 2013",null,"Author","Carin T. Ford",5.7,null,null,null,"R","860L","Grade 4 - 6","Grade 4 - 8","The Civil War began as a struggle to reunite a divided nation, and it became a fight to end slavery. For African-American soldiers, the cause was always greater—freedom. African Americans had been enslaved in the United States for more than two hundred years. Slavery had fractured the nation into two parts, North and South. Through primary sources, author Carin T. Ford explores the brave African-American soldiers who helped the Union win the Civil War and abolish slavery forever. ","English",25.27,18.95,"973.7","48 pp.",{"$f":"Table1[[#This Row],[QTY]]*Table1[[#This Row],['# of Books]]","v":0},{"$f":"Table1[[#This Row],[QTY]]*Table1[[#This Row],[School & Library Price]]","v":0}]
[null,null,null,64,"The Civil War Through Primary Sources","The Emancipation Proclamation, Lincoln, and Slavery Through Primary Sources",1,"Library Bound Book","978-0-7660-4129-5",2013,"January 2013","7.500 X 9.000","Author","Carin T. Ford",6.1,null,null,null,"S","880L","Grade 4 - 6","Grade 4 - 8","“If slavery is not wrong, nothing is wrong.” When Abraham Lincoln said this, many Americans did not agree. Most of them lived in the South, where their economy depended on slave labor. In 1861, the year Lincoln became president, the conflict over slavery became a war between a divided nation. Although the Civil War was fought to reunite that nation, Lincoln eventually saw the greater cause: ending slavery forever in the United States. In striving to achieve this ultimate goal, President Lincoln took the most important first step—the Emancipation Proclamation. ","English",25.27,18.95,"973.7","48 pp.",{"$f":"Table1[[#This Row],[QTY]]*Table1[[#This Row],['# of Books]]","v":0},{"$f":"Table1[[#This Row],[QTY]]*Table1[[#This Row],[School & Library Price]]","v":0}]
[null,null,null,64,"The Civil War Through Primary Sources","The Emancipation Proclamation, Lincoln, and Slavery Through Primary Sources",1,"eBook","978-0-7660-5729-6",2013,"January 2013",null,"Author","Carin T. Ford",6.1,null,null,null,"S","880L","Grade 4 - 6","Grade 4 - 8","“If slavery is not wrong, nothing is wrong.” When Abraham Lincoln said this, many Americans did not agree. Most of them lived in the South, where their economy depended on slave labor. In 1861, the year Lincoln became president, the conflict over slavery became a war between a divided nation. Although the Civil War was fought to reunite that nation, Lincoln eventually saw the greater cause: ending slavery forever in the United States. In striving to achieve this ultimate goal, President Lincoln took the most important first step—the Emancipation Proclamation. ","English",25.27,18.95,"973.7","48 pp.",{"$f":"Table1[[#This Row],[QTY]]*Table1[[#This Row],['# of Books]]","v":0},{"$f":"Table1[[#This Row],[QTY]]*Table1[[#This Row],[School & Library Price]]","v":0}]
[null,null,null,64,"The Civil War Through Primary Sources","The Underground Railroad and Slavery Through Primary Sources",1,"Library Bound Book","978-0-7660-4127-1",2013,"January 2013","7.500 X 9.000","Author","Carin T. Ford",6.1,null,null,null,"R","850L","Grade 4 - 6","Grade 4 - 8","In 1619, the first African slaves arrived in America. More than two hundred years later, African-American slaves continued to suffer under the cruelest and harshest conditions in the South. Slaves tried to escape, but it was difficult. However, during the mid-1800s, the Underground Railroad—a secret network of people and escape routes—finally gave many slaves hope. It helped thousands reach freedom. Author Carin T. Ford discusses the tragic story of slavery in American history, the heroes of the Underground Railroad, and the end of slavery in the United States. ","English",25.27,18.95,"973.7","48 pp.",{"$f":"Table1[[#This Row],[QTY]]*Table1[[#This Row],['# of Books]]","v":0},{"$f":"Table1[[#This Row],[QTY]]*Table1[[#This Row],[School & Library Price]]","v":0}]
[null,null,null,64,"The Civil War Through Primary Sources","The Underground Railroad and Slavery Through Primary Sources",1,"eBook","978-0-7660-5727-2",2013,"January 2013",null,"Author","Carin T. Ford",6.1,null,null,null,"R","850L","Grade 4 - 6","Grade 4 - 8","In 1619, the first African slaves arrived in America. More than two hundred years later, African-American slaves continued to suffer under the cruelest and harshest conditions in the South. Slaves tried to escape, but it was difficult. However, during the mid-1800s, the Underground Railroad—a secret network of people and escape routes—finally gave many slaves hope. It helped thousands reach freedom. Author Carin T. Ford discusses the tragic story of slavery in American history, the heroes of the Underground Railroad, and the end of slavery in the United States. ","English",25.27,18.95,"973.7","48 pp.",{"$f":"Table1[[#This Row],[QTY]]*Table1[[#This Row],['# of Books]]","v":0},{"$f":"Table1[[#This Row],[QTY]]*Table1[[#This Row],[School & Library Price]]","v":0}]
[null,null,null,64,"The Civil War Through Primary Sources","Women of the Civil War Through Primary Sources",1,"Library Bound Book","978-0-7660-4128-8",2013,"January 2013","7.500 X 9.000","Author","Carin T. Ford",5.9,null,null,null,"R","900L","Grade 4 - 6","Grade 4 - 8","The Civil War was fought mostly by men, but the war could not have been won without the courageous effort of women. During the war, women served as spies and nurses. Some disguised themselves as men to become soldiers. With their husbands, fathers, and sons away at battle, women had to hold down the home front. The task was hard, but it was necessary. In this stirring account, primary sources bring to life the remarkable stories of women in the Civil War. ","English",25.27,18.95,"973.7082","48 pp.",{"$f":"Table1[[#This Row],[QTY]]*Table1[[#This Row],['# of Books]]","v":0},{"$f":"Table1[[#This Row],[QTY]]*Table1[[#This Row],[School & Library Price]]","v":0}]
[null,null,null,64,"The Civil War Through Primary Sources","Women of the Civil War Through Primary Sources",1,"eBook","978-0-7660-5728-9",2013,"January 2013",null,"Author","Carin T. Ford",5.9,null,null,null,"R","900L","Grade 4 - 6","Grade 4 - 8","The Civil War was fought mostly by men, but the war could not have been won without the courageous effort of women. During the war, women served as spies and nurses. Some disguised themselves as men to become soldiers. With their husbands, fathers, and sons away at battle, women had to hold down the home front. The task was hard, but it was necessary. In this stirring account, primary sources bring to life the remarkable stories of women in the Civil War. ","English",25.27,18.95,"973.7082","48 pp.",{"$f":"Table1[[#This Row],[QTY]]*Table1[[#This Row],['# of Books]]","v":0},{"$f":"Table1[[#This Row],[QTY]]*Table1[[#This Row],[School & Library Price]]","v":0}]
[null,null,null,64,"What Would You Do?","What Would You Do?",11,"Library Set","978-0-7660-8038-6",2015,"January 2015","7.500 X 9.000",null,null,null,null,null,null,null,null,"Grade 3 - 6","Grade 3 - 6","It can be hard to imagine the amount of details our fore-fathers had to consider when creating the earliest documents to protect our civil liberties. This set about such milestones in U.S. history presents each action taken with the detailed facts surrounding the circumstance. Middle school readers are encouraged to investigate each cause, then debate the issue which creates for lively discussion based learning both inside and out of the classroom.","English",277.97000000000003,208.45,null,"48 pp.",{"$f":"Table1[[#This Row],[QTY]]*Table1[[#This Row],['# of Books]]","v":0},{"$f":"Table1[[#This Row],[QTY]]*Table1[[#This Row],[School & Library Price]]","v":0}]
[null,null,null,64,"What Would You Do?","Discovering a New World: Would You Sail with Columbus?",1,"Library Bound Book","978-0-7660-4222-3",2015,"August 2014","7.500 X 9.000","Author","Elaine Landau",3.8,0.5,null,null,"M","550L","Grade 3 - ","Grade 3 - 5","In 1492, three ships set sail. Ahead—the unknown high seas that no one had dared to cross. Where will Christopher Columbus and his men land? Will they discover a New World? Will they return alive to tell the tale? Would you sail with Columbus? What would you DO? ","English",25.27,18.95,"970.01","48 pp.",{"$f":"Table1[[#This Row],[QTY]]*Table1[[#This Row],['# of Books]]","v":0},{"$f":"Table1[[#This Row],[QTY]]*Table1[[#This Row],[School & Library Price]]","v":0}]
[null,null,null,64,"What Would You Do?","Discovering a New World: Would You Sail with Columbus?",1,"eBook","978-0-7660-5845-3",2015,"August 2014",null,"Author","Elaine Landau",3.8,0.5,null,null,"M","550L","Grade 3 - ","Grade 3 - 5","In 1492, three ships set sail. Ahead—the unknown high seas that no one had dared to cross. Where will Christopher Columbus and his men land? Will they discover a New World? Will they return alive to tell the tale? Would you sail with Columbus? What would you DO? ","English",25.27,18.95,"970.01","48 pp.",{"$f":"Table1[[#This Row],[QTY]]*Table1[[#This Row],['# of Books]]","v":0},{"$f":"Table1[[#This Row],[QTY]]*Table1[[#This Row],[School & Library Price]]","v":0}]
[null,null,null,64,"What Would You Do?","General Washington Crosses the Delaware: Would You Join the American Revolution?",1,"Library Bound Book","978-0-7660-6315-0",2015,"January 2015","7.500 X 9.000","Author","Elaine Landau",null,null,null,null,null,null,"Grade 3 - 4","Grade 3 - 6","What would you do if you were George Washington and the British Army had forced you to retreat into Pennsylvania? American colonists desperately needed a victory in their fight for independence. In the middle of a fierce winter storm, Washington daringly crossed the Delaware River to attack the British Army. Author Elaine Landau lets readers step into Washington's place along with his officers, and his enemies during that fateful winter during the Revolutionary War.","English",25.27,18.95,null,"48 pp.",{"$f":"Table1[[#This Row],[QTY]]*Table1[[#This Row],['# of Books]]","v":0},{"$f":"Table1[[#This Row],[QTY]]*Table1[[#This Row],[School & Library Price]]","v":0}]
[null,null,null,64,"What Would You Do?","General Washington Crosses the Delaware: Would You Join the American Revolution?",1,"eBook","978-0-7660-6319-8",2015,"January 2015",null,"Author","Elaine Landau",null,null,null,null,null,null,"Grade 3 - 4","Grade 3 - 6","What would you do if you were George Washington and the British Army had forced you to retreat into Pennsylvania? American colonists desperately needed a victory in their fight for independence. In the middle of a fierce winter storm, Washington daringly crossed the Delaware River to attack the British Army. Author Elaine Landau lets readers step into Washington's place along with his officers, and his enemies during that fateful winter during the Revolutionary War.","English",25.27,18.95,null,"48 pp.",{"$f":"Table1[[#This Row],[QTY]]*Table1[[#This Row],['# of Books]]","v":0},{"$f":"Table1[[#This Row],[QTY]]*Table1[[#This Row],[School & Library Price]]","v":0}]
[null,null,null,64,"What Would You Do?","Jefferson’s Louisiana Purchase: Would You Make the Deal of the Century?",1,"Library Bound Book","978-0-7660-6305-1",2015,"January 2015","7.500 X 9.000","Author","Elaine Landau",null,null,null,null,null,null,"Grade 3 - 4","Grade 3 - 6","Should the United States expand across the continent of North America or stay a small country? That was the big question in 1804, when the United States had a chance to buy the huge Louisiana Territory from France. Who would make this big decision? And how would it change the United States? Author Elaine Landau poses this and other exciting questions to the reader in this lively account of the Louisiana Purchase.","English",25.27,18.95,null,"48 pp.",{"$f":"Table1[[#This Row],[QTY]]*Table1[[#This Row],['# of Books]]","v":0},{"$f":"Table1[[#This Row],[QTY]]*Table1[[#This Row],[School & Library Price]]","v":0}]
[null,null,null,64,"What Would You Do?","Jefferson’s Louisiana Purchase: Would You Make the Deal of the Century?",1,"eBook","978-0-7660-6309-9",2015,"January 2015",null,"Author","Elaine Landau",null,null,null,null,null,null,"Grade 3 - 4","Grade 3 - 6","Should the United States expand across the continent of North America or stay a small country? That was the big question in 1804, when the United States had a chance to buy the huge Louisiana Territory from France. Who would make this big decision? And how would it change the United States? Author Elaine Landau poses this and other exciting questions to the reader in this lively account of the Louisiana Purchase.","English",25.27,18.95,null,"48 pp.",{"$f":"Table1[[#This Row],[QTY]]*Table1[[#This Row],['# of Books]]","v":0},{"$f":"Table1[[#This Row],[QTY]]*Table1[[#This Row],[School & Library Price]]","v":0}]
[null,null,null,64,"What Would You Do?","Lincoln’s Emancipation Proclamation: Would You Sign the Great Document?",1,"Library Bound Book","978-0-7660-6290-0",2015,"January 2015","7.500 X 9.000","Author","Elaine Landau",null,null,null,null,null,null,"Grade 3 - 4","Grade 3 - 6","The United States was in the middle of the Civil War when President Abraham Lincoln issued the Emancipation Proclamation in 1863. It declared all the slaves in the Southern states to be free. Because the order only applied to Southern states that the Union did not control, few slaves benefited immediately. But what could Lincoln do by law? Why was slavery so important to the southern states? How would Lincoln manage to keep the Union together? Discover the clever plan behind Lincoln's Emancipation Proclamation, and learn how it freed the first slaves. The author asks the reader what they would do if faced with these important decisions.","English",25.27,18.95,null,"48 pp.",{"$f":"Table1[[#This Row],[QTY]]*Table1[[#This Row],['# of Books]]","v":0},{"$f":"Table1[[#This Row],[QTY]]*Table1[[#This Row],[School & Library Price]]","v":0}]
[null,null,null,64,"What Would You Do?","Lincoln’s Emancipation Proclamation: Would You Sign the Great Document?",1,"eBook","978-0-7660-6294-8",2015,"January 2015",null,"Author","Elaine Landau",null,null,null,null,null,null,"Grade 3 - 4","Grade 3 - 6","The United States was in the middle of the Civil War when President Abraham Lincoln issued the Emancipation Proclamation in 1863. It declared all the slaves in the Southern states to be free. Because the order only applied to Southern states that the Union did not control, few slaves benefited immediately. But what could Lincoln do by law? Why was slavery so important to the southern states? How would Lincoln manage to keep the Union together? Discover the clever plan behind Lincoln's Emancipation Proclamation, and learn how it freed the first slaves. The author asks the reader what they would do if faced with these important decisions.","English",25.27,18.95,null,"48 pp.",{"$f":"Table1[[#This Row],[QTY]]*Table1[[#This Row],['# of Books]]","v":0},{"$f":"Table1[[#This Row],[QTY]]*Table1[[#This Row],[School & Library Price]]","v":0}]
[null,null,null,64,"What Would You Do?","The Alamo: Would You Join the Fight?",1,"Library Bound Book","978-0-7660-4226-1",2015,"August 2014","7.500 X 9.000","Author","Elaine Landau",4.5999999999999996,0.5,null,null,"M","700L","Grade 3 - ","Grade 3 - 5","In 1835, a small group of rebels inside the Alamo stood up against a Mexican army. The rebels—including Davey Crockett, Jim Bowie, and William Travis—were fighting for Texas independence. Would you or would you not join the rebels? What would you do? ","English",25.27,18.95,"976.4","48 pp.",{"$f":"Table1[[#This Row],[QTY]]*Table1[[#This Row],['# of Books]]","v":0},{"$f":"Table1[[#This Row],[QTY]]*Table1[[#This Row],[School & Library Price]]","v":0}]
[null,null,null,64,"What Would You Do?","The Alamo: Would You Join the Fight?",1,"eBook","978-0-7660-5849-1",2015,"August 2014",null,"Author","Elaine Landau",4.5999999999999996,0.5,null,null,"M","700L","Grade 3 - ","Grade 3 - 5","In 1835, a small group of rebels inside the Alamo stood up against a Mexican army. The rebels—including Davey Crockett, Jim Bowie, and William Travis—were fighting for Texas independence. Would you or would you not join the rebels? What would you do? ","English",25.27,18.95,"976.4","48 pp.",{"$f":"Table1[[#This Row],[QTY]]*Table1[[#This Row],['# of Books]]","v":0},{"$f":"Table1[[#This Row],[QTY]]*Table1[[#This Row],[School & Library Price]]","v":0}]
[null,null,null,64,"What Would You Do?","The Boston Tea Party: Would You Join the Revolution?",1,"Library Bound Book","978-0-7660-4223-0",2015,"August 2014","7.500 X 9.000","Author","Elaine Landau",4.5999999999999996,0.5,null,null,"M","660L","Grade 3 - ","Grade 3 - 5","It is 1773 in the British colony of Massachusetts. The British government is taxing the tea being imported to the colonies. The Sons of Liberty in Boston are against the taxes. What would you do? Would you join the colonists who boarded the ship to toss the tea into the harbor? Or would you follow the laws and pay the taxes? Learn about many of the important decisions in American history as you read about the Boston Tea Party. ","English",25.27,18.95,"973.3","48 pp.",{"$f":"Table1[[#This Row],[QTY]]*Table1[[#This Row],['# of Books]]","v":0},{"$f":"Table1[[#This Row],[QTY]]*Table1[[#This Row],[School & Library Price]]","v":0}]
[null,null,null,64,"What Would You Do?","The Boston Tea Party: Would You Join the Revolution?",1,"eBook","978-0-7660-5846-0",2015,"August 2014",null,"Author","Elaine Landau",4.5999999999999996,0.5,null,null,"M","660L","Grade 3 - ","Grade 3 - 5","It is 1773 in the British colony of Massachusetts. The British government is taxing the tea being imported to the colonies. The Sons of Liberty in Boston are against the taxes. What would you do? Would you join the colonists who boarded the ship to toss the tea into the harbor? Or would you follow the laws and pay the taxes? Learn about many of the important decisions in American history as you read about the Boston Tea Party. ","English",25.27,18.95,"973.3","48 pp.",{"$f":"Table1[[#This Row],[QTY]]*Table1[[#This Row],['# of Books]]","v":0},{"$f":"Table1[[#This Row],[QTY]]*Table1[[#This Row],[School & Library Price]]","v":0}]
[null,null,null,64,"What Would You Do?","The Gold Rush in California: Would You Catch Gold Fever?",1,"Library Bound Book","978-0-7660-6300-6",2015,"January 2015","7.500 X 9.000","Author","Elaine Landau",null,null,null,null,null,null,"Grade 3 - 4","Grade 3 - 6","YOU are a New Englander with a bad case of gold fever. Gold has been discovered in California, and you want to go claim some for yourself. Will you strike it rich? On January 24, 1848, a man working near Sutter’s Mill in California spotted a few small gold nuggets in the American River. This discovery led thousands of people to move to the west. However, looking for gold proved to be dangerous work. Author Elaine Landau poses many other exciting questions to the reader in this engaging narrative.","English",25.27,18.95,null,"48 pp.",{"$f":"Table1[[#This Row],[QTY]]*Table1[[#This Row],['# of Books]]","v":0},{"$f":"Table1[[#This Row],[QTY]]*Table1[[#This Row],[School & Library Price]]","v":0}]
[null,null,null,64,"What Would You Do?","The Gold Rush in California: Would You Catch Gold Fever?",1,"eBook","978-0-7660-6304-4",2015,"January 2015",null,"Author","Elaine Landau",null,null,null,null,null,null,"Grade 3 - 4","Grade 3 - 6","YOU are a New Englander with a bad case of gold fever. Gold has been discovered in California, and you want to go claim some for yourself. Will you strike it rich? On January 24, 1848, a man working near Sutter’s Mill in California spotted a few small gold nuggets in the American River. This discovery led thousands of people to move to the west. However, looking for gold proved to be dangerous work. Author Elaine Landau poses many other exciting questions to the reader in this engaging narrative.","English",25.27,18.95,null,"48 pp.",{"$f":"Table1[[#This Row],[QTY]]*Table1[[#This Row],['# of Books]]","v":0},{"$f":"Table1[[#This Row],[QTY]]*Table1[[#This Row],[School & Library Price]]","v":0}]
[null,null,null,64,"What Would You Do?","The Great Battle of Gettysburg: Would You Stand and Fight?",1,"Library Bound Book","978-0-7660-6295-5",2015,"January 2015","7.500 X 9.000","Author","Elaine Landau",null,null,null,null,null,null,"Grade 3 - 4","Grade 3 - 6","\"Four score and seven years ago...\" begins Abraham Lincoln's moving speech commemorating the three-day battle that turned the tide of the Civil War. The South had been winning up to this point. So how did Union troops stop General Robert E. Lee's invasion of the North? The author asks the reader what they would do if faced with the important decisions that were made during the Civil War.","English",25.27,18.95,null,"48 pp.",{"$f":"Table1[[#This Row],[QTY]]*Table1[[#This Row],['# of Books]]","v":0},{"$f":"Table1[[#This Row],[QTY]]*Table1[[#This Row],[School & Library Price]]","v":0}]
[null,null,null,64,"What Would You Do?","The Great Battle of Gettysburg: Would You Stand and Fight?",1,"eBook","978-0-7660-6299-3",2015,"January 2015",null,"Author","Elaine Landau",null,null,null,null,null,null,"Grade 3 - 4","Grade 3 - 6","\"Four score and seven years ago...\" begins Abraham Lincoln's moving speech commemorating the three-day battle that turned the tide of the Civil War. The South had been winning up to this point. So how did Union troops stop General Robert E. Lee's invasion of the North? The author asks the reader what they would do if faced with the important decisions that were made during the Civil War.","English",25.27,18.95,null,"48 pp.",{"$f":"Table1[[#This Row],[QTY]]*Table1[[#This Row],['# of Books]]","v":0},{"$f":"Table1[[#This Row],[QTY]]*Table1[[#This Row],[School & Library Price]]","v":0}]
[null,null,null,64,"What Would You Do?","The Salem Witchcraft Trials: Would You Join the Madness?",1,"Library Bound Book","978-0-7660-4224-7",2015,"August 2014","7.500 X 9.000","Author","Elaine Landau",4.2,0.5,null,null,"M","570L","Grade 3 - ","Grade 3 - 5","Would you join the madness? It is a frigid cold winter in Salem Village, Massachusetts in 1692. Some teenage girls may be suffering from mysterious afflictions. They accused certain townspeople of being witches. What would you do? Would you believe the girls? Would you defend the accused during the trials? Find out about this tragic period in American history. ","English",25.27,18.95,"345.744","48 pp.",{"$f":"Table1[[#This Row],[QTY]]*Table1[[#This Row],['# of Books]]","v":0},{"$f":"Table1[[#This Row],[QTY]]*Table1[[#This Row],[School & Library Price]]","v":0}]
[null,null,null,64,"What Would You Do?","The Salem Witchcraft Trials: Would You Join the Madness?",1,"eBook","978-0-7660-5847-7",2015,"August 2014",null,"Author","Elaine Landau",4.2,0.5,null,null,"M","570L","Grade 3 - ","Grade 3 - 5","Would you join the madness? It is a frigid cold winter in Salem Village, Massachusetts in 1692. Some teenage girls may be suffering from mysterious afflictions. They accused certain townspeople of being witches. What would you do? Would you believe the girls? Would you defend the accused during the trials? Find out about this tragic period in American history. ","English",25.27,18.95,"345.744","48 pp.",{"$f":"Table1[[#This Row],[QTY]]*Table1[[#This Row],['# of Books]]","v":0},{"$f":"Table1[[#This Row],[QTY]]*Table1[[#This Row],[School & Library Price]]","v":0}]
[null,null,null,64,"What Would You Do?","The Start of the Revolutionary War: Would You Fight for Independence?",1,"Library Bound Book","978-0-7660-6310-5",2015,"January 2015","7.500 X 9.000","Author","Elaine Landau",null,null,null,null,null,null,"Grade 3 - 4","Grade 3 - 6","It's the late 1700s. Tensions are increasing between the American colonies and Great Britain. The Revolutionary War is about to begin. Will you: Fight for independence as a minuteman? OR… Fight as a patriot soldier? OR… Work to keep the colonies under British rule? Author Elaine Landau invites readers to make the important decisions during the colonies first battles against the British.","English",25.27,18.95,null,"48 pp.",{"$f":"Table1[[#This Row],[QTY]]*Table1[[#This Row],['# of Books]]","v":0},{"$f":"Table1[[#This Row],[QTY]]*Table1[[#This Row],[School & Library Price]]","v":0}]
[null,null,null,64,"What Would You Do?","The Start of the Revolutionary War: Would You Fight for Independence?",1,"eBook","978-0-7660-6314-3",2015,"January 2015",null,"Author","Elaine Landau",null,null,null,null,null,null,"Grade 3 - 4","Grade 3 - 6","It's the late 1700s. Tensions are increasing between the American colonies and Great Britain. The Revolutionary War is about to begin. Will you: Fight for independence as a minuteman? OR… Fight as a patriot soldier? OR… Work to keep the colonies under British rule? Author Elaine Landau invites readers to make the important decisions during the colonies first battles against the British.","English",25.27,18.95,null,"48 pp.",{"$f":"Table1[[#This Row],[QTY]]*Table1[[#This Row],['# of Books]]","v":0},{"$f":"Table1[[#This Row],[QTY]]*Table1[[#This Row],[School & Library Price]]","v":0}]
[null,null,null,64,"What Would You Do?","The Underground Railroad: Would You Help Them Escape?",1,"Library Bound Book","978-0-7660-4225-4",2015,"August 2014","7.500 X 9.000","Author","Elaine Landau",4.5,0.5,null,null,"M","690L","Grade 3 - ","Grade 3 - 5","It is the early 1860s. Slavery is legal in the United States. Brave slaves try to escape to freedom along the secret \"Underground Railroad,\" but they don’t always make it. What would you do? Would you help and protect the slaves from the slave catchers or Would you follow the law?","English",25.27,18.95,"973.7","48 pp.",{"$f":"Table1[[#This Row],[QTY]]*Table1[[#This Row],['# of Books]]","v":0},{"$f":"Table1[[#This Row],[QTY]]*Table1[[#This Row],[School & Library Price]]","v":0}]
[null,null,null,64,"What Would You Do?","The Underground Railroad: Would You Help Them Escape?",1,"eBook","978-0-7660-5848-4",2015,"August 2014",null,"Author","Elaine Landau",4.5,0.5,null,null,"M","690L","Grade 3 - ","Grade 3 - 5","It is the early 1860s. Slavery is legal in the United States. Brave slaves try to escape to freedom along the secret \"Underground Railroad,\" but they don’t always make it. What would you do? Would you help and protect the slaves from the slave catchers or Would you follow the law?","English",25.27,18.95,"973.7","48 pp.",{"$f":"Table1[[#This Row],[QTY]]*Table1[[#This Row],['# of Books]]","v":0},{"$f":"Table1[[#This Row],[QTY]]*Table1[[#This Row],[School & Library Price]]","v":0}]
[null,null,null,65,"Sports Star Champions (All 11 Titles)","Sports Star Champions (All 11 Titles)",11,"Library Set","978-0-7660-8599-2",2018,"August 2017","7.250 X 9.250",null,null,null,null,null,null,null,null,"Grade 5 - 6","Grade 6 - 8","Great for sports fanatics and reluctant readers, this exciting series takes an entertaining, action-packed look at today’s biggest professional athletes from a wide array of sports. Written in a lively, descriptive style full of fascinating details, each title covers the life of one sports champion, including his or her childhood, education, rise to fame, and defining moment in his or her sport. With vivid, full-color photographs and career statistics, this series will intrigue readers by focusing on their favorite professional athletes.","English",307.23,230.45,null,"48 pp.",{"$f":"Table1[[#This Row],[QTY]]*Table1[[#This Row],['# of Books]]","v":0},{"$f":"Table1[[#This Row],[QTY]]*Table1[[#This Row],[School & Library Price]]","v":0}]
[null,null,null,65,"Sports Star Champions (NEW Set of 6 Titles)","Sports Star Champions (NEW Set of 6 Titles)",6,"Library Set","978-0-7660-8598-5",2018,"August 2017","7.250 X 9.250",null,null,null,null,null,null,null,null,"Grade 5 - 6","Grade 6 - 8","Great for sports fanatics and reluctant readers, this exciting series takes an entertaining, action-packed look at today’s biggest professional athletes from a wide array of sports. Written in a lively, descriptive style full of fascinating details, each title covers the life of one sports champion, including his or her childhood, education, rise to fame, and defining moment in his or her sport. With vivid, full-color photographs and career statistics, this series will intrigue readers by focusing on their favorite professional athletes.","English",167.58,125.7,null,"48 pp.",{"$f":"Table1[[#This Row],[QTY]]*Table1[[#This Row],['# of Books]]","v":0},{"$f":"Table1[[#This Row],[QTY]]*Table1[[#This Row],[School & Library Price]]","v":0}]
[null,null,null,65,"Sports Star Champions","Aaron Rodgers: Champion Football Star",1,"Library Bound Book","978-0-7660-8716-3",2018,"August 2017","7.250 X 9.250","Author","David Aretha",null,null,null,null,"U",null,"Grade 5 - 6","Grade 6 - 8","Kids know Aaron Rodgers as one of the NFL’s best quarterbacks. He has won two NFL MVP Awards and led the Green Bay Packers to a Super Bowl title. He has orchestrated several “miracle” finishes, and he’s the highest-rated passer in NFL history. In this book, kids will get to know Rodgers on a personal level. They’ll see how he rose from a little-known QB at Butte Community College to a passing machine in Green Bay. Off the field, Rodgers impresses with his compassion, intelligence, and side-splitting humor. Engaging text—peppered with quotes—and high-impact photos accentuate the experience.","English",27.93,20.95,"796.332092--dc23","48 pp.",{"$f":"Table1[[#This Row],[QTY]]*Table1[[#This Row],['# of Books]]","v":0},{"$f":"Table1[[#This Row],[QTY]]*Table1[[#This Row],[School & Library Price]]","v":0}]
[null,null,null,65,"Sports Star Champions","Aaron Rodgers: Champion Football Star",1,"eBook","978-0-7660-8717-0",2018,"August 2017",null,"Author","David Aretha",null,null,null,null,"U",null,"Grade 5 - 6","Grade 6 - 8","Kids know Aaron Rodgers as one of the NFL’s best quarterbacks. He has won two NFL MVP Awards and led the Green Bay Packers to a Super Bowl title. He has orchestrated several “miracle” finishes, and he’s the highest-rated passer in NFL history. In this book, kids will get to know Rodgers on a personal level. They’ll see how he rose from a little-known QB at Butte Community College to a passing machine in Green Bay. Off the field, Rodgers impresses with his compassion, intelligence, and side-splitting humor. Engaging text—peppered with quotes—and high-impact photos accentuate the experience.","English",27.93,20.95,"796.332092--dc23","48 pp.",{"$f":"Table1[[#This Row],[QTY]]*Table1[[#This Row],['# of Books]]","v":0},{"$f":"Table1[[#This Row],[QTY]]*Table1[[#This Row],[School & Library Price]]","v":0}]
[null,null,null,65,"Sports Star Champions","Cristiano Ronaldo: Champion Soccer Star",1,"Library Bound Book","978-0-7660-8688-3",2018,"August 2017","7.250 X 9.250","Author","John A. Torres",null,null,null,null,"Z",null,"Grade 5 - 6","Grade 6 - 8","Even though he was born with an otherworldly athletic gift, Cristiano Ronaldo's early life was anything but easy. A poor kid from Portugal, he was expelled from school at age fourteen and then diagnosed with an abnormal heart condition. Through hard work and an intense desire to succeed, he soon blossomed into one of the greatest soccer players in the world. When he transferred to Real Madrid for a record-breaking salary, Ronaldo transformed himself into a worldwide celebrity, reinventing the ideal of an international sports icon. Sports fans will be inspired by this soccer superstar's rags-to-riches story.","English",27.93,20.95,"796.334092--dc23","48 pp.",{"$f":"Table1[[#This Row],[QTY]]*Table1[[#This Row],['# of Books]]","v":0},{"$f":"Table1[[#This Row],[QTY]]*Table1[[#This Row],[School & Library Price]]","v":0}]
[null,null,null,65,"Sports Star Champions","Cristiano Ronaldo: Champion Soccer Star",1,"eBook","978-0-7660-8689-0",2018,"August 2017",null,"Author","John A. Torres",null,null,null,null,"Z",null,"Grade 5 - 6","Grade 6 - 8","Even though he was born with an otherworldly athletic gift, Cristiano Ronaldo's early life was anything but easy. A poor kid from Portugal, he was expelled from school at age fourteen and then diagnosed with an abnormal heart condition. Through hard work and an intense desire to succeed, he soon blossomed into one of the greatest soccer players in the world. When he transferred to Real Madrid for a record-breaking salary, Ronaldo transformed himself into a worldwide celebrity, reinventing the ideal of an international sports icon. Sports fans will be inspired by this soccer superstar's rags-to-riches story.","English",27.93,20.95,"796.334092--dc23","48 pp.",{"$f":"Table1[[#This Row],[QTY]]*Table1[[#This Row],['# of Books]]","v":0},{"$f":"Table1[[#This Row],[QTY]]*Table1[[#This Row],[School & Library Price]]","v":0}]
[null,null,null,65,"Sports Star Champions","Derek Jeter: Champion Baseball Star",1,"Library Bound Book","978-0-7660-4025-0",2013,"August 2012","7.500 X 9.000","Author","Ken Rappoport",4.8,1,null,null,"M","740L","Grade 5 - 7","Grade 5 - 9","Derek Jeter stood at the plate with the count full, anticipating the next pitch. With a mighty wallop, he smashed the ball over the left-center field fence. Home run! But this was not an ordinary home run. It was hit number 3,000 for the New York Yankees shortstop. This is just one of many milestones Derek Jeter has achieved during his remarkable career. The Captain has led the Yankees to five World Series titles and has won several individual awards. Author Ken Rappoport details the amazing career of this baseball champion. ","English",27.93,20.95,"796.357092","48 pp.",{"$f":"Table1[[#This Row],[QTY]]*Table1[[#This Row],['# of Books]]","v":0},{"$f":"Table1[[#This Row],[QTY]]*Table1[[#This Row],[School & Library Price]]","v":0}]
[null,null,null,65,"Sports Star Champions","Derek Jeter: Champion Baseball Star",1,"eBook","978-0-7660-4444-9",2013,"August 2012",null,"Author","Ken Rappoport",4.8,1,null,null,"M","740L","Grade 5 - 7","Grade 5 - 9","Derek Jeter stood at the plate with the count full, anticipating the next pitch. With a mighty wallop, he smashed the ball over the left-center field fence. Home run! But this was not an ordinary home run. It was hit number 3,000 for the New York Yankees shortstop. This is just one of many milestones Derek Jeter has achieved during his remarkable career. The Captain has led the Yankees to five World Series titles and has won several individual awards. Author Ken Rappoport details the amazing career of this baseball champion. ","English",27.93,20.95,"796.357092","48 pp.",{"$f":"Table1[[#This Row],[QTY]]*Table1[[#This Row],['# of Books]]","v":0},{"$f":"Table1[[#This Row],[QTY]]*Table1[[#This Row],[School & Library Price]]","v":0}]
[null,null,null,65,"Sports Star Champions","José Altuve: Champion Baseball Star",1,"Library Bound Book","978-0-7660-8690-6",2018,"August 2017","7.250 X 9.250","Author","David Aretha",null,null,null,null,"V",null,"Grade 5 - 6","Grade 6 - 8","As a sixteen-year-old in Venezuela, José Altuve attended a tryout camp with the Houston Astros. The Astros rejected him because he was too short, but that didn’t break his spirit. He attended the tryout a year later and earned a minor-league contract with Houston. Just five-foot-five, Altuve has become a baseball phenomenon. He has played in four MLB All-Star Games and led the American League in hits, stolen bases, and batting average. In 2016, he even belted more than twenty home runs. Learn how Altuve overcame the odds in his first-ever biography. Full-color photos and plenty of vibrant quotes bring his story to life.","English",27.93,20.95,"796.357092--dc23","48 pp.",{"$f":"Table1[[#This Row],[QTY]]*Table1[[#This Row],['# of Books]]","v":0},{"$f":"Table1[[#This Row],[QTY]]*Table1[[#This Row],[School & Library Price]]","v":0}]
[null,null,null,65,"Sports Star Champions","José Altuve: Champion Baseball Star",1,"eBook","978-0-7660-8691-3",2018,"August 2017",null,"Author","David Aretha",null,null,null,null,"V",null,"Grade 5 - 6","Grade 6 - 8","As a sixteen-year-old in Venezuela, José Altuve attended a tryout camp with the Houston Astros. The Astros rejected him because he was too short, but that didn’t break his spirit. He attended the tryout a year later and earned a minor-league contract with Houston. Just five-foot-five, Altuve has become a baseball phenomenon. He has played in four MLB All-Star Games and led the American League in hits, stolen bases, and batting average. In 2016, he even belted more than twenty home runs. Learn how Altuve overcame the odds in his first-ever biography. Full-color photos and plenty of vibrant quotes bring his story to life.","English",27.93,20.95,"796.357092--dc23","48 pp.",{"$f":"Table1[[#This Row],[QTY]]*Table1[[#This Row],['# of Books]]","v":0},{"$f":"Table1[[#This Row],[QTY]]*Table1[[#This Row],[School & Library Price]]","v":0}]
[null,null,null,65,"Sports Star Champions","Kevin Durant: Champion Basketball Star",1,"Library Bound Book","978-0-7660-8692-0",2018,"August 2017","7.250 X 9.250","Author","Ryan Nagelhout",null,null,null,null,"T",null,"Grade 5 - 6","Grade 6 - 8","Before he was an NBA superstar, Kevin Durant was a kid who loved playing basketball. Durant grew up to be the second overall pick in the NBA Draft. After a season in which he won NBA Rookie of the Year, his team moved to Oklahoma City, where Durant led the Thunder to the NBA Finals in 2012. This book takes readers through Durant’s impressive career, including scoring titles, All-Star games, and winning the NBA’s Most Valuable Player Award in 2014. Full-color photographs show Durant on and off the court, giving readers a look at the life of one of basketball’s best. Easy-to follow text and a high-interest topic are ideal for reluctant readers. A glossary helps strengthen vocabulary, while the Further Reading section encourages further exploration.","English",27.93,20.95,"796.323092--dc23","48 pp.",{"$f":"Table1[[#This Row],[QTY]]*Table1[[#This Row],['# of Books]]","v":0},{"$f":"Table1[[#This Row],[QTY]]*Table1[[#This Row],[School & Library Price]]","v":0}]
[null,null,null,65,"Sports Star Champions","Kevin Durant: Champion Basketball Star",1,"eBook","978-0-7660-8693-7",2018,"August 2017",null,"Author","Ryan Nagelhout",null,null,null,null,"T",null,"Grade 5 - 6","Grade 6 - 8","Before he was an NBA superstar, Kevin Durant was a kid who loved playing basketball. Durant grew up to be the second overall pick in the NBA Draft. After a season in which he won NBA Rookie of the Year, his team moved to Oklahoma City, where Durant led the Thunder to the NBA Finals in 2012. This book takes readers through Durant’s impressive career, including scoring titles, All-Star games, and winning the NBA’s Most Valuable Player Award in 2014. Full-color photographs show Durant on and off the court, giving readers a look at the life of one of basketball’s best. Easy-to follow text and a high-interest topic are ideal for reluctant readers. A glossary helps strengthen vocabulary, while the Further Reading section encourages further exploration.","English",27.93,20.95,"796.323092--dc23","48 pp.",{"$f":"Table1[[#This Row],[QTY]]*Table1[[#This Row],['# of Books]]","v":0},{"$f":"Table1[[#This Row],[QTY]]*Table1[[#This Row],[School & Library Price]]","v":0}]
[null,null,null,65,"Sports Star Champions","Kevin Garnett: Champion Basketball Star",1,"Library Bound Book","978-0-7660-4028-1",2013,"August 2012","7.500 X 9.000","Author","Stew Thornley",4.3,1,null,null,"N","700L","Grade 5 - 7","Grade 5 - 9","Why is Kevin Garnett called the Big Ticket? He certainly is big—seven feet tall. But his amazing ability and presence on the court truly explains his nickname. For every fan who buys a ticket to see him play, Garnett always delivers a superstar performance. In his spectacular career, Garnett has won MVP trophies and other individual awards, but his NBA championship ring is most important to him. The team has always come first for KG. Author Stew Thornley explores the exciting career of this basketball champion. ","English",27.93,20.95,"796.323092","48 pp.",{"$f":"Table1[[#This Row],[QTY]]*Table1[[#This Row],['# of Books]]","v":0},{"$f":"Table1[[#This Row],[QTY]]*Table1[[#This Row],[School & Library Price]]","v":0}]
[null,null,null,65,"Sports Star Champions","Kevin Garnett: Champion Basketball Star",1,"eBook","978-0-7660-4442-5",2013,"August 2012",null,"Author","Stew Thornley",4.3,1,null,null,"N","700L","Grade 5 - 7","Grade 5 - 9","Why is Kevin Garnett called the Big Ticket? He certainly is big—seven feet tall. But his amazing ability and presence on the court truly explains his nickname. For every fan who buys a ticket to see him play, Garnett always delivers a superstar performance. In his spectacular career, Garnett has won MVP trophies and other individual awards, but his NBA championship ring is most important to him. The team has always come first for KG. Author Stew Thornley explores the exciting career of this basketball champion. ","English",27.93,20.95,"796.323092","48 pp.",{"$f":"Table1[[#This Row],[QTY]]*Table1[[#This Row],['# of Books]]","v":0},{"$f":"Table1[[#This Row],[QTY]]*Table1[[#This Row],[School & Library Price]]","v":0}]
[null,null,null,65,"Sports Star Champions","Kobe Bryant: Champion Basketball Star",1,"Library Bound Book","978-0-7660-4029-8",2013,"August 2012","7.500 X 9.000","Author","Stew Thornley",4.7,1,null,null,"N","710L","Grade 5 - 7","Grade 5 - 9","Kobe Bryant is an unstoppable scorer. He can swish shots from long range or drive to the basket for a vicious dunk. Bryant once scored 81 points in a single game! He can also dish it to his teammates, rip down rebounds, or play lockdown defense. Despite all these amazing skills, one word describes him the best: champion. The Los Angeles Lakers superstar has won five NBA titles since coming out of high school, and he has earned many individual awards. Author Stew Thornley highlights the all-time great career of this basketball champion. ","English",27.93,20.95,"796.323092","48 pp.",{"$f":"Table1[[#This Row],[QTY]]*Table1[[#This Row],['# of Books]]","v":0},{"$f":"Table1[[#This Row],[QTY]]*Table1[[#This Row],[School & Library Price]]","v":0}]
[null,null,null,65,"Sports Star Champions","Kobe Bryant: Champion Basketball Star",1,"eBook","978-0-7660-4446-3",2013,"August 2012",null,"Author","Stew Thornley",4.7,1,null,null,"N","710L","Grade 5 - 7","Grade 5 - 9","Kobe Bryant is an unstoppable scorer. He can swish shots from long range or drive to the basket for a vicious dunk. Bryant once scored 81 points in a single game! He can also dish it to his teammates, rip down rebounds, or play lockdown defense. Despite all these amazing skills, one word describes him the best: champion. The Los Angeles Lakers superstar has won five NBA titles since coming out of high school, and he has earned many individual awards. Author Stew Thornley highlights the all-time great career of this basketball champion. ","English",27.93,20.95,"796.323092","48 pp.",{"$f":"Table1[[#This Row],[QTY]]*Table1[[#This Row],['# of Books]]","v":0},{"$f":"Table1[[#This Row],[QTY]]*Table1[[#This Row],[School & Library Price]]","v":0}]
[null,null,null,65,"Sports Star Champions","Neymar: Champion Soccer Star",1,"Library Bound Book","978-0-7660-8694-4",2018,"August 2017","7.250 X 9.250","Author","John A. Torres",null,null,null,null,"T",null,"Grade 5 - 6","Grade 6 - 8","Regarded by many to be the next great international soccer player, the young Neymar is already being compared to legends like Lionel Messi and Cristiano Ronaldo. Through easy-to-read text and full-color photos, readers can follow his meteoric rise through the ranks of international soccer, culminating with an Olympic gold medal in the 2016 games. A glossary helps readers learn new vocabulary, while a Further Reading section encourages further exploration.","English",27.93,20.95,"796.334092--dc23","48 pp.",{"$f":"Table1[[#This Row],[QTY]]*Table1[[#This Row],['# of Books]]","v":0},{"$f":"Table1[[#This Row],[QTY]]*Table1[[#This Row],[School & Library Price]]","v":0}]
[null,null,null,65,"Sports Star Champions","Neymar: Champion Soccer Star",1,"eBook","978-0-7660-8695-1",2018,"August 2017",null,"Author","John A. Torres",null,null,null,null,"T",null,"Grade 5 - 6","Grade 6 - 8","Regarded by many to be the next great international soccer player, the young Neymar is already being compared to legends like Lionel Messi and Cristiano Ronaldo. Through easy-to-read text and full-color photos, readers can follow his meteoric rise through the ranks of international soccer, culminating with an Olympic gold medal in the 2016 games. A glossary helps readers learn new vocabulary, while a Further Reading section encourages further exploration.","English",27.93,20.95,"796.334092--dc23","48 pp.",{"$f":"Table1[[#This Row],[QTY]]*Table1[[#This Row],['# of Books]]","v":0},{"$f":"Table1[[#This Row],[QTY]]*Table1[[#This Row],[School & Library Price]]","v":0}]
[null,null,null,65,"Sports Star Champions","Peyton Manning: Champion Football Star",1,"Library Bound Book","978-0-7660-4027-4",2013,"August 2012","7.500 X 9.000","Author","Ken Rappoport",5.7,1,null,null,"M","800L","Grade 5 - 7","Grade 5 - 9","When the game is on the line and time is running out, there's one quarterback who always leads his team to victory: Peyton Manning. The Colts' superstar has been thrilling football fans for many years. He is the prototype quarterback. Big and strong, he shreds defenses with his powerful arm and deadly accuracy. And nobody works harder than Peyton Manning. Throughout his career, Manning has compiled Hall-of-Fame statistics and individual awards. But he is most proud to be called a Superbowl champion. Author Ken Rappoport highlights the career of this gridiron great. ","English",27.93,20.95,"796.332092","48 pp.",{"$f":"Table1[[#This Row],[QTY]]*Table1[[#This Row],['# of Books]]","v":0},{"$f":"Table1[[#This Row],[QTY]]*Table1[[#This Row],[School & Library Price]]","v":0}]
[null,null,null,65,"Sports Star Champions","Peyton Manning: Champion Football Star",1,"eBook","978-0-7660-4447-0",2013,"August 2012",null,"Author","Ken Rappoport",5.7,1,null,null,"M","800L","Grade 5 - 7","Grade 5 - 9","When the game is on the line and time is running out, there's one quarterback who always leads his team to victory: Peyton Manning. The Colts' superstar has been thrilling football fans for many years. He is the prototype quarterback. Big and strong, he shreds defenses with his powerful arm and deadly accuracy. And nobody works harder than Peyton Manning. Throughout his career, Manning has compiled Hall-of-Fame statistics and individual awards. But he is most proud to be called a Superbowl champion. Author Ken Rappoport highlights the career of this gridiron great. ","English",27.93,20.95,"796.332092","48 pp.",{"$f":"Table1[[#This Row],[QTY]]*Table1[[#This Row],['# of Books]]","v":0},{"$f":"Table1[[#This Row],[QTY]]*Table1[[#This Row],[School & Library Price]]","v":0}]
[null,null,null,65,"Sports Star Champions","Ronda Rousey: Champion Mixed Martial Arts Star",1,"Library Bound Book","978-0-7660-8696-8",2018,"August 2017","7.250 X 9.250","Author","Ellina Litmanovich",null,null,null,null,"V",null,"Grade 5 - 6","Grade 6 - 8","When Ronda Rousey approached the president of the UFC and told him that one day she would fight for him, he was skeptical. Rousey made a name for herself as the youngest judoka and a force to be reckoned with when she qualified for the 2004 Olympics at the age of seventeen. Through a combination of determination and hard work, Rousey went on to become the first UFC women’s bantamweight champion. With easy-to-follow text and full-color photos, readers will learn about Rousey's life and the challenges she has overcome. Sidebars help readers learn more about the sport. A glossary helps readers master new vocabulary, while Further Reading encourages further exploration.","English",27.93,20.95,"796.8092--dc23","48 pp.",{"$f":"Table1[[#This Row],[QTY]]*Table1[[#This Row],['# of Books]]","v":0},{"$f":"Table1[[#This Row],[QTY]]*Table1[[#This Row],[School & Library Price]]","v":0}]
[null,null,null,65,"Sports Star Champions","Ronda Rousey: Champion Mixed Martial Arts Star",1,"eBook","978-0-7660-8697-5",2018,"August 2017",null,"Author","Ellina Litmanovich",null,null,null,null,"V",null,"Grade 5 - 6","Grade 6 - 8","When Ronda Rousey approached the president of the UFC and told him that one day she would fight for him, he was skeptical. Rousey made a name for herself as the youngest judoka and a force to be reckoned with when she qualified for the 2004 Olympics at the age of seventeen. Through a combination of determination and hard work, Rousey went on to become the first UFC women’s bantamweight champion. With easy-to-follow text and full-color photos, readers will learn about Rousey's life and the challenges she has overcome. Sidebars help readers learn more about the sport. A glossary helps readers master new vocabulary, while Further Reading encourages further exploration.","English",27.93,20.95,"796.8092--dc23","48 pp.",{"$f":"Table1[[#This Row],[QTY]]*Table1[[#This Row],['# of Books]]","v":0},{"$f":"Table1[[#This Row],[QTY]]*Table1[[#This Row],[School & Library Price]]","v":0}]
[null,null,null,65,"Sports Star Champions","Tim Duncan: Champion Basketball Star",1,"Library Bound Book","978-0-7660-4030-4",2013,"August 2012","7.500 X 9.000","Author","Stew Thornley",4.9000000000000004,1,null,null,"N","730L","Grade 5 - 7","Grade 5 - 9","Tim Duncan is a dominant player. He can score against the best opponents with a flurry of strong moves near the basket, or he can step outside and bury his classic bank shot. On defense, he controls the paint. He blocks shots and corrals rebounds. Tim Duncan can do it all on the court. And all he does is win. Since joining the San Antonio Spurs in 1997, Duncan has led the team to four NBA championships and twelve straight fifty-win seasons. Author Stew Thornley explores the spectacular career of this all-time great champion. ","English",27.93,20.95,"796.323092","48 pp.",{"$f":"Table1[[#This Row],[QTY]]*Table1[[#This Row],['# of Books]]","v":0},{"$f":"Table1[[#This Row],[QTY]]*Table1[[#This Row],[School & Library Price]]","v":0}]
[null,null,null,65,"Sports Star Champions","Tim Duncan: Champion Basketball Star",1,"eBook","978-0-7660-4445-6",2013,"August 2012",null,"Author","Stew Thornley",4.9000000000000004,1,null,null,"N","730L","Grade 5 - 7","Grade 5 - 9","Tim Duncan is a dominant player. He can score against the best opponents with a flurry of strong moves near the basket, or he can step outside and bury his classic bank shot. On defense, he controls the paint. He blocks shots and corrals rebounds. Tim Duncan can do it all on the court. And all he does is win. Since joining the San Antonio Spurs in 1997, Duncan has led the team to four NBA championships and twelve straight fifty-win seasons. Author Stew Thornley explores the spectacular career of this all-time great champion. ","English",27.93,20.95,"796.323092","48 pp.",{"$f":"Table1[[#This Row],[QTY]]*Table1[[#This Row],['# of Books]]","v":0},{"$f":"Table1[[#This Row],[QTY]]*Table1[[#This Row],[School & Library Price]]","v":0}]
[null,null,null,66,"Defying Convention: Women Who Changed the Rules","Defying Convention: Women Who Changed the Rules",6,"Library Set","978-0-7660-8375-2",2017,"January 2017","6.000 X 9.000",null,null,null,null,null,null,null,null,"Grade 6","Grade 6 - 12","This series discusses the lives and accomplishments of women writers, athletes, entrepreneurs, political leaders, trailblazers in the technology industry, and warriors who refused to take no for an answer and who helped shape the roles of women in society today. With approachable text set within a historical context and full-color and black-and-white photos, these collective biographies give readers insight into the struggles and triumphs of women who changed the rules.","English",223.62,167.7,null,"128 pp.",{"$f":"Table1[[#This Row],[QTY]]*Table1[[#This Row],['# of Books]]","v":0},{"$f":"Table1[[#This Row],[QTY]]*Table1[[#This Row],[School & Library Price]]","v":0}]
[null,null,null,66,"Defying Convention: Women Who Changed the Rules","Women Athletes",1,"Library Bound Book","978-0-7660-8147-5",2017,"January 2017","6.000 X 9.000","Author","Sherri Mabry Gordon",null,null,null,null,"Z",null,"Grade 6","Grade 6 - 12","It’s hard to believe, but there was a time not long ago when girls and women were discouraged from participating in sports. Thanks to the women who ignored society’s rules and also to a piece of legislation called Title IX, girls in the United States—and around the world—began flocking to tracks, fields, and courts to enjoy all the benefits that come from playing a sport. This book celebrates women athletes through the ages, from early Olympians to present powerhouses like Serena Williams and Missy Franklin. Also included are chapter notes, a glossary, a further reading section containing books and websites, and an index.","English",37.270000000000003,27.95,"796.082--dc23","128 pp.",{"$f":"Table1[[#This Row],[QTY]]*Table1[[#This Row],['# of Books]]","v":0},{"$f":"Table1[[#This Row],[QTY]]*Table1[[#This Row],[School & Library Price]]","v":0}]
[null,null,null,66,"Defying Convention: Women Who Changed the Rules","Women Athletes",1,"eBook","978-0-7660-8148-2",2017,"January 2017",null,"Author","Sherri Mabry Gordon",null,null,null,null,"Z",null,"Grade 6","Grade 6 - 12","It’s hard to believe, but there was a time not long ago when girls and women were discouraged from participating in sports. Thanks to the women who ignored society’s rules and also to a piece of legislation called Title IX, girls in the United States—and around the world—began flocking to tracks, fields, and courts to enjoy all the benefits that come from playing a sport. This book celebrates women athletes through the ages, from early Olympians to present powerhouses like Serena Williams and Missy Franklin. Also included are chapter notes, a glossary, a further reading section containing books and websites, and an index.","English",37.270000000000003,27.95,"796.082--dc23","128 pp.",{"$f":"Table1[[#This Row],[QTY]]*Table1[[#This Row],['# of Books]]","v":0},{"$f":"Table1[[#This Row],[QTY]]*Table1[[#This Row],[School & Library Price]]","v":0}]
[null,null,null,66,"Defying Convention: Women Who Changed the Rules","Women Entrepreneurs",1,"Library Bound Book","978-0-7660-8143-7",2017,"January 2017","6.000 X 9.000","Author","Kathlyn Gay",null,null,null,null,"Z",null,"Grade 6","Grade 6 - 12","Before the twentieth century, women were expected to be housewives and caregivers. Business was left to the men. Still, out of necessity, thanks to family privilege, or simply because they had a good idea, there were some women who became successful entrepreneurs. Their success inspired other women, who in turn inspired others, until women became fixtures in the business world. Readers will learn about the women who followed their instincts and rose to the top of a man’s game. Also included are chapter notes, a glossary, a further reading section containing books and websites, and an index.","English",37.270000000000003,27.95,"338/.04092520973--dc23","128 pp.",{"$f":"Table1[[#This Row],[QTY]]*Table1[[#This Row],['# of Books]]","v":0},{"$f":"Table1[[#This Row],[QTY]]*Table1[[#This Row],[School & Library Price]]","v":0}]
[null,null,null,66,"Defying Convention: Women Who Changed the Rules","Women Entrepreneurs",1,"eBook","978-0-7660-8144-4",2017,"January 2017",null,"Author","Kathlyn Gay",null,null,null,null,"Z",null,"Grade 6","Grade 6 - 12","Before the twentieth century, women were expected to be housewives and caregivers. Business was left to the men. Still, out of necessity, thanks to family privilege, or simply because they had a good idea, there were some women who became successful entrepreneurs. Their success inspired other women, who in turn inspired others, until women became fixtures in the business world. Readers will learn about the women who followed their instincts and rose to the top of a man’s game. Also included are chapter notes, a glossary, a further reading section containing books and websites, and an index.","English",37.270000000000003,27.95,"338/.04092520973--dc23","128 pp.",{"$f":"Table1[[#This Row],[QTY]]*Table1[[#This Row],['# of Books]]","v":0},{"$f":"Table1[[#This Row],[QTY]]*Table1[[#This Row],[School & Library Price]]","v":0}]
[null,null,null,66,"Defying Convention: Women Who Changed the Rules","Women in Technology",1,"Library Bound Book","978-0-7660-8149-9",2017,"January 2017","6.000 X 9.000","Author","Elizabeth Schmermund",null,null,null,null,"Z",null,"Grade 6","Grade 6 - 12","Statistics tell us that women are underrepresented in STEM careers, yet many of technology’s greatest innovations have come from women. Ada Lovelace is considered one of the first computer programmers. It was six women who programmed the important ENIAC computer during World War II. While women’s contributions to technology are often overlooked, this resource celebrates the lives and accomplishments of women inventors and innovators throughout history. Also included are chapter notes, a glossary, a further reading section containing books and websites, and an index.","English",37.270000000000003,27.95,"609.2/52--dc23","128 pp.",{"$f":"Table1[[#This Row],[QTY]]*Table1[[#This Row],['# of Books]]","v":0},{"$f":"Table1[[#This Row],[QTY]]*Table1[[#This Row],[School & Library Price]]","v":0}]
[null,null,null,66,"Defying Convention: Women Who Changed the Rules","Women in Technology",1,"eBook","978-0-7660-8150-5",2017,"January 2017",null,"Author","Elizabeth Schmermund",null,null,null,null,"Z",null,"Grade 6","Grade 6 - 12","Statistics tell us that women are underrepresented in STEM careers, yet many of technology’s greatest innovations have come from women. Ada Lovelace is considered one of the first computer programmers. It was six women who programmed the important ENIAC computer during World War II. While women’s contributions to technology are often overlooked, this resource celebrates the lives and accomplishments of women inventors and innovators throughout history. Also included are chapter notes, a glossary, a further reading section containing books and websites, and an index.","English",37.270000000000003,27.95,"609.2/52--dc23","128 pp.",{"$f":"Table1[[#This Row],[QTY]]*Table1[[#This Row],['# of Books]]","v":0},{"$f":"Table1[[#This Row],[QTY]]*Table1[[#This Row],[School & Library Price]]","v":0}]
[null,null,null,66,"Defying Convention: Women Who Changed the Rules","Women Political Leaders",1,"Library Bound Book","978-0-7660-8141-3",2017,"January 2017","6.000 X 9.000","Author","Anne C. Cunningham",null,null,null,null,"Z",null,"Grade 6","Grade 6 - 12","Rare though it may be, women have occupied the highest offices of their societies since ancient times. Queen Nefertiti, Catherine the Great, Queen Victoria, Margaret Thatcher, and Angela Merkel are all examples of women who earned power and respect from their leadership. Others have devoted their lives to fixing society’s problems. Students will learn about a wide variety of women who have made their mark on history through leadership and example. Also included are chapter notes, a glossary, a further reading section containing books and websites, and an index.","English",37.270000000000003,27.95,"320.082—dc23","128 pp.",{"$f":"Table1[[#This Row],[QTY]]*Table1[[#This Row],['# of Books]]","v":0},{"$f":"Table1[[#This Row],[QTY]]*Table1[[#This Row],[School & Library Price]]","v":0}]
[null,null,null,66,"Defying Convention: Women Who Changed the Rules","Women Political Leaders",1,"eBook","978-0-7660-8142-0",2017,"January 2017",null,"Author","Anne C. Cunningham",null,null,null,null,"Z",null,"Grade 6","Grade 6 - 12","Rare though it may be, women have occupied the highest offices of their societies since ancient times. Queen Nefertiti, Catherine the Great, Queen Victoria, Margaret Thatcher, and Angela Merkel are all examples of women who earned power and respect from their leadership. Others have devoted their lives to fixing society’s problems. Students will learn about a wide variety of women who have made their mark on history through leadership and example. Also included are chapter notes, a glossary, a further reading section containing books and websites, and an index.","English",37.270000000000003,27.95,"320.082—dc23","128 pp.",{"$f":"Table1[[#This Row],[QTY]]*Table1[[#This Row],['# of Books]]","v":0},{"$f":"Table1[[#This Row],[QTY]]*Table1[[#This Row],[School & Library Price]]","v":0}]
[null,null,null,66,"Defying Convention: Women Who Changed the Rules","Women Warriors",1,"Library Bound Book","978-0-7660-8151-2",2017,"January 2017","6.000 X 9.000","Author","Elizabeth Schmermund",null,null,null,null,"Z",null,"Grade 6","Grade 6 - 12","Although war has long been considered the domain of men, women have courageously fought for their families, their nations, and their causes—whether on the battlefield or off. The women profiled in this inspiring resource have proven that courage doesn’t have a gender and that fighting for a just cause is very much a woman’s issue. Also included are chapter notes, a glossary, a further reading section containing books and websites, and an index.","English",37.270000000000003,27.95,"355.0092/52--dc23","128 pp.",{"$f":"Table1[[#This Row],[QTY]]*Table1[[#This Row],['# of Books]]","v":0},{"$f":"Table1[[#This Row],[QTY]]*Table1[[#This Row],[School & Library Price]]","v":0}]
[null,null,null,66,"Defying Convention: Women Who Changed the Rules","Women Warriors",1,"eBook","978-0-7660-8152-9",2017,"January 2017",null,"Author","Elizabeth Schmermund",null,null,null,null,"Z",null,"Grade 6","Grade 6 - 12","Although war has long been considered the domain of men, women have courageously fought for their families, their nations, and their causes—whether on the battlefield or off. The women profiled in this inspiring resource have proven that courage doesn’t have a gender and that fighting for a just cause is very much a woman’s issue. Also included are chapter notes, a glossary, a further reading section containing books and websites, and an index.","English",37.270000000000003,27.95,"355.0092/52--dc23","128 pp.",{"$f":"Table1[[#This Row],[QTY]]*Table1[[#This Row],['# of Books]]","v":0},{"$f":"Table1[[#This Row],[QTY]]*Table1[[#This Row],[School & Library Price]]","v":0}]
[null,null,null,66,"Defying Convention: Women Who Changed the Rules","Women Writers",1,"Library Bound Book","978-0-7660-8145-1",2017,"January 2017","6.000 X 9.000","Author","Paula Johanson",null,null,null,null,"Z",null,"Grade 6","Grade 6 - 12","Although writing was long considered suitable only for men, there were some brave and clever women who defied the limitations cast upon their gender. Divided by chronological eras, this fascinating collection of biographies will enlighten readers about the women who have crafted the written word to record their surroundings, their imaginations, and their experiences. Also included are chapter notes, a glossary, a further reading section containing books and websites, and an index.","English",37.270000000000003,27.95,"809/.89287--dc23","128 pp.",{"$f":"Table1[[#This Row],[QTY]]*Table1[[#This Row],['# of Books]]","v":0},{"$f":"Table1[[#This Row],[QTY]]*Table1[[#This Row],[School & Library Price]]","v":0}]
[null,null,null,66,"Defying Convention: Women Who Changed the Rules","Women Writers",1,"eBook","978-0-7660-8146-8",2017,"January 2017",null,"Author","Paula Johanson",null,null,null,null,"Z",null,"Grade 6","Grade 6 - 12","Although writing was long considered suitable only for men, there were some brave and clever women who defied the limitations cast upon their gender. Divided by chronological eras, this fascinating collection of biographies will enlighten readers about the women who have crafted the written word to record their surroundings, their imaginations, and their experiences. Also included are chapter notes, a glossary, a further reading section containing books and websites, and an index.","English",37.270000000000003,27.95,"809/.89287--dc23","128 pp.",{"$f":"Table1[[#This Row],[QTY]]*Table1[[#This Row],['# of Books]]","v":0},{"$f":"Table1[[#This Row],[QTY]]*Table1[[#This Row],[School & Library Price]]","v":0}]
[null,null,null,67,"Influential Lives","Influential Lives",6,"Library Set","978-0-7660-8571-8",2018,"August 2017","6.000 X 9.000",null,null,null,null,null,null,null,null,"Grade 7 - 8","Grade 6 - 12","This engaging, easy-to-read series of biographies explores the lives and accomplishments of recognizable and influential persons from entertainment and the arts and politics. Teeming with full-color images, fascinating personal facts, and inspiring quotations directly from the individuals, these books will appeal to researchers looking for age-appropriate sources as well as casual readers in grades 6 and up.","English",223.62,167.7,null,"128 pp.",{"$f":"Table1[[#This Row],[QTY]]*Table1[[#This Row],['# of Books]]","v":0},{"$f":"Table1[[#This Row],[QTY]]*Table1[[#This Row],[School & Library Price]]","v":0}]
[null,null,null,67,"Influential Lives","Donald Trump: Real Estate Mogul and President",1,"Library Bound Book","978-0-7660-8499-5",2018,"August 2017","6.000 X 9.000","Author","Sara Mcintosh Wooten",null,null,null,null,"Z",null,"Grade 7 - 8","Grade 6 - 12","For years, Donald Trump was a real-estate magnate known for his overblown, opulent lifestyle. His brash but entertaining antics made him a best-selling author and host of the long-running television reality shows The Apprentice and Celebrity Apprentice. But the stakes grew higher in 2016 when he shocked many by beating out a huge field of contenders to secure the Republican Party nomination for president. This compelling biography traces the businessman’s privileged childhood through his successes and failures, to the most important race of his life.","English",37.270000000000003,27.95,"333.33092--dc23","128 pp.",{"$f":"Table1[[#This Row],[QTY]]*Table1[[#This Row],['# of Books]]","v":0},{"$f":"Table1[[#This Row],[QTY]]*Table1[[#This Row],[School & Library Price]]","v":0}]
[null,null,null,67,"Influential Lives","Donald Trump: Real Estate Mogul and President",1,"eBook","978-0-7660-8500-8",2018,"August 2017",null,"Author","Sara Mcintosh Wooten",null,null,null,null,"Z",null,"Grade 7 - 8","Grade 6 - 12","For years, Donald Trump was a real-estate magnate known for his overblown, opulent lifestyle. His brash but entertaining antics made him a best-selling author and host of the long-running television reality shows The Apprentice and Celebrity Apprentice. But the stakes grew higher in 2016 when he shocked many by beating out a huge field of contenders to secure the Republican Party nomination for president. This compelling biography traces the businessman’s privileged childhood through his successes and failures, to the most important race of his life.","English",37.270000000000003,27.95,"333.33092--dc23","128 pp.",{"$f":"Table1[[#This Row],[QTY]]*Table1[[#This Row],['# of Books]]","v":0},{"$f":"Table1[[#This Row],[QTY]]*Table1[[#This Row],[School & Library Price]]","v":0}]
[null,null,null,67,"Influential Lives","Hillary Clinton: Former First Lady and Secretary of State",1,"Library Bound Book","978-0-7660-8501-5",2018,"August 2017","6.000 X 9.000","Author, Author","Anne C. Cunningham, Jeff Burlingame",null,null,null,null,"Z",null,"Grade 7 - 8","Grade 6 - 12","Hillary Clinton is arguably one of the most polarizing political figures in American history. She burst into the national spotlight during her husband’s presidential campaign, when she managed to both impress and offend the American public. Since then, Clinton has proven herself a capable public servant, with successful terms in the US Senate and as secretary of state. But controversy continually threatens to undermine her accomplishments, and it often seems that her ambitions get the best of her. This biography tells the story of the rise of remarkable woman, from her humble Midwestern beginnings to a historic run for the White House.","English",37.270000000000003,27.95,"324.092--dc23","128 pp.",{"$f":"Table1[[#This Row],[QTY]]*Table1[[#This Row],['# of Books]]","v":0},{"$f":"Table1[[#This Row],[QTY]]*Table1[[#This Row],[School & Library Price]]","v":0}]
[null,null,null,67,"Influential Lives","Hillary Clinton: Former First Lady and Secretary of State",1,"eBook","978-0-7660-8502-2",2018,"August 2017",null,"Author, Author","Anne C. Cunningham, Jeff Burlingame",null,null,null,null,"Z",null,"Grade 7 - 8","Grade 6 - 12","Hillary Clinton is arguably one of the most polarizing political figures in American history. She burst into the national spotlight during her husband’s presidential campaign, when she managed to both impress and offend the American public. Since then, Clinton has proven herself a capable public servant, with successful terms in the US Senate and as secretary of state. But controversy continually threatens to undermine her accomplishments, and it often seems that her ambitions get the best of her. This biography tells the story of the rise of remarkable woman, from her humble Midwestern beginnings to a historic run for the White House.","English",37.270000000000003,27.95,"324.092--dc23","128 pp.",{"$f":"Table1[[#This Row],[QTY]]*Table1[[#This Row],['# of Books]]","v":0},{"$f":"Table1[[#This Row],[QTY]]*Table1[[#This Row],[School & Library Price]]","v":0}]
[null,null,null,67,"Influential Lives","Kevin Hart: Comedian, Actor, Writer, and Producer",1,"Library Bound Book","978-0-7660-8507-7",2018,"August 2017","6.000 X 9.000","Author","Susan Kauffman",null,null,null,null,"Z",null,"Grade 7 - 8","Grade 6 - 12","Kevin Hart is a well-known comedian and actor who has starred in television shows and movies for nearly two decades. More than a funny man, however, Hart works hard behind the camera and on stage as well. This lively and enlightening text will help readers understand the business behind the man and will allow them to understand the comedian better. Full-color photos from throughout Hart's life, along with quotes from the personality himself, will allow readers and fans a glimpse into his life. The glossary helps to understand new terminology, while Further Reading encourages deeper exploration into comedy.","English",37.270000000000003,27.95,"792.702'8092--dc23","128 pp.",{"$f":"Table1[[#This Row],[QTY]]*Table1[[#This Row],['# of Books]]","v":0},{"$f":"Table1[[#This Row],[QTY]]*Table1[[#This Row],[School & Library Price]]","v":0}]
[null,null,null,67,"Influential Lives","Kevin Hart: Comedian, Actor, Writer, and Producer",1,"eBook","978-0-7660-8508-4",2018,"August 2017",null,"Author","Susan Kauffman",null,null,null,null,"Z",null,"Grade 7 - 8","Grade 6 - 12","Kevin Hart is a well-known comedian and actor who has starred in television shows and movies for nearly two decades. More than a funny man, however, Hart works hard behind the camera and on stage as well. This lively and enlightening text will help readers understand the business behind the man and will allow them to understand the comedian better. Full-color photos from throughout Hart's life, along with quotes from the personality himself, will allow readers and fans a glimpse into his life. The glossary helps to understand new terminology, while Further Reading encourages deeper exploration into comedy.","English",37.270000000000003,27.95,"792.702'8092--dc23","128 pp.",{"$f":"Table1[[#This Row],[QTY]]*Table1[[#This Row],['# of Books]]","v":0},{"$f":"Table1[[#This Row],[QTY]]*Table1[[#This Row],[School & Library Price]]","v":0}]
[null,null,null,67,"Influential Lives","Lin-Manuel Miranda: Composer, Actor, and Creator of Hamilton",1,"Library Bound Book","978-0-7660-8505-3",2018,"August 2017","6.000 X 9.000","Author","Kat Harrison",null,null,null,null,"Z",null,"Grade 7 - 8","Grade 6 - 12","Born in New York City to Puerto Rican immigrant parents, Lin-Manuel Miranda's creativity was influenced by the vibrant city. He began writing his first musical while he was in college and has since gone on to win a Pulitzer Prize, two Grammys, an Emmy, three Tonys, and many other accolades. He is possibly the best-known name in modern theater. Through lively text and bright photos, readers will learn about Miranda’s life, education, and accomplishments, as well as Hamilton, New York City, and Broadway. Quotes from Miranda will allow readers a firsthand look into the mind of America’s most famous modern composer. The Glossary helps readers understand vocabulary, and Further Reading will encourage deeper research.","English",37.270000000000003,27.95,"792.02/8092--dc23","128 pp.",{"$f":"Table1[[#This Row],[QTY]]*Table1[[#This Row],['# of Books]]","v":0},{"$f":"Table1[[#This Row],[QTY]]*Table1[[#This Row],[School & Library Price]]","v":0}]
[null,null,null,67,"Influential Lives","Lin-Manuel Miranda: Composer, Actor, and Creator of Hamilton",1,"eBook","978-0-7660-8506-0",2018,"August 2017",null,"Author","Kat Harrison",null,null,null,null,"Z",null,"Grade 7 - 8","Grade 6 - 12","Born in New York City to Puerto Rican immigrant parents, Lin-Manuel Miranda's creativity was influenced by the vibrant city. He began writing his first musical while he was in college and has since gone on to win a Pulitzer Prize, two Grammys, an Emmy, three Tonys, and many other accolades. He is possibly the best-known name in modern theater. Through lively text and bright photos, readers will learn about Miranda’s life, education, and accomplishments, as well as Hamilton, New York City, and Broadway. Quotes from Miranda will allow readers a firsthand look into the mind of America’s most famous modern composer. The Glossary helps readers understand vocabulary, and Further Reading will encourage deeper research.","English",37.270000000000003,27.95,"792.02/8092--dc23","128 pp.",{"$f":"Table1[[#This Row],[QTY]]*Table1[[#This Row],['# of Books]]","v":0},{"$f":"Table1[[#This Row],[QTY]]*Table1[[#This Row],[School & Library Price]]","v":0}]
[null,null,null,67,"Influential Lives","Misty Copeland: Principal Ballerina",1,"Library Bound Book","978-0-7660-8509-1",2018,"August 2017","6.000 X 9.000","Author","Erin Staley",null,null,null,null,"Z",null,"Grade 7 - 8","Grade 6 - 12","Misty Copeland is probably the most famous ballerina in the world. She didn't begin dancing until age thirteen, but she quickly surpassed all her peers to be declared a prodigy. Her hard work and talent have landed her the career of a lifetime. Through engaging text and quotes from the dancer, readers will learn about Copeland's life, hardships, and accomplishments. Full-color photos from throughout Copeland's life will give readers insight into the dancer's personal life and career. The glossary helps readers learn new vocabulary, while Further Reading encourages deeper exploration into the world of dance.","English",37.270000000000003,27.95,"792.8092--dc23","128 pp.",{"$f":"Table1[[#This Row],[QTY]]*Table1[[#This Row],['# of Books]]","v":0},{"$f":"Table1[[#This Row],[QTY]]*Table1[[#This Row],[School & Library Price]]","v":0}]
[null,null,null,67,"Influential Lives","Misty Copeland: Principal Ballerina",1,"eBook","978-0-7660-8510-7",2018,"August 2017",null,"Author","Erin Staley",null,null,null,null,"Z",null,"Grade 7 - 8","Grade 6 - 12","Misty Copeland is probably the most famous ballerina in the world. She didn't begin dancing until age thirteen, but she quickly surpassed all her peers to be declared a prodigy. Her hard work and talent have landed her the career of a lifetime. Through engaging text and quotes from the dancer, readers will learn about Copeland's life, hardships, and accomplishments. Full-color photos from throughout Copeland's life will give readers insight into the dancer's personal life and career. The glossary helps readers learn new vocabulary, while Further Reading encourages deeper exploration into the world of dance.","English",37.270000000000003,27.95,"792.8092--dc23","128 pp.",{"$f":"Table1[[#This Row],[QTY]]*Table1[[#This Row],['# of Books]]","v":0},{"$f":"Table1[[#This Row],[QTY]]*Table1[[#This Row],[School & Library Price]]","v":0}]
[null,null,null,67,"Influential Lives","Shonda Rhimes: TV Producer, Screenwriter, and Showrunner",1,"Library Bound Book","978-0-7660-8503-9",2018,"August 2017","6.000 X 9.000","Author","Naida Redgrave",null,null,null,null,"Z",null,"Grade 7 - 8","Grade 6 - 12","Shonda Rhimes is one of the most well-known television writers, producers, and showrunners in the world. Her creations include smash hits like Grey's Anatomy, Scandal, and How to Get Away with Murder. Born in Chicago, Illinois, Rhimes knew she wanted to write in Hollywood. Through engaging text, full-color photos, and quotes from the writer herself, readers will learn all about Rhimes's rise to fame, the hardships she has endured, and what is next for the acclaimed television creator.","English",37.270000000000003,27.95,"791.4502/32--dc23","128 pp.",{"$f":"Table1[[#This Row],[QTY]]*Table1[[#This Row],['# of Books]]","v":0},{"$f":"Table1[[#This Row],[QTY]]*Table1[[#This Row],[School & Library Price]]","v":0}]
[null,null,null,67,"Influential Lives","Shonda Rhimes: TV Producer, Screenwriter, and Showrunner",1,"eBook","978-0-7660-8504-6",2018,"August 2017",null,"Author","Naida Redgrave",null,null,null,null,"Z",null,"Grade 7 - 8","Grade 6 - 12","Shonda Rhimes is one of the most well-known television writers, producers, and showrunners in the world. Her creations include smash hits like Grey's Anatomy, Scandal, and How to Get Away with Murder. Born in Chicago, Illinois, Rhimes knew she wanted to write in Hollywood. Through engaging text, full-color photos, and quotes from the writer herself, readers will learn all about Rhimes's rise to fame, the hardships she has endured, and what is next for the acclaimed television creator.","English",37.270000000000003,27.95,"791.4502/32--dc23","128 pp.",{"$f":"Table1[[#This Row],[QTY]]*Table1[[#This Row],['# of Books]]","v":0},{"$f":"Table1[[#This Row],[QTY]]*Table1[[#This Row],[School & Library Price]]","v":0}]
[null,null,null,67,"Influential Lives","Influential Lives: Sets 1 – 2",12,"Library Set","978-0-7660-9214-3",2018,"January 2018","6.000 X 9.000"," "," ",null,null,null,null,null,null,"Grade 7 - 8","Grade 7 - 12","This engaging, easy-to-read series of biographies explores the lives and accomplishments of recognizable and influential persons from entertainment, the arts, and politics. Teeming with full-color images, fascinating personal facts, and inspiring quotations directly from the individuals, these books will appeal to researchers looking for age-appropriate sources as well as leisure readers in grades 7 and up.","English",447.24,335.4,null,"128 pp.",{"$f":"Table1[[#This Row],[QTY]]*Table1[[#This Row],['# of Books]]","v":0},{"$f":"Table1[[#This Row],[QTY]]*Table1[[#This Row],[School & Library Price]]","v":0}]
[null,null,null,67,"Influential Lives","Influential Lives: Set 2",6,"Library Set","978-0-7660-9232-7",2018,"January 2018","6.000 X 9.000"," "," ",null,null,null,null,null,null,"Grade 7 - 8","Grade 7 - 12","This engaging, easy-to-read series of biographies explores the lives and accomplishments of recognizable and influential persons from entertainment, the arts, and politics. Teeming with full-color images, fascinating personal facts, and inspiring quotations directly from the individuals, these books will appeal to researchers looking for age-appropriate sources as well as leisure readers in grades 7 and up.","English",223.62,167.7,null,"128 pp.",{"$f":"Table1[[#This Row],[QTY]]*Table1[[#This Row],['# of Books]]","v":0},{"$f":"Table1[[#This Row],[QTY]]*Table1[[#This Row],[School & Library Price]]","v":0}]
[null,null,null,67,"Influential Lives","Bob Dylan",1,"Library Bound Book","978-0-7660-9206-8",2018,"January 2018","6.000 X 9.000","Author","Michael A. Schuman",null,null,null,null,"Z",null,"Grade 7 - 8","Grade 7 - 12","Over the course of his 50-year career, musician Bob Dylan has won a Nobel Prize, has had an audience with the Pope, and has earned a multitude of accolades, from a Grammy Lifetime Achievement Award to a coveted Kennedy Center honor. Not bad for a kid from a small city in northern Minnesota who just wanted to play rock and roll. His songs are legendary and his spiritual journeys have taken him all over the world. This biography explores the man, his music, and his distinctive life.","English",37.270000000000003,27.95,"782.42164092--dc23","128 pp.",{"$f":"Table1[[#This Row],[QTY]]*Table1[[#This Row],['# of Books]]","v":0},{"$f":"Table1[[#This Row],[QTY]]*Table1[[#This Row],[School & Library Price]]","v":0}]
[null,null,null,67,"Influential Lives","Bob Dylan",1,"eBook","978-0-7660-9346-1",2018,"January 2018",null,"Author","Michael A. Schuman",null,null,null,null,"Z",null,"Grade 7 - 8","Grade 7 - 12","Over the course of his 50-year career, musician Bob Dylan has won a Nobel Prize, has had an audience with the Pope, and has earned a multitude of accolades, from a Grammy Lifetime Achievement Award to a coveted Kennedy Center honor. Not bad for a kid from a small city in northern Minnesota who just wanted to play rock and roll. His songs are legendary and his spiritual journeys have taken him all over the world. This biography explores the man, his music, and his distinctive life.","English",37.270000000000003,27.95,"782.42164092--dc23","128 pp.",{"$f":"Table1[[#This Row],[QTY]]*Table1[[#This Row],['# of Books]]","v":0},{"$f":"Table1[[#This Row],[QTY]]*Table1[[#This Row],[School & Library Price]]","v":0}]
[null,null,null,67,"Influential Lives","Charles Schulz",1,"Library Bound Book","978-0-7660-9209-9",2018,"January 2018","6.000 X 9.000","Author","Michael A. Schuman",null,null,null,null,"Z",null,"Grade 7 - 8","Grade 7 - 12","Cartoonist Charles Schulz died in 2000, but his work, most notably the Peanuts comics, is as alive as ever. His comic strip continues to run in newspapers around the world, the classic television specials are aired annually, and somewhere at this moment a high school drama club is performing the stage play You're a Good Man, Charlie Brown. This entertaining biography tells the story of a shy, awkward teenager who went on to create some of the most beloved and iconic characters in modern history.","English",37.270000000000003,27.95,"741.5/092--dc23","128 pp.",{"$f":"Table1[[#This Row],[QTY]]*Table1[[#This Row],['# of Books]]","v":0},{"$f":"Table1[[#This Row],[QTY]]*Table1[[#This Row],[School & Library Price]]","v":0}]
[null,null,null,67,"Influential Lives","Charles Schulz",1,"eBook","978-0-7660-9345-4",2018,"January 2018",null,"Author","Michael A. Schuman",null,null,null,null,"Z",null,"Grade 7 - 8","Grade 7 - 12","Cartoonist Charles Schulz died in 2000, but his work, most notably the Peanuts comics, is as alive as ever. His comic strip continues to run in newspapers around the world, the classic television specials are aired annually, and somewhere at this moment a high school drama club is performing the stage play You're a Good Man, Charlie Brown. This entertaining biography tells the story of a shy, awkward teenager who went on to create some of the most beloved and iconic characters in modern history.","English",37.270000000000003,27.95,"741.5/092--dc23","128 pp.",{"$f":"Table1[[#This Row],[QTY]]*Table1[[#This Row],['# of Books]]","v":0},{"$f":"Table1[[#This Row],[QTY]]*Table1[[#This Row],[School & Library Price]]","v":0}]
[null,null,null,67,"Influential Lives","Cristiano Ronaldo",1,"Library Bound Book","978-0-7660-9205-1",2018,"January 2018","6.000 X 9.000","Author","David Fischer",null,null,null,null,null,null,"Grade 7 - 8","Grade 7 - 12","Even though he was born with an otherworldly athletic gift, Cristiano Ronaldo’s early life was anything but easy. A poor kid from Portugal, he was expelled from school at age fourteen and then diagnosed with an abnormal heart condition. But through hard work and an intense desire to succeed, he soon blossomed into one of the greatest soccer players in the world. When he transferred to Real Madrid for a record-breaking salary, Ronaldo transformed himself into a worldwide celebrity, reinventing the ideal of an international sports icon. Sports fans will be inspired by this soccer superstar’s rags-to-riches story.","English",37.270000000000003,27.95,"796.334092--dc23","128 pp.",{"$f":"Table1[[#This Row],[QTY]]*Table1[[#This Row],['# of Books]]","v":0},{"$f":"Table1[[#This Row],[QTY]]*Table1[[#This Row],[School & Library Price]]","v":0}]
[null,null,null,67,"Influential Lives","Cristiano Ronaldo",1,"eBook","978-0-7660-9349-2",2018,"January 2018",null,"Author","David Fischer",null,null,null,null,null,null,"Grade 7 - 8","Grade 7 - 12","Even though he was born with an otherworldly athletic gift, Cristiano Ronaldo’s early life was anything but easy. A poor kid from Portugal, he was expelled from school at age fourteen and then diagnosed with an abnormal heart condition. But through hard work and an intense desire to succeed, he soon blossomed into one of the greatest soccer players in the world. When he transferred to Real Madrid for a record-breaking salary, Ronaldo transformed himself into a worldwide celebrity, reinventing the ideal of an international sports icon. Sports fans will be inspired by this soccer superstar’s rags-to-riches story.","English",37.270000000000003,27.95,"796.334092--dc23","128 pp.",{"$f":"Table1[[#This Row],[QTY]]*Table1[[#This Row],['# of Books]]","v":0},{"$f":"Table1[[#This Row],[QTY]]*Table1[[#This Row],[School & Library Price]]","v":0}]
[null,null,null,67,"Influential Lives","Edward Snowden",1,"Library Bound Book","978-0-7660-9208-2",2018,"January 2018","6.000 X 9.000","Author","Adam Furgang",null,null,null,null,"Z",null,"Grade 7 - 8","Grade 7 - 12","In June 2013, the news organization The Guardian first published articles revealing the shocking revelations that the National Security Agency (NSA) was conducting mass surveillance on all American citizens in secretive bulk-data collection programs. Hundreds of thousands of top-secret documents were leaked from the NSA by a computer programmer named Edward Snowden. This enlightening biography examines the life of Edward Snowden, his reasons for leaking classified documents, his ongoing controversy as a whistleblower, and the revelations and changes in data collection laws that resulted from the massive disclosure.","English",37.270000000000003,27.95,"327.12730092--dc23","128 pp.",{"$f":"Table1[[#This Row],[QTY]]*Table1[[#This Row],['# of Books]]","v":0},{"$f":"Table1[[#This Row],[QTY]]*Table1[[#This Row],[School & Library Price]]","v":0}]
[null,null,null,67,"Influential Lives","Edward Snowden",1,"eBook","978-0-7660-9347-8",2018,"January 2018",null,"Author","Adam Furgang",null,null,null,null,"Z",null,"Grade 7 - 8","Grade 7 - 12","In June 2013, the news organization The Guardian first published articles revealing the shocking revelations that the National Security Agency (NSA) was conducting mass surveillance on all American citizens in secretive bulk-data collection programs. Hundreds of thousands of top-secret documents were leaked from the NSA by a computer programmer named Edward Snowden. This enlightening biography examines the life of Edward Snowden, his reasons for leaking classified documents, his ongoing controversy as a whistleblower, and the revelations and changes in data collection laws that resulted from the massive disclosure.","English",37.270000000000003,27.95,"327.12730092--dc23","128 pp.",{"$f":"Table1[[#This Row],[QTY]]*Table1[[#This Row],['# of Books]]","v":0},{"$f":"Table1[[#This Row],[QTY]]*Table1[[#This Row],[School & Library Price]]","v":0}]
[null,null,null,67,"Influential Lives","Kim Kardashian",1,"Library Bound Book","978-0-7660-9207-5",2018,"January 2018","6.000 X 9.000","Author","Dennis Abrams",null,null,null,null,"Z",null,"Grade 7 - 8","Grade 7 - 12","With more than 50 million followers on Twitter and an additional 92 million on Instagram, Kim Kardashian is an American phenomenon. Through ambition, drive, and a masterful use of social media, Kardashian has become a television star, successful businesswoman, and tech entrepreneur with a net worth estimated at close to 150 million dollars. Readers who think they know everything about this pop-culture giant may be surprised to learn how Kardashian turned infamy into fame to become one of the most photographed, talked about, and richest women in the world.","English",37.270000000000003,27.95,null,"128 pp.",{"$f":"Table1[[#This Row],[QTY]]*Table1[[#This Row],['# of Books]]","v":0},{"$f":"Table1[[#This Row],[QTY]]*Table1[[#This Row],[School & Library Price]]","v":0}]
[null,null,null,67,"Influential Lives","Kim Kardashian",1,"eBook","978-0-7660-9348-5",2018,"January 2018",null,"Author","Dennis Abrams",null,null,null,null,"Z",null,"Grade 7 - 8","Grade 7 - 12","With more than 50 million followers on Twitter and an additional 92 million on Instagram, Kim Kardashian is an American phenomenon. Through ambition, drive, and a masterful use of social media, Kardashian has become a television star, successful businesswoman, and tech entrepreneur with a net worth estimated at close to 150 million dollars. Readers who think they know everything about this pop-culture giant may be surprised to learn how Kardashian turned infamy into fame to become one of the most photographed, talked about, and richest women in the world.","English",37.270000000000003,27.95,null,"128 pp.",{"$f":"Table1[[#This Row],[QTY]]*Table1[[#This Row],['# of Books]]","v":0},{"$f":"Table1[[#This Row],[QTY]]*Table1[[#This Row],[School & Library Price]]","v":0}]
[null,null,null,67,"Influential Lives","Vladimir Putin",1,"Library Bound Book","978-0-7660-9204-4",2018,"January 2018","6.000 X 9.000","Author","Susan Nichols",null,null,null,null,"Z",null,"Grade 7 - 8","Grade 7 - 12","Vladimir Putin is one of the most recognized politicians in the world. Currently, he is the President of the Russian Federation, and he is regularly featured by magazines like Time and Forbes as one of the world's most influential and powerful individuals. This captivating biography traces Putin's early years, his education, and his career in the Soviet KGB. Readers will follow his rise in politics and the current role he plays in both Russian and international politics, as well as the way he is regarded in the United States.","English",37.270000000000003,27.95,"947.086092--dc23","128 pp.",{"$f":"Table1[[#This Row],[QTY]]*Table1[[#This Row],['# of Books]]","v":0},{"$f":"Table1[[#This Row],[QTY]]*Table1[[#This Row],[School & Library Price]]","v":0}]
[null,null,null,67,"Influential Lives","Vladimir Putin",1,"eBook","978-0-7660-9350-8",2018,"January 2018",null,"Author","Susan Nichols",null,null,null,null,"Z",null,"Grade 7 - 8","Grade 7 - 12","Vladimir Putin is one of the most recognized politicians in the world. Currently, he is the President of the Russian Federation, and he is regularly featured by magazines like Time and Forbes as one of the world's most influential and powerful individuals. This captivating biography traces Putin's early years, his education, and his career in the Soviet KGB. Readers will follow his rise in politics and the current role he plays in both Russian and international politics, as well as the way he is regarded in the United States.","English",37.270000000000003,27.95,"947.086092--dc23","128 pp.",{"$f":"Table1[[#This Row],[QTY]]*Table1[[#This Row],['# of Books]]","v":0},{"$f":"Table1[[#This Row],[QTY]]*Table1[[#This Row],[School & Library Price]]","v":0}]
[null,null,null,68,"Rebels with a Cause","Rebels with a Cause",8,"Library Set","978-0-7660-8574-9",2018,"August 2017","6.500 X 9.250",null,null,null,null,null,null,null,null,"Grade 8","Grade 7 - 12","This captivating series will introduce readers to a group of rebels whose causes helped shape society and change worldviews. Engrossing, narrative text examines in-depth the particular rebel, including his education, life experiences, personality, and leadership skills; formative events that inspired his sense of justice or outrage or mission; and how he helped to shape the ideals that brought about the social movement. Each title will also include information on other leaders in the rebel’s social movement, as well as the outcomes of the movement and how they can be felt today.","English",298.16000000000003,223.6,null,"128 pp.",{"$f":"Table1[[#This Row],[QTY]]*Table1[[#This Row],['# of Books]]","v":0},{"$f":"Table1[[#This Row],[QTY]]*Table1[[#This Row],[School & Library Price]]","v":0}]
[null,null,null,68,"Rebels with a Cause","César Chávez: Fighting for Migrant Farmworkers",1,"Library Bound Book","978-0-7660-8951-8",2018,"August 2017","6.500 X 9.250","Author","Kathlyn Gay",null,null,null,null,"Z",null,"Grade 8","Grade 7 - 12","César Chávez is best known for uniting Mexican American farmworkers and for his efforts to obtain civil rights for his people. He followed the nonviolent methods of Mahatma Gandhi and Martin Luther King Jr. A dedicated, stubborn religious leader, Chávez stuck to his cause in spite of tremendous obstacles. With numerous documented quotes from Chávez, union members, and even Pope Paul VI, the Chávez story recounts his difficult early life and how he inspired countless people to advocate for farmworker justice. Students will be guided through their reading with a glossary of important words, a timeline, and references for further reading on the topic.","English",37.270000000000003,27.95,"331.88/13092--dc23","128 pp.",{"$f":"Table1[[#This Row],[QTY]]*Table1[[#This Row],['# of Books]]","v":0},{"$f":"Table1[[#This Row],[QTY]]*Table1[[#This Row],[School & Library Price]]","v":0}]
[null,null,null,68,"Rebels with a Cause","César Chávez: Fighting for Migrant Farmworkers",1,"eBook","978-0-7660-8953-2",2018,"August 2017",null,"Author","Kathlyn Gay",null,null,null,null,"Z",null,"Grade 8","Grade 7 - 12","César Chávez is best known for uniting Mexican American farmworkers and for his efforts to obtain civil rights for his people. He followed the nonviolent methods of Mahatma Gandhi and Martin Luther King Jr. A dedicated, stubborn religious leader, Chávez stuck to his cause in spite of tremendous obstacles. With numerous documented quotes from Chávez, union members, and even Pope Paul VI, the Chávez story recounts his difficult early life and how he inspired countless people to advocate for farmworker justice. Students will be guided through their reading with a glossary of important words, a timeline, and references for further reading on the topic.","English",37.270000000000003,27.95,"331.88/13092--dc23","128 pp.",{"$f":"Table1[[#This Row],[QTY]]*Table1[[#This Row],['# of Books]]","v":0},{"$f":"Table1[[#This Row],[QTY]]*Table1[[#This Row],[School & Library Price]]","v":0}]
[null,null,null,68,"Rebels with a Cause","Mahatma Gandhi: Fighting For Indian Independence",1,"Library Bound Book","978-0-7660-8513-8",2018,"August 2017","6.500 X 9.250","Author","Eileen Lucas",null,null,null,null,"Z",null,"Grade 8","Grade 7 - 12","This compelling biography traces the evolution of Mohandas K. Gandhi as he forged the philosophy of Satyagraha—from Indian words for \"truth\" and \"firmness\"—amid the brutal racism of South Africa and helped lead the struggle for Indian independence. But Satyagraha was a bigger concept even than the Indian subcontinent and the mighty British Empire. Readers will learn about the Mahatma—“Great soul in peasant’s garb”—often in his own words, as well as the philosophy of truth and nonviolence that would later inspire Nelson Mandela, Martin Luther King Jr., and other rebels with a cause for ages to come. Students will be guided through their reading with a glossary of important words, a timeline, and references for further reading on the topic.","English",37.270000000000003,27.95,"954.03/5092--dc23","128 pp.",{"$f":"Table1[[#This Row],[QTY]]*Table1[[#This Row],['# of Books]]","v":0},{"$f":"Table1[[#This Row],[QTY]]*Table1[[#This Row],[School & Library Price]]","v":0}]
[null,null,null,68,"Rebels with a Cause","Mahatma Gandhi: Fighting For Indian Independence",1,"eBook","978-0-7660-8514-5",2018,"August 2017",null,"Author","Eileen Lucas",null,null,null,null,"Z",null,"Grade 8","Grade 7 - 12","This compelling biography traces the evolution of Mohandas K. Gandhi as he forged the philosophy of Satyagraha—from Indian words for \"truth\" and \"firmness\"—amid the brutal racism of South Africa and helped lead the struggle for Indian independence. But Satyagraha was a bigger concept even than the Indian subcontinent and the mighty British Empire. Readers will learn about the Mahatma—“Great soul in peasant’s garb”—often in his own words, as well as the philosophy of truth and nonviolence that would later inspire Nelson Mandela, Martin Luther King Jr., and other rebels with a cause for ages to come. Students will be guided through their reading with a glossary of important words, a timeline, and references for further reading on the topic.","English",37.270000000000003,27.95,"954.03/5092--dc23","128 pp.",{"$f":"Table1[[#This Row],[QTY]]*Table1[[#This Row],['# of Books]]","v":0},{"$f":"Table1[[#This Row],[QTY]]*Table1[[#This Row],[School & Library Price]]","v":0}]
[null,null,null,68,"Rebels with a Cause","Malcolm X: Fighting for Human Rights",1,"Library Bound Book","978-0-7660-8519-0",2018,"August 2017","6.500 X 9.250","Author","Jeff Burlingame",null,null,null,null,"Z",null,"Grade 8","Grade 7 - 12","Malcolm X faced many injustices growing up as an African American in the early twentieth century. Funneling his anger over systemic racism into activism, Malcolm X became a leader of the civil rights movement as well as one of the best-known spokesmen for the Nation of Islam. In this engaging biography, students will learn about Malcolm X's trials, tribulations, and victories in the battle for civil rights. Students will be guided through the reading with historical context and primary source documents, as well as a glossary of important words, a timeline, and references for further reading.","English",37.270000000000003,27.95,"320.546092--dc23","128 pp.",{"$f":"Table1[[#This Row],[QTY]]*Table1[[#This Row],['# of Books]]","v":0},{"$f":"Table1[[#This Row],[QTY]]*Table1[[#This Row],[School & Library Price]]","v":0}]
[null,null,null,68,"Rebels with a Cause","Malcolm X: Fighting for Human Rights",1,"eBook","978-0-7660-8520-6",2018,"August 2017",null,"Author","Jeff Burlingame",null,null,null,null,"Z",null,"Grade 8","Grade 7 - 12","Malcolm X faced many injustices growing up as an African American in the early twentieth century. Funneling his anger over systemic racism into activism, Malcolm X became a leader of the civil rights movement as well as one of the best-known spokesmen for the Nation of Islam. In this engaging biography, students will learn about Malcolm X's trials, tribulations, and victories in the battle for civil rights. Students will be guided through the reading with historical context and primary source documents, as well as a glossary of important words, a timeline, and references for further reading.","English",37.270000000000003,27.95,"320.546092--dc23","128 pp.",{"$f":"Table1[[#This Row],[QTY]]*Table1[[#This Row],['# of Books]]","v":0},{"$f":"Table1[[#This Row],[QTY]]*Table1[[#This Row],[School & Library Price]]","v":0}]
[null,null,null,68,"Rebels with a Cause","Martin Luther King Jr.: Fighting for Civil Rights",1,"Library Bound Book","978-0-7660-8511-4",2018,"August 2017","6.500 X 9.250","Author, Author","Michael A. Schuman, Anne E. Schraff",null,null,null,null,"Z",null,"Grade 8","Grade 7 - 12","Martin Luther King Jr. had a dream that, one day, all people would be viewed equally, no matter the color of their skin. And he fought hard for civil rights for African Americans, eventually even giving his life to the cause. This compelling biography explores King’s early life and his activism in his own words within the context of the Jim Crow American South, along with his victories and the way in which he changed our world. Students will be guided through their reading with a glossary of important terms, a timeline of King’s life and important events in the civil rights movement, and resources for further learning.","English",37.270000000000003,27.95,"323.092--dc23","128 pp.",{"$f":"Table1[[#This Row],[QTY]]*Table1[[#This Row],['# of Books]]","v":0},{"$f":"Table1[[#This Row],[QTY]]*Table1[[#This Row],[School & Library Price]]","v":0}]
[null,null,null,68,"Rebels with a Cause","Martin Luther King Jr.: Fighting for Civil Rights",1,"eBook","978-0-7660-8512-1",2018,"August 2017",null,"Author, Author","Michael A. Schuman, Anne E. Schraff",null,null,null,null,"Z",null,"Grade 8","Grade 7 - 12","Martin Luther King Jr. had a dream that, one day, all people would be viewed equally, no matter the color of their skin. And he fought hard for civil rights for African Americans, eventually even giving his life to the cause. This compelling biography explores King’s early life and his activism in his own words within the context of the Jim Crow American South, along with his victories and the way in which he changed our world. Students will be guided through their reading with a glossary of important terms, a timeline of King’s life and important events in the civil rights movement, and resources for further learning.","English",37.270000000000003,27.95,"323.092--dc23","128 pp.",{"$f":"Table1[[#This Row],[QTY]]*Table1[[#This Row],['# of Books]]","v":0},{"$f":"Table1[[#This Row],[QTY]]*Table1[[#This Row],[School & Library Price]]","v":0}]
[null,null,null,68,"Rebels with a Cause","Nelson Mandela: Fighting to Dismantle Apartheid",1,"Library Bound Book","978-0-7660-8517-6",2018,"August 2017","6.500 X 9.250","Author","Ann Malaspina",null,null,null,null,"Z",null,"Grade 8","Grade 7 - 12","Nelson Mandela's fight to end apartheid in South Africa is a riveting story of hardship, courage, and triumph. One of the great moral leaders of modern history, Mandela never gave up his struggle against racial oppression. Through Mandela's own words, primary documents, photographs, and engaging text, readers will learn about his early life in a small village, the stirrings of his political consciousness, his twenty-seven years of imprisonment for defying apartheid, and the events leading to his election as the first black president of South Africa. The book also explores Mandela's legacy of justice, equality, and dignity, which has inspired people to action around the globe.","English",37.270000000000003,27.95,"968.07/1092--dc23","128 pp.",{"$f":"Table1[[#This Row],[QTY]]*Table1[[#This Row],['# of Books]]","v":0},{"$f":"Table1[[#This Row],[QTY]]*Table1[[#This Row],[School & Library Price]]","v":0}]
[null,null,null,68,"Rebels with a Cause","Nelson Mandela: Fighting to Dismantle Apartheid",1,"eBook","978-0-7660-8518-3",2018,"August 2017",null,"Author","Ann Malaspina",null,null,null,null,"Z",null,"Grade 8","Grade 7 - 12","Nelson Mandela's fight to end apartheid in South Africa is a riveting story of hardship, courage, and triumph. One of the great moral leaders of modern history, Mandela never gave up his struggle against racial oppression. Through Mandela's own words, primary documents, photographs, and engaging text, readers will learn about his early life in a small village, the stirrings of his political consciousness, his twenty-seven years of imprisonment for defying apartheid, and the events leading to his election as the first black president of South Africa. The book also explores Mandela's legacy of justice, equality, and dignity, which has inspired people to action around the globe.","English",37.270000000000003,27.95,"968.07/1092--dc23","128 pp.",{"$f":"Table1[[#This Row],[QTY]]*Table1[[#This Row],['# of Books]]","v":0},{"$f":"Table1[[#This Row],[QTY]]*Table1[[#This Row],[School & Library Price]]","v":0}]
[null,null,null,68,"Rebels with a Cause","Simón Bolívar: Fighting for Latin American Liberation",1,"Library Bound Book","978-0-7660-8952-5",2018,"August 2017","6.500 X 9.250","Author","Bárbara C. Cruz",null,null,null,null,"Z",null,"Grade 8","Grade 7 - 12","Simón Bolívar was a revolutionary and a political leader whose courageous battles for Latin self-rule led to the establishment of Venezuela, Bolivia, Colombia, Ecuador, Peru, and Panama as independent nations. Today, Bolívar is known as a great hero, and his name graces many institutions and streets across Latin America. This text examines Bolívar’s life and influence using primary source documents, photographs, and an examination of the context in which Bolívar fought for Latin American independence. Students will be guided through their reading with a glossary of important words, a timeline, and references for further reading on the topic.","English",37.270000000000003,27.95,"980/.02092--dc23","128 pp.",{"$f":"Table1[[#This Row],[QTY]]*Table1[[#This Row],['# of Books]]","v":0},{"$f":"Table1[[#This Row],[QTY]]*Table1[[#This Row],[School & Library Price]]","v":0}]
[null,null,null,68,"Rebels with a Cause","Simón Bolívar: Fighting for Latin American Liberation",1,"eBook","978-0-7660-8954-9",2018,"August 2017",null,"Author","Bárbara C. Cruz",null,null,null,null,"Z",null,"Grade 8","Grade 7 - 12","Simón Bolívar was a revolutionary and a political leader whose courageous battles for Latin self-rule led to the establishment of Venezuela, Bolivia, Colombia, Ecuador, Peru, and Panama as independent nations. Today, Bolívar is known as a great hero, and his name graces many institutions and streets across Latin America. This text examines Bolívar’s life and influence using primary source documents, photographs, and an examination of the context in which Bolívar fought for Latin American independence. Students will be guided through their reading with a glossary of important words, a timeline, and references for further reading on the topic.","English",37.270000000000003,27.95,"980/.02092--dc23","128 pp.",{"$f":"Table1[[#This Row],[QTY]]*Table1[[#This Row],['# of Books]]","v":0},{"$f":"Table1[[#This Row],[QTY]]*Table1[[#This Row],[School & Library Price]]","v":0}]
[null,null,null,68,"Rebels with a Cause","Thomas Paine: Fighting for American Independence",1,"Library Bound Book","978-0-7660-8515-2",2018,"August 2017","6.500 X 9.250","Author","Samuel Willard Crompton",null,null,null,null,"Z",null,"Grade 8","Grade 7 - 12","Thomas Paine was the best-known rebel of his time. From England to America, and from America to France, he spread a doctrine of revolution and liberty. This volume uses inspiring quotes to highlight Paine's contributions. Through Paine's own words, along with photographs and primary documents, this text explores the American and French revolutions. In addition to Paine's contributions, the text also discusses the actions of Benjamin Franklin, Thomas Jefferson, and others. Students will be guided through their reading with a glossary of important words, a timeline, and references for further reading on the topic.","English",37.270000000000003,27.95,"320.51092--dc23","128 pp.",{"$f":"Table1[[#This Row],[QTY]]*Table1[[#This Row],['# of Books]]","v":0},{"$f":"Table1[[#This Row],[QTY]]*Table1[[#This Row],[School & Library Price]]","v":0}]
[null,null,null,68,"Rebels with a Cause","Thomas Paine: Fighting for American Independence",1,"eBook","978-0-7660-8516-9",2018,"August 2017",null,"Author","Samuel Willard Crompton",null,null,null,null,"Z",null,"Grade 8","Grade 7 - 12","Thomas Paine was the best-known rebel of his time. From England to America, and from America to France, he spread a doctrine of revolution and liberty. This volume uses inspiring quotes to highlight Paine's contributions. Through Paine's own words, along with photographs and primary documents, this text explores the American and French revolutions. In addition to Paine's contributions, the text also discusses the actions of Benjamin Franklin, Thomas Jefferson, and others. Students will be guided through their reading with a glossary of important words, a timeline, and references for further reading on the topic.","English",37.270000000000003,27.95,"320.51092--dc23","128 pp.",{"$f":"Table1[[#This Row],[QTY]]*Table1[[#This Row],['# of Books]]","v":0},{"$f":"Table1[[#This Row],[QTY]]*Table1[[#This Row],[School & Library Price]]","v":0}]
[null,null,null,68,"Rebels with a Cause","Toussaint L'Ouverture: Fighting for Haitian Independence",1,"Library Bound Book","978-0-7660-8521-3",2018,"August 2017","6.500 X 9.250","Author","Richard Worth",null,null,null,null,"Z",null,"Grade 8","Grade 7 - 12","Toussaint L’Ouverture was an eighteenth-century military hero who led the Haitian Revolution, one of the greatest and most successful slave uprisings in the world. L’Ouverture believed strongly in both racial equality and anticolonialism, and he not only led the revolution against French control of Haiti but also created a prosperous autonomous colony before breaking ties with France. Unfortunately, L’Ouverture died in exile before seeing the fruits of his labor. In this text, students will learn about the historical context in which the Haitian Revolution was fought, as well as L’Ouverture’s role in it. Students will be guided through their reading with a glossary of important words, a timeline, and references for further reading on the topic.","English",37.270000000000003,27.95,"972.94/03092--dc23","128 pp.",{"$f":"Table1[[#This Row],[QTY]]*Table1[[#This Row],['# of Books]]","v":0},{"$f":"Table1[[#This Row],[QTY]]*Table1[[#This Row],[School & Library Price]]","v":0}]
[null,null,null,68,"Rebels with a Cause","Toussaint L'Ouverture: Fighting for Haitian Independence",1,"eBook","978-0-7660-8522-0",2018,"August 2017",null,"Author","Richard Worth",null,null,null,null,"Z",null,"Grade 8","Grade 7 - 12","Toussaint L’Ouverture was an eighteenth-century military hero who led the Haitian Revolution, one of the greatest and most successful slave uprisings in the world. L’Ouverture believed strongly in both racial equality and anticolonialism, and he not only led the revolution against French control of Haiti but also created a prosperous autonomous colony before breaking ties with France. Unfortunately, L’Ouverture died in exile before seeing the fruits of his labor. In this text, students will learn about the historical context in which the Haitian Revolution was fought, as well as L’Ouverture’s role in it. Students will be guided through their reading with a glossary of important words, a timeline, and references for further reading on the topic.","English",37.270000000000003,27.95,"972.94/03092--dc23","128 pp.",{"$f":"Table1[[#This Row],[QTY]]*Table1[[#This Row],['# of Books]]","v":0},{"$f":"Table1[[#This Row],[QTY]]*Table1[[#This Row],[School & Library Price]]","v":0}]
[null,null,null,68,"Rebels with a Cause","Rebels With a Cause: Sets 1 – 2",14,"Library Set","978-0-7660-9262-4",2018,"January 2018","6.000 X 9.000"," "," ",null,null,null,null,null,null,"Grade 8","Grade 7 - 12","This captivating series will introduce readers to a group of rebels whose contributions to the politics, civil and human rights, arts, music and athletics came with a social message that helped shape society and change the world. Engrossing narrative text examines each rebel in depth, including his or her education, life experiences, personality, and developing social conscience; formative events that inspired a sense of justice, outrage or mission; and how he or she used the stage afforded by politics, the media, and the entertainment industry to share an important social message with admirers across the globe. These titles will also examine the effects of each rebel's legacy of activism through and the lasting influences they have left on our culture.","English",521.78,391.3,null,"128 pp.",{"$f":"Table1[[#This Row],[QTY]]*Table1[[#This Row],['# of Books]]","v":0},{"$f":"Table1[[#This Row],[QTY]]*Table1[[#This Row],[School & Library Price]]","v":0}]
[null,null,null,68,"Rebels with a Cause","Rebels With a Cause: Set 2",6,"Library Set","978-0-7660-9261-7",2018,"January 2018","6.000 X 9.000"," "," ",null,null,null,null,null,null,"Grade 8","Grade 7 - 12","This captivating series will introduce readers to a group of rebels whose contributions to the arts, music, and athletics came with a social message that helped shape society and change the world. Engrossing narrative text examines each rebel in depth, including his or her education, life experiences, personality, and developing social conscience. Readers will learn about the formative events that inspired a sense of justice, outrage or mission; and how he or she used entertainment to share an important social message with admirers across the globe. These books also examine the effects of each rebel's legacy of activism through art and the lasting influences they have left on our culture.","English",223.62,167.7,null,"128 pp.",{"$f":"Table1[[#This Row],[QTY]]*Table1[[#This Row],['# of Books]]","v":0},{"$f":"Table1[[#This Row],[QTY]]*Table1[[#This Row],[School & Library Price]]","v":0}]
[null,null,null,68,"Rebels with a Cause","Andy Warhol",1,"Library Bound Book","978-0-7660-9259-4",2018,"January 2018","6.000 X 9.000","Author","Edward Willett",null,null,null,null,"Z",null,"Grade 8","Grade 7 - 12","Provide your readers with a memorable bio about a memorable man. \"Paintings are too hard. Machines have less problems...\" In the 1960s, Andy Warhol became the most famous creator of \"pop art,\" which transformed mass-produced items of popular culture into works of fine art. From Campbell's Soup cans to photographs of Marilyn Monroe, Warhol was willing to use anything and everything from the mass media in his work, and by so doing, expanded the range of subject matter available to artists. His avant-garde films, artistic usage of American icons, and unconventional social life made him a controversial figure, both greatly admired and deeply reviled. A trendsetter rather than a trend-follower, a dispassionate observer of both the seamy and celebrity sides of life, Warhol's rebellious art and cultural commentary were oddly prescient.","English",37.270000000000003,27.95,null,"128 pp.",{"$f":"Table1[[#This Row],[QTY]]*Table1[[#This Row],['# of Books]]","v":0},{"$f":"Table1[[#This Row],[QTY]]*Table1[[#This Row],[School & Library Price]]","v":0}]
[null,null,null,68,"Rebels with a Cause","Andy Warhol",1,"eBook","978-0-7660-9314-0",2018,"January 2018",null,"Author","Edward Willett",null,null,null,null,"Z",null,"Grade 8","Grade 7 - 12","Provide your readers with a memorable bio about a memorable man. \"Paintings are too hard. Machines have less problems...\" In the 1960s, Andy Warhol became the most famous creator of \"pop art,\" which transformed mass-produced items of popular culture into works of fine art. From Campbell's Soup cans to photographs of Marilyn Monroe, Warhol was willing to use anything and everything from the mass media in his work, and by so doing, expanded the range of subject matter available to artists. His avant-garde films, artistic usage of American icons, and unconventional social life made him a controversial figure, both greatly admired and deeply reviled. A trendsetter rather than a trend-follower, a dispassionate observer of both the seamy and celebrity sides of life, Warhol's rebellious art and cultural commentary were oddly prescient.","English",37.270000000000003,27.95,null,"128 pp.",{"$f":"Table1[[#This Row],[QTY]]*Table1[[#This Row],['# of Books]]","v":0},{"$f":"Table1[[#This Row],[QTY]]*Table1[[#This Row],[School & Library Price]]","v":0}]
[null,null,null,68,"Rebels with a Cause","Elvis Presley",1,"Library Bound Book","978-0-7660-9258-7",2018,"January 2018","6.000 X 9.000","Author","John Micklos, Jr.",null,null,null,null,"Z",null,"Grade 8","Grade 7 - 12","This biography revisits an all American classic; the King of Rock and Roll. The original rock-n-roll rebel, Elvis Presley revolutionized the music industry. His hip-shaking performances made young fans scream, television censors scramble, and parents furious. But Elvis was far more than a sex symbol. Over a period of two decades, he had nearly 40 Top 10 hits. His music influenced The Beatles, Bruce Springsteen, and many others. Elvis showed remarkable range as a singer, excelling at rock songs, ballads, rhythm and blues, country, and even gospel. Elvis died of heart failure in 1977 at the age of 42, but his legend and music live on.","English",37.270000000000003,27.95,"782.42166092--dc23","128 pp.",{"$f":"Table1[[#This Row],[QTY]]*Table1[[#This Row],['# of Books]]","v":0},{"$f":"Table1[[#This Row],[QTY]]*Table1[[#This Row],[School & Library Price]]","v":0}]
[null,null,null,68,"Rebels with a Cause","Elvis Presley",1,"eBook","978-0-7660-9313-3",2018,"January 2018",null,"Author","John Micklos, Jr.",null,null,null,null,"Z",null,"Grade 8","Grade 7 - 12","This biography revisits an all American classic; the King of Rock and Roll. The original rock-n-roll rebel, Elvis Presley revolutionized the music industry. His hip-shaking performances made young fans scream, television censors scramble, and parents furious. But Elvis was far more than a sex symbol. Over a period of two decades, he had nearly 40 Top 10 hits. His music influenced The Beatles, Bruce Springsteen, and many others. Elvis showed remarkable range as a singer, excelling at rock songs, ballads, rhythm and blues, country, and even gospel. Elvis died of heart failure in 1977 at the age of 42, but his legend and music live on.","English",37.270000000000003,27.95,"782.42166092--dc23","128 pp.",{"$f":"Table1[[#This Row],[QTY]]*Table1[[#This Row],['# of Books]]","v":0},{"$f":"Table1[[#This Row],[QTY]]*Table1[[#This Row],[School & Library Price]]","v":0}]
[null,null,null,68,"Rebels with a Cause","John Lennon",1,"Library Bound Book","978-0-7660-9260-0",2018,"January 2018","6.000 X 9.000","Author","Jeff Burlingame",null,null,null,null,"Z",null,"Grade 8","Grade 7 - 12","This comprehensive biography by award-winning author Jeff Burlingame explores the life of John Lennon, whose music and life story still resonate and remain popular with both young and old fans, nearly four decades after his untimely death in 1980. He was known foremost as a musician, but played many roles during his too-short life. Born and raised in Liverpool, England, Lennon was a founding member of The Beatles, a solo musician, a peace activist, and a stay-at-home father to son Sean in his adopted hometown of New York City. He left a mark on popular culture that is without parallel.","English",37.270000000000003,27.95,"782.42166092--dc23","128 pp.",{"$f":"Table1[[#This Row],[QTY]]*Table1[[#This Row],['# of Books]]","v":0},{"$f":"Table1[[#This Row],[QTY]]*Table1[[#This Row],[School & Library Price]]","v":0}]
[null,null,null,68,"Rebels with a Cause","John Lennon",1,"eBook","978-0-7660-9315-7",2018,"January 2018",null,"Author","Jeff Burlingame",null,null,null,null,"Z",null,"Grade 8","Grade 7 - 12","This comprehensive biography by award-winning author Jeff Burlingame explores the life of John Lennon, whose music and life story still resonate and remain popular with both young and old fans, nearly four decades after his untimely death in 1980. He was known foremost as a musician, but played many roles during his too-short life. Born and raised in Liverpool, England, Lennon was a founding member of The Beatles, a solo musician, a peace activist, and a stay-at-home father to son Sean in his adopted hometown of New York City. He left a mark on popular culture that is without parallel.","English",37.270000000000003,27.95,"782.42166092--dc23","128 pp.",{"$f":"Table1[[#This Row],[QTY]]*Table1[[#This Row],['# of Books]]","v":0},{"$f":"Table1[[#This Row],[QTY]]*Table1[[#This Row],[School & Library Price]]","v":0}]
[null,null,null,68,"Rebels with a Cause","Johnny Cash",1,"Library Bound Book","978-0-7660-9257-0",2018,"January 2018","6.000 X 9.000","Author","Edward Willett",null,null,null,null,"Z",null,"Grade 8","Grade 7 - 12","This bio will be a favorite among your readers. From the beginning of his career, country music legend Johnny Cash, \"The Man in Black,\" was seen as a rebel, a perception solidified when he took the stage for his famous concert at Folsom State Prison in 1968. Born in Arkansas during the Great Depression, as a child Cash endured poverty, the death of his older brother, and a difficult relationship with his father. He turned to gospel and country music to express his pain, and eventually his songs of hardship and hope reached the ears of those waiting for an artist who represented them, ordinary people fighting to survive, just as he fought to survive his own lifelong battle with addiction. Over the decades, his career soared and floundered, and then, very late in life, soared again, as he found a whole new audience of young people who responded to the hard, gritty truths he poured into every song: a true rebel with a cause.","English",37.270000000000003,27.95,"782.421642092--dc23","128 pp.",{"$f":"Table1[[#This Row],[QTY]]*Table1[[#This Row],['# of Books]]","v":0},{"$f":"Table1[[#This Row],[QTY]]*Table1[[#This Row],[School & Library Price]]","v":0}]
[null,null,null,68,"Rebels with a Cause","Johnny Cash",1,"eBook","978-0-7660-9312-6",2018,"January 2018",null,"Author","Edward Willett",null,null,null,null,"Z",null,"Grade 8","Grade 7 - 12","This bio will be a favorite among your readers. From the beginning of his career, country music legend Johnny Cash, \"The Man in Black,\" was seen as a rebel, a perception solidified when he took the stage for his famous concert at Folsom State Prison in 1968. Born in Arkansas during the Great Depression, as a child Cash endured poverty, the death of his older brother, and a difficult relationship with his father. He turned to gospel and country music to express his pain, and eventually his songs of hardship and hope reached the ears of those waiting for an artist who represented them, ordinary people fighting to survive, just as he fought to survive his own lifelong battle with addiction. Over the decades, his career soared and floundered, and then, very late in life, soared again, as he found a whole new audience of young people who responded to the hard, gritty truths he poured into every song: a true rebel with a cause.","English",37.270000000000003,27.95,"782.421642092--dc23","128 pp.",{"$f":"Table1[[#This Row],[QTY]]*Table1[[#This Row],['# of Books]]","v":0},{"$f":"Table1[[#This Row],[QTY]]*Table1[[#This Row],[School & Library Price]]","v":0}]
[null,null,null,68,"Rebels with a Cause","Madonna",1,"Library Bound Book","978-0-7660-9255-6",2018,"January 2018","6.000 X 9.000","Author","Carol Gnojewski",null,null,null,null,"Z",null,"Grade 8","Grade 7 - 12","Madonna enjoys pushing the envelope, generating accolades and controversy with each cause and project to which she lends her fame. A pop culture icon for over 30 years, her ongoing artistic evolution inspires fans who find her unconventionality refreshing. A self-described fighter, she's been unafraid to take a political stance, openly championing women's rights and civil rights throughout her career. This book tracks the queen of reinvention from her early struggles and ambitions through her unparalleled metamorphosis from pop star, to film star, to author, and philanthropist. Curious minds will discover how she's thrived and survived as a world-renowned female artist and provocateur.","English",37.270000000000003,27.95,"782.42166092--dc23","128 pp.",{"$f":"Table1[[#This Row],[QTY]]*Table1[[#This Row],['# of Books]]","v":0},{"$f":"Table1[[#This Row],[QTY]]*Table1[[#This Row],[School & Library Price]]","v":0}]
[null,null,null,68,"Rebels with a Cause","Madonna",1,"eBook","978-0-7660-9310-2",2018,"January 2018",null,"Author","Carol Gnojewski",null,null,null,null,"Z",null,"Grade 8","Grade 7 - 12","Madonna enjoys pushing the envelope, generating accolades and controversy with each cause and project to which she lends her fame. A pop culture icon for over 30 years, her ongoing artistic evolution inspires fans who find her unconventionality refreshing. A self-described fighter, she's been unafraid to take a political stance, openly championing women's rights and civil rights throughout her career. This book tracks the queen of reinvention from her early struggles and ambitions through her unparalleled metamorphosis from pop star, to film star, to author, and philanthropist. Curious minds will discover how she's thrived and survived as a world-renowned female artist and provocateur.","English",37.270000000000003,27.95,"782.42166092--dc23","128 pp.",{"$f":"Table1[[#This Row],[QTY]]*Table1[[#This Row],['# of Books]]","v":0},{"$f":"Table1[[#This Row],[QTY]]*Table1[[#This Row],[School & Library Price]]","v":0}]
[null,null,null,68,"Rebels with a Cause","Muhammad Ali",1,"Library Bound Book","978-0-7660-9256-3",2018,"January 2018","6.000 X 9.000","Author","John Micklos, Jr.",null,null,null,null,"Z",null,"Grade 8","Grade 7 - 12","This biography will have your readers on the edge of their seats. Muhammad Ali was a triple threat: heavyweight boxing champion, civil rights activist, and international sports icon. One of the most influential figures of the twentieth century, Ali dominated professional boxing for more than a decade in the 1960s and 1970s. Brash and outspoken, he proclaimed \"I am the greatest.\" He backed it up. A true rebel, he refused to serve in the U.S. Army during the Vietnam War, saying it violated his religious beliefs. And after retiring from boxing, Ali had one more fight: diagnosed with Parkinson's disease in 1984, he raised awareness of and funds for treatment and research for over 30 years. When he died in 2016, the world lost one of its most treasured and rebellious sports figures.","English",37.270000000000003,27.95,null,"128 pp.",{"$f":"Table1[[#This Row],[QTY]]*Table1[[#This Row],['# of Books]]","v":0},{"$f":"Table1[[#This Row],[QTY]]*Table1[[#This Row],[School & Library Price]]","v":0}]
[null,null,null,68,"Rebels with a Cause","Muhammad Ali",1,"eBook","978-0-7660-9311-9",2018,"January 2018",null,"Author","John Micklos, Jr.",null,null,null,null,"Z",null,"Grade 8","Grade 7 - 12","This biography will have your readers on the edge of their seats. Muhammad Ali was a triple threat: heavyweight boxing champion, civil rights activist, and international sports icon. One of the most influential figures of the twentieth century, Ali dominated professional boxing for more than a decade in the 1960s and 1970s. Brash and outspoken, he proclaimed \"I am the greatest.\" He backed it up. A true rebel, he refused to serve in the U.S. Army during the Vietnam War, saying it violated his religious beliefs. And after retiring from boxing, Ali had one more fight: diagnosed with Parkinson's disease in 1984, he raised awareness of and funds for treatment and research for over 30 years. When he died in 2016, the world lost one of its most treasured and rebellious sports figures.","English",37.270000000000003,27.95,null,"128 pp.",{"$f":"Table1[[#This Row],[QTY]]*Table1[[#This Row],['# of Books]]","v":0},{"$f":"Table1[[#This Row],[QTY]]*Table1[[#This Row],[School & Library Price]]","v":0}]
[null,null,null,69,"Making Headlines","Making Headlines",5,"Library Set","978-0-7660-8399-8",2017,"January 2017","6.000 X 9.000",null,null,null,null,null,null,null,null,"Grade 7","Grade 7 - 12","There are many stories that capture the imagination and that inspire a media sensation. Stories involving lies, betrayal, faked deaths, and other unbelievable events that are absolutely true are profiled in each collection. Exciting topics are dramatically conveyed in order to engage readers and encourage leisure reading.","English",199.65,149.75,null,"160 pp.",{"$f":"Table1[[#This Row],[QTY]]*Table1[[#This Row],['# of Books]]","v":0},{"$f":"Table1[[#This Row],[QTY]]*Table1[[#This Row],[School & Library Price]]","v":0}]
[null,null,null,69,"Making Headlines","The World's Most Tragic Disasters",1,"Library Bound Book","978-0-7660-8383-7",2017,"January 2017","6.000 X 9.000","Author","Jeanne Nagle",null,null,null,null,"Z",null,"Grade 7","Grade 7 - 12","They may make great action movies, but in real life big disasters are simply tragic. From the beginning, the earth has experienced devastating natural disasters that have resonated today. Humankind has introduced disasters of its own, caused by machines and chemicals. Readers will be fascinated to learn of the earthquakes, tornadoes and hurricanes, floods and tsunamis, volcanic eruptions, crashes and sinkings, and oil spills and nuclear accidents that have plagued us from ancient to modern times. Sidebars, a glossary, and books and websites in the further reading section are also included.","English",39.93,29.95,"363.34—dc23","160 pp.",{"$f":"Table1[[#This Row],[QTY]]*Table1[[#This Row],['# of Books]]","v":0},{"$f":"Table1[[#This Row],[QTY]]*Table1[[#This Row],[School & Library Price]]","v":0}]
[null,null,null,69,"Making Headlines","The World's Most Tragic Disasters",1,"eBook","978-0-7660-8376-9",2017,"January 2017",null,"Author","Jeanne Nagle",null,null,null,null,"Z",null,"Grade 7","Grade 7 - 12","They may make great action movies, but in real life big disasters are simply tragic. From the beginning, the earth has experienced devastating natural disasters that have resonated today. Humankind has introduced disasters of its own, caused by machines and chemicals. Readers will be fascinated to learn of the earthquakes, tornadoes and hurricanes, floods and tsunamis, volcanic eruptions, crashes and sinkings, and oil spills and nuclear accidents that have plagued us from ancient to modern times. Sidebars, a glossary, and books and websites in the further reading section are also included.","English",39.93,29.95,"363.34—dc23","160 pp.",{"$f":"Table1[[#This Row],[QTY]]*Table1[[#This Row],['# of Books]]","v":0},{"$f":"Table1[[#This Row],[QTY]]*Table1[[#This Row],[School & Library Price]]","v":0}]
[null,null,null,69,"Making Headlines","The World's Weirdest News Stories",1,"Library Bound Book","978-0-7660-8377-6",2017,"January 2017","6.000 X 9.000","Author, Author","John A. Torres, Tim Healey",null,null,null,null,"Z",null,"Grade 7","Grade 7 - 12","Thanks to the twenty-four-hour news cycle, today we can learn of big news developments in no time at all. But what about the smaller—and stranger—events that are often overlooked or ignored? This captivating volume offers readers the oddest stories ever to hit the newspapers. A dog on trial for murder? A man who choked to death on the garlic he used to repel vampires? A torrent of frogs raining from the sky? A lady who picked up broadcasting signals through her teeth? The trouser thief? These crazy news stories will convince readers that truth is often stranger than fiction. Sidebars, a glossary, and books and websites in the further reading section are also included.","English",39.93,29.95,"031.02—dc23","160 pp.",{"$f":"Table1[[#This Row],[QTY]]*Table1[[#This Row],['# of Books]]","v":0},{"$f":"Table1[[#This Row],[QTY]]*Table1[[#This Row],[School & Library Price]]","v":0}]
[null,null,null,69,"Making Headlines","The World's Weirdest News Stories",1,"eBook","978-0-7660-8379-0",2017,"January 2017",null,"Author, Author","John A. Torres, Tim Healey",null,null,null,null,"Z",null,"Grade 7","Grade 7 - 12","Thanks to the twenty-four-hour news cycle, today we can learn of big news developments in no time at all. But what about the smaller—and stranger—events that are often overlooked or ignored? This captivating volume offers readers the oddest stories ever to hit the newspapers. A dog on trial for murder? A man who choked to death on the garlic he used to repel vampires? A torrent of frogs raining from the sky? A lady who picked up broadcasting signals through her teeth? The trouser thief? These crazy news stories will convince readers that truth is often stranger than fiction. Sidebars, a glossary, and books and websites in the further reading section are also included.","English",39.93,29.95,"031.02—dc23","160 pp.",{"$f":"Table1[[#This Row],[QTY]]*Table1[[#This Row],['# of Books]]","v":0},{"$f":"Table1[[#This Row],[QTY]]*Table1[[#This Row],[School & Library Price]]","v":0}]
[null,null,null,69,"Making Headlines","The World's Worst Acts of Brutality",1,"Library Bound Book","978-0-7660-8370-7",2017,"January 2017","6.000 X 9.000","Author, Author","Don Rauf, Nigel Cawthorne",null,null,null,null,"Z",null,"Grade 7","Grade 7 - 12","This important volume examines history’s darker side: the massacres, terrorist attacks, ethnic cleansing, and subjugation of races that have taken place throughout the history of humankind. Through examination of acts of brutality such as the Crusades, the Holocaust, the Hutu massacre of the Tutsis in Rwanda, recent terrorist attacks committed by al-Qaeda and ISIS, and many others, readers will be forced to confront the violence that continues to plague the human race. Sidebars, a glossary, and books and websites in the further reading section are also included.","English",39.93,29.95,"909—dc23","160 pp.",{"$f":"Table1[[#This Row],[QTY]]*Table1[[#This Row],['# of Books]]","v":0},{"$f":"Table1[[#This Row],[QTY]]*Table1[[#This Row],[School & Library Price]]","v":0}]
[null,null,null,69,"Making Headlines","The World's Worst Acts of Brutality",1,"eBook","978-0-7660-8371-4",2017,"January 2017",null,"Author, Author","Don Rauf, Nigel Cawthorne",null,null,null,null,"Z",null,"Grade 7","Grade 7 - 12","This important volume examines history’s darker side: the massacres, terrorist attacks, ethnic cleansing, and subjugation of races that have taken place throughout the history of humankind. Through examination of acts of brutality such as the Crusades, the Holocaust, the Hutu massacre of the Tutsis in Rwanda, recent terrorist attacks committed by al-Qaeda and ISIS, and many others, readers will be forced to confront the violence that continues to plague the human race. Sidebars, a glossary, and books and websites in the further reading section are also included.","English",39.93,29.95,"909—dc23","160 pp.",{"$f":"Table1[[#This Row],[QTY]]*Table1[[#This Row],['# of Books]]","v":0},{"$f":"Table1[[#This Row],[QTY]]*Table1[[#This Row],[School & Library Price]]","v":0}]
[null,null,null,69,"Making Headlines","The World's Worst Mistakes",1,"Library Bound Book","978-0-7660-8367-7",2017,"January 2017","6.000 X 9.000","Author, Author","Kathlyn Gay, Nigel Blundell",null,null,null,null,"Z",null,"Grade 7","Grade 7 - 12","History books tend to celebrate the successes, the geniuses, and the breakthroughs that have made our world what it is today. But what about the mistakes? This book examines the blunders and the goof-ups—both miniscule and colossal in scale—many of which have been lost to history. Readers of The World’s Worst Mistakes will find humor in the story of the priest who married a bride to her groom’s best man and cringe at the poor fool who thought he actually purchased the White House. They also will learn about mistakes that changed the course of history, like the sinking of the Titanic, the Exxon Valdez disaster, and the weapons of mass destruction that started a war but didn’t exist. Sidebars, a glossary, and books and websites in the further reading section are also included.","English",39.93,29.95,"909—dc23","160 pp.",{"$f":"Table1[[#This Row],[QTY]]*Table1[[#This Row],['# of Books]]","v":0},{"$f":"Table1[[#This Row],[QTY]]*Table1[[#This Row],[School & Library Price]]","v":0}]
[null,null,null,69,"Making Headlines","The World's Worst Mistakes",1,"eBook","978-0-7660-8368-4",2017,"January 2017",null,"Author, Author","Kathlyn Gay, Nigel Blundell",null,null,null,null,"Z",null,"Grade 7","Grade 7 - 12","History books tend to celebrate the successes, the geniuses, and the breakthroughs that have made our world what it is today. But what about the mistakes? This book examines the blunders and the goof-ups—both miniscule and colossal in scale—many of which have been lost to history. Readers of The World’s Worst Mistakes will find humor in the story of the priest who married a bride to her groom’s best man and cringe at the poor fool who thought he actually purchased the White House. They also will learn about mistakes that changed the course of history, like the sinking of the Titanic, the Exxon Valdez disaster, and the weapons of mass destruction that started a war but didn’t exist. Sidebars, a glossary, and books and websites in the further reading section are also included.","English",39.93,29.95,"909—dc23","160 pp.",{"$f":"Table1[[#This Row],[QTY]]*Table1[[#This Row],['# of Books]]","v":0},{"$f":"Table1[[#This Row],[QTY]]*Table1[[#This Row],[School & Library Price]]","v":0}]
[null,null,null,69,"Making Headlines","The World’s Most Shocking Secrets and Mysteries",1,"Library Bound Book","978-0-7660-8372-1",2017,"January 2017","6.000 X 9.000","Author, Author","Allan Hall, Kat Harrison",null,null,null,null,"Z",null,"Grade 7","Grade 7 - 12","There is no doubt about it: life is full of mystery. This compelling volume allows readers to peer into the uncovering of state and military secrets such as Watergate, North Korea’s purported nuclear bomb testing, and Wikileaks, as well as true crime cases, such as the search for the “Missing Earl.” Whether it’s Hollywood secrets like Rock Hudson’s shocking double life or the excavation of the ancient city of Teotihuacan, students will learn how great mysteries can be hidden—and in turn how they are revealed. Sidebars, a glossary, and books and websites in the further reading section are also included.","English",39.93,29.95,"031.02—dc23","160 pp.",{"$f":"Table1[[#This Row],[QTY]]*Table1[[#This Row],['# of Books]]","v":0},{"$f":"Table1[[#This Row],[QTY]]*Table1[[#This Row],[School & Library Price]]","v":0}]
[null,null,null,69,"Making Headlines","The World’s Most Shocking Secrets and Mysteries",1,"eBook","978-0-7660-8373-8",2017,"January 2017",null,"Author, Author","Allan Hall, Kat Harrison",null,null,null,null,"Z",null,"Grade 7","Grade 7 - 12","There is no doubt about it: life is full of mystery. This compelling volume allows readers to peer into the uncovering of state and military secrets such as Watergate, North Korea’s purported nuclear bomb testing, and Wikileaks, as well as true crime cases, such as the search for the “Missing Earl.” Whether it’s Hollywood secrets like Rock Hudson’s shocking double life or the excavation of the ancient city of Teotihuacan, students will learn how great mysteries can be hidden—and in turn how they are revealed. Sidebars, a glossary, and books and websites in the further reading section are also included.","English",39.93,29.95,"031.02—dc23","160 pp.",{"$f":"Table1[[#This Row],[QTY]]*Table1[[#This Row],['# of Books]]","v":0},{"$f":"Table1[[#This Row],[QTY]]*Table1[[#This Row],[School & Library Price]]","v":0}]
[null,null,null,70,"Lit Crit Guides (All 26 Titles)","Lit Crit Guides (All 26 Titles)",26,"Library Set","978-0-7660-8573-2",2018,"August 2017","6.000 X 9.000",null,null,null,null,null,null,null,null,"Grade 6 - 8","Grade 7 - 12","Readers will gain a better understanding of some of the most famous pieces of literature in history. Each book delves into the life and major works of an author, firmly placing the author’s work within the context of their world and the era in which they wrote. Readers learn about interpretations and major themes of each work, taking an in-depth look at style and language choices, genre, and plot. Excerpts from original works allow readers to utilize their new skills of analysis and encourage further reading of the author’s work.","English",1038.18,778.7,null,"160 pp.",{"$f":"Table1[[#This Row],[QTY]]*Table1[[#This Row],['# of Books]]","v":0},{"$f":"Table1[[#This Row],[QTY]]*Table1[[#This Row],[School & Library Price]]","v":0}]
[null,null,null,70,"Lit Crit Guides (NEW Set of 6 Titles)","Lit Crit Guides (NEW Set of 6 Titles)",6,"Library Set","978-0-7660-8572-5",2018,"August 2017","6.000 X 9.000",null,null,null,null,null,null,null,null,"Grade 8","Grade 7 - 12","Readers will gain a better understanding of some of the most famous pieces of literature in history. Each book delves into the life and major works of an author, firmly placing the author’s work within the context of their world and the era in which they wrote. Readers learn about interpretations and major themes of each work, taking an in-depth look at style and language choices, genre, and plot. Excerpts from original works allow readers to utilize their new skills of analysis and encourage further reading of the author’s work.","English",239.58,179.7,null,"160 pp.",{"$f":"Table1[[#This Row],[QTY]]*Table1[[#This Row],['# of Books]]","v":0},{"$f":"Table1[[#This Row],[QTY]]*Table1[[#This Row],[School & Library Price]]","v":0}]
[null,null,null,70,"Lit Crit Guides","Reading and Interpreting the Works of Ernest Hemingway",1,"Library Bound Book","978-0-7660-8489-6",2018,"August 2017","6.000 X 9.000","Author","Timothy J. Pingelton",null,null,null,null,"Z",null,"Grade 8","Grade 7 - 12","No twentieth-century writer has achieved greater literary success than Ernest Hemingway. His early days in journalism resulted in his trademark lean prose and a compelling writing style that would influence generations of writers to come. A larger-than-life figure, the author pursued adventures that would provide the groundwork for compelling tales of wars, bullfights, and safaris. This insightful guide provides excerpts, quotes, and critical analysis of Hemingway’s novels and short stories in the context of his fascinating and ultimately tragic personal life. Through an in-depth exploration of some of his greatest works, readers will gain a greater understanding of this literary giant.","English",39.93,29.95,"813'.52--dc23","160 pp.",{"$f":"Table1[[#This Row],[QTY]]*Table1[[#This Row],['# of Books]]","v":0},{"$f":"Table1[[#This Row],[QTY]]*Table1[[#This Row],[School & Library Price]]","v":0}]
[null,null,null,70,"Lit Crit Guides","Reading and Interpreting the Works of Ernest Hemingway",1,"eBook","978-0-7660-8490-2",2018,"August 2017",null,"Author","Timothy J. Pingelton",null,null,null,null,"Z",null,"Grade 8","Grade 7 - 12","No twentieth-century writer has achieved greater literary success than Ernest Hemingway. His early days in journalism resulted in his trademark lean prose and a compelling writing style that would influence generations of writers to come. A larger-than-life figure, the author pursued adventures that would provide the groundwork for compelling tales of wars, bullfights, and safaris. This insightful guide provides excerpts, quotes, and critical analysis of Hemingway’s novels and short stories in the context of his fascinating and ultimately tragic personal life. Through an in-depth exploration of some of his greatest works, readers will gain a greater understanding of this literary giant.","English",39.93,29.95,"813'.52--dc23","160 pp.",{"$f":"Table1[[#This Row],[QTY]]*Table1[[#This Row],['# of Books]]","v":0},{"$f":"Table1[[#This Row],[QTY]]*Table1[[#This Row],[School & Library Price]]","v":0}]
[null,null,null,70,"Lit Crit Guides","Reading and Interpreting the Works of Jack London",1,"Library Bound Book","978-0-7660-8491-9",2018,"August 2017","6.000 X 9.000","Author","Stephanie Buckwalter",null,null,null,null,"Z",null,"Grade 8","Grade 7 - 12","Jack London’s stories of adventure in the early twentieth century captured the imagination of the American public. As he ventured around the United States and the globe, he documented his adventures through his writing. Through excerpts and critical analysis, readers will examine London’s most famous works (The Call of the Wild, “To Build a Fire”), which are dramatic and compelling stories of man versus nature and versus himself. Other works explore the human condition, particularly the plight of the poor and working class. An examination of the autobiographical nature of many of London’s stories gives the reader a unique insight into the interaction between a writer’s world and his work.","English",39.93,29.95,"813'.52--dc23","160 pp.",{"$f":"Table1[[#This Row],[QTY]]*Table1[[#This Row],['# of Books]]","v":0},{"$f":"Table1[[#This Row],[QTY]]*Table1[[#This Row],[School & Library Price]]","v":0}]
[null,null,null,70,"Lit Crit Guides","Reading and Interpreting the Works of Jack London",1,"eBook","978-0-7660-8492-6",2018,"August 2017",null,"Author","Stephanie Buckwalter",null,null,null,null,"Z",null,"Grade 8","Grade 7 - 12","Jack London’s stories of adventure in the early twentieth century captured the imagination of the American public. As he ventured around the United States and the globe, he documented his adventures through his writing. Through excerpts and critical analysis, readers will examine London’s most famous works (The Call of the Wild, “To Build a Fire”), which are dramatic and compelling stories of man versus nature and versus himself. Other works explore the human condition, particularly the plight of the poor and working class. An examination of the autobiographical nature of many of London’s stories gives the reader a unique insight into the interaction between a writer’s world and his work.","English",39.93,29.95,"813'.52--dc23","160 pp.",{"$f":"Table1[[#This Row],[QTY]]*Table1[[#This Row],['# of Books]]","v":0},{"$f":"Table1[[#This Row],[QTY]]*Table1[[#This Row],[School & Library Price]]","v":0}]
[null,null,null,70,"Lit Crit Guides","Reading and Interpreting the Works of Mark Twain",1,"Library Bound Book","978-0-7660-8493-3",2018,"August 2017","6.000 X 9.000","Author","Spring Hermann",null,null,null,null,"Z",null,"Grade 8","Grade 7 - 12","“The difference between the right word and the almost right word is the difference between lightning and the lightning bug.” Observations like this make Mark Twain the most widely read and quoted American author. This guide utilizes quotes, excerpts, biographical information, and critical analysis in examining Twain’s vast output of novels, personal memoirs, social criticisms, and essays, both serious and hilarious. It also demonstrates how Twain carefully stored his life experiences in his mind, then mined and refined them years later, to bring us the timeless lessons he had learned. In all his works, students will find the underlying fears, disappointments, hopes and dreams he held for America—and he always found the right words to tell us.","English",39.93,29.95,"813.409--dc23","160 pp.",{"$f":"Table1[[#This Row],[QTY]]*Table1[[#This Row],['# of Books]]","v":0},{"$f":"Table1[[#This Row],[QTY]]*Table1[[#This Row],[School & Library Price]]","v":0}]
[null,null,null,70,"Lit Crit Guides","Reading and Interpreting the Works of Mark Twain",1,"eBook","978-0-7660-8494-0",2018,"August 2017",null,"Author","Spring Hermann",null,null,null,null,"Z",null,"Grade 8","Grade 7 - 12","“The difference between the right word and the almost right word is the difference between lightning and the lightning bug.” Observations like this make Mark Twain the most widely read and quoted American author. This guide utilizes quotes, excerpts, biographical information, and critical analysis in examining Twain’s vast output of novels, personal memoirs, social criticisms, and essays, both serious and hilarious. It also demonstrates how Twain carefully stored his life experiences in his mind, then mined and refined them years later, to bring us the timeless lessons he had learned. In all his works, students will find the underlying fears, disappointments, hopes and dreams he held for America—and he always found the right words to tell us.","English",39.93,29.95,"813.409--dc23","160 pp.",{"$f":"Table1[[#This Row],[QTY]]*Table1[[#This Row],['# of Books]]","v":0},{"$f":"Table1[[#This Row],[QTY]]*Table1[[#This Row],[School & Library Price]]","v":0}]
[null,null,null,70,"Lit Crit Guides","Reading and Interpreting the Works of Maya Angelou",1,"Library Bound Book","978-0-7660-8497-1",2018,"August 2017","6.000 X 9.000","Author","Audrey Borus",null,null,null,null,"Z",null,"Grade 8","Grade 7 - 12","\"There is no greater agony than bearing an untold story inside you.\" Maya Angelou's words in I Know Why the Caged Bird Sings reveal her own need to tell stories, a lifelong passion that manifested itself in the form of memoirs and poetry as well as essays, film, and music. This in-depth guide utilizes the fascinating life story of Angelou, who was also an educator and activist, as a springboard for exploring the themes, motifs, and literary techniques that characterize her writing. Critical analysis, quotes, and excerpts from a variety of texts provide a compelling examination of Angelou's extensive body of work.","English",39.93,29.95,"818'.5409--dc23","160 pp.",{"$f":"Table1[[#This Row],[QTY]]*Table1[[#This Row],['# of Books]]","v":0},{"$f":"Table1[[#This Row],[QTY]]*Table1[[#This Row],[School & Library Price]]","v":0}]
[null,null,null,70,"Lit Crit Guides","Reading and Interpreting the Works of Maya Angelou",1,"eBook","978-0-7660-8498-8",2018,"August 2017",null,"Author","Audrey Borus",null,null,null,null,"Z",null,"Grade 8","Grade 7 - 12","\"There is no greater agony than bearing an untold story inside you.\" Maya Angelou's words in I Know Why the Caged Bird Sings reveal her own need to tell stories, a lifelong passion that manifested itself in the form of memoirs and poetry as well as essays, film, and music. This in-depth guide utilizes the fascinating life story of Angelou, who was also an educator and activist, as a springboard for exploring the themes, motifs, and literary techniques that characterize her writing. Critical analysis, quotes, and excerpts from a variety of texts provide a compelling examination of Angelou's extensive body of work.","English",39.93,29.95,"818'.5409--dc23","160 pp.",{"$f":"Table1[[#This Row],[QTY]]*Table1[[#This Row],['# of Books]]","v":0},{"$f":"Table1[[#This Row],[QTY]]*Table1[[#This Row],[School & Library Price]]","v":0}]
[null,null,null,70,"Lit Crit Guides","Reading and Interpreting the Works of the Brontë Sisters",1,"Library Bound Book","978-0-7660-8949-5",2018,"August 2017","6.000 X 9.000","Author","Naomi Pasachoff",null,null,null,null,"Z",null,"Grade 8","Grade 7 - 12","The literary output of the Brontë sisters was small, but their novels remain immensely popular more than 150 years after their deaths. Each sister wrote a novel that challenged the ideas of the day on what was fit to print: Charlotte’s Jane Eyre by examining the interior life of a young girl; Emily’s Wuthering Heights by overturning the conventions of the novel, even while making use of traditional literary forms; Anne’s The Tenant of Wildfell Hall by depicting a husband’s alcoholism and debauchery. This guide, which roots the writers’ work in their unusual upbringing and describes and challenges the so-called Brontë myth, aims to provide both first-time readers and long-time Brontë enthusiasts with a deeper understanding of their work and the reasons it continues to engross readers today.","English",39.93,29.95,"823/.8--dc23","160 pp.",{"$f":"Table1[[#This Row],[QTY]]*Table1[[#This Row],['# of Books]]","v":0},{"$f":"Table1[[#This Row],[QTY]]*Table1[[#This Row],[School & Library Price]]","v":0}]
[null,null,null,70,"Lit Crit Guides","Reading and Interpreting the Works of the Brontë Sisters",1,"eBook","978-0-7660-8950-1",2018,"August 2017",null,"Author","Naomi Pasachoff",null,null,null,null,"Z",null,"Grade 8","Grade 7 - 12","The literary output of the Brontë sisters was small, but their novels remain immensely popular more than 150 years after their deaths. Each sister wrote a novel that challenged the ideas of the day on what was fit to print: Charlotte’s Jane Eyre by examining the interior life of a young girl; Emily’s Wuthering Heights by overturning the conventions of the novel, even while making use of traditional literary forms; Anne’s The Tenant of Wildfell Hall by depicting a husband’s alcoholism and debauchery. This guide, which roots the writers’ work in their unusual upbringing and describes and challenges the so-called Brontë myth, aims to provide both first-time readers and long-time Brontë enthusiasts with a deeper understanding of their work and the reasons it continues to engross readers today.","English",39.93,29.95,"823/.8--dc23","160 pp.",{"$f":"Table1[[#This Row],[QTY]]*Table1[[#This Row],['# of Books]]","v":0},{"$f":"Table1[[#This Row],[QTY]]*Table1[[#This Row],[School & Library Price]]","v":0}]
[null,null,null,70,"Lit Crit Guides","Reading and Interpreting the Works of Walt Whitman",1,"Library Bound Book","978-0-7660-8495-7",2018,"August 2017","6.000 X 9.000","Author","Alex Beene",null,null,null,null,"Z",null,"Grade 8","Grade 7 - 12","For most students, the images stirred by the word \"poet\" are those of an introverted individual removed from the crowd and devoted more to his or her work than engaging in the company of others. Walt Whitman spent a lifetime avoiding these commonly held notions of what a writer should be. From founding his own newspaper to acting as a volunteer nurse during the Civil War, Whitman encountered years of progress and turmoil that dramatically influenced the author he would become. This detailed guide serves as a compass through the magnificent journey Whitman took as a man who wanted to present the profoundly essential relationship between poetry and society.","English",39.93,29.95,"811'.3--dc23","160 pp.",{"$f":"Table1[[#This Row],[QTY]]*Table1[[#This Row],['# of Books]]","v":0},{"$f":"Table1[[#This Row],[QTY]]*Table1[[#This Row],[School & Library Price]]","v":0}]
[null,null,null,70,"Lit Crit Guides","Reading and Interpreting the Works of Walt Whitman",1,"eBook","978-0-7660-8496-4",2018,"August 2017",null,"Author","Alex Beene",null,null,null,null,"Z",null,"Grade 8","Grade 7 - 12","For most students, the images stirred by the word \"poet\" are those of an introverted individual removed from the crowd and devoted more to his or her work than engaging in the company of others. Walt Whitman spent a lifetime avoiding these commonly held notions of what a writer should be. From founding his own newspaper to acting as a volunteer nurse during the Civil War, Whitman encountered years of progress and turmoil that dramatically influenced the author he would become. This detailed guide serves as a compass through the magnificent journey Whitman took as a man who wanted to present the profoundly essential relationship between poetry and society.","English",39.93,29.95,"811'.3--dc23","160 pp.",{"$f":"Table1[[#This Row],[QTY]]*Table1[[#This Row],['# of Books]]","v":0},{"$f":"Table1[[#This Row],[QTY]]*Table1[[#This Row],[School & Library Price]]","v":0}]
[null,null,null,71,"Lit Crit Guides","Reading and Interpreting the Works of Alice Walker",1,"Library Bound Book","978-0-7660-8359-2",2017,"January 2017","6.000 X 9.000","Author","Lisa A. Crayton",null,null,null,null,"Z",null,"Grade 6","Grade 7 - 12","Growing up poor in a small town in Georgia, Alice Walker became aware of the effects of prejudice and segregation at a young age. She would later call on these early experiences when writing her most famous novel, The Color Purple. But the themes of Walker’s prose and poetry extend far beyond race, including women’s issues, religion, relationships, and culture. This text explores the many themes of her work, as well as her use of characterization, literary devices, and plot. Through biographical information, quotes from the author, excerpts from texts, and critical analysis, readers will obtain a strong appreciation for the life and works of this controversial and esteemed author.","English",39.93,29.95,"813/.54--dc23","176 pp.",{"$f":"Table1[[#This Row],[QTY]]*Table1[[#This Row],['# of Books]]","v":0},{"$f":"Table1[[#This Row],[QTY]]*Table1[[#This Row],[School & Library Price]]","v":0}]
[null,null,null,71,"Lit Crit Guides","Reading and Interpreting the Works of Alice Walker",1,"eBook","978-0-7660-8360-8",2017,"January 2017",null,"Author","Lisa A. Crayton",null,null,null,null,"Z",null,"Grade 6","Grade 7 - 12","Growing up poor in a small town in Georgia, Alice Walker became aware of the effects of prejudice and segregation at a young age. She would later call on these early experiences when writing her most famous novel, The Color Purple. But the themes of Walker’s prose and poetry extend far beyond race, including women’s issues, religion, relationships, and culture. This text explores the many themes of her work, as well as her use of characterization, literary devices, and plot. Through biographical information, quotes from the author, excerpts from texts, and critical analysis, readers will obtain a strong appreciation for the life and works of this controversial and esteemed author.","English",39.93,29.95,"813/.54--dc23","176 pp.",{"$f":"Table1[[#This Row],[QTY]]*Table1[[#This Row],['# of Books]]","v":0},{"$f":"Table1[[#This Row],[QTY]]*Table1[[#This Row],[School & Library Price]]","v":0}]
[null,null,null,71,"Lit Crit Guides","Reading and Interpreting the Works of Amy Tan",1,"Library Bound Book","978-0-7660-7916-8",2017,"August 2016","6.000 X 9.000","Author","Audrey Borus",null,null,null,null,"Z",null,"Grade 6","Grade 7 - 12","Amy Tan was born to Chinese immigrants who worked hard to fulfill their own version of the American Dream. After tragedy befell her family when she was a teenager, a tumultuous period followed in which Tan and her mother often clashed. This text reveals how biographical elements like these largely influenced the recurring themes in many of her novels. Tanﾒs unique view on the Chinese-American experience and mother-daughter relationships, along with her use of setting, point of view, and a unique writing style are closely examined through excerpts from the books as well as critical analysis. Quotations from Tan herself help readers gain a better understanding and appreciation for this critically acclaimed author. \n\n","English",39.93,29.95,"813/.54--dc23","176 pp.",{"$f":"Table1[[#This Row],[QTY]]*Table1[[#This Row],['# of Books]]","v":0},{"$f":"Table1[[#This Row],[QTY]]*Table1[[#This Row],[School & Library Price]]","v":0}]
[null,null,null,71,"Lit Crit Guides","Reading and Interpreting the Works of Amy Tan",1,"eBook","978-0-7660-7910-6",2017,"August 2016",null,"Author","Audrey Borus",null,null,null,null,"Z",null,"Grade 6","Grade 7 - 12","Amy Tan was born to Chinese immigrants who worked hard to fulfill their own version of the American Dream. After tragedy befell her family when she was a teenager, a tumultuous period followed in which Tan and her mother often clashed. This text reveals how biographical elements like these largely influenced the recurring themes in many of her novels. Tanﾒs unique view on the Chinese-American experience and mother-daughter relationships, along with her use of setting, point of view, and a unique writing style are closely examined through excerpts from the books as well as critical analysis. Quotations from Tan herself help readers gain a better understanding and appreciation for this critically acclaimed author. \n\n","English",39.93,29.95,"813/.54--dc23","176 pp.",{"$f":"Table1[[#This Row],[QTY]]*Table1[[#This Row],['# of Books]]","v":0},{"$f":"Table1[[#This Row],[QTY]]*Table1[[#This Row],[School & Library Price]]","v":0}]
[null,null,null,71,"Lit Crit Guides","Reading and Interpreting the Works of Arthur Miller",1,"Library Bound Book","978-0-7660-7340-1",2016,"January 2016","6.000 X 9.000","Author","Amy Dunkleberger",null,null,null,null,"Z",null,"Grade 8","Grade 7 - 12","Arthur Miller is described by some as the greatest American playwright of the twentieth century. But to fully understand and appreciate his work, students must comprehend the political climate in which he was writing and the changes facing the world at the time. This engaging text provides readers with critical analysis of his themes, style, and language; direct quotations from Miller; and relevant biographical details. Students will learn about the world Arthur Miller was reflecting in his writing and why his works have become American classics.","English",39.93,29.95,"812'.52--dc23[B]","160 pp.",{"$f":"Table1[[#This Row],[QTY]]*Table1[[#This Row],['# of Books]]","v":0},{"$f":"Table1[[#This Row],[QTY]]*Table1[[#This Row],[School & Library Price]]","v":0}]
[null,null,null,71,"Lit Crit Guides","Reading and Interpreting the Works of Arthur Miller",1,"eBook","978-0-7660-7341-8",2016,"January 2016",null,"Author","Amy Dunkleberger",null,null,null,null,"Z",null,"Grade 8","Grade 7 - 12","Arthur Miller is described by some as the greatest American playwright of the twentieth century. But to fully understand and appreciate his work, students must comprehend the political climate in which he was writing and the changes facing the world at the time. This engaging text provides readers with critical analysis of his themes, style, and language; direct quotations from Miller; and relevant biographical details. Students will learn about the world Arthur Miller was reflecting in his writing and why his works have become American classics.","English",39.93,29.95,"812'.52--dc23[B]","160 pp.",{"$f":"Table1[[#This Row],[QTY]]*Table1[[#This Row],['# of Books]]","v":0},{"$f":"Table1[[#This Row],[QTY]]*Table1[[#This Row],[School & Library Price]]","v":0}]
[null,null,null,71,"Lit Crit Guides","Reading and Interpreting the Works of Cormac McCarthy",1,"Library Bound Book","978-0-7660-7915-1",2017,"August 2016","6.000 X 9.000","Author","Greg Clinton",null,null,null,null,"Z",null,"Grade 6","Grade 7 - 12","The works of Pulitzer Prize-winning author Cormac McCarthy can be described as dark, mysterious, and violent. His unique writing style and Southern Gothic, post-apocalyptic brand of literature defy classification and make for a challenging and thought-provoking read. This text closely examines McCarthy’s recurring styles, symbols, and themes through excerpts from his books as well as critical analysis. Students will learn how to read and interpret McCarthy’s complex works while they come to a greater understanding of one of America’s most powerful writers.","English",39.93,29.95,"813/.54--dc23","176 pp.",{"$f":"Table1[[#This Row],[QTY]]*Table1[[#This Row],['# of Books]]","v":0},{"$f":"Table1[[#This Row],[QTY]]*Table1[[#This Row],[School & Library Price]]","v":0}]
[null,null,null,71,"Lit Crit Guides","Reading and Interpreting the Works of Cormac McCarthy",1,"eBook","978-0-7660-7909-0",2017,"August 2016",null,"Author","Greg Clinton",null,null,null,null,"Z",null,"Grade 6","Grade 7 - 12","The works of Pulitzer Prize-winning author Cormac McCarthy can be described as dark, mysterious, and violent. His unique writing style and Southern Gothic, post-apocalyptic brand of literature defy classification and make for a challenging and thought-provoking read. This text closely examines McCarthy’s recurring styles, symbols, and themes through excerpts from his books as well as critical analysis. Students will learn how to read and interpret McCarthy’s complex works while they come to a greater understanding of one of America’s most powerful writers.","English",39.93,29.95,"813/.54--dc23","176 pp.",{"$f":"Table1[[#This Row],[QTY]]*Table1[[#This Row],['# of Books]]","v":0},{"$f":"Table1[[#This Row],[QTY]]*Table1[[#This Row],[School & Library Price]]","v":0}]
[null,null,null,71,"Lit Crit Guides","Reading and Interpreting the Works of Edgar Allan Poe",1,"Library Bound Book","978-0-7660-7342-5",2016,"January 2016","6.000 X 9.000","Author","Debra Mcarthur",null,null,null,null,"Z",null,"Grade 8","Grade 7 - 12","Edgar Allan Poe’s poems and short stories may be familiar to students, but the life that inspired these tales may still remain a mystery. This text provides readers with an understanding of how Poe’s writing was influenced by the time period in which he lived and the circumstances of his tragic life. Students will learn how to ponder, interpret, and comprehend Poe’s work through critical analysis of his themes, word choice, and style and through direct quotations from Poe himself.","English",39.93,29.95,"818'.309--dc23[B]","160 pp.",{"$f":"Table1[[#This Row],[QTY]]*Table1[[#This Row],['# of Books]]","v":0},{"$f":"Table1[[#This Row],[QTY]]*Table1[[#This Row],[School & Library Price]]","v":0}]
[null,null,null,71,"Lit Crit Guides","Reading and Interpreting the Works of Edgar Allan Poe",1,"eBook","978-0-7660-7343-2",2016,"January 2016",null,"Author","Debra Mcarthur",null,null,null,null,"Z",null,"Grade 8","Grade 7 - 12","Edgar Allan Poe’s poems and short stories may be familiar to students, but the life that inspired these tales may still remain a mystery. This text provides readers with an understanding of how Poe’s writing was influenced by the time period in which he lived and the circumstances of his tragic life. Students will learn how to ponder, interpret, and comprehend Poe’s work through critical analysis of his themes, word choice, and style and through direct quotations from Poe himself.","English",39.93,29.95,"818'.309--dc23[B]","160 pp.",{"$f":"Table1[[#This Row],[QTY]]*Table1[[#This Row],['# of Books]]","v":0},{"$f":"Table1[[#This Row],[QTY]]*Table1[[#This Row],[School & Library Price]]","v":0}]
[null,null,null,71,"Lit Crit Guides","Reading and Interpreting the Works of Emily Dickinson",1,"Library Bound Book","978-0-7660-7344-9",2016,"January 2016","6.000 X 9.000","Author","Audrey Borus",null,null,null,null,"Z",null,"Grade 8","Grade 7 - 12","Emily Dickinson’s words may be well known to students, but they may know very little of her quiet solitary life. This text positions her work within the political climate in which she lived, the culture and expectations for an educated young woman of the day, and discusses what it meant to be a poet during the American Civil War. Through critical analysis of her themes, language, and style and direct quotations from Dickinson’s many correspondences, readers will learn how to think about and understand the works of Emily Dickinson.","English",39.93,29.95,"811'.4--dc23[B]","160 pp.",{"$f":"Table1[[#This Row],[QTY]]*Table1[[#This Row],['# of Books]]","v":0},{"$f":"Table1[[#This Row],[QTY]]*Table1[[#This Row],[School & Library Price]]","v":0}]
[null,null,null,71,"Lit Crit Guides","Reading and Interpreting the Works of Emily Dickinson",1,"eBook","978-0-7660-7345-6",2016,"January 2016",null,"Author","Audrey Borus",null,null,null,null,"Z",null,"Grade 8","Grade 7 - 12","Emily Dickinson’s words may be well known to students, but they may know very little of her quiet solitary life. This text positions her work within the political climate in which she lived, the culture and expectations for an educated young woman of the day, and discusses what it meant to be a poet during the American Civil War. Through critical analysis of her themes, language, and style and direct quotations from Dickinson’s many correspondences, readers will learn how to think about and understand the works of Emily Dickinson.","English",39.93,29.95,"811'.4--dc23[B]","160 pp.",{"$f":"Table1[[#This Row],[QTY]]*Table1[[#This Row],['# of Books]]","v":0},{"$f":"Table1[[#This Row],[QTY]]*Table1[[#This Row],[School & Library Price]]","v":0}]
[null,null,null,71,"Lit Crit Guides","Reading and Interpreting the Works of Eugene O'Neill",1,"Library Bound Book","978-0-7660-7913-7",2017,"August 2016","6.000 X 9.000","Author","Spring Hermann",null,null,null,null,"Z",null,"Grade 6","Grade 7 - 12","Playwright Eugene O’Neill dominated American theater for the first half of the twentieth century, and inspired most of the important dramatists of its second half. This text tells the story of O’Neill’s often troubled life, then ties it in with his work: complex, lengthy dramas unlike anything seen on Broadway before. The playwright’s main themes, which he returned to throughout his career, are carefully detailed, as are the various styles he employed over the years. Critical analysis, excerpts from the work, and quotes from O’Neill enhance readers’ understanding and appreciation for this prolific playwright.","English",39.93,29.95,"812/.52--dc23","176 pp.",{"$f":"Table1[[#This Row],[QTY]]*Table1[[#This Row],['# of Books]]","v":0},{"$f":"Table1[[#This Row],[QTY]]*Table1[[#This Row],[School & Library Price]]","v":0}]
[null,null,null,71,"Lit Crit Guides","Reading and Interpreting the Works of Eugene O'Neill",1,"eBook","978-0-7660-7907-6",2017,"August 2016",null,"Author","Spring Hermann",null,null,null,null,"Z",null,"Grade 6","Grade 7 - 12","Playwright Eugene O’Neill dominated American theater for the first half of the twentieth century, and inspired most of the important dramatists of its second half. This text tells the story of O’Neill’s often troubled life, then ties it in with his work: complex, lengthy dramas unlike anything seen on Broadway before. The playwright’s main themes, which he returned to throughout his career, are carefully detailed, as are the various styles he employed over the years. Critical analysis, excerpts from the work, and quotes from O’Neill enhance readers’ understanding and appreciation for this prolific playwright.","English",39.93,29.95,"812/.52--dc23","176 pp.",{"$f":"Table1[[#This Row],[QTY]]*Table1[[#This Row],['# of Books]]","v":0},{"$f":"Table1[[#This Row],[QTY]]*Table1[[#This Row],[School & Library Price]]","v":0}]
[null,null,null,71,"Lit Crit Guides","Reading and Interpreting the Works of F. Scott Fitzgerald",1,"Library Bound Book","978-0-7660-7346-3",2016,"January 2016","6.000 X 9.000","Author","Eva Weisbrod Geertz",null,null,null,null,"Z",null,"Grade 8","Grade 7 - 12","F. Scott Fitzgerald’s books may reflect the glitz and glamour of the 1920s, but was his life anything like that of his characters? Through direct quotations and intriguing biographical information, this text helps readers understand how the era in which Fitzgerald wrote influenced his writing. Excerpts from original works and critical analysis of his themes, style, and word choice allow readers to immerse themselves in his world.","English",39.93,29.95,"813'.52--dc23[B]","160 pp.",{"$f":"Table1[[#This Row],[QTY]]*Table1[[#This Row],['# of Books]]","v":0},{"$f":"Table1[[#This Row],[QTY]]*Table1[[#This Row],[School & Library Price]]","v":0}]
[null,null,null,71,"Lit Crit Guides","Reading and Interpreting the Works of F. Scott Fitzgerald",1,"eBook","978-0-7660-7347-0",2016,"January 2016",null,"Author","Eva Weisbrod Geertz",null,null,null,null,"Z",null,"Grade 8","Grade 7 - 12","F. Scott Fitzgerald’s books may reflect the glitz and glamour of the 1920s, but was his life anything like that of his characters? Through direct quotations and intriguing biographical information, this text helps readers understand how the era in which Fitzgerald wrote influenced his writing. Excerpts from original works and critical analysis of his themes, style, and word choice allow readers to immerse themselves in his world.","English",39.93,29.95,"813'.52--dc23[B]","160 pp.",{"$f":"Table1[[#This Row],[QTY]]*Table1[[#This Row],['# of Books]]","v":0},{"$f":"Table1[[#This Row],[QTY]]*Table1[[#This Row],[School & Library Price]]","v":0}]
[null,null,null,71,"Lit Crit Guides","Reading and Interpreting the Works of George Orwell",1,"Library Bound Book","978-0-7660-8354-7",2017,"January 2017","6.000 X 9.000","Author","Audrey Borus",null,null,null,null,"Z",null,"Grade 6","Grade 7 - 12","As a young man, Eric Blair, better known as George Orwell, traveled to Spain to fight in that country’s civil war. Although he was a British citizen, he felt the need to fight for the rights of the oppressed in that country. As the writer of the classics Animal Farm and Nineteen Eighty-Four, Orwell used his pen to comment on power and corruption in government and how they affect society. This text takes an in-depth look at Orwell’s novels and essays in the context of his own fascinating life and times. It analyzes his style, themes, and use of language, while also asking readers to consider how this prescient author and his works are still relevant in today’s world.","English",39.93,29.95,"828/.91209--dc23","176 pp.",{"$f":"Table1[[#This Row],[QTY]]*Table1[[#This Row],['# of Books]]","v":0},{"$f":"Table1[[#This Row],[QTY]]*Table1[[#This Row],[School & Library Price]]","v":0}]
[null,null,null,71,"Lit Crit Guides","Reading and Interpreting the Works of George Orwell",1,"eBook","978-0-7660-8355-4",2017,"January 2017",null,"Author","Audrey Borus",null,null,null,null,"Z",null,"Grade 6","Grade 7 - 12","As a young man, Eric Blair, better known as George Orwell, traveled to Spain to fight in that country’s civil war. Although he was a British citizen, he felt the need to fight for the rights of the oppressed in that country. As the writer of the classics Animal Farm and Nineteen Eighty-Four, Orwell used his pen to comment on power and corruption in government and how they affect society. This text takes an in-depth look at Orwell’s novels and essays in the context of his own fascinating life and times. It analyzes his style, themes, and use of language, while also asking readers to consider how this prescient author and his works are still relevant in today’s world.","English",39.93,29.95,"828/.91209--dc23","176 pp.",{"$f":"Table1[[#This Row],[QTY]]*Table1[[#This Row],['# of Books]]","v":0},{"$f":"Table1[[#This Row],[QTY]]*Table1[[#This Row],[School & Library Price]]","v":0}]
[null,null,null,71,"Lit Crit Guides","Reading and Interpreting the Works of Harper Lee",1,"Library Bound Book","978-0-7660-7914-4",2017,"August 2016","6.000 X 9.000","Author","Elizabeth Schmermund",null,null,null,null,"Z",null,"Grade 6","Grade 7 - 12","For most of her life, Harper Lee was (reluctantly) famous for her classic novel To Kill a Mockingbird. Lee's newest book, Go Set a Watchman, caused quite a media frenzy even before its publication. This text examines how Lee’s Southern background (she was a descendant of General Robert E. Lee) and racial tensions in the Deep South during that time came together to influence the plot, characters, and themes of To Kill a Mockingbird. This volume also explores the history of Go Set a Watchman and the controversy surrounding it, comparing its themes and structure with Lee's beloved classic. Copious excerpts from the two works along with critical analysis help students interpret and understand the writings of this Pulitzer Prize-winning author.","English",39.93,29.95,"813/.54--dc23","176 pp.",{"$f":"Table1[[#This Row],[QTY]]*Table1[[#This Row],['# of Books]]","v":0},{"$f":"Table1[[#This Row],[QTY]]*Table1[[#This Row],[School & Library Price]]","v":0}]
[null,null,null,71,"Lit Crit Guides","Reading and Interpreting the Works of Harper Lee",1,"eBook","978-0-7660-7908-3",2017,"August 2016",null,"Author","Elizabeth Schmermund",null,null,null,null,"Z",null,"Grade 6","Grade 7 - 12","For most of her life, Harper Lee was (reluctantly) famous for her classic novel To Kill a Mockingbird. Lee's newest book, Go Set a Watchman, caused quite a media frenzy even before its publication. This text examines how Lee’s Southern background (she was a descendant of General Robert E. Lee) and racial tensions in the Deep South during that time came together to influence the plot, characters, and themes of To Kill a Mockingbird. This volume also explores the history of Go Set a Watchman and the controversy surrounding it, comparing its themes and structure with Lee's beloved classic. Copious excerpts from the two works along with critical analysis help students interpret and understand the writings of this Pulitzer Prize-winning author.","English",39.93,29.95,"813/.54--dc23","176 pp.",{"$f":"Table1[[#This Row],[QTY]]*Table1[[#This Row],['# of Books]]","v":0},{"$f":"Table1[[#This Row],[QTY]]*Table1[[#This Row],[School & Library Price]]","v":0}]
[null,null,null,71,"Lit Crit Guides","Reading and Interpreting the Works of J.R.R. Tolkien",1,"Library Bound Book","978-0-7660-8362-2",2017,"January 2017","6.000 X 9.000","Author","Greg Clinton",null,null,null,null,"Z",null,"Grade 6","Grade 7 - 12","The world of J.R.R. Tolkien is one that is inhabited by hobbits, dwarves, elves, wizards, and dragons. As a young man, Tolkien created his very own language, and from there he went on to imagine an entire magical world and its detailed history. Students will take an in-depth and thought-provoking look at The Hobbit and The Lord of the Rings, as well as The Simarillion, which provides the foundation for his classic works. The text includes an insightful analysis of the major themes and characters of the works that continue to fascinate new generations of readers.","English",39.93,29.95,"828/.91209--dc23","176 pp.",{"$f":"Table1[[#This Row],[QTY]]*Table1[[#This Row],['# of Books]]","v":0},{"$f":"Table1[[#This Row],[QTY]]*Table1[[#This Row],[School & Library Price]]","v":0}]
[null,null,null,71,"Lit Crit Guides","Reading and Interpreting the Works of J.R.R. Tolkien",1,"eBook","978-0-7660-8363-9",2017,"January 2017",null,"Author","Greg Clinton",null,null,null,null,"Z",null,"Grade 6","Grade 7 - 12","The world of J.R.R. Tolkien is one that is inhabited by hobbits, dwarves, elves, wizards, and dragons. As a young man, Tolkien created his very own language, and from there he went on to imagine an entire magical world and its detailed history. Students will take an in-depth and thought-provoking look at The Hobbit and The Lord of the Rings, as well as The Simarillion, which provides the foundation for his classic works. The text includes an insightful analysis of the major themes and characters of the works that continue to fascinate new generations of readers.","English",39.93,29.95,"828/.91209--dc23","176 pp.",{"$f":"Table1[[#This Row],[QTY]]*Table1[[#This Row],['# of Books]]","v":0},{"$f":"Table1[[#This Row],[QTY]]*Table1[[#This Row],[School & Library Price]]","v":0}]
[null,null,null,71,"Lit Crit Guides","Reading and Interpreting the Works of Jane Austen",1,"Library Bound Book","978-0-7660-7911-3",2017,"August 2016","6.000 X 9.000","Author","Connie Ann Kirk Ph.D.",null,null,null,null,"Z",null,"Grade 6","Grade 7 - 12","Jane Austen is one of the most beloved novelists of all time, yet despite her ever-growing popularity, there still remains a certain mystique about the woman herself. In this text, readers will get to know the novelist and her works in the context of Regency England society as well as the author’s more intimate circle of family and friends. Students will come to a greater understanding of Austen’s innovative writing style and universal themes through excerpts from the novels, critical analysis, and quotes from Austen herself. The text also explores the recent explosion of Austen-inspired books and films, and, of course, “Janeites”—all evidence that Austen and her novels continue to transcend time and connect with the newest generation of readers.","English",39.93,29.95,"823/.7--dc23","176 pp.",{"$f":"Table1[[#This Row],[QTY]]*Table1[[#This Row],['# of Books]]","v":0},{"$f":"Table1[[#This Row],[QTY]]*Table1[[#This Row],[School & Library Price]]","v":0}]
[null,null,null,71,"Lit Crit Guides","Reading and Interpreting the Works of Jane Austen",1,"eBook","978-0-7660-7905-2",2017,"August 2016",null,"Author","Connie Ann Kirk Ph.D.",null,null,null,null,"Z",null,"Grade 6","Grade 7 - 12","Jane Austen is one of the most beloved novelists of all time, yet despite her ever-growing popularity, there still remains a certain mystique about the woman herself. In this text, readers will get to know the novelist and her works in the context of Regency England society as well as the author’s more intimate circle of family and friends. Students will come to a greater understanding of Austen’s innovative writing style and universal themes through excerpts from the novels, critical analysis, and quotes from Austen herself. The text also explores the recent explosion of Austen-inspired books and films, and, of course, “Janeites”—all evidence that Austen and her novels continue to transcend time and connect with the newest generation of readers.","English",39.93,29.95,"823/.7--dc23","176 pp.",{"$f":"Table1[[#This Row],[QTY]]*Table1[[#This Row],['# of Books]]","v":0},{"$f":"Table1[[#This Row],[QTY]]*Table1[[#This Row],[School & Library Price]]","v":0}]
[null,null,null,71,"Lit Crit Guides","Reading and Interpreting the Works of Jhumpa Lahiri",1,"Library Bound Book","978-0-7660-8364-6",2017,"January 2017","6.000 X 9.000","Author","Greg Clinton",null,null,null,null,"Z",null,"Grade 6","Grade 7 - 12","Jhumpa Lahiri understands what it means to be caught between two cultures. Born in London to Indian immigrants, she has spent most of her life in the United States but still struggles to feel “American.” This is the challenge facing many new Indian Americans, and it is the focal point of Lahiri’s novels and stories, which examine various aspects of the culture clashes that come from being a newcomer in a foreign land. This insightful guide takes readers through Lahiri’s main works, giving in-depth analysis along with biographical and historical context, and providing insight into the compelling works of this critically acclaimed author.","English",39.93,29.95,"813.54—dc23","176 pp.",{"$f":"Table1[[#This Row],[QTY]]*Table1[[#This Row],['# of Books]]","v":0},{"$f":"Table1[[#This Row],[QTY]]*Table1[[#This Row],[School & Library Price]]","v":0}]
[null,null,null,71,"Lit Crit Guides","Reading and Interpreting the Works of Jhumpa Lahiri",1,"eBook","978-0-7660-8365-3",2017,"January 2017",null,"Author","Greg Clinton",null,null,null,null,"Z",null,"Grade 6","Grade 7 - 12","Jhumpa Lahiri understands what it means to be caught between two cultures. Born in London to Indian immigrants, she has spent most of her life in the United States but still struggles to feel “American.” This is the challenge facing many new Indian Americans, and it is the focal point of Lahiri’s novels and stories, which examine various aspects of the culture clashes that come from being a newcomer in a foreign land. This insightful guide takes readers through Lahiri’s main works, giving in-depth analysis along with biographical and historical context, and providing insight into the compelling works of this critically acclaimed author.","English",39.93,29.95,"813.54—dc23","176 pp.",{"$f":"Table1[[#This Row],[QTY]]*Table1[[#This Row],['# of Books]]","v":0},{"$f":"Table1[[#This Row],[QTY]]*Table1[[#This Row],[School & Library Price]]","v":0}]
[null,null,null,71,"Lit Crit Guides","Reading and Interpreting the Works of John Steinbeck",1,"Library Bound Book","978-0-7660-7348-7",2016,"January 2016","6.000 X 9.000","Author","Gerald Newman",null,null,null,null,"Z",null,"Grade 8","Grade 7 - 12","To appreciate and understand John Steinbeck’s stories, students must comprehend what it was like to live during the Great Depression, and they must understand the working man to whom Steinbeck was attempting to appeal. Through direct quotations; biographical details; and in-depth discussions of his style, themes, and form, this text will allow readers to ponder and interpret Steinbeck’s works.","English",39.93,29.95,"813'.52--dc23[B]","176 pp.",{"$f":"Table1[[#This Row],[QTY]]*Table1[[#This Row],['# of Books]]","v":0},{"$f":"Table1[[#This Row],[QTY]]*Table1[[#This Row],[School & Library Price]]","v":0}]
[null,null,null,71,"Lit Crit Guides","Reading and Interpreting the Works of John Steinbeck",1,"eBook","978-0-7660-7349-4",2016,"January 2016",null,"Author","Gerald Newman",null,null,null,null,"Z",null,"Grade 8","Grade 7 - 12","To appreciate and understand John Steinbeck’s stories, students must comprehend what it was like to live during the Great Depression, and they must understand the working man to whom Steinbeck was attempting to appeal. Through direct quotations; biographical details; and in-depth discussions of his style, themes, and form, this text will allow readers to ponder and interpret Steinbeck’s works.","English",39.93,29.95,"813'.52--dc23[B]","176 pp.",{"$f":"Table1[[#This Row],[QTY]]*Table1[[#This Row],['# of Books]]","v":0},{"$f":"Table1[[#This Row],[QTY]]*Table1[[#This Row],[School & Library Price]]","v":0}]
[null,null,null,71,"Lit Crit Guides","Reading and Interpreting the Works of Robert Frost",1,"Library Bound Book","978-0-7660-7350-0",2016,"January 2016","6.000 X 9.000","Author","Connie Ann Kirk Ph.D.",null,null,null,null,"Z",null,"Grade 8","Grade 7 - 12","Although Frost’s words may be well-known to most students, the life that inspired his work may not be. By discussing the time in which Frost lived; the events of his life; and an analysis of his themes, style, and language, this text introduces readers to the world of Robert Frost and shows them what made him an American poetry legend.","English",39.93,29.95,"811'.52--dc23[B]","176 pp.",{"$f":"Table1[[#This Row],[QTY]]*Table1[[#This Row],['# of Books]]","v":0},{"$f":"Table1[[#This Row],[QTY]]*Table1[[#This Row],[School & Library Price]]","v":0}]
[null,null,null,71,"Lit Crit Guides","Reading and Interpreting the Works of Robert Frost",1,"eBook","978-0-7660-7351-7",2016,"January 2016",null,"Author","Connie Ann Kirk Ph.D.",null,null,null,null,"Z",null,"Grade 8","Grade 7 - 12","Although Frost’s words may be well-known to most students, the life that inspired his work may not be. By discussing the time in which Frost lived; the events of his life; and an analysis of his themes, style, and language, this text introduces readers to the world of Robert Frost and shows them what made him an American poetry legend.","English",39.93,29.95,"811'.52--dc23[B]","176 pp.",{"$f":"Table1[[#This Row],[QTY]]*Table1[[#This Row],['# of Books]]","v":0},{"$f":"Table1[[#This Row],[QTY]]*Table1[[#This Row],[School & Library Price]]","v":0}]
[null,null,null,71,"Lit Crit Guides","Reading and Interpreting the Works of T.S. Eliot",1,"Library Bound Book","978-0-7660-8356-1",2017,"January 2017","6.000 X 9.000","Author","Naomi Pasachoff",null,null,null,null,"Z",null,"Grade 6","Grade 7 - 12","Students often approach the complex poetry of T. S. Eliot with some degree of trepidation, but as this comprehensive text demonstrates, that need not be the case. With its thoughtful analysis and engaging writing style, this guide provides readers with the tools they need to approach Eliot’s works with confidence, while at the same time encouraging them to draw their own meaning from the words and sounds of the poetry. The text also explores Eliot’s life beyond his poems, including his extensive work as an essayist, editor, and critic. Given this context, readers will establish a deeper understanding of the poet as well as his work.","English",39.93,29.95,"821’.912—dc23","176 pp.",{"$f":"Table1[[#This Row],[QTY]]*Table1[[#This Row],['# of Books]]","v":0},{"$f":"Table1[[#This Row],[QTY]]*Table1[[#This Row],[School & Library Price]]","v":0}]
[null,null,null,71,"Lit Crit Guides","Reading and Interpreting the Works of T.S. Eliot",1,"eBook","978-0-7660-8357-8",2017,"January 2017",null,"Author","Naomi Pasachoff",null,null,null,null,"Z",null,"Grade 6","Grade 7 - 12","Students often approach the complex poetry of T. S. Eliot with some degree of trepidation, but as this comprehensive text demonstrates, that need not be the case. With its thoughtful analysis and engaging writing style, this guide provides readers with the tools they need to approach Eliot’s works with confidence, while at the same time encouraging them to draw their own meaning from the words and sounds of the poetry. The text also explores Eliot’s life beyond his poems, including his extensive work as an essayist, editor, and critic. Given this context, readers will establish a deeper understanding of the poet as well as his work.","English",39.93,29.95,"821’.912—dc23","176 pp.",{"$f":"Table1[[#This Row],[QTY]]*Table1[[#This Row],['# of Books]]","v":0},{"$f":"Table1[[#This Row],[QTY]]*Table1[[#This Row],[School & Library Price]]","v":0}]
[null,null,null,71,"Lit Crit Guides","Reading and Interpreting the Works of Tennessee Williams",1,"Library Bound Book","978-0-7660-8346-2",2017,"January 2017","6.000 X 9.000","Author","Spring Hermann",null,null,null,null,"Z",null,"Grade 6","Grade 7 - 12","As a child growing up in the Deep South, Tom “Tennessee” Williams escaped from his tumultuous home life by retreating into his imagination. His love for made-up stories would eventually translate into a propensity for writing drama and poetry. This compelling text places the playwright’s work in the context of his life and times, allowing readers to gain a greater understanding of the two-time Pulitzer Prize winner. Featuring quotes, excerpts, and in-depth critical analysis of his most famous plays as well as his lesser-known works, the text provides an in-depth look at this hard-working, prolific playwright considered by many to be among the greatest of his time.","English",39.93,29.95,"812/.54dc23","176 pp.",{"$f":"Table1[[#This Row],[QTY]]*Table1[[#This Row],['# of Books]]","v":0},{"$f":"Table1[[#This Row],[QTY]]*Table1[[#This Row],[School & Library Price]]","v":0}]
[null,null,null,71,"Lit Crit Guides","Reading and Interpreting the Works of Tennessee Williams",1,"eBook","978-0-7660-8358-5",2017,"January 2017",null,"Author","Spring Hermann",null,null,null,null,"Z",null,"Grade 6","Grade 7 - 12","As a child growing up in the Deep South, Tom “Tennessee” Williams escaped from his tumultuous home life by retreating into his imagination. His love for made-up stories would eventually translate into a propensity for writing drama and poetry. This compelling text places the playwright’s work in the context of his life and times, allowing readers to gain a greater understanding of the two-time Pulitzer Prize winner. Featuring quotes, excerpts, and in-depth critical analysis of his most famous plays as well as his lesser-known works, the text provides an in-depth look at this hard-working, prolific playwright considered by many to be among the greatest of his time.","English",39.93,29.95,"812/.54dc23","176 pp.",{"$f":"Table1[[#This Row],[QTY]]*Table1[[#This Row],['# of Books]]","v":0},{"$f":"Table1[[#This Row],[QTY]]*Table1[[#This Row],[School & Library Price]]","v":0}]
[null,null,null,71,"Lit Crit Guides","Reading and Interpreting the Works of Toni Morrison",1,"Library Bound Book","978-0-7660-7352-4",2016,"January 2016","6.000 X 9.000","Author","Lisa A. Crayton",null,null,null,null,"Z",null,"Grade 8","Grade 7 - 12","Toni Morrison has received the Nobel Prize for Literature, the Pulitzer Prize, and many other awards. But in order to fully appreciate what this amazing author has accomplished, students must know where she came from, the era in which she grew up, and how these details influenced the major themes, style, and language of her writing. Through critical analysis, excerpts, and direct quotations from Morrison herself, this text will allow readers to gain a deeper understanding of her work.","English",39.93,29.95,"813'.54--dc23[B]","152 pp.",{"$f":"Table1[[#This Row],[QTY]]*Table1[[#This Row],['# of Books]]","v":0},{"$f":"Table1[[#This Row],[QTY]]*Table1[[#This Row],[School & Library Price]]","v":0}]
[null,null,null,71,"Lit Crit Guides","Reading and Interpreting the Works of Toni Morrison",1,"eBook","978-0-7660-7353-1",2016,"January 2016",null,"Author","Lisa A. Crayton",null,null,null,null,"Z",null,"Grade 8","Grade 7 - 12","Toni Morrison has received the Nobel Prize for Literature, the Pulitzer Prize, and many other awards. But in order to fully appreciate what this amazing author has accomplished, students must know where she came from, the era in which she grew up, and how these details influenced the major themes, style, and language of her writing. Through critical analysis, excerpts, and direct quotations from Morrison herself, this text will allow readers to gain a deeper understanding of her work.","English",39.93,29.95,"813'.54--dc23[B]","152 pp.",{"$f":"Table1[[#This Row],[QTY]]*Table1[[#This Row],['# of Books]]","v":0},{"$f":"Table1[[#This Row],[QTY]]*Table1[[#This Row],[School & Library Price]]","v":0}]
[null,null,null,71,"Lit Crit Guides","Reading and Interpreting the Works of William Faulkner",1,"Library Bound Book","978-0-7660-7354-8",2016,"January 2016","6.000 X 9.000","Author","Debra Mcarthur",null,null,null,null,"Z",null,"Grade 8","Grade 7 - 12","Living in the southern United States during the civil rights movement, William Faulkner’s work is fraught with depictions of life in the changing South. Through the interpretation of key details of his life, as well as direct quotations and analysis of his word choice and themes, readers will learn how to examine and comprehend Faulkner’s writing for themselves.","English",39.93,29.95,"813'.52--dc23[B]","160 pp.",{"$f":"Table1[[#This Row],[QTY]]*Table1[[#This Row],['# of Books]]","v":0},{"$f":"Table1[[#This Row],[QTY]]*Table1[[#This Row],[School & Library Price]]","v":0}]
[null,null,null,71,"Lit Crit Guides","Reading and Interpreting the Works of William Faulkner",1,"eBook","978-0-7660-7355-5",2016,"January 2016",null,"Author","Debra Mcarthur",null,null,null,null,"Z",null,"Grade 8","Grade 7 - 12","Living in the southern United States during the civil rights movement, William Faulkner’s work is fraught with depictions of life in the changing South. Through the interpretation of key details of his life, as well as direct quotations and analysis of his word choice and themes, readers will learn how to examine and comprehend Faulkner’s writing for themselves.","English",39.93,29.95,"813'.52--dc23[B]","160 pp.",{"$f":"Table1[[#This Row],[QTY]]*Table1[[#This Row],['# of Books]]","v":0},{"$f":"Table1[[#This Row],[QTY]]*Table1[[#This Row],[School & Library Price]]","v":0}]
[null,null,null,71,"Lit Crit Guides","Reading and Interpreting the Works of William Shakespeare",1,"Library Bound Book","978-0-7660-7912-0",2017,"August 2016","6.000 X 9.000","Author","Walt Mittelstaedt",null,null,null,null,"Z",null,"Grade 6","Grade 7 - 12","The subject of William Shakespeare, considered by many to be the greatest writer in the English language, is often approached with trepidation by students encountering one of his plays for the first time. This text explains Shakespeare’s works by putting them into the context of the Elizabethan times in which he lived. Characters, themes, and literary devices are defined and examined as students are exposed to close readings of the histories, tragedies, comedies, and verse. The text includes examples from every type of work as well as ample critical analysis that serves to illuminate the life and work of this peerless dramatist and poet.","English",39.93,29.95,"822.3/3--dc23","176 pp.",{"$f":"Table1[[#This Row],[QTY]]*Table1[[#This Row],['# of Books]]","v":0},{"$f":"Table1[[#This Row],[QTY]]*Table1[[#This Row],[School & Library Price]]","v":0}]
[null,null,null,71,"Lit Crit Guides","Reading and Interpreting the Works of William Shakespeare",1,"eBook","978-0-7660-7906-9",2017,"August 2016",null,"Author","Walt Mittelstaedt",null,null,null,null,"Z",null,"Grade 6","Grade 7 - 12","The subject of William Shakespeare, considered by many to be the greatest writer in the English language, is often approached with trepidation by students encountering one of his plays for the first time. This text explains Shakespeare’s works by putting them into the context of the Elizabethan times in which he lived. Characters, themes, and literary devices are defined and examined as students are exposed to close readings of the histories, tragedies, comedies, and verse. The text includes examples from every type of work as well as ample critical analysis that serves to illuminate the life and work of this peerless dramatist and poet.","English",39.93,29.95,"822.3/3--dc23","176 pp.",{"$f":"Table1[[#This Row],[QTY]]*Table1[[#This Row],['# of Books]]","v":0},{"$f":"Table1[[#This Row],[QTY]]*Table1[[#This Row],[School & Library Price]]","v":0}]
[null,null,null,72,"The Amazing Human Body","The Amazing Human Body",6,"Library Set","978-0-7660-9032-3",2018,"August 2017","7.250 X 9.250",null,null,null,null,null,null,null,null,"Grade 6","Grade 5 - 8","The human body truly is amazing. This set takes readers on a tour of different body systems and processes. Fun but fact-filled text and full-color photos and diagrams bring the workings of our body into sharp focus, making this set a must-have addition to any collection on the human body.","English",167.58,125.7,null,"48 pp.",{"$f":"Table1[[#This Row],[QTY]]*Table1[[#This Row],['# of Books]]","v":0},{"$f":"Table1[[#This Row],[QTY]]*Table1[[#This Row],[School & Library Price]]","v":0}]
[null,null,null,72,"The Amazing Human Body","Growth and Aging",1,"Library Bound Book","978-0-7660-8983-9",2018,"August 2017","7.250 X 9.250","Edited by","Joanne Randolph",null,null,null,null,"O",null,"Grade 6","Grade 5 - 8","Our bodies are constantly growing and changing. Not only do our bodies grow taller, but even once we reach our ultimate height, the body still experiences growth on the inside. New cells grow, get old, and are replaced by new cells. Informative text coupled with clear diagrams and colorful imagery help readers understand the processes of growth and aging in the human body.","English",27.93,20.95,"612.6/7--dc23","48 pp.",{"$f":"Table1[[#This Row],[QTY]]*Table1[[#This Row],['# of Books]]","v":0},{"$f":"Table1[[#This Row],[QTY]]*Table1[[#This Row],[School & Library Price]]","v":0}]
[null,null,null,72,"The Amazing Human Body","Growth and Aging",1,"eBook","978-0-7660-8984-6",2018,"August 2017",null,"Edited by","Joanne Randolph",null,null,null,null,"O",null,"Grade 6","Grade 5 - 8","Our bodies are constantly growing and changing. Not only do our bodies grow taller, but even once we reach our ultimate height, the body still experiences growth on the inside. New cells grow, get old, and are replaced by new cells. Informative text coupled with clear diagrams and colorful imagery help readers understand the processes of growth and aging in the human body.","English",27.93,20.95,"612.6/7--dc23","48 pp.",{"$f":"Table1[[#This Row],[QTY]]*Table1[[#This Row],['# of Books]]","v":0},{"$f":"Table1[[#This Row],[QTY]]*Table1[[#This Row],[School & Library Price]]","v":0}]
[null,null,null,72,"The Amazing Human Body","Microbes: The Good, the Bad, and the Ugly",1,"Library Bound Book","978-0-7660-8999-0",2018,"August 2017","7.250 X 9.250","Edited by","Joanne Randolph",null,null,null,null,"P",null,"Grade 6","Grade 5 - 8","Microbes are the oldest living organisms on the planet. They have been around for billions of years. Why haven’t you seen them, then? Microbes are tiny, single-celled organisms—millions could fit in the eye of a needle. You might think of microbes as organisms that make us sick. This is true, but it is also true that we couldn’t live without them. Readers will be thrilled to learn more about the microscopic world of microbes and their impact on the human body.","English",27.93,20.95,"612--dc23","48 pp.",{"$f":"Table1[[#This Row],[QTY]]*Table1[[#This Row],['# of Books]]","v":0},{"$f":"Table1[[#This Row],[QTY]]*Table1[[#This Row],[School & Library Price]]","v":0}]
[null,null,null,72,"The Amazing Human Body","Microbes: The Good, the Bad, and the Ugly",1,"eBook","978-0-7660-9000-2",2018,"August 2017",null,"Edited by","Joanne Randolph",null,null,null,null,"P",null,"Grade 6","Grade 5 - 8","Microbes are the oldest living organisms on the planet. They have been around for billions of years. Why haven’t you seen them, then? Microbes are tiny, single-celled organisms—millions could fit in the eye of a needle. You might think of microbes as organisms that make us sick. This is true, but it is also true that we couldn’t live without them. Readers will be thrilled to learn more about the microscopic world of microbes and their impact on the human body.","English",27.93,20.95,"612--dc23","48 pp.",{"$f":"Table1[[#This Row],[QTY]]*Table1[[#This Row],['# of Books]]","v":0},{"$f":"Table1[[#This Row],[QTY]]*Table1[[#This Row],[School & Library Price]]","v":0}]
[null,null,null,72,"The Amazing Human Body","Pump It Up: The Heart and Blood",1,"Library Bound Book","978-0-7660-8987-7",2018,"August 2017","7.250 X 9.250","Edited by","Joanne Randolph",null,null,null,null,"O",null,"Grade 6","Grade 5 - 8","The heart is a vital organ in the human body. Diagrams and full-color photographs and illustrations, paired with accessible and informative text, showcase how the heart works and what its job is in the human body.","English",27.93,20.95,"612.1/1--dc23","48 pp.",{"$f":"Table1[[#This Row],[QTY]]*Table1[[#This Row],['# of Books]]","v":0},{"$f":"Table1[[#This Row],[QTY]]*Table1[[#This Row],[School & Library Price]]","v":0}]
[null,null,null,72,"The Amazing Human Body","Pump It Up: The Heart and Blood",1,"eBook","978-0-7660-8988-4",2018,"August 2017",null,"Edited by","Joanne Randolph",null,null,null,null,"O",null,"Grade 6","Grade 5 - 8","The heart is a vital organ in the human body. Diagrams and full-color photographs and illustrations, paired with accessible and informative text, showcase how the heart works and what its job is in the human body.","English",27.93,20.95,"612.1/1--dc23","48 pp.",{"$f":"Table1[[#This Row],[QTY]]*Table1[[#This Row],['# of Books]]","v":0},{"$f":"Table1[[#This Row],[QTY]]*Table1[[#This Row],[School & Library Price]]","v":0}]
[null,null,null,72,"The Amazing Human Body","Taste and Digestion",1,"Library Bound Book","978-0-7660-8991-4",2018,"August 2017","7.250 X 9.250","Edited by","Joanne Randolph",null,null,null,null,"O",null,"Grade 6","Grade 5 - 8","What’s your favorite food? Everyone has their own personal likes and dislikes when it comes to food. Explore the world of taste and digestion in this volume that follows food through the digestive system. Touching on proper nutrition as well as the functioning of this important body system, this title is relatable, readable, and dare we say it—highly digestible!","English",27.93,20.95,"612.8/7--dc23","48 pp.",{"$f":"Table1[[#This Row],[QTY]]*Table1[[#This Row],['# of Books]]","v":0},{"$f":"Table1[[#This Row],[QTY]]*Table1[[#This Row],[School & Library Price]]","v":0}]
[null,null,null,72,"The Amazing Human Body","Taste and Digestion",1,"eBook","978-0-7660-8992-1",2018,"August 2017",null,"Edited by","Joanne Randolph",null,null,null,null,"O",null,"Grade 6","Grade 5 - 8","What’s your favorite food? Everyone has their own personal likes and dislikes when it comes to food. Explore the world of taste and digestion in this volume that follows food through the digestive system. Touching on proper nutrition as well as the functioning of this important body system, this title is relatable, readable, and dare we say it—highly digestible!","English",27.93,20.95,"612.8/7--dc23","48 pp.",{"$f":"Table1[[#This Row],[QTY]]*Table1[[#This Row],['# of Books]]","v":0},{"$f":"Table1[[#This Row],[QTY]]*Table1[[#This Row],[School & Library Price]]","v":0}]
[null,null,null,72,"The Amazing Human Body","The Eyes Have It",1,"Library Bound Book","978-0-7660-8995-2",2018,"August 2017","7.250 X 9.250","Edited by","Joanne Randolph",null,null,null,null,"O",null,"Grade 6","Grade 5 - 8","Take a tour of the human eye in this engrossing volume. Colorful images and diagrams invite the reader to take a deeper look at the workings of the human eye. Follow along as we discover how light plays a role and how the eye and the brain work together to interpret the world around us.","English",27.93,20.95,"612.8/4--dc23","48 pp.",{"$f":"Table1[[#This Row],[QTY]]*Table1[[#This Row],['# of Books]]","v":0},{"$f":"Table1[[#This Row],[QTY]]*Table1[[#This Row],[School & Library Price]]","v":0}]
[null,null,null,72,"The Amazing Human Body","The Eyes Have It",1,"eBook","978-0-7660-8996-9",2018,"August 2017",null,"Edited by","Joanne Randolph",null,null,null,null,"O",null,"Grade 6","Grade 5 - 8","Take a tour of the human eye in this engrossing volume. Colorful images and diagrams invite the reader to take a deeper look at the workings of the human eye. Follow along as we discover how light plays a role and how the eye and the brain work together to interpret the world around us.","English",27.93,20.95,"612.8/4--dc23","48 pp.",{"$f":"Table1[[#This Row],[QTY]]*Table1[[#This Row],['# of Books]]","v":0},{"$f":"Table1[[#This Row],[QTY]]*Table1[[#This Row],[School & Library Price]]","v":0}]
[null,null,null,72,"The Amazing Human Body","Understanding the Brain",1,"Library Bound Book","978-0-7660-9003-3",2018,"August 2017","7.250 X 9.250","Edited by","Joanne Randolph",null,null,null,null,"P",null,"Grade 6","Grade 5 - 8","Of all the parts of the human body, the brain is perhaps the most amazing. This complex organ runs the show when it comes to our bodies. It is the command center that keeps the body’s voluntary and involuntary systems working as they should. Readers will find out how the brain works, the many different jobs it does, and more in this photo-illustrated and engaging text.","English",27.93,20.95,"612.8/2--dc23","48 pp.",{"$f":"Table1[[#This Row],[QTY]]*Table1[[#This Row],['# of Books]]","v":0},{"$f":"Table1[[#This Row],[QTY]]*Table1[[#This Row],[School & Library Price]]","v":0}]
[null,null,null,72,"The Amazing Human Body","Understanding the Brain",1,"eBook","978-0-7660-9004-0",2018,"August 2017",null,"Edited by","Joanne Randolph",null,null,null,null,"P",null,"Grade 6","Grade 5 - 8","Of all the parts of the human body, the brain is perhaps the most amazing. This complex organ runs the show when it comes to our bodies. It is the command center that keeps the body’s voluntary and involuntary systems working as they should. Readers will find out how the brain works, the many different jobs it does, and more in this photo-illustrated and engaging text.","English",27.93,20.95,"612.8/2--dc23","48 pp.",{"$f":"Table1[[#This Row],[QTY]]*Table1[[#This Row],['# of Books]]","v":0},{"$f":"Table1[[#This Row],[QTY]]*Table1[[#This Row],[School & Library Price]]","v":0}]
[null,null,null,73,"Science Whiz Experiments","Science Whiz Experiments",6,"Library Set","978-0-7660-8597-8",2018,"August 2017","6.500 X 9.250",null,null,null,null,null,null,null,null,"Grade 5","Grade 5 - 8","These easy and fun science experiments use easy-to-obtain household materials and are excellent starting points for students to devise their own science fair projects. Readers are guided through applying the scientific method to conduct rigorous experiments in the physical and life sciences, including chemistry, physics, biology, and meteorology. Through clear instructions and scientific illustrations, these books support the Next Generation Science Standards by demonstrating step-by-step experimental methodology and encouraging students to make connections through crosscutting concepts to help them gain a better understanding of the basic concepts found in each scientific topic.","English",223.62,167.7,null,"128 pp.",{"$f":"Table1[[#This Row],[QTY]]*Table1[[#This Row],['# of Books]]","v":0},{"$f":"Table1[[#This Row],[QTY]]*Table1[[#This Row],[School & Library Price]]","v":0}]
[null,null,null,73,"Science Whiz Experiments","Experiments with Chemistry",1,"Library Bound Book","978-0-7660-8676-0",2018,"August 2017","6.500 X 9.250","Author","Robert Gardner",null,null,null,null,"V",null,"Grade 5","Grade 5 - 8","These easy and fun chemistry experiments use easy-to-obtain household materials and are excellent starting points for students to devise their own science fair projects. Readers are guided through applying the scientific method to conduct experiments, such as examining Brownian motion of smoke particles, building an electric cell, and separating substances in a solution. Through clear instructions and scientific illustrations, students will gain a better understanding of the basic concepts demonstrated by each experiment. This book also contains safety tips to educate students on the code of conduct expected when conducting experiments, an appendix listing science supply companies, a glossary, further reading with books and websites, and an index.","English",37.270000000000003,27.95,"540.78--dc23","128 pp.",{"$f":"Table1[[#This Row],[QTY]]*Table1[[#This Row],['# of Books]]","v":0},{"$f":"Table1[[#This Row],[QTY]]*Table1[[#This Row],[School & Library Price]]","v":0}]
[null,null,null,73,"Science Whiz Experiments","Experiments with Chemistry",1,"eBook","978-0-7660-8677-7",2018,"August 2017",null,"Author","Robert Gardner",null,null,null,null,"V",null,"Grade 5","Grade 5 - 8","These easy and fun chemistry experiments use easy-to-obtain household materials and are excellent starting points for students to devise their own science fair projects. Readers are guided through applying the scientific method to conduct experiments, such as examining Brownian motion of smoke particles, building an electric cell, and separating substances in a solution. Through clear instructions and scientific illustrations, students will gain a better understanding of the basic concepts demonstrated by each experiment. This book also contains safety tips to educate students on the code of conduct expected when conducting experiments, an appendix listing science supply companies, a glossary, further reading with books and websites, and an index.","English",37.270000000000003,27.95,"540.78--dc23","128 pp.",{"$f":"Table1[[#This Row],[QTY]]*Table1[[#This Row],['# of Books]]","v":0},{"$f":"Table1[[#This Row],[QTY]]*Table1[[#This Row],[School & Library Price]]","v":0}]
[null,null,null,73,"Science Whiz Experiments","Experiments with Electricity and Magnetism",1,"Library Bound Book","978-0-7660-8678-4",2018,"August 2017","6.500 X 9.250","Author","Robert Gardner",null,null,null,null,"V",null,"Grade 5","Grade 5 - 8","Through clear instructions and scientific illustrations, students can conduct easy yet engaging experiments to examine the principles of electricity and magnetism. Using easy-to-obtain household materials, readers will make a battery from electric cells, test objects to see if they are conductors or insulators, and build a simple electric motor. Readers are guided through applying the scientific method to gain a better understanding of the basic concepts demonstrated by each experiment. Safety tips educate students on the code of conduct expected when conducting experiments.","English",37.270000000000003,27.95,"537.078--dc23","128 pp.",{"$f":"Table1[[#This Row],[QTY]]*Table1[[#This Row],['# of Books]]","v":0},{"$f":"Table1[[#This Row],[QTY]]*Table1[[#This Row],[School & Library Price]]","v":0}]
[null,null,null,73,"Science Whiz Experiments","Experiments with Electricity and Magnetism",1,"eBook","978-0-7660-8679-1",2018,"August 2017",null,"Author","Robert Gardner",null,null,null,null,"V",null,"Grade 5","Grade 5 - 8","Through clear instructions and scientific illustrations, students can conduct easy yet engaging experiments to examine the principles of electricity and magnetism. Using easy-to-obtain household materials, readers will make a battery from electric cells, test objects to see if they are conductors or insulators, and build a simple electric motor. Readers are guided through applying the scientific method to gain a better understanding of the basic concepts demonstrated by each experiment. Safety tips educate students on the code of conduct expected when conducting experiments.","English",37.270000000000003,27.95,"537.078--dc23","128 pp.",{"$f":"Table1[[#This Row],[QTY]]*Table1[[#This Row],['# of Books]]","v":0},{"$f":"Table1[[#This Row],[QTY]]*Table1[[#This Row],[School & Library Price]]","v":0}]
[null,null,null,73,"Science Whiz Experiments","Experiments with Light",1,"Library Bound Book","978-0-7660-8680-7",2018,"August 2017","6.500 X 9.250","Author","Robert Gardner",null,null,null,null,"T",null,"Grade 5","Grade 5 - 8","By doing the simple science projects in this book, young scientists will discover how distance affects images made by a convex lens, observe a wave model of polarized light, and explore the science behind mirages. The experiments use materials found at home or at school. Readers can take what they have learned from these experiments and use suggestions to create their own unique science fair projects. An explanation of the scientific method, safety tips, scientific illustrations, an appendix with science supply companies, a glossary, further reading with books and websites, and an index complete this title.","English",37.270000000000003,27.95,"535.078--dc23","128 pp.",{"$f":"Table1[[#This Row],[QTY]]*Table1[[#This Row],['# of Books]]","v":0},{"$f":"Table1[[#This Row],[QTY]]*Table1[[#This Row],[School & Library Price]]","v":0}]
[null,null,null,73,"Science Whiz Experiments","Experiments with Light",1,"eBook","978-0-7660-8681-4",2018,"August 2017",null,"Author","Robert Gardner",null,null,null,null,"T",null,"Grade 5","Grade 5 - 8","By doing the simple science projects in this book, young scientists will discover how distance affects images made by a convex lens, observe a wave model of polarized light, and explore the science behind mirages. The experiments use materials found at home or at school. Readers can take what they have learned from these experiments and use suggestions to create their own unique science fair projects. An explanation of the scientific method, safety tips, scientific illustrations, an appendix with science supply companies, a glossary, further reading with books and websites, and an index complete this title.","English",37.270000000000003,27.95,"535.078--dc23","128 pp.",{"$f":"Table1[[#This Row],[QTY]]*Table1[[#This Row],['# of Books]]","v":0},{"$f":"Table1[[#This Row],[QTY]]*Table1[[#This Row],[School & Library Price]]","v":0}]
[null,null,null,73,"Science Whiz Experiments","Experiments with Temperature and Heat",1,"Library Bound Book","978-0-7660-8682-1",2018,"August 2017","6.500 X 9.250","Author, Author","Robert Gardner, Eric Kemer",null,null,null,null,"T",null,"Grade 5","Grade 5 - 8","Using materials they can find in their home, students can learn the science behind temperature and heat by performing experiments that demonstrate the conduction of heat in solids, thermal conductivity of liquids and gases, the relationship between temperature and color, and other scientific principles. Engaging color illustrations accompany every experiment, an explanation of the scientific method guides students, and safety tips educate students on the code of conduct expected when conducting experiments. An appendix with science supply companies, a glossary, further reading with books and websites, and an index are also included.","English",37.270000000000003,27.95,"536.078--dc23","128 pp.",{"$f":"Table1[[#This Row],[QTY]]*Table1[[#This Row],['# of Books]]","v":0},{"$f":"Table1[[#This Row],[QTY]]*Table1[[#This Row],[School & Library Price]]","v":0}]
[null,null,null,73,"Science Whiz Experiments","Experiments with Temperature and Heat",1,"eBook","978-0-7660-8683-8",2018,"August 2017",null,"Author, Author","Robert Gardner, Eric Kemer",null,null,null,null,"T",null,"Grade 5","Grade 5 - 8","Using materials they can find in their home, students can learn the science behind temperature and heat by performing experiments that demonstrate the conduction of heat in solids, thermal conductivity of liquids and gases, the relationship between temperature and color, and other scientific principles. Engaging color illustrations accompany every experiment, an explanation of the scientific method guides students, and safety tips educate students on the code of conduct expected when conducting experiments. An appendix with science supply companies, a glossary, further reading with books and websites, and an index are also included.","English",37.270000000000003,27.95,"536.078--dc23","128 pp.",{"$f":"Table1[[#This Row],[QTY]]*Table1[[#This Row],['# of Books]]","v":0},{"$f":"Table1[[#This Row],[QTY]]*Table1[[#This Row],[School & Library Price]]","v":0}]
[null,null,null,73,"Science Whiz Experiments","Experiments with the Human Body",1,"Library Bound Book","978-0-7660-8684-5",2018,"August 2017","6.500 X 9.250","Author","Robert Gardner",null,null,null,null,"T",null,"Grade 5","Grade 5 - 8","These simple and engaging biology experiments use easy-to-obtain household materials to explore the science behind the human body. Readers are guided through applying the scientific method to conduct experiments, which include observing the effect of body position and exercise on heart rate, breathing rate, and blood pressure; building a model of the human eye; and figuring out how food moves through the body. Clear instructions and scientific illustrations will allow students to gain a better understanding of the basic biological concepts demonstrated by each experiment. This book also contains safety tips to educate students on the code of conduct expected when conducting experiments.","English",37.270000000000003,27.95,"612--dc23","128 pp.",{"$f":"Table1[[#This Row],[QTY]]*Table1[[#This Row],['# of Books]]","v":0},{"$f":"Table1[[#This Row],[QTY]]*Table1[[#This Row],[School & Library Price]]","v":0}]
[null,null,null,73,"Science Whiz Experiments","Experiments with the Human Body",1,"eBook","978-0-7660-8685-2",2018,"August 2017",null,"Author","Robert Gardner",null,null,null,null,"T",null,"Grade 5","Grade 5 - 8","These simple and engaging biology experiments use easy-to-obtain household materials to explore the science behind the human body. Readers are guided through applying the scientific method to conduct experiments, which include observing the effect of body position and exercise on heart rate, breathing rate, and blood pressure; building a model of the human eye; and figuring out how food moves through the body. Clear instructions and scientific illustrations will allow students to gain a better understanding of the basic biological concepts demonstrated by each experiment. This book also contains safety tips to educate students on the code of conduct expected when conducting experiments.","English",37.270000000000003,27.95,"612--dc23","128 pp.",{"$f":"Table1[[#This Row],[QTY]]*Table1[[#This Row],['# of Books]]","v":0},{"$f":"Table1[[#This Row],[QTY]]*Table1[[#This Row],[School & Library Price]]","v":0}]
[null,null,null,73,"Science Whiz Experiments","Experiments with Weather",1,"Library Bound Book","978-0-7660-8686-9",2018,"August 2017","6.500 X 9.250","Author","Robert Gardner",null,null,null,null,"U",null,"Grade 5","Grade 5 - 8","Through clear instructions and scientific illustrations, students can conduct easy yet engaging experiments to examine the science behind weather. Using easy-to-obtain household materials, readers will discover how Torricelli’s barometer works, the terminal velocity of raindrops, and how density affects air masses in Earth’s atmosphere. Readers are guided through applying the scientific method to gain a better understanding of the basic concepts demonstrated by each experiment. Safety tips educate students on the code of conduct expected when conducting experiments. Also included are an appendix with science supply companies, a glossary, further reading with books and websites, and an index.","English",37.270000000000003,27.95,"551.5078--dc23","128 pp.",{"$f":"Table1[[#This Row],[QTY]]*Table1[[#This Row],['# of Books]]","v":0},{"$f":"Table1[[#This Row],[QTY]]*Table1[[#This Row],[School & Library Price]]","v":0}]
[null,null,null,73,"Science Whiz Experiments","Experiments with Weather",1,"eBook","978-0-7660-8687-6",2018,"August 2017",null,"Author","Robert Gardner",null,null,null,null,"U",null,"Grade 5","Grade 5 - 8","Through clear instructions and scientific illustrations, students can conduct easy yet engaging experiments to examine the science behind weather. Using easy-to-obtain household materials, readers will discover how Torricelli’s barometer works, the terminal velocity of raindrops, and how density affects air masses in Earth’s atmosphere. Readers are guided through applying the scientific method to gain a better understanding of the basic concepts demonstrated by each experiment. Safety tips educate students on the code of conduct expected when conducting experiments. Also included are an appendix with science supply companies, a glossary, further reading with books and websites, and an index.","English",37.270000000000003,27.95,"551.5078--dc23","128 pp.",{"$f":"Table1[[#This Row],[QTY]]*Table1[[#This Row],['# of Books]]","v":0},{"$f":"Table1[[#This Row],[QTY]]*Table1[[#This Row],[School & Library Price]]","v":0}]
[null,null,null,74,"Experiments for Future STEM Professionals (All 8 Titles)","Experiments for Future STEM Professionals (All 8 Titles)",8,"Library Set","978-0-7660-8471-1",2017,"January 2017","6.500 X 9.250",null,null,null,null,null,null,null,null,"Grade 6","Grade 6 - 12","Students interested in pursuing a STEM (Science, Technology, Engineering, and Math) career will engage in hands-on projects that reinforce the basic concepts found in each science discipline. Through the scientific method, readers are required to identify a problem, propose a solution, conduct an experiment to test the hypothesis, and then discuss the practical application of the solution. Furthermore, clear scientific drawings illustrate experimental setups, safety guidelines keep kids safe, and great ideas for science fair projects after many experiments encourage original scientific thinking.","English",298.16000000000003,223.6,null,"128 pp.",{"$f":"Table1[[#This Row],[QTY]]*Table1[[#This Row],['# of Books]]","v":0},{"$f":"Table1[[#This Row],[QTY]]*Table1[[#This Row],[School & Library Price]]","v":0}]
[null,null,null,74,"Experiments for Future STEM Professionals (NEW Set of 4 Titles)","Experiments for Future STEM Professionals (NEW Set of 4 Titles)",4,"Library Set","978-0-7660-8391-2",2017,"January 2017","6.500 X 9.250",null,null,null,null,null,null,null,null,"Grade 6","Grade 6 - 12","A must for any student interested in STEM (Science, Technology, Engineering, and Math), this series encourage students to pursue further education in these high-in-demand fields. Driven by the Next Generation Science Standards, these books emphasize the skills associated with critical and scientific thinking, technical planning, and practical application, helping students gain a better understanding of the basic concepts found in each science discipline. Hands-on projects using the scientific method direct readers to identify a problem, suggest a solution, experiment to test their hypothesis, and then discuss practical applications of the solution.","English",149.08000000000001,111.8,null,"128 pp.",{"$f":"Table1[[#This Row],[QTY]]*Table1[[#This Row],['# of Books]]","v":0},{"$f":"Table1[[#This Row],[QTY]]*Table1[[#This Row],[School & Library Price]]","v":0}]
[null,null,null,74,"Experiments for Future STEM Professionals","Experiments for Future Astronomers",1,"Library Bound Book","978-0-7660-8200-7",2017,"January 2017","6.500 X 9.250","Author, Author","Robert Gardner, Joshua Conklin",null,null,null,null,"Y",null,"Grade 6","Grade 6 - 12","What do physics, math, space, and the night sky have in common? They are all topics that interest astronomers. This title will introduce budding scientists to hands-on experiments that may spark their interest in a career in astronomy. All books contain descriptions of the scientific method, lab safety guidelines, and career information. Color drawings illustrate experimental setups and scientific ideas. Great ideas for science fair projects that incorporate math and science are included throughout the book.","English",37.270000000000003,27.95,"520—dc23","128 pp.",{"$f":"Table1[[#This Row],[QTY]]*Table1[[#This Row],['# of Books]]","v":0},{"$f":"Table1[[#This Row],[QTY]]*Table1[[#This Row],[School & Library Price]]","v":0}]
[null,null,null,74,"Experiments for Future STEM Professionals","Experiments for Future Astronomers",1,"eBook","978-0-7660-8201-4",2017,"January 2017",null,"Author, Author","Robert Gardner, Joshua Conklin",null,null,null,null,"Y",null,"Grade 6","Grade 6 - 12","What do physics, math, space, and the night sky have in common? They are all topics that interest astronomers. This title will introduce budding scientists to hands-on experiments that may spark their interest in a career in astronomy. All books contain descriptions of the scientific method, lab safety guidelines, and career information. Color drawings illustrate experimental setups and scientific ideas. Great ideas for science fair projects that incorporate math and science are included throughout the book.","English",37.270000000000003,27.95,"520—dc23","128 pp.",{"$f":"Table1[[#This Row],[QTY]]*Table1[[#This Row],['# of Books]]","v":0},{"$f":"Table1[[#This Row],[QTY]]*Table1[[#This Row],[School & Library Price]]","v":0}]
[null,null,null,74,"Experiments for Future STEM Professionals","Experiments for Future Biologists",1,"Library Bound Book","978-0-7660-8198-7",2017,"January 2017","6.500 X 9.250","Author, Author","Robert Gardner, Joshua Conklin",null,null,null,null,"Y",null,"Grade 6","Grade 6 - 12","Is your reader a future biologist? Robert Gardner’s latest experiments book may be just the inspiration for a young scientist considering a career in life science. The many experiments in this title cover the different areas of math and science that biologists use. Ideas for science fair projects are suggested throughout the book, along with clear illustrations, explanations of the scientific method, career information, and guidelines for safe experimenting.","English",37.270000000000003,27.95,"570.78--dc23","128 pp.",{"$f":"Table1[[#This Row],[QTY]]*Table1[[#This Row],['# of Books]]","v":0},{"$f":"Table1[[#This Row],[QTY]]*Table1[[#This Row],[School & Library Price]]","v":0}]
[null,null,null,74,"Experiments for Future STEM Professionals","Experiments for Future Biologists",1,"eBook","978-0-7660-8199-4",2017,"January 2017",null,"Author, Author","Robert Gardner, Joshua Conklin",null,null,null,null,"Y",null,"Grade 6","Grade 6 - 12","Is your reader a future biologist? Robert Gardner’s latest experiments book may be just the inspiration for a young scientist considering a career in life science. The many experiments in this title cover the different areas of math and science that biologists use. Ideas for science fair projects are suggested throughout the book, along with clear illustrations, explanations of the scientific method, career information, and guidelines for safe experimenting.","English",37.270000000000003,27.95,"570.78--dc23","128 pp.",{"$f":"Table1[[#This Row],[QTY]]*Table1[[#This Row],['# of Books]]","v":0},{"$f":"Table1[[#This Row],[QTY]]*Table1[[#This Row],[School & Library Price]]","v":0}]
[null,null,null,74,"Experiments for Future STEM Professionals","Experiments for Future Chemists",1,"Library Bound Book","978-0-7660-7856-7",2017,"August 2016","6.500 X 9.250","Author","Robert Gardner",null,null,null,null,"Z",null,"Grade 6","Grade 6 - 12","The world is full of chemists, from flavor scientists in the food industry to researchers formulating new building materials. After reading about the types of jobs chemists have, students begin experimenting with hands-on activities from award-winning author Robert Gardner. Clear scientific drawings illustrate experimental setups, safety guidelines keep kids safe, and great ideas for science fair projects after many experiments encourage original scientific thinking.","English",37.270000000000003,27.95,"540.78--dc23","128 pp.",{"$f":"Table1[[#This Row],[QTY]]*Table1[[#This Row],['# of Books]]","v":0},{"$f":"Table1[[#This Row],[QTY]]*Table1[[#This Row],[School & Library Price]]","v":0}]
[null,null,null,74,"Experiments for Future STEM Professionals","Experiments for Future Chemists",1,"eBook","978-0-7660-7852-9",2017,"August 2016",null,"Author","Robert Gardner",null,null,null,null,"Z",null,"Grade 6","Grade 6 - 12","The world is full of chemists, from flavor scientists in the food industry to researchers formulating new building materials. After reading about the types of jobs chemists have, students begin experimenting with hands-on activities from award-winning author Robert Gardner. Clear scientific drawings illustrate experimental setups, safety guidelines keep kids safe, and great ideas for science fair projects after many experiments encourage original scientific thinking.","English",37.270000000000003,27.95,"540.78--dc23","128 pp.",{"$f":"Table1[[#This Row],[QTY]]*Table1[[#This Row],['# of Books]]","v":0},{"$f":"Table1[[#This Row],[QTY]]*Table1[[#This Row],[School & Library Price]]","v":0}]
[null,null,null,74,"Experiments for Future STEM Professionals","Experiments for Future Doctors",1,"Library Bound Book","978-0-7660-7854-3",2017,"August 2016","6.500 X 9.250","Author","Robert Gardner",null,null,null,null,"Z",null,"Grade 6","Grade 6 - 12","Is your reader a future doctor? Robert Gardner’s latest experiments book may be just the inspiration for a young scientist considering a career in medicine. The many experiments in this title cover the different areas of math and science that doctors use. Ideas for science fair projects are suggested throughout the book, along with clear illustrations, explanations of the scientific method, career information, and guidelines for safe experimenting.","English",37.270000000000003,27.95,"610.78--dc23","128 pp.",{"$f":"Table1[[#This Row],[QTY]]*Table1[[#This Row],['# of Books]]","v":0},{"$f":"Table1[[#This Row],[QTY]]*Table1[[#This Row],[School & Library Price]]","v":0}]
[null,null,null,74,"Experiments for Future STEM Professionals","Experiments for Future Doctors",1,"eBook","978-0-7660-7850-5",2017,"August 2016",null,"Author","Robert Gardner",null,null,null,null,"Z",null,"Grade 6","Grade 6 - 12","Is your reader a future doctor? Robert Gardner’s latest experiments book may be just the inspiration for a young scientist considering a career in medicine. The many experiments in this title cover the different areas of math and science that doctors use. Ideas for science fair projects are suggested throughout the book, along with clear illustrations, explanations of the scientific method, career information, and guidelines for safe experimenting.","English",37.270000000000003,27.95,"610.78--dc23","128 pp.",{"$f":"Table1[[#This Row],[QTY]]*Table1[[#This Row],['# of Books]]","v":0},{"$f":"Table1[[#This Row],[QTY]]*Table1[[#This Row],[School & Library Price]]","v":0}]
[null,null,null,74,"Experiments for Future STEM Professionals","Experiments for Future Engineers",1,"Library Bound Book","978-0-7660-7853-6",2017,"August 2016","6.500 X 9.250","Author","Robert Gardner",null,null,null,null,"Z",null,"Grade 6","Grade 6 - 12","Award-winning author Robert Gardner continues to create hands-on ways to engage young scientists and teach them the basic engineering, math, and science skills involved in engineering. From simple machines to Newtonﾒs laws of motion, the concepts in these science projects for future engineers will provide a rich foundation for science fairs, experiments, or classroom activities. All books contain detailed illustrations of the experimental designs, descriptions of the scientific method, lab safety guidelines, and career information.","English",37.270000000000003,27.95,"620.0078--dc23","128 pp.",{"$f":"Table1[[#This Row],[QTY]]*Table1[[#This Row],['# of Books]]","v":0},{"$f":"Table1[[#This Row],[QTY]]*Table1[[#This Row],[School & Library Price]]","v":0}]
[null,null,null,74,"Experiments for Future STEM Professionals","Experiments for Future Engineers",1,"eBook","978-0-7660-7849-9",2017,"August 2016",null,"Author","Robert Gardner",null,null,null,null,"Z",null,"Grade 6","Grade 6 - 12","Award-winning author Robert Gardner continues to create hands-on ways to engage young scientists and teach them the basic engineering, math, and science skills involved in engineering. From simple machines to Newtonﾒs laws of motion, the concepts in these science projects for future engineers will provide a rich foundation for science fairs, experiments, or classroom activities. All books contain detailed illustrations of the experimental designs, descriptions of the scientific method, lab safety guidelines, and career information.","English",37.270000000000003,27.95,"620.0078--dc23","128 pp.",{"$f":"Table1[[#This Row],[QTY]]*Table1[[#This Row],['# of Books]]","v":0},{"$f":"Table1[[#This Row],[QTY]]*Table1[[#This Row],[School & Library Price]]","v":0}]
[null,null,null,74,"Experiments for Future STEM Professionals","Experiments for Future Forensic Scientists",1,"Library Bound Book","978-0-7660-8202-1",2017,"January 2017","6.500 X 9.250","Author, Author","Robert Gardner, Joshua Conklin",null,null,null,null,"Y",null,"Grade 6","Grade 6 - 12","It has been said that every criminal leaves a trace. Forensic scientists have the exciting chance to find these traces, analyze them, and help solve crimes! The experiments in this book analyze evidence such as fingerprints and handwriting samples. After reading about the types of jobs forensic scientists have, students begin experimenting with hands-on activities. Clear scientific drawings illustrate experimental setups, safety guidelines keep kids safe, and great ideas for science fair projects after many experiments encourage original scientific thinking.","English",37.270000000000003,27.95,"363.25—dc23","128 pp.",{"$f":"Table1[[#This Row],[QTY]]*Table1[[#This Row],['# of Books]]","v":0},{"$f":"Table1[[#This Row],[QTY]]*Table1[[#This Row],[School & Library Price]]","v":0}]
[null,null,null,74,"Experiments for Future STEM Professionals","Experiments for Future Forensic Scientists",1,"eBook","978-0-7660-8203-8",2017,"January 2017",null,"Author, Author","Robert Gardner, Joshua Conklin",null,null,null,null,"Y",null,"Grade 6","Grade 6 - 12","It has been said that every criminal leaves a trace. Forensic scientists have the exciting chance to find these traces, analyze them, and help solve crimes! The experiments in this book analyze evidence such as fingerprints and handwriting samples. After reading about the types of jobs forensic scientists have, students begin experimenting with hands-on activities. Clear scientific drawings illustrate experimental setups, safety guidelines keep kids safe, and great ideas for science fair projects after many experiments encourage original scientific thinking.","English",37.270000000000003,27.95,"363.25—dc23","128 pp.",{"$f":"Table1[[#This Row],[QTY]]*Table1[[#This Row],['# of Books]]","v":0},{"$f":"Table1[[#This Row],[QTY]]*Table1[[#This Row],[School & Library Price]]","v":0}]
[null,null,null,74,"Experiments for Future STEM Professionals","Experiments for Future Meteorologists",1,"Library Bound Book","978-0-7660-8196-3",2017,"January 2017","6.500 X 9.250","Author, Author","Robert Gardner, Joshua Conklin",null,null,null,null,"Y",null,"Grade 6","Grade 6 - 12","Award-winning author Robert Gardner continues to create hands-on ways to engage young scientists and teach them the basic math and science skills involved in meteorology and weather. Readers can build their own weather station and study rain, clouds, wind, and temperature. The concepts in these science projects may inspire future meteorologists and will provide a rich foundation for science fairs, experiments, or classroom activities. Also included are detailed illustrations of the experimental designs, descriptions of the scientific method, lab safety guidelines, and career information.","English",37.270000000000003,27.95,"551.5078--dc23","128 pp.",{"$f":"Table1[[#This Row],[QTY]]*Table1[[#This Row],['# of Books]]","v":0},{"$f":"Table1[[#This Row],[QTY]]*Table1[[#This Row],[School & Library Price]]","v":0}]
[null,null,null,74,"Experiments for Future STEM Professionals","Experiments for Future Meteorologists",1,"eBook","978-0-7660-8197-0",2017,"January 2017",null,"Author, Author","Robert Gardner, Joshua Conklin",null,null,null,null,"Y",null,"Grade 6","Grade 6 - 12","Award-winning author Robert Gardner continues to create hands-on ways to engage young scientists and teach them the basic math and science skills involved in meteorology and weather. Readers can build their own weather station and study rain, clouds, wind, and temperature. The concepts in these science projects may inspire future meteorologists and will provide a rich foundation for science fairs, experiments, or classroom activities. Also included are detailed illustrations of the experimental designs, descriptions of the scientific method, lab safety guidelines, and career information.","English",37.270000000000003,27.95,"551.5078--dc23","128 pp.",{"$f":"Table1[[#This Row],[QTY]]*Table1[[#This Row],['# of Books]]","v":0},{"$f":"Table1[[#This Row],[QTY]]*Table1[[#This Row],[School & Library Price]]","v":0}]
[null,null,null,74,"Experiments for Future STEM Professionals","Experiments for Future Physicists",1,"Library Bound Book","978-0-7660-7855-0",2017,"August 2016","6.500 X 9.250","Author","Robert Gardner",null,null,null,null,"Z",null,"Grade 6","Grade 6 - 12","What do electricity, magnetism, space, energy, and matter have in common? They are all topics that interest physicists. If you have a budding professional scientist, then this book will introduce them to hands-on experiments that teach physics concept they will never forget. All books contain descriptions of the scientific method, lab safety guidelines, and career information. Detailed scientific drawings illustrate experimental setups and scientific ideas. Great ideas for science fair projects, which incorporate math and science, are included throughout the book.","English",37.270000000000003,27.95,"530.078--dc23","128 pp.",{"$f":"Table1[[#This Row],[QTY]]*Table1[[#This Row],['# of Books]]","v":0},{"$f":"Table1[[#This Row],[QTY]]*Table1[[#This Row],[School & Library Price]]","v":0}]
[null,null,null,74,"Experiments for Future STEM Professionals","Experiments for Future Physicists",1,"eBook","978-0-7660-7851-2",2017,"August 2016",null,"Author","Robert Gardner",null,null,null,null,"Z",null,"Grade 6","Grade 6 - 12","What do electricity, magnetism, space, energy, and matter have in common? They are all topics that interest physicists. If you have a budding professional scientist, then this book will introduce them to hands-on experiments that teach physics concept they will never forget. All books contain descriptions of the scientific method, lab safety guidelines, and career information. Detailed scientific drawings illustrate experimental setups and scientific ideas. Great ideas for science fair projects, which incorporate math and science, are included throughout the book.","English",37.270000000000003,27.95,"530.078--dc23","128 pp.",{"$f":"Table1[[#This Row],[QTY]]*Table1[[#This Row],['# of Books]]","v":0},{"$f":"Table1[[#This Row],[QTY]]*Table1[[#This Row],[School & Library Price]]","v":0}]
[null,null,null,75,"The Bill of Rights","The Bill of Rights",10,"Library Set","978-0-7660-8587-9",2018,"August 2017","7.250 X 9.250",null,null,null,null,null,null,null,null,"Grade 5 - 6","Grade 5 - 8","This riveting series describes, in-depth, each of the first ten amendments to the US Constitution. Each book focuses on one of the amendments, including the events that led up to the writing of the amendment, as well as key players involved in its writing, ratifications to the amendment, and the affects the amendment has had on American policies since its writing.","English",279.3,209.5,null,"48 pp.",{"$f":"Table1[[#This Row],[QTY]]*Table1[[#This Row],['# of Books]]","v":0},{"$f":"Table1[[#This Row],[QTY]]*Table1[[#This Row],[School & Library Price]]","v":0}]
[null,null,null,75,"The Bill of Rights","Double Jeopardy, Self-Incrimination, and Due Process of Law: The Fifth Amendment",1,"Library Bound Book","978-0-7660-8557-2",2018,"August 2017","7.250 X 9.250","Author","John Rokutani",null,null,null,null,"Y",null,"Grade 5 - 6","Grade 5 - 8","The Fifth Amendment is one of the more complex and far-reaching amendments to the US Constitution, so this book begins by breaking down each clause one by one, explaining the legalese in uncomplicated language, thus allowing the reader to reach a full understanding of due process. It then systemically describes the impact of the Fifth Amendment clause by clause, using Supreme Court cases as real-world examples. Sidebars highlight the amendment in action and delve into some of the finer points. This book includes rich resource sections that allow for further exploration.","English",27.93,20.95,"347.73/5--dc23","48 pp.",{"$f":"Table1[[#This Row],[QTY]]*Table1[[#This Row],['# of Books]]","v":0},{"$f":"Table1[[#This Row],[QTY]]*Table1[[#This Row],[School & Library Price]]","v":0}]
[null,null,null,75,"The Bill of Rights","Double Jeopardy, Self-Incrimination, and Due Process of Law: The Fifth Amendment",1,"eBook","978-0-7660-8558-9",2018,"August 2017",null,"Author","John Rokutani",null,null,null,null,"Y",null,"Grade 5 - 6","Grade 5 - 8","The Fifth Amendment is one of the more complex and far-reaching amendments to the US Constitution, so this book begins by breaking down each clause one by one, explaining the legalese in uncomplicated language, thus allowing the reader to reach a full understanding of due process. It then systemically describes the impact of the Fifth Amendment clause by clause, using Supreme Court cases as real-world examples. Sidebars highlight the amendment in action and delve into some of the finer points. This book includes rich resource sections that allow for further exploration.","English",27.93,20.95,"347.73/5--dc23","48 pp.",{"$f":"Table1[[#This Row],[QTY]]*Table1[[#This Row],['# of Books]]","v":0},{"$f":"Table1[[#This Row],[QTY]]*Table1[[#This Row],[School & Library Price]]","v":0}]
[null,null,null,75,"The Bill of Rights","Freedom of Speech, the Press, and Religion: The First Amendment",1,"Library Bound Book","978-0-7660-8549-7",2018,"August 2017","7.250 X 9.250","Author","John Rokutani",null,null,null,null,"T",null,"Grade 5 - 6","Grade 5 - 8","The Bill of Rights is one of the most influential documents in American history. These ten amendments safeguard the basic rights that every American has. The First Amendment protects Americans’ right to speak freely, assemble peacefully, and practice their own religions, and for journalists to write any story they choose. This book delves into the history of the amendment, from its conception to its writers, why it was written, and why it is still so important today. Through clear and exciting text, explanations of the interpretation of the amendment are revealed, as well as important court cases that set its precedent. Primary source documents allow readers to examine the amendments themselves and come up with their own conclusions. Full-color and black-and-white photos help students better understand the document and its creation. Further reading and sidebars encourage students to explore the amendments further, and a glossary helps students master new vocabulary.","English",27.93,20.95,"342.7308/5--dc23","48 pp.",{"$f":"Table1[[#This Row],[QTY]]*Table1[[#This Row],['# of Books]]","v":0},{"$f":"Table1[[#This Row],[QTY]]*Table1[[#This Row],[School & Library Price]]","v":0}]
[null,null,null,75,"The Bill of Rights","Freedom of Speech, the Press, and Religion: The First Amendment",1,"eBook","978-0-7660-8550-3",2018,"August 2017",null,"Author","John Rokutani",null,null,null,null,"T",null,"Grade 5 - 6","Grade 5 - 8","The Bill of Rights is one of the most influential documents in American history. These ten amendments safeguard the basic rights that every American has. The First Amendment protects Americans’ right to speak freely, assemble peacefully, and practice their own religions, and for journalists to write any story they choose. This book delves into the history of the amendment, from its conception to its writers, why it was written, and why it is still so important today. Through clear and exciting text, explanations of the interpretation of the amendment are revealed, as well as important court cases that set its precedent. Primary source documents allow readers to examine the amendments themselves and come up with their own conclusions. Full-color and black-and-white photos help students better understand the document and its creation. Further reading and sidebars encourage students to explore the amendments further, and a glossary helps students master new vocabulary.","English",27.93,20.95,"342.7308/5--dc23","48 pp.",{"$f":"Table1[[#This Row],[QTY]]*Table1[[#This Row],['# of Books]]","v":0},{"$f":"Table1[[#This Row],[QTY]]*Table1[[#This Row],[School & Library Price]]","v":0}]
[null,null,null,75,"The Bill of Rights","Limiting Federal Powers: The Tenth Amendment",1,"Library Bound Book","978-0-7660-8567-1",2018,"August 2017","7.250 X 9.250","Author","Hallie Murray",null,null,null,null,"X",null,"Grade 5 - 6","Grade 5 - 8","The Tenth Amendment says that the powers not delegated to the federal government by the Constitution belong to the individual states and their residents and can not be taken away from them. Like the Ninth Amendment, the Tenth Amendment’s wording is vague and abstract and often debated, especially when applied to such important contemporary issues as the drinking age, gun ownership, health care, environmental standards, and controlled substances. Through full-color and black-and-white photos, engaging text, and primary sources, students will learn why this amendment was created, how notions of states' versus federal rights have changed throughout history, and how this ongoing conflict between state and federal government affects their lives.","English",27.93,20.95,"342.73/042--dc23","48 pp.",{"$f":"Table1[[#This Row],[QTY]]*Table1[[#This Row],['# of Books]]","v":0},{"$f":"Table1[[#This Row],[QTY]]*Table1[[#This Row],[School & Library Price]]","v":0}]
[null,null,null,75,"The Bill of Rights","Limiting Federal Powers: The Tenth Amendment",1,"eBook","978-0-7660-8568-8",2018,"August 2017",null,"Author","Hallie Murray",null,null,null,null,"X",null,"Grade 5 - 6","Grade 5 - 8","The Tenth Amendment says that the powers not delegated to the federal government by the Constitution belong to the individual states and their residents and can not be taken away from them. Like the Ninth Amendment, the Tenth Amendment’s wording is vague and abstract and often debated, especially when applied to such important contemporary issues as the drinking age, gun ownership, health care, environmental standards, and controlled substances. Through full-color and black-and-white photos, engaging text, and primary sources, students will learn why this amendment was created, how notions of states' versus federal rights have changed throughout history, and how this ongoing conflict between state and federal government affects their lives.","English",27.93,20.95,"342.73/042--dc23","48 pp.",{"$f":"Table1[[#This Row],[QTY]]*Table1[[#This Row],['# of Books]]","v":0},{"$f":"Table1[[#This Row],[QTY]]*Table1[[#This Row],[School & Library Price]]","v":0}]
[null,null,null,75,"The Bill of Rights","Preventing Cruel and Unusual Punishment: The Eighth Amendment",1,"Library Bound Book","978-0-7660-8563-3",2018,"August 2017","7.250 X 9.250","Author","Hallie Murray",null,null,null,null,"V",null,"Grade 5 - 6","Grade 5 - 8","The Founding Fathers created the Eighth Amendment to protect the people from the kind of abuse they had seen while the colonies were under British rule. But to this day, Americans continue to argue about what exactly “cruel and unusual,” “excessive bail,” and “excessive fines” mean. Through full-color and black-and-white photos, engaging text, and primary sources, students will examine the events leading up to the Eighth Amendment’s creation, how it has been defined throughout the centuries, and how it is interpreted today. In addition, informative sidebars and a further reading section with books and websites encourage students to explore the people and events of this time in history in more depth.","English",27.93,20.95,"345.73/0772--dc23","48 pp.",{"$f":"Table1[[#This Row],[QTY]]*Table1[[#This Row],['# of Books]]","v":0},{"$f":"Table1[[#This Row],[QTY]]*Table1[[#This Row],[School & Library Price]]","v":0}]
[null,null,null,75,"The Bill of Rights","Preventing Cruel and Unusual Punishment: The Eighth Amendment",1,"eBook","978-0-7660-8564-0",2018,"August 2017",null,"Author","Hallie Murray",null,null,null,null,"V",null,"Grade 5 - 6","Grade 5 - 8","The Founding Fathers created the Eighth Amendment to protect the people from the kind of abuse they had seen while the colonies were under British rule. But to this day, Americans continue to argue about what exactly “cruel and unusual,” “excessive bail,” and “excessive fines” mean. Through full-color and black-and-white photos, engaging text, and primary sources, students will examine the events leading up to the Eighth Amendment’s creation, how it has been defined throughout the centuries, and how it is interpreted today. In addition, informative sidebars and a further reading section with books and websites encourage students to explore the people and events of this time in history in more depth.","English",27.93,20.95,"345.73/0772--dc23","48 pp.",{"$f":"Table1[[#This Row],[QTY]]*Table1[[#This Row],['# of Books]]","v":0},{"$f":"Table1[[#This Row],[QTY]]*Table1[[#This Row],[School & Library Price]]","v":0}]
[null,null,null,75,"The Bill of Rights","Rights Retained by the People: The Ninth Amendment",1,"Library Bound Book","978-0-7660-8565-7",2018,"August 2017","7.250 X 9.250","Author","Hallie Murray",null,null,null,null,"X",null,"Grade 5 - 6","Grade 5 - 8","The Ninth Amendment, which guarantees individuals rights not specifically named within the Constitution or the other amendments, was written using vague, open-ended language to ensure no American citizen would be denied the many rights he or she retained that were not explicitly enumerated. Yet this vagueness has caused confusion and uncertainty even in the Supreme Court. Through full-color and black-and-white photos, engaging text, and primary sources, readers will learn why it was proposed and ratified, how it has been interpreted in several landmark Supreme Court cases, and how it has impacted society through such issues as labor activities, fair housing laws, and privacy. Sidebars, a glossary, and further reading are also included.","English",27.93,20.95,"342.7308--dc23","48 pp.",{"$f":"Table1[[#This Row],[QTY]]*Table1[[#This Row],['# of Books]]","v":0},{"$f":"Table1[[#This Row],[QTY]]*Table1[[#This Row],[School & Library Price]]","v":0}]
[null,null,null,75,"The Bill of Rights","Rights Retained by the People: The Ninth Amendment",1,"eBook","978-0-7660-8566-4",2018,"August 2017",null,"Author","Hallie Murray",null,null,null,null,"X",null,"Grade 5 - 6","Grade 5 - 8","The Ninth Amendment, which guarantees individuals rights not specifically named within the Constitution or the other amendments, was written using vague, open-ended language to ensure no American citizen would be denied the many rights he or she retained that were not explicitly enumerated. Yet this vagueness has caused confusion and uncertainty even in the Supreme Court. Through full-color and black-and-white photos, engaging text, and primary sources, readers will learn why it was proposed and ratified, how it has been interpreted in several landmark Supreme Court cases, and how it has impacted society through such issues as labor activities, fair housing laws, and privacy. Sidebars, a glossary, and further reading are also included.","English",27.93,20.95,"342.7308--dc23","48 pp.",{"$f":"Table1[[#This Row],[QTY]]*Table1[[#This Row],['# of Books]]","v":0},{"$f":"Table1[[#This Row],[QTY]]*Table1[[#This Row],[School & Library Price]]","v":0}]
[null,null,null,75,"The Bill of Rights","The Right to a Jury Trial: The Seventh Amendment",1,"Library Bound Book","978-0-7660-8561-9",2018,"August 2017","7.250 X 9.250","Author","Hallie Murray",null,null,null,null,"Y",null,"Grade 5 - 6","Grade 5 - 8","By entrusting a jury of ordinary and impartial citizens to decide the outcome of lawsuits, the Seventh Amendment removed the power from judges, who could potentially be swayed and corrupted. It levels the playing field, guaranteeing that each citizen's voice and interests carry as much weight as that of a wealthy individual, major corporation, or powerful government. The historical context that motivated the drafting and passage of this amendment is discussed. Contemporary, straight-from-the-headlines cases illustrate the relevance of the Seventh Amendment and its application to cases involving consumer protection, environmental cleanup, medical malpractice, and corporate wrongdoing.","English",27.93,20.95,"347.73/752--dc23","48 pp.",{"$f":"Table1[[#This Row],[QTY]]*Table1[[#This Row],['# of Books]]","v":0},{"$f":"Table1[[#This Row],[QTY]]*Table1[[#This Row],[School & Library Price]]","v":0}]
[null,null,null,75,"The Bill of Rights","The Right to a Jury Trial: The Seventh Amendment",1,"eBook","978-0-7660-8562-6",2018,"August 2017",null,"Author","Hallie Murray",null,null,null,null,"Y",null,"Grade 5 - 6","Grade 5 - 8","By entrusting a jury of ordinary and impartial citizens to decide the outcome of lawsuits, the Seventh Amendment removed the power from judges, who could potentially be swayed and corrupted. It levels the playing field, guaranteeing that each citizen's voice and interests carry as much weight as that of a wealthy individual, major corporation, or powerful government. The historical context that motivated the drafting and passage of this amendment is discussed. Contemporary, straight-from-the-headlines cases illustrate the relevance of the Seventh Amendment and its application to cases involving consumer protection, environmental cleanup, medical malpractice, and corporate wrongdoing.","English",27.93,20.95,"347.73/752--dc23","48 pp.",{"$f":"Table1[[#This Row],[QTY]]*Table1[[#This Row],['# of Books]]","v":0},{"$f":"Table1[[#This Row],[QTY]]*Table1[[#This Row],[School & Library Price]]","v":0}]
[null,null,null,75,"The Bill of Rights","The Right to Bear Arms: The Second Amendment",1,"Library Bound Book","978-0-7660-8551-0",2018,"August 2017","7.250 X 9.250","Author","Hallie Murray",null,null,null,null,"T",null,"Grade 5 - 6","Grade 5 - 8","A hot button issue that is in the news daily, the right to bear arms is one of Americans’ most provincial and cherished rights. There are more guns per capita in the United States than anywhere else in the world. Through engaging and enlightening text, the Second Amendment, the right to bear arms, is studied in-depth. Analyzing the varying views on the amendment, students will get the opportunity to learn about the different interpretations of the amendment. The history of the amendment, as well as its creators, supporters, and detractors are studied thoroughly. Primary source documents allow readers to examine the amendments themselves and come up with their own conclusions. Full-color and black-and-white photos help students better understand the Bill of Rights and its creation. Further reading and sidebars encourage students to explore the amendments further, and a glossary helps students master new vocabulary.","English",27.93,20.95,"323.4/3--dc23","48 pp.",{"$f":"Table1[[#This Row],[QTY]]*Table1[[#This Row],['# of Books]]","v":0},{"$f":"Table1[[#This Row],[QTY]]*Table1[[#This Row],[School & Library Price]]","v":0}]
[null,null,null,75,"The Bill of Rights","The Right to Bear Arms: The Second Amendment",1,"eBook","978-0-7660-8552-7",2018,"August 2017",null,"Author","Hallie Murray",null,null,null,null,"T",null,"Grade 5 - 6","Grade 5 - 8","A hot button issue that is in the news daily, the right to bear arms is one of Americans’ most provincial and cherished rights. There are more guns per capita in the United States than anywhere else in the world. Through engaging and enlightening text, the Second Amendment, the right to bear arms, is studied in-depth. Analyzing the varying views on the amendment, students will get the opportunity to learn about the different interpretations of the amendment. The history of the amendment, as well as its creators, supporters, and detractors are studied thoroughly. Primary source documents allow readers to examine the amendments themselves and come up with their own conclusions. Full-color and black-and-white photos help students better understand the Bill of Rights and its creation. Further reading and sidebars encourage students to explore the amendments further, and a glossary helps students master new vocabulary.","English",27.93,20.95,"323.4/3--dc23","48 pp.",{"$f":"Table1[[#This Row],[QTY]]*Table1[[#This Row],['# of Books]]","v":0},{"$f":"Table1[[#This Row],[QTY]]*Table1[[#This Row],[School & Library Price]]","v":0}]
[null,null,null,75,"The Bill of Rights","The Right to Privacy in the Home: The Third Amendment",1,"Library Bound Book","978-0-7660-8553-4",2018,"August 2017","7.250 X 9.250","Author","John Rokutani",null,null,null,null,"U",null,"Grade 5 - 6","Grade 5 - 8","Under British rule, soldiers could show up at any American’s doorstep, demand shelter, eat all the food, and require the homeowner to provide anything they asked for or else the colonist would be punished by the military. After the Revolutionary War, the Founding Fathers would ensure no American would have to endure such abuse of power by ratifying the Third Amendment, which guarantees that soldiers cannot be quartered with American citizens during times of peace without the homeowner’s consent. Through full-color and black-and-white photos, engaging text, and primary sources, readers will learn the history behind this amendment and how it has affected modern society by giving rise to military bases all over the country.","English",27.93,20.95,"342.7308/58--dc23","48 pp.",{"$f":"Table1[[#This Row],[QTY]]*Table1[[#This Row],['# of Books]]","v":0},{"$f":"Table1[[#This Row],[QTY]]*Table1[[#This Row],[School & Library Price]]","v":0}]
[null,null,null,75,"The Bill of Rights","The Right to Privacy in the Home: The Third Amendment",1,"eBook","978-0-7660-8554-1",2018,"August 2017",null,"Author","John Rokutani",null,null,null,null,"U",null,"Grade 5 - 6","Grade 5 - 8","Under British rule, soldiers could show up at any American’s doorstep, demand shelter, eat all the food, and require the homeowner to provide anything they asked for or else the colonist would be punished by the military. After the Revolutionary War, the Founding Fathers would ensure no American would have to endure such abuse of power by ratifying the Third Amendment, which guarantees that soldiers cannot be quartered with American citizens during times of peace without the homeowner’s consent. Through full-color and black-and-white photos, engaging text, and primary sources, readers will learn the history behind this amendment and how it has affected modern society by giving rise to military bases all over the country.","English",27.93,20.95,"342.7308/58--dc23","48 pp.",{"$f":"Table1[[#This Row],[QTY]]*Table1[[#This Row],['# of Books]]","v":0},{"$f":"Table1[[#This Row],[QTY]]*Table1[[#This Row],[School & Library Price]]","v":0}]
[null,null,null,75,"The Bill of Rights","The Rights of the Accused in Criminal Cases: The Sixth Amendment",1,"Library Bound Book","978-0-7660-8559-6",2018,"August 2017","7.250 X 9.250","Author","Hallie Murray",null,null,null,null,"Y",null,"Grade 5 - 6","Grade 5 - 8","The fact that individuals accused of a crime are innocent until proven guilty and safeguarded by a robust set of rights and protections is one of the things that sets the United States apart from many other nations. According to the Sixth Amendment, individuals accused of crimes have a number of important rights, including the right to a speedy trial, to a jury of peers, to be informed of the charges against them, to an attorney and witnesses in their defense, and to face their accuser. This book reviews the history of the Sixth Amendment, including the events that inspired it and the major Supreme Court cases related to it.","English",27.93,20.95,"345.73/056--dc23","48 pp.",{"$f":"Table1[[#This Row],[QTY]]*Table1[[#This Row],['# of Books]]","v":0},{"$f":"Table1[[#This Row],[QTY]]*Table1[[#This Row],[School & Library Price]]","v":0}]
[null,null,null,75,"The Bill of Rights","The Rights of the Accused in Criminal Cases: The Sixth Amendment",1,"eBook","978-0-7660-8560-2",2018,"August 2017",null,"Author","Hallie Murray",null,null,null,null,"Y",null,"Grade 5 - 6","Grade 5 - 8","The fact that individuals accused of a crime are innocent until proven guilty and safeguarded by a robust set of rights and protections is one of the things that sets the United States apart from many other nations. According to the Sixth Amendment, individuals accused of crimes have a number of important rights, including the right to a speedy trial, to a jury of peers, to be informed of the charges against them, to an attorney and witnesses in their defense, and to face their accuser. This book reviews the history of the Sixth Amendment, including the events that inspired it and the major Supreme Court cases related to it.","English",27.93,20.95,"345.73/056--dc23","48 pp.",{"$f":"Table1[[#This Row],[QTY]]*Table1[[#This Row],['# of Books]]","v":0},{"$f":"Table1[[#This Row],[QTY]]*Table1[[#This Row],[School & Library Price]]","v":0}]
[null,null,null,75,"The Bill of Rights","Unreasonable Search and Seizure: The Fourth Amendment",1,"Library Bound Book","978-0-7660-8555-8",2018,"August 2017","7.250 X 9.250","Author","Hallie Murray",null,null,null,null,"W",null,"Grade 5 - 6","Grade 5 - 8","Some people believe that the USA PATRIOT Act and Homeland Security Act, passed after the 9/11 terrorist attacks, violate the Fourth Amendment, which guarantees that US citizens have the right to be secure in their persons, houses, papers, and belongings against unreasonable searches and seizures. Through full-color and black-and-white photos, engaging text, and primary sources, this book examines the events leading up to the creation and ratification of the Fourth Amendment and its impact on modern American life, including how the Supreme Court must balance the rights of the individual against the needs of the government to keep the nation safe and how technological advances affect our privacy. Sidebars, a list of all ten Bill of Rights, and a glossary are also included.","English",27.93,20.95,"3445.73/0522--dc23","48 pp.",{"$f":"Table1[[#This Row],[QTY]]*Table1[[#This Row],['# of Books]]","v":0},{"$f":"Table1[[#This Row],[QTY]]*Table1[[#This Row],[School & Library Price]]","v":0}]
[null,null,null,75,"The Bill of Rights","Unreasonable Search and Seizure: The Fourth Amendment",1,"eBook","978-0-7660-8556-5",2018,"August 2017",null,"Author","Hallie Murray",null,null,null,null,"W",null,"Grade 5 - 6","Grade 5 - 8","Some people believe that the USA PATRIOT Act and Homeland Security Act, passed after the 9/11 terrorist attacks, violate the Fourth Amendment, which guarantees that US citizens have the right to be secure in their persons, houses, papers, and belongings against unreasonable searches and seizures. Through full-color and black-and-white photos, engaging text, and primary sources, this book examines the events leading up to the creation and ratification of the Fourth Amendment and its impact on modern American life, including how the Supreme Court must balance the rights of the individual against the needs of the government to keep the nation safe and how technological advances affect our privacy. Sidebars, a list of all ten Bill of Rights, and a glossary are also included.","English",27.93,20.95,"3445.73/0522--dc23","48 pp.",{"$f":"Table1[[#This Row],[QTY]]*Table1[[#This Row],['# of Books]]","v":0},{"$f":"Table1[[#This Row],[QTY]]*Table1[[#This Row],[School & Library Price]]","v":0}]
[null,null,null,76,"Back in Time","Back in Time",6,"Library Set","978-0-7660-9029-3",2018,"August 2017","7.250 X 9.250",null,null,null,null,null,null,null,null,"Grade 5 - 6","Grade 5 - 8","Knowledge of history is a key element in understanding the present. Many of our traditions, customs, language, and so much more have origins in cultures that existed hundreds, or even thousands, of years ago. This set explores what it was like living in six different ancient civilizations, including Greece, Egypt, Rome, Mesopotamia, Asia, and prehistoric America. Full-color photos and compelling text will draw readers in and keep them engaged. Soon, they will feel like they have traveled back in time to get a sneak peek into life in these ancient cultures.","English",167.58,125.7,null,"48 pp.",{"$f":"Table1[[#This Row],[QTY]]*Table1[[#This Row],['# of Books]]","v":0},{"$f":"Table1[[#This Row],[QTY]]*Table1[[#This Row],[School & Library Price]]","v":0}]
[null,null,null,76,"Back in Time","Living and Working in Ancient China",1,"Library Bound Book","978-0-7660-8963-1",2018,"August 2017","7.250 X 9.250","Edited by","Joanne Randolph",null,null,null,null,"S",null,"Grade 5 - 6","Grade 5 - 8","People have been living in Asia for hundreds of thousands of years. The ancient civilizations that developed in places such as China, Japan, and India, were shaped by the geography and climate in those areas. Readers will learn about the interesting and diverse ancient civilizations of Asia as the eye-catching design draws them in and informative, accessible text keeps them engaged.","English",27.93,20.95,"931--dc23","48 pp.",{"$f":"Table1[[#This Row],[QTY]]*Table1[[#This Row],['# of Books]]","v":0},{"$f":"Table1[[#This Row],[QTY]]*Table1[[#This Row],[School & Library Price]]","v":0}]
[null,null,null,76,"Back in Time","Living and Working in Ancient China",1,"eBook","978-0-7660-8964-8",2018,"August 2017",null,"Edited by","Joanne Randolph",null,null,null,null,"S",null,"Grade 5 - 6","Grade 5 - 8","People have been living in Asia for hundreds of thousands of years. The ancient civilizations that developed in places such as China, Japan, and India, were shaped by the geography and climate in those areas. Readers will learn about the interesting and diverse ancient civilizations of Asia as the eye-catching design draws them in and informative, accessible text keeps them engaged.","English",27.93,20.95,"931--dc23","48 pp.",{"$f":"Table1[[#This Row],[QTY]]*Table1[[#This Row],['# of Books]]","v":0},{"$f":"Table1[[#This Row],[QTY]]*Table1[[#This Row],[School & Library Price]]","v":0}]
[null,null,null,76,"Back in Time","Living and Working in Ancient Egypt",1,"Library Bound Book","978-0-7660-8967-9",2018,"August 2017","7.250 X 9.250","Edited by","Joanne Randolph",null,null,null,null,"R",null,"Grade 5 - 6","Grade 5 - 8","Information-packed text and full-color imagery will transport readers to ancient Egypt, as they discover what it was like to live and work in this harshly beautiful place. Readers will also gain an understanding of how environment can shape belief as they find out about the Sun god Ra and life in the desert thousands of years ago.","English",27.93,20.95,"932/.01--dc23","48 pp.",{"$f":"Table1[[#This Row],[QTY]]*Table1[[#This Row],['# of Books]]","v":0},{"$f":"Table1[[#This Row],[QTY]]*Table1[[#This Row],[School & Library Price]]","v":0}]
[null,null,null,76,"Back in Time","Living and Working in Ancient Egypt",1,"eBook","978-0-7660-8968-6",2018,"August 2017",null,"Edited by","Joanne Randolph",null,null,null,null,"R",null,"Grade 5 - 6","Grade 5 - 8","Information-packed text and full-color imagery will transport readers to ancient Egypt, as they discover what it was like to live and work in this harshly beautiful place. Readers will also gain an understanding of how environment can shape belief as they find out about the Sun god Ra and life in the desert thousands of years ago.","English",27.93,20.95,"932/.01--dc23","48 pp.",{"$f":"Table1[[#This Row],[QTY]]*Table1[[#This Row],['# of Books]]","v":0},{"$f":"Table1[[#This Row],[QTY]]*Table1[[#This Row],[School & Library Price]]","v":0}]
[null,null,null,76,"Back in Time","Living and Working in Ancient Greece",1,"Library Bound Book","978-0-7660-8971-6",2018,"August 2017","7.250 X 9.250","Edited by","Joanne Randolph",null,null,null,null,"R",null,"Grade 5 - 6","Grade 5 - 8","Ancient Greece was known for its sophisticated culture and great thinkers in the fields of philosophy, science, and math. The life and culture of this amazing ancient society will leap off the page, as readers engage with the compelling, informational text and complementary photos. As readers travel back in time to ancient Greece, they will discover the lasting influence this ancient civilization has had on the modern world.","English",27.93,20.95,"938--dc23","48 pp.",{"$f":"Table1[[#This Row],[QTY]]*Table1[[#This Row],['# of Books]]","v":0},{"$f":"Table1[[#This Row],[QTY]]*Table1[[#This Row],[School & Library Price]]","v":0}]
[null,null,null,76,"Back in Time","Living and Working in Ancient Greece",1,"eBook","978-0-7660-8972-3",2018,"August 2017",null,"Edited by","Joanne Randolph",null,null,null,null,"R",null,"Grade 5 - 6","Grade 5 - 8","Ancient Greece was known for its sophisticated culture and great thinkers in the fields of philosophy, science, and math. The life and culture of this amazing ancient society will leap off the page, as readers engage with the compelling, informational text and complementary photos. As readers travel back in time to ancient Greece, they will discover the lasting influence this ancient civilization has had on the modern world.","English",27.93,20.95,"938--dc23","48 pp.",{"$f":"Table1[[#This Row],[QTY]]*Table1[[#This Row],['# of Books]]","v":0},{"$f":"Table1[[#This Row],[QTY]]*Table1[[#This Row],[School & Library Price]]","v":0}]
[null,null,null,76,"Back in Time","Living and Working in Ancient Mesopotamia",1,"Library Bound Book","978-0-7660-8958-7",2018,"August 2017","7.250 X 9.250","Edited by","Joanne Randolph",null,null,null,null,"S",null,"Grade 5 - 6","Grade 5 - 8","Known as the “cradle of civilization,” Ancient Mesopotamia was different from other ancient civilizations in that it was made up of a collection of varied cultures that were only loosely connected by their writing, their gods and their attitude toward women. The Mesopotamian culture is credited with inventing the wheel, the first writing, and many other accomplishments. Readers will enjoy discovering more about life in Ancient Mesopotamia through the absorbing text and appealing and colorful design.","English",27.93,20.95,"935--dc23","48 pp.",{"$f":"Table1[[#This Row],[QTY]]*Table1[[#This Row],['# of Books]]","v":0},{"$f":"Table1[[#This Row],[QTY]]*Table1[[#This Row],[School & Library Price]]","v":0}]
[null,null,null,76,"Back in Time","Living and Working in Ancient Mesopotamia",1,"eBook","978-0-7660-8957-0",2018,"August 2017",null,"Edited by","Joanne Randolph",null,null,null,null,"S",null,"Grade 5 - 6","Grade 5 - 8","Known as the “cradle of civilization,” Ancient Mesopotamia was different from other ancient civilizations in that it was made up of a collection of varied cultures that were only loosely connected by their writing, their gods and their attitude toward women. The Mesopotamian culture is credited with inventing the wheel, the first writing, and many other accomplishments. Readers will enjoy discovering more about life in Ancient Mesopotamia through the absorbing text and appealing and colorful design.","English",27.93,20.95,"935--dc23","48 pp.",{"$f":"Table1[[#This Row],[QTY]]*Table1[[#This Row],['# of Books]]","v":0},{"$f":"Table1[[#This Row],[QTY]]*Table1[[#This Row],[School & Library Price]]","v":0}]
[null,null,null,76,"Back in Time","Living and Working in Ancient Rome",1,"Library Bound Book","978-0-7660-8975-4",2018,"August 2017","7.250 X 9.250","Edited by","Joanne Randolph",null,null,null,null,"S",null,"Grade 5 - 6","Grade 5 - 8","What was it like to live in Ancient Rome? What made the society so successful and what led, ultimately, to its downfall? Fact-filled yet engaging text and full-color photographs will bring this ancient culture to life for readers. From what they wore and the kinds of jobs people had to an exploration of their art and architecture, this title has something for everyone interested in understanding ancient Roman life and culture.","English",27.93,20.95,"937--dc23","48 pp.",{"$f":"Table1[[#This Row],[QTY]]*Table1[[#This Row],['# of Books]]","v":0},{"$f":"Table1[[#This Row],[QTY]]*Table1[[#This Row],[School & Library Price]]","v":0}]
[null,null,null,76,"Back in Time","Living and Working in Ancient Rome",1,"eBook","978-0-7660-8976-1",2018,"August 2017",null,"Edited by","Joanne Randolph",null,null,null,null,"S",null,"Grade 5 - 6","Grade 5 - 8","What was it like to live in Ancient Rome? What made the society so successful and what led, ultimately, to its downfall? Fact-filled yet engaging text and full-color photographs will bring this ancient culture to life for readers. From what they wore and the kinds of jobs people had to an exploration of their art and architecture, this title has something for everyone interested in understanding ancient Roman life and culture.","English",27.93,20.95,"937--dc23","48 pp.",{"$f":"Table1[[#This Row],[QTY]]*Table1[[#This Row],['# of Books]]","v":0},{"$f":"Table1[[#This Row],[QTY]]*Table1[[#This Row],[School & Library Price]]","v":0}]
[null,null,null,76,"Back in Time","Living and Working in the Pre-Columbian Americas",1,"Library Bound Book","978-0-7660-8979-2",2018,"August 2017","7.250 X 9.250","Edited by","Joanne Randolph",null,null,null,null,"S",null,"Grade 5 - 6","Grade 5 - 8","Everyone knows Europeans did not discover the Americas, despite what Christopher Columbus may have believed. People had been living there for thousands of years before the first Europeans landed on its shores. This title explores the ancient civilizations, including the Incas and Mayas, that peopled the North and South American continents long ago.","English",27.93,20.95,"970.004/97--dc23","48 pp.",{"$f":"Table1[[#This Row],[QTY]]*Table1[[#This Row],['# of Books]]","v":0},{"$f":"Table1[[#This Row],[QTY]]*Table1[[#This Row],[School & Library Price]]","v":0}]
[null,null,null,76,"Back in Time","Living and Working in the Pre-Columbian Americas",1,"eBook","978-0-7660-8980-8",2018,"August 2017",null,"Edited by","Joanne Randolph",null,null,null,null,"S",null,"Grade 5 - 6","Grade 5 - 8","Everyone knows Europeans did not discover the Americas, despite what Christopher Columbus may have believed. People had been living there for thousands of years before the first Europeans landed on its shores. This title explores the ancient civilizations, including the Incas and Mayas, that peopled the North and South American continents long ago.","English",27.93,20.95,"970.004/97--dc23","48 pp.",{"$f":"Table1[[#This Row],[QTY]]*Table1[[#This Row],['# of Books]]","v":0},{"$f":"Table1[[#This Row],[QTY]]*Table1[[#This Row],[School & Library Price]]","v":0}]
[null,null,null,77,"US Supreme Court Landmark Cases","US Supreme Court Landmark Cases",8,"Library Set","978-0-7660-8418-6",2017,"January 2017","6.000 X 9.000",null,null,null,null,null,null,null,null,"Grade 7","Grade 7 - 12","This series examines eight influential court cases heard by the US Supreme Court. These decisions changed the way American society thought and behaved. Each book includes an in-depth look at the events and people that led up to the court case and explores the opposing sides of each case. Readers are then guided through the historical and societal contexts of each case and the long-term effects each case had on the nation.","English",298.16000000000003,223.6,null,"128 pp.",{"$f":"Table1[[#This Row],[QTY]]*Table1[[#This Row],['# of Books]]","v":0},{"$f":"Table1[[#This Row],[QTY]]*Table1[[#This Row],[School & Library Price]]","v":0}]
[null,null,null,77,"US Supreme Court Landmark Cases","A Woman's Right to an Abortion: Roe v. Wade",1,"Library Bound Book","978-0-7660-8424-7",2017,"January 2017","6.000 X 9.000","Author","D. J. Herda",null,null,null,null,"Z",null,"Grade 7","Grade 7 - 12","Abortion has long been a hot-button issue. In 1973, in the landmark case of Roe v. Wade, the Supreme Court finally decided that women should be allowed to have an abortion, with some limits. This book gives the background on the case and the path the case took to make it to the Supreme Court and presents both the majority and dissenting opinions related to the case. It also takes a look at the lasting impact the case has continued to have on policies and the legal system. Also included are questions to consider, primary source documents, and a chronology of the case.","English",37.270000000000003,27.95,"342.7308/4--dc23","128 pp.",{"$f":"Table1[[#This Row],[QTY]]*Table1[[#This Row],['# of Books]]","v":0},{"$f":"Table1[[#This Row],[QTY]]*Table1[[#This Row],[School & Library Price]]","v":0}]
[null,null,null,77,"US Supreme Court Landmark Cases","A Woman's Right to an Abortion: Roe v. Wade",1,"eBook","978-0-7660-8425-4",2017,"January 2017",null,"Author","D. J. Herda",null,null,null,null,"Z",null,"Grade 7","Grade 7 - 12","Abortion has long been a hot-button issue. In 1973, in the landmark case of Roe v. Wade, the Supreme Court finally decided that women should be allowed to have an abortion, with some limits. This book gives the background on the case and the path the case took to make it to the Supreme Court and presents both the majority and dissenting opinions related to the case. It also takes a look at the lasting impact the case has continued to have on policies and the legal system. Also included are questions to consider, primary source documents, and a chronology of the case.","English",37.270000000000003,27.95,"342.7308/4--dc23","128 pp.",{"$f":"Table1[[#This Row],[QTY]]*Table1[[#This Row],['# of Books]]","v":0},{"$f":"Table1[[#This Row],[QTY]]*Table1[[#This Row],[School & Library Price]]","v":0}]
[null,null,null,77,"US Supreme Court Landmark Cases","Desegregating Schools: Brown v. Board of Education",1,"Library Bound Book","978-0-7660-8422-3",2017,"January 2017","6.000 X 9.000","Author, Author","John A. Torres, Harvey Fireside",null,null,null,null,"Z",null,"Grade 7","Grade 7 - 12","When the father of Linda Brown, an African American, sued to let his child go to a “white school” closer to home, history was made. When the court decided that “separate was inherently unequal,” the world changed for many students across America. Readers will learn what led up to the case, how the case made it to the Supreme Court, and how this case changed everything when it came to race equality in the United States. Also included are questions to consider, primary source documents, and a chronology of the case.","English",37.270000000000003,27.95,"344.73/0798--dc23","128 pp.",{"$f":"Table1[[#This Row],[QTY]]*Table1[[#This Row],['# of Books]]","v":0},{"$f":"Table1[[#This Row],[QTY]]*Table1[[#This Row],[School & Library Price]]","v":0}]
[null,null,null,77,"US Supreme Court Landmark Cases","Desegregating Schools: Brown v. Board of Education",1,"eBook","978-0-7660-8423-0",2017,"January 2017",null,"Author, Author","John A. Torres, Harvey Fireside",null,null,null,null,"Z",null,"Grade 7","Grade 7 - 12","When the father of Linda Brown, an African American, sued to let his child go to a “white school” closer to home, history was made. When the court decided that “separate was inherently unequal,” the world changed for many students across America. Readers will learn what led up to the case, how the case made it to the Supreme Court, and how this case changed everything when it came to race equality in the United States. Also included are questions to consider, primary source documents, and a chronology of the case.","English",37.270000000000003,27.95,"344.73/0798--dc23","128 pp.",{"$f":"Table1[[#This Row],[QTY]]*Table1[[#This Row],['# of Books]]","v":0},{"$f":"Table1[[#This Row],[QTY]]*Table1[[#This Row],[School & Library Price]]","v":0}]
[null,null,null,77,"US Supreme Court Landmark Cases","Establishing the Rights of the Accused: Miranda v. Arizona",1,"Library Bound Book","978-0-7660-8428-5",2017,"January 2017","6.000 X 9.000","Author, Author","Don Rauf, Gail Blasser Riley",null,null,null,null,"Z",null,"Grade 7","Grade 7 - 12","The Miranda v. Arizona decision was instrumental in making sure that people accused of a crime are aware of all their rights and have equal access to counsel, even if they can not afford it. The Miranda rights, which are read to apprehended suspects, are one of the things people point to when they talk about American rights and freedoms. Readers will find out, in rich detail, how this now basic right came to pass. Also included are questions to consider, primary source documents, and a chronology of the case.","English",37.270000000000003,27.95,"345.73/056--dc23","128 pp.",{"$f":"Table1[[#This Row],[QTY]]*Table1[[#This Row],['# of Books]]","v":0},{"$f":"Table1[[#This Row],[QTY]]*Table1[[#This Row],[School & Library Price]]","v":0}]
[null,null,null,77,"US Supreme Court Landmark Cases","Establishing the Rights of the Accused: Miranda v. Arizona",1,"eBook","978-0-7660-8429-2",2017,"January 2017",null,"Author, Author","Don Rauf, Gail Blasser Riley",null,null,null,null,"Z",null,"Grade 7","Grade 7 - 12","The Miranda v. Arizona decision was instrumental in making sure that people accused of a crime are aware of all their rights and have equal access to counsel, even if they can not afford it. The Miranda rights, which are read to apprehended suspects, are one of the things people point to when they talk about American rights and freedoms. Readers will find out, in rich detail, how this now basic right came to pass. Also included are questions to consider, primary source documents, and a chronology of the case.","English",37.270000000000003,27.95,"345.73/056--dc23","128 pp.",{"$f":"Table1[[#This Row],[QTY]]*Table1[[#This Row],['# of Books]]","v":0},{"$f":"Table1[[#This Row],[QTY]]*Table1[[#This Row],[School & Library Price]]","v":0}]
[null,null,null,77,"US Supreme Court Landmark Cases","Fighting Censorship: New York Times v. United States",1,"Library Bound Book","978-0-7660-8432-2",2017,"January 2017","6.000 X 9.000","Author","D. J. Herda",null,null,null,null,"Z",null,"Grade 7","Grade 7 - 12","Freedom of speech is one of the cornerstones of American liberty, but it was not always taken for granted as it is now. During the Vietnam War, the government made some choices the American public did not necessarily agree with. When the New York Times published articles detailing a war nobody knew about, it caused some waves in the United States government as it scrambled to cover up what it could and control what it couldn’t. This title gives a balanced report of what went on during this time and how the case made it to the Supreme Court. It also gives lots of detail on the differing opinions and what the ultimate decision was. Also included are questions to consider, primary source documents, and a chronology of the case.","English",37.270000000000003,27.95,"342.7308/53--dc23","128 pp.",{"$f":"Table1[[#This Row],[QTY]]*Table1[[#This Row],['# of Books]]","v":0},{"$f":"Table1[[#This Row],[QTY]]*Table1[[#This Row],[School & Library Price]]","v":0}]
[null,null,null,77,"US Supreme Court Landmark Cases","Fighting Censorship: New York Times v. United States",1,"eBook","978-0-7660-8433-9",2017,"January 2017",null,"Author","D. J. Herda",null,null,null,null,"Z",null,"Grade 7","Grade 7 - 12","Freedom of speech is one of the cornerstones of American liberty, but it was not always taken for granted as it is now. During the Vietnam War, the government made some choices the American public did not necessarily agree with. When the New York Times published articles detailing a war nobody knew about, it caused some waves in the United States government as it scrambled to cover up what it could and control what it couldn’t. This title gives a balanced report of what went on during this time and how the case made it to the Supreme Court. It also gives lots of detail on the differing opinions and what the ultimate decision was. Also included are questions to consider, primary source documents, and a chronology of the case.","English",37.270000000000003,27.95,"342.7308/53--dc23","128 pp.",{"$f":"Table1[[#This Row],[QTY]]*Table1[[#This Row],['# of Books]]","v":0},{"$f":"Table1[[#This Row],[QTY]]*Table1[[#This Row],[School & Library Price]]","v":0}]
[null,null,null,77,"US Supreme Court Landmark Cases","Marriage Equality: Obergefell v. Hodges",1,"Library Bound Book","978-0-7660-8436-0",2017,"January 2017","6.000 X 9.000","Author","Jason Porterfield",null,null,null,null,"Z",null,"Grade 7","Grade 7 - 12","This groundbreaking case, with much pressure from suing parties across the country and a great amount of controversy, granted the “dignity of marriage” to same-sex couples. Readers will find out all about the background of the case, how it made it to the Supreme Court, and why the court decided for same-sex marriage. Also included are questions to consider, primary source documents, and a chronology of the case.","English",37.270000000000003,27.95,"346.7301/68--dc23","128 pp.",{"$f":"Table1[[#This Row],[QTY]]*Table1[[#This Row],['# of Books]]","v":0},{"$f":"Table1[[#This Row],[QTY]]*Table1[[#This Row],[School & Library Price]]","v":0}]
[null,null,null,77,"US Supreme Court Landmark Cases","Marriage Equality: Obergefell v. Hodges",1,"eBook","978-0-7660-8437-7",2017,"January 2017",null,"Author","Jason Porterfield",null,null,null,null,"Z",null,"Grade 7","Grade 7 - 12","This groundbreaking case, with much pressure from suing parties across the country and a great amount of controversy, granted the “dignity of marriage” to same-sex couples. Readers will find out all about the background of the case, how it made it to the Supreme Court, and why the court decided for same-sex marriage. Also included are questions to consider, primary source documents, and a chronology of the case.","English",37.270000000000003,27.95,"346.7301/68--dc23","128 pp.",{"$f":"Table1[[#This Row],[QTY]]*Table1[[#This Row],['# of Books]]","v":0},{"$f":"Table1[[#This Row],[QTY]]*Table1[[#This Row],[School & Library Price]]","v":0}]
[null,null,null,77,"US Supreme Court Landmark Cases","Separate but Equal: Plessy v. Ferguson",1,"Library Bound Book","978-0-7660-8434-6",2017,"January 2017","6.000 X 9.000","Author, Author","Don Rauf, Harvey Fireside",null,null,null,null,"Z",null,"Grade 7","Grade 7 - 12","Following the Civil War, feelings were mixed about the freedoms that Lincoln had granted to African American citizens through his Emancipation Proclamation. A group in Louisiana decided to challenge a state law that required companies to have railway cars separated by race. They orchestrated a situation in which a “white-looking” black man would sit in the “white only” part of the train and announce he was “colored.” In a landmark decision that supported the racist feelings in some areas of the country following the Civil War, the effort to secure equal rights at this time failed. The book provides insight into the details of the case and also includes questions to consider, primary source documents, and a chronology.","English",37.270000000000003,27.95,"342.7308/73--dc23","128 pp.",{"$f":"Table1[[#This Row],[QTY]]*Table1[[#This Row],['# of Books]]","v":0},{"$f":"Table1[[#This Row],[QTY]]*Table1[[#This Row],[School & Library Price]]","v":0}]
[null,null,null,77,"US Supreme Court Landmark Cases","Separate but Equal: Plessy v. Ferguson",1,"eBook","978-0-7660-8435-3",2017,"January 2017",null,"Author, Author","Don Rauf, Harvey Fireside",null,null,null,null,"Z",null,"Grade 7","Grade 7 - 12","Following the Civil War, feelings were mixed about the freedoms that Lincoln had granted to African American citizens through his Emancipation Proclamation. A group in Louisiana decided to challenge a state law that required companies to have railway cars separated by race. They orchestrated a situation in which a “white-looking” black man would sit in the “white only” part of the train and announce he was “colored.” In a landmark decision that supported the racist feelings in some areas of the country following the Civil War, the effort to secure equal rights at this time failed. The book provides insight into the details of the case and also includes questions to consider, primary source documents, and a chronology.","English",37.270000000000003,27.95,"342.7308/73--dc23","128 pp.",{"$f":"Table1[[#This Row],[QTY]]*Table1[[#This Row],['# of Books]]","v":0},{"$f":"Table1[[#This Row],[QTY]]*Table1[[#This Row],[School & Library Price]]","v":0}]
[null,null,null,77,"US Supreme Court Landmark Cases","Slavery and Citizenship: The Dred Scott Case",1,"Library Bound Book","978-0-7660-8426-1",2017,"January 2017","6.000 X 9.000","Author","D. J. Herda",null,null,null,null,"Z",null,"Grade 7","Grade 7 - 12","In 1857, a slave sued for his freedom…and lost. Readers will take an in-depth look at what some call the worst Supreme Court decision in history. The author also looks at the aftermath of the case, including the Civil War, and the great changes in the United States on the issue of slavery. Also included are questions to consider, primary source documents, and a chronology of the case.","English",37.270000000000003,27.95,"342.7308/7—dc22","128 pp.",{"$f":"Table1[[#This Row],[QTY]]*Table1[[#This Row],['# of Books]]","v":0},{"$f":"Table1[[#This Row],[QTY]]*Table1[[#This Row],[School & Library Price]]","v":0}]
[null,null,null,77,"US Supreme Court Landmark Cases","Slavery and Citizenship: The Dred Scott Case",1,"eBook","978-0-7660-8427-8",2017,"January 2017",null,"Author","D. J. Herda",null,null,null,null,"Z",null,"Grade 7","Grade 7 - 12","In 1857, a slave sued for his freedom…and lost. Readers will take an in-depth look at what some call the worst Supreme Court decision in history. The author also looks at the aftermath of the case, including the Civil War, and the great changes in the United States on the issue of slavery. Also included are questions to consider, primary source documents, and a chronology of the case.","English",37.270000000000003,27.95,"342.7308/7—dc22","128 pp.",{"$f":"Table1[[#This Row],[QTY]]*Table1[[#This Row],['# of Books]]","v":0},{"$f":"Table1[[#This Row],[QTY]]*Table1[[#This Row],[School & Library Price]]","v":0}]
[null,null,null,77,"US Supreme Court Landmark Cases","The Death Penalty: Furman v. Georgia",1,"Library Bound Book","978-0-7660-8430-8",2017,"January 2017","6.000 X 9.000","Author","D. J. Herda",null,null,null,null,"Z",null,"Grade 7","Grade 7 - 12","The death penalty is surely one of the most highly contentious points the Supreme Court has had to weigh in on. Whether you believe in the death penalty or not, the Furman v. Georgia case was groundbreaking in its decision to stay Furman’s execution because it was arbitrary and, very possibly, racially motivated. Though it did not stop capital punishment, the case changed the way states had to weigh their decisions. Also included are questions to consider, primary source documents, and a chronology of the case.","English",37.270000000000003,27.95,"345.73/0773--dc23","128 pp.",{"$f":"Table1[[#This Row],[QTY]]*Table1[[#This Row],['# of Books]]","v":0},{"$f":"Table1[[#This Row],[QTY]]*Table1[[#This Row],[School & Library Price]]","v":0}]
[null,null,null,77,"US Supreme Court Landmark Cases","The Death Penalty: Furman v. Georgia",1,"eBook","978-0-7660-8431-5",2017,"January 2017",null,"Author","D. J. Herda",null,null,null,null,"Z",null,"Grade 7","Grade 7 - 12","The death penalty is surely one of the most highly contentious points the Supreme Court has had to weigh in on. Whether you believe in the death penalty or not, the Furman v. Georgia case was groundbreaking in its decision to stay Furman’s execution because it was arbitrary and, very possibly, racially motivated. Though it did not stop capital punishment, the case changed the way states had to weigh their decisions. Also included are questions to consider, primary source documents, and a chronology of the case.","English",37.270000000000003,27.95,"345.73/0773--dc23","128 pp.",{"$f":"Table1[[#This Row],[QTY]]*Table1[[#This Row],['# of Books]]","v":0},{"$f":"Table1[[#This Row],[QTY]]*Table1[[#This Row],[School & Library Price]]","v":0}]
[null,null,null,78,"Analyzing the Issues (All 18 Titles)","Analyzing the Issues (All 18 Titles)",18,"Library Set","978-0-7660-8570-1",2018,"August 2017","6.000 X 9.000",null,null,null,null,null,null,null,null,"Grade 8","Grade 7 - 12","Addressing controversial issues in contemporary society, this series explores each topic in a pro/con format, contrasting articles that reflect opposing opinions from experts, the government, the courts, advocacy organizations, the media, and ordinary people. These articles are carefully researched and collected from a wide variety of reliable sources in order to give the reader full perspective of the topic at hand, encouraging them to think critically and analyze topics that directly affect their lives and society as a whole.","English",862.74,647.1,null,"208 pp.",{"$f":"Table1[[#This Row],[QTY]]*Table1[[#This Row],['# of Books]]","v":0},{"$f":"Table1[[#This Row],[QTY]]*Table1[[#This Row],[School & Library Price]]","v":0}]
[null,null,null,78,"Analyzing the Issues (NEW Set of 6 Titles)","Analyzing the Issues (NEW Set of 6 Titles)",6,"Library Set","978-0-7660-8569-5",2018,"August 2017","6.000 X 9.000",null,null,null,null,null,null,null,null,"Grade 8","Grade 7 - 12","Addressing controversial issues in contemporary society, this series explores each topic in a pro/con format, contrasting articles that reflect opposing opinions from experts, the government, the courts, advocacy organizations, the media, and ordinary people. These articles are carefully researched and collected from a wide variety of reliable sources in order to give the reader full perspective of the topic at hand, encouraging them to think critically and analyze topics that directly affect their lives and society as a whole.","English",287.58,215.7,null,"208 pp.",{"$f":"Table1[[#This Row],[QTY]]*Table1[[#This Row],['# of Books]]","v":0},{"$f":"Table1[[#This Row],[QTY]]*Table1[[#This Row],[School & Library Price]]","v":0}]
[null,null,null,78,"Analyzing the Issues","Critical Perspectives on Abortion",1,"Library Bound Book","978-0-7660-8477-3",2018,"August 2017","6.000 X 9.000","Author","Anne C. Cunningham",null,null,null,null,"Z",null,"Grade 8","Grade 7 - 12","Before the mid-nineteenth century, abortion was a legal and morally uncontested procedure in America available to most women. Yet since the dawn of the twentieth century, abortion has remained an ever-present controversial issue. Although it has been legal since 1973, thousands of new laws have been enacted across the Unites States to limit women’s access to the procedure, and the majority of these laws were passed between 2010 and 2015. This text gives students insight into the history of abortion and abortion rights, presenting thoughtful analysis from political leaders and experts fighting for both sides of the issue, to help students think critically about abortion and women’s rights in America.","English",47.93,35.950000000000003,"362.1988/8--dc23","208 pp.",{"$f":"Table1[[#This Row],[QTY]]*Table1[[#This Row],['# of Books]]","v":0},{"$f":"Table1[[#This Row],[QTY]]*Table1[[#This Row],[School & Library Price]]","v":0}]
[null,null,null,78,"Analyzing the Issues","Critical Perspectives on Abortion",1,"eBook","978-0-7660-8478-0",2018,"August 2017",null,"Author","Anne C. Cunningham",null,null,null,null,"Z",null,"Grade 8","Grade 7 - 12","Before the mid-nineteenth century, abortion was a legal and morally uncontested procedure in America available to most women. Yet since the dawn of the twentieth century, abortion has remained an ever-present controversial issue. Although it has been legal since 1973, thousands of new laws have been enacted across the Unites States to limit women’s access to the procedure, and the majority of these laws were passed between 2010 and 2015. This text gives students insight into the history of abortion and abortion rights, presenting thoughtful analysis from political leaders and experts fighting for both sides of the issue, to help students think critically about abortion and women’s rights in America.","English",47.93,35.950000000000003,"362.1988/8--dc23","208 pp.",{"$f":"Table1[[#This Row],[QTY]]*Table1[[#This Row],['# of Books]]","v":0},{"$f":"Table1[[#This Row],[QTY]]*Table1[[#This Row],[School & Library Price]]","v":0}]
[null,null,null,78,"Analyzing the Issues","Critical Perspectives on Climate Change",1,"Library Bound Book","978-0-7660-7670-9",2017,"August 2016","6.000 X 9.000","Author","Stephen Feinstein",null,null,null,null,"Z",null,"Grade 8","Grade 7 - 12","The scientific community today largely agrees that climate change is occurring—and that it could have devastating consequences. Still, many Americans are unsure as to what climate change is and what higher temperatures and rising sea levels could mean for them. Critical Perspectives on Climate Change includes scientific data and experts’ opinion, along with ordinary people’s viewpoints, to examine this important issue. Students will evaluate the evidence to reach a conclusion to one of the most important issues of our time.","English",47.93,35.950000000000003,"363.738/74--dc23","208 pp.",{"$f":"Table1[[#This Row],[QTY]]*Table1[[#This Row],['# of Books]]","v":0},{"$f":"Table1[[#This Row],[QTY]]*Table1[[#This Row],[School & Library Price]]","v":0}]
[null,null,null,78,"Analyzing the Issues","Critical Perspectives on Climate Change",1,"eBook","978-0-7660-7655-6",2017,"August 2016",null,"Author","Stephen Feinstein",null,null,null,null,"Z",null,"Grade 8","Grade 7 - 12","The scientific community today largely agrees that climate change is occurring—and that it could have devastating consequences. Still, many Americans are unsure as to what climate change is and what higher temperatures and rising sea levels could mean for them. Critical Perspectives on Climate Change includes scientific data and experts’ opinion, along with ordinary people’s viewpoints, to examine this important issue. Students will evaluate the evidence to reach a conclusion to one of the most important issues of our time.","English",47.93,35.950000000000003,"363.738/74--dc23","208 pp.",{"$f":"Table1[[#This Row],[QTY]]*Table1[[#This Row],['# of Books]]","v":0},{"$f":"Table1[[#This Row],[QTY]]*Table1[[#This Row],[School & Library Price]]","v":0}]
[null,null,null,78,"Analyzing the Issues","Critical Perspectives on Feminism",1,"Library Bound Book","978-0-7660-8481-0",2018,"August 2017","6.000 X 9.000","Author","Anne C. Cunningham",null,null,null,null,"Z",null,"Grade 8","Grade 7 - 12","First-wave feminism arrived on the international scene in the nineteenth century, a time when women had very few rights as citizens and were largely controlled by a government with laws that protected and served men. Today, through the work of feminist movements, women have gained the right to vote and work, but the quest for social and economic equality remains. This text gives students insight into the fascinating history of the feminist movement and its leaders while presenting thoughtful analysis of feminist issues to help students think critically about the history and present need for feminism and women’s rights today.","English",47.93,35.950000000000003,"305.42--dc23","208 pp.",{"$f":"Table1[[#This Row],[QTY]]*Table1[[#This Row],['# of Books]]","v":0},{"$f":"Table1[[#This Row],[QTY]]*Table1[[#This Row],[School & Library Price]]","v":0}]
[null,null,null,78,"Analyzing the Issues","Critical Perspectives on Feminism",1,"eBook","978-0-7660-8482-7",2018,"August 2017",null,"Author","Anne C. Cunningham",null,null,null,null,"Z",null,"Grade 8","Grade 7 - 12","First-wave feminism arrived on the international scene in the nineteenth century, a time when women had very few rights as citizens and were largely controlled by a government with laws that protected and served men. Today, through the work of feminist movements, women have gained the right to vote and work, but the quest for social and economic equality remains. This text gives students insight into the fascinating history of the feminist movement and its leaders while presenting thoughtful analysis of feminist issues to help students think critically about the history and present need for feminism and women’s rights today.","English",47.93,35.950000000000003,"305.42--dc23","208 pp.",{"$f":"Table1[[#This Row],[QTY]]*Table1[[#This Row],['# of Books]]","v":0},{"$f":"Table1[[#This Row],[QTY]]*Table1[[#This Row],[School & Library Price]]","v":0}]
[null,null,null,78,"Analyzing the Issues","Critical Perspectives on Fossil Fuels vs. Renewable Energy",1,"Library Bound Book","978-0-7660-8131-4",2017,"January 2017","6.000 X 9.000","Author","Anne C. Cunningham",null,null,null,null,"Z",null,"Grade 8","Grade 7 - 12","Renewable energy is one of the fastest-growing sectors in the global economy as climate scientists and environmentalists give voice to the detrimental effects of fossil fuels. But how far have we gotten in developing efficient and sustainable energy, including solar, wind, and geothermal power, and what are the benefits of these renewable energy sources compared to fossil fuels? This text examines the issue from diverse viewpoints, allowing students to analyze key ideas in energy production through primary source evidence.","English",47.93,35.950000000000003,"333.79’4—dc23","208 pp.",{"$f":"Table1[[#This Row],[QTY]]*Table1[[#This Row],['# of Books]]","v":0},{"$f":"Table1[[#This Row],[QTY]]*Table1[[#This Row],[School & Library Price]]","v":0}]
[null,null,null,78,"Analyzing the Issues","Critical Perspectives on Fossil Fuels vs. Renewable Energy",1,"eBook","978-0-7660-8136-9",2017,"January 2017",null,"Author","Anne C. Cunningham",null,null,null,null,"Z",null,"Grade 8","Grade 7 - 12","Renewable energy is one of the fastest-growing sectors in the global economy as climate scientists and environmentalists give voice to the detrimental effects of fossil fuels. But how far have we gotten in developing efficient and sustainable energy, including solar, wind, and geothermal power, and what are the benefits of these renewable energy sources compared to fossil fuels? This text examines the issue from diverse viewpoints, allowing students to analyze key ideas in energy production through primary source evidence.","English",47.93,35.950000000000003,"333.79’4—dc23","208 pp.",{"$f":"Table1[[#This Row],[QTY]]*Table1[[#This Row],['# of Books]]","v":0},{"$f":"Table1[[#This Row],[QTY]]*Table1[[#This Row],[School & Library Price]]","v":0}]
[null,null,null,78,"Analyzing the Issues","Critical Perspectives on Gender Identity",1,"Library Bound Book","978-0-7660-7672-3",2017,"August 2016","6.000 X 9.000","Author","Nicki Peter Petrikowski",null,null,null,null,"Z",null,"Grade 8","Grade 7 - 12","What is gender? Is gender changeable? Does gender always match up with one’s sexuality or outward appearance? These are questions at the forefront of contemporary debates for increased rights for trans men, trans women, and others who do not conform to our society’s gender norms. Students will read the experiences of gender non-conforming individuals—as well as court decisions related to recent legal cases and media coverage—in order to better understand the challenges they face today.","English",47.93,35.950000000000003,"306.76/8--dc23","208 pp.",{"$f":"Table1[[#This Row],[QTY]]*Table1[[#This Row],['# of Books]]","v":0},{"$f":"Table1[[#This Row],[QTY]]*Table1[[#This Row],[School & Library Price]]","v":0}]
[null,null,null,78,"Analyzing the Issues","Critical Perspectives on Gender Identity",1,"eBook","978-0-7660-7661-7",2017,"August 2016",null,"Author","Nicki Peter Petrikowski",null,null,null,null,"Z",null,"Grade 8","Grade 7 - 12","What is gender? Is gender changeable? Does gender always match up with one’s sexuality or outward appearance? These are questions at the forefront of contemporary debates for increased rights for trans men, trans women, and others who do not conform to our society’s gender norms. Students will read the experiences of gender non-conforming individuals—as well as court decisions related to recent legal cases and media coverage—in order to better understand the challenges they face today.","English",47.93,35.950000000000003,"306.76/8--dc23","208 pp.",{"$f":"Table1[[#This Row],[QTY]]*Table1[[#This Row],['# of Books]]","v":0},{"$f":"Table1[[#This Row],[QTY]]*Table1[[#This Row],[School & Library Price]]","v":0}]
[null,null,null,78,"Analyzing the Issues","Critical Perspectives on Government-Sponsored Assassinations",1,"Library Bound Book","978-0-7660-8483-4",2018,"August 2017","6.000 X 9.000","Author","Anne C. Cunningham",null,null,null,null,"Z",null,"Grade 8","Grade 7 - 12","State-sponsored assassinations have been used by the United States since the early twentieth century and became a major tactic used by presidential administrations in the 1980s to fight drug wars in South America. Since the September 11, 2001, terrorist attacks, the United States has escalated its use of targeted killing. The CIA and Pentagon have employed the controversial practice more than ever before, and President Barack Obama’s administration increased drone-targeted killing and special forces dramatically. This text looks at both the history and current use of government-sponsored assassinations, providing thoughtful analysis from multiple perspectives about the issues, politics, and ethics behind state-sponsored killing to help students think critically about the issue today.","English",47.93,35.950000000000003,"343.73'018414--dc23","208 pp.",{"$f":"Table1[[#This Row],[QTY]]*Table1[[#This Row],['# of Books]]","v":0},{"$f":"Table1[[#This Row],[QTY]]*Table1[[#This Row],[School & Library Price]]","v":0}]
[null,null,null,78,"Analyzing the Issues","Critical Perspectives on Government-Sponsored Assassinations",1,"eBook","978-0-7660-8484-1",2018,"August 2017",null,"Author","Anne C. Cunningham",null,null,null,null,"Z",null,"Grade 8","Grade 7 - 12","State-sponsored assassinations have been used by the United States since the early twentieth century and became a major tactic used by presidential administrations in the 1980s to fight drug wars in South America. Since the September 11, 2001, terrorist attacks, the United States has escalated its use of targeted killing. The CIA and Pentagon have employed the controversial practice more than ever before, and President Barack Obama’s administration increased drone-targeted killing and special forces dramatically. This text looks at both the history and current use of government-sponsored assassinations, providing thoughtful analysis from multiple perspectives about the issues, politics, and ethics behind state-sponsored killing to help students think critically about the issue today.","English",47.93,35.950000000000003,"343.73'018414--dc23","208 pp.",{"$f":"Table1[[#This Row],[QTY]]*Table1[[#This Row],['# of Books]]","v":0},{"$f":"Table1[[#This Row],[QTY]]*Table1[[#This Row],[School & Library Price]]","v":0}]
[null,null,null,78,"Analyzing the Issues","Critical Perspectives on Gun Control",1,"Library Bound Book","978-0-7660-8125-3",2017,"January 2017","6.000 X 9.000","Author","Anne C. Cunningham",null,null,null,null,"Z",null,"Grade 8","Grade 7 - 12","Every day, forty-eight children and teens are shot; of these, seven will die from gun-related violence. Everyone agrees that these statistics are horrific, and yet people disagree about how to reduce gun-related violence. Will more federal control of gun sales help? Or, as others state, will this lead to an uptick in violence among those who obtain guns illegally? This text introduces different perspectives about this important—and timely—issue. Experts, politicians, judges, and everyday people weigh in on this contentious issue, allowing students to analyze gun control from all sides.","English",47.93,35.950000000000003,"363.330973—dc23","208 pp.",{"$f":"Table1[[#This Row],[QTY]]*Table1[[#This Row],['# of Books]]","v":0},{"$f":"Table1[[#This Row],[QTY]]*Table1[[#This Row],[School & Library Price]]","v":0}]
[null,null,null,78,"Analyzing the Issues","Critical Perspectives on Gun Control",1,"eBook","978-0-7660-8126-0",2017,"January 2017",null,"Author","Anne C. Cunningham",null,null,null,null,"Z",null,"Grade 8","Grade 7 - 12","Every day, forty-eight children and teens are shot; of these, seven will die from gun-related violence. Everyone agrees that these statistics are horrific, and yet people disagree about how to reduce gun-related violence. Will more federal control of gun sales help? Or, as others state, will this lead to an uptick in violence among those who obtain guns illegally? This text introduces different perspectives about this important—and timely—issue. Experts, politicians, judges, and everyday people weigh in on this contentious issue, allowing students to analyze gun control from all sides.","English",47.93,35.950000000000003,"363.330973—dc23","208 pp.",{"$f":"Table1[[#This Row],[QTY]]*Table1[[#This Row],['# of Books]]","v":0},{"$f":"Table1[[#This Row],[QTY]]*Table1[[#This Row],[School & Library Price]]","v":0}]
[null,null,null,78,"Analyzing the Issues","Critical Perspectives on Immigrants and Refugees",1,"Library Bound Book","978-0-7660-7677-8",2017,"August 2016","6.000 X 9.000","Author","Anne C. Cunningham",null,null,null,null,"Z",null,"Grade 8","Grade 7 - 12","As civil conflict and increasingly dire economic situations spread across areas of the globe, refugees have left their homes in countries such as Afghanistan, Syria, and Somalia in search of a better future for themselves and their children. Their often-dangerous plights have received much media attention and have led to increased calls for international humanitarian aid—and, in some cases, for increased border control. In Critical Perspectives on Immigrants and Refugees, students will analyze this important issue and form their own conclusions based on opinions and data from experts, advocacy groups, and the media.","English",47.93,35.950000000000003,"325.73--dc23","208 pp.",{"$f":"Table1[[#This Row],[QTY]]*Table1[[#This Row],['# of Books]]","v":0},{"$f":"Table1[[#This Row],[QTY]]*Table1[[#This Row],[School & Library Price]]","v":0}]
[null,null,null,78,"Analyzing the Issues","Critical Perspectives on Immigrants and Refugees",1,"eBook","978-0-7660-7668-6",2017,"August 2016",null,"Author","Anne C. Cunningham",null,null,null,null,"Z",null,"Grade 8","Grade 7 - 12","As civil conflict and increasingly dire economic situations spread across areas of the globe, refugees have left their homes in countries such as Afghanistan, Syria, and Somalia in search of a better future for themselves and their children. Their often-dangerous plights have received much media attention and have led to increased calls for international humanitarian aid—and, in some cases, for increased border control. In Critical Perspectives on Immigrants and Refugees, students will analyze this important issue and form their own conclusions based on opinions and data from experts, advocacy groups, and the media.","English",47.93,35.950000000000003,"325.73--dc23","208 pp.",{"$f":"Table1[[#This Row],[QTY]]*Table1[[#This Row],['# of Books]]","v":0},{"$f":"Table1[[#This Row],[QTY]]*Table1[[#This Row],[School & Library Price]]","v":0}]
[null,null,null,78,"Analyzing the Issues","Critical Perspectives on Legalizing Marijuana",1,"Library Bound Book","978-0-7660-7669-3",2017,"August 2016","6.000 X 9.000","Author","Anne C. Cunningham",null,null,null,null,"Z",null,"Grade 8","Grade 7 - 12","Waves of support for the legalization of marijuana are sweeping across many states. In the wake of such change, this text analyzes what experts say on the topic—both for and against—juxtaposed with court decisions, the work of advocates on both sides, and the words of everyday people. Students will analyze these diverse viewpoints in order to draw their own conclusions.","English",47.93,35.950000000000003,"362.29/55610973--dc23","208 pp.",{"$f":"Table1[[#This Row],[QTY]]*Table1[[#This Row],['# of Books]]","v":0},{"$f":"Table1[[#This Row],[QTY]]*Table1[[#This Row],[School & Library Price]]","v":0}]
[null,null,null,78,"Analyzing the Issues","Critical Perspectives on Legalizing Marijuana",1,"eBook","978-0-7660-7637-2",2017,"August 2016",null,"Author","Anne C. Cunningham",null,null,null,null,"Z",null,"Grade 8","Grade 7 - 12","Waves of support for the legalization of marijuana are sweeping across many states. In the wake of such change, this text analyzes what experts say on the topic—both for and against—juxtaposed with court decisions, the work of advocates on both sides, and the words of everyday people. Students will analyze these diverse viewpoints in order to draw their own conclusions.","English",47.93,35.950000000000003,"362.29/55610973--dc23","208 pp.",{"$f":"Table1[[#This Row],[QTY]]*Table1[[#This Row],['# of Books]]","v":0},{"$f":"Table1[[#This Row],[QTY]]*Table1[[#This Row],[School & Library Price]]","v":0}]
[null,null,null,78,"Analyzing the Issues","Critical Perspectives on Millennials",1,"Library Bound Book","978-0-7660-8485-8",2018,"August 2017","6.000 X 9.000","Author","Bridget Heing",null,null,null,null,"Z",null,"Grade 8","Grade 7 - 12","Millennials are much discussed and debated by the public, media, and government, with many competing ideas about the age group. Including those born between the mid-1980s and early 2000s, the generation is sometimes seen as entitled and lacking in work ethic, while others feel they have proven themselves as innovative and forward thinking. Today, as millennials enter the workforce and begin shaping the future of the country, understanding how they fit into society is extremely important. In this book, arguments about millennials written by experts, researchers, politicians, and others will be laid out side by side so that students can form their own opinions not only about this critical generation, but about how society confronts change and generational differences.","English",47.93,35.950000000000003,"305.2--dc23","208 pp.",{"$f":"Table1[[#This Row],[QTY]]*Table1[[#This Row],['# of Books]]","v":0},{"$f":"Table1[[#This Row],[QTY]]*Table1[[#This Row],[School & Library Price]]","v":0}]
[null,null,null,78,"Analyzing the Issues","Critical Perspectives on Millennials",1,"eBook","978-0-7660-8486-5",2018,"August 2017",null,"Author","Bridget Heing",null,null,null,null,"Z",null,"Grade 8","Grade 7 - 12","Millennials are much discussed and debated by the public, media, and government, with many competing ideas about the age group. Including those born between the mid-1980s and early 2000s, the generation is sometimes seen as entitled and lacking in work ethic, while others feel they have proven themselves as innovative and forward thinking. Today, as millennials enter the workforce and begin shaping the future of the country, understanding how they fit into society is extremely important. In this book, arguments about millennials written by experts, researchers, politicians, and others will be laid out side by side so that students can form their own opinions not only about this critical generation, but about how society confronts change and generational differences.","English",47.93,35.950000000000003,"305.2--dc23","208 pp.",{"$f":"Table1[[#This Row],[QTY]]*Table1[[#This Row],['# of Books]]","v":0},{"$f":"Table1[[#This Row],[QTY]]*Table1[[#This Row],[School & Library Price]]","v":0}]
[null,null,null,78,"Analyzing the Issues","Critical Perspectives on Minors Playing High-Contact Sports",1,"Library Bound Book","978-0-7660-8137-6",2017,"January 2017","6.000 X 9.000","Author","John A. Torres",null,null,null,null,"Z",null,"Grade 8","Grade 7 - 12","Playing team sports has many benefits, and yet high-contact sports such as football and rugby have also been linked to serious injuries, including concussions, and a higher risk of dementia, depression, and Parkinson’s disease. How can we weigh the potential benefits of contact sports with their potentially serious risks? This text provides primary source evidence from doctors, scientists, and experts in the field of sports medicine, as well as ordinary people’s viewpoints, in order to help students reach their own conclusions about the risks related to high-contact sports.","English",47.93,35.950000000000003,"617.4’81044—dc23","208 pp.",{"$f":"Table1[[#This Row],[QTY]]*Table1[[#This Row],['# of Books]]","v":0},{"$f":"Table1[[#This Row],[QTY]]*Table1[[#This Row],[School & Library Price]]","v":0}]
[null,null,null,78,"Analyzing the Issues","Critical Perspectives on Minors Playing High-Contact Sports",1,"eBook","978-0-7660-8138-3",2017,"January 2017",null,"Author","John A. Torres",null,null,null,null,"Z",null,"Grade 8","Grade 7 - 12","Playing team sports has many benefits, and yet high-contact sports such as football and rugby have also been linked to serious injuries, including concussions, and a higher risk of dementia, depression, and Parkinson’s disease. How can we weigh the potential benefits of contact sports with their potentially serious risks? This text provides primary source evidence from doctors, scientists, and experts in the field of sports medicine, as well as ordinary people’s viewpoints, in order to help students reach their own conclusions about the risks related to high-contact sports.","English",47.93,35.950000000000003,"617.4’81044—dc23","208 pp.",{"$f":"Table1[[#This Row],[QTY]]*Table1[[#This Row],['# of Books]]","v":0},{"$f":"Table1[[#This Row],[QTY]]*Table1[[#This Row],[School & Library Price]]","v":0}]
[null,null,null,78,"Analyzing the Issues","Critical Perspectives on Terrorism",1,"Library Bound Book","978-0-7660-8127-7",2017,"January 2017","6.000 X 9.000","Author, Author","Elizabeth Schmermund, Stephen Feinstein",null,null,null,null,"Z",null,"Grade 8","Grade 7 - 12","Terrorism is a form of violence with the main intent of frightening people from pursuing their everyday lives. Despite calls to ignore a fear of terrorism lest “the terrorists win,” many Westerners are justifiably scared about what seems like the increased presence of terrorism in their world. This text examines viewpoints about the roots of terrorism and its role in different areas around the globe. Experts, journalists, and politicians all weigh in on this important topic in order to help students reach their own conclusions about the role of terrorism in our world today.","English",47.93,35.950000000000003,"303.6—dc23","208 pp.",{"$f":"Table1[[#This Row],[QTY]]*Table1[[#This Row],['# of Books]]","v":0},{"$f":"Table1[[#This Row],[QTY]]*Table1[[#This Row],[School & Library Price]]","v":0}]
[null,null,null,78,"Analyzing the Issues","Critical Perspectives on Terrorism",1,"eBook","978-0-7660-8128-4",2017,"January 2017",null,"Author, Author","Elizabeth Schmermund, Stephen Feinstein",null,null,null,null,"Z",null,"Grade 8","Grade 7 - 12","Terrorism is a form of violence with the main intent of frightening people from pursuing their everyday lives. Despite calls to ignore a fear of terrorism lest “the terrorists win,” many Westerners are justifiably scared about what seems like the increased presence of terrorism in their world. This text examines viewpoints about the roots of terrorism and its role in different areas around the globe. Experts, journalists, and politicians all weigh in on this important topic in order to help students reach their own conclusions about the role of terrorism in our world today.","English",47.93,35.950000000000003,"303.6—dc23","208 pp.",{"$f":"Table1[[#This Row],[QTY]]*Table1[[#This Row],['# of Books]]","v":0},{"$f":"Table1[[#This Row],[QTY]]*Table1[[#This Row],[School & Library Price]]","v":0}]
[null,null,null,78,"Analyzing the Issues","Critical Perspectives on the College Admissions Process",1,"Library Bound Book","978-0-7660-8479-7",2018,"August 2017","6.000 X 9.000","Author, Author","Bridey Heing, Greg Baldino",null,null,null,null,"Z",null,"Grade 8","Grade 7 - 12","Today, it may seem like the college admissions process has become more inflated and difficult to navigate than ever before. Many parents have become vocal about the standardized testing and college preparation that begins as early as elementary school. In fact, some families hire advisors to help their children chart a path to the most prestigious schools when they are barely teenagers. This text examines the historical college admissions process and where we are today through the thoughtful analysis of researchers, politicians, officials, and ordinary people in order to show students all sides of this often high-stress topic.","English",47.93,35.950000000000003,"378.73--dc23","208 pp.",{"$f":"Table1[[#This Row],[QTY]]*Table1[[#This Row],['# of Books]]","v":0},{"$f":"Table1[[#This Row],[QTY]]*Table1[[#This Row],[School & Library Price]]","v":0}]
[null,null,null,78,"Analyzing the Issues","Critical Perspectives on the College Admissions Process",1,"eBook","978-0-7660-8480-3",2018,"August 2017",null,"Author, Author","Bridey Heing, Greg Baldino",null,null,null,null,"Z",null,"Grade 8","Grade 7 - 12","Today, it may seem like the college admissions process has become more inflated and difficult to navigate than ever before. Many parents have become vocal about the standardized testing and college preparation that begins as early as elementary school. In fact, some families hire advisors to help their children chart a path to the most prestigious schools when they are barely teenagers. This text examines the historical college admissions process and where we are today through the thoughtful analysis of researchers, politicians, officials, and ordinary people in order to show students all sides of this often high-stress topic.","English",47.93,35.950000000000003,"378.73--dc23","208 pp.",{"$f":"Table1[[#This Row],[QTY]]*Table1[[#This Row],['# of Books]]","v":0},{"$f":"Table1[[#This Row],[QTY]]*Table1[[#This Row],[School & Library Price]]","v":0}]
[null,null,null,78,"Analyzing the Issues","Critical Perspectives on the Minimum Wage",1,"Library Bound Book","978-0-7660-7675-4",2017,"August 2016","6.000 X 9.000","Author","Anne C. Cunningham",null,null,null,null,"Z",null,"Grade 8","Grade 7 - 12","Perspectives on minimum wage have changed significantly over the past twenty years, as seen in the increased momentum of movements around the country to increase workers’ salaries. Critics of an increased minimum wage argue that it will lead to mass lay-offs and increased unemployment. Proponents argue the opposite—that it will jump start our economy. In this book, economists, the media, the courts, and even ordinary people will weigh in on this contentious issue, allowing students to evaluate the minimum wage from all sides.","English",47.93,35.950000000000003,"331.2/30973--dc23","208 pp.",{"$f":"Table1[[#This Row],[QTY]]*Table1[[#This Row],['# of Books]]","v":0},{"$f":"Table1[[#This Row],[QTY]]*Table1[[#This Row],[School & Library Price]]","v":0}]
[null,null,null,78,"Analyzing the Issues","Critical Perspectives on the Minimum Wage",1,"eBook","978-0-7660-7666-2",2017,"August 2016",null,"Author","Anne C. Cunningham",null,null,null,null,"Z",null,"Grade 8","Grade 7 - 12","Perspectives on minimum wage have changed significantly over the past twenty years, as seen in the increased momentum of movements around the country to increase workers’ salaries. Critics of an increased minimum wage argue that it will lead to mass lay-offs and increased unemployment. Proponents argue the opposite—that it will jump start our economy. In this book, economists, the media, the courts, and even ordinary people will weigh in on this contentious issue, allowing students to evaluate the minimum wage from all sides.","English",47.93,35.950000000000003,"331.2/30973--dc23","208 pp.",{"$f":"Table1[[#This Row],[QTY]]*Table1[[#This Row],['# of Books]]","v":0},{"$f":"Table1[[#This Row],[QTY]]*Table1[[#This Row],[School & Library Price]]","v":0}]
[null,null,null,78,"Analyzing the Issues","Critical Perspectives on the Opioid Epidemic",1,"Library Bound Book","978-0-7660-8487-2",2018,"August 2017","6.000 X 9.000","Author","Paula Johanson",null,null,null,null,"Z",null,"Grade 8","Grade 7 - 12","The use of painkilling drugs has become an epidemic, with an increasing number of prescriptions being written as well as illegal use of street drugs. Deaths from unexpected overdoses are followed by reports of opioids being added to various street drugs, in inconsistent amounts. It's hard to know from news reports just how dangerous opioids can be or who is using them. This text has primary-source evidence from doctors and thoughtful analysis from health experts and court cases, as well as personal viewpoints of people affected in their ordinary lives, helping students think critically about opioid use and abuse.","English",47.93,35.950000000000003,"362.290973--dc23","208 pp.",{"$f":"Table1[[#This Row],[QTY]]*Table1[[#This Row],['# of Books]]","v":0},{"$f":"Table1[[#This Row],[QTY]]*Table1[[#This Row],[School & Library Price]]","v":0}]
[null,null,null,78,"Analyzing the Issues","Critical Perspectives on the Opioid Epidemic",1,"eBook","978-0-7660-8488-9",2018,"August 2017",null,"Author","Paula Johanson",null,null,null,null,"Z",null,"Grade 8","Grade 7 - 12","The use of painkilling drugs has become an epidemic, with an increasing number of prescriptions being written as well as illegal use of street drugs. Deaths from unexpected overdoses are followed by reports of opioids being added to various street drugs, in inconsistent amounts. It's hard to know from news reports just how dangerous opioids can be or who is using them. This text has primary-source evidence from doctors and thoughtful analysis from health experts and court cases, as well as personal viewpoints of people affected in their ordinary lives, helping students think critically about opioid use and abuse.","English",47.93,35.950000000000003,"362.290973--dc23","208 pp.",{"$f":"Table1[[#This Row],[QTY]]*Table1[[#This Row],['# of Books]]","v":0},{"$f":"Table1[[#This Row],[QTY]]*Table1[[#This Row],[School & Library Price]]","v":0}]
[null,null,null,78,"Analyzing the Issues","Critical Perspectives on the Viability of Human Life on Other Planets",1,"Library Bound Book","978-0-7660-7674-7",2017,"August 2016","6.000 X 9.000","Author","Nicki Peter Petrikowski",null,null,null,null,"Z",null,"Grade 8","Grade 7 - 12","Recent technological developments have opened up the possibility of colonizing other planets. Some experts argue that space colonization will be essential for the survival of the human species. In Critical Perspectives on the Viability of Human Life on Other Planets, students will analyze and evaluate experts’ opinions on space colonization in order to reach their own conclusions—and expand their horizons.","English",47.93,35.950000000000003,"629.44/2--dc23","208 pp.",{"$f":"Table1[[#This Row],[QTY]]*Table1[[#This Row],['# of Books]]","v":0},{"$f":"Table1[[#This Row],[QTY]]*Table1[[#This Row],[School & Library Price]]","v":0}]
[null,null,null,78,"Analyzing the Issues","Critical Perspectives on the Viability of Human Life on Other Planets",1,"eBook","978-0-7660-7664-8",2017,"August 2016",null,"Author","Nicki Peter Petrikowski",null,null,null,null,"Z",null,"Grade 8","Grade 7 - 12","Recent technological developments have opened up the possibility of colonizing other planets. Some experts argue that space colonization will be essential for the survival of the human species. In Critical Perspectives on the Viability of Human Life on Other Planets, students will analyze and evaluate experts’ opinions on space colonization in order to reach their own conclusions—and expand their horizons.","English",47.93,35.950000000000003,"629.44/2--dc23","208 pp.",{"$f":"Table1[[#This Row],[QTY]]*Table1[[#This Row],['# of Books]]","v":0},{"$f":"Table1[[#This Row],[QTY]]*Table1[[#This Row],[School & Library Price]]","v":0}]
[null,null,null,78,"Analyzing the Issues","Critical Perspectives on US Engagement in the Middle East",1,"Library Bound Book","978-0-7660-8129-1",2017,"January 2017","6.000 X 9.000","Author","Anne C. Cunningham",null,null,null,null,"Z",null,"Grade 8","Grade 7 - 12","The Middle East is almost always in the American news, and US forces—whether on the ground or in the air—have been involved in the region almost consistently for generations. Yet many people don’t fully understand the intricacies of US military engagement in the Middle East. This text includes primary source evidence, including experts’ opinions and scientific data, political rhetoric, and court decisions, in order to show students the issue from all sides. Students will evaluate the evidence included in this text to reach their own conclusions on one of the most important issues of our time.","English",47.93,35.950000000000003,"327.56073—dc23","208 pp.",{"$f":"Table1[[#This Row],[QTY]]*Table1[[#This Row],['# of Books]]","v":0},{"$f":"Table1[[#This Row],[QTY]]*Table1[[#This Row],[School & Library Price]]","v":0}]
[null,null,null,78,"Analyzing the Issues","Critical Perspectives on US Engagement in the Middle East",1,"eBook","978-0-7660-8130-7",2017,"January 2017",null,"Author","Anne C. Cunningham",null,null,null,null,"Z",null,"Grade 8","Grade 7 - 12","The Middle East is almost always in the American news, and US forces—whether on the ground or in the air—have been involved in the region almost consistently for generations. Yet many people don’t fully understand the intricacies of US military engagement in the Middle East. This text includes primary source evidence, including experts’ opinions and scientific data, political rhetoric, and court decisions, in order to show students the issue from all sides. Students will evaluate the evidence included in this text to reach their own conclusions on one of the most important issues of our time.","English",47.93,35.950000000000003,"327.56073—dc23","208 pp.",{"$f":"Table1[[#This Row],[QTY]]*Table1[[#This Row],['# of Books]]","v":0},{"$f":"Table1[[#This Row],[QTY]]*Table1[[#This Row],[School & Library Price]]","v":0}]
[null,null,null,78,"Analyzing the Issues","Critical Perspectives on Vaccinations",1,"Library Bound Book","978-0-7660-8139-0",2017,"January 2017","6.000 X 9.000","Author","Paula Johanson",null,null,null,null,"Z",null,"Grade 8","Grade 7 - 12","Vaccinations have been a contentious issue in recent years, particularly in North America, where parents have decided to forgo vaccinating their children due to potential health risks. According to health experts, this has led to an increase in potentially deadly diseases and an overall decrease in herd immunity. With so much fearmongering online about the potential deadly consequences of vaccinations, however, what information can we trust? This text provides primary source evidence from doctors and experts, along with scientific data, court cases, and the viewpoints of everyday people, in order to facilitate students’ own critical thinking about this important issue.","English",47.93,35.950000000000003,"614.4í7ódc23","208 pp.",{"$f":"Table1[[#This Row],[QTY]]*Table1[[#This Row],['# of Books]]","v":0},{"$f":"Table1[[#This Row],[QTY]]*Table1[[#This Row],[School & Library Price]]","v":0}]
[null,null,null,78,"Analyzing the Issues","Critical Perspectives on Vaccinations",1,"eBook","978-0-7660-8140-6",2017,"January 2017",null,"Author","Paula Johanson",null,null,null,null,"Z",null,"Grade 8","Grade 7 - 12","Vaccinations have been a contentious issue in recent years, particularly in North America, where parents have decided to forgo vaccinating their children due to potential health risks. According to health experts, this has led to an increase in potentially deadly diseases and an overall decrease in herd immunity. With so much fearmongering online about the potential deadly consequences of vaccinations, however, what information can we trust? This text provides primary source evidence from doctors and experts, along with scientific data, court cases, and the viewpoints of everyday people, in order to facilitate students’ own critical thinking about this important issue.","English",47.93,35.950000000000003,"614.4í7ódc23","208 pp.",{"$f":"Table1[[#This Row],[QTY]]*Table1[[#This Row],['# of Books]]","v":0},{"$f":"Table1[[#This Row],[QTY]]*Table1[[#This Row],[School & Library Price]]","v":0}]
[null,null,null,78,"Analyzing the Issues","Analyzing the Issues: Sets 1 – 4",24,"Library Set","978-0-7660-9172-6",2018,"January 2018","6.000 X 9.000"," "," ",null,null,null,null,null,null,"Grade 8","Grade 7 - 12","Addressing controversial issues in contemporary society, this series explores each topic in a pro/con format, contrasting articles that reflect opposing opinions from experts, the government, the courts, advocacy organizations, the media, and ordinary people. These articles are carefully researched and collected from a wide variety of reliable sources in order to give the reader full perspective of the topic at hand, encouraging them to think critically and analyze topics that directly affect their lives and society as a whole.","English",1150.32,862.8,null,"208 pp.",{"$f":"Table1[[#This Row],[QTY]]*Table1[[#This Row],['# of Books]]","v":0},{"$f":"Table1[[#This Row],[QTY]]*Table1[[#This Row],[School & Library Price]]","v":0}]
[null,null,null,78,"Analyzing the Issues","Analyzing the Issues: Set 4",6,"Library Set","978-0-7660-9171-9",2018,"January 2018","6.000 X 9.000"," "," ",null,null,null,null,null,null,"Grade 8","Grade 7 - 12","Addressing controversial issues in contemporary society, this series explores each topic in a pro/con format by contrasting articles that reflect opposing opinions from experts, the government, the courts, advocacy organizations, the media, and ordinary people. These articles are carefully researched and collected from a wide variety of reliable sources in order to give the reader a full perspective on the topic at hand, encourage them to think critically, and allow them to analyze topics that affect their lives and society as a whole.","English",287.58,215.7,null,"208 pp.",{"$f":"Table1[[#This Row],[QTY]]*Table1[[#This Row],['# of Books]]","v":0},{"$f":"Table1[[#This Row],[QTY]]*Table1[[#This Row],[School & Library Price]]","v":0}]
[null,null,null,78,"Analyzing the Issues","Critical Perspectives on Effective Policing and Police Brutality",1,"Library Bound Book","978-0-7660-9170-2",2018,"January 2018","6.000 X 9.000","Edited by","Cyndy Aleo",null,null,null,null,"Z",null,"Grade 8","Grade 7 - 12","One of the most hotly debated subjects in current events is the use of force by police personnel. In recent years, protests have taken place over most of the United States after several high-profile cases in which excessive force during arrests was claimed. This volume examines opinions surrounding police action in the United States and abroad, such as arguments in favor of or against controversial policies such as stop-and-frisk. Through this wide spectrum of experiences, students are encouraged to reach their own conclusions using the information they have read and synthesized.","English",47.93,35.950000000000003,null,"208 pp.",{"$f":"Table1[[#This Row],[QTY]]*Table1[[#This Row],['# of Books]]","v":0},{"$f":"Table1[[#This Row],[QTY]]*Table1[[#This Row],[School & Library Price]]","v":0}]
[null,null,null,78,"Analyzing the Issues","Critical Perspectives on Effective Policing and Police Brutality",1,"eBook","978-0-7660-9164-1",2018,"January 2018",null,"Edited by","Cyndy Aleo",null,null,null,null,"Z",null,"Grade 8","Grade 7 - 12","One of the most hotly debated subjects in current events is the use of force by police personnel. In recent years, protests have taken place over most of the United States after several high-profile cases in which excessive force during arrests was claimed. This volume examines opinions surrounding police action in the United States and abroad, such as arguments in favor of or against controversial policies such as stop-and-frisk. Through this wide spectrum of experiences, students are encouraged to reach their own conclusions using the information they have read and synthesized.","English",47.93,35.950000000000003,null,"208 pp.",{"$f":"Table1[[#This Row],[QTY]]*Table1[[#This Row],['# of Books]]","v":0},{"$f":"Table1[[#This Row],[QTY]]*Table1[[#This Row],[School & Library Price]]","v":0}]
[null,null,null,78,"Analyzing the Issues","Critical Perspectives on Free Trade and Globalization",1,"Library Bound Book","978-0-7660-9168-9",2018,"January 2018","6.000 X 9.000","Edited by","Bridey Heing",null,null,null,null,"Z",null,"Grade 8","Grade 7 - 12","Technology and travel have connected the world like never before, making it easier than ever to trade goods and culture across borders. But with the ease of trade has come questions about how best to use this increased connection, and how all parties can benefit while protecting the world's most vulnerable workers. This book will introduce students to the debate surrounding free trade and globalization to help them understand the nature of international commerce, cultural exchanges brought on through trade, and how the international economy is evolving.","English",47.93,35.950000000000003,"382/.71--dc23","208 pp.",{"$f":"Table1[[#This Row],[QTY]]*Table1[[#This Row],['# of Books]]","v":0},{"$f":"Table1[[#This Row],[QTY]]*Table1[[#This Row],[School & Library Price]]","v":0}]
[null,null,null,78,"Analyzing the Issues","Critical Perspectives on Free Trade and Globalization",1,"eBook","978-0-7660-9162-7",2018,"January 2018",null,"Edited by","Bridey Heing",null,null,null,null,"Z",null,"Grade 8","Grade 7 - 12","Technology and travel have connected the world like never before, making it easier than ever to trade goods and culture across borders. But with the ease of trade has come questions about how best to use this increased connection, and how all parties can benefit while protecting the world's most vulnerable workers. This book will introduce students to the debate surrounding free trade and globalization to help them understand the nature of international commerce, cultural exchanges brought on through trade, and how the international economy is evolving.","English",47.93,35.950000000000003,"382/.71--dc23","208 pp.",{"$f":"Table1[[#This Row],[QTY]]*Table1[[#This Row],['# of Books]]","v":0},{"$f":"Table1[[#This Row],[QTY]]*Table1[[#This Row],[School & Library Price]]","v":0}]
[null,null,null,78,"Analyzing the Issues","Critical Perspectives on Media Bias",1,"Library Bound Book","978-0-7660-9169-6",2018,"January 2018","6.000 X 9.000","Edited by","Jennifer Peters",null,null,null,null,"Z",null,"Grade 8","Grade 7 - 12","What is media bias? Are all media outlets inherently biased? What does it mean for the news we receive? Media bias is a hot topic in the twenty-first century, when everyone and anyone can start a media organization and present content as news, but is all news created equal? Through critical essays and input from media insiders and watchdogs, students will explore what media bias is, how it affects the news they read and watch, and what they can do to make sure that they're not swayed by media bias when they ingest news.","English",47.93,35.950000000000003,"302.23--dc23","208 pp.",{"$f":"Table1[[#This Row],[QTY]]*Table1[[#This Row],['# of Books]]","v":0},{"$f":"Table1[[#This Row],[QTY]]*Table1[[#This Row],[School & Library Price]]","v":0}]
[null,null,null,78,"Analyzing the Issues","Critical Perspectives on Media Bias",1,"eBook","978-0-7660-9163-4",2018,"January 2018",null,"Edited by","Jennifer Peters",null,null,null,null,"Z",null,"Grade 8","Grade 7 - 12","What is media bias? Are all media outlets inherently biased? What does it mean for the news we receive? Media bias is a hot topic in the twenty-first century, when everyone and anyone can start a media organization and present content as news, but is all news created equal? Through critical essays and input from media insiders and watchdogs, students will explore what media bias is, how it affects the news they read and watch, and what they can do to make sure that they're not swayed by media bias when they ingest news.","English",47.93,35.950000000000003,"302.23--dc23","208 pp.",{"$f":"Table1[[#This Row],[QTY]]*Table1[[#This Row],['# of Books]]","v":0},{"$f":"Table1[[#This Row],[QTY]]*Table1[[#This Row],[School & Library Price]]","v":0}]
[null,null,null,78,"Analyzing the Issues","Critical Perspectives on Political Correctness",1,"Library Bound Book","978-0-7660-9167-2",2018,"January 2018","6.000 X 9.000","Edited by","Jennifer Peters",null,null,null,null,"Z",null,"Grade 8","Grade 7 - 12","In the wake of an extremely contentious U.S. presidential election that touched upon several hot-button issues including the right to marry and the legacy of the Civil Rights Movement, debate has erupted regarding the language people use to describe both political issues and groups of people. This book takes a look at the widening gap between those who believe political correctness is an unnecessary affectation and those who believe a greater good can be achieved with increased sensitivity in how we talk to, and about, each other. Through analyzing a range of viewpoints, students are encouraged to form their own opinions on this important topic.","English",47.93,35.950000000000003,"306.0973--dc23","208 pp.",{"$f":"Table1[[#This Row],[QTY]]*Table1[[#This Row],['# of Books]]","v":0},{"$f":"Table1[[#This Row],[QTY]]*Table1[[#This Row],[School & Library Price]]","v":0}]
[null,null,null,78,"Analyzing the Issues","Critical Perspectives on Political Correctness",1,"eBook","978-0-7660-9161-0",2018,"January 2018",null,"Edited by","Jennifer Peters",null,null,null,null,"Z",null,"Grade 8","Grade 7 - 12","In the wake of an extremely contentious U.S. presidential election that touched upon several hot-button issues including the right to marry and the legacy of the Civil Rights Movement, debate has erupted regarding the language people use to describe both political issues and groups of people. This book takes a look at the widening gap between those who believe political correctness is an unnecessary affectation and those who believe a greater good can be achieved with increased sensitivity in how we talk to, and about, each other. Through analyzing a range of viewpoints, students are encouraged to form their own opinions on this important topic.","English",47.93,35.950000000000003,"306.0973--dc23","208 pp.",{"$f":"Table1[[#This Row],[QTY]]*Table1[[#This Row],['# of Books]]","v":0},{"$f":"Table1[[#This Row],[QTY]]*Table1[[#This Row],[School & Library Price]]","v":0}]
[null,null,null,78,"Analyzing the Issues","Critical Perspectives on Sexual Harassment and Gender Violence",1,"Library Bound Book","978-0-7660-9166-5",2018,"January 2018","6.000 X 9.000","Edited by","Bridey Heing",null,null,null,null,"Z",null,"Grade 8","Grade 7 - 12","While awareness of sexual harassment and gender-based violence has increased in recent years, there is still much debate about what constitutes harassment, what motivates gender violence, and how best to combat both issues. The impact of this particular kind of aggression is real; it impacts the ability of women and other victims to go to school or work safely, and leaves many either dead or forced to live with long-term emotional or physical effects. This book explores the many facets of the conversation surrounding sexual harassment and gender violence, so that students understand the causes, forms, and impact of these two interconnected issues.","English",47.93,35.950000000000003,"305.42--dc23","208 pp.",{"$f":"Table1[[#This Row],[QTY]]*Table1[[#This Row],['# of Books]]","v":0},{"$f":"Table1[[#This Row],[QTY]]*Table1[[#This Row],[School & Library Price]]","v":0}]
[null,null,null,78,"Analyzing the Issues","Critical Perspectives on Sexual Harassment and Gender Violence",1,"eBook","978-0-7660-9160-3",2018,"January 2018",null,"Edited by","Bridey Heing",null,null,null,null,"Z",null,"Grade 8","Grade 7 - 12","While awareness of sexual harassment and gender-based violence has increased in recent years, there is still much debate about what constitutes harassment, what motivates gender violence, and how best to combat both issues. The impact of this particular kind of aggression is real; it impacts the ability of women and other victims to go to school or work safely, and leaves many either dead or forced to live with long-term emotional or physical effects. This book explores the many facets of the conversation surrounding sexual harassment and gender violence, so that students understand the causes, forms, and impact of these two interconnected issues.","English",47.93,35.950000000000003,"305.42--dc23","208 pp.",{"$f":"Table1[[#This Row],[QTY]]*Table1[[#This Row],['# of Books]]","v":0},{"$f":"Table1[[#This Row],[QTY]]*Table1[[#This Row],[School & Library Price]]","v":0}]
[null,null,null,78,"Analyzing the Issues","Critical Perspectives on Social Justice",1,"Library Bound Book","978-0-7660-9165-8",2018,"January 2018","6.000 X 9.000","Edited by","Jennifer Peters",null,null,null,null,"Z",null,"Grade 8","Grade 7 - 12","In order for citizens to have true equality, they must be able to have equal access to social, political, and economic rights and opportunities. But what does that mean for students today? Readers will explore what social justice means in modern society and will be challenged to look at the areas in their own lives where they see a need for social justice through essays, reports, and discussions on equality, privilege and opportunity in the twenty-first century.","English",47.93,35.950000000000003,"303.3/72--dc23","208 pp.",{"$f":"Table1[[#This Row],[QTY]]*Table1[[#This Row],['# of Books]]","v":0},{"$f":"Table1[[#This Row],[QTY]]*Table1[[#This Row],[School & Library Price]]","v":0}]
[null,null,null,78,"Analyzing the Issues","Critical Perspectives on Social Justice",1,"eBook","978-0-7660-9159-7",2018,"January 2018",null,"Edited by","Jennifer Peters",null,null,null,null,"Z",null,"Grade 8","Grade 7 - 12","In order for citizens to have true equality, they must be able to have equal access to social, political, and economic rights and opportunities. But what does that mean for students today? Readers will explore what social justice means in modern society and will be challenged to look at the areas in their own lives where they see a need for social justice through essays, reports, and discussions on equality, privilege and opportunity in the twenty-first century.","English",47.93,35.950000000000003,"303.3/72--dc23","208 pp.",{"$f":"Table1[[#This Row],[QTY]]*Table1[[#This Row],['# of Books]]","v":0},{"$f":"Table1[[#This Row],[QTY]]*Table1[[#This Row],[School & Library Price]]","v":0}]
[null,null,null,79,"Presidents at War","Presidents at War",7,"Library Set","978-0-7660-8596-1",2018,"August 2017","6.500 X 9.250",null,null,null,null,null,null,null,null,"Grade 8","Grade 7 - 12","Focusing on the dynamic role played by American presidents as commanders in chief during the major wars from the founding of the United States until the first decades of the twenty-first century, this series provides readers with insight into the administration, the people who advised the president, as well as combat and political strategies of the war itself. Each book examines the leadership qualities, character traits, worldview, policies, allies, triumphs, and defeats of an American wartime president, along with a detailed account of the war and the president's overwhelming influence on the US conduct of that war.","English",260.89,195.65,null,"128 pp.",{"$f":"Table1[[#This Row],[QTY]]*Table1[[#This Row],['# of Books]]","v":0},{"$f":"Table1[[#This Row],[QTY]]*Table1[[#This Row],[School & Library Price]]","v":0}]
[null,null,null,79,"Presidents at War","How Abraham Lincoln Fought the Civil War",1,"Library Bound Book","978-0-7660-8525-1",2018,"August 2017","6.500 X 9.250","Author","Laura Helwig",null,null,null,null,"Z",null,"Grade 8","Grade 7 - 12","Abraham Lincoln is the only US president to have had his entire term encapsulated by war. Through primary sources, images, and compelling narrative, students will learn how President Lincoln approached and executed the seemingly impossible job of chief commander of the Union army during the Civil War. They will discover Lincoln’s hands-on management of battlefield strategy, his creative tactics for dealing with difficult generals and ruthless political opponents, and his unfaltering conviction that the Union must be saved at all cost.","English",37.270000000000003,27.95,"973.7092--dc23","128 pp.",{"$f":"Table1[[#This Row],[QTY]]*Table1[[#This Row],['# of Books]]","v":0},{"$f":"Table1[[#This Row],[QTY]]*Table1[[#This Row],[School & Library Price]]","v":0}]
[null,null,null,79,"Presidents at War","How Abraham Lincoln Fought the Civil War",1,"eBook","978-0-7660-8526-8",2018,"August 2017",null,"Author","Laura Helwig",null,null,null,null,"Z",null,"Grade 8","Grade 7 - 12","Abraham Lincoln is the only US president to have had his entire term encapsulated by war. Through primary sources, images, and compelling narrative, students will learn how President Lincoln approached and executed the seemingly impossible job of chief commander of the Union army during the Civil War. They will discover Lincoln’s hands-on management of battlefield strategy, his creative tactics for dealing with difficult generals and ruthless political opponents, and his unfaltering conviction that the Union must be saved at all cost.","English",37.270000000000003,27.95,"973.7092--dc23","128 pp.",{"$f":"Table1[[#This Row],[QTY]]*Table1[[#This Row],['# of Books]]","v":0},{"$f":"Table1[[#This Row],[QTY]]*Table1[[#This Row],[School & Library Price]]","v":0}]
[null,null,null,79,"Presidents at War","How Barack Obama Fought the War on Terrorism",1,"Library Bound Book","978-0-7660-8535-0",2018,"August 2017","6.500 X 9.250","Author","John A. Torres",null,null,null,null,"Z",null,"Grade 8","Grade 7 - 12","From humble beginnings and a nontraditional upbringing, Barack Obama worked his way through law school and then onto Chicago’s political scene. After serving in the state legislature and one term in the Senate, Obama became the first African American president elected in the United States. His mettle would immediately be tested as he inherited a country at war—with terror. This ongoing conflict seems to have no end in sight. Read about the president’s actions to defeat the terror organizations that threaten America’s safety. Quotes from the two-term president himself bring readers into the Situation Room, where matters of life and death are decided.","English",37.270000000000003,27.95,null,"128 pp.",{"$f":"Table1[[#This Row],[QTY]]*Table1[[#This Row],['# of Books]]","v":0},{"$f":"Table1[[#This Row],[QTY]]*Table1[[#This Row],[School & Library Price]]","v":0}]
[null,null,null,79,"Presidents at War","How Barack Obama Fought the War on Terrorism",1,"eBook","978-0-7660-8536-7",2018,"August 2017",null,"Author","John A. Torres",null,null,null,null,"Z",null,"Grade 8","Grade 7 - 12","From humble beginnings and a nontraditional upbringing, Barack Obama worked his way through law school and then onto Chicago’s political scene. After serving in the state legislature and one term in the Senate, Obama became the first African American president elected in the United States. His mettle would immediately be tested as he inherited a country at war—with terror. This ongoing conflict seems to have no end in sight. Read about the president’s actions to defeat the terror organizations that threaten America’s safety. Quotes from the two-term president himself bring readers into the Situation Room, where matters of life and death are decided.","English",37.270000000000003,27.95,null,"128 pp.",{"$f":"Table1[[#This Row],[QTY]]*Table1[[#This Row],['# of Books]]","v":0},{"$f":"Table1[[#This Row],[QTY]]*Table1[[#This Row],[School & Library Price]]","v":0}]
[null,null,null,79,"Presidents at War","How Franklin D. Roosevelt Fought World War II",1,"Library Bound Book","978-0-7660-8527-5",2018,"August 2017","6.500 X 9.250","Author","Earle Rice, Jr.",null,null,null,null,"Z",null,"Grade 8","Grade 7 - 12","After Adolf Hitler attacked Poland on September 1, 1939, igniting World War II, it fell to President Franklin D. Roosevelt to keep his nation neutral while preparing it for war. When Japan’s surprise attack on Pearl Harbor brought that war to America, his strong, steady leadership guided it through all but four months of the most brutal war in the history of the world. Through full-color and black-and-white photos, informative sidebars, and engaging narrative, readers gain insight into Roosevelt’s administration and the people who advised him, as well as the combat and political strategies of the war itself and its legacy.","English",37.270000000000003,27.95,"973.917092--dc23","128 pp.",{"$f":"Table1[[#This Row],[QTY]]*Table1[[#This Row],['# of Books]]","v":0},{"$f":"Table1[[#This Row],[QTY]]*Table1[[#This Row],[School & Library Price]]","v":0}]
[null,null,null,79,"Presidents at War","How Franklin D. Roosevelt Fought World War II",1,"eBook","978-0-7660-8528-2",2018,"August 2017",null,"Author","Earle Rice, Jr.",null,null,null,null,"Z",null,"Grade 8","Grade 7 - 12","After Adolf Hitler attacked Poland on September 1, 1939, igniting World War II, it fell to President Franklin D. Roosevelt to keep his nation neutral while preparing it for war. When Japan’s surprise attack on Pearl Harbor brought that war to America, his strong, steady leadership guided it through all but four months of the most brutal war in the history of the world. Through full-color and black-and-white photos, informative sidebars, and engaging narrative, readers gain insight into Roosevelt’s administration and the people who advised him, as well as the combat and political strategies of the war itself and its legacy.","English",37.270000000000003,27.95,"973.917092--dc23","128 pp.",{"$f":"Table1[[#This Row],[QTY]]*Table1[[#This Row],['# of Books]]","v":0},{"$f":"Table1[[#This Row],[QTY]]*Table1[[#This Row],[School & Library Price]]","v":0}]
[null,null,null,79,"Presidents at War","How George W. Bush Fought the Wars in Iraq and Afghanistan",1,"Library Bound Book","978-0-7660-8533-6",2018,"August 2017","6.500 X 9.250","Author","Don Rauf",null,null,null,null,"Z",null,"Grade 8","Grade 7 - 12","After Osama bin Laden, leader of the Islamic militant group al-Qaeda, took responsibility for the 9/11 attacks, President George W. Bush launched a battle against violent extremist organizations that threatened the security of America. His fight against terrorism sent millions of US troops into battle in Afghanistan and Iraq. This book looks at how President Bush led the War on Terror, the challenges and success of these efforts, and how his actions have shaped the world we live in today. Sidebars and quotes highlight key events, while full-color photos and straightforward, yet compelling text bring this very recent war to life for readers.","English",37.270000000000003,27.95,"973.931092--dc23","128 pp.",{"$f":"Table1[[#This Row],[QTY]]*Table1[[#This Row],['# of Books]]","v":0},{"$f":"Table1[[#This Row],[QTY]]*Table1[[#This Row],[School & Library Price]]","v":0}]
[null,null,null,79,"Presidents at War","How George W. Bush Fought the Wars in Iraq and Afghanistan",1,"eBook","978-0-7660-8534-3",2018,"August 2017",null,"Author","Don Rauf",null,null,null,null,"Z",null,"Grade 8","Grade 7 - 12","After Osama bin Laden, leader of the Islamic militant group al-Qaeda, took responsibility for the 9/11 attacks, President George W. Bush launched a battle against violent extremist organizations that threatened the security of America. His fight against terrorism sent millions of US troops into battle in Afghanistan and Iraq. This book looks at how President Bush led the War on Terror, the challenges and success of these efforts, and how his actions have shaped the world we live in today. Sidebars and quotes highlight key events, while full-color photos and straightforward, yet compelling text bring this very recent war to life for readers.","English",37.270000000000003,27.95,"973.931092--dc23","128 pp.",{"$f":"Table1[[#This Row],[QTY]]*Table1[[#This Row],['# of Books]]","v":0},{"$f":"Table1[[#This Row],[QTY]]*Table1[[#This Row],[School & Library Price]]","v":0}]
[null,null,null,79,"Presidents at War","How George Washington Fought the Revolutionary War",1,"Library Bound Book","978-0-7660-8523-7",2018,"August 2017","6.500 X 9.250","Author","Jeanne Nagle",null,null,null,null,"Z",null,"Grade 8","Grade 7 - 12","Before he became the first president of the United States, George Washington had already made his mark as a military leader. As commander in chief of the nascent Continental army, Washington guided colonial forces to victory over the British during the American Revolution. Through informative text and historical imagery, readers will follow Washington’s trajectory as a military commander and strategist and discover how his innate leadership skills–exhibited on the battlefield and during his tenure as president–earned him the title “Father of His Country.”","English",37.270000000000003,27.95,"973.4/1092--dc23","128 pp.",{"$f":"Table1[[#This Row],[QTY]]*Table1[[#This Row],['# of Books]]","v":0},{"$f":"Table1[[#This Row],[QTY]]*Table1[[#This Row],[School & Library Price]]","v":0}]
[null,null,null,79,"Presidents at War","How George Washington Fought the Revolutionary War",1,"eBook","978-0-7660-8524-4",2018,"August 2017",null,"Author","Jeanne Nagle",null,null,null,null,"Z",null,"Grade 8","Grade 7 - 12","Before he became the first president of the United States, George Washington had already made his mark as a military leader. As commander in chief of the nascent Continental army, Washington guided colonial forces to victory over the British during the American Revolution. Through informative text and historical imagery, readers will follow Washington’s trajectory as a military commander and strategist and discover how his innate leadership skills–exhibited on the battlefield and during his tenure as president–earned him the title “Father of His Country.”","English",37.270000000000003,27.95,"973.4/1092--dc23","128 pp.",{"$f":"Table1[[#This Row],[QTY]]*Table1[[#This Row],['# of Books]]","v":0},{"$f":"Table1[[#This Row],[QTY]]*Table1[[#This Row],[School & Library Price]]","v":0}]
[null,null,null,79,"Presidents at War","How Lyndon B. Johnson Fought the Vietnam War",1,"Library Bound Book","978-0-7660-8531-2",2018,"August 2017","6.500 X 9.250","Author","Jason Porterfield",null,null,null,null,"Z",null,"Grade 8","Grade 7 - 12","Though Lyndon B. Johnson did not make the initial decision to enter the conflict in Vietnam, he accepted the burdens of the unofficial war when he took office. Through full-color and black-and-white photos, informative sidebars, and engaging text, readers sneak a peek into the Johnson administration and the people who advised him, gaining insight into the combat and political strategies of the war itself and its legacy. Understanding the pressures of this unpopular war and what went into the decision making to ramp up the conflict will give readers a new perspective on the frustrating struggle that took place in this small nation in Southeast Asia.","English",37.270000000000003,27.95,"973.923092--dc23","128 pp.",{"$f":"Table1[[#This Row],[QTY]]*Table1[[#This Row],['# of Books]]","v":0},{"$f":"Table1[[#This Row],[QTY]]*Table1[[#This Row],[School & Library Price]]","v":0}]
[null,null,null,79,"Presidents at War","How Lyndon B. Johnson Fought the Vietnam War",1,"eBook","978-0-7660-8532-9",2018,"August 2017",null,"Author","Jason Porterfield",null,null,null,null,"Z",null,"Grade 8","Grade 7 - 12","Though Lyndon B. Johnson did not make the initial decision to enter the conflict in Vietnam, he accepted the burdens of the unofficial war when he took office. Through full-color and black-and-white photos, informative sidebars, and engaging text, readers sneak a peek into the Johnson administration and the people who advised him, gaining insight into the combat and political strategies of the war itself and its legacy. Understanding the pressures of this unpopular war and what went into the decision making to ramp up the conflict will give readers a new perspective on the frustrating struggle that took place in this small nation in Southeast Asia.","English",37.270000000000003,27.95,"973.923092--dc23","128 pp.",{"$f":"Table1[[#This Row],[QTY]]*Table1[[#This Row],['# of Books]]","v":0},{"$f":"Table1[[#This Row],[QTY]]*Table1[[#This Row],[School & Library Price]]","v":0}]
[null,null,null,79,"Presidents at War","How Woodrow Wilson Fought World War I",1,"Library Bound Book","978-0-7660-8529-9",2018,"August 2017","6.500 X 9.250","Author","Samuel Willard Crompton",null,null,null,null,"Z",null,"Grade 8","Grade 7 - 12","Woodrow Wilson led America into the First World War in 1917. Historians have debated his methods and motives ever since. This volume explores Wilson's complex personality and the immense challenges he faced. Through quotes and vivid examples, the reader sees America and the world in a time when it seemed everything might come apart. Wilson is central to the story, but the reader also experiences the leading generals and the common soldier as well as the \"Big Four,\" the men who redrew the maps when the war ended.","English",37.270000000000003,27.95,"940.3/73--dc23","128 pp.",{"$f":"Table1[[#This Row],[QTY]]*Table1[[#This Row],['# of Books]]","v":0},{"$f":"Table1[[#This Row],[QTY]]*Table1[[#This Row],[School & Library Price]]","v":0}]
[null,null,null,79,"Presidents at War","How Woodrow Wilson Fought World War I",1,"eBook","978-0-7660-8530-5",2018,"August 2017",null,"Author","Samuel Willard Crompton",null,null,null,null,"Z",null,"Grade 8","Grade 7 - 12","Woodrow Wilson led America into the First World War in 1917. Historians have debated his methods and motives ever since. This volume explores Wilson's complex personality and the immense challenges he faced. Through quotes and vivid examples, the reader sees America and the world in a time when it seemed everything might come apart. Wilson is central to the story, but the reader also experiences the leading generals and the common soldier as well as the \"Big Four,\" the men who redrew the maps when the war ended.","English",37.270000000000003,27.95,"940.3/73--dc23","128 pp.",{"$f":"Table1[[#This Row],[QTY]]*Table1[[#This Row],['# of Books]]","v":0},{"$f":"Table1[[#This Row],[QTY]]*Table1[[#This Row],[School & Library Price]]","v":0}]
[null,null,null,80,"Sports Greats (All 18 Titles)","Sports Greats (All 18 Titles)",18,"Library Set","978-0-7660-8408-7",2017,"January 2017","7.250 X 9.250",null,null,null,null,null,null,null,null,"Grade 5 - 6","Grade 6 - 8","Sports fans of all ages and reading abilities will enjoy this series, which follows the popular Top 10 format and highlights the top ten moments or people in baseball, basketball, and football. Rich with stats, facts, figures, and photos, these engaging texts appeal to reluctant readers.","English",502.74,377.1,null,"48 pp.",{"$f":"Table1[[#This Row],[QTY]]*Table1[[#This Row],['# of Books]]","v":0},{"$f":"Table1[[#This Row],[QTY]]*Table1[[#This Row],[School & Library Price]]","v":0}]
[null,null,null,80,"Sports Greats (NEW Set of 6 Titles)","Sports Greats (NEW Set of 6 Titles)",6,"Library Set","978-0-7660-8405-6",2017,"January 2017","7.250 X 9.250",null,null,null,null,null,null,null,null,"Grade 5 - 6","Grade 6 - 8","Following the popular Top 10 format, each book in this series spotlights the top ten moments, teams, and players in football. Filled with statistics, facts, figures, photos, and well-researched information, each book gives plenty of information and reading opportunities for sports fans of all ages and reading levels.","English",167.58,125.7,null,"48 pp.",{"$f":"Table1[[#This Row],[QTY]]*Table1[[#This Row],['# of Books]]","v":0},{"$f":"Table1[[#This Row],[QTY]]*Table1[[#This Row],[School & Library Price]]","v":0}]
[null,null,null,80,"Sports Greats","Top 10 Bloopers in Baseball",1,"Library Bound Book","978-0-7660-7392-0",2016,"January 2016","7.250 X 9.250","Author","Jamal Hinnant",6.4,1,null,null,"Z",null,"Grade 5 - 6","Grade 6 - 8","Young readers will delight in learning about their favorite players’ laugh-out-loud goofs. Full-page photos capture the bloopers, and easy prose includes fun facts and stats.","English",27.93,20.95,"796.357","48 pp.",{"$f":"Table1[[#This Row],[QTY]]*Table1[[#This Row],['# of Books]]","v":0},{"$f":"Table1[[#This Row],[QTY]]*Table1[[#This Row],[School & Library Price]]","v":0}]
[null,null,null,80,"Sports Greats","Top 10 Bloopers in Baseball",1,"eBook","978-0-7660-7393-7",2016,"January 2016",null,"Author","Jamal Hinnant",6.4,1,null,null,"Z",null,"Grade 5 - 6","Grade 6 - 8","Young readers will delight in learning about their favorite players’ laugh-out-loud goofs. Full-page photos capture the bloopers, and easy prose includes fun facts and stats.","English",27.93,20.95,"796.357","48 pp.",{"$f":"Table1[[#This Row],[QTY]]*Table1[[#This Row],['# of Books]]","v":0},{"$f":"Table1[[#This Row],[QTY]]*Table1[[#This Row],[School & Library Price]]","v":0}]
[null,null,null,80,"Sports Greats","Top 10 Craziest Plays in Football",1,"Library Bound Book","978-0-7660-8306-6",2017,"January 2017","7.250 X 9.250","Author","David Aretha",5.7,1,null,null,"U",null,"Grade 5 - 6","Grade 6 - 8","The Music City Miracle, the Flutie Fling, and the Immaculate Reception are just a few of the unbelievable plays that have taken place on the football field. Written by veteran sports author David Aretha, this book engages readers with facts and stories about some of the most unusual and exciting NFL and college football moments. Plenty of full-page photos and statistics make this an exciting and entertaining read.","English",27.93,20.95,"796.330973--dc23","48 pp.",{"$f":"Table1[[#This Row],[QTY]]*Table1[[#This Row],['# of Books]]","v":0},{"$f":"Table1[[#This Row],[QTY]]*Table1[[#This Row],[School & Library Price]]","v":0}]
[null,null,null,80,"Sports Greats","Top 10 Craziest Plays in Football",1,"eBook","978-0-7660-8307-3",2017,"January 2017",null,"Author","David Aretha",null,null,null,null,"U",null,"Grade 5 - 6","Grade 6 - 8","The Music City Miracle, the Flutie Fling, and the Immaculate Reception are just a few of the unbelievable plays that have taken place on the football field. Written by veteran sports author David Aretha, this book engages readers with facts and stories about some of the most unusual and exciting NFL and college football moments. Plenty of full-page photos and statistics make this an exciting and entertaining read.","English",27.93,20.95,"796.330973--dc23","48 pp.",{"$f":"Table1[[#This Row],[QTY]]*Table1[[#This Row],['# of Books]]","v":0},{"$f":"Table1[[#This Row],[QTY]]*Table1[[#This Row],[School & Library Price]]","v":0}]
[null,null,null,80,"Sports Greats","Top 10 Dunkers in Basketball",1,"Library Bound Book","978-0-7660-7584-9",2017,"August 2016","7.250 X 9.250","Author","David Aretha",6.3,1,null,null,"Z",null,"Grade 5 - 6","Grade 6 - 8","There are not many things more exciting and entertaining than watching your favorite player charge toward the net, leap into the air, slam dunk, and score! The top NBA pros in this book, including Daryl Dawkins, Shawn Kemp, and Vince Carter, are known for their athletic power and crowd-stopping performances. Full-page photos of the players in action accompany each spread. Readers will learn the details of these NBA players’ backgrounds and such details as positions, teams, and best slam dunk moments. Easy-to-read language by veteran sports author David Aretha will keep readers turning the pages.","English",27.93,20.95,"796.323--dc23","48 pp.",{"$f":"Table1[[#This Row],[QTY]]*Table1[[#This Row],['# of Books]]","v":0},{"$f":"Table1[[#This Row],[QTY]]*Table1[[#This Row],[School & Library Price]]","v":0}]
[null,null,null,80,"Sports Greats","Top 10 Dunkers in Basketball",1,"eBook","978-0-7660-7589-4",2017,"August 2016",null,"Author","David Aretha",6.3,1,null,null,"Z",null,"Grade 5 - 6","Grade 6 - 8","There are not many things more exciting and entertaining than watching your favorite player charge toward the net, leap into the air, slam dunk, and score! The top NBA pros in this book, including Daryl Dawkins, Shawn Kemp, and Vince Carter, are known for their athletic power and crowd-stopping performances. Full-page photos of the players in action accompany each spread. Readers will learn the details of these NBA players’ backgrounds and such details as positions, teams, and best slam dunk moments. Easy-to-read language by veteran sports author David Aretha will keep readers turning the pages.","English",27.93,20.95,"796.323--dc23","48 pp.",{"$f":"Table1[[#This Row],[QTY]]*Table1[[#This Row],['# of Books]]","v":0},{"$f":"Table1[[#This Row],[QTY]]*Table1[[#This Row],[School & Library Price]]","v":0}]
[null,null,null,80,"Sports Greats","Top 10 Games in Football",1,"Library Bound Book","978-0-7660-8314-1",2017,"January 2017","7.250 X 9.250","Author","David Aretha",6,1,null,null,"U",null,"Grade 5 - 6","Grade 6 - 8","The 1962 Green Bay Packers . . .  the 1999 St. Louis Rams . . . the 2007 New England Patriots. Which is the best team in NFL history? Sports fans will debate this for all time. Readers will delight in all the details about the top ten teams chosen for this title. With specific statistics for each team’s best year, as well as fun facts and team dynamics, readers will learn about these talented teams and coaches, and what made them truly great.","English",27.93,20.95,"796.330973--dc23","48 pp.",{"$f":"Table1[[#This Row],[QTY]]*Table1[[#This Row],['# of Books]]","v":0},{"$f":"Table1[[#This Row],[QTY]]*Table1[[#This Row],[School & Library Price]]","v":0}]
[null,null,null,80,"Sports Greats","Top 10 Games in Football",1,"eBook","978-0-7660-8315-8",2017,"January 2017",null,"Author","David Aretha",null,null,null,null,"U",null,"Grade 5 - 6","Grade 6 - 8","The 1962 Green Bay Packers . . .  the 1999 St. Louis Rams . . . the 2007 New England Patriots. Which is the best team in NFL history? Sports fans will debate this for all time. Readers will delight in all the details about the top ten teams chosen for this title. With specific statistics for each team’s best year, as well as fun facts and team dynamics, readers will learn about these talented teams and coaches, and what made them truly great.","English",27.93,20.95,"796.330973--dc23","48 pp.",{"$f":"Table1[[#This Row],[QTY]]*Table1[[#This Row],['# of Books]]","v":0},{"$f":"Table1[[#This Row],[QTY]]*Table1[[#This Row],[School & Library Price]]","v":0}]
[null,null,null,80,"Sports Greats","Top 10 Hitters in Baseball",1,"Library Bound Book","978-0-7660-7396-8",2016,"January 2016","7.250 X 9.250","Author","David Aretha",5.9,1,null,null,"Z",null,"Grade 5 - 6","Grade 6 - 8","This informative yet fun text highlights the top ten hitters in baseball and includes their career stats, nicknames, teams, positions, and achievements. Full-page photos of the players in action accompany each spread.","English",27.93,20.95,"796.357'26--dc23","48 pp.",{"$f":"Table1[[#This Row],[QTY]]*Table1[[#This Row],['# of Books]]","v":0},{"$f":"Table1[[#This Row],[QTY]]*Table1[[#This Row],[School & Library Price]]","v":0}]
[null,null,null,80,"Sports Greats","Top 10 Hitters in Baseball",1,"eBook","978-0-7660-7397-5",2016,"January 2016",null,"Author","David Aretha",5.9,1,null,null,"Z",null,"Grade 5 - 6","Grade 6 - 8","This informative yet fun text highlights the top ten hitters in baseball and includes their career stats, nicknames, teams, positions, and achievements. Full-page photos of the players in action accompany each spread.","English",27.93,20.95,"796.357'26--dc23","48 pp.",{"$f":"Table1[[#This Row],[QTY]]*Table1[[#This Row],['# of Books]]","v":0},{"$f":"Table1[[#This Row],[QTY]]*Table1[[#This Row],[School & Library Price]]","v":0}]
[null,null,null,80,"Sports Greats","Top 10 Injuries in Baseball",1,"Library Bound Book","978-0-7660-7400-2",2016,"January 2016","7.250 X 9.250","Author","Jamal Hinnant",6.6,1,null,null,"Z",null,"Grade 5 - 6","Grade 6 - 8","This engaging text is teeming with facts and photos of the ten worst injuries in baseball. Readers will get to know the unfortunate players’ backgrounds and such details as positions, teams, and recovery periods. Easy-to-read language and specific details surrounding the injury will encourage readers to play safely.","English",27.93,20.95,"617.1'0276357--dc23","48 pp.",{"$f":"Table1[[#This Row],[QTY]]*Table1[[#This Row],['# of Books]]","v":0},{"$f":"Table1[[#This Row],[QTY]]*Table1[[#This Row],[School & Library Price]]","v":0}]
[null,null,null,80,"Sports Greats","Top 10 Injuries in Baseball",1,"eBook","978-0-7660-7401-9",2016,"January 2016",null,"Author","Jamal Hinnant",6.6,1,null,null,"Z",null,"Grade 5 - 6","Grade 6 - 8","This engaging text is teeming with facts and photos of the ten worst injuries in baseball. Readers will get to know the unfortunate players’ backgrounds and such details as positions, teams, and recovery periods. Easy-to-read language and specific details surrounding the injury will encourage readers to play safely.","English",27.93,20.95,"617.1'0276357--dc23","48 pp.",{"$f":"Table1[[#This Row],[QTY]]*Table1[[#This Row],['# of Books]]","v":0},{"$f":"Table1[[#This Row],[QTY]]*Table1[[#This Row],[School & Library Price]]","v":0}]
[null,null,null,80,"Sports Greats","Top 10 Injuries in Basketball",1,"Library Bound Book","978-0-7660-7570-2",2017,"August 2016","7.250 X 9.250","Author","Jamal Hinnant",7.1,1,null,null,"Z",null,"Grade 5 - 6","Grade 6 - 8","A split head and stitches were not enough to deter LeBron James from returning to Game 4 of the 2015 NBA finals! And did Steve Nash really just pop his nose back into place?! This engaging text is teeming with facts and photos of the ten worst injuries in basketball. Readers will get to know these NBA players’ backgrounds and such details as positions, teams, and recovery periods. Easy-to-read language and full-page color photos of the players in action fill the pages that highlight the careers of the players as well as specific details surrounding each injury.","English",27.93,20.95,"617.1/0276323--dc23","48 pp.",{"$f":"Table1[[#This Row],[QTY]]*Table1[[#This Row],['# of Books]]","v":0},{"$f":"Table1[[#This Row],[QTY]]*Table1[[#This Row],[School & Library Price]]","v":0}]
[null,null,null,80,"Sports Greats","Top 10 Injuries in Basketball",1,"eBook","978-0-7660-7571-9",2017,"August 2016",null,"Author","Jamal Hinnant",7.1,1,null,null,"Z",null,"Grade 5 - 6","Grade 6 - 8","A split head and stitches were not enough to deter LeBron James from returning to Game 4 of the 2015 NBA finals! And did Steve Nash really just pop his nose back into place?! This engaging text is teeming with facts and photos of the ten worst injuries in basketball. Readers will get to know these NBA players’ backgrounds and such details as positions, teams, and recovery periods. Easy-to-read language and full-page color photos of the players in action fill the pages that highlight the careers of the players as well as specific details surrounding each injury.","English",27.93,20.95,"617.1/0276323--dc23","48 pp.",{"$f":"Table1[[#This Row],[QTY]]*Table1[[#This Row],['# of Books]]","v":0},{"$f":"Table1[[#This Row],[QTY]]*Table1[[#This Row],[School & Library Price]]","v":0}]
[null,null,null,80,"Sports Greats","Top 10 Moments in Baseball",1,"Library Bound Book","978-0-7660-7404-0",2016,"January 2016","7.250 X 9.250","Author","David Aretha",5.8,1,null,null,"Z",null,"Grade 5 - 6","Grade 6 - 8","Fully illustrated with photos and using easy-to-understand language that is full of facts and stats, young readers will love reliving baseball’s top ten moments again and again.","English",27.93,20.95,"796.357--dc23","48 pp.",{"$f":"Table1[[#This Row],[QTY]]*Table1[[#This Row],['# of Books]]","v":0},{"$f":"Table1[[#This Row],[QTY]]*Table1[[#This Row],[School & Library Price]]","v":0}]
[null,null,null,80,"Sports Greats","Top 10 Moments in Baseball",1,"eBook","978-0-7660-7405-7",2016,"January 2016",null,"Author","David Aretha",5.8,1,null,null,"Z",null,"Grade 5 - 6","Grade 6 - 8","Fully illustrated with photos and using easy-to-understand language that is full of facts and stats, young readers will love reliving baseball’s top ten moments again and again.","English",27.93,20.95,"796.357--dc23","48 pp.",{"$f":"Table1[[#This Row],[QTY]]*Table1[[#This Row],['# of Books]]","v":0},{"$f":"Table1[[#This Row],[QTY]]*Table1[[#This Row],[School & Library Price]]","v":0}]
[null,null,null,80,"Sports Greats","Top 10 Moments in Basketball",1,"Library Bound Book","978-0-7660-7596-2",2017,"August 2016","7.250 X 9.250","Author","David Aretha",5.9,1,null,null,"Z",null,"Grade 5 - 6","Grade 6 - 8","Michael Jordan's deciding shot over Bryon Russell during the 1998 NBA Finals against the Utah Jazz may well be the most perfect moment in the decorated career of the greatest basketball player. But that is just one of the featured stories in this title that covers many other memorable plays on the professional court. David Aretha takes readers on a journey through the moments that sports fans will never forget. Rounding out the text features are full-page photos and many statistics, including details for each player’s top NBA year and their experiences on high school and college teams.","English",27.93,20.95,"796.32309--dc23","48 pp.",{"$f":"Table1[[#This Row],[QTY]]*Table1[[#This Row],['# of Books]]","v":0},{"$f":"Table1[[#This Row],[QTY]]*Table1[[#This Row],[School & Library Price]]","v":0}]
[null,null,null,80,"Sports Greats","Top 10 Moments in Basketball",1,"eBook","978-0-7660-7782-9",2017,"August 2016",null,"Author","David Aretha",5.9,1,null,null,"Z",null,"Grade 5 - 6","Grade 6 - 8","Michael Jordan's deciding shot over Bryon Russell during the 1998 NBA Finals against the Utah Jazz may well be the most perfect moment in the decorated career of the greatest basketball player. But that is just one of the featured stories in this title that covers many other memorable plays on the professional court. David Aretha takes readers on a journey through the moments that sports fans will never forget. Rounding out the text features are full-page photos and many statistics, including details for each player’s top NBA year and their experiences on high school and college teams.","English",27.93,20.95,"796.32309--dc23","48 pp.",{"$f":"Table1[[#This Row],[QTY]]*Table1[[#This Row],['# of Books]]","v":0},{"$f":"Table1[[#This Row],[QTY]]*Table1[[#This Row],[School & Library Price]]","v":0}]
[null,null,null,80,"Sports Greats","Top 10 Pitchers in Baseball",1,"Library Bound Book","978-0-7660-7408-8",2016,"January 2016","7.250 X 9.250","Author","David Aretha",5.9,1,null,null,"Z",null,"Grade 5 - 6","Grade 6 - 8","This high-interest, topical book is full of stats, photos, and fun facts about the top ten pitchers in baseball, including their backgrounds, nicknames, teams, positions, and years of note.","English",27.93,20.95,"796.357'22--dc23","48 pp.",{"$f":"Table1[[#This Row],[QTY]]*Table1[[#This Row],['# of Books]]","v":0},{"$f":"Table1[[#This Row],[QTY]]*Table1[[#This Row],[School & Library Price]]","v":0}]
[null,null,null,80,"Sports Greats","Top 10 Pitchers in Baseball",1,"eBook","978-0-7660-7409-5",2016,"January 2016",null,"Author","David Aretha",5.9,1,null,null,"Z",null,"Grade 5 - 6","Grade 6 - 8","This high-interest, topical book is full of stats, photos, and fun facts about the top ten pitchers in baseball, including their backgrounds, nicknames, teams, positions, and years of note.","English",27.93,20.95,"796.357'22--dc23","48 pp.",{"$f":"Table1[[#This Row],[QTY]]*Table1[[#This Row],['# of Books]]","v":0},{"$f":"Table1[[#This Row],[QTY]]*Table1[[#This Row],[School & Library Price]]","v":0}]
[null,null,null,80,"Sports Greats","Top 10 Quarterbacks in Football",1,"Library Bound Book","978-0-7660-8318-9",2017,"January 2017","7.250 X 9.250","Author","David Aretha",6.3,1,null,null,"U",null,"Grade 5 - 6","Grade 6 - 8","There are not many things more exciting and entertaining than watching your favorite quarterback fire pass after pass as he leads his team down the field to score. The top NFL QBs in this book, including Joe Montana, Brett Favre, Tom Brady, and Peyton Manning, are known for their athletic power and crowd-stopping performances. Full-page photos of the players in action accompany each spread. Readers will learn the details of these players’ backgrounds and such details as teams, completion percentages, and touchdown passes. Easy-to-read language by veteran sports author David Aretha will keep readers turning the pages.","English",27.93,20.95,"796.33092/2--dc23","48 pp.",{"$f":"Table1[[#This Row],[QTY]]*Table1[[#This Row],['# of Books]]","v":0},{"$f":"Table1[[#This Row],[QTY]]*Table1[[#This Row],[School & Library Price]]","v":0}]
[null,null,null,80,"Sports Greats","Top 10 Quarterbacks in Football",1,"eBook","978-0-7660-8319-6",2017,"January 2017",null,"Author","David Aretha",null,null,null,null,"U",null,"Grade 5 - 6","Grade 6 - 8","There are not many things more exciting and entertaining than watching your favorite quarterback fire pass after pass as he leads his team down the field to score. The top NFL QBs in this book, including Joe Montana, Brett Favre, Tom Brady, and Peyton Manning, are known for their athletic power and crowd-stopping performances. Full-page photos of the players in action accompany each spread. Readers will learn the details of these players’ backgrounds and such details as teams, completion percentages, and touchdown passes. Easy-to-read language by veteran sports author David Aretha will keep readers turning the pages.","English",27.93,20.95,"796.33092/2--dc23","48 pp.",{"$f":"Table1[[#This Row],[QTY]]*Table1[[#This Row],['# of Books]]","v":0},{"$f":"Table1[[#This Row],[QTY]]*Table1[[#This Row],[School & Library Price]]","v":0}]
[null,null,null,80,"Sports Greats","Top 10 Shooters and Scorers in Basketball",1,"Library Bound Book","978-0-7660-7564-1",2017,"August 2016","7.250 X 9.250","Author","David Aretha",6.1,1,null,null,"Z",null,"Grade 5 - 6","Grade 6 - 8","Who should have the ball when the buzzer is about to go off: Stephen Curry? Air Jordan? LeBron James? The exciting narrative of this title introduces readers to the top NBA shooters of all time. Readers will lean about their roads to professional careers, from backyard hoops and college championships to the NBA court. Plenty of full-page photos and exciting statistics, including details for each player’s top NBA year, add to this informative and entertaining read.","English",27.93,20.95,"796.323092/2--dc23","48 pp.",{"$f":"Table1[[#This Row],[QTY]]*Table1[[#This Row],['# of Books]]","v":0},{"$f":"Table1[[#This Row],[QTY]]*Table1[[#This Row],[School & Library Price]]","v":0}]
[null,null,null,80,"Sports Greats","Top 10 Shooters and Scorers in Basketball",1,"eBook","978-0-7660-7566-5",2017,"August 2016",null,"Author","David Aretha",6.1,1,null,null,"Z",null,"Grade 5 - 6","Grade 6 - 8","Who should have the ball when the buzzer is about to go off: Stephen Curry? Air Jordan? LeBron James? The exciting narrative of this title introduces readers to the top NBA shooters of all time. Readers will lean about their roads to professional careers, from backyard hoops and college championships to the NBA court. Plenty of full-page photos and exciting statistics, including details for each player’s top NBA year, add to this informative and entertaining read.","English",27.93,20.95,"796.323092/2--dc23","48 pp.",{"$f":"Table1[[#This Row],[QTY]]*Table1[[#This Row],['# of Books]]","v":0},{"$f":"Table1[[#This Row],[QTY]]*Table1[[#This Row],[School & Library Price]]","v":0}]
[null,null,null,80,"Sports Greats","Top 10 Teams in Baseball",1,"Library Bound Book","978-0-7660-7412-5",2016,"January 2016","7.250 X 9.250","Author","David Aretha",6,1,null,null,"Z",null,"Grade 5 - 6","Grade 6 - 8","This text describes the top ten baseball teams in great detail. With specific statistics as well as fun facts and photos, young readers will learn about their favorite teams and what made them truly great.","English",27.93,20.95,"796.357’64’0973","48 pp.",{"$f":"Table1[[#This Row],[QTY]]*Table1[[#This Row],['# of Books]]","v":0},{"$f":"Table1[[#This Row],[QTY]]*Table1[[#This Row],[School & Library Price]]","v":0}]
[null,null,null,80,"Sports Greats","Top 10 Teams in Baseball",1,"eBook","978-0-7660-7413-2",2016,"January 2016",null,"Author","David Aretha",6,1,null,null,"Z",null,"Grade 5 - 6","Grade 6 - 8","This text describes the top ten baseball teams in great detail. With specific statistics as well as fun facts and photos, young readers will learn about their favorite teams and what made them truly great.","English",27.93,20.95,"796.357’64’0973","48 pp.",{"$f":"Table1[[#This Row],[QTY]]*Table1[[#This Row],['# of Books]]","v":0},{"$f":"Table1[[#This Row],[QTY]]*Table1[[#This Row],[School & Library Price]]","v":0}]
[null,null,null,80,"Sports Greats","Top 10 Teams in Basketball",1,"Library Bound Book","978-0-7660-7603-7",2017,"August 2016","7.250 X 9.250","Author","Jamal Hinnant",7.2,1,null,null,"Z",null,"Grade 5 - 6","Grade 6 - 8","The Golden State Warriors . . . the Chicago Bulls . . . the Miami Heat. Which is the best team in NBA history? Sports fans will debate this for all time. Readers will delight in all the details about the top ten teams chosen for this title. With specific statistics for each team’s best year, as well as fun facts and full-page photos, readers will learn about their favorite teams and what made them truly great.","English",27.93,20.95,"796.323/64--dc23","48 pp.",{"$f":"Table1[[#This Row],[QTY]]*Table1[[#This Row],['# of Books]]","v":0},{"$f":"Table1[[#This Row],[QTY]]*Table1[[#This Row],[School & Library Price]]","v":0}]
[null,null,null,80,"Sports Greats","Top 10 Teams in Basketball",1,"eBook","978-0-7660-7609-9",2017,"August 2016",null,"Author","Jamal Hinnant",7.2,1,null,null,"Z",null,"Grade 5 - 6","Grade 6 - 8","The Golden State Warriors . . . the Chicago Bulls . . . the Miami Heat. Which is the best team in NBA history? Sports fans will debate this for all time. Readers will delight in all the details about the top ten teams chosen for this title. With specific statistics for each team’s best year, as well as fun facts and full-page photos, readers will learn about their favorite teams and what made them truly great.","English",27.93,20.95,"796.323/64--dc23","48 pp.",{"$f":"Table1[[#This Row],[QTY]]*Table1[[#This Row],['# of Books]]","v":0},{"$f":"Table1[[#This Row],[QTY]]*Table1[[#This Row],[School & Library Price]]","v":0}]
[null,null,null,80,"Sports Greats","Top 10 Teams in Football",1,"Library Bound Book","978-0-7660-8310-3",2017,"January 2017","7.250 X 9.250","Author","David Aretha",6.3,1,null,null,"U",null,"Grade 5 - 6","Grade 6 - 8","The 1962 Green Bay Packers . . .  the 1999 St. Louis Rams . . . the 2007 New England Patriots. Which is the best team in NFL history? Sports fans will debate this for all time. Readers will delight in all the details about the top ten teams chosen for this title. With specific statistics for each team’s best year, as well as fun facts and team dynamics, readers will learn about these talented teams and coaches, and what made them truly gr","English",27.93,20.95,"796.332/64—dc23","48 pp.",{"$f":"Table1[[#This Row],[QTY]]*Table1[[#This Row],['# of Books]]","v":0},{"$f":"Table1[[#This Row],[QTY]]*Table1[[#This Row],[School & Library Price]]","v":0}]
[null,null,null,80,"Sports Greats","Top 10 Teams in Football",1,"eBook","978-0-7660-8311-0",2017,"January 2017",null,"Author","David Aretha",null,null,null,null,"U",null,"Grade 5 - 6","Grade 6 - 8","The 1962 Green Bay Packers . . .  the 1999 St. Louis Rams . . . the 2007 New England Patriots. Which is the best team in NFL history? Sports fans will debate this for all time. Readers will delight in all the details about the top ten teams chosen for this title. With specific statistics for each team’s best year, as well as fun facts and team dynamics, readers will learn about these talented teams and coaches, and what made them truly gr","English",27.93,20.95,"796.332/64—dc23","48 pp.",{"$f":"Table1[[#This Row],[QTY]]*Table1[[#This Row],['# of Books]]","v":0},{"$f":"Table1[[#This Row],[QTY]]*Table1[[#This Row],[School & Library Price]]","v":0}]
[null,null,null,80,"Sports Greats","Top 10 Towers of Power in Basketball",1,"Library Bound Book","978-0-7660-7577-1",2017,"August 2016","7.250 X 9.250","Author","David Aretha",6.5,1,null,null,"Z",null,"Grade 5 - 6","Grade 6 - 8","Standing as tall as 7’2”, these legends of the basketball court dominated the floor during their careers. Ready for a backboard-shattering Shaq attack? Or how about a slam dunk from power forward Kevin Garnett? Written by veteran sports author David Aretha, this book engages readers with facts and stories about the towering legends of the NBA. Plenty of full-page photos and stats, including details for each player’s top NBA year and their experiences on high school and college teams, make this an exciting and entertaining read.","English",27.93,20.95,"796.3230922--dc23","48 pp.",{"$f":"Table1[[#This Row],[QTY]]*Table1[[#This Row],['# of Books]]","v":0},{"$f":"Table1[[#This Row],[QTY]]*Table1[[#This Row],[School & Library Price]]","v":0}]
[null,null,null,80,"Sports Greats","Top 10 Towers of Power in Basketball",1,"eBook","978-0-7660-7579-5",2017,"August 2016",null,"Author","David Aretha",6.5,1,null,null,"Z",null,"Grade 5 - 6","Grade 6 - 8","Standing as tall as 7’2”, these legends of the basketball court dominated the floor during their careers. Ready for a backboard-shattering Shaq attack? Or how about a slam dunk from power forward Kevin Garnett? Written by veteran sports author David Aretha, this book engages readers with facts and stories about the towering legends of the NBA. Plenty of full-page photos and stats, including details for each player’s top NBA year and their experiences on high school and college teams, make this an exciting and entertaining read.","English",27.93,20.95,"796.3230922--dc23","48 pp.",{"$f":"Table1[[#This Row],[QTY]]*Table1[[#This Row],['# of Books]]","v":0},{"$f":"Table1[[#This Row],[QTY]]*Table1[[#This Row],[School & Library Price]]","v":0}]
[null,null,null,80,"Sports Greats","Top 10 Wide Receivers in Football",1,"Library Bound Book","978-0-7660-8322-6",2017,"January 2017","7.250 X 9.250","Author","Sherri Mabry Gordon",6.7,1,null,null,"U",null,"Grade 5 - 6","Grade 6 - 8","What receiver would you want to be going long for a pass in the end zone when the clock is running low and the team is behind? Jerry Rice? Randy Moss? Terrell Owens? The exciting narrative of this title introduces readers to the top NFL wide receivers of all time, including their roads to professional careers, from college championships to the NFL field. Plenty of full-page photos and exciting statistics add to this informative and entertaining read.","English",27.93,20.95,"796.3320922ódc23","48 pp.",{"$f":"Table1[[#This Row],[QTY]]*Table1[[#This Row],['# of Books]]","v":0},{"$f":"Table1[[#This Row],[QTY]]*Table1[[#This Row],[School & Library Price]]","v":0}]
[null,null,null,80,"Sports Greats","Top 10 Wide Receivers in Football",1,"eBook","978-0-7660-8323-3",2017,"January 2017",null,"Author","Sherri Mabry Gordon",null,null,null,null,"U",null,"Grade 5 - 6","Grade 6 - 8","What receiver would you want to be going long for a pass in the end zone when the clock is running low and the team is behind? Jerry Rice? Randy Moss? Terrell Owens? The exciting narrative of this title introduces readers to the top NFL wide receivers of all time, including their roads to professional careers, from college championships to the NFL field. Plenty of full-page photos and exciting statistics add to this informative and entertaining read.","English",27.93,20.95,"796.3320922ódc23","48 pp.",{"$f":"Table1[[#This Row],[QTY]]*Table1[[#This Row],['# of Books]]","v":0},{"$f":"Table1[[#This Row],[QTY]]*Table1[[#This Row],[School & Library Price]]","v":0}]
[null,null,null,80,"Sports Greats","Top 10 Worst Injuries in Football",1,"Library Bound Book","978-0-7660-8302-8",2017,"January 2017","7.250 X 9.250","Author","David Aretha",6.1,1,null,null,"V",null,"Grade 5 - 6","Grade 6 - 8","Joe Theismann’s gruesome broken leg in 1985 is likely the most memorable football injury in NFL history. But there are more, including brain trauma, broken arms, and torn ACLs. This engaging text is teeming with facts and photos of the ten worst injuries in football. Readers will get to know the details of these players’ backgrounds and such details as positions, teams, and recovery periods. Easy-to-read language and full-page photos of the players in action fill the pages that highlight the careers of the players as well as specific details surrounding each injury.","English",27.93,20.95,"617.1/02763326--dc23","48 pp.",{"$f":"Table1[[#This Row],[QTY]]*Table1[[#This Row],['# of Books]]","v":0},{"$f":"Table1[[#This Row],[QTY]]*Table1[[#This Row],[School & Library Price]]","v":0}]
[null,null,null,80,"Sports Greats","Top 10 Worst Injuries in Football",1,"eBook","978-0-7660-8303-5",2017,"January 2017",null,"Author","David Aretha",null,null,null,null,"V",null,"Grade 5 - 6","Grade 6 - 8","Joe Theismann’s gruesome broken leg in 1985 is likely the most memorable football injury in NFL history. But there are more, including brain trauma, broken arms, and torn ACLs. This engaging text is teeming with facts and photos of the ten worst injuries in football. Readers will get to know the details of these players’ backgrounds and such details as positions, teams, and recovery periods. Easy-to-read language and full-page photos of the players in action fill the pages that highlight the careers of the players as well as specific details surrounding each injury.","English",27.93,20.95,"617.1/02763326--dc23","48 pp.",{"$f":"Table1[[#This Row],[QTY]]*Table1[[#This Row],['# of Books]]","v":0},{"$f":"Table1[[#This Row],[QTY]]*Table1[[#This Row],[School & Library Price]]","v":0}]
[null,null,null,81,"Mastering Martial Arts","Mastering Martial Arts",6,"Library Set","978-0-7660-8595-4",2018,"August 2017","6.500 X 9.250",null,null,null,null,null,null,null,null,"Grade 6","Grade 6 - 12","Readers are introduced to the action-packed and fascinating world of martial arts. Each book provides a history of the discipline as well as any necessary equipment, warm-up exercises to prevent injury, and details on the different styles and categories. Detailed step-by-step instructions and accompanying photographs help readers learn the positions and fundamental techniques followed by a demonstration of basic attacks and counterattacks. As each book progresses, the attacks become more and more varied and complex. Formal exercises encourage students to practice what they have learned, keep track of personal progress, and improve their mastery of the discipline.","English",223.62,167.7,null,"128 pp.",{"$f":"Table1[[#This Row],[QTY]]*Table1[[#This Row],['# of Books]]","v":0},{"$f":"Table1[[#This Row],[QTY]]*Table1[[#This Row],[School & Library Price]]","v":0}]
[null,null,null,81,"Mastering Martial Arts","A Complete Guide to Ju Jitsu",1,"Library Bound Book","978-0-7660-8545-9",2018,"August 2017","6.500 X 9.250","Author","Giancarlo Bagnulo",null,null,null,null,"Y",null,"Grade 6","Grade 6 - 12","This book provides a history of the Japanese martial art of ju jitsu as well as details on the different styles. Detailed step-by-step instructions and accompanying photographs help readers learn the positions and fundamental techniques to properly throw, pin, and joint-lock their opponents. As the book progresses, the moves become more and more complex. Formal exercises encourage students to practice what they have learned, keep track of personal progress, and improve their mastery of the discipline. The book also includes a glossary, a further reading section with books and websites, and an index.","English",37.270000000000003,27.95,"796.815/2--dc23","128 pp.",{"$f":"Table1[[#This Row],[QTY]]*Table1[[#This Row],['# of Books]]","v":0},{"$f":"Table1[[#This Row],[QTY]]*Table1[[#This Row],[School & Library Price]]","v":0}]
[null,null,null,81,"Mastering Martial Arts","A Complete Guide to Ju Jitsu",1,"eBook","978-0-7660-8546-6",2018,"August 2017",null,"Author","Giancarlo Bagnulo",null,null,null,null,"Y",null,"Grade 6","Grade 6 - 12","This book provides a history of the Japanese martial art of ju jitsu as well as details on the different styles. Detailed step-by-step instructions and accompanying photographs help readers learn the positions and fundamental techniques to properly throw, pin, and joint-lock their opponents. As the book progresses, the moves become more and more complex. Formal exercises encourage students to practice what they have learned, keep track of personal progress, and improve their mastery of the discipline. The book also includes a glossary, a further reading section with books and websites, and an index.","English",37.270000000000003,27.95,"796.815/2--dc23","128 pp.",{"$f":"Table1[[#This Row],[QTY]]*Table1[[#This Row],['# of Books]]","v":0},{"$f":"Table1[[#This Row],[QTY]]*Table1[[#This Row],[School & Library Price]]","v":0}]
[null,null,null,81,"Mastering Martial Arts","A Complete Guide to Judo",1,"Library Bound Book","978-0-7660-8547-3",2018,"August 2017","6.500 X 9.250","Author","Roberto Ghetti",null,null,null,null,"Y",null,"Grade 6","Grade 6 - 12","Judo is a modern martial art that originated in Japan in 1882 and became an Olympic sport in 1964. This book provides a history of the discipline as well as detailed step-by-step instructions and accompanying photographs to help readers learn the positions and fundamental techniques. Formal exercises encourage students to practice what they have learned, keep track of personal progress, and improve their mastery of the discipline. The book also includes a glossary, a further reading section with books and websites, and an index.","English",37.270000000000003,27.95,"796.815/2--dc23","128 pp.",{"$f":"Table1[[#This Row],[QTY]]*Table1[[#This Row],['# of Books]]","v":0},{"$f":"Table1[[#This Row],[QTY]]*Table1[[#This Row],[School & Library Price]]","v":0}]
[null,null,null,81,"Mastering Martial Arts","A Complete Guide to Judo",1,"eBook","978-0-7660-8548-0",2018,"August 2017",null,"Author","Roberto Ghetti",null,null,null,null,"Y",null,"Grade 6","Grade 6 - 12","Judo is a modern martial art that originated in Japan in 1882 and became an Olympic sport in 1964. This book provides a history of the discipline as well as detailed step-by-step instructions and accompanying photographs to help readers learn the positions and fundamental techniques. Formal exercises encourage students to practice what they have learned, keep track of personal progress, and improve their mastery of the discipline. The book also includes a glossary, a further reading section with books and websites, and an index.","English",37.270000000000003,27.95,"796.815/2--dc23","128 pp.",{"$f":"Table1[[#This Row],[QTY]]*Table1[[#This Row],['# of Books]]","v":0},{"$f":"Table1[[#This Row],[QTY]]*Table1[[#This Row],[School & Library Price]]","v":0}]
[null,null,null,81,"Mastering Martial Arts","A Complete Guide to Karate",1,"Library Bound Book","978-0-7660-8539-8",2018,"August 2017","6.500 X 9.250","Author, Author","Stefano Di Marino, Roberto Ghetti",null,null,null,null,"X",null,"Grade 6","Grade 6 - 12","Readers will learn about the history of karate and details on the different styles and belt categories. Charts and tables organize information in a visually appealing and easy-to-grasp way. Detailed step-by-step instructions and accompanying photographs help readers learn the positions and fundamental techniques followed by a demonstration of basic attacks and counterattacks. As the book progresses, the attacks become more and more varied and complex. Formal exercises encourage students to practice what they have learned, keep track of personal progress, and improve their mastery of karate.","English",37.270000000000003,27.95,"796.815/3--dc23","128 pp.",{"$f":"Table1[[#This Row],[QTY]]*Table1[[#This Row],['# of Books]]","v":0},{"$f":"Table1[[#This Row],[QTY]]*Table1[[#This Row],[School & Library Price]]","v":0}]
[null,null,null,81,"Mastering Martial Arts","A Complete Guide to Karate",1,"eBook","978-0-7660-8540-4",2018,"August 2017",null,"Author, Author","Stefano Di Marino, Roberto Ghetti",null,null,null,null,"X",null,"Grade 6","Grade 6 - 12","Readers will learn about the history of karate and details on the different styles and belt categories. Charts and tables organize information in a visually appealing and easy-to-grasp way. Detailed step-by-step instructions and accompanying photographs help readers learn the positions and fundamental techniques followed by a demonstration of basic attacks and counterattacks. As the book progresses, the attacks become more and more varied and complex. Formal exercises encourage students to practice what they have learned, keep track of personal progress, and improve their mastery of karate.","English",37.270000000000003,27.95,"796.815/3--dc23","128 pp.",{"$f":"Table1[[#This Row],[QTY]]*Table1[[#This Row],['# of Books]]","v":0},{"$f":"Table1[[#This Row],[QTY]]*Table1[[#This Row],[School & Library Price]]","v":0}]
[null,null,null,81,"Mastering Martial Arts","A Complete Guide to Kickboxing",1,"Library Bound Book","978-0-7660-8543-5",2018,"August 2017","6.500 X 9.250","Author","Stefano Di Marino",null,null,null,null,"W",null,"Grade 6","Grade 6 - 12","Readers will enter the action-packed and fascinating world of kickboxing. This book provides a history of the discipline as well as information on necessary equipment, warm-up exercises to prevent injury, and details on the different categories. Charts and tables organize information in a visually appealing and easy-to-grasp way. Detailed step-by-step instructions and accompanying photographs help readers learn the fundamental techniques and movements, such as defensive positions, punching, kicking, and knee and elbow strikes. The book also includes a glossary, a further reading section with books and websites, and an index.","English",37.270000000000003,27.95,"796.815--dc23","128 pp.",{"$f":"Table1[[#This Row],[QTY]]*Table1[[#This Row],['# of Books]]","v":0},{"$f":"Table1[[#This Row],[QTY]]*Table1[[#This Row],[School & Library Price]]","v":0}]
[null,null,null,81,"Mastering Martial Arts","A Complete Guide to Kickboxing",1,"eBook","978-0-7660-8544-2",2018,"August 2017",null,"Author","Stefano Di Marino",null,null,null,null,"W",null,"Grade 6","Grade 6 - 12","Readers will enter the action-packed and fascinating world of kickboxing. This book provides a history of the discipline as well as information on necessary equipment, warm-up exercises to prevent injury, and details on the different categories. Charts and tables organize information in a visually appealing and easy-to-grasp way. Detailed step-by-step instructions and accompanying photographs help readers learn the fundamental techniques and movements, such as defensive positions, punching, kicking, and knee and elbow strikes. The book also includes a glossary, a further reading section with books and websites, and an index.","English",37.270000000000003,27.95,"796.815--dc23","128 pp.",{"$f":"Table1[[#This Row],[QTY]]*Table1[[#This Row],['# of Books]]","v":0},{"$f":"Table1[[#This Row],[QTY]]*Table1[[#This Row],[School & Library Price]]","v":0}]
[null,null,null,81,"Mastering Martial Arts","A Complete Guide to Kung Fu",1,"Library Bound Book","978-0-7660-8541-1",2018,"August 2017","6.500 X 9.250","Author, Author","Antonello Casarella, Roberto Ghetti",null,null,null,null,"Y",null,"Grade 6","Grade 6 - 12","Readers are introduced to the action-packed and fascinating world of kung fu. This book provides a history of the discipline as well as details on the different styles. Step-by-step instructions and accompanying photographs help readers learn the positions and fundamental techniques. As the book progresses, the moves become more and more varied and complex. Formal exercises encourage students to practice what they have learned, keep track of personal progress, and improve their mastery of the discipline. The book also includes a glossary, a further reading section with books and websites, and an index.","English",37.270000000000003,27.95,"796.815/9--dc23","128 pp.",{"$f":"Table1[[#This Row],[QTY]]*Table1[[#This Row],['# of Books]]","v":0},{"$f":"Table1[[#This Row],[QTY]]*Table1[[#This Row],[School & Library Price]]","v":0}]
[null,null,null,81,"Mastering Martial Arts","A Complete Guide to Kung Fu",1,"eBook","978-0-7660-8542-8",2018,"August 2017",null,"Author, Author","Antonello Casarella, Roberto Ghetti",null,null,null,null,"Y",null,"Grade 6","Grade 6 - 12","Readers are introduced to the action-packed and fascinating world of kung fu. This book provides a history of the discipline as well as details on the different styles. Step-by-step instructions and accompanying photographs help readers learn the positions and fundamental techniques. As the book progresses, the moves become more and more varied and complex. Formal exercises encourage students to practice what they have learned, keep track of personal progress, and improve their mastery of the discipline. The book also includes a glossary, a further reading section with books and websites, and an index.","English",37.270000000000003,27.95,"796.815/9--dc23","128 pp.",{"$f":"Table1[[#This Row],[QTY]]*Table1[[#This Row],['# of Books]]","v":0},{"$f":"Table1[[#This Row],[QTY]]*Table1[[#This Row],[School & Library Price]]","v":0}]
[null,null,null,81,"Mastering Martial Arts","A Complete Guide to Tai Chi",1,"Library Bound Book","978-0-7660-8537-4",2018,"August 2017","6.500 X 9.250","Author","Walter Lorini",null,null,null,null,"Y",null,"Grade 6","Grade 6 - 12","Readers are introduced to the action-packed and fascinating world of tai chi. This book provides a history of the discipline as well as information on any necessary equipment, warm-up exercises to prevent injury, and details on the different forms. Step-by-step instructions and accompanying photographs help readers learn the positions and fundamental techniques. Formal exercises encourage students to practice what they have learned, keep track of personal progress, and improve their mastery of the discipline. The book also includes a glossary, a further reading section with books and websites, and an index.","English",37.270000000000003,27.95,"613.7/148--dc23","128 pp.",{"$f":"Table1[[#This Row],[QTY]]*Table1[[#This Row],['# of Books]]","v":0},{"$f":"Table1[[#This Row],[QTY]]*Table1[[#This Row],[School & Library Price]]","v":0}]
[null,null,null,81,"Mastering Martial Arts","A Complete Guide to Tai Chi",1,"eBook","978-0-7660-8538-1",2018,"August 2017",null,"Author","Walter Lorini",null,null,null,null,"Y",null,"Grade 6","Grade 6 - 12","Readers are introduced to the action-packed and fascinating world of tai chi. This book provides a history of the discipline as well as information on any necessary equipment, warm-up exercises to prevent injury, and details on the different forms. Step-by-step instructions and accompanying photographs help readers learn the positions and fundamental techniques. Formal exercises encourage students to practice what they have learned, keep track of personal progress, and improve their mastery of the discipline. The book also includes a glossary, a further reading section with books and websites, and an index.","English",37.270000000000003,27.95,"613.7/148--dc23","128 pp.",{"$f":"Table1[[#This Row],[QTY]]*Table1[[#This Row],['# of Books]]","v":0},{"$f":"Table1[[#This Row],[QTY]]*Table1[[#This Row],[School & Library Price]]","v":0}]
[null,null,null,82,"Wildlife at Risk","Wildlife at Risk",6,"Library Set","978-0-7660-6688-5",2016,"August 2015","7.250 X 9.250",null,null,null,null,null,null,null,null,"Grade 6","Grade 6 - 8","This series looks at the biological evolution of six endangered animals and the effects that humans have had on their habitats and the animals themselves. Each book examines the characteristics and habitat of a species at risk of extinction and what we can now do to help save these animals. \n\n\n\n-Provides readers with information for building evidence\n\n-\"How You Can Help\" section encourages reader involvement  \n\n-Chapter notes provide readers with original sources\n\n-Quick facts at a glance for each endangered animal\n\n","English",167.58,125.7,null,"48 pp.",{"$f":"Table1[[#This Row],[QTY]]*Table1[[#This Row],['# of Books]]","v":0},{"$f":"Table1[[#This Row],[QTY]]*Table1[[#This Row],[School & Library Price]]","v":0}]
[null,null,null,82,"Wildlife at Risk","Endangered Blue Whales",1,"Library Bound Book","978-0-7660-6890-2",2016,"August 2015","7.250 X 9.250","Author, Author","Chris Reiter, Jane Katirgis",7.2,1,null,null,"P",null,"Grade 6","Grade 6 - 8","It is hard to imagine that these creatures as big as trucks could be vulnerable. But the giants of the sea are endangered. What is their biggest threat? What is being done to save them? Learn about blue whales and how to help the largest animal on the planet.","English",27.93,20.95,"599.5'248--dc23","48 pp.",{"$f":"Table1[[#This Row],[QTY]]*Table1[[#This Row],['# of Books]]","v":0},{"$f":"Table1[[#This Row],[QTY]]*Table1[[#This Row],[School & Library Price]]","v":0}]
[null,null,null,82,"Wildlife at Risk","Endangered Blue Whales",1,"eBook","978-0-7660-6891-9",2016,"August 2015",null,"Author, Author","Chris Reiter, Jane Katirgis",7.2,1,null,null,"P",null,"Grade 6","Grade 6 - 8","It is hard to imagine that these creatures as big as trucks could be vulnerable. But the giants of the sea are endangered. What is their biggest threat? What is being done to save them? Learn about blue whales and how to help the largest animal on the planet.","English",27.93,20.95,"599.5'248--dc23","48 pp.",{"$f":"Table1[[#This Row],[QTY]]*Table1[[#This Row],['# of Books]]","v":0},{"$f":"Table1[[#This Row],[QTY]]*Table1[[#This Row],[School & Library Price]]","v":0}]
[null,null,null,82,"Wildlife at Risk","Endangered Giant Pandas",1,"Library Bound Book","978-0-7660-6894-0",2016,"August 2015","7.250 X 9.250","Author, Author","Carl R. Green, Jane Katirgis",6,1,null,null,"P",null,"Grade 6","Grade 6 - 8","The giant panda is the national symbol of China and one of the most beloved animals in the world. So who would want to hurt this creature? How does it survive in the wild? Why are populations shrinking? Learn about giant pandas and what is being done to help save them.","English",27.93,20.95,"599.789--dc23","48 pp.",{"$f":"Table1[[#This Row],[QTY]]*Table1[[#This Row],['# of Books]]","v":0},{"$f":"Table1[[#This Row],[QTY]]*Table1[[#This Row],[School & Library Price]]","v":0}]
[null,null,null,82,"Wildlife at Risk","Endangered Giant Pandas",1,"eBook","978-0-7660-6895-7",2016,"August 2015",null,"Author, Author","Carl R. Green, Jane Katirgis",6,1,null,null,"P",null,"Grade 6","Grade 6 - 8","The giant panda is the national symbol of China and one of the most beloved animals in the world. So who would want to hurt this creature? How does it survive in the wild? Why are populations shrinking? Learn about giant pandas and what is being done to help save them.","English",27.93,20.95,"599.789--dc23","48 pp.",{"$f":"Table1[[#This Row],[QTY]]*Table1[[#This Row],['# of Books]]","v":0},{"$f":"Table1[[#This Row],[QTY]]*Table1[[#This Row],[School & Library Price]]","v":0}]
[null,null,null,82,"Wildlife at Risk","Endangered Gorillas",1,"Library Bound Book","978-0-7660-6898-8",2016,"August 2015","7.250 X 9.250","Author, Author","Carl R. Green, Jane Katirgis",6.3,1,null,null,"Q",null,"Grade 6","Grade 6 - 8","Gorillas are brilliant, familial creatures that have exhibited complex emotions, intellect, and abilities—much like humans. Then why are gorillas at risk? Learn about the daily lives of gorillas in the wild, what is threatening their very survival, and what is being done to save them.","English",27.93,20.95,"599.884--dc23","48 pp.",{"$f":"Table1[[#This Row],[QTY]]*Table1[[#This Row],['# of Books]]","v":0},{"$f":"Table1[[#This Row],[QTY]]*Table1[[#This Row],[School & Library Price]]","v":0}]
[null,null,null,82,"Wildlife at Risk","Endangered Gorillas",1,"eBook","978-0-7660-6899-5",2016,"August 2015",null,"Author, Author","Carl R. Green, Jane Katirgis",6.3,1,null,null,"Q",null,"Grade 6","Grade 6 - 8","Gorillas are brilliant, familial creatures that have exhibited complex emotions, intellect, and abilities—much like humans. Then why are gorillas at risk? Learn about the daily lives of gorillas in the wild, what is threatening their very survival, and what is being done to save them.","English",27.93,20.95,"599.884--dc23","48 pp.",{"$f":"Table1[[#This Row],[QTY]]*Table1[[#This Row],['# of Books]]","v":0},{"$f":"Table1[[#This Row],[QTY]]*Table1[[#This Row],[School & Library Price]]","v":0}]
[null,null,null,82,"Wildlife at Risk","Endangered Orangutans",1,"Library Bound Book","978-0-7660-6886-5",2016,"August 2015","7.250 X 9.250","Author, Author","Jane Katirgis, Lisa Harkrader",6.7,1,null,null,"P",null,"Grade 6","Grade 6 - 8","Orangutan means “person of the forest” in the Malay language. Extremely intelligent creatures, orangutans are closely related to humans, so why are they endangered? What has happened to their forest habitats? Who’s working to save orangutans? Read the latest facts about orangutans and learn how to help.","English",27.93,20.95,"599.88'3--dc23","48 pp.",{"$f":"Table1[[#This Row],[QTY]]*Table1[[#This Row],['# of Books]]","v":0},{"$f":"Table1[[#This Row],[QTY]]*Table1[[#This Row],[School & Library Price]]","v":0}]
[null,null,null,82,"Wildlife at Risk","Endangered Orangutans",1,"eBook","978-0-7660-6887-2",2016,"August 2015",null,"Author, Author","Jane Katirgis, Lisa Harkrader",6.7,1,null,null,"P",null,"Grade 6","Grade 6 - 8","Orangutan means “person of the forest” in the Malay language. Extremely intelligent creatures, orangutans are closely related to humans, so why are they endangered? What has happened to their forest habitats? Who’s working to save orangutans? Read the latest facts about orangutans and learn how to help.","English",27.93,20.95,"599.88'3--dc23","48 pp.",{"$f":"Table1[[#This Row],[QTY]]*Table1[[#This Row],['# of Books]]","v":0},{"$f":"Table1[[#This Row],[QTY]]*Table1[[#This Row],[School & Library Price]]","v":0}]
[null,null,null,82,"Wildlife at Risk","Endangered Rhinos",1,"Library Bound Book","978-0-7660-6902-2",2016,"August 2015","7.250 X 9.250","Author, Author","Jan M. Czech, Jane Katirgis",7.4,1,null,null,"Q",null,"Grade 6","Grade 6 - 8","Rhinoceroses are some of the oldest creatures on our planet. And yet, despite surviving for thousands of years, this ancient animal is now endangered. Why? Discover fascinating facts about rhinos and learn how you could help save them before it’s too late.","English",27.93,20.95,"599.66'8--dc23","48 pp.",{"$f":"Table1[[#This Row],[QTY]]*Table1[[#This Row],['# of Books]]","v":0},{"$f":"Table1[[#This Row],[QTY]]*Table1[[#This Row],[School & Library Price]]","v":0}]
[null,null,null,82,"Wildlife at Risk","Endangered Rhinos",1,"eBook","978-0-7660-6903-9",2016,"August 2015",null,"Author, Author","Jan M. Czech, Jane Katirgis",7.4,1,null,null,"Q",null,"Grade 6","Grade 6 - 8","Rhinoceroses are some of the oldest creatures on our planet. And yet, despite surviving for thousands of years, this ancient animal is now endangered. Why? Discover fascinating facts about rhinos and learn how you could help save them before it’s too late.","English",27.93,20.95,"599.66'8--dc23","48 pp.",{"$f":"Table1[[#This Row],[QTY]]*Table1[[#This Row],['# of Books]]","v":0},{"$f":"Table1[[#This Row],[QTY]]*Table1[[#This Row],[School & Library Price]]","v":0}]
[null,null,null,82,"Wildlife at Risk","Endangered Tigers",1,"Library Bound Book","978-0-7660-6906-0",2016,"August 2015","7.250 X 9.250","Author, Author","Carl R. Green, Jane Katirgis",6.3,1,null,null,"Q",null,"Grade 6","Grade 6 - 8","The tiger is a legendary big cat inspiring stories, fear, awe, and admiration in people around the world. So why are tigers in danger of becoming extinct? Learn why they are threatened and how to help save this beautiful big cat.","English",27.93,20.95,"599.75'5--dc23","48 pp.",{"$f":"Table1[[#This Row],[QTY]]*Table1[[#This Row],['# of Books]]","v":0},{"$f":"Table1[[#This Row],[QTY]]*Table1[[#This Row],[School & Library Price]]","v":0}]
[null,null,null,82,"Wildlife at Risk","Endangered Tigers",1,"eBook","978-0-7660-6907-7",2016,"August 2015",null,"Author, Author","Carl R. Green, Jane Katirgis",6.3,1,null,null,"Q",null,"Grade 6","Grade 6 - 8","The tiger is a legendary big cat inspiring stories, fear, awe, and admiration in people around the world. So why are tigers in danger of becoming extinct? Learn why they are threatened and how to help save this beautiful big cat.","English",27.93,20.95,"599.75'5--dc23","48 pp.",{"$f":"Table1[[#This Row],[QTY]]*Table1[[#This Row],['# of Books]]","v":0},{"$f":"Table1[[#This Row],[QTY]]*Table1[[#This Row],[School & Library Price]]","v":0}]
[null,null,null,83,"Get to Know Cat, Dog, and Horse Breeds","Get to Know Cat, Dog, and Horse Breeds",3,"Library Set","978-0-7660-8039-3",2014,"January 2014","6.625 X 8.375",null,null,null,null,null,null,null,null,"Grade 6 - 12","Grade 6 - 12",null,"English",99.81,74.849999999999994,null,null,{"$f":"Table1[[#This Row],[QTY]]*Table1[[#This Row],['# of Books]]","v":0},{"$f":"Table1[[#This Row],[QTY]]*Table1[[#This Row],[School & Library Price]]","v":0}]
[null,null,null,83,"Get to Know Cat, Dog, and Horse Breeds","Get to Know Cat Breeds: Over 40 Best-Known Breeds",1,"Library Bound Book","978-0-7660-4260-5",2014,"January 2014","6.625 X 8.375","Author","Gabriele Metz",8.5,null,null,null,"T","1140L","Grade 6 - 7","Grade 6 - 12","Long-haired or short-haired, hairless or tailless—whether you are looking for the perfect pet or simply curious about cats, GET TO KNOW CAT BREEDS will make you purr with delight! It discusses the physical traits, origins, and temperaments of more than forty cat breeds, featured in stunning, full-color photographs. Also read about cat care; including where to find a reputable breeder, vaccinations, grooming, and more. ","English",33.270000000000003,24.95,"636.8","128 pp.",{"$f":"Table1[[#This Row],[QTY]]*Table1[[#This Row],['# of Books]]","v":0},{"$f":"Table1[[#This Row],[QTY]]*Table1[[#This Row],[School & Library Price]]","v":0}]
[null,null,null,83,"Get to Know Cat, Dog, and Horse Breeds","Get to Know Dog Breeds: The 200 Most Popular Breeds",1,"Library Bound Book","978-0-7660-4258-2",2014,"January 2014","6.625 X 8.375","Author","Eva-Maria Krämer",8,null,null,null,"T","1040L","Grade 6 - 7","Grade 6 - 12","Whether you are looking for the perfect pet or simply curious about canines, GET TO KNOW DOG BREEDS will make you jump with joy! Learn about the physical traits, grooming needs, origins, and temperaments of more than two hundred dog breeds, categorized according to the tasks they were originally bred for, including herding dogs, hunting dogs, sled dogs, lap dogs, and more. ","English",33.270000000000003,24.95,"636.7","160 pp.",{"$f":"Table1[[#This Row],[QTY]]*Table1[[#This Row],['# of Books]]","v":0},{"$f":"Table1[[#This Row],[QTY]]*Table1[[#This Row],[School & Library Price]]","v":0}]
[null,null,null,83,"Get to Know Cat, Dog, and Horse Breeds","Get to Know Horse Breeds: The 100 Best-Known Breeds",1,"Library Bound Book","978-0-7660-4259-9",2014,"January 2014","6.625 X 8.375","Author","Silke Behling",8.1,null,null,null,"T","1060L","Grade 6 - 7","Grade 6 - 12","Whether you are looking for the perfect mount or simply curious about equines, GET TO KNOW HORSE BREEDS will make you neigh with excitement! Read about more than one hundred horse breeds, which are categorized into groups according to temperament, build, size, and what they are used for. Discover warmbloods, coldbloods, Throroughbreds, Baroque horses, small horses and ponies, gaited horses, and Western horses. ","English",33.270000000000003,24.95,"636.1","144 pp.",{"$f":"Table1[[#This Row],[QTY]]*Table1[[#This Row],['# of Books]]","v":0},{"$f":"Table1[[#This Row],[QTY]]*Table1[[#This Row],[School & Library Price]]","v":0}]
[null,null,null,83,"Keeping and Caring for Your Pet","Keeping and Caring for Your Pet",5,"Library Set","978-0-7660-8041-6",2014,"August 2013","7.500 X 9.000",null,null,null,null,null,null,null,null,"Grade 6 - 12","Grade 6 - 12",null,"English",146.35,109.75,null,"72 pp.",{"$f":"Table1[[#This Row],[QTY]]*Table1[[#This Row],['# of Books]]","v":0},{"$f":"Table1[[#This Row],[QTY]]*Table1[[#This Row],[School & Library Price]]","v":0}]
[null,null,null,83,"Keeping and Caring for Your Pet","Fish: Keeping and Caring for Your Pet",1,"Library Bound Book","978-0-7660-4185-1",2014,"August 2013","7.500 X 9.000","Author","Angela Beck",7.6,null,null,null,null,"1020L","Grade 6 - 7","Grade 6 - 12","Is a fish the right pet for you? They are beautiful and fun to watch, but they also need a lot of care. In FISH, read about properly setting up your tank, choosing the right fish and plants, and what kind of food to feed your fish. This book also features brief profiles on different species of fish and plants and quick solution guides to various problems. Learn how to be a responsible fish owner so you can enjoy your pets for years to come. ","English",29.27,21.95,"639.8","72 pp.",{"$f":"Table1[[#This Row],[QTY]]*Table1[[#This Row],['# of Books]]","v":0},{"$f":"Table1[[#This Row],[QTY]]*Table1[[#This Row],[School & Library Price]]","v":0}]
[null,null,null,83,"Keeping and Caring for Your Pet","Guinea Pigs: Keeping and Caring for Your Pet",1,"Library Bound Book","978-0-7660-4184-4",2014,"August 2013","7.500 X 9.000","Author","Angela Beck",7,null,null,null,null,"1070L","Grade 6 - 7","Grade 6 - 12","Do you want a guinea pig? They can make great pets if you understand their needs. GUINEA PIGS discusses cage requirements, choosing a healthy guinea pig, socializing her to other pets, feeding her a proper diet, and grooming her. Also read about your guinea pig’s exercise needs, some tricks you can teach her, and how she communicates. This book will help you keep your guinea pig happy and healthy so you can enjoy many years together. ","English",29.27,21.95,"636.935","72 pp.",{"$f":"Table1[[#This Row],[QTY]]*Table1[[#This Row],['# of Books]]","v":0},{"$f":"Table1[[#This Row],[QTY]]*Table1[[#This Row],[School & Library Price]]","v":0}]
[null,null,null,83,"Keeping and Caring for Your Pet","Kittens: Keeping and Caring for Your Pet",1,"Library Bound Book","978-0-7660-4186-8",2014,"August 2013","7.500 X 9.000","Author","Hannelore Grimm",6.5,null,null,null,null,"1030L","Grade 6 - 7","Grade 6 - 12","Do you think you are ready for a kitten? In KITTENS, learn how to properly care for your new kitten from the moment you bring her home. Read about cat-proofing your home, the right nutrition, training techniques, grooming needs, and necessary veterinary care. Also discover some unique cat breeds and what your cat is trying to tell you. This book will help you learn how to become a responsible and loving cat owner. ","English",29.27,21.95,"636.8","72 pp.",{"$f":"Table1[[#This Row],[QTY]]*Table1[[#This Row],['# of Books]]","v":0},{"$f":"Table1[[#This Row],[QTY]]*Table1[[#This Row],[School & Library Price]]","v":0}]
[null,null,null,83,"Keeping and Caring for Your Pet","Puppies: Keeping and Caring for Your Pet",1,"Library Bound Book","978-0-7660-4187-5",2014,"August 2013","7.500 X 9.000","Author","Brigitte Harries",6.4,null,null,null,null,"1040L","Grade 6 - 7","Grade 6 - 12","Puppies are cute and playful…and a big responsibility. PUPPIES discusses everything from choosing your new puppy to raising him to become a loving adult dog. Learn how to recognize a reputable breeder, how to puppy-proof your home, what to feed your dog, grooming needs, and veterinary care.  Also read about training techniques and the importance of socialization. This book will help you understand your dog so you can share many happy years together. ","English",29.27,21.95,"636.7","72 pp.",{"$f":"Table1[[#This Row],[QTY]]*Table1[[#This Row],['# of Books]]","v":0},{"$f":"Table1[[#This Row],[QTY]]*Table1[[#This Row],[School & Library Price]]","v":0}]
[null,null,null,83,"Keeping and Caring for Your Pet","Rabbits: Keeping and Caring for Your Pet",1,"Library Bound Book","978-0-7660-4183-7",2014,"August 2013","7.500 X 9.000","Author","Angela Beck",6.6,null,null,null,null,"1000L","Grade 6 - 7","Grade 6 - 12","After cats and dogs, rabbits are the third most popular pet in the United States. They are cute, cuddly, and fun to play with! But they also need you to take good care of them.  In RABBITS, learn about different breeds, setting up the cage, feeding your rabbit a healthy diet, grooming and exercise needs, and helping her get along with other pets. Also read about training your rabbit and what her different behaviors mean.  This book will help you keep your rabbit healthy and happy. ","English",29.27,21.95,"636.932","72 pp.",{"$f":"Table1[[#This Row],[QTY]]*Table1[[#This Row],['# of Books]]","v":0},{"$f":"Table1[[#This Row],[QTY]]*Table1[[#This Row],[School & Library Price]]","v":0}]
[null,null,null,84,"Celebrity Chefs","Celebrity Chefs",8,"Library Set","978-0-7660-7938-0",2017,"August 2016","6.000 X 9.000",null,null,null,null,null,null,null,null,"Grade 6","Grade 6 - 12","Food is no longer just a source of sustenance. It has now become a form of entertainment that produces larger-than-life personalities such as Rachael Ray, Jamie Oliver, and many others. How did these chefs reach celebrity status and what makes them so fascinating? Readers explore the lives and accomplishments of these popular and influential celebrity chefs, and may even discover their own potential path to cooking success. They can also try their hand at a few tasty recipes!","English",298.16000000000003,223.6,null,"128 pp.",{"$f":"Table1[[#This Row],[QTY]]*Table1[[#This Row],['# of Books]]","v":0},{"$f":"Table1[[#This Row],[QTY]]*Table1[[#This Row],[School & Library Price]]","v":0}]
[null,null,null,84,"Celebrity Chefs","Anne Burrell",1,"Library Bound Book","978-0-7660-7757-7",2017,"August 2016","6.000 X 9.000","Author","Kathlyn Gay",null,null,null,null,"Z",null,"Grade 6","Grade 6 - 12","Anne Burrell is one of the Food Networkﾒs most recognizable faces. Through full-color photos, exciting text, and fascinating direct quotations, upper-level readers will dive into her background and discover just what inspired Anne to study food and help some of the worst cooks in America improve their culinary prowess. Also included are recipes students can try to practice their skills in the kitchen.","English",37.270000000000003,27.95,"641.5092--dc23","128 pp.",{"$f":"Table1[[#This Row],[QTY]]*Table1[[#This Row],['# of Books]]","v":0},{"$f":"Table1[[#This Row],[QTY]]*Table1[[#This Row],[School & Library Price]]","v":0}]
[null,null,null,84,"Celebrity Chefs","Anne Burrell",1,"eBook","978-0-7660-7752-2",2017,"August 2016",null,"Author","Kathlyn Gay",null,null,null,null,"Z",null,"Grade 6","Grade 6 - 12","Anne Burrell is one of the Food Networkﾒs most recognizable faces. Through full-color photos, exciting text, and fascinating direct quotations, upper-level readers will dive into her background and discover just what inspired Anne to study food and help some of the worst cooks in America improve their culinary prowess. Also included are recipes students can try to practice their skills in the kitchen.","English",37.270000000000003,27.95,"641.5092--dc23","128 pp.",{"$f":"Table1[[#This Row],[QTY]]*Table1[[#This Row],['# of Books]]","v":0},{"$f":"Table1[[#This Row],[QTY]]*Table1[[#This Row],[School & Library Price]]","v":0}]
[null,null,null,84,"Celebrity Chefs","Bobby Flay",1,"Library Bound Book","978-0-7660-7172-8",2016,"January 2016","6.000 X 9.000","Author","Don Rauf",null,null,null,null,"Z",null,"Grade 7 - 8","Grade 6 - 12","Born in New York City, Bobby Flay was destined for fame in food. Readers will discover how Flay, host and competitor in several television shows, became the culinary master that he is today. This text also includes information on how to pursue a career in cooking and recipes inspired by Flay for readers to try themselves.","English",37.270000000000003,27.95,"641.5092--dc23 [B]","128 pp.",{"$f":"Table1[[#This Row],[QTY]]*Table1[[#This Row],['# of Books]]","v":0},{"$f":"Table1[[#This Row],[QTY]]*Table1[[#This Row],[School & Library Price]]","v":0}]
[null,null,null,84,"Celebrity Chefs","Bobby Flay",1,"eBook","978-0-7660-7173-5",2016,"January 2016",null,"Author","Don Rauf",null,null,null,null,"Z",null,"Grade 7 - 8","Grade 6 - 12","Born in New York City, Bobby Flay was destined for fame in food. Readers will discover how Flay, host and competitor in several television shows, became the culinary master that he is today. This text also includes information on how to pursue a career in cooking and recipes inspired by Flay for readers to try themselves.","English",37.270000000000003,27.95,"641.5092--dc23 [B]","128 pp.",{"$f":"Table1[[#This Row],[QTY]]*Table1[[#This Row],['# of Books]]","v":0},{"$f":"Table1[[#This Row],[QTY]]*Table1[[#This Row],[School & Library Price]]","v":0}]
[null,null,null,84,"Celebrity Chefs","Emeril Lagasse",1,"Library Bound Book","978-0-7660-7197-1",2016,"January 2016","6.000 X 9.000","Author","Don Rauf",null,null,null,null,"Z",null,"Grade 7 - 8","Grade 6 - 12","Emeril Lagasse was arguably one of the first celebrity chefs, getting his own cooking show in 1997. Lagasse taught America about New Orleans-style cooking. Readers can learn about his restaurants, his television appearances, and his personal life as well as discover the different paths that lead to a career in the culinary arts. Budding chefs can try their hands at some Lagasse-inspired recipes.","English",37.270000000000003,27.95,"641.5092--dc23[B]","128 pp.",{"$f":"Table1[[#This Row],[QTY]]*Table1[[#This Row],['# of Books]]","v":0},{"$f":"Table1[[#This Row],[QTY]]*Table1[[#This Row],[School & Library Price]]","v":0}]
[null,null,null,84,"Celebrity Chefs","Emeril Lagasse",1,"eBook","978-0-7660-7211-4",2016,"January 2016",null,"Author","Don Rauf",null,null,null,null,"Z",null,"Grade 7 - 8","Grade 6 - 12","Emeril Lagasse was arguably one of the first celebrity chefs, getting his own cooking show in 1997. Lagasse taught America about New Orleans-style cooking. Readers can learn about his restaurants, his television appearances, and his personal life as well as discover the different paths that lead to a career in the culinary arts. Budding chefs can try their hands at some Lagasse-inspired recipes.","English",37.270000000000003,27.95,"641.5092--dc23[B]","128 pp.",{"$f":"Table1[[#This Row],[QTY]]*Table1[[#This Row],['# of Books]]","v":0},{"$f":"Table1[[#This Row],[QTY]]*Table1[[#This Row],[School & Library Price]]","v":0}]
[null,null,null,84,"Celebrity Chefs","Giada De Laurentiis",1,"Library Bound Book","978-0-7660-7759-1",2017,"August 2016","6.000 X 9.000","Author","Jeanne Nagle",null,null,null,null,"Z",null,"Grade 6","Grade 6 - 12","Italian-American Giada De Laurentiis is a successful chef, author, television personality, and host of her own cooking show on the Food Network. Full-color photos, inspiring direct quotations, and engaging details of Giada’s personal and professional life will show readers what it takes to make it in the food industry. The text also includes education and career information on becoming a chef, as well as a variety of recipes for students to try on their own.","English",37.270000000000003,27.95,"641.5092--dc23","128 pp.",{"$f":"Table1[[#This Row],[QTY]]*Table1[[#This Row],['# of Books]]","v":0},{"$f":"Table1[[#This Row],[QTY]]*Table1[[#This Row],[School & Library Price]]","v":0}]
[null,null,null,84,"Celebrity Chefs","Giada De Laurentiis",1,"eBook","978-0-7660-7753-9",2017,"August 2016",null,"Author","Jeanne Nagle",null,null,null,null,"Z",null,"Grade 6","Grade 6 - 12","Italian-American Giada De Laurentiis is a successful chef, author, television personality, and host of her own cooking show on the Food Network. Full-color photos, inspiring direct quotations, and engaging details of Giada’s personal and professional life will show readers what it takes to make it in the food industry. The text also includes education and career information on becoming a chef, as well as a variety of recipes for students to try on their own.","English",37.270000000000003,27.95,"641.5092--dc23","128 pp.",{"$f":"Table1[[#This Row],[QTY]]*Table1[[#This Row],['# of Books]]","v":0},{"$f":"Table1[[#This Row],[QTY]]*Table1[[#This Row],[School & Library Price]]","v":0}]
[null,null,null,84,"Celebrity Chefs","Gordon Ramsay",1,"Library Bound Book","978-0-7660-7246-6",2016,"January 2016","6.000 X 9.000","Author","Jeanne Nagle",null,null,null,null,"Z",null,"Grade 7 - 8","Grade 6 - 12","Although he started his life wanting to be a professional soccer player, Ramsay’s competitive streak gave him a head start in a career as a chef and as the host of several television shows. But the Scottish-born chef is much more than a tough-as-nails television personality. Readers will learn about Ramsay’s culinary career, rise to celebrity status, and personal life. They will also discover how to become a chef and get the chance to try some recipes inspired by him.","English",37.270000000000003,27.95,"641.5092--dc23[B]","144 pp.",{"$f":"Table1[[#This Row],[QTY]]*Table1[[#This Row],['# of Books]]","v":0},{"$f":"Table1[[#This Row],[QTY]]*Table1[[#This Row],[School & Library Price]]","v":0}]
[null,null,null,84,"Celebrity Chefs","Gordon Ramsay",1,"eBook","978-0-7660-7247-3",2016,"January 2016",null,"Author","Jeanne Nagle",null,null,null,null,"Z",null,"Grade 7 - 8","Grade 6 - 12","Although he started his life wanting to be a professional soccer player, Ramsay’s competitive streak gave him a head start in a career as a chef and as the host of several television shows. But the Scottish-born chef is much more than a tough-as-nails television personality. Readers will learn about Ramsay’s culinary career, rise to celebrity status, and personal life. They will also discover how to become a chef and get the chance to try some recipes inspired by him.","English",37.270000000000003,27.95,"641.5092--dc23[B]","144 pp.",{"$f":"Table1[[#This Row],[QTY]]*Table1[[#This Row],['# of Books]]","v":0},{"$f":"Table1[[#This Row],[QTY]]*Table1[[#This Row],[School & Library Price]]","v":0}]
[null,null,null,84,"Celebrity Chefs","Jamie Oliver",1,"Library Bound Book","978-0-7660-7760-7",2017,"August 2016","6.000 X 9.000","Author","Don Rauf",null,null,null,null,"Z",null,"Grade 6","Grade 6 - 12","Through engaging text, direct quotations, and full-color photos, readers will take an in-depth look into the life of Jaime Oliver, Great Britain’s Naked Chef. Students will discover why food education is so important to the Brit, as well as how he became a chef, and how he became a celebrity. Budding chefs can also learn about the different pathways to becoming a professional chef and try their hands at some recipes.","English",37.270000000000003,27.95,"641.5092--dc23","128 pp.",{"$f":"Table1[[#This Row],[QTY]]*Table1[[#This Row],['# of Books]]","v":0},{"$f":"Table1[[#This Row],[QTY]]*Table1[[#This Row],[School & Library Price]]","v":0}]
[null,null,null,84,"Celebrity Chefs","Jamie Oliver",1,"eBook","978-0-7660-7755-3",2017,"August 2016",null,"Author","Don Rauf",null,null,null,null,"Z",null,"Grade 6","Grade 6 - 12","Through engaging text, direct quotations, and full-color photos, readers will take an in-depth look into the life of Jaime Oliver, Great Britain’s Naked Chef. Students will discover why food education is so important to the Brit, as well as how he became a chef, and how he became a celebrity. Budding chefs can also learn about the different pathways to becoming a professional chef and try their hands at some recipes.","English",37.270000000000003,27.95,"641.5092--dc23","128 pp.",{"$f":"Table1[[#This Row],[QTY]]*Table1[[#This Row],['# of Books]]","v":0},{"$f":"Table1[[#This Row],[QTY]]*Table1[[#This Row],[School & Library Price]]","v":0}]
[null,null,null,84,"Celebrity Chefs","Rachael Ray",1,"Library Bound Book","978-0-7660-7330-2",2016,"January 2016","6.000 X 9.000","Author","Don Rauf",null,null,null,null,"Z",null,"Grade 7 - 8","Grade 6 - 12","Known for her simple, quick meals, Rachael Ray has made a name for herself as an individual among celebrity chefs. Readers will learn about her career as a chef and talk-show host, as well as her personal life and products. This text also provides information on how to become a chef and includes some Rachael Ray-inspired recipes to try.","English",37.270000000000003,27.95,"641.5092--dc23 [B]","128 pp.",{"$f":"Table1[[#This Row],[QTY]]*Table1[[#This Row],['# of Books]]","v":0},{"$f":"Table1[[#This Row],[QTY]]*Table1[[#This Row],[School & Library Price]]","v":0}]
[null,null,null,84,"Celebrity Chefs","Rachael Ray",1,"eBook","978-0-7660-7331-9",2016,"January 2016",null,"Author","Don Rauf",null,null,null,null,"Z",null,"Grade 7 - 8","Grade 6 - 12","Known for her simple, quick meals, Rachael Ray has made a name for herself as an individual among celebrity chefs. Readers will learn about her career as a chef and talk-show host, as well as her personal life and products. This text also provides information on how to become a chef and includes some Rachael Ray-inspired recipes to try.","English",37.270000000000003,27.95,"641.5092--dc23 [B]","128 pp.",{"$f":"Table1[[#This Row],[QTY]]*Table1[[#This Row],['# of Books]]","v":0},{"$f":"Table1[[#This Row],[QTY]]*Table1[[#This Row],[School & Library Price]]","v":0}]
[null,null,null,84,"Celebrity Chefs","Tyler Florence",1,"Library Bound Book","978-0-7660-7756-0",2017,"August 2016","6.000 X 9.000","Author","Sherri Mabry Gordon",null,null,null,null,"Z",null,"Grade 6","Grade 6 - 12","Upper-level readers will learn about Food Network star Tyler Florence’s roots and style, how he got his start in the industry, and how he got involved in food competitions through full-color photos and direct quotations. The text also provides details about becoming a chef and recipes they can try themselves.","English",37.270000000000003,27.95,"641.5092--dc23","128 pp.",{"$f":"Table1[[#This Row],[QTY]]*Table1[[#This Row],['# of Books]]","v":0},{"$f":"Table1[[#This Row],[QTY]]*Table1[[#This Row],[School & Library Price]]","v":0}]
[null,null,null,84,"Celebrity Chefs","Tyler Florence",1,"eBook","978-0-7660-7750-8",2017,"August 2016",null,"Author","Sherri Mabry Gordon",null,null,null,null,"Z",null,"Grade 6","Grade 6 - 12","Upper-level readers will learn about Food Network star Tyler Florence’s roots and style, how he got his start in the industry, and how he got involved in food competitions through full-color photos and direct quotations. The text also provides details about becoming a chef and recipes they can try themselves.","English",37.270000000000003,27.95,"641.5092--dc23","128 pp.",{"$f":"Table1[[#This Row],[QTY]]*Table1[[#This Row],['# of Books]]","v":0},{"$f":"Table1[[#This Row],[QTY]]*Table1[[#This Row],[School & Library Price]]","v":0}]
[null,null,null,85,"Heroes of the Women's Suffrage Movement","Heroes of the Women's Suffrage Movement",6,"Library Set","978-0-7660-7507-8",2017,"August 2016","6.000 X 9.000",null,null,null,null,null,null,null,null,"Grade 6","Grade 5 - 12","This series introduces teen readers to the courageous and fiery pioneers of the women’s rights movement. These are women who fought against long odds and often violent opposition to gain all women—indeed all persons—the equality, dignity, and civil and human rights that today we frequently take for granted. Though there is still a long way to go down the road to true equality of the sexes, these biographies allow readers to celebrate the women who have carried us so far and provisioned us so well.","English",223.62,167.7,null,"128 pp.",{"$f":"Table1[[#This Row],[QTY]]*Table1[[#This Row],['# of Books]]","v":0},{"$f":"Table1[[#This Row],[QTY]]*Table1[[#This Row],[School & Library Price]]","v":0}]
[null,null,null,85,"Heroes of the Women's Suffrage Movement","Champions for Women's Rights: Matilda Joslyn Gage, Julia Ward Howe, Lucretia Mott, and Lucy Stone",1,"Library Bound Book","978-0-7660-7891-8",2017,"August 2016","6.000 X 9.000","Author","Lynn Barber",null,null,null,null,"Z",null,"Grade 6","Grade 5 - 12","Enriched by primary sources, images, and sidebars, this volume of collective biographies features the life stories of four leaders of the women's suffrage movement. Readers will learn how such a diverse group of women came together to fight for a common cause and come to understand the game-changing roles citizens play in shaping government policy. \n\n","English",37.270000000000003,27.95,"323.3/40973--dc23","128 pp.",{"$f":"Table1[[#This Row],[QTY]]*Table1[[#This Row],['# of Books]]","v":0},{"$f":"Table1[[#This Row],[QTY]]*Table1[[#This Row],[School & Library Price]]","v":0}]
[null,null,null,85,"Heroes of the Women's Suffrage Movement","Champions for Women's Rights: Matilda Joslyn Gage, Julia Ward Howe, Lucretia Mott, and Lucy Stone",1,"eBook","978-0-7660-7885-7",2017,"August 2016",null,"Author","Lynn Barber",null,null,null,null,"Z",null,"Grade 6","Grade 5 - 12","Enriched by primary sources, images, and sidebars, this volume of collective biographies features the life stories of four leaders of the women's suffrage movement. Readers will learn how such a diverse group of women came together to fight for a common cause and come to understand the game-changing roles citizens play in shaping government policy. \n\n","English",37.270000000000003,27.95,"323.3/40973--dc23","128 pp.",{"$f":"Table1[[#This Row],[QTY]]*Table1[[#This Row],['# of Books]]","v":0},{"$f":"Table1[[#This Row],[QTY]]*Table1[[#This Row],[School & Library Price]]","v":0}]
[null,null,null,85,"Heroes of the Women's Suffrage Movement","Elizabeth Blackwell: Doctor and Advocate for Women in Medicine",1,"Library Bound Book","978-0-7660-7890-1",2017,"August 2016","6.000 X 9.000","Author","Lisa A. Crayton",null,null,null,null,"Z",null,"Grade 6","Grade 5 - 12","Born in England and raised by a progressive father, an abolitionist who also believed women were equal to men, Elizabeth Blackwell is famous for becoming America’s first woman doctor. But her story is far more complex. Students will be interested to learn that Blackwell was denied the ability to practice medicine, simply because she was a woman. Her insistence on breaking barriers, as well as opening doors for other women, will teach students the importance of perseverance, and excerpts from primary sources, images, and sidebars will enrich the reader’s experience.","English",37.270000000000003,27.95,"610.92--dc23","128 pp.",{"$f":"Table1[[#This Row],[QTY]]*Table1[[#This Row],['# of Books]]","v":0},{"$f":"Table1[[#This Row],[QTY]]*Table1[[#This Row],[School & Library Price]]","v":0}]
[null,null,null,85,"Heroes of the Women's Suffrage Movement","Elizabeth Blackwell: Doctor and Advocate for Women in Medicine",1,"eBook","978-0-7660-7884-0",2017,"August 2016",null,"Author","Lisa A. Crayton",null,null,null,null,"Z",null,"Grade 6","Grade 5 - 12","Born in England and raised by a progressive father, an abolitionist who also believed women were equal to men, Elizabeth Blackwell is famous for becoming America’s first woman doctor. But her story is far more complex. Students will be interested to learn that Blackwell was denied the ability to practice medicine, simply because she was a woman. Her insistence on breaking barriers, as well as opening doors for other women, will teach students the importance of perseverance, and excerpts from primary sources, images, and sidebars will enrich the reader’s experience.","English",37.270000000000003,27.95,"610.92--dc23","128 pp.",{"$f":"Table1[[#This Row],[QTY]]*Table1[[#This Row],['# of Books]]","v":0},{"$f":"Table1[[#This Row],[QTY]]*Table1[[#This Row],[School & Library Price]]","v":0}]
[null,null,null,85,"Heroes of the Women's Suffrage Movement","Elizabeth Cady Stanton: Founder of the Women's Suffrage Movement",1,"Library Bound Book","978-0-7660-7889-5",2017,"August 2016","6.000 X 9.000","Author","Deborah Kent",null,null,null,null,"Z",null,"Grade 6","Grade 5 - 12","Every time women vote, they should thank Elizabeth Cady Stanton. Stanton's unyielding efforts to attain the vote for American women finally paid off in 1920, after her death, with the ratification of the Nineteenth Amendment to the Constitution. Enhanced by primary sources, images, and sidebars, this inspiring biography proves that with enough passion and commitment, change can occur.\n\n","English",37.270000000000003,27.95,"305.42092--dc23","128 pp.",{"$f":"Table1[[#This Row],[QTY]]*Table1[[#This Row],['# of Books]]","v":0},{"$f":"Table1[[#This Row],[QTY]]*Table1[[#This Row],[School & Library Price]]","v":0}]
[null,null,null,85,"Heroes of the Women's Suffrage Movement","Elizabeth Cady Stanton: Founder of the Women's Suffrage Movement",1,"eBook","978-0-7660-7883-3",2017,"August 2016",null,"Author","Deborah Kent",null,null,null,null,"Z",null,"Grade 6","Grade 5 - 12","Every time women vote, they should thank Elizabeth Cady Stanton. Stanton's unyielding efforts to attain the vote for American women finally paid off in 1920, after her death, with the ratification of the Nineteenth Amendment to the Constitution. Enhanced by primary sources, images, and sidebars, this inspiring biography proves that with enough passion and commitment, change can occur.\n\n","English",37.270000000000003,27.95,"305.42092--dc23","128 pp.",{"$f":"Table1[[#This Row],[QTY]]*Table1[[#This Row],['# of Books]]","v":0},{"$f":"Table1[[#This Row],[QTY]]*Table1[[#This Row],[School & Library Price]]","v":0}]
[null,null,null,85,"Heroes of the Women's Suffrage Movement","Sojourner Truth: Women's Rights Activist and Abolitionist",1,"Library Bound Book","978-0-7660-7887-1",2017,"August 2016","6.000 X 9.000","Author","Catherine Bernard",null,null,null,null,"Z",null,"Grade 6","Grade 5 - 12","The women’s suffrage movement received support from several key abolitionists. One example was the freed slave and antislavery advocate who called herself Sojourner Truth. Through primary sources, images, and engaging narrative, students will learn that in addition to Truth’s impassioned battle to end slavery, she also fought for women’s rights, speaking to the crowds at suffrage gatherings during the 1850s and until her death.","English",37.270000000000003,27.95,"306.3’62’092--dc23","128 pp.",{"$f":"Table1[[#This Row],[QTY]]*Table1[[#This Row],['# of Books]]","v":0},{"$f":"Table1[[#This Row],[QTY]]*Table1[[#This Row],[School & Library Price]]","v":0}]
[null,null,null,85,"Heroes of the Women's Suffrage Movement","Sojourner Truth: Women's Rights Activist and Abolitionist",1,"eBook","978-0-7660-7881-9",2017,"August 2016",null,"Author","Catherine Bernard",null,null,null,null,"Z",null,"Grade 6","Grade 5 - 12","The women’s suffrage movement received support from several key abolitionists. One example was the freed slave and antislavery advocate who called herself Sojourner Truth. Through primary sources, images, and engaging narrative, students will learn that in addition to Truth’s impassioned battle to end slavery, she also fought for women’s rights, speaking to the crowds at suffrage gatherings during the 1850s and until her death.","English",37.270000000000003,27.95,"306.3’62’092--dc23","128 pp.",{"$f":"Table1[[#This Row],[QTY]]*Table1[[#This Row],['# of Books]]","v":0},{"$f":"Table1[[#This Row],[QTY]]*Table1[[#This Row],[School & Library Price]]","v":0}]
[null,null,null,85,"Heroes of the Women's Suffrage Movement","Susan B. Anthony: Social Reformer and Feminist",1,"Library Bound Book","978-0-7660-7888-8",2017,"August 2016","6.000 X 9.000","Author","Laura Baskes Litwin",null,null,null,null,"Z",null,"Grade 6","Grade 5 - 12","Enhanced by primary sources, images, and sidebars, this engaging biography of one of the suffrage movement’s most inspiring leaders paints a vivid picture of what life was like for a woman in nineteenth-century America. Readers will be inspired by Anthony’s tireless fight to improve women’s standing, an effort that changed the course of history.","English",37.270000000000003,27.95,"305.42092--dc23","128 pp.",{"$f":"Table1[[#This Row],[QTY]]*Table1[[#This Row],['# of Books]]","v":0},{"$f":"Table1[[#This Row],[QTY]]*Table1[[#This Row],[School & Library Price]]","v":0}]
[null,null,null,85,"Heroes of the Women's Suffrage Movement","Susan B. Anthony: Social Reformer and Feminist",1,"eBook","978-0-7660-7882-6",2017,"August 2016",null,"Author","Laura Baskes Litwin",null,null,null,null,"Z",null,"Grade 6","Grade 5 - 12","Enhanced by primary sources, images, and sidebars, this engaging biography of one of the suffrage movement’s most inspiring leaders paints a vivid picture of what life was like for a woman in nineteenth-century America. Readers will be inspired by Anthony’s tireless fight to improve women’s standing, an effort that changed the course of history.","English",37.270000000000003,27.95,"305.42092--dc23","128 pp.",{"$f":"Table1[[#This Row],[QTY]]*Table1[[#This Row],['# of Books]]","v":0},{"$f":"Table1[[#This Row],[QTY]]*Table1[[#This Row],[School & Library Price]]","v":0}]
[null,null,null,85,"Heroes of the Women's Suffrage Movement","The Seneca Falls Convention: Working to Expand Women's Rights",1,"Library Bound Book","978-0-7660-7892-5",2017,"August 2016","6.000 X 9.000","Author","Deborah Kent",null,null,null,null,"Z",null,"Grade 6","Grade 5 - 12","They were two days that changed the world. The 1848 Seneca Falls Convention was the first of its kind to address the topic of women’s rights. Featuring excerpts from primary sources, images, and sidebars, this informative volume describes the low status held by nineteenth-century women, and how a handful of key players sought to achieve equal rights during this convention that spawned a greater movement.","English",37.270000000000003,27.95,"305.40973--dc23","128 pp.",{"$f":"Table1[[#This Row],[QTY]]*Table1[[#This Row],['# of Books]]","v":0},{"$f":"Table1[[#This Row],[QTY]]*Table1[[#This Row],[School & Library Price]]","v":0}]
[null,null,null,85,"Heroes of the Women's Suffrage Movement","The Seneca Falls Convention: Working to Expand Women's Rights",1,"eBook","978-0-7660-7886-4",2017,"August 2016",null,"Author","Deborah Kent",null,null,null,null,"Z",null,"Grade 6","Grade 5 - 12","They were two days that changed the world. The 1848 Seneca Falls Convention was the first of its kind to address the topic of women’s rights. Featuring excerpts from primary sources, images, and sidebars, this informative volume describes the low status held by nineteenth-century women, and how a handful of key players sought to achieve equal rights during this convention that spawned a greater movement.","English",37.270000000000003,27.95,"305.40973--dc23","128 pp.",{"$f":"Table1[[#This Row],[QTY]]*Table1[[#This Row],['# of Books]]","v":0},{"$f":"Table1[[#This Row],[QTY]]*Table1[[#This Row],[School & Library Price]]","v":0}]
[null,null,null,85,"Influential Asians","Influential Asians",6,"Library Set","978-0-7660-7506-1",2017,"August 2016","6.000 X 9.000",null,null,null,null,null,null,null,null,"Grade 6 - 7","Grade 6 - 12","This engaging, accessible series of biographies explores the lives and accomplishments of recognizable and influential Asians in history and today. These books will appeal to researchers looking for age-appropriate sources, as well as casual readers in grades 6 and up.","English",223.62,167.7,null,"128 pp.",{"$f":"Table1[[#This Row],[QTY]]*Table1[[#This Row],['# of Books]]","v":0},{"$f":"Table1[[#This Row],[QTY]]*Table1[[#This Row],[School & Library Price]]","v":0}]
[null,null,null,85,"Influential Asians","Haruki Murakami: Best-Selling Author",1,"Library Bound Book","978-0-7660-7901-4",2017,"August 2016","6.000 X 9.000","Author","John A. Torres",null,null,null,null,"Z",null,"Grade 6 - 7","Grade 6 - 12","A child of Japan’s post-war baby boom, Haruki Murakami grew up—much to the chagrin of his parents—immersed in Western culture. The unhappy and unmotivated student didn’t begin writing until he was twenty-nine years old. Through engaging narrative, full-color photos, and thoughtful direct quotations, readers will be inspired by the life story of this celebrated novelist, whose works have been translated into more than fifty languages.","English",37.270000000000003,27.95,"895.63/5--dc23","128 pp.",{"$f":"Table1[[#This Row],[QTY]]*Table1[[#This Row],['# of Books]]","v":0},{"$f":"Table1[[#This Row],[QTY]]*Table1[[#This Row],[School & Library Price]]","v":0}]
[null,null,null,85,"Influential Asians","Haruki Murakami: Best-Selling Author",1,"eBook","978-0-7660-7895-6",2017,"August 2016",null,"Author","John A. Torres",null,null,null,null,"Z",null,"Grade 6 - 7","Grade 6 - 12","A child of Japan’s post-war baby boom, Haruki Murakami grew up—much to the chagrin of his parents—immersed in Western culture. The unhappy and unmotivated student didn’t begin writing until he was twenty-nine years old. Through engaging narrative, full-color photos, and thoughtful direct quotations, readers will be inspired by the life story of this celebrated novelist, whose works have been translated into more than fifty languages.","English",37.270000000000003,27.95,"895.63/5--dc23","128 pp.",{"$f":"Table1[[#This Row],[QTY]]*Table1[[#This Row],['# of Books]]","v":0},{"$f":"Table1[[#This Row],[QTY]]*Table1[[#This Row],[School & Library Price]]","v":0}]
[null,null,null,85,"Influential Asians","Ichiro Suzuki: Baseball's Most Valuable Player",1,"Library Bound Book","978-0-7660-7902-1",2017,"August 2016","6.000 X 9.000","Author","David Aretha",null,null,null,null,"Z",null,"Grade 6 - 7","Grade 6 - 12","Ichiro Suzuki has had a storied baseball career in Japan and the United States. Since signed to the major leagues in 2001, the right fielder has racked up batting records for the Yankees, Mariners, and Marlins. Through fascinating details about his personal and professional life, full-color photos, and direct quotations, baseball fans and report writers will be inspired by this biography of a top player driven by a strong work ethic and devotion to charity.","English",37.270000000000003,27.95,"796.357092--dc23","128 pp.",{"$f":"Table1[[#This Row],[QTY]]*Table1[[#This Row],['# of Books]]","v":0},{"$f":"Table1[[#This Row],[QTY]]*Table1[[#This Row],[School & Library Price]]","v":0}]
[null,null,null,85,"Influential Asians","Ichiro Suzuki: Baseball's Most Valuable Player",1,"eBook","978-0-7660-7896-3",2017,"August 2016",null,"Author","David Aretha",null,null,null,null,"Z",null,"Grade 6 - 7","Grade 6 - 12","Ichiro Suzuki has had a storied baseball career in Japan and the United States. Since signed to the major leagues in 2001, the right fielder has racked up batting records for the Yankees, Mariners, and Marlins. Through fascinating details about his personal and professional life, full-color photos, and direct quotations, baseball fans and report writers will be inspired by this biography of a top player driven by a strong work ethic and devotion to charity.","English",37.270000000000003,27.95,"796.357092--dc23","128 pp.",{"$f":"Table1[[#This Row],[QTY]]*Table1[[#This Row],['# of Books]]","v":0},{"$f":"Table1[[#This Row],[QTY]]*Table1[[#This Row],[School & Library Price]]","v":0}]
[null,null,null,85,"Influential Asians","Margaret Cho: Comedian, Actress, and Activist",1,"Library Bound Book","978-0-7660-7904-5",2017,"August 2016","6.000 X 9.000","Author","Michael A. Schuman",null,null,null,null,"Z",null,"Grade 6 - 7","Grade 6 - 12","Margaret Cho is known for her take-no-prisoners approach to comedy. The daughter of Korean immigrants, Cho experienced difficult teen years which led her to seek solace in the comedy clubs of her native San Francisco. Teeming with full-color photos and direct quotations, his fascinating biography tells Cho’s story through the lens of what it means to be Korean in America.","English",37.270000000000003,27.95,"792.702/8092--dc23","128 pp.",{"$f":"Table1[[#This Row],[QTY]]*Table1[[#This Row],['# of Books]]","v":0},{"$f":"Table1[[#This Row],[QTY]]*Table1[[#This Row],[School & Library Price]]","v":0}]
[null,null,null,85,"Influential Asians","Margaret Cho: Comedian, Actress, and Activist",1,"eBook","978-0-7660-7898-7",2017,"August 2016",null,"Author","Michael A. Schuman",null,null,null,null,"Z",null,"Grade 6 - 7","Grade 6 - 12","Margaret Cho is known for her take-no-prisoners approach to comedy. The daughter of Korean immigrants, Cho experienced difficult teen years which led her to seek solace in the comedy clubs of her native San Francisco. Teeming with full-color photos and direct quotations, his fascinating biography tells Cho’s story through the lens of what it means to be Korean in America.","English",37.270000000000003,27.95,"792.702/8092--dc23","128 pp.",{"$f":"Table1[[#This Row],[QTY]]*Table1[[#This Row],['# of Books]]","v":0},{"$f":"Table1[[#This Row],[QTY]]*Table1[[#This Row],[School & Library Price]]","v":0}]
[null,null,null,85,"Influential Asians","Maya Lin: Artist, Architect, and Environmentalist",1,"Library Bound Book","978-0-7660-7900-7",2017,"August 2016","6.000 X 9.000","Author, Author","Tricia Yearling, Mary Malone",null,null,null,null,"Z",null,"Grade 6 - 7","Grade 6 - 12","When she was just twenty-one, Maya Lin won a competition to design a memorial to US Vietnam veterans. Her winning design provoked impassioned reactions from politicians, veterans, and the general public. Through fascinating details about her personal and professional life, full-color photos, and inspiring quotations, students will learn how this daughter of Chinese immigrants persevered through the controversy until her vision was realized, and how the experience shaped the rest of her artistic and design career.","English",37.270000000000003,27.95,"720.92--dc23","128 pp.",{"$f":"Table1[[#This Row],[QTY]]*Table1[[#This Row],['# of Books]]","v":0},{"$f":"Table1[[#This Row],[QTY]]*Table1[[#This Row],[School & Library Price]]","v":0}]
[null,null,null,85,"Influential Asians","Maya Lin: Artist, Architect, and Environmentalist",1,"eBook","978-0-7660-7894-9",2017,"August 2016",null,"Author, Author","Tricia Yearling, Mary Malone",null,null,null,null,"Z",null,"Grade 6 - 7","Grade 6 - 12","When she was just twenty-one, Maya Lin won a competition to design a memorial to US Vietnam veterans. Her winning design provoked impassioned reactions from politicians, veterans, and the general public. Through fascinating details about her personal and professional life, full-color photos, and inspiring quotations, students will learn how this daughter of Chinese immigrants persevered through the controversy until her vision was realized, and how the experience shaped the rest of her artistic and design career.","English",37.270000000000003,27.95,"720.92--dc23","128 pp.",{"$f":"Table1[[#This Row],[QTY]]*Table1[[#This Row],['# of Books]]","v":0},{"$f":"Table1[[#This Row],[QTY]]*Table1[[#This Row],[School & Library Price]]","v":0}]
[null,null,null,85,"Influential Asians","Vera Wang: Fashion Designer",1,"Library Bound Book","978-0-7660-7903-8",2017,"August 2016","6.000 X 9.000","Author","Richard Worth",null,null,null,null,"Z",null,"Grade 6 - 7","Grade 6 - 12","Born to wealthy and accomplished Chinese immigrants, Vera Wang was given nearly every opportunity in life. But when the budding skater failed to realize her dream of making the US Olympic team, she turned to a career in fashion. Wang has since become one of the world’s most accomplished fashion designers, creating wedding gowns for celebrities and figure skating costumes for gold medal winners. Riveting text, full-color photos, and inspirational direct quotations will make it clear to readers exactly why Vera Wang is an influential Asian.","English",37.270000000000003,27.95,"746.9/2092--dc23","128 pp.",{"$f":"Table1[[#This Row],[QTY]]*Table1[[#This Row],['# of Books]]","v":0},{"$f":"Table1[[#This Row],[QTY]]*Table1[[#This Row],[School & Library Price]]","v":0}]
[null,null,null,85,"Influential Asians","Vera Wang: Fashion Designer",1,"eBook","978-0-7660-7897-0",2017,"August 2016",null,"Author","Richard Worth",null,null,null,null,"Z",null,"Grade 6 - 7","Grade 6 - 12","Born to wealthy and accomplished Chinese immigrants, Vera Wang was given nearly every opportunity in life. But when the budding skater failed to realize her dream of making the US Olympic team, she turned to a career in fashion. Wang has since become one of the world’s most accomplished fashion designers, creating wedding gowns for celebrities and figure skating costumes for gold medal winners. Riveting text, full-color photos, and inspirational direct quotations will make it clear to readers exactly why Vera Wang is an influential Asian.","English",37.270000000000003,27.95,"746.9/2092--dc23","128 pp.",{"$f":"Table1[[#This Row],[QTY]]*Table1[[#This Row],['# of Books]]","v":0},{"$f":"Table1[[#This Row],[QTY]]*Table1[[#This Row],[School & Library Price]]","v":0}]
[null,null,null,85,"Influential Asians","Yo-Yo Ma: Grammy Award-Winning Cellist",1,"Library Bound Book","978-0-7660-7899-4",2017,"August 2016","6.000 X 9.000","Author, Author","Jeanne Nagle, Lisa A. Chippendale",null,null,null,null,"Z",null,"Grade 6 - 7","Grade 6 - 12","The famed Chinese-American cellist Yo-Yo Ma was a music prodigy, performing for paying audiences at the tender age of five. Ma has built a career on the exploration of many types of music and was awarded the Presidential Medal of Freedom. Through engaging narrative, full-color photos, and thoughtful direct quotations, readers of this biography will be inspired by Ma’s never-ending drive to stretch the boundaries of his creativity.","English",37.270000000000003,27.95,"787.4092--dc23","128 pp.",{"$f":"Table1[[#This Row],[QTY]]*Table1[[#This Row],['# of Books]]","v":0},{"$f":"Table1[[#This Row],[QTY]]*Table1[[#This Row],[School & Library Price]]","v":0}]
[null,null,null,85,"Influential Asians","Yo-Yo Ma: Grammy Award-Winning Cellist",1,"eBook","978-0-7660-7893-2",2017,"August 2016",null,"Author, Author","Jeanne Nagle, Lisa A. Chippendale",null,null,null,null,"Z",null,"Grade 6 - 7","Grade 6 - 12","The famed Chinese-American cellist Yo-Yo Ma was a music prodigy, performing for paying audiences at the tender age of five. Ma has built a career on the exploration of many types of music and was awarded the Presidential Medal of Freedom. Through engaging narrative, full-color photos, and thoughtful direct quotations, readers of this biography will be inspired by Ma’s never-ending drive to stretch the boundaries of his creativity.","English",37.270000000000003,27.95,"787.4092--dc23","128 pp.",{"$f":"Table1[[#This Row],[QTY]]*Table1[[#This Row],['# of Books]]","v":0},{"$f":"Table1[[#This Row],[QTY]]*Table1[[#This Row],[School & Library Price]]","v":0}]
[null,null,null,86,"Influential Latinos","Influential Latinos",12,"Library Set","978-0-7660-7486-6",2016,"January 2016","6.000 X 9.000",null,null,null,null,null,null,null,null,"Grade 7 - 8","Grade 6 - 12","Through engaging text, insightful direct quotations, and full-color images, readers will discover how these accomplished Latino artists, writers, athletes, social activists, religious figures, entertainers, and government officials attained influential status.","English",447.24,335.4,null,"128 pp.",{"$f":"Table1[[#This Row],[QTY]]*Table1[[#This Row],['# of Books]]","v":0},{"$f":"Table1[[#This Row],[QTY]]*Table1[[#This Row],[School & Library Price]]","v":0}]
[null,null,null,86,"Influential Latinos","César Chávez: Civil Rights Activist",1,"Library Bound Book","978-0-7660-7179-7",2016,"January 2016","6.000 X 9.000","Author","Bárbara C. Cruz",null,null,null,null,"Z",null,"Grade 7 - 8","Grade 6 - 12","American farmworker, labor leader, and civil rights activist César Chávez cofounded the United Farm Workers labor union and fought to increase immigrants’ rights in the United States. Through direct quotations from Chávez as well as a captivating narrative of his life, readers will learn what made Chávez an influential Latino.","English",37.270000000000003,27.95,"331.88'13092--dc23[B]","128 pp.",{"$f":"Table1[[#This Row],[QTY]]*Table1[[#This Row],['# of Books]]","v":0},{"$f":"Table1[[#This Row],[QTY]]*Table1[[#This Row],[School & Library Price]]","v":0}]
[null,null,null,86,"Influential Latinos","César Chávez: Civil Rights Activist",1,"eBook","978-0-7660-7174-2",2016,"January 2016",null,"Author","Bárbara C. Cruz",null,null,null,null,"Z",null,"Grade 7 - 8","Grade 6 - 12","American farmworker, labor leader, and civil rights activist César Chávez cofounded the United Farm Workers labor union and fought to increase immigrants’ rights in the United States. Through direct quotations from Chávez as well as a captivating narrative of his life, readers will learn what made Chávez an influential Latino.","English",37.270000000000003,27.95,"331.88'13092--dc23[B]","128 pp.",{"$f":"Table1[[#This Row],[QTY]]*Table1[[#This Row],['# of Books]]","v":0},{"$f":"Table1[[#This Row],[QTY]]*Table1[[#This Row],[School & Library Price]]","v":0}]
[null,null,null,86,"Influential Latinos","Christina Aguilera: Pop Singer",1,"Library Bound Book","978-0-7660-7180-3",2016,"January 2016","6.000 X 9.000","Author","Richard Worth",null,null,null,null,"Z",null,"Grade 7 - 8","Grade 6 - 12","Singer, songwriter, actress, and television personality Christina Aguilera has been in the public eye since the 1990s. Her big voice is recognizable to many, but what fans may not know is that she is also an ambassador for the World Food Programme. Through direct quotations from Aguilera, as well as fascinating details of her life and colorful photos, readers will discover what makes Christina Aguilera an influential Latina.","English",37.270000000000003,27.95,"782.42164092--dc23[B]","128 pp.",{"$f":"Table1[[#This Row],[QTY]]*Table1[[#This Row],['# of Books]]","v":0},{"$f":"Table1[[#This Row],[QTY]]*Table1[[#This Row],[School & Library Price]]","v":0}]
[null,null,null,86,"Influential Latinos","Christina Aguilera: Pop Singer",1,"eBook","978-0-7660-7198-8",2016,"January 2016",null,"Author","Richard Worth",null,null,null,null,"Z",null,"Grade 7 - 8","Grade 6 - 12","Singer, songwriter, actress, and television personality Christina Aguilera has been in the public eye since the 1990s. Her big voice is recognizable to many, but what fans may not know is that she is also an ambassador for the World Food Programme. Through direct quotations from Aguilera, as well as fascinating details of her life and colorful photos, readers will discover what makes Christina Aguilera an influential Latina.","English",37.270000000000003,27.95,"782.42164092--dc23[B]","128 pp.",{"$f":"Table1[[#This Row],[QTY]]*Table1[[#This Row],['# of Books]]","v":0},{"$f":"Table1[[#This Row],[QTY]]*Table1[[#This Row],[School & Library Price]]","v":0}]
[null,null,null,86,"Influential Latinos","Diego Rivera: Mexican Muralist",1,"Library Bound Book","978-0-7660-6991-6",2016,"August 2015","6.000 X 9.000","Author, Author","Mariana Medina, Laura Baskes Litwin",null,null,null,null,"Z",null,"Grade 7","Grade 6 - 12","Diego Rivera is famous for painting murals of everyday life in Mexico. But he was also known for his work in literature, cinematography, and his marriage to another artist, Frida Kahlo. Discover the world of Diego Rivera, from the Mexican Revolution to the Museum of Modern Art in New York City, learn all about this talented artist and his creative life.","English",37.270000000000003,27.95,"759.972--dc23","128 pp.",{"$f":"Table1[[#This Row],[QTY]]*Table1[[#This Row],['# of Books]]","v":0},{"$f":"Table1[[#This Row],[QTY]]*Table1[[#This Row],[School & Library Price]]","v":0}]
[null,null,null,86,"Influential Latinos","Diego Rivera: Mexican Muralist",1,"eBook","978-0-7660-6992-3",2016,"August 2015",null,"Author, Author","Mariana Medina, Laura Baskes Litwin",null,null,null,null,"Z",null,"Grade 7","Grade 6 - 12","Diego Rivera is famous for painting murals of everyday life in Mexico. But he was also known for his work in literature, cinematography, and his marriage to another artist, Frida Kahlo. Discover the world of Diego Rivera, from the Mexican Revolution to the Museum of Modern Art in New York City, learn all about this talented artist and his creative life.","English",37.270000000000003,27.95,"759.972--dc23","128 pp.",{"$f":"Table1[[#This Row],[QTY]]*Table1[[#This Row],['# of Books]]","v":0},{"$f":"Table1[[#This Row],[QTY]]*Table1[[#This Row],[School & Library Price]]","v":0}]
[null,null,null,86,"Influential Latinos","Eva Longoria: Actress, Activist, and Entrepreneur",1,"Library Bound Book","978-0-7660-6993-0",2016,"August 2015","6.000 X 9.000","Author","Richard Worth",null,null,null,null,"Z",null,"Grade 7","Grade 6 - 12","From soap operas to sitcoms, Mexican-American actress Eva Longoria is a familiar face on television. Far more than just a superstar, Eva is committed to raising awareness about issues facing the American Latino community. Discover the secrets of how she turned her struggles into success and what she is giving back to her community.","English",37.270000000000003,27.95,"791.4302'8092--dc23","128 pp.",{"$f":"Table1[[#This Row],[QTY]]*Table1[[#This Row],['# of Books]]","v":0},{"$f":"Table1[[#This Row],[QTY]]*Table1[[#This Row],[School & Library Price]]","v":0}]
[null,null,null,86,"Influential Latinos","Eva Longoria: Actress, Activist, and Entrepreneur",1,"eBook","978-0-7660-6994-7",2016,"August 2015",null,"Author","Richard Worth",null,null,null,null,"Z",null,"Grade 7","Grade 6 - 12","From soap operas to sitcoms, Mexican-American actress Eva Longoria is a familiar face on television. Far more than just a superstar, Eva is committed to raising awareness about issues facing the American Latino community. Discover the secrets of how she turned her struggles into success and what she is giving back to her community.","English",37.270000000000003,27.95,"791.4302'8092--dc23","128 pp.",{"$f":"Table1[[#This Row],[QTY]]*Table1[[#This Row],['# of Books]]","v":0},{"$f":"Table1[[#This Row],[QTY]]*Table1[[#This Row],[School & Library Price]]","v":0}]
[null,null,null,86,"Influential Latinos","Father Junipero Serra: Founder of the Missions of California",1,"Library Bound Book","978-0-7660-6995-4",2016,"August 2015","6.000 X 9.000","Author, Author","Mariana Medina, Donna Genet",null,null,null,null,"Z",null,"Grade 7","Grade 6 - 12","A Spanish Franciscan friar, Father Junipero Serra traveled to the New World to bring Catholicism to the indigenous peoples, and in 1769 founded the first mission in California. Read all about Father Serra's incredible life, including his historic accomplishments and the recent controversies surrounding his missionary work.","English",37.270000000000003,27.95,"979.4'02092--dc23","128 pp.",{"$f":"Table1[[#This Row],[QTY]]*Table1[[#This Row],['# of Books]]","v":0},{"$f":"Table1[[#This Row],[QTY]]*Table1[[#This Row],[School & Library Price]]","v":0}]
[null,null,null,86,"Influential Latinos","Father Junipero Serra: Founder of the Missions of California",1,"eBook","978-0-7660-6996-1",2016,"August 2015",null,"Author, Author","Mariana Medina, Donna Genet",null,null,null,null,"Z",null,"Grade 7","Grade 6 - 12","A Spanish Franciscan friar, Father Junipero Serra traveled to the New World to bring Catholicism to the indigenous peoples, and in 1769 founded the first mission in California. Read all about Father Serra's incredible life, including his historic accomplishments and the recent controversies surrounding his missionary work.","English",37.270000000000003,27.95,"979.4'02092--dc23","128 pp.",{"$f":"Table1[[#This Row],[QTY]]*Table1[[#This Row],['# of Books]]","v":0},{"$f":"Table1[[#This Row],[QTY]]*Table1[[#This Row],[School & Library Price]]","v":0}]
[null,null,null,86,"Influential Latinos","Frida Kahlo: Self-Portrait Artist",1,"Library Bound Book","978-0-7660-6997-8",2016,"August 2015","6.000 X 9.000","Author","Mariana Medina",null,null,null,null,"Z",null,"Grade 7","Grade 6 - 12","\"I never paint dreams or nightmares. I paint my own reality.\" Frida Kahlo is arguably Mexico's most famous artist, with her sometimes whimsical and always poignant works earning international admiration. But the woman behind the self-portraits was darker than her paintings would suggest. Read about her struggles and triumphs and journey into her creative mind.","English",37.270000000000003,27.95,"759.972--dc23","128 pp.",{"$f":"Table1[[#This Row],[QTY]]*Table1[[#This Row],['# of Books]]","v":0},{"$f":"Table1[[#This Row],[QTY]]*Table1[[#This Row],[School & Library Price]]","v":0}]
[null,null,null,86,"Influential Latinos","Frida Kahlo: Self-Portrait Artist",1,"eBook","978-0-7660-6998-5",2016,"August 2015",null,"Author, Author","Mariana Medina, Sara Mcintosh Wooten",null,null,null,null,"Z",null,"Grade 7","Grade 6 - 12","\"I never paint dreams or nightmares. I paint my own reality.\" Frida Kahlo is arguably Mexico's most famous artist, with her sometimes whimsical and always poignant works earning international admiration. But the woman behind the self-portraits was darker than her paintings would suggest. Read about her struggles and triumphs and journey into her creative mind.","English",37.270000000000003,27.95,"759.972--dc23","128 pp.",{"$f":"Table1[[#This Row],[QTY]]*Table1[[#This Row],['# of Books]]","v":0},{"$f":"Table1[[#This Row],[QTY]]*Table1[[#This Row],[School & Library Price]]","v":0}]
[null,null,null,86,"Influential Latinos","Isabel Allende: Award-Winning Author",1,"Library Bound Book","978-0-7660-7250-3",2016,"January 2016","6.000 X 9.000","Author, Author","Jeanne Nagle, Mary Main",null,null,null,null,"Z",null,"Grade 7 - 8","Grade 6 - 12","The Chilean-American writer Isabel Allende has won many awards for her magical-realism fiction. But she also has an organization dedicated to supporting the rights of women and girls. Through quotations from the author herself, as well as detail descriptions about major events in her life and color images, readers will learn exactly what it is that makes Isabel Allende an influential Latina.","English",37.270000000000003,27.95,"863'.64--dc23[B]","128 pp.",{"$f":"Table1[[#This Row],[QTY]]*Table1[[#This Row],['# of Books]]","v":0},{"$f":"Table1[[#This Row],[QTY]]*Table1[[#This Row],[School & Library Price]]","v":0}]
[null,null,null,86,"Influential Latinos","Isabel Allende: Award-Winning Author",1,"eBook","978-0-7660-7251-0",2016,"January 2016",null,"Author, Author","Jeanne Nagle, Mary Main",null,null,null,null,"Z",null,"Grade 7 - 8","Grade 6 - 12","The Chilean-American writer Isabel Allende has won many awards for her magical-realism fiction. But she also has an organization dedicated to supporting the rights of women and girls. Through quotations from the author herself, as well as detail descriptions about major events in her life and color images, readers will learn exactly what it is that makes Isabel Allende an influential Latina.","English",37.270000000000003,27.95,"863'.64--dc23[B]","128 pp.",{"$f":"Table1[[#This Row],[QTY]]*Table1[[#This Row],['# of Books]]","v":0},{"$f":"Table1[[#This Row],[QTY]]*Table1[[#This Row],[School & Library Price]]","v":0}]
[null,null,null,86,"Influential Latinos","Lionel Messi: Top-Scoring Soccer Star",1,"Library Bound Book","978-0-7660-7260-2",2016,"January 2016","6.000 X 9.000",null,null,null,null,null,null,"Z",null,"Grade 7 - 8","Grade 6 - 12","Teeming with full-color photos, direct quotations, and engaging, easy-to-read biographic details, this book focuses on Lionel Messi’s contributions to both soccer and children’s education, giving readers an in-depth look into the Argentinian’s life and showcasing why he is an influential Latino.","English",37.270000000000003,27.95,"796.334092--dc23","128 pp.",{"$f":"Table1[[#This Row],[QTY]]*Table1[[#This Row],['# of Books]]","v":0},{"$f":"Table1[[#This Row],[QTY]]*Table1[[#This Row],[School & Library Price]]","v":0}]
[null,null,null,86,"Influential Latinos","Lionel Messi: Top-Scoring Soccer Star",1,"eBook","978-0-7660-7261-9",2016,"January 2016",null,"Author","John A. Torres",null,null,null,null,"Z",null,"Grade 7 - 8","Grade 6 - 12","Teeming with full-color photos, direct quotations, and engaging, easy-to-read biographic details, this book focuses on Lionel Messi’s contributions to both soccer and children’s education, giving readers an in-depth look into the Argentinian’s life and showcasing why he is an influential Latino.","English",37.270000000000003,27.95,"796.334092--dc23","128 pp.",{"$f":"Table1[[#This Row],[QTY]]*Table1[[#This Row],['# of Books]]","v":0},{"$f":"Table1[[#This Row],[QTY]]*Table1[[#This Row],[School & Library Price]]","v":0}]
[null,null,null,86,"Influential Latinos","Pablo Neruda: Nobel Prize-Winning Poet",1,"Library Bound Book","978-0-7660-7314-2",2016,"January 2016","6.000 X 9.000","Author, Author","Jeanne Nagle, Jodie A. Schull",null,null,null,null,"Z",null,"Grade 7 - 8","Grade 6 - 12","Chilean poet Pablo Neruda was more than just a writer. He was also an activist, politician, and Nobel Peace Prize winner. Through direct quotations, facts, and excerpts of his work, the life of Pablo Neruda is told in a way that is intriguing, captivating, and most of all, inspiring.","English",37.270000000000003,27.95,"861'.62--dc23[B]","128 pp.",{"$f":"Table1[[#This Row],[QTY]]*Table1[[#This Row],['# of Books]]","v":0},{"$f":"Table1[[#This Row],[QTY]]*Table1[[#This Row],[School & Library Price]]","v":0}]
[null,null,null,86,"Influential Latinos","Pablo Neruda: Nobel Prize-Winning Poet",1,"eBook","978-0-7660-7315-9",2016,"January 2016",null,"Author, Author","Jeanne Nagle, Jodie A. Schull",null,null,null,null,"Z",null,"Grade 7 - 8","Grade 6 - 12","Chilean poet Pablo Neruda was more than just a writer. He was also an activist, politician, and Nobel Peace Prize winner. Through direct quotations, facts, and excerpts of his work, the life of Pablo Neruda is told in a way that is intriguing, captivating, and most of all, inspiring.","English",37.270000000000003,27.95,"861'.62--dc23[B]","128 pp.",{"$f":"Table1[[#This Row],[QTY]]*Table1[[#This Row],['# of Books]]","v":0},{"$f":"Table1[[#This Row],[QTY]]*Table1[[#This Row],[School & Library Price]]","v":0}]
[null,null,null,86,"Influential Latinos","Pope Francis: The People's Pope",1,"Library Bound Book","978-0-7660-7328-9",2016,"January 2016","6.000 X 9.000","Author","Richard Worth",null,null,null,null,"Z",null,"Grade 7 - 8","Grade 6 - 12","The very first New World pope hails from Argentina and is bringing the people’s plight into the public eye. Vocalizing his views on many social issues, Pope Francis is a new pope for a new generation of Catholics. Through details about his life and missions, photos, and direct quotations from the Holy Father, readers will learn why Pope Francis is an influential Latino.","English",37.270000000000003,27.95,"282.092--dc23","128 pp.",{"$f":"Table1[[#This Row],[QTY]]*Table1[[#This Row],['# of Books]]","v":0},{"$f":"Table1[[#This Row],[QTY]]*Table1[[#This Row],[School & Library Price]]","v":0}]
[null,null,null,86,"Influential Latinos","Pope Francis: The People's Pope",1,"eBook","978-0-7660-7329-6",2016,"January 2016",null,"Author","Richard Worth",null,null,null,null,"Z",null,"Grade 7 - 8","Grade 6 - 12","The very first New World pope hails from Argentina and is bringing the people’s plight into the public eye. Vocalizing his views on many social issues, Pope Francis is a new pope for a new generation of Catholics. Through details about his life and missions, photos, and direct quotations from the Holy Father, readers will learn why Pope Francis is an influential Latino.","English",37.270000000000003,27.95,"282.092--dc23","128 pp.",{"$f":"Table1[[#This Row],[QTY]]*Table1[[#This Row],['# of Books]]","v":0},{"$f":"Table1[[#This Row],[QTY]]*Table1[[#This Row],[School & Library Price]]","v":0}]
[null,null,null,86,"Influential Latinos","Selena Gomez: Pop Singer and Actress",1,"Library Bound Book","978-0-7660-6999-2",2016,"August 2015","6.000 X 9.000","Author","Jennifer Torres",null,null,null,null,"Z",null,"Grade 7","Grade 6 - 12","Life in Texas was not easy for Selena Gomez. Born to teenage parents, her family struggled with money during her childhood. But Selena dreamed of performing and worked hard to become everything she is today—a singer, actress, fashion designer, and role model. Learn about her creative lifestyle, her personal life, and her success, and be inspired to follow your dreams too.","English",37.270000000000003,27.95,"791.4302'8092--dc23","128 pp.",{"$f":"Table1[[#This Row],[QTY]]*Table1[[#This Row],['# of Books]]","v":0},{"$f":"Table1[[#This Row],[QTY]]*Table1[[#This Row],[School & Library Price]]","v":0}]
[null,null,null,86,"Influential Latinos","Selena Gomez: Pop Singer and Actress",1,"eBook","978-0-7660-7000-4",2016,"August 2015",null,"Author","Jennifer Torres",null,null,null,null,"Z",null,"Grade 7","Grade 6 - 12","Life in Texas was not easy for Selena Gomez. Born to teenage parents, her family struggled with money during her childhood. But Selena dreamed of performing and worked hard to become everything she is today—a singer, actress, fashion designer, and role model. Learn about her creative lifestyle, her personal life, and her success, and be inspired to follow your dreams too.","English",37.270000000000003,27.95,"791.4302'8092--dc23","128 pp.",{"$f":"Table1[[#This Row],[QTY]]*Table1[[#This Row],['# of Books]]","v":0},{"$f":"Table1[[#This Row],[QTY]]*Table1[[#This Row],[School & Library Price]]","v":0}]
[null,null,null,86,"Influential Latinos","Sonia Sotomayor: First Latina Supreme Court Justice",1,"Library Bound Book","978-0-7660-7001-1",2016,"August 2015","6.000 X 9.000","Author","John A. Torres",null,null,null,null,"Z",null,"Grade 7","Grade 6 - 12","Sonia Sotomayor came from a working class Puerto Rican family in the Bronx. She fought to overcome health issues and financial problems, received a Yale law education, and eventually became a judge. After more than a decade on the United States Court of Appeals, she assumed office as a Supreme Court Justice in 2009, becoming the first Latina in the Supreme Court of the United States. Read about her rise to the highest court in the land and her fight to help others.","English",37.270000000000003,27.95,"347.73'2634--dc23","128 pp.",{"$f":"Table1[[#This Row],[QTY]]*Table1[[#This Row],['# of Books]]","v":0},{"$f":"Table1[[#This Row],[QTY]]*Table1[[#This Row],[School & Library Price]]","v":0}]
[null,null,null,86,"Influential Latinos","Sonia Sotomayor: First Latina Supreme Court Justice",1,"eBook","978-0-7660-7002-8",2016,"August 2015",null,"Author","John A. Torres",null,null,null,null,"Z",null,"Grade 7","Grade 6 - 12","Sonia Sotomayor came from a working class Puerto Rican family in the Bronx. She fought to overcome health issues and financial problems, received a Yale law education, and eventually became a judge. After more than a decade on the United States Court of Appeals, she assumed office as a Supreme Court Justice in 2009, becoming the first Latina in the Supreme Court of the United States. Read about her rise to the highest court in the land and her fight to help others.","English",37.270000000000003,27.95,"347.73'2634--dc23","128 pp.",{"$f":"Table1[[#This Row],[QTY]]*Table1[[#This Row],['# of Books]]","v":0},{"$f":"Table1[[#This Row],[QTY]]*Table1[[#This Row],[School & Library Price]]","v":0}]
[null,null,null,87,"People and Events That Changed the World","People and Events That Changed the World",7,"Library Set","978-0-7660-7429-3",2016,"January 2016","6.000 X 9.000",null,null,null,null,null,null,null,null,"Grade 7 - 8","Grade 6 - 12","History is said to repeat itself—but perhaps not once students get ahold of this series. From the transatlantic slave trade to the Russian Revolution to the Third Reich, these world-changing events have forever marked the pages of history. Each book focuses on a consequential leader during a critical period in time, exploring the political, economic, and social impact of that person's influence, and how today's society has been shaped by these events.\n\n• Rich with excepts from primary source documents presenting multiple perspectives\n\n• Extensive source notes provide vetted links to additional research \n\n• Thorough chronology of events provides readers with a complete context for the period","English",260.89,195.65,null,"128 pp.",{"$f":"Table1[[#This Row],[QTY]]*Table1[[#This Row],['# of Books]]","v":0},{"$f":"Table1[[#This Row],[QTY]]*Table1[[#This Row],[School & Library Price]]","v":0}]
[null,null,null,87,"People and Events That Changed the World","Adolf Hitler and the Rise of the Third Reich",1,"Library Bound Book","978-0-7660-7175-9",2016,"January 2016","6.000 X 9.000","Author","Linda Jacobs Altman",null,null,null,null,"Z",null,"Grade 7 - 8","Grade 6 - 12","In-depth analysis and narrative prose explain the climate of Germany post World War I, and make it clear to students exactly who Adolf Hitler was and what his political aspirations for Germany were. A clear chronology of the early twentieth century will enlighten readers about the rise of the Third Reich and its leader.","English",37.270000000000003,27.95,"943.086092--dc23","112 pp.",{"$f":"Table1[[#This Row],[QTY]]*Table1[[#This Row],['# of Books]]","v":0},{"$f":"Table1[[#This Row],[QTY]]*Table1[[#This Row],[School & Library Price]]","v":0}]
[null,null,null,87,"People and Events That Changed the World","Adolf Hitler and the Rise of the Third Reich",1,"eBook","978-0-7660-7176-6",2016,"January 2016",null,"Author","Linda Jacobs Altman",null,null,null,null,"Z",null,"Grade 7 - 8","Grade 6 - 12","In-depth analysis and narrative prose explain the climate of Germany post World War I, and make it clear to students exactly who Adolf Hitler was and what his political aspirations for Germany were. A clear chronology of the early twentieth century will enlighten readers about the rise of the Third Reich and its leader.","English",37.270000000000003,27.95,"943.086092--dc23","112 pp.",{"$f":"Table1[[#This Row],[QTY]]*Table1[[#This Row],['# of Books]]","v":0},{"$f":"Table1[[#This Row],[QTY]]*Table1[[#This Row],[School & Library Price]]","v":0}]
[null,null,null,87,"People and Events That Changed the World","Mahatma Gandhi and India's Independence",1,"Library Bound Book","978-0-7660-7262-6",2016,"January 2016","6.000 X 9.000","Author","Ann Malaspina",null,null,null,null,"Z",null,"Grade 7 - 8","Grade 6 - 12","Highlighting Mahatma Gandhi’s key ideals and details of his life through source documents, photos, and informative text, this book will help students understand the revolutionary ideas that Gandhi portrayed. They will learn how he helped free India from British rule through nonviolence and shaped the behaviors of politicians and activists for generations to come.","English",37.270000000000003,27.95,"954.03’5’092--dc23","128 pp.",{"$f":"Table1[[#This Row],[QTY]]*Table1[[#This Row],['# of Books]]","v":0},{"$f":"Table1[[#This Row],[QTY]]*Table1[[#This Row],[School & Library Price]]","v":0}]
[null,null,null,87,"People and Events That Changed the World","Mahatma Gandhi and India's Independence",1,"eBook","978-0-7660-7263-3",2016,"January 2016",null,"Author","Ann Malaspina",null,null,null,null,"Z",null,"Grade 7 - 8","Grade 6 - 12","Highlighting Mahatma Gandhi’s key ideals and details of his life through source documents, photos, and informative text, this book will help students understand the revolutionary ideas that Gandhi portrayed. They will learn how he helped free India from British rule through nonviolence and shaped the behaviors of politicians and activists for generations to come.","English",37.270000000000003,27.95,"954.03’5’092--dc23","128 pp.",{"$f":"Table1[[#This Row],[QTY]]*Table1[[#This Row],['# of Books]]","v":0},{"$f":"Table1[[#This Row],[QTY]]*Table1[[#This Row],[School & Library Price]]","v":0}]
[null,null,null,87,"People and Events That Changed the World","Mao Zedong and the Chinese Revolution",1,"Library Bound Book","978-0-7660-7292-3",2016,"January 2016","6.000 X 9.000","Author","Ann Malaspina",null,null,null,null,"Z",null,"Grade 7 - 8","Grade 6 - 12","Through first-person accounts, informational text, and photos, students will learn about Chairman Mao’s theories, military strategies, and political policies known as Maoism, which forever changed the culture of China and communication between the East and the West.","English",37.270000000000003,27.95,"951.04'2--dc23","128 pp.",{"$f":"Table1[[#This Row],[QTY]]*Table1[[#This Row],['# of Books]]","v":0},{"$f":"Table1[[#This Row],[QTY]]*Table1[[#This Row],[School & Library Price]]","v":0}]
[null,null,null,87,"People and Events That Changed the World","Mao Zedong and the Chinese Revolution",1,"eBook","978-0-7660-7293-0",2016,"January 2016",null,"Author","Ann Malaspina",null,null,null,null,"Z",null,"Grade 7 - 8","Grade 6 - 12","Through first-person accounts, informational text, and photos, students will learn about Chairman Mao’s theories, military strategies, and political policies known as Maoism, which forever changed the culture of China and communication between the East and the West.","English",37.270000000000003,27.95,"951.04'2--dc23","128 pp.",{"$f":"Table1[[#This Row],[QTY]]*Table1[[#This Row],['# of Books]]","v":0},{"$f":"Table1[[#This Row],[QTY]]*Table1[[#This Row],[School & Library Price]]","v":0}]
[null,null,null,87,"People and Events That Changed the World","Maximilien Robespierre and the French Revolution",1,"Library Bound Book","978-0-7660-7294-7",2016,"January 2016","6.000 X 9.000","Author","Elizabeth Schmermund",null,null,null,null,"Z",null,"Grade 7 - 8","Grade 6 - 12","Through source documents, engaging language, and illustrations, readers will discover why Maximilien Robespierre was one of the most influential figures of the French Revolution and how his politics, philosophies, and actions influenced the political landscape of today.","English",37.270000000000003,27.95,"944.04'1092--dc23","128 pp.",{"$f":"Table1[[#This Row],[QTY]]*Table1[[#This Row],['# of Books]]","v":0},{"$f":"Table1[[#This Row],[QTY]]*Table1[[#This Row],[School & Library Price]]","v":0}]
[null,null,null,87,"People and Events That Changed the World","Nelson Mandela and the End of Apartheid",1,"Library Bound Book","978-0-7660-7300-5",2016,"January 2016","6.000 X 9.000","Author","Ann Graham Gaines Rodriguez",null,null,null,null,"Z",null,"Grade 7 - 8","Grade 6 - 12","Through accessible text, a clear chronology, and photos, readers will discover how Nelson Mandela’s personal struggles and great courage spurred the South African revolution that changed the way the world looked at Africa.","English",37.270000000000003,27.95,"305.800968'09045--dc23","128 pp.",{"$f":"Table1[[#This Row],[QTY]]*Table1[[#This Row],['# of Books]]","v":0},{"$f":"Table1[[#This Row],[QTY]]*Table1[[#This Row],[School & Library Price]]","v":0}]
[null,null,null,87,"People and Events That Changed the World","Nelson Mandela and the End of Apartheid",1,"eBook","978-0-7660-7301-2",2016,"January 2016",null,"Author","Ann Graham Gaines Rodriguez",null,null,null,null,"Z",null,"Grade 7 - 8","Grade 6 - 12","Through accessible text, a clear chronology, and photos, readers will discover how Nelson Mandela’s personal struggles and great courage spurred the South African revolution that changed the way the world looked at Africa.","English",37.270000000000003,27.95,"305.800968'09045--dc23","128 pp.",{"$f":"Table1[[#This Row],[QTY]]*Table1[[#This Row],['# of Books]]","v":0},{"$f":"Table1[[#This Row],[QTY]]*Table1[[#This Row],[School & Library Price]]","v":0}]
[null,null,null,87,"People and Events That Changed the World","The Amistad Revolt and the Transatlantic Slave Trade",1,"Library Bound Book","978-0-7660-7378-4",2016,"January 2016","6.000 X 9.000","Author","Richard Worth",null,null,null,null,"Z",null,"Grade 7 - 8","Grade 6 - 12","Through court documents, supporting details, and narrative language, students will discover how Sengbe Pieh, also known as Joseph Cinqué, staged a mutiny on a slave ship that not only gave him and his fellow captives freedom, but also spurred a court case that began an international debate over the morality and legality of slavery. Readers will gain a deeper understanding of the politics involved in the transatlantic slave trade, as well as a part of history that has shaped our society.","English",37.270000000000003,27.95,"326'.80973--dc23","128 pp.",{"$f":"Table1[[#This Row],[QTY]]*Table1[[#This Row],['# of Books]]","v":0},{"$f":"Table1[[#This Row],[QTY]]*Table1[[#This Row],[School & Library Price]]","v":0}]
[null,null,null,87,"People and Events That Changed the World","The Amistad Revolt and the Transatlantic Slave Trade",1,"eBook","978-0-7660-7379-1",2016,"January 2016",null,"Author","Richard Worth",null,null,null,null,"Z",null,"Grade 7 - 8","Grade 6 - 12","Through court documents, supporting details, and narrative language, students will discover how Sengbe Pieh, also known as Joseph Cinqué, staged a mutiny on a slave ship that not only gave him and his fellow captives freedom, but also spurred a court case that began an international debate over the morality and legality of slavery. Readers will gain a deeper understanding of the politics involved in the transatlantic slave trade, as well as a part of history that has shaped our society.","English",37.270000000000003,27.95,"326'.80973--dc23","128 pp.",{"$f":"Table1[[#This Row],[QTY]]*Table1[[#This Row],['# of Books]]","v":0},{"$f":"Table1[[#This Row],[QTY]]*Table1[[#This Row],[School & Library Price]]","v":0}]
[null,null,null,87,"People and Events That Changed the World","Vladimir Lenin and the Russian Revolution",1,"Library Bound Book","978-0-7660-7414-9",2016,"January 2016","6.000 X 9.000","Author","Elizabeth Schmermund",null,null,null,null,"Z",null,"Grade 7 - 8","Grade 6 - 12","Ending a two-hundred-year tsarist regime and bringing communism to the masses, Vladimir Lenin changed not only Russia, but also the world’s political climate. Using source documents and photos, this text discusses the major events of the Russian Revolution and its consequences in a way that makes the concepts clear, concise, and interesting to students.","English",37.270000000000003,27.95,"947.0841092--dc23","128 pp.",{"$f":"Table1[[#This Row],[QTY]]*Table1[[#This Row],['# of Books]]","v":0},{"$f":"Table1[[#This Row],[QTY]]*Table1[[#This Row],[School & Library Price]]","v":0}]
[null,null,null,87,"People and Events That Changed the World","Vladimir Lenin and the Russian Revolution",1,"eBook","978-0-7660-7415-6",2016,"January 2016",null,"Author","Elizabeth Schmermund",null,null,null,null,"Z",null,"Grade 7 - 8","Grade 6 - 12","Ending a two-hundred-year tsarist regime and bringing communism to the masses, Vladimir Lenin changed not only Russia, but also the world’s political climate. Using source documents and photos, this text discusses the major events of the Russian Revolution and its consequences in a way that makes the concepts clear, concise, and interesting to students.","English",37.270000000000003,27.95,"947.0841092--dc23","128 pp.",{"$f":"Table1[[#This Row],[QTY]]*Table1[[#This Row],['# of Books]]","v":0},{"$f":"Table1[[#This Row],[QTY]]*Table1[[#This Row],[School & Library Price]]","v":0}]
[null,null,null,88,"African-American Icons","African-American Icons",12,"Library Set","978-0-7660-8048-5",2013,"January 2014","6.000 X 9.000",null,null,null,null,null,null,null,null,"Grade 6 - 8","Grade 6 - 8",null,"English",335.28,251.4,null,null,{"$f":"Table1[[#This Row],[QTY]]*Table1[[#This Row],['# of Books]]","v":0},{"$f":"Table1[[#This Row],[QTY]]*Table1[[#This Row],[School & Library Price]]","v":0}]
[null,null,null,88,"African-American Icons","Beyoncé: A Biography of a Legendary Singer",1,"Library Bound Book","978-0-7660-4230-8",2014,"January 2014","6.000 X 9.000","Author","Michael A. Schuman",6.7,null,null,null,"R","930L","Grade 6 - 7","Grade 6 - 12","Perform the national anthem at President Barack Obama's inauguration ceremony. Wow the crowd with a spectacular Super Bowl halftime show. Win a Grammy. When you are legendary singer and performer Beyoncé Knowles, this is just a regular month's work. Beyoncé went from a child singer in her hometown of Houston, Texas, to one of the most recognizable faces on the planet. She has sold millions of records, made hit movies, and runs a clothing line. This superstar does it all. Author Michael A. Schuman chronicles the life of the amazing Beyoncé. ","English",27.94,20.95,"782.42164092","112 pp.",{"$f":"Table1[[#This Row],[QTY]]*Table1[[#This Row],['# of Books]]","v":0},{"$f":"Table1[[#This Row],[QTY]]*Table1[[#This Row],[School & Library Price]]","v":0}]
[null,null,null,88,"African-American Icons","Beyoncé: A Biography of a Legendary Singer",1,"eBook","978-0-7660-5853-8",2014,"January 2014",null,"Author","Michael A. Schuman",6.7,null,null,null,"R","930L","Grade 6 - 7","Grade 6 - 12","Perform the national anthem at President Barack Obama's inauguration ceremony. Wow the crowd with a spectacular Super Bowl halftime show. Win a Grammy. When you are legendary singer and performer Beyoncé Knowles, this is just a regular month's work. Beyoncé went from a child singer in her hometown of Houston, Texas, to one of the most recognizable faces on the planet. She has sold millions of records, made hit movies, and runs a clothing line. This superstar does it all. Author Michael A. Schuman chronicles the life of the amazing Beyoncé. ","English",27.94,20.95,"782.42164092","112 pp.",{"$f":"Table1[[#This Row],[QTY]]*Table1[[#This Row],['# of Books]]","v":0},{"$f":"Table1[[#This Row],[QTY]]*Table1[[#This Row],[School & Library Price]]","v":0}]
[null,null,null,88,"African-American Icons","Chris Rock: A Biography of a Comic Genius",1,"Library Bound Book","978-0-7660-4229-2",2014,"January 2014","6.000 X 9.000","Author","Marty Gitlin",6.7,null,null,null,"S","980L","Grade 6 - 7","Grade 6 - 12","When Chris Rock steps on stage, he destroys the targets of his jokes. When he finishes his performance, the audience needs time to catch its breath. The laughter never stops! Chris Rock pulls no punches. He is brutally honest and no subject—politics, racism, pop culture—is safe from his humor. From humble beginnings in New York City to his superstar career as a stand-up comedian and actor, author Marty Gitlin unleashes the story of comic genius Chris Rock. ","English",27.94,20.95,"792.702","104 pp.",{"$f":"Table1[[#This Row],[QTY]]*Table1[[#This Row],['# of Books]]","v":0},{"$f":"Table1[[#This Row],[QTY]]*Table1[[#This Row],[School & Library Price]]","v":0}]
[null,null,null,88,"African-American Icons","Chris Rock: A Biography of a Comic Genius",1,"eBook","978-0-7660-5852-1",2014,"January 2014",null,"Author","Marty Gitlin",6.7,null,null,null,"S","980L","Grade 6 - 7","Grade 6 - 12","When Chris Rock steps on stage, he destroys the targets of his jokes. When he finishes his performance, the audience needs time to catch its breath. The laughter never stops! Chris Rock pulls no punches. He is brutally honest and no subject—politics, racism, pop culture—is safe from his humor. From humble beginnings in New York City to his superstar career as a stand-up comedian and actor, author Marty Gitlin unleashes the story of comic genius Chris Rock. ","English",27.94,20.95,"792.702","104 pp.",{"$f":"Table1[[#This Row],[QTY]]*Table1[[#This Row],['# of Books]]","v":0},{"$f":"Table1[[#This Row],[QTY]]*Table1[[#This Row],[School & Library Price]]","v":0}]
[null,null,null,88,"African-American Icons","Halle Berry: A Biography of an Oscar-Winning Actress",1,"Library Bound Book","978-0-7660-3993-3",2013,"January 2013","6.000 X 9.000","Author","Michael A. Schuman",7.4,null,null,null,"R","990L","Grade 6 - 7","Grade 6 - 12","Halle Berry has worked hard for every achievement--springboarding from beauty queen to model to actress--and has never shied away from taking risks. Berry's career puttered along until her Oscar-winning performance in MONSTER'S BALL which launched her into superstardom. ","English",27.94,20.95,"791.4302","104 pp.",{"$f":"Table1[[#This Row],[QTY]]*Table1[[#This Row],['# of Books]]","v":0},{"$f":"Table1[[#This Row],[QTY]]*Table1[[#This Row],[School & Library Price]]","v":0}]
[null,null,null,88,"African-American Icons","Halle Berry: A Biography of an Oscar-Winning Actress",1,"eBook","978-0-7660-5774-6",2013,"January 2013",null,"Author","Michael A. Schuman",7.4,null,null,null,"R","990L","Grade 6 - 7","Grade 6 - 12","Halle Berry has worked hard for every achievement--springboarding from beauty queen to model to actress--and has never shied away from taking risks. Berry's career puttered along until her Oscar-winning performance in MONSTER'S BALL which launched her into superstardom. ","English",27.94,20.95,"791.4302","104 pp.",{"$f":"Table1[[#This Row],[QTY]]*Table1[[#This Row],['# of Books]]","v":0},{"$f":"Table1[[#This Row],[QTY]]*Table1[[#This Row],[School & Library Price]]","v":0}]
[null,null,null,88,"African-American Icons","Jay-Z: A Biography of a Hip-Hop Icon",1,"Library Bound Book","978-0-7660-4232-2",2014,"January 2014","6.000 X 9.000","Author","Jeff Burlingame",7.1,null,null,null,"S","1070L","Grade 6 - 7","Grade 6 - 12","One of the first singles from THE BLACK ALBUM, a famous Jay-Z record, rap “What More Can I Say”? But the real question is what more can this music legend do? From the platinum albums to the sold-out concerts to his Rocawear clothing brand, Jay-Z has done it all. He has sold some 50 million albums worldwide. He even has a sneaker named after him. From the Brooklyn projects to the corner office in Manhattan, Jay-Z made his own way, overcoming many obstacles. Author Jeff Burlingame explores the remarkably interesting life of this hip-hop icon. ","English",27.94,20.95,"782.421649092","104 pp.",{"$f":"Table1[[#This Row],[QTY]]*Table1[[#This Row],['# of Books]]","v":0},{"$f":"Table1[[#This Row],[QTY]]*Table1[[#This Row],[School & Library Price]]","v":0}]
[null,null,null,88,"African-American Icons","Jay-Z: A Biography of a Hip-Hop Icon",1,"eBook","978-0-7660-5855-2",2014,"January 2014",null,"Author","Jeff Burlingame",7.1,null,null,null,"S","1070L","Grade 6 - 7","Grade 6 - 12","One of the first singles from THE BLACK ALBUM, a famous Jay-Z record, rap “What More Can I Say”? But the real question is what more can this music legend do? From the platinum albums to the sold-out concerts to his Rocawear clothing brand, Jay-Z has done it all. He has sold some 50 million albums worldwide. He even has a sneaker named after him. From the Brooklyn projects to the corner office in Manhattan, Jay-Z made his own way, overcoming many obstacles. Author Jeff Burlingame explores the remarkably interesting life of this hip-hop icon. ","English",27.94,20.95,"782.421649092","104 pp.",{"$f":"Table1[[#This Row],[QTY]]*Table1[[#This Row],['# of Books]]","v":0},{"$f":"Table1[[#This Row],[QTY]]*Table1[[#This Row],[School & Library Price]]","v":0}]
[null,null,null,88,"African-American Icons","Jennifer Hudson: A Biography of an American Music Idol",1,"Library Bound Book","978-0-7660-4233-9",2014,"January 2014","6.000 X 9.000",null,null,6.2,null,null,null,"S","850L","Grade 6 - 7","Grade 6 - 12","And the contestant going home is . . . Jennifer Hudson! Standing on the AMERICAN IDOL stage, a shocked Hudson found out she had been voted off the famed singing competition. But unlike many IDOL contestants whose musical dreams end on that stage, Jennifer Hudson was just getting started. Her rapid rise to superstardom saw her win an Academy Award and a Grammy Award in only a few years. Author John Micklos, Jr., explores the life of this multi-talented music idol. ","English",27.94,20.95,"782.42164092","104 pp.",{"$f":"Table1[[#This Row],[QTY]]*Table1[[#This Row],['# of Books]]","v":0},{"$f":"Table1[[#This Row],[QTY]]*Table1[[#This Row],[School & Library Price]]","v":0}]
[null,null,null,88,"African-American Icons","Jennifer Hudson: A Biography of an American Music Idol",1,"eBook","978-0-7660-5856-9",2014,"January 2014",null,null,null,6.2,null,null,null,"S","850L","Grade 6 - 7","Grade 6 - 12","And the contestant going home is . . . Jennifer Hudson! Standing on the AMERICAN IDOL stage, a shocked Hudson found out she had been voted off the famed singing competition. But unlike many IDOL contestants whose musical dreams end on that stage, Jennifer Hudson was just getting started. Her rapid rise to superstardom saw her win an Academy Award and a Grammy Award in only a few years. Author John Micklos, Jr., explores the life of this multi-talented music idol. ","English",27.94,20.95,"782.42164092","104 pp.",{"$f":"Table1[[#This Row],[QTY]]*Table1[[#This Row],['# of Books]]","v":0},{"$f":"Table1[[#This Row],[QTY]]*Table1[[#This Row],[School & Library Price]]","v":0}]
[null,null,null,88,"African-American Icons","Maya Angelou: A Biography of an Award-Winning Poet and Civil Rights Activist",1,"Library Bound Book","978-0-7660-3992-6",2013,"January 2013","6.000 X 9.000","Author","Donna Brown Agins",7.4,null,null,null,"S","990L","Grade 6 - 7","Grade 6 - 12","From the child raised by her grandmother in a small village in Arkansas to the writer known as National Treasure, Angelou has lived a remarkable life. She rose from pain and poverty to achieve success as a dancer, an actress, a teacher and an award-winning author. Readers of Donna Brown Agins's compelling new profile will understand and appreciate why Angelou is one of the best-loved and most fascinating American writers. ","English",27.94,20.95,"818","104 pp.",{"$f":"Table1[[#This Row],[QTY]]*Table1[[#This Row],['# of Books]]","v":0},{"$f":"Table1[[#This Row],[QTY]]*Table1[[#This Row],[School & Library Price]]","v":0}]
[null,null,null,88,"African-American Icons","Maya Angelou: A Biography of an Award-Winning Poet and Civil Rights Activist",1,"eBook","978-0-7660-5776-0",2013,"January 2013",null,"Author","Donna Brown Agins",7.4,null,null,null,"S","990L","Grade 6 - 7","Grade 6 - 12","From the child raised by her grandmother in a small village in Arkansas to the writer known as National Treasure, Angelou has lived a remarkable life. She rose from pain and poverty to achieve success as a dancer, an actress, a teacher and an award-winning author. Readers of Donna Brown Agins's compelling new profile will understand and appreciate why Angelou is one of the best-loved and most fascinating American writers. ","English",27.94,20.95,"818","104 pp.",{"$f":"Table1[[#This Row],[QTY]]*Table1[[#This Row],['# of Books]]","v":0},{"$f":"Table1[[#This Row],[QTY]]*Table1[[#This Row],[School & Library Price]]","v":0}]
[null,null,null,88,"African-American Icons","Oprah Winfrey: A Biography of a Billionaire Talk Show Host",1,"Library Bound Book","978-0-7660-3991-9",2013,"January 2013","6.000 X 9.000","Author","Robin Westen",8.1,null,null,null,"S","1050L","Grade 6 - 7","Grade 6 - 12","Winfrey is smart, funny, compassionate, talented--and one of the richest and most powerful women in the world. Whether she was talking about her childhood experiences of abuse and rebellion, her lifelong struggle with weight, her favorite books, or her Angel Network of good deeds, the world was listening. How did Winfrey reach this pinnacle of success? Author Robin Westen has gathered the most compelling stories and quotes for this fun-to-read, information-packed biography. ","English",27.94,20.95,"791.4502","104 pp.",{"$f":"Table1[[#This Row],[QTY]]*Table1[[#This Row],['# of Books]]","v":0},{"$f":"Table1[[#This Row],[QTY]]*Table1[[#This Row],[School & Library Price]]","v":0}]
[null,null,null,88,"African-American Icons","Oprah Winfrey: A Biography of a Billionaire Talk Show Host",1,"eBook","978-0-7660-5773-9",2013,"January 2013",null,"Author","Robin Westen",8.1,null,null,null,"S","1050L","Grade 6 - 7","Grade 6 - 12","Winfrey is smart, funny, compassionate, talented--and one of the richest and most powerful women in the world. Whether she was talking about her childhood experiences of abuse and rebellion, her lifelong struggle with weight, her favorite books, or her Angel Network of good deeds, the world was listening. How did Winfrey reach this pinnacle of success? Author Robin Westen has gathered the most compelling stories and quotes for this fun-to-read, information-packed biography. ","English",27.94,20.95,"791.4502","104 pp.",{"$f":"Table1[[#This Row],[QTY]]*Table1[[#This Row],['# of Books]]","v":0},{"$f":"Table1[[#This Row],[QTY]]*Table1[[#This Row],[School & Library Price]]","v":0}]
[null,null,null,88,"African-American Icons","Sean \"Diddy\" Combs: A Biography of a Music Mogul",1,"Library Bound Book","978-0-7660-4296-4",2014,"January 2014","6.000 X 9.000","Author","Jen Jones Donatelli",7.4,null,null,null,"S","1130L","Grade 6 - 7","Grade 6 - 12","His voice blaring in the recording, Sean “Diddy” Combs says, “We won’t stop!” He repeats the motto in many of his famous songs—three words that Diddy lives by. When it comes to his rise to superstardom in hip-hop and his pursuit of dominance in the entertainment industry, Sean Combs has never stopped. The Harlem-born music mogul has achieved success as a producer, rapper, and entrepreneur, including the massive success of his Sean John clothing line. Author Jen Jones explores the meteoric rise of this entertainment icon. ","English",27.94,20.95,"782.421649092","104 pp.",{"$f":"Table1[[#This Row],[QTY]]*Table1[[#This Row],['# of Books]]","v":0},{"$f":"Table1[[#This Row],[QTY]]*Table1[[#This Row],[School & Library Price]]","v":0}]
[null,null,null,88,"African-American Icons","Sean \"Diddy\" Combs: A Biography of a Music Mogul",1,"eBook","978-0-7660-5906-1",2014,"January 2014",null,"Author","Jen Jones Donatelli",7.4,null,null,null,"S","1130L","Grade 6 - 7","Grade 6 - 12","His voice blaring in the recording, Sean “Diddy” Combs says, “We won’t stop!” He repeats the motto in many of his famous songs—three words that Diddy lives by. When it comes to his rise to superstardom in hip-hop and his pursuit of dominance in the entertainment industry, Sean Combs has never stopped. The Harlem-born music mogul has achieved success as a producer, rapper, and entrepreneur, including the massive success of his Sean John clothing line. Author Jen Jones explores the meteoric rise of this entertainment icon. ","English",27.94,20.95,"782.421649092","104 pp.",{"$f":"Table1[[#This Row],[QTY]]*Table1[[#This Row],['# of Books]]","v":0},{"$f":"Table1[[#This Row],[QTY]]*Table1[[#This Row],[School & Library Price]]","v":0}]
[null,null,null,88,"African-American Icons","Toni Morrison: A Biography of a Nobel Prize-Winning Writer",1,"Library Bound Book","978-0-7660-3989-6",2013,"January 2013","6.000 X 9.000","Author","Barbara Kramer",7.4,null,null,null,"S","990L","Grade 6 - 7","Grade 6 - 12","In TONI MORRISON: A BIOGRAPHY OF A NOBEL PRIZE-WINNING WRITER, author Barbara Kramer explores the life and career of this talented writer. From her childhood in Loraine, Ohio, to her creative expressions of African-American culture, Morrison has always remembered her past. She has taught at several universities, as well as being the author of novels, short stories essays, and a play. Morrison invites readers to participate in her stories and enables them to enter into the characters' lives. ","English",27.94,20.95,"813","104 pp.",{"$f":"Table1[[#This Row],[QTY]]*Table1[[#This Row],['# of Books]]","v":0},{"$f":"Table1[[#This Row],[QTY]]*Table1[[#This Row],[School & Library Price]]","v":0}]
[null,null,null,88,"African-American Icons","Toni Morrison: A Biography of a Nobel Prize-Winning Writer",1,"eBook","978-0-7660-5775-3",2013,"January 2013",null,"Author","Barbara Kramer",7.4,null,null,null,"S","990L","Grade 6 - 7","Grade 6 - 12","In TONI MORRISON: A BIOGRAPHY OF A NOBEL PRIZE-WINNING WRITER, author Barbara Kramer explores the life and career of this talented writer. From her childhood in Loraine, Ohio, to her creative expressions of African-American culture, Morrison has always remembered her past. She has taught at several universities, as well as being the author of novels, short stories essays, and a play. Morrison invites readers to participate in her stories and enables them to enter into the characters' lives. ","English",27.94,20.95,"813","104 pp.",{"$f":"Table1[[#This Row],[QTY]]*Table1[[#This Row],['# of Books]]","v":0},{"$f":"Table1[[#This Row],[QTY]]*Table1[[#This Row],[School & Library Price]]","v":0}]
[null,null,null,88,"African-American Icons","Tyler Perry: A Biography of a Movie Mogul",1,"Library Bound Book","978-0-7660-4241-4",2014,"January 2014","6.000 X 9.000","Author","Marty Gitlin",7.2,null,null,null,"R","1040L","Grade 6 - 7","Grade 6 - 12","Tyler Perry's path to success was anything but easy. His childhood was marred by constant abuse—physical and emotional. To escape from the pain, Perry found an outlet in writing. But the first play he wrote did not draw huge audiences. Even after years of failure, Perry never quit. He forged ahead, committed to getting his message out. And he sure did! Perry, now with many hit movies and television shows to his credit, is one of the biggest stars in Hollywood. Author Marty Gitlin explores the amazing life of this entertainment icon. ","English",27.94,20.95,"791.4302","104 pp.",{"$f":"Table1[[#This Row],[QTY]]*Table1[[#This Row],['# of Books]]","v":0},{"$f":"Table1[[#This Row],[QTY]]*Table1[[#This Row],[School & Library Price]]","v":0}]
[null,null,null,88,"African-American Icons","Tyler Perry: A Biography of a Movie Mogul",1,"eBook","978-0-7660-5864-4",2014,"January 2014",null,"Author","Marty Gitlin",7.2,null,null,null,"R","1040L","Grade 6 - 7","Grade 6 - 12","Tyler Perry's path to success was anything but easy. His childhood was marred by constant abuse—physical and emotional. To escape from the pain, Perry found an outlet in writing. But the first play he wrote did not draw huge audiences. Even after years of failure, Perry never quit. He forged ahead, committed to getting his message out. And he sure did! Perry, now with many hit movies and television shows to his credit, is one of the biggest stars in Hollywood. Author Marty Gitlin explores the amazing life of this entertainment icon. ","English",27.94,20.95,"791.4302","104 pp.",{"$f":"Table1[[#This Row],[QTY]]*Table1[[#This Row],['# of Books]]","v":0},{"$f":"Table1[[#This Row],[QTY]]*Table1[[#This Row],[School & Library Price]]","v":0}]
[null,null,null,88,"African-American Icons","Walter Dean Myers: A Biography of an Award-Winning Urban Fiction Author",1,"Library Bound Book","978-0-7660-3990-2",2013,"January 2013","6.000 X 9.000","Author","Denise M. Jordan",6.5,null,null,null,"R","810L","Grade 6 - 7","Grade 6 - 12","Walter Dean Myers tells it like it is in his award-winning novels about urban teenagers with real problems. With humor and a keen ear for dialogue, Myers creates characters that speak directly to today's teens. As a young reader, Myers could not find books about African-American boys like himself. Drawing upon his own struggles and experiences, he has filled that literary gap with fascinating novels filled with realistic stories that appeal to readers of all backgrounds and cultures. ","English",27.94,20.95,"813","104 pp.",{"$f":"Table1[[#This Row],[QTY]]*Table1[[#This Row],['# of Books]]","v":0},{"$f":"Table1[[#This Row],[QTY]]*Table1[[#This Row],[School & Library Price]]","v":0}]
[null,null,null,88,"African-American Icons","Walter Dean Myers: A Biography of an Award-Winning Urban Fiction Author",1,"eBook","978-0-7660-5772-2",2013,"January 2013",null,"Author","Denise M. Jordan",6.5,null,null,null,"R","810L","Grade 6 - 7","Grade 6 - 12","Walter Dean Myers tells it like it is in his award-winning novels about urban teenagers with real problems. With humor and a keen ear for dialogue, Myers creates characters that speak directly to today's teens. As a young reader, Myers could not find books about African-American boys like himself. Drawing upon his own struggles and experiences, he has filled that literary gap with fascinating novels filled with realistic stories that appeal to readers of all backgrounds and cultures. ","English",27.94,20.95,"813","104 pp.",{"$f":"Table1[[#This Row],[QTY]]*Table1[[#This Row],['# of Books]]","v":0},{"$f":"Table1[[#This Row],[QTY]]*Table1[[#This Row],[School & Library Price]]","v":0}]
[null,null,null,88,"African-American Icons","Will Smith: A Biography of a Rapper Turned Movie Star",1,"Library Bound Book","978-0-7660-3994-0",2013,"January 2013","6.000 X 9.000","Author","Michael A. Schuman",7.6,null,null,null,"R","1000L","Grade 6 - 7","Grade 6 - 12","From silly kid to Grammy-winning rapper, Will Smith has taken the fast track to superstardom. His popular rap music opened doors for Smith, who became a TV star on THE FRESH PRINCE OF BEL-AIR. After years of balancing rap and television, Smith emerged as a serious actor in SIX DEGREES OF SEPARATION and as a profitable, crowd drawing star in BAD BOYS. Readers get a rare peek behind the scenes of stardom at this tremendously popular actor, rapper and family man. ","English",27.94,20.95,"791.4302","104 pp.",{"$f":"Table1[[#This Row],[QTY]]*Table1[[#This Row],['# of Books]]","v":0},{"$f":"Table1[[#This Row],[QTY]]*Table1[[#This Row],[School & Library Price]]","v":0}]
[null,null,null,88,"African-American Icons","Will Smith: A Biography of a Rapper Turned Movie Star",1,"eBook","978-0-7660-5777-7",2013,"January 2013",null,"Author","Michael A. Schuman",7.6,null,null,null,"R","1000L","Grade 6 - 7","Grade 6 - 12","From silly kid to Grammy-winning rapper, Will Smith has taken the fast track to superstardom. His popular rap music opened doors for Smith, who became a TV star on THE FRESH PRINCE OF BEL-AIR. After years of balancing rap and television, Smith emerged as a serious actor in SIX DEGREES OF SEPARATION and as a profitable, crowd drawing star in BAD BOYS. Readers get a rare peek behind the scenes of stardom at this tremendously popular actor, rapper and family man. ","English",27.94,20.95,"791.4302","104 pp.",{"$f":"Table1[[#This Row],[QTY]]*Table1[[#This Row],['# of Books]]","v":0},{"$f":"Table1[[#This Row],[QTY]]*Table1[[#This Row],[School & Library Price]]","v":0}]
[null,null,null,89,"Courageous Heroes of the American West","Courageous Heroes of the American West",12,"Library Set","978-0-7660-8050-8",2013,"January 2013","5.500 X 8.250",null,null,null,null,null,null,null,null,"Grade 6 - 12","Grade 6 - 12",null,"English",271.2,203.4,null,"48 pp.",{"$f":"Table1[[#This Row],[QTY]]*Table1[[#This Row],['# of Books]]","v":0},{"$f":"Table1[[#This Row],[QTY]]*Table1[[#This Row],[School & Library Price]]","v":0}]
[null,null,null,89,"Courageous Heroes of the American West","Bill Pickett: Courageous African-American Cowboy",1,"Library Bound Book","978-0-7660-4001-4",2013,"January 2013","5.500 X 8.250","Author, Author","William R. Sanford, Carl R. Green",4.9000000000000004,1,null,null,"P","780L","Grade 5 - 7","Grade 5 - 9","Bill Pickett urged his horse forward chasing after the speedy steer. Like an acrobat, Pickett jumped onto the steer’s back, grabbing it by the horns. In the same motion, he twisted the steer’s neck up and bit its upper lip with his teeth. Instantly, he had the steer on the ground as the crowd roared in delight. Bill Pickett invented this exciting event, known as bulldogging. Despite the racism he faced as an African-American cowboy, Pickett entertained rodeo crowds around the world. Authors William R. Sanford and Carl R. Green explore the life of this courageous rodeo superstar. ","English",22.6,16.95,"791.8","48 pp.",{"$f":"Table1[[#This Row],[QTY]]*Table1[[#This Row],['# of Books]]","v":0},{"$f":"Table1[[#This Row],[QTY]]*Table1[[#This Row],[School & Library Price]]","v":0}]
[null,null,null,89,"Courageous Heroes of the American West","Bill Pickett: Courageous African-American Cowboy",1,"eBook","978-0-7660-4376-3",2013,"January 2013",null,"Author, Author","William R. Sanford, Carl R. Green",4.9000000000000004,1,null,null,"P","780L","Grade 5 - 7","Grade 5 - 9","Bill Pickett urged his horse forward chasing after the speedy steer. Like an acrobat, Pickett jumped onto the steer’s back, grabbing it by the horns. In the same motion, he twisted the steer’s neck up and bit its upper lip with his teeth. Instantly, he had the steer on the ground as the crowd roared in delight. Bill Pickett invented this exciting event, known as bulldogging. Despite the racism he faced as an African-American cowboy, Pickett entertained rodeo crowds around the world. Authors William R. Sanford and Carl R. Green explore the life of this courageous rodeo superstar. ","English",22.6,16.95,"791.8","48 pp.",{"$f":"Table1[[#This Row],[QTY]]*Table1[[#This Row],['# of Books]]","v":0},{"$f":"Table1[[#This Row],[QTY]]*Table1[[#This Row],[School & Library Price]]","v":0}]
[null,null,null,89,"Courageous Heroes of the American West","Brigham Young: Courageous Mormon Leader",1,"Library Bound Book","978-0-7660-4004-5",2013,"January 2013","5.500 X 8.250","Author, Author","William R. Sanford, Carl R. Green",5.0999999999999996,1,null,null,"Q","760L","Grade 5 - 7","Grade 5 - 9","Angry mobs had forced Brigham Young and his fellow Mormons out of Ohio, Missouri, and Illinois. As leader of the Mormon Church, Young needed a safe place for his followers to live and worship freely. So with more than 5,000 Mormon settlers, Young crossed prairies, climbed mountains, and overcame hardship to reach his Promised Land—an unsettled region near the Great Salt Lake of Utah. Sometimes called the \"American Moses,\" authors William R. Sanford and Carl R. Green explore the amazing life of this great pioneer. ","English",22.6,16.95,"289.3092","48 pp.",{"$f":"Table1[[#This Row],[QTY]]*Table1[[#This Row],['# of Books]]","v":0},{"$f":"Table1[[#This Row],[QTY]]*Table1[[#This Row],[School & Library Price]]","v":0}]
[null,null,null,89,"Courageous Heroes of the American West","Brigham Young: Courageous Mormon Leader",1,"eBook","978-0-7660-4378-7",2013,"January 2013",null,"Author, Author","William R. Sanford, Carl R. Green",5.0999999999999996,1,null,null,"Q","760L","Grade 5 - 7","Grade 5 - 9","Angry mobs had forced Brigham Young and his fellow Mormons out of Ohio, Missouri, and Illinois. As leader of the Mormon Church, Young needed a safe place for his followers to live and worship freely. So with more than 5,000 Mormon settlers, Young crossed prairies, climbed mountains, and overcame hardship to reach his Promised Land—an unsettled region near the Great Salt Lake of Utah. Sometimes called the \"American Moses,\" authors William R. Sanford and Carl R. Green explore the amazing life of this great pioneer. ","English",22.6,16.95,"289.3092","48 pp.",{"$f":"Table1[[#This Row],[QTY]]*Table1[[#This Row],['# of Books]]","v":0},{"$f":"Table1[[#This Row],[QTY]]*Table1[[#This Row],[School & Library Price]]","v":0}]
[null,null,null,89,"Courageous Heroes of the American West","Buffalo Bill Cody: Courageous Wild West Showman",1,"Library Bound Book","978-0-7660-4007-6",2013,"January 2013","5.500 X 8.250","Author, Author","William R. Sanford, Carl R. Green",4.7,1,null,null,"Q","740L","Grade 5 - 7","Grade 5 - 9","Buffalo Bill rode his speedy horse toward a herd of buffalo. With careful aim, Bill dropped a buffalo with one shot. Before the day ended, he bagged ten more. In less than eighteen months, he had killed thousands. His nickname quickly spread throughout the Wild West. Buffalo Bill had many jobs—Pony Express rider, scout, soldier, buffalo hunter. But he was most famous for entertaining audiences with his Wild West show. Many Americans and others around the world could not travel to see the real Wild West, so Buffalo Bill brought it to them. ","English",22.6,16.95,"978","48 pp.",{"$f":"Table1[[#This Row],[QTY]]*Table1[[#This Row],['# of Books]]","v":0},{"$f":"Table1[[#This Row],[QTY]]*Table1[[#This Row],[School & Library Price]]","v":0}]
[null,null,null,89,"Courageous Heroes of the American West","Buffalo Bill Cody: Courageous Wild West Showman",1,"eBook","978-0-7660-4379-4",2013,"January 2013",null,"Author, Author","William R. Sanford, Carl R. Green",4.7,1,null,null,"Q","740L","Grade 5 - 7","Grade 5 - 9","Buffalo Bill rode his speedy horse toward a herd of buffalo. With careful aim, Bill dropped a buffalo with one shot. Before the day ended, he bagged ten more. In less than eighteen months, he had killed thousands. His nickname quickly spread throughout the Wild West. Buffalo Bill had many jobs—Pony Express rider, scout, soldier, buffalo hunter. But he was most famous for entertaining audiences with his Wild West show. Many Americans and others around the world could not travel to see the real Wild West, so Buffalo Bill brought it to them. ","English",22.6,16.95,"978","48 pp.",{"$f":"Table1[[#This Row],[QTY]]*Table1[[#This Row],['# of Books]]","v":0},{"$f":"Table1[[#This Row],[QTY]]*Table1[[#This Row],[School & Library Price]]","v":0}]
[null,null,null,89,"Courageous Heroes of the American West","Calamity Jane: Courageous Wild West Woman",1,"Library Bound Book","978-0-7660-4010-6",2013,"January 2013","5.500 X 8.250","Author, Author","William R. Sanford, Carl R. Green",5.0999999999999996,1,null,null,"P","740L","Grade 5 - 7","Grade 5 - 9","What was Calamity Jane's real name? Was she a horse thief and a preacher's daughter? Did she actually serve under General George Custer? The truth and myth are difficult to separate in the wild life of Calamity Jane. An independent spirit, she never stayed in one place for long. She worked as a gold prospector, bullwhacker, nurse, and had many other jobs. Calamity Jane refused to conform to the typical roles of nineteenth-century women. Authors William R. Sanford and Carl R. Green reveal the true story of this legendary American figure. ","English",22.6,16.95,"978","48 pp.",{"$f":"Table1[[#This Row],[QTY]]*Table1[[#This Row],['# of Books]]","v":0},{"$f":"Table1[[#This Row],[QTY]]*Table1[[#This Row],[School & Library Price]]","v":0}]
[null,null,null,89,"Courageous Heroes of the American West","Calamity Jane: Courageous Wild West Woman",1,"eBook","978-0-7660-4382-4",2013,"January 2013",null,"Author, Author","William R. Sanford, Carl R. Green",5.0999999999999996,1,null,null,"P","740L","Grade 5 - 7","Grade 5 - 9","What was Calamity Jane's real name? Was she a horse thief and a preacher's daughter? Did she actually serve under General George Custer? The truth and myth are difficult to separate in the wild life of Calamity Jane. An independent spirit, she never stayed in one place for long. She worked as a gold prospector, bullwhacker, nurse, and had many other jobs. Calamity Jane refused to conform to the typical roles of nineteenth-century women. Authors William R. Sanford and Carl R. Green reveal the true story of this legendary American figure. ","English",22.6,16.95,"978","48 pp.",{"$f":"Table1[[#This Row],[QTY]]*Table1[[#This Row],['# of Books]]","v":0},{"$f":"Table1[[#This Row],[QTY]]*Table1[[#This Row],[School & Library Price]]","v":0}]
[null,null,null,89,"Courageous Heroes of the American West","Daniel Boone: Courageous Frontiersman",1,"Library Bound Book","978-0-7660-4002-1",2013,"January 2013","5.500 X 8.250","Author, Author","William R. Sanford, Carl R. Green",4.8,1,null,null,"Q","710L","Grade 5 - 7","Grade 5 - 9","Through the untamed wilderness, Daniel Boone marched forward. He was leading a group of workers to carve out the Wilderness Road. Over hills, through dense forests, along stony paths, and fending off American Indian attacks, Boone never quit. He opened the way for thousands of settlers to move west, establishing the settlement of Booneseborough in 1775. He had many jobs—hunter, scout, soldier, surveyor—and performed them all with the same courage and determination. Authors William R. Sanford and Carl R. Green examine the life of this American legend. ","English",22.6,16.95,"976.9","48 pp.",{"$f":"Table1[[#This Row],[QTY]]*Table1[[#This Row],['# of Books]]","v":0},{"$f":"Table1[[#This Row],[QTY]]*Table1[[#This Row],[School & Library Price]]","v":0}]
[null,null,null,89,"Courageous Heroes of the American West","Daniel Boone: Courageous Frontiersman",1,"eBook","978-0-7660-4374-9",2013,"January 2013",null,"Author, Author","William R. Sanford, Carl R. Green",4.8,1,null,null,"Q","710L","Grade 5 - 7","Grade 5 - 9","Through the untamed wilderness, Daniel Boone marched forward. He was leading a group of workers to carve out the Wilderness Road. Over hills, through dense forests, along stony paths, and fending off American Indian attacks, Boone never quit. He opened the way for thousands of settlers to move west, establishing the settlement of Booneseborough in 1775. He had many jobs—hunter, scout, soldier, surveyor—and performed them all with the same courage and determination. Authors William R. Sanford and Carl R. Green examine the life of this American legend. ","English",22.6,16.95,"976.9","48 pp.",{"$f":"Table1[[#This Row],[QTY]]*Table1[[#This Row],['# of Books]]","v":0},{"$f":"Table1[[#This Row],[QTY]]*Table1[[#This Row],[School & Library Price]]","v":0}]
[null,null,null,89,"Courageous Heroes of the American West","Davy Crockett: Courageous Hero of the Alamo",1,"Library Bound Book","978-0-7660-4005-2",2013,"January 2013","5.500 X 8.250","Author, Author","William R. Sanford, Carl R. Green",5,1,null,null,"Q","740L","Grade 5 - 7","Grade 5 - 9","Hopelessly outnumbered, Davy Crockett and the defenders of the Alamo rallied around the battle cry, \"Victory or Death!\" The courageous Texans chose to defend the fort in San Antonio against more than two thousand Mexican soldiers. Fighting for their freedom, the Texans were happy to have the well-known Tennessee backwoodsman on their side. And Crockett gave his life defending freedom. Although his brave deeds at the Alamo made him legendary, Crockett had already gained fame as a hunter, soldier, and U.S. Congressman. Authors William R. Sanford and Carl R. Green explore the life of this American hero. ","English",22.6,16.95,"976.8","48 pp.",{"$f":"Table1[[#This Row],[QTY]]*Table1[[#This Row],['# of Books]]","v":0},{"$f":"Table1[[#This Row],[QTY]]*Table1[[#This Row],[School & Library Price]]","v":0}]
[null,null,null,89,"Courageous Heroes of the American West","Davy Crockett: Courageous Hero of the Alamo",1,"eBook","978-0-7660-4375-6",2013,"January 2013",null,"Author, Author","William R. Sanford, Carl R. Green",5,1,null,null,"Q","740L","Grade 5 - 7","Grade 5 - 9","Hopelessly outnumbered, Davy Crockett and the defenders of the Alamo rallied around the battle cry, \"Victory or Death!\" The courageous Texans chose to defend the fort in San Antonio against more than two thousand Mexican soldiers. Fighting for their freedom, the Texans were happy to have the well-known Tennessee backwoodsman on their side. And Crockett gave his life defending freedom. Although his brave deeds at the Alamo made him legendary, Crockett had already gained fame as a hunter, soldier, and U.S. Congressman. Authors William R. Sanford and Carl R. Green explore the life of this American hero. ","English",22.6,16.95,"976.8","48 pp.",{"$f":"Table1[[#This Row],[QTY]]*Table1[[#This Row],['# of Books]]","v":0},{"$f":"Table1[[#This Row],[QTY]]*Table1[[#This Row],[School & Library Price]]","v":0}]
[null,null,null,89,"Courageous Heroes of the American West","John C. Frémont: Courageous Pathfinder of the Wild West",1,"Library Bound Book","978-0-7660-4008-3",2013,"January 2013","5.500 X 8.250","Author, Author","William R. Sanford, Carl R. Green",5.0999999999999996,1,null,null,"P","740L","Grade 5 - 7","Grade 5 - 9","Appropriately nicknamed \"the Pathfinder,\" John C. Frémont blazed many trails across the Wild West. Frémont carved paths over the Rocky and Sierra Nevada mountains. He led expeditions through uncharted wilderness and provided the first useful maps of California and Oregon. However, Frémont did more than explore. As a soldier, he helped California fight for its independence and served as one of the state's first senators. Authors William R. Sanford and Carl R. Green reveal the remarkable life of the Pathfinder. ","English",22.6,16.95,"978","48 pp.",{"$f":"Table1[[#This Row],[QTY]]*Table1[[#This Row],['# of Books]]","v":0},{"$f":"Table1[[#This Row],[QTY]]*Table1[[#This Row],[School & Library Price]]","v":0}]
[null,null,null,89,"Courageous Heroes of the American West","John C. Frémont: Courageous Pathfinder of the Wild West",1,"eBook","978-0-7660-4380-0",2013,"January 2013",null,"Author, Author","William R. Sanford, Carl R. Green",5.0999999999999996,1,null,null,"P","740L","Grade 5 - 7","Grade 5 - 9","Appropriately nicknamed \"the Pathfinder,\" John C. Frémont blazed many trails across the Wild West. Frémont carved paths over the Rocky and Sierra Nevada mountains. He led expeditions through uncharted wilderness and provided the first useful maps of California and Oregon. However, Frémont did more than explore. As a soldier, he helped California fight for its independence and served as one of the state's first senators. Authors William R. Sanford and Carl R. Green reveal the remarkable life of the Pathfinder. ","English",22.6,16.95,"978","48 pp.",{"$f":"Table1[[#This Row],[QTY]]*Table1[[#This Row],['# of Books]]","v":0},{"$f":"Table1[[#This Row],[QTY]]*Table1[[#This Row],[School & Library Price]]","v":0}]
[null,null,null,89,"Courageous Heroes of the American West","Kit Carson: Courageous Mountain Man",1,"Library Bound Book","978-0-7660-4011-3",2013,"January 2013","5.500 X 8.250","Author, Author","William R. Sanford, Carl R. Green",4.8,1,null,null,"P","740L","Grade 5 - 7","Grade 5 - 9","As winter strangled the wilderness, John C. Frémont needed to get his expedition party to California. Facing sub-zero temperatures, meager food supplies, and American Indian warriors on their trail, the explorer counted on one man to lead the way: Kit Carson. The mountain man and scout knew the uncharted West better than anyone. Carson led the party through the deep snow over the Sierra Nevada Mountains to their destination. Frémont reported Carson's courageous deeds and exceptional skills, and the mountain man became a national hero. Authors William R. Sanford and Carl R. Green explore the life of this American frontier legend. ","English",22.6,16.95,"978","48 pp.",{"$f":"Table1[[#This Row],[QTY]]*Table1[[#This Row],['# of Books]]","v":0},{"$f":"Table1[[#This Row],[QTY]]*Table1[[#This Row],[School & Library Price]]","v":0}]
[null,null,null,89,"Courageous Heroes of the American West","Kit Carson: Courageous Mountain Man",1,"eBook","978-0-7660-4383-1",2013,"January 2013",null,"Author, Author","William R. Sanford, Carl R. Green",4.8,1,null,null,"P","740L","Grade 5 - 7","Grade 5 - 9","As winter strangled the wilderness, John C. Frémont needed to get his expedition party to California. Facing sub-zero temperatures, meager food supplies, and American Indian warriors on their trail, the explorer counted on one man to lead the way: Kit Carson. The mountain man and scout knew the uncharted West better than anyone. Carson led the party through the deep snow over the Sierra Nevada Mountains to their destination. Frémont reported Carson's courageous deeds and exceptional skills, and the mountain man became a national hero. Authors William R. Sanford and Carl R. Green explore the life of this American frontier legend. ","English",22.6,16.95,"978","48 pp.",{"$f":"Table1[[#This Row],[QTY]]*Table1[[#This Row],['# of Books]]","v":0},{"$f":"Table1[[#This Row],[QTY]]*Table1[[#This Row],[School & Library Price]]","v":0}]
[null,null,null,89,"Courageous Heroes of the American West","Richard King: Courageous Texas Cattleman",1,"Library Bound Book","978-0-7660-4003-8",2013,"January 2013","5.500 X 8.250","Author, Author","William R. Sanford, Carl R. Green",5,1,null,null,"P","750L","Grade 5 - 7","Grade 5 - 9","In the broiling heat of Texas, Richard King built an empire. Before he arrived in Texas, cattle ranching barely existed in the United States. Although it was a hostile land of sand and brush, King saw an opportunity in the Lone Star state. With great skill and tireless determination, Captain King developed a thriving industry, bringing beef to the northern states and inventing modern ranching. Authors William R. Sanford and Carl R. Green explore the life of \"the Boss,\" from his humble beginnings to his creation of a cattle empire: the King Ranch. ","English",22.6,16.95,"976.4","48 pp.",{"$f":"Table1[[#This Row],[QTY]]*Table1[[#This Row],['# of Books]]","v":0},{"$f":"Table1[[#This Row],[QTY]]*Table1[[#This Row],[School & Library Price]]","v":0}]
[null,null,null,89,"Courageous Heroes of the American West","Richard King: Courageous Texas Cattleman",1,"eBook","978-0-7660-4377-0",2013,"January 2013",null,"Author, Author","William R. Sanford, Carl R. Green",5,1,null,null,"P","750L","Grade 5 - 7","Grade 5 - 9","In the broiling heat of Texas, Richard King built an empire. Before he arrived in Texas, cattle ranching barely existed in the United States. Although it was a hostile land of sand and brush, King saw an opportunity in the Lone Star state. With great skill and tireless determination, Captain King developed a thriving industry, bringing beef to the northern states and inventing modern ranching. Authors William R. Sanford and Carl R. Green explore the life of \"the Boss,\" from his humble beginnings to his creation of a cattle empire: the King Ranch. ","English",22.6,16.95,"976.4","48 pp.",{"$f":"Table1[[#This Row],[QTY]]*Table1[[#This Row],['# of Books]]","v":0},{"$f":"Table1[[#This Row],[QTY]]*Table1[[#This Row],[School & Library Price]]","v":0}]
[null,null,null,89,"Courageous Heroes of the American West","Sacagawea: Courageous American Indian Guide",1,"Library Bound Book","978-0-7660-4006-9",2013,"January 2013","5.500 X 8.250","Author, Author","William R. Sanford, Carl R. Green",4.9000000000000004,1,null,null,"Q","740L","Grade 5 - 7","Grade 5 - 9","In May 1805, as the Lewis and Clark expedition paddled up the Missouri River, a howling gust of wind tipped over one of the canoes. The men paddled to shore, leaving behind precious supplies. Instantly, Sacagawea jumped in the water, rescuing important journals and scientific experiments. Throughout Lewis and Clark's journey in the uncharted American West, this young American Indian woman proved to be an invaluable member of the expedition. Sacagawea served as translator and guide, all while caring for her infant son. Sacagawea's life may have been short, but her exploits on this mission made her a legendary American. ","English",22.6,16.95,"978.004","48 pp.",{"$f":"Table1[[#This Row],[QTY]]*Table1[[#This Row],['# of Books]]","v":0},{"$f":"Table1[[#This Row],[QTY]]*Table1[[#This Row],[School & Library Price]]","v":0}]
[null,null,null,89,"Courageous Heroes of the American West","Sacagawea: Courageous American Indian Guide",1,"eBook","978-0-7660-4385-5",2013,"January 2013",null,"Author, Author","William R. Sanford, Carl R. Green",4.9000000000000004,1,null,null,"Q","740L","Grade 5 - 7","Grade 5 - 9","In May 1805, as the Lewis and Clark expedition paddled up the Missouri River, a howling gust of wind tipped over one of the canoes. The men paddled to shore, leaving behind precious supplies. Instantly, Sacagawea jumped in the water, rescuing important journals and scientific experiments. Throughout Lewis and Clark's journey in the uncharted American West, this young American Indian woman proved to be an invaluable member of the expedition. Sacagawea served as translator and guide, all while caring for her infant son. Sacagawea's life may have been short, but her exploits on this mission made her a legendary American. ","English",22.6,16.95,"978.004","48 pp.",{"$f":"Table1[[#This Row],[QTY]]*Table1[[#This Row],['# of Books]]","v":0},{"$f":"Table1[[#This Row],[QTY]]*Table1[[#This Row],[School & Library Price]]","v":0}]
[null,null,null,89,"Courageous Heroes of the American West","Sam Houston: Courageous Texas Hero",1,"Library Bound Book","978-0-7660-4009-0",2013,"January 2013","5.500 X 8.250","Author, Author","William R. Sanford, Carl R. Green",4.9000000000000004,1,null,null,"P","730L","Grade 5 - 7","Grade 5 - 9","Crushing losses at the Alamo and Goliad sent the Texans reeling. With the stronger Mexican army poised for victory, General Sam Houston commanded all that remained of the Texas army fighting for its independence. Greatly outnumbered, General Houston mounted his white horse and led his soldiers into battle at San Jacinto. Surprising the Mexican troops with their bold attack, the fiery Texans rallied to an overwhelming victory, claiming their independence. One of the founders of Texas, Sam Houston served the state as a governor and senator—but he's most remembered as an American hero. ","English",22.6,16.95,"976.4","48 pp.",{"$f":"Table1[[#This Row],[QTY]]*Table1[[#This Row],['# of Books]]","v":0},{"$f":"Table1[[#This Row],[QTY]]*Table1[[#This Row],[School & Library Price]]","v":0}]
[null,null,null,89,"Courageous Heroes of the American West","Sam Houston: Courageous Texas Hero",1,"eBook","978-0-7660-4381-7",2013,"January 2013",null,"Author, Author","William R. Sanford, Carl R. Green",4.9000000000000004,1,null,null,"P","730L","Grade 5 - 7","Grade 5 - 9","Crushing losses at the Alamo and Goliad sent the Texans reeling. With the stronger Mexican army poised for victory, General Sam Houston commanded all that remained of the Texas army fighting for its independence. Greatly outnumbered, General Houston mounted his white horse and led his soldiers into battle at San Jacinto. Surprising the Mexican troops with their bold attack, the fiery Texans rallied to an overwhelming victory, claiming their independence. One of the founders of Texas, Sam Houston served the state as a governor and senator—but he's most remembered as an American hero. ","English",22.6,16.95,"976.4","48 pp.",{"$f":"Table1[[#This Row],[QTY]]*Table1[[#This Row],['# of Books]]","v":0},{"$f":"Table1[[#This Row],[QTY]]*Table1[[#This Row],[School & Library Price]]","v":0}]
[null,null,null,89,"Courageous Heroes of the American West","Zebulon Pike: Courageous Rocky Mountain Explorer",1,"Library Bound Book","978-0-7660-4012-0",2013,"January 2013","5.500 X 8.250","Author, Author","William R. Sanford, Carl R. Green",5,1,null,null,"Q","740L","Grade 5 - 7","Grade 5 - 9","After the United States purchased the Louisiana Territory in 1803, the young nation needed brave pioneers to explore this vast uncharted land. Zebulon Pike, a young frontier soldier, welcomed the challenge. Heading southwest from St. Louis, Missouri, Pike led an expedition across rolling prairies before arriving at the towering mountains. Pike became the first American to explore the southern Rocky Mountains, recording detailed maps. The highest peak in the range, which he never reached himself, now bears his name—Pikes Peak. Authors William R. Sanford and Carl R. Green explore the life of this American trailblazer. ","English",22.6,16.95,"978","48 pp.",{"$f":"Table1[[#This Row],[QTY]]*Table1[[#This Row],['# of Books]]","v":0},{"$f":"Table1[[#This Row],[QTY]]*Table1[[#This Row],[School & Library Price]]","v":0}]
[null,null,null,89,"Courageous Heroes of the American West","Zebulon Pike: Courageous Rocky Mountain Explorer",1,"eBook","978-0-7660-4384-8",2013,"January 2013",null,"Author, Author","William R. Sanford, Carl R. Green",5,1,null,null,"Q","740L","Grade 5 - 7","Grade 5 - 9","After the United States purchased the Louisiana Territory in 1803, the young nation needed brave pioneers to explore this vast uncharted land. Zebulon Pike, a young frontier soldier, welcomed the challenge. Heading southwest from St. Louis, Missouri, Pike led an expedition across rolling prairies before arriving at the towering mountains. Pike became the first American to explore the southern Rocky Mountains, recording detailed maps. The highest peak in the range, which he never reached himself, now bears his name—Pikes Peak. Authors William R. Sanford and Carl R. Green explore the life of this American trailblazer. ","English",22.6,16.95,"978","48 pp.",{"$f":"Table1[[#This Row],[QTY]]*Table1[[#This Row],['# of Books]]","v":0},{"$f":"Table1[[#This Row],[QTY]]*Table1[[#This Row],[School & Library Price]]","v":0}]
[null,null,null,90,"African-American Collective Biographies","African-American Collective Biographies",6,"Library Set","978-0-7660-8052-2",2013,"August 2012","6.500 X 9.250",null,null,null,null,null,null,null,null,"Grade 6 - 12","Grade 6 - 12",null,"English",199.62,149.69999999999999,null,"112 pp.",{"$f":"Table1[[#This Row],[QTY]]*Table1[[#This Row],['# of Books]]","v":0},{"$f":"Table1[[#This Row],[QTY]]*Table1[[#This Row],[School & Library Price]]","v":0}]
[null,null,null,90,"African-American Collective Biographies","Amazing African-American Actors",1,"Library Bound Book","978-1-5984-5135-1",2013,"August 2012","6.500 X 9.250","Author","Jeff C. Young",8.4,null,null,null,"S","1100L","Grade 5 - 6","Grade 5 - 12","Author Jeff C. Young provides short biographies of ten influential African-American actors. Read about the challenges and triumphs of actors such as Ossie Davis and Halle Berry. Each short biography ends with a brief timeline of the person's life and achievements. ","English",33.270000000000003,24.95,"791.4302","112 pp.",{"$f":"Table1[[#This Row],[QTY]]*Table1[[#This Row],['# of Books]]","v":0},{"$f":"Table1[[#This Row],[QTY]]*Table1[[#This Row],[School & Library Price]]","v":0}]
[null,null,null,90,"African-American Collective Biographies","Amazing African-American Actors",1,"eBook","978-0-7660-4323-7",2013,"August 2012",null,"Author","Jeff C. Young",8.4,null,null,null,"S","1100L","Grade 5 - 6","Grade 5 - 12","Author Jeff C. Young provides short biographies of ten influential African-American actors. Read about the challenges and triumphs of actors such as Ossie Davis and Halle Berry. Each short biography ends with a brief timeline of the person's life and achievements. ","English",33.270000000000003,24.95,"791.4302","112 pp.",{"$f":"Table1[[#This Row],[QTY]]*Table1[[#This Row],['# of Books]]","v":0},{"$f":"Table1[[#This Row],[QTY]]*Table1[[#This Row],[School & Library Price]]","v":0}]
[null,null,null,90,"African-American Collective Biographies","Awesome African-American Rock and Soul Musicians",1,"Library Bound Book","978-1-5984-5140-5",2013,"August 2012","6.500 X 9.250","Author","David Aretha",7,null,null,null,"S","990L","Grade 5 - 6","Grade 5 - 12","Author David Aretha explores the lives of nine influential musicians in AWESOME AFRICAN-AMERICAN ROCK AND SOUL MUSICIANS. From Chuck Berry, \"the father of rock 'n' roll,\" to James Brown, \"the godfather of soul,\" these musicians impacted music from their earliest hits, and their influences are still felt today. Each short biography ends with a brief timeline of the person's life and achievements. ","English",33.270000000000003,24.95,"781.64089","112 pp.",{"$f":"Table1[[#This Row],[QTY]]*Table1[[#This Row],['# of Books]]","v":0},{"$f":"Table1[[#This Row],[QTY]]*Table1[[#This Row],[School & Library Price]]","v":0}]
[null,null,null,90,"African-American Collective Biographies","Awesome African-American Rock and Soul Musicians",1,"eBook","978-0-7660-4328-2",2013,"August 2012",null,"Author","David Aretha",7,null,null,null,"S","990L","Grade 5 - 6","Grade 5 - 12","Author David Aretha explores the lives of nine influential musicians in AWESOME AFRICAN-AMERICAN ROCK AND SOUL MUSICIANS. From Chuck Berry, \"the father of rock 'n' roll,\" to James Brown, \"the godfather of soul,\" these musicians impacted music from their earliest hits, and their influences are still felt today. Each short biography ends with a brief timeline of the person's life and achievements. ","English",33.270000000000003,24.95,"781.64089","112 pp.",{"$f":"Table1[[#This Row],[QTY]]*Table1[[#This Row],['# of Books]]","v":0},{"$f":"Table1[[#This Row],[QTY]]*Table1[[#This Row],[School & Library Price]]","v":0}]
[null,null,null,90,"African-American Collective Biographies","Celebrated African-American Novelists",1,"Library Bound Book","978-1-5984-5138-2",2013,"August 2012","6.500 X 9.250","Author","Amy Graham",6.4,null,null,null,"R","810L","Grade 5 - 6","Grade 5 - 12","Author Amy Graham explores the lives and literary works of nine influential writers in CELEBRATED AFRICAN-AMERICAN NOVELISTS. From Harriet Adams to Ernest Gaines and Alice Walker, each short biography ends with a brief timeline of the person’s life and achievements. ","English",33.270000000000003,24.95,"813.009","112 pp.",{"$f":"Table1[[#This Row],[QTY]]*Table1[[#This Row],['# of Books]]","v":0},{"$f":"Table1[[#This Row],[QTY]]*Table1[[#This Row],[School & Library Price]]","v":0}]
[null,null,null,90,"African-American Collective Biographies","Celebrated African-American Novelists",1,"eBook","978-0-7660-4326-8",2013,"August 2012",null,"Author","Amy Graham",6.4,null,null,null,"R","810L","Grade 5 - 6","Grade 5 - 12","Author Amy Graham explores the lives and literary works of nine influential writers in CELEBRATED AFRICAN-AMERICAN NOVELISTS. From Harriet Adams to Ernest Gaines and Alice Walker, each short biography ends with a brief timeline of the person’s life and achievements. ","English",33.270000000000003,24.95,"813.009","112 pp.",{"$f":"Table1[[#This Row],[QTY]]*Table1[[#This Row],['# of Books]]","v":0},{"$f":"Table1[[#This Row],[QTY]]*Table1[[#This Row],[School & Library Price]]","v":0}]
[null,null,null,90,"African-American Collective Biographies","Extraordinary African-American Poets",1,"Library Bound Book","978-1-5984-5139-9",2013,"August 2012","6.500 X 9.250","Author","Therese Neis",7.2,null,null,null,"S","890L","Grade 5 - 6","Grade 5 - 12","Do you know who the first published African-American poet is? Phillis Wheatley, a slave, published her most famous book of poetry in 1773, while traveling in England. Read about her life, and the lives of seven other amazing poets. Each short biography ends with a brief timeline of the person’s life and achievements. ","English",33.270000000000003,24.95,"811.009","112 pp.",{"$f":"Table1[[#This Row],[QTY]]*Table1[[#This Row],['# of Books]]","v":0},{"$f":"Table1[[#This Row],[QTY]]*Table1[[#This Row],[School & Library Price]]","v":0}]
[null,null,null,90,"African-American Collective Biographies","Extraordinary African-American Poets",1,"eBook","978-0-7660-4327-5",2013,"August 2012",null,"Author","Therese Neis",7.2,null,null,null,"S","890L","Grade 5 - 6","Grade 5 - 12","Do you know who the first published African-American poet is? Phillis Wheatley, a slave, published her most famous book of poetry in 1773, while traveling in England. Read about her life, and the lives of seven other amazing poets. Each short biography ends with a brief timeline of the person’s life and achievements. ","English",33.270000000000003,24.95,"811.009","112 pp.",{"$f":"Table1[[#This Row],[QTY]]*Table1[[#This Row],['# of Books]]","v":0},{"$f":"Table1[[#This Row],[QTY]]*Table1[[#This Row],[School & Library Price]]","v":0}]
[null,null,null,90,"African-American Collective Biographies","Incredible African-American Jazz Musicians",1,"Library Bound Book","978-1-5984-5137-5",2013,"August 2012","6.500 X 9.250","Author","Stephen Feinstein",7.3,null,null,null,"R","990L","Grade 5 - 6","Grade 5 - 12","INCREDIBLE AFRICAN-AMERICAN JAZZ MUSICIANS explores the lives of eight of the most important jazz musicians in history. Read about the challenges and triumphs of musicians such as Louis Armstrong and Ella Fitzgerald. Each short biography ends with a brief timeline of the person’s life and achievements. ","English",33.270000000000003,24.95,"781.65092","112 pp.",{"$f":"Table1[[#This Row],[QTY]]*Table1[[#This Row],['# of Books]]","v":0},{"$f":"Table1[[#This Row],[QTY]]*Table1[[#This Row],[School & Library Price]]","v":0}]
[null,null,null,90,"African-American Collective Biographies","Incredible African-American Jazz Musicians",1,"eBook","978-0-7660-4325-1",2013,"August 2012",null,"Author","Stephen Feinstein",7.3,null,null,null,"R","990L","Grade 5 - 6","Grade 5 - 12","INCREDIBLE AFRICAN-AMERICAN JAZZ MUSICIANS explores the lives of eight of the most important jazz musicians in history. Read about the challenges and triumphs of musicians such as Louis Armstrong and Ella Fitzgerald. Each short biography ends with a brief timeline of the person’s life and achievements. ","English",33.270000000000003,24.95,"781.65092","112 pp.",{"$f":"Table1[[#This Row],[QTY]]*Table1[[#This Row],['# of Books]]","v":0},{"$f":"Table1[[#This Row],[QTY]]*Table1[[#This Row],[School & Library Price]]","v":0}]
[null,null,null,90,"African-American Collective Biographies","Inspiring African-American Civil Rights Leaders",1,"Library Bound Book","978-1-5984-5136-8",2013,"August 2012","6.500 X 9.250","Author","Stephen Feinstein",8,null,null,null,"S","1040L","Grade 5 - 6","Grade 5 - 12","In INSPIRING AFRICAN-AMERICAN CIVIL RIGHTS LEADERS, author Stephen Feinstein explores the lives of eight influential civil rights leaders including Fannie Lou Hamer, Martin Luther King, Jr., and Malcolm X. Each short biography ends with a brief timeline of the person’s life and achievements. ","English",33.270000000000003,24.95,"323.092","112 pp.",{"$f":"Table1[[#This Row],[QTY]]*Table1[[#This Row],['# of Books]]","v":0},{"$f":"Table1[[#This Row],[QTY]]*Table1[[#This Row],[School & Library Price]]","v":0}]
[null,null,null,90,"African-American Collective Biographies","Inspiring African-American Civil Rights Leaders",1,"eBook","978-0-7660-4324-4",2013,"August 2012",null,"Author","Stephen Feinstein",8,null,null,null,"S","1040L","Grade 5 - 6","Grade 5 - 12","In INSPIRING AFRICAN-AMERICAN CIVIL RIGHTS LEADERS, author Stephen Feinstein explores the lives of eight influential civil rights leaders including Fannie Lou Hamer, Martin Luther King, Jr., and Malcolm X. Each short biography ends with a brief timeline of the person’s life and achievements. ","English",33.270000000000003,24.95,"323.092","112 pp.",{"$f":"Table1[[#This Row],[QTY]]*Table1[[#This Row],['# of Books]]","v":0},{"$f":"Table1[[#This Row],[QTY]]*Table1[[#This Row],[School & Library Price]]","v":0}]
[null,null,null,90,"Hip-Hop Moguls","Hip-Hop Moguls",5,"Library Set","978-0-7660-8054-6",2015,"August 2014","6.000 X 9.000",null,null,null,null,null,null,null,null,"Grade 6 - 12","Grade 6 - 12",null,"English",84.75,63.55,null,"48 pp.",{"$f":"Table1[[#This Row],[QTY]]*Table1[[#This Row],['# of Books]]","v":0},{"$f":"Table1[[#This Row],[QTY]]*Table1[[#This Row],[School & Library Price]]","v":0}]
[null,null,null,90,"Hip-Hop Moguls","50 Cent: Hip-Hop Mogul",1,"Library Bound Book","978-1-6228-5201-7",2015,"August 2014","6.000 X 9.000","Author","Jeff Burlingame",null,null,null,null,"T","1140L","Grade 4 - 6","Grade 4 - 8","The life that 50 Cent was born into was anything but easy. From growing up without a father, to drug dealing, to being shot nine times and nearly losing his life, 50 Cent had to overcome a lot of struggles in his life. But this hip-hop biography will not only cover those struggles, but also his rise to becoming one of the biggest and wealthiest names in the hip-hop world. ","English",16.95,12.71,"782.421649","48 pp.",{"$f":"Table1[[#This Row],[QTY]]*Table1[[#This Row],['# of Books]]","v":0},{"$f":"Table1[[#This Row],[QTY]]*Table1[[#This Row],[School & Library Price]]","v":0}]
[null,null,null,90,"Hip-Hop Moguls","50 Cent: Hip-Hop Mogul",1,"eBook","978-1-6228-5205-5",2015,"August 2014",null,"Author","Jeff Burlingame",null,null,null,null,"T","1140L","Grade 4 - 6","Grade 4 - 8","The life that 50 Cent was born into was anything but easy. From growing up without a father, to drug dealing, to being shot nine times and nearly losing his life, 50 Cent had to overcome a lot of struggles in his life. But this hip-hop biography will not only cover those struggles, but also his rise to becoming one of the biggest and wealthiest names in the hip-hop world. ","English",27.93,20.95,"782.421649","48 pp.",{"$f":"Table1[[#This Row],[QTY]]*Table1[[#This Row],['# of Books]]","v":0},{"$f":"Table1[[#This Row],[QTY]]*Table1[[#This Row],[School & Library Price]]","v":0}]
[null,null,null,90,"Hip-Hop Moguls","Eminem: Hip-Hop Mogul",1,"Library Bound Book","978-1-6228-5206-2",2015,"August 2014","6.000 X 9.000","Author","Jeff Burlingame",null,null,null,null,"T","1050L","Grade 4 - 6","Grade 4 - 8","With a childhood that was made up of no father, being beat up by schoolmates, and dropping out of high school, no one expected much from Eminem. But in that same childhood, Eminem would find an escape from it all through hip-hop music. Not only does this hip-hop biography stress his struggles coming up, but it highlights how Eminem has become one of the most successful hip-hop stars of all-time. ","English",16.95,12.71,"782.421649092","48 pp.",{"$f":"Table1[[#This Row],[QTY]]*Table1[[#This Row],['# of Books]]","v":0},{"$f":"Table1[[#This Row],[QTY]]*Table1[[#This Row],[School & Library Price]]","v":0}]
[null,null,null,90,"Hip-Hop Moguls","Eminem: Hip-Hop Mogul",1,"eBook","978-1-6228-5210-9",2015,"August 2014",null,"Author","Jeff Burlingame",null,null,null,null,"T","1050L","Grade 4 - 6","Grade 4 - 8","With a childhood that was made up of no father, being beat up by schoolmates, and dropping out of high school, no one expected much from Eminem. But in that same childhood, Eminem would find an escape from it all through hip-hop music. Not only does this hip-hop biography stress his struggles coming up, but it highlights how Eminem has become one of the most successful hip-hop stars of all-time. ","English",27.93,20.95,"782.421649092","48 pp.",{"$f":"Table1[[#This Row],[QTY]]*Table1[[#This Row],['# of Books]]","v":0},{"$f":"Table1[[#This Row],[QTY]]*Table1[[#This Row],[School & Library Price]]","v":0}]
[null,null,null,90,"Hip-Hop Moguls","Jay-Z: Hip-Hop Mogul",1,"Library Bound Book","978-1-6228-5191-1",2015,"August 2014","6.000 X 9.000","Author","John A. Torres",null,null,null,null,"T","1030L","Grade 4 - 6","Grade 4 - 8","Regarded as one of the greatest rappers of all-time, Jay-Z didn’t always have the greatest life. In fact, growing up he faced more hardships and conflicts than any person should ever have to deal with. But this hip-hop biography will show how Jay-Z took those hardships and turned them into success by becoming arguably the best rapper ever and a very wise businessman. ","English",16.95,12.71,"782.421649092","48 pp.",{"$f":"Table1[[#This Row],[QTY]]*Table1[[#This Row],['# of Books]]","v":0},{"$f":"Table1[[#This Row],[QTY]]*Table1[[#This Row],[School & Library Price]]","v":0}]
[null,null,null,90,"Hip-Hop Moguls","Jay-Z: Hip-Hop Mogul",1,"eBook","978-1-6228-5195-9",2015,"August 2014",null,"Author","John A. Torres",null,null,null,null,"T","1030L","Grade 4 - 6","Grade 4 - 8","Regarded as one of the greatest rappers of all-time, Jay-Z didn’t always have the greatest life. In fact, growing up he faced more hardships and conflicts than any person should ever have to deal with. But this hip-hop biography will show how Jay-Z took those hardships and turned them into success by becoming arguably the best rapper ever and a very wise businessman. ","English",27.93,20.95,"782.421649092","48 pp.",{"$f":"Table1[[#This Row],[QTY]]*Table1[[#This Row],['# of Books]]","v":0},{"$f":"Table1[[#This Row],[QTY]]*Table1[[#This Row],[School & Library Price]]","v":0}]
[null,null,null,90,"Hip-Hop Moguls","Kanye West: Hip-Hop Mogul",1,"Library Bound Book","978-1-6228-5211-6",2015,"August 2014","6.000 X 9.000","Author","Jeff Burlingame",null,null,null,null,"T","980L","Grade 4 - 6","Grade 4 - 8","Even at a young age, Kanye West’s love for music gave him opportunities to make money. Even though Kanye had the chance to attend college and have his career go in a different direction, he instead chose to focus on writing beats and raps which ultimately made him a star. This hip-hop biography covers everything from Kanye’s childhood mischief to his first big contract to the most controversial moment of his illustrious career. ","English",16.95,12.71,"782.421649092","48 pp.",{"$f":"Table1[[#This Row],[QTY]]*Table1[[#This Row],['# of Books]]","v":0},{"$f":"Table1[[#This Row],[QTY]]*Table1[[#This Row],[School & Library Price]]","v":0}]
[null,null,null,90,"Hip-Hop Moguls","Kanye West: Hip-Hop Mogul",1,"eBook","978-1-6228-5215-4",2015,"August 2014",null,"Author","Jeff Burlingame",null,null,null,null,"T","980L","Grade 4 - 6","Grade 4 - 8","Even at a young age, Kanye West’s love for music gave him opportunities to make money. Even though Kanye had the chance to attend college and have his career go in a different direction, he instead chose to focus on writing beats and raps which ultimately made him a star. This hip-hop biography covers everything from Kanye’s childhood mischief to his first big contract to the most controversial moment of his illustrious career. ","English",27.93,20.95,"782.421649092","48 pp.",{"$f":"Table1[[#This Row],[QTY]]*Table1[[#This Row],['# of Books]]","v":0},{"$f":"Table1[[#This Row],[QTY]]*Table1[[#This Row],[School & Library Price]]","v":0}]
[null,null,null,90,"Hip-Hop Moguls","Ludacris: Hip-Hop Mogul",1,"Library Bound Book","978-1-6228-5196-6",2015,"August 2014","6.000 X 9.000","Author","John A. Torres",null,null,null,null,"S","1040L","Grade 4 - 6","Grade 4 - 8","Ludacris knew from a young age that he wanted to work in the music industry. But while most rappers don’t usually go this route, attending college was a choice that seemed very logical for Ludacris. In this hip-hop biography on Ludacris, everything from his childhood to his move to Atlanta to the internship that changed his life will be covered. ","English",16.95,12.71,"782.421649092","48 pp.",{"$f":"Table1[[#This Row],[QTY]]*Table1[[#This Row],['# of Books]]","v":0},{"$f":"Table1[[#This Row],[QTY]]*Table1[[#This Row],[School & Library Price]]","v":0}]
[null,null,null,90,"Hip-Hop Moguls","Ludacris: Hip-Hop Mogul",1,"eBook","978-1-6228-5200-0",2015,"August 2014",null,"Author","John A. Torres",null,null,null,null,"S","1040L","Grade 4 - 6","Grade 4 - 8","Ludacris knew from a young age that he wanted to work in the music industry. But while most rappers don’t usually go this route, attending college was a choice that seemed very logical for Ludacris. In this hip-hop biography on Ludacris, everything from his childhood to his move to Atlanta to the internship that changed his life will be covered. ","English",27.93,20.95,"782.421649092","48 pp.",{"$f":"Table1[[#This Row],[QTY]]*Table1[[#This Row],['# of Books]]","v":0},{"$f":"Table1[[#This Row],[QTY]]*Table1[[#This Row],[School & Library Price]]","v":0}]
[null,null,null,91,"Inspiring Collective Biographies","Daredevil American Heroes of Exploration and Flight",1,"Library Bound Book","978-0-7660-4163-9",2014,"August 2013","6.000 X 9.000","Author","Anne Schraff",7.5,null,null,null,"U","1060L","Grade 5 - 6","Grade 5 - 12","The spirit of adventure has long driven Americans to explore the unknown and broaden the knowledge of the world. All of the men and women in this book are American heroes from the twentieth century. Some trekked to the North or South Poles, others ventured into the sky and flight, while some even journeyed into space and to the Moon. They all succeeded in accomplishing historic feats of exploration or flight. Some died doing what they love most. They all captured the hearts and imagination of millions of others. Adventurers profiled in this volume: Orville and Wilbur Wright, Matthew Henson, Robert Peary, Richard Byrd, Charles Lindbergh, Amelia Earhart, Jacqueline Cochran, Neil Armstrong, and Sally Ride. ","English",33.270000000000003,24.95,"629.13092","112 pp.",{"$f":"Table1[[#This Row],[QTY]]*Table1[[#This Row],['# of Books]]","v":0},{"$f":"Table1[[#This Row],[QTY]]*Table1[[#This Row],[School & Library Price]]","v":0}]
[null,null,null,91,"Inspiring Collective Biographies","Daredevil American Heroes of Exploration and Flight",1,"eBook","978-0-7660-5789-0",2014,"August 2013",null,"Author","Anne Schraff",7.5,null,null,null,"U","1060L","Grade 5 - 6","Grade 5 - 12","The spirit of adventure has long driven Americans to explore the unknown and broaden the knowledge of the world. All of the men and women in this book are American heroes from the twentieth century. Some trekked to the North or South Poles, others ventured into the sky and flight, while some even journeyed into space and to the Moon. They all succeeded in accomplishing historic feats of exploration or flight. Some died doing what they love most. They all captured the hearts and imagination of millions of others. Adventurers profiled in this volume: Orville and Wilbur Wright, Matthew Henson, Robert Peary, Richard Byrd, Charles Lindbergh, Amelia Earhart, Jacqueline Cochran, Neil Armstrong, and Sally Ride. ","English",33.270000000000003,24.95,"629.13092","112 pp.",{"$f":"Table1[[#This Row],[QTY]]*Table1[[#This Row],['# of Books]]","v":0},{"$f":"Table1[[#This Row],[QTY]]*Table1[[#This Row],[School & Library Price]]","v":0}]
[null,null,null,91,"Inspiring Collective Biographies","Fighting U.S. Generals of World War II",1,"Library Bound Book","978-0-7660-4164-6",2014,"August 2013","6.000 X 9.000","Author","Ron Knapp",7.6,null,null,null,"U","1010L","Grade 5 - 6","Grade 5 - 12","General George S. Patton once said to his men, \"When your grandchildren ask you what you did in the war, you can tell them, \"I fought with Patton.\" Patton, like all other generals in this book, was proud of the role he and his men played in winning World War II. From the deserts of North Africa, where the Allies first defeated the Germans, to D-day landing and the invasion of Europe, American generals led their men through some of the bloodiest battles in world history. Read on to learn more about ten American military legends (Henry H. Arnold, Omar N. Bradley, Dwight D. Eisenhower, Curtis E. LeMay, Douglas MacArthur, George C. Marshall, George S. Patton, Matthew B. Ridgway, Holland M. Smith, Joseph W. Stilwell.) ","English",33.270000000000003,24.95,"940.54","112 pp.",{"$f":"Table1[[#This Row],[QTY]]*Table1[[#This Row],['# of Books]]","v":0},{"$f":"Table1[[#This Row],[QTY]]*Table1[[#This Row],[School & Library Price]]","v":0}]
[null,null,null,91,"Inspiring Collective Biographies","Fighting U.S. Generals of World War II",1,"eBook","978-0-7660-5790-6",2014,"August 2013",null,"Author","Ron Knapp",7.6,null,null,null,"U","1010L","Grade 5 - 6","Grade 5 - 12","General George S. Patton once said to his men, \"When your grandchildren ask you what you did in the war, you can tell them, \"I fought with Patton.\" Patton, like all other generals in this book, was proud of the role he and his men played in winning World War II. From the deserts of North Africa, where the Allies first defeated the Germans, to D-day landing and the invasion of Europe, American generals led their men through some of the bloodiest battles in world history. Read on to learn more about ten American military legends (Henry H. Arnold, Omar N. Bradley, Dwight D. Eisenhower, Curtis E. LeMay, Douglas MacArthur, George C. Marshall, George S. Patton, Matthew B. Ridgway, Holland M. Smith, Joseph W. Stilwell.) ","English",33.270000000000003,24.95,"940.54","112 pp.",{"$f":"Table1[[#This Row],[QTY]]*Table1[[#This Row],['# of Books]]","v":0},{"$f":"Table1[[#This Row],[QTY]]*Table1[[#This Row],[School & Library Price]]","v":0}]
[null,null,null,91,"Inspiring Collective Biographies","Harlem Renaissance Artists and Writers",1,"Library Bound Book","978-0-7660-4165-3",2014,"August 2013","6.000 X 9.000","Author","Wendy Hart Beckman",8.4,null,null,null,"U","1080L","Grade 5 - 6","Grade 5 - 12","Harlem, New York in the early 1920's and 1930's was the backdrop for an outpouring exploration of black identity through music, writing, poetry and social commentary. This period in history became known as the Harlem Renaissance. Ignited by a great migration from the rural South to the industrial North, the Harlem Renaissance celebrated unique aspects of African American culture and attracted audiences around the world. Author Wendy Hart examines the appeal of this era and the people who took part in it. James Weldon Johnson, Alain LeRoy Locke,  Zora Neale Hurston,  Bessie Smith, Aaron Douglas, Duke Ellington,  Langston Hughes,  Arna Bontemps, Countee Cullen, and Josephine Baker are profiled. ","English",33.270000000000003,24.95,"700.92","112 pp.",{"$f":"Table1[[#This Row],[QTY]]*Table1[[#This Row],['# of Books]]","v":0},{"$f":"Table1[[#This Row],[QTY]]*Table1[[#This Row],[School & Library Price]]","v":0}]
[null,null,null,91,"Inspiring Collective Biographies","Harlem Renaissance Artists and Writers",1,"eBook","978-0-7660-5800-2",2014,"August 2013",null,"Author","Wendy Hart Beckman",8.4,null,null,null,"U","1080L","Grade 5 - 6","Grade 5 - 12","Harlem, New York in the early 1920's and 1930's was the backdrop for an outpouring exploration of black identity through music, writing, poetry and social commentary. This period in history became known as the Harlem Renaissance. Ignited by a great migration from the rural South to the industrial North, the Harlem Renaissance celebrated unique aspects of African American culture and attracted audiences around the world. Author Wendy Hart examines the appeal of this era and the people who took part in it. James Weldon Johnson, Alain LeRoy Locke,  Zora Neale Hurston,  Bessie Smith, Aaron Douglas, Duke Ellington,  Langston Hughes,  Arna Bontemps, Countee Cullen, and Josephine Baker are profiled. ","English",33.270000000000003,24.95,"700.92","112 pp.",{"$f":"Table1[[#This Row],[QTY]]*Table1[[#This Row],['# of Books]]","v":0},{"$f":"Table1[[#This Row],[QTY]]*Table1[[#This Row],[School & Library Price]]","v":0}]
[null,null,null,91,"Inspiring Collective Biographies","Innovators of American Jazz",1,"Library Bound Book","978-0-7660-4166-0",2014,"August 2013","6.000 X 9.000","Author","Stanley I. Mour",6.8,null,null,null,"U","880L","Grade 5 - 6","Grade 5 - 12","What is a popular kind of music that originated in the United States? The answer is Jazz. Mixing folk and blues influences, talented artists from Scott Joplin to Wynton Marsalis have kept jazz at the forefront of the American music scene. The musicians portrayed in this book played different instruments and had different styles, but all helped keep jazz fresh and new. Follow ten prominent jazz musicians (Scott Joplin, Daniel Louis Armstrong, Edward Kennedy Ellington, Mary Lou Williams, Benjamin David Goodman, John Birks Gillespie, Charles Christopher Parker, Jr., Miles Dewey Davis, III, John Coltrane, and Wynton Marsalis) through their many successes and varied hardships. ","English",33.270000000000003,24.95,"781.65092","112 pp.",{"$f":"Table1[[#This Row],[QTY]]*Table1[[#This Row],['# of Books]]","v":0},{"$f":"Table1[[#This Row],[QTY]]*Table1[[#This Row],[School & Library Price]]","v":0}]
[null,null,null,91,"Inspiring Collective Biographies","Innovators of American Jazz",1,"eBook","978-0-7660-5801-9",2014,"August 2013",null,"Author","Stanley I. Mour",6.8,null,null,null,"U","880L","Grade 5 - 6","Grade 5 - 12","What is a popular kind of music that originated in the United States? The answer is Jazz. Mixing folk and blues influences, talented artists from Scott Joplin to Wynton Marsalis have kept jazz at the forefront of the American music scene. The musicians portrayed in this book played different instruments and had different styles, but all helped keep jazz fresh and new. Follow ten prominent jazz musicians (Scott Joplin, Daniel Louis Armstrong, Edward Kennedy Ellington, Mary Lou Williams, Benjamin David Goodman, John Birks Gillespie, Charles Christopher Parker, Jr., Miles Dewey Davis, III, John Coltrane, and Wynton Marsalis) through their many successes and varied hardships. ","English",33.270000000000003,24.95,"781.65092","112 pp.",{"$f":"Table1[[#This Row],[QTY]]*Table1[[#This Row],['# of Books]]","v":0},{"$f":"Table1[[#This Row],[QTY]]*Table1[[#This Row],[School & Library Price]]","v":0}]
[null,null,null,91,"Native American Chiefs and Warriors","Native American Chiefs and Warriors",7,"Library Set","978-0-7660-8059-1",2013,"January 2013","6.000 X 9.000",null,null,null,null,null,null,null,null,"Grade 6 - 12","Grade 6 - 12",null,"English",158.19999999999999,118.65,null,"48 pp.",{"$f":"Table1[[#This Row],[QTY]]*Table1[[#This Row],['# of Books]]","v":0},{"$f":"Table1[[#This Row],[QTY]]*Table1[[#This Row],[School & Library Price]]","v":0}]
[null,null,null,91,"Native American Chiefs and Warriors","Apache Chief Geronimo",1,"Library Bound Book","978-0-7660-4093-9",2013,"January 2013","6.000 X 9.000","Author","William R. Sanford",4,null,null,null,"Q","570L","Grade 5 - 7","Grade 5 - 9","When the territories of New Mexico and Arizona became part of the United States, settlers found themselves in the middle of a bloody war between the Apaches and the Mexicans. When the Apaches began to raid American settlements, the U.S. Government decided the Apaches must be confined to reservations. Geronimo and other Apaches continued to fight for their land and way of life in this inspiring biography. ","English",22.6,16.95,"970.004","48 pp.",{"$f":"Table1[[#This Row],[QTY]]*Table1[[#This Row],['# of Books]]","v":0},{"$f":"Table1[[#This Row],[QTY]]*Table1[[#This Row],[School & Library Price]]","v":0}]
[null,null,null,91,"Native American Chiefs and Warriors","Apache Chief Geronimo",1,"eBook","978-0-7660-5792-0",2013,"January 2013",null,"Author","William R. Sanford",4,null,null,null,"Q","570L","Grade 5 - 7","Grade 5 - 9","When the territories of New Mexico and Arizona became part of the United States, settlers found themselves in the middle of a bloody war between the Apaches and the Mexicans. When the Apaches began to raid American settlements, the U.S. Government decided the Apaches must be confined to reservations. Geronimo and other Apaches continued to fight for their land and way of life in this inspiring biography. ","English",22.6,16.95,"970.004","48 pp.",{"$f":"Table1[[#This Row],[QTY]]*Table1[[#This Row],['# of Books]]","v":0},{"$f":"Table1[[#This Row],[QTY]]*Table1[[#This Row],[School & Library Price]]","v":0}]
[null,null,null,91,"Native American Chiefs and Warriors","Comanche Chief Quanah Parker",1,"Library Bound Book","978-0-7660-4095-3",2013,"January 2013","6.000 X 9.000","Author","William R. Sanford",4.4000000000000004,null,null,null,"Q","630L","Grade 5 - 7","Grade 5 - 9","Quannah Parker was the last great chief of the Comanche. In this biography, the author tells the real story of this fearless leader, who led attacks on buffalo hunters, including the famous battle at Adobe Walls. For many years, Chief Quanah Parker eluded the U.S. Army and preserved the Comanche way of life. Later, he led his people during their years on the reservation, and helped them adjust to their new way of life. ","English",22.6,16.95,"978.004","48 pp.",{"$f":"Table1[[#This Row],[QTY]]*Table1[[#This Row],['# of Books]]","v":0},{"$f":"Table1[[#This Row],[QTY]]*Table1[[#This Row],[School & Library Price]]","v":0}]
[null,null,null,91,"Native American Chiefs and Warriors","Comanche Chief Quanah Parker",1,"eBook","978-0-7660-5793-7",2013,"January 2013",null,"Author","William R. Sanford",4.4000000000000004,null,null,null,"Q","630L","Grade 5 - 7","Grade 5 - 9","Quannah Parker was the last great chief of the Comanche. In this biography, the author tells the real story of this fearless leader, who led attacks on buffalo hunters, including the famous battle at Adobe Walls. For many years, Chief Quanah Parker eluded the U.S. Army and preserved the Comanche way of life. Later, he led his people during their years on the reservation, and helped them adjust to their new way of life. ","English",22.6,16.95,"978.004","48 pp.",{"$f":"Table1[[#This Row],[QTY]]*Table1[[#This Row],['# of Books]]","v":0},{"$f":"Table1[[#This Row],[QTY]]*Table1[[#This Row],[School & Library Price]]","v":0}]
[null,null,null,91,"Native American Chiefs and Warriors","Hunkpapa Lakota Chief Sitting Bull",1,"Library Bound Book","978-0-7660-4097-7",2013,"January 2013","6.000 X 9.000","Author","William R. Sanford",4.4000000000000004,null,null,null,"Q","640L","Grade 5 - 7","Grade 5 - 9","Sitting Bull was the greatest chief of the Sioux. As both war chief and medicine man, Sitting Bull led the Sioux in their victory at the Battle of Little Bighorn. But he also led them through their years of hardship and turmoil. Rather than surrender, Sitting Bull united many Native American tribes in the struggle to protect the great Plains and the sacred Black Hills of South Dakota. ","English",22.6,16.95,"978.004","48 pp.",{"$f":"Table1[[#This Row],[QTY]]*Table1[[#This Row],['# of Books]]","v":0},{"$f":"Table1[[#This Row],[QTY]]*Table1[[#This Row],[School & Library Price]]","v":0}]
[null,null,null,91,"Native American Chiefs and Warriors","Hunkpapa Lakota Chief Sitting Bull",1,"eBook","978-0-7660-5794-4",2013,"January 2013",null,"Author","William R. Sanford",4.4000000000000004,null,null,null,"Q","640L","Grade 5 - 7","Grade 5 - 9","Sitting Bull was the greatest chief of the Sioux. As both war chief and medicine man, Sitting Bull led the Sioux in their victory at the Battle of Little Bighorn. But he also led them through their years of hardship and turmoil. Rather than surrender, Sitting Bull united many Native American tribes in the struggle to protect the great Plains and the sacred Black Hills of South Dakota. ","English",22.6,16.95,"978.004","48 pp.",{"$f":"Table1[[#This Row],[QTY]]*Table1[[#This Row],['# of Books]]","v":0},{"$f":"Table1[[#This Row],[QTY]]*Table1[[#This Row],[School & Library Price]]","v":0}]
[null,null,null,91,"Native American Chiefs and Warriors","Nez Percé Chief Joseph",1,"Library Bound Book","978-0-7660-4092-2",2013,"January 2013","6.000 X 9.000","Author","William R. Sanford",4.5,null,null,null,"P","640L","Grade 5 - 7","Grade 5 - 9","Chief Joseph led his people, the Nez Perce, on one of the greatest journeys in American History. In the early morning hours of June 17, 1877, hundreds of men, women, and children began a three-month journey flight for freedom. Along the way, they would battle enormous odds, fighting the U.S. Army and traveling 1700 miles over the difficult terrain of the Rockies and northern plains. ","English",22.6,16.95,"979.5004","48 pp.",{"$f":"Table1[[#This Row],[QTY]]*Table1[[#This Row],['# of Books]]","v":0},{"$f":"Table1[[#This Row],[QTY]]*Table1[[#This Row],[School & Library Price]]","v":0}]
[null,null,null,91,"Native American Chiefs and Warriors","Nez Percé Chief Joseph",1,"eBook","978-0-7660-5791-3",2013,"January 2013",null,"Author","William R. Sanford",4.5,null,null,null,"P","640L","Grade 5 - 7","Grade 5 - 9","Chief Joseph led his people, the Nez Perce, on one of the greatest journeys in American History. In the early morning hours of June 17, 1877, hundreds of men, women, and children began a three-month journey flight for freedom. Along the way, they would battle enormous odds, fighting the U.S. Army and traveling 1700 miles over the difficult terrain of the Rockies and northern plains. ","English",22.6,16.95,"979.5004","48 pp.",{"$f":"Table1[[#This Row],[QTY]]*Table1[[#This Row],['# of Books]]","v":0},{"$f":"Table1[[#This Row],[QTY]]*Table1[[#This Row],[School & Library Price]]","v":0}]
[null,null,null,91,"Native American Chiefs and Warriors","Oglala Lakota Chief Red Cloud",1,"Library Bound Book","978-0-7660-4096-0",2013,"January 2013","6.000 X 9.000","Author","William R. Sanford",4.7,null,null,null,"P","710L","Grade 5 - 7","Grade 5 - 9","Red Cloud was the great chief of the Oglala Sioux. He was the only Native American chief to ever win a war against the United States government. Beginning in 1863, white settlers and gold miners swarmed over the Bozeman Trail which cut through the hunting grounds of the Sioux in Wyoming and Montana. Red Cloud realized his people were in danger. When the U.S. Army began to build forts along the trail, trouble began. ","English",22.6,16.95,"978.004","48 pp.",{"$f":"Table1[[#This Row],[QTY]]*Table1[[#This Row],['# of Books]]","v":0},{"$f":"Table1[[#This Row],[QTY]]*Table1[[#This Row],[School & Library Price]]","v":0}]
[null,null,null,91,"Native American Chiefs and Warriors","Oglala Lakota Chief Red Cloud",1,"eBook","978-0-7660-5795-1",2013,"January 2013",null,"Author","William R. Sanford",4.7,null,null,null,"P","710L","Grade 5 - 7","Grade 5 - 9","Red Cloud was the great chief of the Oglala Sioux. He was the only Native American chief to ever win a war against the United States government. Beginning in 1863, white settlers and gold miners swarmed over the Bozeman Trail which cut through the hunting grounds of the Sioux in Wyoming and Montana. Red Cloud realized his people were in danger. When the U.S. Army began to build forts along the trail, trouble began. ","English",22.6,16.95,"978.004","48 pp.",{"$f":"Table1[[#This Row],[QTY]]*Table1[[#This Row],['# of Books]]","v":0},{"$f":"Table1[[#This Row],[QTY]]*Table1[[#This Row],[School & Library Price]]","v":0}]
[null,null,null,91,"Native American Chiefs and Warriors","Oglala Sioux Chief Crazy Horse",1,"Library Bound Book","978-0-7660-4094-6",2013,"January 2013","6.000 X 9.000","Author","William R. Sanford",4.5999999999999996,null,null,null,"Q","660L","Grade 5 - 7","Grade 5 - 9","Based on historical accounts, the author tells the real story of this fearless leader, and the many attacks he led against the U.S. Army. Eventually, he was forced to surrender and died mysteriously while under arrest in Fort Robinson, Nebraska. A sculpture memorializing him can be found on the side of a mountain in the Black Hills of South Dakota. ","English",22.6,16.95,"978.004","48 pp.",{"$f":"Table1[[#This Row],[QTY]]*Table1[[#This Row],['# of Books]]","v":0},{"$f":"Table1[[#This Row],[QTY]]*Table1[[#This Row],[School & Library Price]]","v":0}]
[null,null,null,91,"Native American Chiefs and Warriors","Oglala Sioux Chief Crazy Horse",1,"eBook","978-0-7660-5796-8",2013,"January 2013",null,"Author","William R. Sanford",4.5999999999999996,null,null,null,"Q","660L","Grade 5 - 7","Grade 5 - 9","Based on historical accounts, the author tells the real story of this fearless leader, and the many attacks he led against the U.S. Army. Eventually, he was forced to surrender and died mysteriously while under arrest in Fort Robinson, Nebraska. A sculpture memorializing him can be found on the side of a mountain in the Black Hills of South Dakota. ","English",22.6,16.95,"978.004","48 pp.",{"$f":"Table1[[#This Row],[QTY]]*Table1[[#This Row],['# of Books]]","v":0},{"$f":"Table1[[#This Row],[QTY]]*Table1[[#This Row],[School & Library Price]]","v":0}]
[null,null,null,91,"Native American Chiefs and Warriors","Seminole Chief Osceola",1,"Library Bound Book","978-0-7660-4117-2",2013,"January 2013","6.000 X 9.000","Author","William R. Sanford",4,null,null,null,"Q","560L","Grade 5 - 7","Grade 5 - 9","Osceola led his people, the Seminoles, in one of the longest struggles of the Indian Wars. In a game of hide and seek in the Florida wetlands, the Seminoles struck deadly blows to the U.S. Army. Osceoloa was never defeated, but was finally double-crossed and captured. The author tells the real story of this fearless leader. The Seminoles had lived peacefully with Spanish settlers and runaway slaves until Florida became part of the United States. When the U.S. government decided the Seminoles should be moved to distant reservations, Osceola helped lead his people into war. ","English",22.6,16.95,"975.9004","48 pp.",{"$f":"Table1[[#This Row],[QTY]]*Table1[[#This Row],['# of Books]]","v":0},{"$f":"Table1[[#This Row],[QTY]]*Table1[[#This Row],[School & Library Price]]","v":0}]
[null,null,null,91,"Native American Chiefs and Warriors","Seminole Chief Osceola",1,"eBook","978-0-7660-5797-5",2013,"January 2013",null,"Author","William R. Sanford",4,null,null,null,"Q","560L","Grade 5 - 7","Grade 5 - 9","Osceola led his people, the Seminoles, in one of the longest struggles of the Indian Wars. In a game of hide and seek in the Florida wetlands, the Seminoles struck deadly blows to the U.S. Army. Osceoloa was never defeated, but was finally double-crossed and captured. The author tells the real story of this fearless leader. The Seminoles had lived peacefully with Spanish settlers and runaway slaves until Florida became part of the United States. When the U.S. government decided the Seminoles should be moved to distant reservations, Osceola helped lead his people into war. ","English",22.6,16.95,"975.9004","48 pp.",{"$f":"Table1[[#This Row],[QTY]]*Table1[[#This Row],['# of Books]]","v":0},{"$f":"Table1[[#This Row],[QTY]]*Table1[[#This Row],[School & Library Price]]","v":0}]
[null,null,null,92,"Legendary American Biographies","Legendary American Biographies",15,"Library Set","978-0-7660-8043-0",2015,"January 2015","6.000 X 9.000",null,null,null,null,null,null,null,null,"Grade 6 - 12","Grade 6 - 12","This thorough and thoughtful set includes book about the lives of individuals responsible for some of the nation’s earliest political, social, and cultural achievements. The drivers featured here, moved the country forward through flight, philanthropy, and scientific invention. Inspire your students with this comprehensive look at some of the legendary Americans who influence us even today.","English",419.1,314.25,null,"96 pp.",{"$f":"Table1[[#This Row],[QTY]]*Table1[[#This Row],['# of Books]]","v":0},{"$f":"Table1[[#This Row],[QTY]]*Table1[[#This Row],[School & Library Price]]","v":0}]
[null,null,null,92,"Legendary American Biographies","Alexander Graham Bell: Scientist and Inventor",1,"Library Bound Book","978-0-7660-6430-0",2015,"January 2015","6.000 X 9.000","Author","Michael A. Schuman",null,null,null,null,null,null,"Grade 6","Grade 6 - 12","Alexander Graham Bell was a Scottish immigrant whose interest in helping the hearing-impaired led him to become not only an influential and respected teacher of the deaf, but the inventor of the telephone. This title examines Bell's life from his roots in Scotland, through his immigration to America, to his teaching experiences and inventions, his success with the telephone, and his later work toward inventing a flying machine. It highlights Bell's personal life and dedication to helping people, showing how he used his talents to help such famous Americans as Helen Keller and President James A. Garfield, who had been shot by an assassin.","English",27.94,20.95,null,"96 pp.",{"$f":"Table1[[#This Row],[QTY]]*Table1[[#This Row],['# of Books]]","v":0},{"$f":"Table1[[#This Row],[QTY]]*Table1[[#This Row],[School & Library Price]]","v":0}]
[null,null,null,92,"Legendary American Biographies","Alexander Graham Bell: Scientist and Inventor",1,"eBook","978-0-7660-6434-8",2015,"January 2015",null,"Author","Michael A. Schuman",null,null,null,null,null,null,"Grade 6","Grade 6 - 12","Alexander Graham Bell was a Scottish immigrant whose interest in helping the hearing-impaired led him to become not only an influential and respected teacher of the deaf, but the inventor of the telephone. This title examines Bell's life from his roots in Scotland, through his immigration to America, to his teaching experiences and inventions, his success with the telephone, and his later work toward inventing a flying machine. It highlights Bell's personal life and dedication to helping people, showing how he used his talents to help such famous Americans as Helen Keller and President James A. Garfield, who had been shot by an assassin.","English",27.94,20.95,null,"96 pp.",{"$f":"Table1[[#This Row],[QTY]]*Table1[[#This Row],['# of Books]]","v":0},{"$f":"Table1[[#This Row],[QTY]]*Table1[[#This Row],[School & Library Price]]","v":0}]
[null,null,null,92,"Legendary American Biographies","Andrew Carnegie: Industrialist and Philanthropist",1,"Library Bound Book","978-0-7660-6435-5",2015,"January 2015","6.000 X 9.000","Author","Zachary A. Kent",null,null,null,null,null,null,"Grade 6","Grade 6 - 12","Andrew Carnegie was a Scottish immigrant who rose from humble roots to become one of the most powerful and wealthy businessmen in the United States, with a steel empire that dwarfed all its competitors. Highlighting Carnegie's determination to succeed, author Zachary Kent shows how Carnegie, after becoming one of the wealthiest men in the world, gave away most of his fortune to philanthropic causes, building libraries and such famous landmarks as Carnegie Hall in New York City.","English",27.94,20.95,null,"96 pp.",{"$f":"Table1[[#This Row],[QTY]]*Table1[[#This Row],['# of Books]]","v":0},{"$f":"Table1[[#This Row],[QTY]]*Table1[[#This Row],[School & Library Price]]","v":0}]
[null,null,null,92,"Legendary American Biographies","Andrew Carnegie: Industrialist and Philanthropist",1,"eBook","978-0-7660-6439-3",2015,"January 2015",null,"Author","Zachary A. Kent",null,null,null,null,null,null,"Grade 6","Grade 6 - 12","Andrew Carnegie was a Scottish immigrant who rose from humble roots to become one of the most powerful and wealthy businessmen in the United States, with a steel empire that dwarfed all its competitors. Highlighting Carnegie's determination to succeed, author Zachary Kent shows how Carnegie, after becoming one of the wealthiest men in the world, gave away most of his fortune to philanthropic causes, building libraries and such famous landmarks as Carnegie Hall in New York City.","English",27.94,20.95,null,"96 pp.",{"$f":"Table1[[#This Row],[QTY]]*Table1[[#This Row],['# of Books]]","v":0},{"$f":"Table1[[#This Row],[QTY]]*Table1[[#This Row],[School & Library Price]]","v":0}]
[null,null,null,92,"Legendary American Biographies","Benjamin Franklin: Statesman and Inventor",1,"Library Bound Book","978-0-7660-6445-4",2015,"January 2015","6.000 X 9.000","Author","Leila Merrell Foster",null,null,null,null,null,null,"Grade 6","Grade 6 - 12","This book describes the life and contributions of the man who helped make France an ally of the American colonies to win the Revolutionary War. Franklin was also a leader in studying electricity, wrote POOR RICHARD'S ALMANAC, and served as a member of the Constitutional Convention.","English",27.94,20.95,null,"96 pp.",{"$f":"Table1[[#This Row],[QTY]]*Table1[[#This Row],['# of Books]]","v":0},{"$f":"Table1[[#This Row],[QTY]]*Table1[[#This Row],[School & Library Price]]","v":0}]
[null,null,null,92,"Legendary American Biographies","Benjamin Franklin: Statesman and Inventor",1,"eBook","978-0-7660-6449-2",2015,"January 2015",null,"Author","Leila Merrell Foster",null,null,null,null,null,null,"Grade 6","Grade 6 - 12","This book describes the life and contributions of the man who helped make France an ally of the American colonies to win the Revolutionary War. Franklin was also a leader in studying electricity, wrote POOR RICHARD'S ALMANAC, and served as a member of the Constitutional Convention.","English",27.94,20.95,null,"96 pp.",{"$f":"Table1[[#This Row],[QTY]]*Table1[[#This Row],['# of Books]]","v":0},{"$f":"Table1[[#This Row],[QTY]]*Table1[[#This Row],[School & Library Price]]","v":0}]
[null,null,null,92,"Legendary American Biographies","Buffalo Bill Cody: Legend of the Wild West",1,"Library Bound Book","978-0-7660-6450-8",2015,"January 2015","6.000 X 9.000","Author","Karen Bornemann Spies",null,null,null,null,null,null,"Grade 6","Grade 6 - 12","The life of William Frederick \"Buffalo Bill\" Cody is part of the legend of the American West. This book traces his life from his youth in Kansas, through his careers as a Pony Express rider and military scout, to his creation of the traveling Wild West show. It explores the myths that surround Buffalo Bill as a memorable figure in the development of the western United States.","English",27.94,20.95,null,"96 pp.",{"$f":"Table1[[#This Row],[QTY]]*Table1[[#This Row],['# of Books]]","v":0},{"$f":"Table1[[#This Row],[QTY]]*Table1[[#This Row],[School & Library Price]]","v":0}]
[null,null,null,92,"Legendary American Biographies","Buffalo Bill Cody: Legend of the Wild West",1,"eBook","978-0-7660-6454-6",2015,"January 2015",null,"Author","Karen Bornemann Spies",null,null,null,null,null,null,"Grade 6","Grade 6 - 12","The life of William Frederick \"Buffalo Bill\" Cody is part of the legend of the American West. This book traces his life from his youth in Kansas, through his careers as a Pony Express rider and military scout, to his creation of the traveling Wild West show. It explores the myths that surround Buffalo Bill as a memorable figure in the development of the western United States.","English",27.94,20.95,null,"96 pp.",{"$f":"Table1[[#This Row],[QTY]]*Table1[[#This Row],['# of Books]]","v":0},{"$f":"Table1[[#This Row],[QTY]]*Table1[[#This Row],[School & Library Price]]","v":0}]
[null,null,null,92,"Legendary American Biographies","Daniel Boone: American Pioneer and Frontiersman",1,"Library Bound Book","978-0-7660-6455-3",2015,"January 2015","6.000 X 9.000","Author","Pat McCarthy",null,null,null,null,null,null,"Grade 6","Grade 6 - 12","Author Pat McCarthy explores the fascinating life of the man who blazed trails, built towns, and learned the ways of the American Indians well enough to be adopted as one of them. Showing the many myths and legends that have developed about Daniel Boone throughout history, McCarthy helps separate fact from fiction in the life of the great early American pioneer who is best known for having opened the Wilderness Road to the West.","English",27.94,20.95,null,"96 pp.",{"$f":"Table1[[#This Row],[QTY]]*Table1[[#This Row],['# of Books]]","v":0},{"$f":"Table1[[#This Row],[QTY]]*Table1[[#This Row],[School & Library Price]]","v":0}]
[null,null,null,92,"Legendary American Biographies","Daniel Boone: American Pioneer and Frontiersman",1,"eBook","978-0-7660-6459-1",2015,"January 2015",null,"Author","Pat McCarthy",null,null,null,null,null,null,"Grade 6","Grade 6 - 12","Author Pat McCarthy explores the fascinating life of the man who blazed trails, built towns, and learned the ways of the American Indians well enough to be adopted as one of them. Showing the many myths and legends that have developed about Daniel Boone throughout history, McCarthy helps separate fact from fiction in the life of the great early American pioneer who is best known for having opened the Wilderness Road to the West.","English",27.94,20.95,null,"96 pp.",{"$f":"Table1[[#This Row],[QTY]]*Table1[[#This Row],['# of Books]]","v":0},{"$f":"Table1[[#This Row],[QTY]]*Table1[[#This Row],[School & Library Price]]","v":0}]
[null,null,null,92,"Legendary American Biographies","Jane Addams: Social Worker and Nobel Peace Prize Winner",1,"Library Bound Book","978-0-7660-6460-7",2015,"January 2015","6.000 X 9.000","Author","Bonnie Carmen Harvey",null,null,null,null,null,null,"Grade 6","Grade 6 - 12","Jane Addams was the first American woman to win the Nobel Peace Prize as a result of her involvement with the world peace movement in the early twentieth century. Highlighting Addams's lifelong determination to use her life productively and to help those less fortunate than herself, this book shows how Addams put her education and experiences to work in establishing Chicago's Hull House, one of the first settlement houses in the United States, where she ran programs to assist the urban poor on a daily basis.","English",27.94,20.95,null,"96 pp.",{"$f":"Table1[[#This Row],[QTY]]*Table1[[#This Row],['# of Books]]","v":0},{"$f":"Table1[[#This Row],[QTY]]*Table1[[#This Row],[School & Library Price]]","v":0}]
[null,null,null,92,"Legendary American Biographies","Jane Addams: Social Worker and Nobel Peace Prize Winner",1,"eBook","978-0-7660-6464-5",2015,"January 2015",null,"Author","Bonnie Carmen Harvey",null,null,null,null,null,null,"Grade 6","Grade 6 - 12","Jane Addams was the first American woman to win the Nobel Peace Prize as a result of her involvement with the world peace movement in the early twentieth century. Highlighting Addams's lifelong determination to use her life productively and to help those less fortunate than herself, this book shows how Addams put her education and experiences to work in establishing Chicago's Hull House, one of the first settlement houses in the United States, where she ran programs to assist the urban poor on a daily basis.","English",27.94,20.95,null,"96 pp.",{"$f":"Table1[[#This Row],[QTY]]*Table1[[#This Row],['# of Books]]","v":0},{"$f":"Table1[[#This Row],[QTY]]*Table1[[#This Row],[School & Library Price]]","v":0}]
[null,null,null,92,"Legendary American Biographies","Jefferson Davis: Soldier and President of the Confederacy",1,"Library Bound Book","978-0-7660-6465-2",2015,"January 2015","6.000 X 9.000","Author","Joann J. Burch",null,null,null,null,null,null,"Grade 6","Grade 6 - 12","As president of the Confederate States of America, Jefferson Davis played a key role in the South's unsuccessful attempt to separate from the Union during the Civil War. This book traces the life of the Confederate leader from his childhood in Mississippi, to his years as a United States politician, through the Civil War, and his attempt to rebuild his life and reputation after the Confederacy was defeated by the Union.","English",27.94,20.95,null,"96 pp.",{"$f":"Table1[[#This Row],[QTY]]*Table1[[#This Row],['# of Books]]","v":0},{"$f":"Table1[[#This Row],[QTY]]*Table1[[#This Row],[School & Library Price]]","v":0}]
[null,null,null,92,"Legendary American Biographies","Jefferson Davis: Soldier and President of the Confederacy",1,"eBook","978-0-7660-6469-0",2015,"January 2015",null,"Author","Joann J. Burch",null,null,null,null,null,null,"Grade 6","Grade 6 - 12","As president of the Confederate States of America, Jefferson Davis played a key role in the South's unsuccessful attempt to separate from the Union during the Civil War. This book traces the life of the Confederate leader from his childhood in Mississippi, to his years as a United States politician, through the Civil War, and his attempt to rebuild his life and reputation after the Confederacy was defeated by the Union.","English",27.94,20.95,null,"96 pp.",{"$f":"Table1[[#This Row],[QTY]]*Table1[[#This Row],['# of Books]]","v":0},{"$f":"Table1[[#This Row],[QTY]]*Table1[[#This Row],[School & Library Price]]","v":0}]
[null,null,null,92,"Legendary American Biographies","Jim Bowie: Legendary Hero of the Alamo",1,"Library Bound Book","978-0-7660-6470-6",2015,"January 2015","6.000 X 9.000","Author","Ann Graham Gaines",null,null,null,null,null,null,"Grade 6","Grade 6 - 12","This book follows the life of Jim Bowie from his childhood on the American frontier to his courageous death at the Alamo. Highlighting the spirit of adventure that led Bowie to Mexico and involved him in the war for Texas independence, author Ann Graham Gaines examines the personal side of this legendary frontiersman.","English",27.94,20.95,null,"96 pp.",{"$f":"Table1[[#This Row],[QTY]]*Table1[[#This Row],['# of Books]]","v":0},{"$f":"Table1[[#This Row],[QTY]]*Table1[[#This Row],[School & Library Price]]","v":0}]
[null,null,null,92,"Legendary American Biographies","Jim Bowie: Legendary Hero of the Alamo",1,"eBook","978-0-7660-6474-4",2015,"January 2015",null,"Author","Ann Graham Gaines",null,null,null,null,null,null,"Grade 6","Grade 6 - 12","This book follows the life of Jim Bowie from his childhood on the American frontier to his courageous death at the Alamo. Highlighting the spirit of adventure that led Bowie to Mexico and involved him in the war for Texas independence, author Ann Graham Gaines examines the personal side of this legendary frontiersman.","English",27.94,20.95,null,"96 pp.",{"$f":"Table1[[#This Row],[QTY]]*Table1[[#This Row],['# of Books]]","v":0},{"$f":"Table1[[#This Row],[QTY]]*Table1[[#This Row],[School & Library Price]]","v":0}]
[null,null,null,92,"Legendary American Biographies","Martha Washington: Legendary First Lady of the United States",1,"Library Bound Book","978-0-7660-6475-1",2015,"January 2015","6.000 X 9.000","Author","Stephanie Sammartino McPherson",null,null,null,null,null,null,"Grade 6","Grade 6 - 12","This book traces the life of the wife of first president George Washington from her childhood in Virginia, to her marriage to Daniel Parke Custis and her years as a wealthy widow, through her marriage to Washington. It highlights her role in supporting Washington through the years of the American Revolution, showing how she set standards to be followed by future First Ladies throughout American history.","English",27.94,20.95,null,"96 pp.",{"$f":"Table1[[#This Row],[QTY]]*Table1[[#This Row],['# of Books]]","v":0},{"$f":"Table1[[#This Row],[QTY]]*Table1[[#This Row],[School & Library Price]]","v":0}]
[null,null,null,92,"Legendary American Biographies","Martha Washington: Legendary First Lady of the United States",1,"eBook","978-0-7660-6479-9",2015,"January 2015",null,"Author","Stephanie Sammartino McPherson",null,null,null,null,null,null,"Grade 6","Grade 6 - 12","This book traces the life of the wife of first president George Washington from her childhood in Virginia, to her marriage to Daniel Parke Custis and her years as a wealthy widow, through her marriage to Washington. It highlights her role in supporting Washington through the years of the American Revolution, showing how she set standards to be followed by future First Ladies throughout American history.","English",27.94,20.95,null,"96 pp.",{"$f":"Table1[[#This Row],[QTY]]*Table1[[#This Row],['# of Books]]","v":0},{"$f":"Table1[[#This Row],[QTY]]*Table1[[#This Row],[School & Library Price]]","v":0}]
[null,null,null,92,"Legendary American Biographies","Mary Todd Lincoln: Civil War’s First Lady",1,"Library Bound Book","978-0-7660-6480-5",2015,"January 2015","6.000 X 9.000","Author","Mary E. Hull",null,null,null,null,null,null,"Grade 6","Grade 6 - 12","Author Mary E. Hull traces the life of one of America's most controversial First Ladies. After her husband, President Abraham Lincoln was assassinated in 1865, Mary Todd Lincoln became a frequent target of humiliating personal attacks, and her mental health declined sharply. Many people, including her own son, thought she was insane. An outspoken, strong woman, Mary Todd Lincoln faced many hardships and struggled with a sadness that would end only with her own death.","English",27.94,20.95,null,"96 pp.",{"$f":"Table1[[#This Row],[QTY]]*Table1[[#This Row],['# of Books]]","v":0},{"$f":"Table1[[#This Row],[QTY]]*Table1[[#This Row],[School & Library Price]]","v":0}]
[null,null,null,92,"Legendary American Biographies","Mary Todd Lincoln: Civil War’s First Lady",1,"eBook","978-0-7660-6484-3",2015,"January 2015",null,"Author","Mary E. Hull",null,null,null,null,null,null,"Grade 6","Grade 6 - 12","Author Mary E. Hull traces the life of one of America's most controversial First Ladies. After her husband, President Abraham Lincoln was assassinated in 1865, Mary Todd Lincoln became a frequent target of humiliating personal attacks, and her mental health declined sharply. Many people, including her own son, thought she was insane. An outspoken, strong woman, Mary Todd Lincoln faced many hardships and struggled with a sadness that would end only with her own death.","English",27.94,20.95,null,"96 pp.",{"$f":"Table1[[#This Row],[QTY]]*Table1[[#This Row],['# of Books]]","v":0},{"$f":"Table1[[#This Row],[QTY]]*Table1[[#This Row],[School & Library Price]]","v":0}]
[null,null,null,92,"Legendary American Biographies","Paul Revere: American Patriot",1,"Library Bound Book","978-0-7660-6485-0",2015,"January 2015","6.000 X 9.000","Author","Barbara Ford",null,null,null,null,null,null,"Grade 6","Grade 6 - 12","Renowned for his silversmithing, his ride from Boston to Lexington, Massachusetts to warn that the British were attacking made Paul Revere famous. However, Paul Revere was also involved with other events that led to the American Revolution.","English",27.94,20.95,null,"96 pp.",{"$f":"Table1[[#This Row],[QTY]]*Table1[[#This Row],['# of Books]]","v":0},{"$f":"Table1[[#This Row],[QTY]]*Table1[[#This Row],[School & Library Price]]","v":0}]
[null,null,null,92,"Legendary American Biographies","Paul Revere: American Patriot",1,"eBook","978-0-7660-6489-8",2015,"January 2015",null,"Author","Barbara Ford",null,null,null,null,null,null,"Grade 6","Grade 6 - 12","Renowned for his silversmithing, his ride from Boston to Lexington, Massachusetts to warn that the British were attacking made Paul Revere famous. However, Paul Revere was also involved with other events that led to the American Revolution.","English",27.94,20.95,null,"96 pp.",{"$f":"Table1[[#This Row],[QTY]]*Table1[[#This Row],['# of Books]]","v":0},{"$f":"Table1[[#This Row],[QTY]]*Table1[[#This Row],[School & Library Price]]","v":0}]
[null,null,null,92,"Legendary American Biographies","Robert E. Lee: Commander of the Confederate Army",1,"Library Bound Book","978-0-7660-6490-4",2015,"January 2015","6.000 X 9.000","Author","Mona Kerby",null,null,null,null,null,null,"Grade 6","Grade 6 - 12","One of the most beloved figures in American History, Robert E. Lee commanded the Army of Northern Virginia during the Civil War. This \"Southern gentleman's\" successes against overwhelming odds were a result of his bold strategies.","English",27.94,20.95,null,"96 pp.",{"$f":"Table1[[#This Row],[QTY]]*Table1[[#This Row],['# of Books]]","v":0},{"$f":"Table1[[#This Row],[QTY]]*Table1[[#This Row],[School & Library Price]]","v":0}]
[null,null,null,92,"Legendary American Biographies","Robert E. Lee: Commander of the Confederate Army",1,"eBook","978-0-7660-6494-2",2015,"January 2015",null,"Author","Mona Kerby",null,null,null,null,null,null,"Grade 6","Grade 6 - 12","One of the most beloved figures in American History, Robert E. Lee commanded the Army of Northern Virginia during the Civil War. This \"Southern gentleman's\" successes against overwhelming odds were a result of his bold strategies.","English",27.94,20.95,null,"96 pp.",{"$f":"Table1[[#This Row],[QTY]]*Table1[[#This Row],['# of Books]]","v":0},{"$f":"Table1[[#This Row],[QTY]]*Table1[[#This Row],[School & Library Price]]","v":0}]
[null,null,null,92,"Legendary American Biographies","Susan B. Anthony: Fighter for Women’s Voting Rights",1,"Library Bound Book","978-0-7660-6500-0",2015,"January 2015","6.000 X 9.000","Author","Martha E. Kendall",null,null,null,null,null,null,"Grade 6","Grade 6 - 12","Susan B. Anthony defied the law in an era when it was illegal for women to vote. After casting a vote in the 1872 election, and being arrested for it, she worked closely with Elizabeth Cady Stanton and traveled across the United States promoting women's rights.","English",27.94,20.95,null,"96 pp.",{"$f":"Table1[[#This Row],[QTY]]*Table1[[#This Row],['# of Books]]","v":0},{"$f":"Table1[[#This Row],[QTY]]*Table1[[#This Row],[School & Library Price]]","v":0}]
[null,null,null,92,"Legendary American Biographies","Susan B. Anthony: Fighter for Women’s Voting Rights",1,"eBook","978-0-7660-6504-8",2015,"January 2015",null,"Author","Martha E. Kendall",null,null,null,null,null,null,"Grade 6","Grade 6 - 12","Susan B. Anthony defied the law in an era when it was illegal for women to vote. After casting a vote in the 1872 election, and being arrested for it, she worked closely with Elizabeth Cady Stanton and traveled across the United States promoting women's rights.","English",27.94,20.95,null,"96 pp.",{"$f":"Table1[[#This Row],[QTY]]*Table1[[#This Row],['# of Books]]","v":0},{"$f":"Table1[[#This Row],[QTY]]*Table1[[#This Row],[School & Library Price]]","v":0}]
[null,null,null,92,"Legendary American Biographies","The Wright Brothers: Aviation Pioneers and Inventors",1,"Library Bound Book","978-0-7660-6505-5",2015,"January 2015","6.000 X 9.000","Author","Wendie C. Old",null,null,null,null,null,null,"Grade 6","Grade 6 - 12","Orville and Wilbur Wright are best known for their historic flight in Kitty Hawk, North Carolina. Their achievement inspired Americans of all ages, but it also brought forth a host of competitors, and the Wright brothers had to struggle to get the credit they deserved. The airplane, however, was just one of a long list of the brothers' accomplishments. The author details the Wright brothers' impact on history as they set out to prove what others had thought impossible—that human beings could fly.","English",27.94,20.95,null,"96 pp.",{"$f":"Table1[[#This Row],[QTY]]*Table1[[#This Row],['# of Books]]","v":0},{"$f":"Table1[[#This Row],[QTY]]*Table1[[#This Row],[School & Library Price]]","v":0}]
[null,null,null,92,"Legendary American Biographies","The Wright Brothers: Aviation Pioneers and Inventors",1,"eBook","978-0-7660-6509-3",2015,"January 2015",null,"Author","Wendie C. Old",null,null,null,null,null,null,"Grade 6","Grade 6 - 12","Orville and Wilbur Wright are best known for their historic flight in Kitty Hawk, North Carolina. Their achievement inspired Americans of all ages, but it also brought forth a host of competitors, and the Wright brothers had to struggle to get the credit they deserved. The airplane, however, was just one of a long list of the brothers' accomplishments. The author details the Wright brothers' impact on history as they set out to prove what others had thought impossible—that human beings could fly.","English",27.94,20.95,null,"96 pp.",{"$f":"Table1[[#This Row],[QTY]]*Table1[[#This Row],['# of Books]]","v":0},{"$f":"Table1[[#This Row],[QTY]]*Table1[[#This Row],[School & Library Price]]","v":0}]
[null,null,null,92,"Legendary American Biographies","Thomas Alva Edison: American Inventor and Businessman",1,"Library Bound Book","978-0-7660-6510-9",2015,"January 2015","6.000 X 9.000","Author","Ellen M. Dolan",null,null,null,null,null,null,"Grade 6","Grade 6 - 12","Ellen M. Dolan explores the life and career of America's best inventor. Focusing on Edison's development from his early years as a telegraph operator to a powerful and influential businessman, it shows how Edison's inquisitive nature helped him become an inventor with over a thousand registered patents and become popularly known as the \"Wizard of Menlo Park.\"","English",27.94,20.95,null,"96 pp.",{"$f":"Table1[[#This Row],[QTY]]*Table1[[#This Row],['# of Books]]","v":0},{"$f":"Table1[[#This Row],[QTY]]*Table1[[#This Row],[School & Library Price]]","v":0}]
[null,null,null,92,"Legendary American Biographies","Thomas Alva Edison: American Inventor and Businessman",1,"eBook","978-0-7660-6514-7",2015,"January 2015",null,"Author","Ellen M. Dolan",null,null,null,null,null,null,"Grade 6","Grade 6 - 12","Ellen M. Dolan explores the life and career of America's best inventor. Focusing on Edison's development from his early years as a telegraph operator to a powerful and influential businessman, it shows how Edison's inquisitive nature helped him become an inventor with over a thousand registered patents and become popularly known as the \"Wizard of Menlo Park.\"","English",27.94,20.95,null,"96 pp.",{"$f":"Table1[[#This Row],[QTY]]*Table1[[#This Row],['# of Books]]","v":0},{"$f":"Table1[[#This Row],[QTY]]*Table1[[#This Row],[School & Library Price]]","v":0}]
[null,null,null,93,"Legendary African Americans","Legendary African Americans",16,"Library Set","978-0-7660-8046-1",2015,"August 2014","6.000 X 9.000",null,null,null,null,null,null,null,null,"Grade 6 - 12","Grade 6 - 12",null,"English",479.04,359.36,null,null,{"$f":"Table1[[#This Row],[QTY]]*Table1[[#This Row],['# of Books]]","v":0},{"$f":"Table1[[#This Row],[QTY]]*Table1[[#This Row],[School & Library Price]]","v":0}]
[null,null,null,93,"Legendary African Americans","The Life of Aretha Franklin: Queen of Soul",1,"Library Bound Book","978-0-7660-6225-2",2015,"January 2015","6.000 X 9.000","Author","Silvia Anne Sheafer",null,null,null,null,null,null,"Grade 6","Grade 6 - 12","Author Silvia Anne Sheafer relates the entertaining life and career of this legend of soul music, from her childhood in Detroit, through her struggles with personal heartache and racial prejudice, to her continued success as a major force in the music industry. Crowned the \"Queen of Soul,\" Aretha Franklin has won fifteen Grammy Awards, and has also received the Grammy Lifetime Achievement Award.","English",29.94,22.46,null,"96 pp.",{"$f":"Table1[[#This Row],[QTY]]*Table1[[#This Row],['# of Books]]","v":0},{"$f":"Table1[[#This Row],[QTY]]*Table1[[#This Row],[School & Library Price]]","v":0}]
[null,null,null,93,"Legendary African Americans","The Life of Aretha Franklin: Queen of Soul",1,"eBook","978-0-7660-6229-0",2015,"January 2015",null,"Author","Silvia Anne Sheafer",null,null,null,null,null,null,"Grade 6","Grade 6 - 12","Author Silvia Anne Sheafer relates the entertaining life and career of this legend of soul music, from her childhood in Detroit, through her struggles with personal heartache and racial prejudice, to her continued success as a major force in the music industry. Crowned the \"Queen of Soul,\" Aretha Franklin has won fifteen Grammy Awards, and has also received the Grammy Lifetime Achievement Award.","English",34.6,25.95,null,"96 pp.",{"$f":"Table1[[#This Row],[QTY]]*Table1[[#This Row],['# of Books]]","v":0},{"$f":"Table1[[#This Row],[QTY]]*Table1[[#This Row],[School & Library Price]]","v":0}]
[null,null,null,93,"Legendary African Americans","The Life of Arthur Ashe: Smashing the Color Barrier in Tennis",1,"Library Bound Book","978-0-7660-6260-3",2015,"January 2015","6.000 X 9.000","Author","David K. Wright",null,null,null,null,null,null,"Grade 6","Grade 6 - 12","An interesting look at the life and career of this talented tennis legend, Arthur Ashe was the first African-American male ever to play professional tennis, and would go on to win thirty-three tournaments. A teacher, author, and activist, as well as a tennis star, Ashe continued to be politically and socially active until he died of AIDS-related pneumonia.","English",29.94,22.46,null,"96 pp.",{"$f":"Table1[[#This Row],[QTY]]*Table1[[#This Row],['# of Books]]","v":0},{"$f":"Table1[[#This Row],[QTY]]*Table1[[#This Row],[School & Library Price]]","v":0}]
[null,null,null,93,"Legendary African Americans","The Life of Arthur Ashe: Smashing the Color Barrier in Tennis",1,"eBook","978-0-7660-6264-1",2015,"January 2015",null,"Author","David K. Wright",null,null,null,null,null,null,"Grade 6","Grade 6 - 12","An interesting look at the life and career of this talented tennis legend, Arthur Ashe was the first African-American male ever to play professional tennis, and would go on to win thirty-three tournaments. A teacher, author, and activist, as well as a tennis star, Ashe continued to be politically and socially active until he died of AIDS-related pneumonia.","English",34.6,25.95,null,"96 pp.",{"$f":"Table1[[#This Row],[QTY]]*Table1[[#This Row],['# of Books]]","v":0},{"$f":"Table1[[#This Row],[QTY]]*Table1[[#This Row],[School & Library Price]]","v":0}]
[null,null,null,93,"Legendary African Americans","The Life of Benjamin Banneker: Astronomer and Mathematician",1,"Library Bound Book","978-0-7660-6112-5",2015,"August 2014","6.000 X 9.000","Author","Laura Baskes Litwin",null,null,null,null,"T","1080L","Grade 6 - 7","Grade 6 - 12","Benjamin Banneker, born in 1731, was a man ahead of his time. As a free African American in a time of slavery, Banneker was not welcome in white society, and he spent most of his life on his Maryland farm. There he harnessed his keen and curious intellect to teach himself complex mathematics and astronomy. Banneker secured a place in history with his role in surveying the site for the capital city, Washington D.C., and his published almanacs with precise tide calculations and weather predictions. Also, Banneker himself was one of the first African Americans to speak out against slavery. Banneker's accomplishments were used by abolitionists as proof of the intellectual powers of his race. This book is developed from BENJAMIN BANNEKER: ASTRONOMER AND MATHEMATICIAN to allow republication of the original text into ebook, paperback, and trade editions. ","English",29.94,22.46,"520.92","96 pp.",{"$f":"Table1[[#This Row],[QTY]]*Table1[[#This Row],['# of Books]]","v":0},{"$f":"Table1[[#This Row],[QTY]]*Table1[[#This Row],[School & Library Price]]","v":0}]
[null,null,null,93,"Legendary African Americans","The Life of Benjamin Banneker: Astronomer and Mathematician",1,"eBook","978-0-7660-6116-3",2015,"August 2014",null,"Author","Laura Baskes Litwin",null,null,null,null,"T","1080L","Grade 6 - 7","Grade 6 - 12","Benjamin Banneker, born in 1731, was a man ahead of his time. As a free African American in a time of slavery, Banneker was not welcome in white society, and he spent most of his life on his Maryland farm. There he harnessed his keen and curious intellect to teach himself complex mathematics and astronomy. Banneker secured a place in history with his role in surveying the site for the capital city, Washington D.C., and his published almanacs with precise tide calculations and weather predictions. Also, Banneker himself was one of the first African Americans to speak out against slavery. Banneker's accomplishments were used by abolitionists as proof of the intellectual powers of his race. This book is developed from BENJAMIN BANNEKER: ASTRONOMER AND MATHEMATICIAN to allow republication of the original text into ebook, paperback, and trade editions. ","English",34.6,25.95,"520.92","96 pp.",{"$f":"Table1[[#This Row],[QTY]]*Table1[[#This Row],['# of Books]]","v":0},{"$f":"Table1[[#This Row],[QTY]]*Table1[[#This Row],[School & Library Price]]","v":0}]
[null,null,null,93,"Legendary African Americans","The Life of Carter G. Woodson: Father of African-American History",1,"Library Bound Book","978-0-7660-6122-4",2015,"August 2014","6.000 X 9.000","Author","Robert F. Durden",null,null,null,null,"T","1090L","Grade 6 - 7","Grade 6 - 12","Carter G. Woodson, born just ten years after the Civil War ended, grew up in the lingering shadow of slavery. The son of former slaves, Woodson became the first scholar of African-American history, creating this field of university study. He was also the creator of Negro History Week, which has now grown into Black History Month, celebrated nationwide. The life and career of this pioneering historian are detailed in this title. This book is developed from CARTER G. WOODSON: FATHER OF AFRICAN-AMERICAN HISTORY to allow republication of the original text into ebook, paperback, and trade editions. ","English",29.94,22.46,"973","96 pp.",{"$f":"Table1[[#This Row],[QTY]]*Table1[[#This Row],['# of Books]]","v":0},{"$f":"Table1[[#This Row],[QTY]]*Table1[[#This Row],[School & Library Price]]","v":0}]
[null,null,null,93,"Legendary African Americans","The Life of Carter G. Woodson: Father of African-American History",1,"eBook","978-0-7660-6126-2",2015,"August 2014",null,"Author","Robert F. Durden",null,null,null,null,"T","1090L","Grade 6 - 7","Grade 6 - 12","Carter G. Woodson, born just ten years after the Civil War ended, grew up in the lingering shadow of slavery. The son of former slaves, Woodson became the first scholar of African-American history, creating this field of university study. He was also the creator of Negro History Week, which has now grown into Black History Month, celebrated nationwide. The life and career of this pioneering historian are detailed in this title. This book is developed from CARTER G. WOODSON: FATHER OF AFRICAN-AMERICAN HISTORY to allow republication of the original text into ebook, paperback, and trade editions. ","English",34.6,25.95,"973","96 pp.",{"$f":"Table1[[#This Row],[QTY]]*Table1[[#This Row],['# of Books]]","v":0},{"$f":"Table1[[#This Row],[QTY]]*Table1[[#This Row],[School & Library Price]]","v":0}]
[null,null,null,93,"Legendary African Americans","The Life of Dr. Charles Drew: Blood Bank Innovator",1,"Library Bound Book","978-0-7660-6265-8",2015,"January 2015","6.000 X 9.000","Author","Anne Schraff",null,null,null,null,null,null,"Grade 6","Grade 6 - 12","Today, thanks to the work of a brilliant young doctor, blood banks and successful blood transfusions are commonplace. Dr. Charles Drew's pioneering research with blood plasma and storage made this possible. At a time of crippling racial segregation and prejudice, Drew proved that black doctors were equal to white doctors. During World War II, he created the first large-scale system for preserving blood, shipping seventeen thousand pints overseas for soldiers in Great Britain. Since then, millions of men, women, and children worldwide owe their lives to his work. In this page-turning account, author Anne Schraff demystifies Drew's extraordinary research and dispels the false rumors around his tragic and untimely death.","English",29.94,22.46,null,"96 pp.",{"$f":"Table1[[#This Row],[QTY]]*Table1[[#This Row],['# of Books]]","v":0},{"$f":"Table1[[#This Row],[QTY]]*Table1[[#This Row],[School & Library Price]]","v":0}]
[null,null,null,93,"Legendary African Americans","The Life of Dr. Charles Drew: Blood Bank Innovator",1,"eBook","978-0-7660-6269-6",2015,"January 2015",null,"Author","Anne Schraff",null,null,null,null,null,null,"Grade 6","Grade 6 - 12","Today, thanks to the work of a brilliant young doctor, blood banks and successful blood transfusions are commonplace. Dr. Charles Drew's pioneering research with blood plasma and storage made this possible. At a time of crippling racial segregation and prejudice, Drew proved that black doctors were equal to white doctors. During World War II, he created the first large-scale system for preserving blood, shipping seventeen thousand pints overseas for soldiers in Great Britain. Since then, millions of men, women, and children worldwide owe their lives to his work. In this page-turning account, author Anne Schraff demystifies Drew's extraordinary research and dispels the false rumors around his tragic and untimely death.","English",34.6,25.95,null,"96 pp.",{"$f":"Table1[[#This Row],[QTY]]*Table1[[#This Row],['# of Books]]","v":0},{"$f":"Table1[[#This Row],[QTY]]*Table1[[#This Row],[School & Library Price]]","v":0}]
[null,null,null,93,"Legendary African Americans","The Life of Duke Ellington: Giant of Jazz",1,"Library Bound Book","978-0-7660-6127-9",2015,"August 2014","6.000 X 9.000","Author","Wendie C. Old",null,null,null,null,"S","1080L","Grade 6 - 7","Grade 6 - 12","Duke Ellington's brilliance as a jazz composer; bandleader; and pianist has never been equaled. The winner of eleven Grammy Awards, Duke Ellington, achieved success in New York's Cotton Club, wrote musical scores for stage plays, movies, and even composed his own short opera. This book offers a fascinating look at the life and career of a music legend. To allow republication of the original text into ebooks, paperback, and trade editions, this book is developed from DUKE ELLINGTON: GIANT OF JAZZ. ","English",29.94,22.46,"781.65092","96 pp.",{"$f":"Table1[[#This Row],[QTY]]*Table1[[#This Row],['# of Books]]","v":0},{"$f":"Table1[[#This Row],[QTY]]*Table1[[#This Row],[School & Library Price]]","v":0}]
[null,null,null,93,"Legendary African Americans","The Life of Duke Ellington: Giant of Jazz",1,"eBook","978-0-7660-6131-6",2015,"August 2014",null,"Author","Wendie C. Old",null,null,null,null,"S","1080L","Grade 6 - 7","Grade 6 - 12","Duke Ellington's brilliance as a jazz composer; bandleader; and pianist has never been equaled. The winner of eleven Grammy Awards, Duke Ellington, achieved success in New York's Cotton Club, wrote musical scores for stage plays, movies, and even composed his own short opera. This book offers a fascinating look at the life and career of a music legend. To allow republication of the original text into ebooks, paperback, and trade editions, this book is developed from DUKE ELLINGTON: GIANT OF JAZZ. ","English",34.6,25.95,"781.65092","96 pp.",{"$f":"Table1[[#This Row],[QTY]]*Table1[[#This Row],['# of Books]]","v":0},{"$f":"Table1[[#This Row],[QTY]]*Table1[[#This Row],[School & Library Price]]","v":0}]
[null,null,null,93,"Legendary African Americans","The Life of Frederick Douglass: Speaking Out Against Slavery",1,"Library Bound Book","978-0-7660-6132-3",2015,"August 2014","6.000 X 9.000","Author","Anne Schraff",null,null,null,null,"T","1110L","Grade 6 - 7","Grade 6 - 12","Despite being a slave, Douglass learned to read and write. At age 21, he escaped from slavery and forged a new life for himself as a free man. Intelligent and charismatic, Douglass became the leading voice against slavery in the 1800s. \"There is no way a nation can call itself free and accept slavery,\" said Frederick Douglass. Middle-grade readers and up will respond to Anne Schraff's fresh, lively retelling of Douglass's story. To allow republication of the original text into ebook, paperback, and trade editions, this book is developed from FREDERICK DOUGLASS: SPEAKING OUT AGAINST SLAVERY. ","English",29.94,22.46,"973.8092","96 pp.",{"$f":"Table1[[#This Row],[QTY]]*Table1[[#This Row],['# of Books]]","v":0},{"$f":"Table1[[#This Row],[QTY]]*Table1[[#This Row],[School & Library Price]]","v":0}]
[null,null,null,93,"Legendary African Americans","The Life of Frederick Douglass: Speaking Out Against Slavery",1,"eBook","978-0-7660-6136-1",2015,"August 2014",null,"Author","Anne Schraff",null,null,null,null,"T","1110L","Grade 6 - 7","Grade 6 - 12","Despite being a slave, Douglass learned to read and write. At age 21, he escaped from slavery and forged a new life for himself as a free man. Intelligent and charismatic, Douglass became the leading voice against slavery in the 1800s. \"There is no way a nation can call itself free and accept slavery,\" said Frederick Douglass. Middle-grade readers and up will respond to Anne Schraff's fresh, lively retelling of Douglass's story. To allow republication of the original text into ebook, paperback, and trade editions, this book is developed from FREDERICK DOUGLASS: SPEAKING OUT AGAINST SLAVERY. ","English",34.6,25.95,"973.8092","96 pp.",{"$f":"Table1[[#This Row],[QTY]]*Table1[[#This Row],['# of Books]]","v":0},{"$f":"Table1[[#This Row],[QTY]]*Table1[[#This Row],[School & Library Price]]","v":0}]
[null,null,null,93,"Legendary African Americans","The Life of George Washington Carver: Inventor and Scientist",1,"Library Bound Book","978-0-7660-6270-2",2015,"January 2015","6.000 X 9.000","Author","Barbara Kramer",null,null,null,null,null,null,"Grade 6","Grade 6 - 12","George Washington Carver spent his life asking questions and looking for the answers. He gained a reputation as the farmers' best friend: He taught farmers about crop rotation—telling them to grow peanuts and sweet potatoes to \"rest\" their soil between cotton crops. And what could they do with all those peanuts? Carver developed more than three hundred peanut-based products—from milk to printers’ ink—and more than a hundred ways to use sweet potatoes. Barbara Kramer selects the correct anecdotes and quotes to bring \"The Peanut Man\" to life.","English",29.94,22.46,null,"96 pp.",{"$f":"Table1[[#This Row],[QTY]]*Table1[[#This Row],['# of Books]]","v":0},{"$f":"Table1[[#This Row],[QTY]]*Table1[[#This Row],[School & Library Price]]","v":0}]
[null,null,null,93,"Legendary African Americans","The Life of George Washington Carver: Inventor and Scientist",1,"eBook","978-0-7660-6274-0",2015,"January 2015",null,"Author","Barbara Kramer",null,null,null,null,null,null,"Grade 6","Grade 6 - 12","George Washington Carver spent his life asking questions and looking for the answers. He gained a reputation as the farmers' best friend: He taught farmers about crop rotation—telling them to grow peanuts and sweet potatoes to \"rest\" their soil between cotton crops. And what could they do with all those peanuts? Carver developed more than three hundred peanut-based products—from milk to printers’ ink—and more than a hundred ways to use sweet potatoes. Barbara Kramer selects the correct anecdotes and quotes to bring \"The Peanut Man\" to life.","English",34.6,25.95,null,"96 pp.",{"$f":"Table1[[#This Row],[QTY]]*Table1[[#This Row],['# of Books]]","v":0},{"$f":"Table1[[#This Row],[QTY]]*Table1[[#This Row],[School & Library Price]]","v":0}]
[null,null,null,93,"Legendary African Americans","The Life of Harriet Tubman: Moses of the Underground Railroad",1,"Library Bound Book","978-0-7660-6137-8",2015,"August 2014","6.000 X 9.000","Author","Anne Schraff",null,null,null,null,"S","1060L","Grade 6 - 7","Grade 6 - 12","Sorting myth from truth in this amazing tale of courage and heroism, Anne Schraff breathes new life into the story of the most famous \"conductor\" on the Underground Railroad. \"I grew up like a neglected weed—ignorant of liberty, having no experience of it. Now I've been free, I know what a dreadful condition slavery is.\" Harriet Tubman ran away from slavery in 1849, walking one hundred miles to freedom in the North. For the next sixteen years, Tubman risked her newfound freedom—and her life—to help about three hundred other slaves escape. During the Civil War, Tubman worked as a nurse and a scout for the Union army, and in her later years, she joined the struggle for the education of her people and for women's rights. This book is developed from HARRIET TUBMAN: MOSES OF THE UNDERGROUND RAILROAD to allow republication of the original text into ebook, paperback, and trade editions. ","English",29.94,22.46,"306.3","96 pp.",{"$f":"Table1[[#This Row],[QTY]]*Table1[[#This Row],['# of Books]]","v":0},{"$f":"Table1[[#This Row],[QTY]]*Table1[[#This Row],[School & Library Price]]","v":0}]
[null,null,null,93,"Legendary African Americans","The Life of Harriet Tubman: Moses of the Underground Railroad",1,"eBook","978-0-7660-6141-5",2015,"August 2014",null,"Author","Anne Schraff",null,null,null,null,"S","1060L","Grade 6 - 7","Grade 6 - 12","Sorting myth from truth in this amazing tale of courage and heroism, Anne Schraff breathes new life into the story of the most famous \"conductor\" on the Underground Railroad. \"I grew up like a neglected weed—ignorant of liberty, having no experience of it. Now I've been free, I know what a dreadful condition slavery is.\" Harriet Tubman ran away from slavery in 1849, walking one hundred miles to freedom in the North. For the next sixteen years, Tubman risked her newfound freedom—and her life—to help about three hundred other slaves escape. During the Civil War, Tubman worked as a nurse and a scout for the Union army, and in her later years, she joined the struggle for the education of her people and for women's rights. This book is developed from HARRIET TUBMAN: MOSES OF THE UNDERGROUND RAILROAD to allow republication of the original text into ebook, paperback, and trade editions. ","English",34.6,25.95,"306.3","96 pp.",{"$f":"Table1[[#This Row],[QTY]]*Table1[[#This Row],['# of Books]]","v":0},{"$f":"Table1[[#This Row],[QTY]]*Table1[[#This Row],[School & Library Price]]","v":0}]
[null,null,null,93,"Legendary African Americans","The Life of Louis Armstrong: King of Jazz",1,"Library Bound Book","978-0-7660-6142-2",2015,"August 2014","6.000 X 9.000","Author","Wendie C. Old",null,null,null,null,"T","950L","Grade 6 - 7","Grade 6 - 12","Music has been in my blood from the day I was born, said Louis Armstrong. Author Wendie C. Old weaves a rich, colorful tapestry of the life of this beloved and brilliant musician known to his fans as Satchmo. Louis Armstrong rose from poverty and a troubled childhood to set the music world on fire with his lively trumpet playing and trademark raspy singing voice. With a natural talent for showmanship, Armstrong won fame while touring around the world, and proved to be one of the most extraordinary performers of the Jazz Age and beyond. This book is developed from LOUIS ARMSTRONG: KING OF JAZZ to allow republication of the original text into ebook, paperback, and trade editions. ","English",29.94,22.46,"781.65092","96 pp.",{"$f":"Table1[[#This Row],[QTY]]*Table1[[#This Row],['# of Books]]","v":0},{"$f":"Table1[[#This Row],[QTY]]*Table1[[#This Row],[School & Library Price]]","v":0}]
[null,null,null,93,"Legendary African Americans","The Life of Louis Armstrong: King of Jazz",1,"eBook","978-0-7660-6146-0",2015,"August 2014",null,"Author","Wendie C. Old",null,null,null,null,"T","950L","Grade 6 - 7","Grade 6 - 12","Music has been in my blood from the day I was born, said Louis Armstrong. Author Wendie C. Old weaves a rich, colorful tapestry of the life of this beloved and brilliant musician known to his fans as Satchmo. Louis Armstrong rose from poverty and a troubled childhood to set the music world on fire with his lively trumpet playing and trademark raspy singing voice. With a natural talent for showmanship, Armstrong won fame while touring around the world, and proved to be one of the most extraordinary performers of the Jazz Age and beyond. This book is developed from LOUIS ARMSTRONG: KING OF JAZZ to allow republication of the original text into ebook, paperback, and trade editions. ","English",34.6,25.95,"781.65092","96 pp.",{"$f":"Table1[[#This Row],[QTY]]*Table1[[#This Row],['# of Books]]","v":0},{"$f":"Table1[[#This Row],[QTY]]*Table1[[#This Row],[School & Library Price]]","v":0}]
[null,null,null,93,"Legendary African Americans","The Life of Marian Anderson: Diva and Humanitarian",1,"Library Bound Book","978-0-7660-6285-6",2015,"January 2015","6.000 X 9.000","Author","Andrea Broadwater",null,null,null,null,null,null,"Grade 6","Grade 6 - 12","At a time in history when many doors were closed to African Americans, Marian Anderson, with the power of her magnificent voice, triumphed over racial barriers. Andrea Broadwater's spirited profile breathes new life into Anderson's inspiring story.  During a career that spanned four decades, this quiet, proud woman lifted herself out of poverty and obscurity to become a world-famous singer.","English",29.94,22.46,null,"96 pp.",{"$f":"Table1[[#This Row],[QTY]]*Table1[[#This Row],['# of Books]]","v":0},{"$f":"Table1[[#This Row],[QTY]]*Table1[[#This Row],[School & Library Price]]","v":0}]
[null,null,null,93,"Legendary African Americans","The Life of Marian Anderson: Diva and Humanitarian",1,"eBook","978-0-7660-6289-4",2015,"January 2015",null,"Author","Andrea Broadwater",null,null,null,null,null,null,"Grade 6","Grade 6 - 12","At a time in history when many doors were closed to African Americans, Marian Anderson, with the power of her magnificent voice, triumphed over racial barriers. Andrea Broadwater's spirited profile breathes new life into Anderson's inspiring story.  During a career that spanned four decades, this quiet, proud woman lifted herself out of poverty and obscurity to become a world-famous singer.","English",34.6,25.95,null,"96 pp.",{"$f":"Table1[[#This Row],[QTY]]*Table1[[#This Row],['# of Books]]","v":0},{"$f":"Table1[[#This Row],[QTY]]*Table1[[#This Row],[School & Library Price]]","v":0}]
[null,null,null,93,"Legendary African Americans","The Life of Martin Luther King, Jr.: Leader for Civil Rights",1,"Library Bound Book","978-0-7660-6147-7",2015,"August 2014","6.000 X 9.000","Author","Michael A. Schuman",null,null,null,null,"T","940L","Grade 6 - 7","Grade 6 - 12","So, even though we face the difficulties of today and tomorrow, I still have a dream… These now famous words were spoken by Dr. Martin Luther King, Jr., during the March on Washington in 1963. The many historic milestones of Martin Luther King, Jr.'s, life are examined in this informative biography. Examining the civil rights leader's life from his birth in Atlanta, winning the Nobel Peace Prize, the march to Selma, his \"I Have a Dream\" speech, and his assassination. This book is developed from MARTIN LUTHER KING, JR.: LEADER FOR CIVIL RIGHTS to allow republication of the original text into ebook, paperback, and trade editions. ","English",29.94,22.46,"323.092","96 pp.",{"$f":"Table1[[#This Row],[QTY]]*Table1[[#This Row],['# of Books]]","v":0},{"$f":"Table1[[#This Row],[QTY]]*Table1[[#This Row],[School & Library Price]]","v":0}]
[null,null,null,93,"Legendary African Americans","The Life of Martin Luther King, Jr.: Leader for Civil Rights",1,"eBook","978-0-7660-6151-4",2015,"August 2014",null,"Author","Michael A. Schuman",null,null,null,null,"T","940L","Grade 6 - 7","Grade 6 - 12","So, even though we face the difficulties of today and tomorrow, I still have a dream… These now famous words were spoken by Dr. Martin Luther King, Jr., during the March on Washington in 1963. The many historic milestones of Martin Luther King, Jr.'s, life are examined in this informative biography. Examining the civil rights leader's life from his birth in Atlanta, winning the Nobel Peace Prize, the march to Selma, his \"I Have a Dream\" speech, and his assassination. This book is developed from MARTIN LUTHER KING, JR.: LEADER FOR CIVIL RIGHTS to allow republication of the original text into ebook, paperback, and trade editions. ","English",34.6,25.95,"323.092","96 pp.",{"$f":"Table1[[#This Row],[QTY]]*Table1[[#This Row],['# of Books]]","v":0},{"$f":"Table1[[#This Row],[QTY]]*Table1[[#This Row],[School & Library Price]]","v":0}]
[null,null,null,93,"Legendary African Americans","The Life of Paul Laurence Dunbar: Portrait of a Poet",1,"Library Bound Book","978-0-7660-6152-1",2015,"August 2014","6.000 X 9.000","Author","Catherine Reef",null,null,null,null,"T","1060L","Grade 6 - 7","Grade 6 - 12","I know why the caged bird sings, wrote Paul Laurence Dunbar in \"Sympathy,\" one of his best-loved poems. Author Catherine Reef paints a rich and memorable portrait of the first African American to earn his living as a writer. Born in 1872 to former slaves, Dunbar touched the nation with poetry that portrayed the sorrows and the joys of African-American life. Dunbar's work spoke directly to the hearts of his readers, and his legacy inspired the generation of African-American poets who followed. This book is developed from PAUL LAURENCE DUNBAR: PORTRAIT OF A POET to allow republication of the original text into ebook, paperback, and trade editions. ","English",29.94,22.46,"811","96 pp.",{"$f":"Table1[[#This Row],[QTY]]*Table1[[#This Row],['# of Books]]","v":0},{"$f":"Table1[[#This Row],[QTY]]*Table1[[#This Row],[School & Library Price]]","v":0}]
[null,null,null,93,"Legendary African Americans","The Life of Paul Laurence Dunbar: Portrait of a Poet",1,"eBook","978-0-7660-6156-9",2015,"August 2014",null,"Author","Catherine Reef",null,null,null,null,"T","1060L","Grade 6 - 7","Grade 6 - 12","I know why the caged bird sings, wrote Paul Laurence Dunbar in \"Sympathy,\" one of his best-loved poems. Author Catherine Reef paints a rich and memorable portrait of the first African American to earn his living as a writer. Born in 1872 to former slaves, Dunbar touched the nation with poetry that portrayed the sorrows and the joys of African-American life. Dunbar's work spoke directly to the hearts of his readers, and his legacy inspired the generation of African-American poets who followed. This book is developed from PAUL LAURENCE DUNBAR: PORTRAIT OF A POET to allow republication of the original text into ebook, paperback, and trade editions. ","English",34.6,25.95,"811","96 pp.",{"$f":"Table1[[#This Row],[QTY]]*Table1[[#This Row],['# of Books]]","v":0},{"$f":"Table1[[#This Row],[QTY]]*Table1[[#This Row],[School & Library Price]]","v":0}]
[null,null,null,93,"Legendary African Americans","The Life of Paul Robeson: Actor, Singer, Political Activist",1,"Library Bound Book","978-0-7660-6157-6",2015,"August 2014","6.000 X 9.000","Author","David K. Wright",null,null,null,null,"S","1090L","Grade 6 - 7","Grade 6 - 12","Paul Robeson, born 1898, was a two-time All-American football player and a law-school graduate in an era that offered few opportunities for African-Americans. He went on to win international acclaim as a singer and actor, breaking through barriers both on stage and in his life. Author David K. Wright tells the story of an exceptional entertainer who devoted his life to the causes of civil rights and equality. Robeson refused to compromise his integrity or to be told what African-Americans could or could not do. Robeson's career as a singer and actor suffered when the U.S. government accused him of being a communist. This book is developed from PAUL ROBESON: ACTOR, SINGER, POLITICAL ACTIVIST to allow republication of the original text into ebook, paperback, and trade editions. ","English",29.94,22.46,"791.092","96 pp.",{"$f":"Table1[[#This Row],[QTY]]*Table1[[#This Row],['# of Books]]","v":0},{"$f":"Table1[[#This Row],[QTY]]*Table1[[#This Row],[School & Library Price]]","v":0}]
[null,null,null,93,"Legendary African Americans","The Life of Paul Robeson: Actor, Singer, Political Activist",1,"eBook","978-0-7660-6161-3",2015,"August 2014",null,"Author","David K. Wright",null,null,null,null,"S","1090L","Grade 6 - 7","Grade 6 - 12","Paul Robeson, born 1898, was a two-time All-American football player and a law-school graduate in an era that offered few opportunities for African-Americans. He went on to win international acclaim as a singer and actor, breaking through barriers both on stage and in his life. Author David K. Wright tells the story of an exceptional entertainer who devoted his life to the causes of civil rights and equality. Robeson refused to compromise his integrity or to be told what African-Americans could or could not do. Robeson's career as a singer and actor suffered when the U.S. government accused him of being a communist. This book is developed from PAUL ROBESON: ACTOR, SINGER, POLITICAL ACTIVIST to allow republication of the original text into ebook, paperback, and trade editions. ","English",34.6,25.95,"791.092","96 pp.",{"$f":"Table1[[#This Row],[QTY]]*Table1[[#This Row],['# of Books]]","v":0},{"$f":"Table1[[#This Row],[QTY]]*Table1[[#This Row],[School & Library Price]]","v":0}]
[null,null,null,93,"Legendary African Americans","The Life of W.E.B. Du Bois: Civil Rights Champion",1,"Library Bound Book","978-0-7660-6280-1",2015,"January 2015","6.000 X 9.000","Author","Mark Rowh",null,null,null,null,null,null,"Grade 6","Grade 6 - 12","Author, activist, scholar—outspoken W.E.B. Du Bois was the leading voice for justice and civil rights in the United States in his time. Born soon after the Civil War, Du Bois believed that educated African Americans must lead their people. He used his talent as a writer to advocate for change as he helped found the National Association for the Advancement of Colored People (NAACP), an organization dedicated to social activism. Du Bois was a controversial figure in his time, but his far-reaching efforts and his written legacy have inspired and influenced the generations that followed. Today he is regarded as a pioneer for civil rights and one of the greatest civil rights leaders in history.","English",29.94,22.46,null,"96 pp.",{"$f":"Table1[[#This Row],[QTY]]*Table1[[#This Row],['# of Books]]","v":0},{"$f":"Table1[[#This Row],[QTY]]*Table1[[#This Row],[School & Library Price]]","v":0}]
[null,null,null,93,"Legendary African Americans","The Life of W.E.B. Du Bois: Civil Rights Champion",1,"eBook","978-0-7660-6284-9",2015,"January 2015",null,"Author","Mark Rowh",null,null,null,null,null,null,"Grade 6","Grade 6 - 12","Author, activist, scholar—outspoken W.E.B. Du Bois was the leading voice for justice and civil rights in the United States in his time. Born soon after the Civil War, Du Bois believed that educated African Americans must lead their people. He used his talent as a writer to advocate for change as he helped found the National Association for the Advancement of Colored People (NAACP), an organization dedicated to social activism. Du Bois was a controversial figure in his time, but his far-reaching efforts and his written legacy have inspired and influenced the generations that followed. Today he is regarded as a pioneer for civil rights and one of the greatest civil rights leaders in history.","English",34.6,25.95,null,"96 pp.",{"$f":"Table1[[#This Row],[QTY]]*Table1[[#This Row],['# of Books]]","v":0},{"$f":"Table1[[#This Row],[QTY]]*Table1[[#This Row],[School & Library Price]]","v":0}]
[null,null,null,93,"Legendary African Americans","The Life of Zora Neale Hurston: Author and Folklorist",1,"Library Bound Book","978-0-7660-6275-7",2015,"January 2015","6.000 X 9.000","Author","Della A. Yannuzzi",null,null,null,null,null,null,"Grade 6","Grade 6 - 12","An examination of the life and work of African-American author and storyteller Zora Neale Hurston, who has been recognized for her substantial contribution to American literature and southern African-American folklore. This book discusses her difficult personal life and nomadic existence, and how these struggles impacted her various written works.","English",29.94,22.46,null,"96 pp.",{"$f":"Table1[[#This Row],[QTY]]*Table1[[#This Row],['# of Books]]","v":0},{"$f":"Table1[[#This Row],[QTY]]*Table1[[#This Row],[School & Library Price]]","v":0}]
[null,null,null,93,"Legendary African Americans","The Life of Zora Neale Hurston: Author and Folklorist",1,"eBook","978-0-7660-6279-5",2015,"January 2015",null,"Author","Della A. Yannuzzi",null,null,null,null,null,null,"Grade 6","Grade 6 - 12","An examination of the life and work of African-American author and storyteller Zora Neale Hurston, who has been recognized for her substantial contribution to American literature and southern African-American folklore. This book discusses her difficult personal life and nomadic existence, and how these struggles impacted her various written works.","English",34.6,25.95,null,"96 pp.",{"$f":"Table1[[#This Row],[QTY]]*Table1[[#This Row],['# of Books]]","v":0},{"$f":"Table1[[#This Row],[QTY]]*Table1[[#This Row],[School & Library Price]]","v":0}]
[null,null,null,94,"Careers in the US Armed Forces","Careers in the US Armed Forces",5,"Library Set","978-0-7660-6694-6",2016,"August 2015","6.000 X 9.000",null,null,null,null,null,null,null,null,"Grade 6 - 7","Grade 6 - 12","Written by members of each branch of the US military, these books provide readers with an unvarnished look at a career in the armed forces. Through interviews and personal anecdotes, readers learn the wide variety of careers available through the military, along with the training, strength, and commitment necessary to pursue these careers. \n\n\n\n-Detailed information helps readers become career ready   \n\n-Up-to-date charts show rank and salary potential within each branch\n\n-Detailed history of each military branch\n\n-Chapter notes provide readers with original research sources\n\n","English",186.35,139.75,null,"128 pp.",{"$f":"Table1[[#This Row],[QTY]]*Table1[[#This Row],['# of Books]]","v":0},{"$f":"Table1[[#This Row],[QTY]]*Table1[[#This Row],[School & Library Price]]","v":0}]
[null,null,null,94,"Careers in the US Armed Forces","Careers in the US Air Force",1,"Library Bound Book","978-0-7660-6941-1",2016,"August 2015","6.000 X 9.000","Author, Author","Wilson Camelo, Earle Rice, Jr.",null,null,null,null,"Z",null,"Grade 6 - 7","Grade 6 - 12","The US Air Force offers many great career opportunities. Not only can you fly planes, but the air force also trains engineers, doctors, nurses, teachers, and operations specialists. Through interviews, anecdotes, and facts, you’ll learn what a career in the United States Air Force is like and how to go about signing up.","English",37.270000000000003,27.95,"358.4023’73—dc23","128 pp.",{"$f":"Table1[[#This Row],[QTY]]*Table1[[#This Row],['# of Books]]","v":0},{"$f":"Table1[[#This Row],[QTY]]*Table1[[#This Row],[School & Library Price]]","v":0}]
[null,null,null,94,"Careers in the US Armed Forces","Careers in the US Army",1,"Library Bound Book","978-0-7660-6943-5",2016,"August 2015","6.000 X 9.000","Author","Earle Rice, Jr.",null,null,null,null,"Z",null,"Grade 6 - 7","Grade 6 - 12","Troops are only one important part of the United States Army. Others include munitions experts, teachers, animal trainers, doctors, administrators, and intelligence experts. Are you interested in travel, learning, and personal growth? Discover the different ways you can be a part of the US Army.","English",37.270000000000003,27.95,"355.0023'73--dc23","128 pp.",{"$f":"Table1[[#This Row],[QTY]]*Table1[[#This Row],['# of Books]]","v":0},{"$f":"Table1[[#This Row],[QTY]]*Table1[[#This Row],[School & Library Price]]","v":0}]
[null,null,null,94,"Careers in the US Armed Forces","Careers in the US Army",1,"eBook","978-0-7660-6944-2",2016,"August 2015",null,"Author","Earle Rice, Jr.",null,null,null,null,"Z",null,"Grade 6 - 7","Grade 6 - 12","Troops are only one important part of the United States Army. Others include munitions experts, teachers, animal trainers, doctors, administrators, and intelligence experts. Are you interested in travel, learning, and personal growth? Discover the different ways you can be a part of the US Army.","English",37.270000000000003,27.95,"355.0023'73--dc23","128 pp.",{"$f":"Table1[[#This Row],[QTY]]*Table1[[#This Row],['# of Books]]","v":0},{"$f":"Table1[[#This Row],[QTY]]*Table1[[#This Row],[School & Library Price]]","v":0}]
[null,null,null,94,"Careers in the US Armed Forces","Careers in the US Coast Guard",1,"Library Bound Book","978-0-7660-6945-9",2016,"August 2015","6.000 X 9.000","Author, Author","Taylor Baldwin Kiland, Judy Silverstein Gray",null,null,null,null,"Z",null,"Grade 6 - 7","Grade 6 - 12","The United States Coast Guard is often the first line of defense against attacks at sea. They are also the first call if there is a hurricane or a flood. A career in the coast guard promises adventure, and working with diverse groups of people as well as equipment, technology, and transportation. Through interviews and history, you’ll discover what it means to have a career in the US Coast Guard.","English",37.270000000000003,27.95,"363.28'602373--dc23","128 pp.",{"$f":"Table1[[#This Row],[QTY]]*Table1[[#This Row],['# of Books]]","v":0},{"$f":"Table1[[#This Row],[QTY]]*Table1[[#This Row],[School & Library Price]]","v":0}]
[null,null,null,94,"Careers in the US Armed Forces","Careers in the US Coast Guard",1,"eBook","978-0-7660-6946-6",2016,"August 2015",null,"Author, Author","Taylor Baldwin Kiland, Judy Silverstein Gray",null,null,null,null,"Z",null,"Grade 6 - 7","Grade 6 - 12","The United States Coast Guard is often the first line of defense against attacks at sea. They are also the first call if there is a hurricane or a flood. A career in the coast guard promises adventure, and working with diverse groups of people as well as equipment, technology, and transportation. Through interviews and history, you’ll discover what it means to have a career in the US Coast Guard.","English",37.270000000000003,27.95,"363.28'602373--dc23","128 pp.",{"$f":"Table1[[#This Row],[QTY]]*Table1[[#This Row],['# of Books]]","v":0},{"$f":"Table1[[#This Row],[QTY]]*Table1[[#This Row],[School & Library Price]]","v":0}]
[null,null,null,94,"Careers in the US Armed Forces","Careers in the US Marine Corps",1,"Library Bound Book","978-0-7660-6947-3",2016,"August 2015","6.000 X 9.000","Author, Author","Taylor Baldwin Kiland, R. Conrad Stein",null,null,null,null,"Z",null,"Grade 6 - 7","Grade 6 - 12","Marines are known for being the first to fight in a battle. They are highly trained and are prepared at all times. In addition to being soldiers, marines are also code-breakers, engineers, transporters, charity workers, and musicians. Dive into this book to discover what it means to be a US Marine.","English",37.270000000000003,27.95,"359.9'602373--dc23","128 pp.",{"$f":"Table1[[#This Row],[QTY]]*Table1[[#This Row],['# of Books]]","v":0},{"$f":"Table1[[#This Row],[QTY]]*Table1[[#This Row],[School & Library Price]]","v":0}]
[null,null,null,94,"Careers in the US Armed Forces","Careers in the US Marine Corps",1,"eBook","978-0-7660-6948-0",2016,"August 2015",null,"Author, Author","Taylor Baldwin Kiland, R. Conrad Stein",null,null,null,null,"Z",null,"Grade 6 - 7","Grade 6 - 12","Marines are known for being the first to fight in a battle. They are highly trained and are prepared at all times. In addition to being soldiers, marines are also code-breakers, engineers, transporters, charity workers, and musicians. Dive into this book to discover what it means to be a US Marine.","English",37.270000000000003,27.95,"359.9'602373--dc23","128 pp.",{"$f":"Table1[[#This Row],[QTY]]*Table1[[#This Row],['# of Books]]","v":0},{"$f":"Table1[[#This Row],[QTY]]*Table1[[#This Row],[School & Library Price]]","v":0}]
[null,null,null,94,"Careers in the US Armed Forces","Careers in the US Navy",1,"Library Bound Book","978-0-7660-6949-7",2016,"August 2015","6.000 X 9.000","Author","Taylor Baldwin Kiland",null,null,null,null,"Z",null,"Grade 6 - 7","Grade 6 - 12","Navy men and women are specialists, tech analysts, engineers, humanitarians, and relief workers, as well as boatswains and captains. Through reading personal accounts and interviews, discover what it means to be a part of the proud tradition of the US Navy.","English",37.270000000000003,27.95,"359.0023'73--dc23","128 pp.",{"$f":"Table1[[#This Row],[QTY]]*Table1[[#This Row],['# of Books]]","v":0},{"$f":"Table1[[#This Row],[QTY]]*Table1[[#This Row],[School & Library Price]]","v":0}]
[null,null,null,94,"Careers in the US Armed Forces","Careers in the US Navy",1,"eBook","978-0-7660-6950-3",2016,"August 2015",null,"Author","Taylor Baldwin Kiland",null,null,null,null,"Z",null,"Grade 6 - 7","Grade 6 - 12","Navy men and women are specialists, tech analysts, engineers, humanitarians, and relief workers, as well as boatswains and captains. Through reading personal accounts and interviews, discover what it means to be a part of the proud tradition of the US Navy.","English",37.270000000000003,27.95,"359.0023'73--dc23","128 pp.",{"$f":"Table1[[#This Row],[QTY]]*Table1[[#This Row],['# of Books]]","v":0},{"$f":"Table1[[#This Row],[QTY]]*Table1[[#This Row],[School & Library Price]]","v":0}]
[null,null,null,94,"Extreme Science Careers","Extreme Science Careers",6,"Library Set","978-0-7660-6696-0",2016,"August 2015","6.000 X 9.000",null,null,null,null,null,null,null,null,"Grade 7","Grade 7 - 12","Readers get an up-close look at the exciting and sometimes dangerous careers of these in-the-field scientists. Scientists from diverse disciplines, such as geology, pathology, and environmental science, share their backgrounds, training, triumphs, and scary moments through lively anecdotes and personal histories in these innovative books. Readers experience STEM in action! \n\n\n\n-Expands the range of science careers to include those doing fieldwork\n\n-Includes cutting-edge research going on today in Earthﾒs most extreme environments \n\n-Rich with details about scientistsﾒ research, as well as obstacles posed by the environments in which they work\n\n","English",223.62,167.7,null,"128 pp.",{"$f":"Table1[[#This Row],[QTY]]*Table1[[#This Row],['# of Books]]","v":0},{"$f":"Table1[[#This Row],[QTY]]*Table1[[#This Row],[School & Library Price]]","v":0}]
[null,null,null,94,"Extreme Science Careers","Forensic Science Specialists: Making Sense of Crime Scene Evidence",1,"Library Bound Book","978-0-7660-6962-6",2016,"August 2015","6.000 X 9.000","Author, Author","Judith Williams, Don Rauf",null,null,null,null,"Z",null,"Grade 7","Grade 7 - 12","Do you love solving riddles and mysteries? Does the unknown fascinate you? Would you enjoy gathering evidence and analyzing data? If so, perhaps a career in forensic science is for you! This book explores what a forensic scientist does through interviews, real-life examples, and actual case studies.","English",37.270000000000003,27.95,"363.25’023--d23","128 pp.",{"$f":"Table1[[#This Row],[QTY]]*Table1[[#This Row],['# of Books]]","v":0},{"$f":"Table1[[#This Row],[QTY]]*Table1[[#This Row],[School & Library Price]]","v":0}]
[null,null,null,94,"Extreme Science Careers","Forensic Science Specialists: Making Sense of Crime Scene Evidence",1,"eBook","978-0-7660-6963-3",2016,"August 2015",null,"Author, Author","Judith Williams, Don Rauf",null,null,null,null,"Z",null,"Grade 7","Grade 7 - 12","Do you love solving riddles and mysteries? Does the unknown fascinate you? Would you enjoy gathering evidence and analyzing data? If so, perhaps a career in forensic science is for you! This book explores what a forensic scientist does through interviews, real-life examples, and actual case studies.","English",37.270000000000003,27.95,"363.25’023--d23","128 pp.",{"$f":"Table1[[#This Row],[QTY]]*Table1[[#This Row],['# of Books]]","v":0},{"$f":"Table1[[#This Row],[QTY]]*Table1[[#This Row],[School & Library Price]]","v":0}]
[null,null,null,94,"Extreme Science Careers","Infectious Disease Specialists: Hunting Down Disease",1,"Library Bound Book","978-0-7660-6970-1",2016,"August 2015","6.000 X 9.000","Author","Edward Willett",null,null,null,null,"Z",null,"Grade 7","Grade 7 - 12","Are you fascinated by sickness and how it spreads? Do you have the urge to help people suffering from diseases both known and unknown? Do you ever wonder how vaccines and cures are developed? If so, a career as an infectious disease specialist might be for you! Through interviews and actual case studies, you'll learn what it's like to be an infectious disease specialist and discover the role they play in modern medicine.","English",37.270000000000003,27.95,"614.4--d23","128 pp.",{"$f":"Table1[[#This Row],[QTY]]*Table1[[#This Row],['# of Books]]","v":0},{"$f":"Table1[[#This Row],[QTY]]*Table1[[#This Row],[School & Library Price]]","v":0}]
[null,null,null,94,"Extreme Science Careers","Infectious Disease Specialists: Hunting Down Disease",1,"eBook","978-0-7660-6971-8",2016,"August 2015",null,"Author","Edward Willett",null,null,null,null,"Z",null,"Grade 7","Grade 7 - 12","Are you fascinated by sickness and how it spreads? Do you have the urge to help people suffering from diseases both known and unknown? Do you ever wonder how vaccines and cures are developed? If so, a career as an infectious disease specialist might be for you! Through interviews and actual case studies, you'll learn what it's like to be an infectious disease specialist and discover the role they play in modern medicine.","English",37.270000000000003,27.95,"614.4--d23","128 pp.",{"$f":"Table1[[#This Row],[QTY]]*Table1[[#This Row],['# of Books]]","v":0},{"$f":"Table1[[#This Row],[QTY]]*Table1[[#This Row],[School & Library Price]]","v":0}]
[null,null,null,94,"Extreme Science Careers","Paleontologists: Searching for Dinosaur Bones",1,"Library Bound Book","978-0-7660-6964-0",2016,"August 2015","6.000 X 9.000","Author","Thom Holmes",null,null,null,null,"Z",null,"Grade 7","Grade 7 - 12","Are you interested in dinosaurs and how they lived? Do you want to travel the world, digging through the earth's history? Then perhaps a career in paleontology is for you! Through first-hand accounts, interviews, and case studies, you'll learn what it takes to be a paleontologist.","English",37.270000000000003,27.95,"560.23--dc22","128 pp.",{"$f":"Table1[[#This Row],[QTY]]*Table1[[#This Row],['# of Books]]","v":0},{"$f":"Table1[[#This Row],[QTY]]*Table1[[#This Row],[School & Library Price]]","v":0}]
[null,null,null,94,"Extreme Science Careers","Paleontologists: Searching for Dinosaur Bones",1,"eBook","978-0-7660-6965-7",2016,"August 2015",null,"Author","Thom Holmes",null,null,null,null,"Z",null,"Grade 7","Grade 7 - 12","Are you interested in dinosaurs and how they lived? Do you want to travel the world, digging through the earth's history? Then perhaps a career in paleontology is for you! Through first-hand accounts, interviews, and case studies, you'll learn what it takes to be a paleontologist.","English",37.270000000000003,27.95,"560.23--dc22","128 pp.",{"$f":"Table1[[#This Row],[QTY]]*Table1[[#This Row],['# of Books]]","v":0},{"$f":"Table1[[#This Row],[QTY]]*Table1[[#This Row],[School & Library Price]]","v":0}]
[null,null,null,94,"Extreme Science Careers","Polar Scientists: Studying the Antarctic",1,"Library Bound Book","978-0-7660-6966-4",2016,"August 2015","6.000 X 9.000","Author","Sara L. Latta",null,null,null,null,"Z",null,"Grade 7","Grade 7 - 12","Do you like the cold? Do you like solving mysteries and discovering answers? Are you interested in Earth's history? Then a career as an polar scientist might be for you! Through case studies and interviews, you'll discover what it means to be a polar scientist, studying the ice for answers to some of history's biggest questions.","English",37.270000000000003,27.95,"559.89023--dc23","128 pp.",{"$f":"Table1[[#This Row],[QTY]]*Table1[[#This Row],['# of Books]]","v":0},{"$f":"Table1[[#This Row],[QTY]]*Table1[[#This Row],[School & Library Price]]","v":0}]
[null,null,null,94,"Extreme Science Careers","Polar Scientists: Studying the Antarctic",1,"eBook","978-0-7660-6967-1",2016,"August 2015",null,"Author","Sara L. Latta",null,null,null,null,"Z",null,"Grade 7","Grade 7 - 12","Do you like the cold? Do you like solving mysteries and discovering answers? Are you interested in Earth's history? Then a career as an polar scientist might be for you! Through case studies and interviews, you'll discover what it means to be a polar scientist, studying the ice for answers to some of history's biggest questions.","English",37.270000000000003,27.95,"559.89023--dc23","128 pp.",{"$f":"Table1[[#This Row],[QTY]]*Table1[[#This Row],['# of Books]]","v":0},{"$f":"Table1[[#This Row],[QTY]]*Table1[[#This Row],[School & Library Price]]","v":0}]
[null,null,null,94,"Extreme Science Careers","Severe-Storm Scientists: Chasing Tornadoes and Hurricanes",1,"Library Bound Book","978-0-7660-6968-8",2016,"August 2015","6.000 X 9.000","Author, Author","Jennifer Way, Timothy R. Gaffney",null,null,null,null,"Z",null,"Grade 7","Grade 7 - 12","Are you fascinated by wind, tornadoes, and hurricanes? Do you wish you could chase them? Then maybe a career in weather science is for you! Through interviews and stories of exciting—and terrifying—encounters with actual storms, you'll learn what these storm chasers do, how they study the weather, and what they can learn from it.","English",37.270000000000003,27.95,"551.55--dc23","128 pp.",{"$f":"Table1[[#This Row],[QTY]]*Table1[[#This Row],['# of Books]]","v":0},{"$f":"Table1[[#This Row],[QTY]]*Table1[[#This Row],[School & Library Price]]","v":0}]
[null,null,null,94,"Extreme Science Careers","Severe-Storm Scientists: Chasing Tornadoes and Hurricanes",1,"eBook","978-0-7660-6969-5",2016,"August 2015",null,"Author, Author","Jennifer Way, Timothy R. Gaffney",null,null,null,null,"Z",null,"Grade 7","Grade 7 - 12","Are you fascinated by wind, tornadoes, and hurricanes? Do you wish you could chase them? Then maybe a career in weather science is for you! Through interviews and stories of exciting—and terrifying—encounters with actual storms, you'll learn what these storm chasers do, how they study the weather, and what they can learn from it.","English",37.270000000000003,27.95,"551.55--dc23","128 pp.",{"$f":"Table1[[#This Row],[QTY]]*Table1[[#This Row],['# of Books]]","v":0},{"$f":"Table1[[#This Row],[QTY]]*Table1[[#This Row],[School & Library Price]]","v":0}]
[null,null,null,94,"Extreme Science Careers","Volcanologists: Examining Active Volcanoes",1,"Library Bound Book","978-0-7660-6972-5",2016,"August 2015","6.000 X 9.000","Author","Sara L. Latta",null,null,null,null,"Z",null,"Grade 7","Grade 7 - 12","If a trip to an active volcano is your idea of a dream adventure, then perhaps a career in volcanology is for you! Through case studies, photographs, interviews, and facts, you'll discover what it means to be a volcanologist, why we need them, and how you can become one too.","English",37.270000000000003,27.95,"551.21092--d23","128 pp.",{"$f":"Table1[[#This Row],[QTY]]*Table1[[#This Row],['# of Books]]","v":0},{"$f":"Table1[[#This Row],[QTY]]*Table1[[#This Row],[School & Library Price]]","v":0}]
[null,null,null,94,"Extreme Science Careers","Volcanologists: Examining Active Volcanoes",1,"eBook","978-0-7660-6973-2",2016,"August 2015",null,"Author","Sara L. Latta",null,null,null,null,"Z",null,"Grade 7","Grade 7 - 12","If a trip to an active volcano is your idea of a dream adventure, then perhaps a career in volcanology is for you! Through case studies, photographs, interviews, and facts, you'll discover what it means to be a volcanologist, why we need them, and how you can become one too.","English",37.270000000000003,27.95,"551.21092--d23","128 pp.",{"$f":"Table1[[#This Row],[QTY]]*Table1[[#This Row],['# of Books]]","v":0},{"$f":"Table1[[#This Row],[QTY]]*Table1[[#This Row],[School & Library Price]]","v":0}]
[null,null,null,95,"Creative Writing in 5 Simple Steps","Creative Writing in 5 Simple Steps",6,"Library Set","978-0-7660-8060-7",2013,"January 2013",null,null,null,null,null,null,null,null,null,null,null,null,"",151.62,113.7,null,null,{"$f":"Table1[[#This Row],[QTY]]*Table1[[#This Row],['# of Books]]","v":0},{"$f":"Table1[[#This Row],[QTY]]*Table1[[#This Row],[School & Library Price]]","v":0}]
[null,null,null,95,"Creative Writing in 5 Simple Steps","Write a Graphic Novel in 5 Simple Steps",1,"Library Bound Book","978-0-7660-3888-2",2013,"January 2013","7.500 X 9.000","Author","Jeffrey Edward Peters",7.1,null,null,null,"O","1010L","Grade 5 - 6","Grade 5 - 12","Comic books, also called \"sequential art\" or \"graphic storytelling,\" are currently a billion-dollar industry. Books of sequential art, popularly known as graphic novels, fill bookstores and libraries all over the world. Author Jeffrey Edward Peters shows young, aspiring writers how to create new universes of their own through the unique combination of words and pictures that make a graphic novel.","English",25.27,18.95,"741.5","48 pp.",{"$f":"Table1[[#This Row],[QTY]]*Table1[[#This Row],['# of Books]]","v":0},{"$f":"Table1[[#This Row],[QTY]]*Table1[[#This Row],[School & Library Price]]","v":0}]
[null,null,null,95,"Creative Writing in 5 Simple Steps","Write a Graphic Novel in 5 Simple Steps",1,"eBook","978-0-7660-4390-9",2013,"January 2013",null,"Author","Jeffrey Edward Peters",7.1,null,null,null,"O","1010L","Grade 5 - 6","Grade 5 - 12","Comic books, also called \"sequential art\" or \"graphic storytelling,\" are currently a billion-dollar industry. Books of sequential art, popularly known as graphic novels, fill bookstores and libraries all over the world. Author Jeffrey Edward Peters shows young, aspiring writers how to create new universes of their own through the unique combination of words and pictures that make a graphic novel.","English",25.27,18.95,"741.5","48 pp.",{"$f":"Table1[[#This Row],[QTY]]*Table1[[#This Row],['# of Books]]","v":0},{"$f":"Table1[[#This Row],[QTY]]*Table1[[#This Row],[School & Library Price]]","v":0}]
[null,null,null,95,"Creative Writing in 5 Simple Steps","Write a Mystery in 5 Simple Steps",1,"Library Bound Book","978-0-7660-3835-6",2013,"January 2013","7.500 X 9.000","Author","Amy Dunkleberger",7.2,null,null,null,"P","1030L","Grade 5 - 6","Grade 5 - 12","Books, movies, TV shows, video games, mysteries can be found everywhere, for every type of audience. Part story, part puzzle, mysteries are naturally fun and exciting, both to read and to write. But how do you begin to write a mystery story? Author Amy Dunkleberger shows aspiring writers how to invent a believable mystery.","English",25.27,18.95,"808.3","48 pp.",{"$f":"Table1[[#This Row],[QTY]]*Table1[[#This Row],['# of Books]]","v":0},{"$f":"Table1[[#This Row],[QTY]]*Table1[[#This Row],[School & Library Price]]","v":0}]
[null,null,null,95,"Creative Writing in 5 Simple Steps","Write a Mystery in 5 Simple Steps",1,"eBook","978-0-7660-4386-2",2013,"January 2013",null,"Author","Amy Dunkleberger",7.2,null,null,null,"P","1030L","Grade 5 - 6","Grade 5 - 12","Books, movies, TV shows, video games, mysteries can be found everywhere, for every type of audience. Part story, part puzzle, mysteries are naturally fun and exciting, both to read and to write. But how do you begin to write a mystery story? Author Amy Dunkleberger shows aspiring writers how to invent a believable mystery.","English",25.27,18.95,"808.3","48 pp.",{"$f":"Table1[[#This Row],[QTY]]*Table1[[#This Row],['# of Books]]","v":0},{"$f":"Table1[[#This Row],[QTY]]*Table1[[#This Row],[School & Library Price]]","v":0}]
[null,null,null,95,"Creative Writing in 5 Simple Steps","Write a Romance in 5 Simple Steps",1,"Library Bound Book","978-0-7660-3837-0",2013,"January 2013","7.500 X 9.000","Author","Suzanne Lieurance",7.7,null,null,null,"P","1140L","Grade 5 - 6","Grade 5 - 12","Romance writing is a billion-dollar-a-year industry. Authors are busy creating new titles every single day because hungry readers have been known to gobble up as many as forty new romance novels every month. Author Suzanne Lieurance shows aspiring writers how to write a sweeping tale of epic romance.","English",25.27,18.95,"808.3","48 pp.",{"$f":"Table1[[#This Row],[QTY]]*Table1[[#This Row],['# of Books]]","v":0},{"$f":"Table1[[#This Row],[QTY]]*Table1[[#This Row],[School & Library Price]]","v":0}]
[null,null,null,95,"Creative Writing in 5 Simple Steps","Write a Romance in 5 Simple Steps",1,"eBook","978-0-7660-4389-3",2013,"January 2013",null,"Author","Suzanne Lieurance",7.7,null,null,null,"P","1140L","Grade 5 - 6","Grade 5 - 12","Romance writing is a billion-dollar-a-year industry. Authors are busy creating new titles every single day because hungry readers have been known to gobble up as many as forty new romance novels every month. Author Suzanne Lieurance shows aspiring writers how to write a sweeping tale of epic romance.","English",25.27,18.95,"808.3","48 pp.",{"$f":"Table1[[#This Row],[QTY]]*Table1[[#This Row],['# of Books]]","v":0},{"$f":"Table1[[#This Row],[QTY]]*Table1[[#This Row],[School & Library Price]]","v":0}]
[null,null,null,95,"Creative Writing in 5 Simple Steps","Write Fantasy Fiction in 5 Simple Steps",1,"Library Bound Book","978-0-7660-3834-9",2013,"January 2013","7.500 X 9.000","Author","Laura Lee McKay",7.4,1,null,null,"O","1070L","Grade 5 - 6","Grade 5 - 12","Fantasy is a fun genre to read and write because you can create new worlds, people who have magical powers, and animals with remarkable qualities. If your students enjoy stories about wizards and witches, traveling through time, talking animals, fairies, and trolls, then fantasy is the perfect way for them to express themselves. Author Laura Lee McKay shows aspiring writers how to craft an exciting fantasy.","English",25.27,18.95,"808","48 pp.",{"$f":"Table1[[#This Row],[QTY]]*Table1[[#This Row],['# of Books]]","v":0},{"$f":"Table1[[#This Row],[QTY]]*Table1[[#This Row],[School & Library Price]]","v":0}]
[null,null,null,95,"Creative Writing in 5 Simple Steps","Write Fantasy Fiction in 5 Simple Steps",1,"eBook","978-0-7660-4387-9",2013,"January 2013",null,"Author","Laura Lee McKay",7.4,1,null,null,"O","1070L","Grade 5 - 6","Grade 5 - 12","Fantasy is a fun genre to read and write because you can create new worlds, people who have magical powers, and animals with remarkable qualities. If your students enjoy stories about wizards and witches, traveling through time, talking animals, fairies, and trolls, then fantasy is the perfect way for them to express themselves. Author Laura Lee McKay shows aspiring writers how to craft an exciting fantasy.","English",25.27,18.95,"808","48 pp.",{"$f":"Table1[[#This Row],[QTY]]*Table1[[#This Row],['# of Books]]","v":0},{"$f":"Table1[[#This Row],[QTY]]*Table1[[#This Row],[School & Library Price]]","v":0}]
[null,null,null,95,"Creative Writing in 5 Simple Steps","Write Horror Fiction in 5 Simple Steps",1,"Library Bound Book","978-0-7660-3836-3",2013,"January 2013","7.500 X 9.000","Author","Laura Baskes Litwin",6.6,null,null,null,"P","960L","Grade 5 - 6","Grade 5 - 12","A horror story succeeds if it strikes terror in the reader. A good horror story is like a good ride at an amusement park. Feeling scared without having to face real danger is exhilarating. The story builds with tantalizing ideas. The reader inches out on the coaster track, knowing the precarious drop is seconds away. Author Laura Baskes Litwin shows aspiring writers how to write a terrifying tale of horror.","English",25.27,18.95,"808.3","48 pp.",{"$f":"Table1[[#This Row],[QTY]]*Table1[[#This Row],['# of Books]]","v":0},{"$f":"Table1[[#This Row],[QTY]]*Table1[[#This Row],[School & Library Price]]","v":0}]
[null,null,null,95,"Creative Writing in 5 Simple Steps","Write Horror Fiction in 5 Simple Steps",1,"eBook","978-0-7660-4388-6",2013,"January 2013",null,"Author","Laura Baskes Litwin",6.6,null,null,null,"P","960L","Grade 5 - 6","Grade 5 - 12","A horror story succeeds if it strikes terror in the reader. A good horror story is like a good ride at an amusement park. Feeling scared without having to face real danger is exhilarating. The story builds with tantalizing ideas. The reader inches out on the coaster track, knowing the precarious drop is seconds away. Author Laura Baskes Litwin shows aspiring writers how to write a terrifying tale of horror.","English",25.27,18.95,"808.3","48 pp.",{"$f":"Table1[[#This Row],[QTY]]*Table1[[#This Row],['# of Books]]","v":0},{"$f":"Table1[[#This Row],[QTY]]*Table1[[#This Row],[School & Library Price]]","v":0}]
[null,null,null,95,"Creative Writing in 5 Simple Steps","Write Science Fiction in 5 Simple Steps",1,"Library Bound Book","978-0-7660-3844-8",2013,"January 2013","7.500 X 9.000","Author","Michael A. Schuman",6.8,null,null,null,"P","960L","Grade 5 - 6","Grade 5 - 12","Science-fiction stories are among the most popular works of fiction today. Sci-fi can be about robots, clones, computer technology, cyborgs, life under the ocean or on other worlds, or even an alternative version of our Earth. Author Michael A. Schuman shows aspiring writers how to write a gripping tale of science fiction.","English",25.27,18.95,"808.3","48 pp.",{"$f":"Table1[[#This Row],[QTY]]*Table1[[#This Row],['# of Books]]","v":0},{"$f":"Table1[[#This Row],[QTY]]*Table1[[#This Row],[School & Library Price]]","v":0}]
[null,null,null,95,"Creative Writing in 5 Simple Steps","Write Science Fiction in 5 Simple Steps",1,"eBook","978-0-7660-4391-6",2013,"January 2013",null,"Author","Michael A. Schuman",6.8,null,null,null,"P","960L","Grade 5 - 6","Grade 5 - 12","Science-fiction stories are among the most popular works of fiction today. Sci-fi can be about robots, clones, computer technology, cyborgs, life under the ocean or on other worlds, or even an alternative version of our Earth. Author Michael A. Schuman shows aspiring writers how to write a gripping tale of science fiction.","English",25.27,18.95,"808.3","48 pp.",{"$f":"Table1[[#This Row],[QTY]]*Table1[[#This Row],['# of Books]]","v":0},{"$f":"Table1[[#This Row],[QTY]]*Table1[[#This Row],[School & Library Price]]","v":0}]
[null,null,null,95,"Pure Poetry","Pure Poetry",4,"Library Set","978-0-7660-8061-4",2013,"January 2014","6.000 X 9.000",null,null,null,null,null,null,null,null,"Grade 9 - 12","Grade 9 - 12",null,"English",133.08000000000001,99.8,null,"128 pp.",{"$f":"Table1[[#This Row],[QTY]]*Table1[[#This Row],['# of Books]]","v":0},{"$f":"Table1[[#This Row],[QTY]]*Table1[[#This Row],[School & Library Price]]","v":0}]
[null,null,null,95,"Pure Poetry","Beauty Poetry: “She Walks in Beauty”",1,"Library Bound Book","978-0-7660-4243-8",2014,"January 2014","6.000 X 9.000","Author","Sheila Griffin Llanas",6.9,null,null,null,"X","920L","Grade 9 - 10","Grade 9 - 12","What is beauty? Can it only be viewed in physical form, or can it be something deeper, an idea or feeling? Perhaps there is no better way to explore these questions of beauty than through poetry. Author Sheila Griffin Llanas discusses eight poems and poets, with chapters on William Shakespeare, Phillis Wheatley, Edgar Allan Poe, and five others. Accompanied by biographical information on the poet and end-of-chapter questions for further study, Llanas closely examines each poem, including detailed analysis of form, content, poetic technique, and theme, encouraging readers to develop the tools to understand and appreciate poetry.","English",33.270000000000003,24.95,"809.1","128 pp.",{"$f":"Table1[[#This Row],[QTY]]*Table1[[#This Row],['# of Books]]","v":0},{"$f":"Table1[[#This Row],[QTY]]*Table1[[#This Row],[School & Library Price]]","v":0}]
[null,null,null,95,"Pure Poetry","Beauty Poetry: “She Walks in Beauty”",1,"eBook","978-0-7660-5866-8",2014,"January 2014",null,"Author","Sheila Griffin Llanas",6.9,null,null,null,"X","920L","Grade 9 - 10","Grade 9 - 12","What is beauty? Can it only be viewed in physical form, or can it be something deeper, an idea or feeling? Perhaps there is no better way to explore these questions of beauty than through poetry. Author Sheila Griffin Llanas discusses eight poems and poets, with chapters on William Shakespeare, Phillis Wheatley, Edgar Allan Poe, and five others. Accompanied by biographical information on the poet and end-of-chapter questions for further study, Llanas closely examines each poem, including detailed analysis of form, content, poetic technique, and theme, encouraging readers to develop the tools to understand and appreciate poetry.","English",33.270000000000003,24.95,"809.1","128 pp.",{"$f":"Table1[[#This Row],[QTY]]*Table1[[#This Row],['# of Books]]","v":0},{"$f":"Table1[[#This Row],[QTY]]*Table1[[#This Row],[School & Library Price]]","v":0}]
[null,null,null,95,"Pure Poetry","Death Poetry: “Death, Be Not Proud”",1,"Library Bound Book","978-0-7660-4257-5",2014,"January 2014","6.000 X 9.000","Author","Stephanie Buckwalter",7.7,null,null,null,"X","1060L","Grade 9 - 10","Grade 9 - 12","Is death the end, or a new beginning? Should it be feared, or embraced? Or is it simply a ceasing to exist? What better way to examine this great unknown than through poetry. Author Stephanie Buckwalter explores eight poems and poets, with chapters on John Donne, Emily Brontë, Walt Whitman, and five others. Accompanied by biographical information on the poet and end-of-chapter questions for further study, Buckwalter unravels each poem, including detailed analysis of form, content, poetic technique, and theme, encouraging readers to develop the tools to understand and appreciate poetry.","English",33.270000000000003,24.95,"809.1","128 pp.",{"$f":"Table1[[#This Row],[QTY]]*Table1[[#This Row],['# of Books]]","v":0},{"$f":"Table1[[#This Row],[QTY]]*Table1[[#This Row],[School & Library Price]]","v":0}]
[null,null,null,95,"Pure Poetry","Death Poetry: “Death, Be Not Proud”",1,"eBook","978-0-7660-5880-4",2014,"January 2014",null,"Author","Stephanie Buckwalter",7.7,null,null,null,"X","1060L","Grade 9 - 10","Grade 9 - 12","Is death the end, or a new beginning? Should it be feared, or embraced? Or is it simply a ceasing to exist? What better way to examine this great unknown than through poetry. Author Stephanie Buckwalter explores eight poems and poets, with chapters on John Donne, Emily Brontë, Walt Whitman, and five others. Accompanied by biographical information on the poet and end-of-chapter questions for further study, Buckwalter unravels each poem, including detailed analysis of form, content, poetic technique, and theme, encouraging readers to develop the tools to understand and appreciate poetry.","English",33.270000000000003,24.95,"809.1","128 pp.",{"$f":"Table1[[#This Row],[QTY]]*Table1[[#This Row],['# of Books]]","v":0},{"$f":"Table1[[#This Row],[QTY]]*Table1[[#This Row],[School & Library Price]]","v":0}]
[null,null,null,95,"Pure Poetry","Love Poetry: “How Do I Love Thee?”",1,"Library Bound Book","978-0-7660-4284-1",2014,"January 2014","6.000 X 9.000","Author","Paula Johanson",8.3000000000000007,null,null,null,"X","1240L","Grade 9 - 10","Grade 9 - 12","Humans express love in countless ways, through physical actions, emotional reactions, or heartfelt words. Capturing the perfect words to show a person’s love can be challenging, yet poets have done it for hundreds of years. What is love to a poet? Author Paula Johanson discusses eight poems and poets, with chapters on William Shakespeare, Elizabeth Barrett Browning, Emily Dickinson, and five others. Accompanied by biographical information on the poet and end-of-chapter questions for further study, Johanson closely examines each poem, including detailed analysis of form, content, poetic technique, and theme, encouraging readers to develop the tools to understand and appreciate poetry.","English",33.270000000000003,24.95,"809.1","128 pp.",{"$f":"Table1[[#This Row],[QTY]]*Table1[[#This Row],['# of Books]]","v":0},{"$f":"Table1[[#This Row],[QTY]]*Table1[[#This Row],[School & Library Price]]","v":0}]
[null,null,null,95,"Pure Poetry","Love Poetry: “How Do I Love Thee?”",1,"eBook","978-0-7660-5896-5",2014,"January 2014",null,"Author","Paula Johanson",8.3000000000000007,null,null,null,"X","1240L","Grade 9 - 10","Grade 9 - 12","Humans express love in countless ways, through physical actions, emotional reactions, or heartfelt words. Capturing the perfect words to show a person’s love can be challenging, yet poets have done it for hundreds of years. What is love to a poet? Author Paula Johanson discusses eight poems and poets, with chapters on William Shakespeare, Elizabeth Barrett Browning, Emily Dickinson, and five others. Accompanied by biographical information on the poet and end-of-chapter questions for further study, Johanson closely examines each poem, including detailed analysis of form, content, poetic technique, and theme, encouraging readers to develop the tools to understand and appreciate poetry.","English",33.270000000000003,24.95,"809.1","128 pp.",{"$f":"Table1[[#This Row],[QTY]]*Table1[[#This Row],['# of Books]]","v":0},{"$f":"Table1[[#This Row],[QTY]]*Table1[[#This Row],[School & Library Price]]","v":0}]
[null,null,null,95,"Pure Poetry","Nature Poetry: “Make Me a Picture of the Sun”",1,"Library Bound Book","978-0-7660-4244-5",2014,"January 2014","6.000 X 9.000","Author","Sheila Griffin Llanas",6.4,null,null,null,"X","860L","Grade 9 - 10","Grade 9 - 12","Nature poetry discovers the deep connection between humanity and nature. Beyond describing the wild beauty found in nature, the poetry discusses nature’s impact on humans and people’s impact on nature. Author Sheila Griffin Llanas explores eight poems and poets, with chapters on William Wordsworth, Emily Dickinson, Walt Whitman, and five others. Accompanied by biographical information on the poet and end-of-chapter questions for further study, Llanas closely examines each poem, including detailed analysis of form, content, poetic technique, and theme, encouraging readers to develop the tools to understand and appreciate poetry. ","English",33.270000000000003,24.95,"808.81","128 pp.",{"$f":"Table1[[#This Row],[QTY]]*Table1[[#This Row],['# of Books]]","v":0},{"$f":"Table1[[#This Row],[QTY]]*Table1[[#This Row],[School & Library Price]]","v":0}]
[null,null,null,95,"Pure Poetry","Nature Poetry: “Make Me a Picture of the Sun”",1,"eBook","978-0-7660-5867-5",2014,"January 2014",null,"Author","Sheila Griffin Llanas",6.4,null,null,null,"X","860L","Grade 9 - 10","Grade 9 - 12","Nature poetry discovers the deep connection between humanity and nature. Beyond describing the wild beauty found in nature, the poetry discusses nature’s impact on humans and people’s impact on nature. Author Sheila Griffin Llanas explores eight poems and poets, with chapters on William Wordsworth, Emily Dickinson, Walt Whitman, and five others. Accompanied by biographical information on the poet and end-of-chapter questions for further study, Llanas closely examines each poem, including detailed analysis of form, content, poetic technique, and theme, encouraging readers to develop the tools to understand and appreciate poetry. ","English",33.270000000000003,24.95,"808.81","128 pp.",{"$f":"Table1[[#This Row],[QTY]]*Table1[[#This Row],['# of Books]]","v":0},{"$f":"Table1[[#This Row],[QTY]]*Table1[[#This Row],[School & Library Price]]","v":0}]
[null,null,null,96,"Body System Disease Investigations","The Case of the Infected Tick: Annie Biotica Solves Circulatory System Disease Crimes",1,"Library Bound Book","978-0-7660-3948-3",2013,"January 2013","7.500 X 9.000",null,null,5.8,1,null,null,"R","790L","Grade 5 - 6","Grade 5 - 12","What do you get when you combine evil microbes trying to harm the circulatory system and a super detective skilled at Body System Disease Investigations? You get crime-solving super sleuth Annie Biotica! Join Annie's team: Read cases about Lyme disease and malaria. Check out a line-up of the disease suspects, such as Epstein-Barr virus. Test the body system for infection and help Annie Biotica and her science team crack the case! These engaging and easy-to-read books use the scientific method to decipher symptoms, review lab results, and diagnose and treat diseases. Some cases must be solved by you! ","English",25.27,18.95,"571.9","48 pp.",{"$f":"Table1[[#This Row],[QTY]]*Table1[[#This Row],['# of Books]]","v":0},{"$f":"Table1[[#This Row],[QTY]]*Table1[[#This Row],[School & Library Price]]","v":0}]
[null,null,null,96,"Body System Disease Investigations","The Case of the Infected Tick: Annie Biotica Solves Circulatory System Disease Crimes",1,"eBook","978-0-7660-5768-5",2013,"January 2013",null,"Author","Michelle Faulk, Ph.D.",5.8,1,null,null,"R","790L","Grade 5 - 6","Grade 5 - 12","What do you get when you combine evil microbes trying to harm the circulatory system and a super detective skilled at Body System Disease Investigations? You get crime-solving super sleuth Annie Biotica! Join Annie's team: Read cases about Lyme disease and malaria. Check out a line-up of the disease suspects, such as Epstein-Barr virus. Test the body system for infection and help Annie Biotica and her science team crack the case! These engaging and easy-to-read books use the scientific method to decipher symptoms, review lab results, and diagnose and treat diseases. Some cases must be solved by you! ","English",25.27,18.95,"571.9","48 pp.",{"$f":"Table1[[#This Row],[QTY]]*Table1[[#This Row],['# of Books]]","v":0},{"$f":"Table1[[#This Row],[QTY]]*Table1[[#This Row],[School & Library Price]]","v":0}]
[null,null,null,96,"Body System Disease Investigations","The Case of the Rusty Nail: Annie Biotica Solves Nervous System Disease Crimes",1,"Library Bound Book","978-0-7660-3949-0",2013,"January 2013","7.500 X 9.000",null,null,5.5,1,null,null,"R","740L","Grade 5 - 6","Grade 5 - 12","Rabies . . . tetanus . . . West Nile disease . . .What do you get when you combine evil microbes trying to harm the nervous system and a super detective skilled at Body System Disease Investigations? You get crime-solving super sleuth Annie Biotica! Join Annie's team: Read the case, check out a line-up of the disease suspects, test the body system for infection, and help Annie Biotica and her science team crack the case! These engaging and easy-to-read books use the scientific method to decipher symptoms, review lab results, and diagnose and treat diseases. Some cases must be solved by you! ","English",25.27,18.95,"616.9","48 pp.",{"$f":"Table1[[#This Row],[QTY]]*Table1[[#This Row],['# of Books]]","v":0},{"$f":"Table1[[#This Row],[QTY]]*Table1[[#This Row],[School & Library Price]]","v":0}]
[null,null,null,96,"Body System Disease Investigations","The Case of the Rusty Nail: Annie Biotica Solves Nervous System Disease Crimes",1,"eBook","978-0-7660-5769-2",2013,"January 2013",null,null,null,5.5,1,null,null,"R","740L","Grade 5 - 6","Grade 5 - 12","Rabies . . . tetanus . . . West Nile disease . . .What do you get when you combine evil microbes trying to harm the nervous system and a super detective skilled at Body System Disease Investigations? You get crime-solving super sleuth Annie Biotica! Join Annie's team: Read the case, check out a line-up of the disease suspects, test the body system for infection, and help Annie Biotica and her science team crack the case! These engaging and easy-to-read books use the scientific method to decipher symptoms, review lab results, and diagnose and treat diseases. Some cases must be solved by you! ","English",25.27,18.95,"616.9","48 pp.",{"$f":"Table1[[#This Row],[QTY]]*Table1[[#This Row],['# of Books]]","v":0},{"$f":"Table1[[#This Row],[QTY]]*Table1[[#This Row],[School & Library Price]]","v":0}]
[null,null,null,96,"Body System Disease Investigations","The Case of the Sneezy Popcorn: Annie Biotica Solves Respiratory System Disease Crimes",1,"Library Bound Book","978-0-7660-3946-9",2013,"January 2013","7.500 X 9.000",null,null,5.6,1,null,null,"R","750L","Grade 5 - 6","Grade 5 - 12","Strep throat . . . pneumonia . . . influenza . . . What do you get when you combine evil microbes trying to harm the respiratory system and a super detective skilled at Body System Disease Investigations? You get crime-solving super sleuth Annie Biotica! Join Annie's team: Read the case, check out a line-up of the disease suspects, test the body system for infection, and help Annie Biotica and her science team crack the case! These engaging and easy-to-read books use the scientific method to decipher symptoms, review lab results, and diagnose and treat diseases. Some cases must be solved by you! ","English",25.27,18.95,"616.2","48 pp.",{"$f":"Table1[[#This Row],[QTY]]*Table1[[#This Row],['# of Books]]","v":0},{"$f":"Table1[[#This Row],[QTY]]*Table1[[#This Row],[School & Library Price]]","v":0}]
[null,null,null,96,"Body System Disease Investigations","The Case of the Sneezy Popcorn: Annie Biotica Solves Respiratory System Disease Crimes",1,"eBook","978-0-7660-5770-8",2013,"January 2013",null,null,null,5.6,1,null,null,"R","750L","Grade 5 - 6","Grade 5 - 12","Strep throat . . . pneumonia . . . influenza . . . What do you get when you combine evil microbes trying to harm the respiratory system and a super detective skilled at Body System Disease Investigations? You get crime-solving super sleuth Annie Biotica! Join Annie's team: Read the case, check out a line-up of the disease suspects, test the body system for infection, and help Annie Biotica and her science team crack the case! These engaging and easy-to-read books use the scientific method to decipher symptoms, review lab results, and diagnose and treat diseases. Some cases must be solved by you! ","English",25.27,18.95,"616.2","48 pp.",{"$f":"Table1[[#This Row],[QTY]]*Table1[[#This Row],['# of Books]]","v":0},{"$f":"Table1[[#This Row],[QTY]]*Table1[[#This Row],[School & Library Price]]","v":0}]
[null,null,null,96,"Body System Disease Investigations","The Case of the Undercooked Burger: Annie Biotica Solves Digestive System Disease Crimes",1,"Library Bound Book","978-0-7660-3947-6",2013,"January 2013","7.500 X 9.000",null,null,5.7,1,null,null,"R","780L","Grade 5 - 6","Grade 5 - 12","E. coli . . . Salmonella . . . Worms! What do you get when you combine evil invaders trying to harm the digestive system and a super detective skilled at Body System Disease Investigations? You get crime-solving super sleuth Annie Biotica! Join Annie's team: Read the case, check out a line-up of the disease suspects, test the body system for infection, and help Annie Biotica and her science team crack the case! These engaging and easy-to-read books use the scientific method to decipher symptoms, review lab results, and diagnose and treat diseases. Some cases must be solved by you! ","English",25.27,18.95,"616.9","48 pp.",{"$f":"Table1[[#This Row],[QTY]]*Table1[[#This Row],['# of Books]]","v":0},{"$f":"Table1[[#This Row],[QTY]]*Table1[[#This Row],[School & Library Price]]","v":0}]
[null,null,null,96,"Body System Disease Investigations","The Case of the Undercooked Burger: Annie Biotica Solves Digestive System Disease Crimes",1,"eBook","978-0-7660-5771-5",2013,"January 2013",null,null,null,5.7,1,null,null,"R","780L","Grade 5 - 6","Grade 5 - 12","E. coli . . . Salmonella . . . Worms! What do you get when you combine evil invaders trying to harm the digestive system and a super detective skilled at Body System Disease Investigations? You get crime-solving super sleuth Annie Biotica! Join Annie's team: Read the case, check out a line-up of the disease suspects, test the body system for infection, and help Annie Biotica and her science team crack the case! These engaging and easy-to-read books use the scientific method to decipher symptoms, review lab results, and diagnose and treat diseases. Some cases must be solved by you! ","English",25.27,18.95,"616.9","48 pp.",{"$f":"Table1[[#This Row],[QTY]]*Table1[[#This Row],['# of Books]]","v":0},{"$f":"Table1[[#This Row],[QTY]]*Table1[[#This Row],[School & Library Price]]","v":0}]
[null,null,null,96,"The Brightstone Saga","The Brightstone Saga",3,"Library Set","978-0-7660-8065-2",2013,"January 2013","5.500 X 8.250",null,null,null,null,null,null,null,null,"Grade 6 - 12","Grade 6 - 12",null,"English",62.85,47.13,null,"160 pp.",{"$f":"Table1[[#This Row],[QTY]]*Table1[[#This Row],['# of Books]]","v":0},{"$f":"Table1[[#This Row],[QTY]]*Table1[[#This Row],[School & Library Price]]","v":0}]
[null,null,null,96,"The Brightstone Saga","The Battle for the Brightstone: Book III of The Brightstone Saga",1,"Library Bound Book","978-0-7660-3984-1",2014,"January 2013","5.500 X 8.500","Author","Paul B. Thompson",4.9000000000000004,null,null,null,"Q","680L","Grade 5 - 6","Grade 5 - 12","Mikal must find Orry. The safety of the world depends on it. The rogue wizard, Master Harlano, captured Mikal’s magical friend. Inside the talking head lies the secret that can end all magic: the location of the Brightstone. If Harlano and his band of rogues can find and destroy the Brightstone, they would have unconquerable power. But Mikal will stop at nothing to defeat his former master. With the help of his trusty friend Lyra and werewolf Killeen, Mikal battles pirates, wizards, and dark magic. Who will get to the Brightstone first?","English",20.95,15.71,"FIC","176 pp.",{"$f":"Table1[[#This Row],[QTY]]*Table1[[#This Row],['# of Books]]","v":0},{"$f":"Table1[[#This Row],[QTY]]*Table1[[#This Row],[School & Library Price]]","v":0}]
[null,null,null,96,"The Brightstone Saga","The Battle for the Brightstone: Book III of The Brightstone Saga",1,"eBook","978-0-7660-5799-9",2014,"January 2013",null,"Author","Paul B. Thompson",4.9000000000000004,null,null,null,"Q","680L","Grade 5 - 6","Grade 5 - 12","Mikal must find Orry. The safety of the world depends on it. The rogue wizard, Master Harlano, captured Mikal’s magical friend. Inside the talking head lies the secret that can end all magic: the location of the Brightstone. If Harlano and his band of rogues can find and destroy the Brightstone, they would have unconquerable power. But Mikal will stop at nothing to defeat his former master. With the help of his trusty friend Lyra and werewolf Killeen, Mikal battles pirates, wizards, and dark magic. Who will get to the Brightstone first?","English",37.270000000000003,27.95,"FIC","176 pp.",{"$f":"Table1[[#This Row],[QTY]]*Table1[[#This Row],['# of Books]]","v":0},{"$f":"Table1[[#This Row],[QTY]]*Table1[[#This Row],[School & Library Price]]","v":0}]
[null,null,null,96,"The Brightstone Saga","The Brightworking: Book I of The Brightstone Saga",1,"Library Bound Book","978-0-7660-3950-6",2013,"January 2013","5.500 X 8.500","Author","Paul B. Thompson",4.4000000000000004,4,null,null,"Q","630L","Grade 5 - 6","Grade 5 - 12","In part one of the trilogy, Mikal, a blacksmith's son, enjoys working with fiery metal in his father's forge. But when the sorcerers' Guild of Constant Working comes to his small village for a Gleaning, the young boy's destiny is changed forever. Mikal begins a life of servitude at the Guild and soon learns of the magical world around him. Before long, he is apprenticed to the most powerful wizard in all of Phalia, Master Harlano. Mikal's new Master commands an army of wizards, but even he must answer to the mysterious rulers of the Guild. But when Harlano pursues a strange ambition of his own, will Mikal follow his Master, or stand against him? With help from his scruffy friend Lyra and a magical metal head, Mikal confronts danger at every turn as he uncovers the mystery of the Brightworking.","English",20.95,15.71,"FIC","160 pp.",{"$f":"Table1[[#This Row],[QTY]]*Table1[[#This Row],['# of Books]]","v":0},{"$f":"Table1[[#This Row],[QTY]]*Table1[[#This Row],[School & Library Price]]","v":0}]
[null,null,null,96,"The Brightstone Saga","The Brightworking: Book I of The Brightstone Saga",1,"eBook","978-0-7660-4454-8",2013,"January 2013",null,"Author","Paul B. Thompson",4.4000000000000004,4,null,null,"Q","630L","Grade 5 - 6","Grade 5 - 12","In part one of the trilogy, Mikal, a blacksmith's son, enjoys working with fiery metal in his father's forge. But when the sorcerers' Guild of Constant Working comes to his small village for a Gleaning, the young boy's destiny is changed forever. Mikal begins a life of servitude at the Guild and soon learns of the magical world around him. Before long, he is apprenticed to the most powerful wizard in all of Phalia, Master Harlano. Mikal's new Master commands an army of wizards, but even he must answer to the mysterious rulers of the Guild. But when Harlano pursues a strange ambition of his own, will Mikal follow his Master, or stand against him? With help from his scruffy friend Lyra and a magical metal head, Mikal confronts danger at every turn as he uncovers the mystery of the Brightworking.","English",37.270000000000003,27.95,"FIC","160 pp.",{"$f":"Table1[[#This Row],[QTY]]*Table1[[#This Row],['# of Books]]","v":0},{"$f":"Table1[[#This Row],[QTY]]*Table1[[#This Row],[School & Library Price]]","v":0}]
[null,null,null,96,"The Brightstone Saga","The Fortune-Teller: Book II of The Brightstone Saga",1,"Library Bound Book","978-0-7660-3983-4",2013,"January 2013","5.500 X 8.500","Author","Paul B. Thompson",4.4000000000000004,5,null,null,"Q","620L","Grade 5 - 6","Grade 5 - 12","Harlano will stop at nothing to capture Orry. The metal head contains magical knowledge that the evil wizard is desperate to obtain. Only the young apprentice Mikal and his scrappy friend Lyra stand in his way. From the Miracle Fair, through the perilous woods of Periskold, down the rushing Tombow River, and to the coast of Farhaven, Mikal and Lyra must evade the powerful Harlano and his henchmen. The two youngsters fight dangerous creatures and face mysterious magic throughout their daring journey. Can they keep Orry safe from Harlano and the dark forces that stand behind him, or will the rogue wizard uncover the secret that could change the world? ","English",20.95,15.71,"FIC","160 pp.",{"$f":"Table1[[#This Row],[QTY]]*Table1[[#This Row],['# of Books]]","v":0},{"$f":"Table1[[#This Row],[QTY]]*Table1[[#This Row],[School & Library Price]]","v":0}]
[null,null,null,96,"The Brightstone Saga","The Fortune-Teller: Book II of The Brightstone Saga",1,"eBook","978-0-7660-5798-2",2013,"January 2013",null,"Author","Paul B. Thompson",4.4000000000000004,5,null,null,"Q","620L","Grade 5 - 6","Grade 5 - 12","Harlano will stop at nothing to capture Orry. The metal head contains magical knowledge that the evil wizard is desperate to obtain. Only the young apprentice Mikal and his scrappy friend Lyra stand in his way. From the Miracle Fair, through the perilous woods of Periskold, down the rushing Tombow River, and to the coast of Farhaven, Mikal and Lyra must evade the powerful Harlano and his henchmen. The two youngsters fight dangerous creatures and face mysterious magic throughout their daring journey. Can they keep Orry safe from Harlano and the dark forces that stand behind him, or will the rogue wizard uncover the secret that could change the world? ","English",37.270000000000003,27.95,"FIC","160 pp.",{"$f":"Table1[[#This Row],[QTY]]*Table1[[#This Row],['# of Books]]","v":0},{"$f":"Table1[[#This Row],[QTY]]*Table1[[#This Row],[School & Library Price]]","v":0}]
[null,null,null,97,"Scarlet Voyage","Code Name Komiko",1,"Library Bound Book","978-1-6232-4023-3",2014,"January 2014","5.250 X 8.000","Author","Naomi Paul",6.2,null,null,null,null,"890L","Grade 6 - 7","Grade 6 - 12","On the surface, sixteen-year-old Lian is a serious student and dutiful daughter, destined for a fine career as a concert violinist. But Lian has a secret identity. She is part of 06/04, a band of cyber-investigators who work to expose injustice and corruption. In this virtual world, Lian goes by the code name, “Komiko.\" Lian has no trouble keeping her daily life separate from her secret one, until a dead body washes up in Big Wave Bay. Lian investigates, with help from 06/04. Soon, she meets Matt Harrison, the new kid at her school. She learns that Matt’s dad, Rand Harrison, is a corporate goon, whose clothing company exploits its workforce. And she finds a connection between the dead girl and Mr. Harrison. Lian and the 06/04 team are thrust into their most dangerous investigation ever, and Lian will learn that no one is ever quite who they seem to be . . .","English",21.95,16.46,"FIC","288 pp.",{"$f":"Table1[[#This Row],[QTY]]*Table1[[#This Row],['# of Books]]","v":0},{"$f":"Table1[[#This Row],[QTY]]*Table1[[#This Row],[School & Library Price]]","v":0}]
[null,null,null,97,"Scarlet Voyage","Code Name Komiko",1,"eBook","978-1-6232-4027-1",2014,"January 2014",null,"Author","Naomi Paul",6.2,null,null,null,null,"890L","Grade 6 - 7","Grade 6 - 12","On the surface, sixteen-year-old Lian is a serious student and dutiful daughter, destined for a fine career as a concert violinist. But Lian has a secret identity. She is part of 06/04, a band of cyber-investigators who work to expose injustice and corruption. In this virtual world, Lian goes by the code name, “Komiko.\" Lian has no trouble keeping her daily life separate from her secret one, until a dead body washes up in Big Wave Bay. Lian investigates, with help from 06/04. Soon, she meets Matt Harrison, the new kid at her school. She learns that Matt’s dad, Rand Harrison, is a corporate goon, whose clothing company exploits its workforce. And she finds a connection between the dead girl and Mr. Harrison. Lian and the 06/04 team are thrust into their most dangerous investigation ever, and Lian will learn that no one is ever quite who they seem to be . . .","English",38.6,28.95,"FIC","288 pp.",{"$f":"Table1[[#This Row],[QTY]]*Table1[[#This Row],['# of Books]]","v":0},{"$f":"Table1[[#This Row],[QTY]]*Table1[[#This Row],[School & Library Price]]","v":0}]
[null,null,null,97,"Scarlet Voyage","Freak City",1,"Library Bound Book","978-1-6232-4005-9",2014,"January 2014","5.250 X 8.000","Author","Kathrin Schrocke",4.3,null,null,null,null,"550L","Grade 9 - 10","Grade 9 - 12","Mika's heart is broken, until he sees Leah. A smart, beautiful, and brave girl, Leah has been deaf since birth. When Mika meets her for the first time, he feels something electric. They cannot communicate much, so Mika decides to take a sign language course. His family and friends are skeptical, and Mika soon grows weary, too. The world of deaf people is so much different than his own. Can their two worlds intersect? There is also Sandra, Mika’s ex-girlfriend, who he cannot seem to get over. But Mika cannot shake that Leah has captured his heart. . . . Author Kathrin Schrocke tells the story of two teens and their tender, quirky, and extraordinary love. ","English",20.95,15.71,"FIC","224 pp.",{"$f":"Table1[[#This Row],[QTY]]*Table1[[#This Row],['# of Books]]","v":0},{"$f":"Table1[[#This Row],[QTY]]*Table1[[#This Row],[School & Library Price]]","v":0}]
[null,null,null,97,"Scarlet Voyage","Freak City",1,"eBook","978-1-6232-4016-5",2014,"January 2014",null,"Author","Kathrin Schrocke",4.3,null,null,null,null,"550L","Grade 9 - 10","Grade 9 - 12","Mika's heart is broken, until he sees Leah. A smart, beautiful, and brave girl, Leah has been deaf since birth. When Mika meets her for the first time, he feels something electric. They cannot communicate much, so Mika decides to take a sign language course. His family and friends are skeptical, and Mika soon grows weary, too. The world of deaf people is so much different than his own. Can their two worlds intersect? There is also Sandra, Mika’s ex-girlfriend, who he cannot seem to get over. But Mika cannot shake that Leah has captured his heart. . . . Author Kathrin Schrocke tells the story of two teens and their tender, quirky, and extraordinary love. ","English",37.270000000000003,27.95,"FIC","224 pp.",{"$f":"Table1[[#This Row],[QTY]]*Table1[[#This Row],['# of Books]]","v":0},{"$f":"Table1[[#This Row],[QTY]]*Table1[[#This Row],[School & Library Price]]","v":0}]
[null,null,null,97,"Scarlet Voyage","The Hunted: Polar Prey",1,"Library Bound Book","978-1-6228-5080-8",2014,"January 2014","5.250 X 7.500","Author","Sara Louise Kras",3.6,1,null,null,"M","450L","Grade 3 - ","Grade 3 - 5","Ten-year-old Jeremy must save his mother, Paula. A scientist, Paula is stranded on an iceberg in the Arctic, being stalked by a polar bear. Jeremy asks Felix, his Inuit friend, if his father can fly the helicopter stored at the Global Warming Research Station to save his mother. Felix is uncertain, because his father has not flown since the terrible helicopter accident where he almost died. Author Sara Louise Kras seamlessly alternates between four different viewpoints: the polar bear, Jeremy, Paula his mother, and the Inuit boy Felix. The polar bear is driven by hunger and desperation. Jeremy, the main character, is frantic to save his mother. Paula tries to remain calm, but begins to lose hope when she sees the approaching polar bear. And Felix's respect and love for his father, helps his father overcome his fears.","English",17.95,13.46,"FIC","64 pp.",{"$f":"Table1[[#This Row],[QTY]]*Table1[[#This Row],['# of Books]]","v":0},{"$f":"Table1[[#This Row],[QTY]]*Table1[[#This Row],[School & Library Price]]","v":0}]
[null,null,null,97,"Scarlet Voyage","The Hunted: Polar Prey",1,"eBook","978-1-6228-5158-4",2014,"January 2014",null,"Author","Sara Louise Kras",3.6,1,null,null,"M","450L","Grade 3 - ","Grade 3 - 5","Ten-year-old Jeremy must save his mother, Paula. A scientist, Paula is stranded on an iceberg in the Arctic, being stalked by a polar bear. Jeremy asks Felix, his Inuit friend, if his father can fly the helicopter stored at the Global Warming Research Station to save his mother. Felix is uncertain, because his father has not flown since the terrible helicopter accident where he almost died. Author Sara Louise Kras seamlessly alternates between four different viewpoints: the polar bear, Jeremy, Paula his mother, and the Inuit boy Felix. The polar bear is driven by hunger and desperation. Jeremy, the main character, is frantic to save his mother. Paula tries to remain calm, but begins to lose hope when she sees the approaching polar bear. And Felix's respect and love for his father, helps his father overcome his fears.","English",27.93,20.95,"FIC","64 pp.",{"$f":"Table1[[#This Row],[QTY]]*Table1[[#This Row],['# of Books]]","v":0},{"$f":"Table1[[#This Row],[QTY]]*Table1[[#This Row],[School & Library Price]]","v":0}]
[null,null,null,97,"Scarlet Voyage","In the River Darkness",1,"Library Bound Book","978-1-6232-4010-3",2014,"January 2014","5.250 X 8.000","Author","Marlene Röder",5,null,null,null,null,"670L","Grade 9 - 10","Grade 9 - 12","Mia arrives at a small town by the river, carrying a secret. Her new neighbors, the Stonebrooks, immediately draw her interest. Soon, she meets brothers Alex and Jay. Mia is attracted to Alex, the older handsome brother. They begin dating, but Mia remains guarded, hiding behind an invisible barrier. She also befriends Jay, the gentle dreamer, who spends most of his time at the river, with his mysterious friend, Alina. As the three teens spend more and more time together, strange things start to happen. This brilliantly crafted story, told from the alternating perspectives of Mia, Alex, and Jay, creates a web of secrets. And secrets buried deep below the dark surface are the hardest to uncover.","English",20.95,15.71,"FIC","224 pp.",{"$f":"Table1[[#This Row],[QTY]]*Table1[[#This Row],['# of Books]]","v":0},{"$f":"Table1[[#This Row],[QTY]]*Table1[[#This Row],[School & Library Price]]","v":0}]
[null,null,null,97,"Scarlet Voyage","In the River Darkness",1,"eBook","978-1-6232-4017-2",2014,"January 2014",null,"Author","Marlene Röder",5,null,null,null,null,"670L","Grade 9 - 10","Grade 9 - 12","Mia arrives at a small town by the river, carrying a secret. Her new neighbors, the Stonebrooks, immediately draw her interest. Soon, she meets brothers Alex and Jay. Mia is attracted to Alex, the older handsome brother. They begin dating, but Mia remains guarded, hiding behind an invisible barrier. She also befriends Jay, the gentle dreamer, who spends most of his time at the river, with his mysterious friend, Alina. As the three teens spend more and more time together, strange things start to happen. This brilliantly crafted story, told from the alternating perspectives of Mia, Alex, and Jay, creates a web of secrets. And secrets buried deep below the dark surface are the hardest to uncover.","English",37.270000000000003,27.95,"FIC","224 pp.",{"$f":"Table1[[#This Row],[QTY]]*Table1[[#This Row],['# of Books]]","v":0},{"$f":"Table1[[#This Row],[QTY]]*Table1[[#This Row],[School & Library Price]]","v":0}]
[null,null,null,97,"Scarlet Voyage","Lost Republic",1,"Library Bound Book","978-1-6232-4000-4",2015,"January 2015","6.000 X 9.000","Author","Paul B. Thompson",null,null,null,null,null,"720L","Grade 6 - 7","Grade 6 - 12",null,"English",21.95,16.46,"FIC","256 pp.",{"$f":"Table1[[#This Row],[QTY]]*Table1[[#This Row],['# of Books]]","v":0},{"$f":"Table1[[#This Row],[QTY]]*Table1[[#This Row],[School & Library Price]]","v":0}]
[null,null,null,97,"Scarlet Voyage","Lost Republic",1,"eBook","978-1-6232-4015-8",2015,"January 2015",null,"Author","Paul B. Thompson",null,null,null,null,null,"720L","Grade 6 - 7","Grade 6 - 12",null,"English",38.6,28.95,"FIC","256 pp.",{"$f":"Table1[[#This Row],[QTY]]*Table1[[#This Row],['# of Books]]","v":0},{"$f":"Table1[[#This Row],[QTY]]*Table1[[#This Row],[School & Library Price]]","v":0}]
[null,null,null,97,"Scarlet Voyage","Paint Me a Monster",1,"Library Bound Book","978-1-6232-4018-9",2014,"January 2014","5.250 X 8.000","Author","Janie Baskin",4.3,null,null,null,null,"650L","Grade 6 - 7","Grade 6 - 12","Rinnie Gardener’s life looks like a perfect painting from the outside, a loving family and a beautiful house. When the paint is stripped away, this dream dissolves to dust. Her parents divorce. Her father treats her like a stranger. Her mother, looming like a black cloud, treats her worse. Painful words become painful bruises. Rinnie’s own body becomes a source of self-punishment. As her life seemingly falls apart, Rinnie struggles to find the courage to pick up the pieces. In a brilliantly unique style and voice, Rinnie tells her story, a search for identity, love, and healing. She must look in the darkest places to repaint the canvas of her life. She must face the monster.","English",21.95,16.46,"FIC","352 pp.",{"$f":"Table1[[#This Row],[QTY]]*Table1[[#This Row],['# of Books]]","v":0},{"$f":"Table1[[#This Row],[QTY]]*Table1[[#This Row],[School & Library Price]]","v":0}]
[null,null,null,97,"Scarlet Voyage","Paint Me a Monster",1,"eBook","978-1-6232-4022-6",2014,"January 2014",null,"Author","Janie Baskin",4.3,null,null,null,null,"650L","Grade 6 - 7","Grade 6 - 12","Rinnie Gardener’s life looks like a perfect painting from the outside, a loving family and a beautiful house. When the paint is stripped away, this dream dissolves to dust. Her parents divorce. Her father treats her like a stranger. Her mother, looming like a black cloud, treats her worse. Painful words become painful bruises. Rinnie’s own body becomes a source of self-punishment. As her life seemingly falls apart, Rinnie struggles to find the courage to pick up the pieces. In a brilliantly unique style and voice, Rinnie tells her story, a search for identity, love, and healing. She must look in the darkest places to repaint the canvas of her life. She must face the monster.","English",38.6,28.95,"FIC","352 pp.",{"$f":"Table1[[#This Row],[QTY]]*Table1[[#This Row],['# of Books]]","v":0},{"$f":"Table1[[#This Row],[QTY]]*Table1[[#This Row],[School & Library Price]]","v":0}]
[null,null,null,97,"Scarlet Voyage","Spirit of a Mountain Wolf",1,"Library Bound Book","978-1-6232-4033-2",2014,"January 2014","5.250 X 8.000","Author","Rosanne Hawke",4.3,null,null,null,null,"600L","Grade 9 - 10","Grade 9 - 12","Fourteen-year-old Razaq Khan lives in the Pakistani tribal area of Kala Dhaka, Black Mountain. When an earthquake devastates his family home, Razaq’s dying father tells him to travel to his uncle Javaid. A man preying on orphans lures Razaq to the city with the promise of finding his uncle. But it is not long before Razaq realizes he has not been helped at all, he has been sold into slavery. Losing hope while in captivity, Razaq meets Tahira, a young girl suffering just like him. Razaq feels a surge of something new–love. Author Rosanne Hawke delivers a heart-wrenching story about friendship and sacrifice and the power of the human spirit, a mountain wolf’s spirit, to overcome sexual exploitation, the most harrowing of circumstances.","English",20.95,15.71,"FIC","208 pp.",{"$f":"Table1[[#This Row],[QTY]]*Table1[[#This Row],['# of Books]]","v":0},{"$f":"Table1[[#This Row],[QTY]]*Table1[[#This Row],[School & Library Price]]","v":0}]
[null,null,null,97,"Scarlet Voyage","Spirit of a Mountain Wolf",1,"eBook","978-1-6232-4037-0",2014,"January 2014",null,"Author","Rosanne Hawke",4.3,null,null,null,null,"600L","Grade 9 - 10","Grade 9 - 12","Fourteen-year-old Razaq Khan lives in the Pakistani tribal area of Kala Dhaka, Black Mountain. When an earthquake devastates his family home, Razaq’s dying father tells him to travel to his uncle Javaid. A man preying on orphans lures Razaq to the city with the promise of finding his uncle. But it is not long before Razaq realizes he has not been helped at all, he has been sold into slavery. Losing hope while in captivity, Razaq meets Tahira, a young girl suffering just like him. Razaq feels a surge of something new–love. Author Rosanne Hawke delivers a heart-wrenching story about friendship and sacrifice and the power of the human spirit, a mountain wolf’s spirit, to overcome sexual exploitation, the most harrowing of circumstances.","English",37.270000000000003,27.95,"FIC","216 pp.",{"$f":"Table1[[#This Row],[QTY]]*Table1[[#This Row],['# of Books]]","v":0},{"$f":"Table1[[#This Row],[QTY]]*Table1[[#This Row],[School & Library Price]]","v":0}]
[null,null,null,97,"Scarlet Voyage","What We Did for Love: Resistance, Heartbreak, Betrayal",1,"Library Bound Book","978-1-6232-4028-8",2014,"January 2014","5.250 X 8.000","Author","Natasha Farrant",4.5999999999999996,null,null,null,null,"640L","Grade 6 - 7","Grade 6 - 12","Arianne knew Luc before he went away, of course she did. Everyone in Samaroux knows each other. When he returns after five years, the spark between them reignites and becomes something more. But will the war let them be together? As the two teens fall deeply in love, their world starts to crumble around them. German forces, reeling from defeats in the east, are closing in, and Luc, desperate to atone for his family's past, wants to join the resistance. Arianne will do anything to keep him safe. But in such a small village, Luc is not alone in his love for Arianne. And Luc's rival just might be a traitor. How far will they go to protect what they believe in? And what will they do for love? ","English",20.95,15.71,"FIC","208 pp.",{"$f":"Table1[[#This Row],[QTY]]*Table1[[#This Row],['# of Books]]","v":0},{"$f":"Table1[[#This Row],[QTY]]*Table1[[#This Row],[School & Library Price]]","v":0}]
[null,null,null,97,"Scarlet Voyage","What We Did for Love: Resistance, Heartbreak, Betrayal",1,"eBook","978-1-6232-4032-5",2014,"January 2014",null,"Author","Natasha Farrant",4.5999999999999996,null,null,null,null,"640L","Grade 6 - 7","Grade 6 - 12","Arianne knew Luc before he went away, of course she did. Everyone in Samaroux knows each other. When he returns after five years, the spark between them reignites and becomes something more. But will the war let them be together? As the two teens fall deeply in love, their world starts to crumble around them. German forces, reeling from defeats in the east, are closing in, and Luc, desperate to atone for his family's past, wants to join the resistance. Arianne will do anything to keep him safe. But in such a small village, Luc is not alone in his love for Arianne. And Luc's rival just might be a traitor. How far will they go to protect what they believe in? And what will they do for love? ","English",37.270000000000003,27.95,"FIC","208 pp.",{"$f":"Table1[[#This Row],[QTY]]*Table1[[#This Row],['# of Books]]","v":0},{"$f":"Table1[[#This Row],[QTY]]*Table1[[#This Row],[School & Library Price]]","v":0}]
[null,null,null,98,"Got Issues?","Got Issues?",19,"Library Set","978-0-7660-7485-9",2016,"January 2016","6.000 X 9.000",null,null,null,null,null,null,null,null,"Grade 7 - 8","Grade 7 - 12","Teeming with facts, personal stories from teens, and insights from experts, this guidance series tackles the emotional, mental, social, and physical issues that affect young people every day. Teenagers will be able to use the practical and up-to-date information found in these texts in the classroom and in their own lives.","English",708.13,531.04999999999995,null,"112 pp.",{"$f":"Table1[[#This Row],[QTY]]*Table1[[#This Row],['# of Books]]","v":0},{"$f":"Table1[[#This Row],[QTY]]*Table1[[#This Row],[School & Library Price]]","v":0}]
[null,null,null,98,"Got Issues?","Are You Afraid?",1,"Library Bound Book","978-0-7660-6977-0",2016,"August 2015","6.000 X 9.000","Author, Author","Jennifer Way, Judy Monroe",null,null,null,null,"Z",null,"Grade 7","Grade 7 - 12","Extreme or irrational fears are called phobias. From aerophobia to zoophobia, this book explores the many phobias that exist and the crippling effects they can have on phobics. An extensive list of phobias helps identify them, while treatment plans shed light on how to manage symptoms.","English",37.270000000000003,27.95,"616.85'225--dc23","128 pp.",{"$f":"Table1[[#This Row],[QTY]]*Table1[[#This Row],['# of Books]]","v":0},{"$f":"Table1[[#This Row],[QTY]]*Table1[[#This Row],[School & Library Price]]","v":0}]
[null,null,null,98,"Got Issues?","Are You Afraid?",1,"eBook","978-0-7660-6978-7",2016,"August 2015",null,"Author, Author","Jennifer Way, Judy Monroe",null,null,null,null,"Z",null,"Grade 7","Grade 7 - 12","Extreme or irrational fears are called phobias. From aerophobia to zoophobia, this book explores the many phobias that exist and the crippling effects they can have on phobics. An extensive list of phobias helps identify them, while treatment plans shed light on how to manage symptoms.","English",37.270000000000003,27.95,"616.85'225--dc23","128 pp.",{"$f":"Table1[[#This Row],[QTY]]*Table1[[#This Row],['# of Books]]","v":0},{"$f":"Table1[[#This Row],[QTY]]*Table1[[#This Row],[School & Library Price]]","v":0}]
[null,null,null,98,"Got Issues?","Are You at Risk for Food Allergies?: Peanut Butter, Milk, and Other Deadly Threats",1,"Library Bound Book","978-0-7660-6045-6",2015,"August 2014","6.000 X 9.000","Author","Sherri Mabry Gordon",8.6999999999999993,null,null,null,"S","1160L","Grade 6 - 7","Grade 6 - 12","What is it like to have a food allergy? For a person with food allergies, the most common foods—such as milk, eggs, or peanut butter—can cause a life-threatening reaction. Find out what it is like to have a food allergy, ways to cope with food allergies, the causes of food allergies and what scientists are doing to combat them. ","English",37.270000000000003,27.95,"616.97","112 pp.",{"$f":"Table1[[#This Row],[QTY]]*Table1[[#This Row],['# of Books]]","v":0},{"$f":"Table1[[#This Row],[QTY]]*Table1[[#This Row],[School & Library Price]]","v":0}]
[null,null,null,98,"Got Issues?","Are You at Risk for Food Allergies?: Peanut Butter, Milk, and Other Deadly Threats",1,"eBook","978-0-7660-6049-4",2015,"August 2014",null,"Author","Sherri Mabry Gordon",8.6999999999999993,null,null,null,"S","1160L","Grade 6 - 7","Grade 6 - 12","What is it like to have a food allergy? For a person with food allergies, the most common foods—such as milk, eggs, or peanut butter—can cause a life-threatening reaction. Find out what it is like to have a food allergy, ways to cope with food allergies, the causes of food allergies and what scientists are doing to combat them. ","English",37.270000000000003,27.95,"616.97","112 pp.",{"$f":"Table1[[#This Row],[QTY]]*Table1[[#This Row],['# of Books]]","v":0},{"$f":"Table1[[#This Row],[QTY]]*Table1[[#This Row],[School & Library Price]]","v":0}]
[null,null,null,98,"Got Issues?","Are You at Risk for Public Shaming?",1,"Library Bound Book","978-0-7660-7136-0",2016,"January 2016","6.000 X 9.000","Author","Sherri Mabry Gordon",null,null,null,null,"Z",null,"Grade 7 - 8","Grade 7 - 12","In the era of social media and viral videos, public shaming is a serious threat to teens. Public shaming is more than just feeling a little embarrassment. It can be dangerous and even deadly. Through firsthand accounts by teens who have experienced it and insights from experts, readers can learn how best to recognize and rise above public shaming.","English",37.270000000000003,27.95,"152.4--dc23","112 pp.",{"$f":"Table1[[#This Row],[QTY]]*Table1[[#This Row],['# of Books]]","v":0},{"$f":"Table1[[#This Row],[QTY]]*Table1[[#This Row],[School & Library Price]]","v":0}]
[null,null,null,98,"Got Issues?","Are You at Risk for Public Shaming?",1,"eBook","978-0-7660-7137-7",2016,"January 2016",null,"Author","Sherri Mabry Gordon",null,null,null,null,"Z",null,"Grade 7 - 8","Grade 7 - 12","In the era of social media and viral videos, public shaming is a serious threat to teens. Public shaming is more than just feeling a little embarrassment. It can be dangerous and even deadly. Through firsthand accounts by teens who have experienced it and insights from experts, readers can learn how best to recognize and rise above public shaming.","English",37.270000000000003,27.95,"152.4--dc23","112 pp.",{"$f":"Table1[[#This Row],[QTY]]*Table1[[#This Row],['# of Books]]","v":0},{"$f":"Table1[[#This Row],[QTY]]*Table1[[#This Row],[School & Library Price]]","v":0}]
[null,null,null,98,"Got Issues?","Are You Being Abused?",1,"Library Bound Book","978-0-7660-6979-4",2016,"August 2015","6.000 X 9.000","Author","Sherri Mabry Gordon",null,null,null,null,"Z",null,"Grade 7","Grade 7 - 12","How do you know when you're being abused? And what's the best way get out of an abusive situation? How do you help someone you suspect is being abused? With a compassionate approach, this book clarifies abuse and its circumstances, spells options for help, and suggests what communities can do to help end the violence.","English",37.270000000000003,27.95,"362.76--dc23","128 pp.",{"$f":"Table1[[#This Row],[QTY]]*Table1[[#This Row],['# of Books]]","v":0},{"$f":"Table1[[#This Row],[QTY]]*Table1[[#This Row],[School & Library Price]]","v":0}]
[null,null,null,98,"Got Issues?","Are You Being Abused?",1,"eBook","978-0-7660-6980-0",2016,"August 2015",null,"Author","Sherri Mabry Gordon",null,null,null,null,"Z",null,"Grade 7","Grade 7 - 12","How do you know when you're being abused? And what's the best way get out of an abusive situation? How do you help someone you suspect is being abused? With a compassionate approach, this book clarifies abuse and its circumstances, spells options for help, and suggests what communities can do to help end the violence.","English",37.270000000000003,27.95,"362.76--dc23","128 pp.",{"$f":"Table1[[#This Row],[QTY]]*Table1[[#This Row],['# of Books]]","v":0},{"$f":"Table1[[#This Row],[QTY]]*Table1[[#This Row],[School & Library Price]]","v":0}]
[null,null,null,98,"Got Issues?","Are You Being Bullied?: How to Deal with Taunting, Teasing, and Tormenting",1,"Library Bound Book","978-0-7660-5953-5",2015,"August 2014","6.000 X 9.000","Author","Kathleen Winkler",7.1,null,null,null,"S","980L","Grade 6 - 7","Grade 6 - 12","Teasing, name-calling, showing and hitting, excluding people and spreading rumors about them are all examples of bullying and happens to thousands of teens every day. Advances in social media, email, instant messaging, and cell phones, have moved bullying from a schoolyard fear to a constant threat. Learn how people are working together to put an end to bullying and cyberbullying and make the world safer. ","English",37.270000000000003,27.95,"302.34","104 pp.",{"$f":"Table1[[#This Row],[QTY]]*Table1[[#This Row],['# of Books]]","v":0},{"$f":"Table1[[#This Row],[QTY]]*Table1[[#This Row],[School & Library Price]]","v":0}]
[null,null,null,98,"Got Issues?","Are You Being Bullied?: How to Deal with Taunting, Teasing, and Tormenting",1,"eBook","978-0-7660-5957-3",2015,"August 2014",null,"Author","Kathleen Winkler",7.1,null,null,null,"S","980L","Grade 6 - 7","Grade 6 - 12","Teasing, name-calling, showing and hitting, excluding people and spreading rumors about them are all examples of bullying and happens to thousands of teens every day. Advances in social media, email, instant messaging, and cell phones, have moved bullying from a schoolyard fear to a constant threat. Learn how people are working together to put an end to bullying and cyberbullying and make the world safer. ","English",37.270000000000003,27.95,"302.34","112 pp.",{"$f":"Table1[[#This Row],[QTY]]*Table1[[#This Row],['# of Books]]","v":0},{"$f":"Table1[[#This Row],[QTY]]*Table1[[#This Row],[School & Library Price]]","v":0}]
[null,null,null,98,"Got Issues?","Are You Being Racially Profiled?",1,"Library Bound Book","978-0-7660-7138-4",2016,"January 2016","6.000 X 9.000","Author","Alexandra Hanson-Harding",null,null,null,null,"Z",null,"Grade 7 - 8","Grade 7 - 12","This timely book addresses the issue of racial profiling head on—what it is, why it happens, who it happens to, and what someone who is at risk of racial profiling can do about it. Interviews with teens directly affected by racial profiling and advice from professionals make this text excellent for research or personal use.","English",37.270000000000003,27.95,"363.2/308900973--dc23","112 pp.",{"$f":"Table1[[#This Row],[QTY]]*Table1[[#This Row],['# of Books]]","v":0},{"$f":"Table1[[#This Row],[QTY]]*Table1[[#This Row],[School & Library Price]]","v":0}]
[null,null,null,98,"Got Issues?","Are You Being Racially Profiled?",1,"eBook","978-0-7660-7147-6",2016,"January 2016",null,"Author","Alexandra Hanson-Harding",null,null,null,null,"Z",null,"Grade 7 - 8","Grade 7 - 12","This timely book addresses the issue of racial profiling head on—what it is, why it happens, who it happens to, and what someone who is at risk of racial profiling can do about it. Interviews with teens directly affected by racial profiling and advice from professionals make this text excellent for research or personal use.","English",37.270000000000003,27.95,"363.2/308900973--dc23","112 pp.",{"$f":"Table1[[#This Row],[QTY]]*Table1[[#This Row],['# of Books]]","v":0},{"$f":"Table1[[#This Row],[QTY]]*Table1[[#This Row],[School & Library Price]]","v":0}]
[null,null,null,98,"Got Issues?","Are You Depressed?",1,"Library Bound Book","978-0-7660-6981-7",2016,"August 2015","6.000 X 9.000","Author, Author","Ray Spangenburg, Kit Moser",null,null,null,null,"Z",null,"Grade 7","Grade 7 - 12","How do you know when sadness is something more serious—such as depression? And what can you do about it? Through personal interviews and thorough research, this book explains the symptoms of depression as a disorder and offers suggestions for seeking help and receiving treatment.","English",37.270000000000003,27.95,"616.85’27--d23","128 pp.",{"$f":"Table1[[#This Row],[QTY]]*Table1[[#This Row],['# of Books]]","v":0},{"$f":"Table1[[#This Row],[QTY]]*Table1[[#This Row],[School & Library Price]]","v":0}]
[null,null,null,98,"Got Issues?","Are You Depressed?",1,"eBook","978-0-7660-6982-4",2016,"August 2015",null,"Author, Author","Ray Spangenburg, Kit Moser",null,null,null,null,"Z",null,"Grade 7","Grade 7 - 12","How do you know when sadness is something more serious—such as depression? And what can you do about it? Through personal interviews and thorough research, this book explains the symptoms of depression as a disorder and offers suggestions for seeking help and receiving treatment.","English",37.270000000000003,27.95,"616.85’27--d23","128 pp.",{"$f":"Table1[[#This Row],[QTY]]*Table1[[#This Row],['# of Books]]","v":0},{"$f":"Table1[[#This Row],[QTY]]*Table1[[#This Row],[School & Library Price]]","v":0}]
[null,null,null,98,"Got Issues?","Are You Doing Risky Things?: Cutting, Bingeing, Snorting, and Other Dangers",1,"Library Bound Book","978-0-7660-5996-2",2015,"August 2014","6.000 X 9.000","Author","Renée C. Rebman",8.1999999999999993,null,null,null,"S","1060L","Grade 6 - 7","Grade 6 - 12","ARE YOU DOING RISKY THINGS? CUTTING, BINGEING, SNORTING, AND OTHER DANGERS takes a look at the causes and characteristics of these addictions, Readers are alerted to the signs of addiction and explanations of what can be done to help people struggling with these addictions. ","English",37.270000000000003,27.95,"613.8","112 pp.",{"$f":"Table1[[#This Row],[QTY]]*Table1[[#This Row],['# of Books]]","v":0},{"$f":"Table1[[#This Row],[QTY]]*Table1[[#This Row],[School & Library Price]]","v":0}]
[null,null,null,98,"Got Issues?","Are You Doing Risky Things?: Cutting, Bingeing, Snorting, and Other Dangers",1,"eBook","978-0-7660-6031-9",2015,"August 2014",null,"Author","Renée C. Rebman",8.1999999999999993,null,null,null,"S","1060L","Grade 6 - 7","Grade 6 - 12","ARE YOU DOING RISKY THINGS? CUTTING, BINGEING, SNORTING, AND OTHER DANGERS takes a look at the causes and characteristics of these addictions, Readers are alerted to the signs of addiction and explanations of what can be done to help people struggling with these addictions. ","English",37.270000000000003,27.95,"613.8","112 pp.",{"$f":"Table1[[#This Row],[QTY]]*Table1[[#This Row],['# of Books]]","v":0},{"$f":"Table1[[#This Row],[QTY]]*Table1[[#This Row],[School & Library Price]]","v":0}]
[null,null,null,98,"Got Issues?","Are You Downloading Copyrighted Stuff?: Stealing or Fair Use",1,"Library Bound Book","978-0-7660-6050-0",2015,"August 2014","6.000 X 9.000","Author","Sherri Mabry Gordon",8.6999999999999993,null,null,null,"S","1180L","Grade 6 - 7","Grade 6 - 12","Author Sherri Mabry Gordon explains how peer-to-peer file sharing works, what is legal and what is not, and she explores new ways of using technology that can benefit everyone. ","English",37.270000000000003,27.95,"346.7304","104 pp.",{"$f":"Table1[[#This Row],[QTY]]*Table1[[#This Row],['# of Books]]","v":0},{"$f":"Table1[[#This Row],[QTY]]*Table1[[#This Row],[School & Library Price]]","v":0}]
[null,null,null,98,"Got Issues?","Are You Downloading Copyrighted Stuff?: Stealing or Fair Use",1,"eBook","978-0-7660-6054-8",2015,"August 2014",null,"Author","Sherri Mabry Gordon",8.6999999999999993,null,null,null,"S","1180L","Grade 6 - 7","Grade 6 - 12","Author Sherri Mabry Gordon explains how peer-to-peer file sharing works, what is legal and what is not, and she explores new ways of using technology that can benefit everyone. ","English",37.270000000000003,27.95,"346.7304","112 pp.",{"$f":"Table1[[#This Row],[QTY]]*Table1[[#This Row],['# of Books]]","v":0},{"$f":"Table1[[#This Row],[QTY]]*Table1[[#This Row],[School & Library Price]]","v":0}]
[null,null,null,98,"Got Issues?","Are You Fat?: The Obesity Issue for Teens",1,"Library Bound Book","978-0-7660-4322-0",2015,"August 2014","6.000 X 9.000","Author","Kathlyn Gay",9.4,null,null,null,"S","1320L","Grade 6 - 7","Grade 6 - 12","What causes the problem of obesity? Possible solutions are discussed including diets, exercise, and surgery. The benefits and dangers of each method, stressing the importance of moderation and a healthy lifestyle, along with future possibilities for helping people become more successful at controlling their weight are also included. ","English",37.270000000000003,27.95,"616.3","112 pp.",{"$f":"Table1[[#This Row],[QTY]]*Table1[[#This Row],['# of Books]]","v":0},{"$f":"Table1[[#This Row],[QTY]]*Table1[[#This Row],[School & Library Price]]","v":0}]
[null,null,null,98,"Got Issues?","Are You Fat?: The Obesity Issue for Teens",1,"eBook","978-0-7660-5916-0",2015,"August 2014",null,"Author","Kathlyn Gay",9.4,null,null,null,"S","1320L","Grade 6 - 7","Grade 6 - 12","What causes the problem of obesity? Possible solutions are discussed including diets, exercise, and surgery. The benefits and dangers of each method, stressing the importance of moderation and a healthy lifestyle, along with future possibilities for helping people become more successful at controlling their weight are also included. ","English",37.270000000000003,27.95,"616.3","112 pp.",{"$f":"Table1[[#This Row],[QTY]]*Table1[[#This Row],['# of Books]]","v":0},{"$f":"Table1[[#This Row],[QTY]]*Table1[[#This Row],[School & Library Price]]","v":0}]
[null,null,null,98,"Got Issues?","Are You LGBTQ?",1,"Library Bound Book","978-0-7660-7139-1",2016,"January 2016","6.000 X 9.000","Author","Jeanne Nagle",null,null,null,null,"Z",null,"Grade 7 - 8","Grade 7 - 12","Lesbian Gay Bisexual Transgender Queer or Questioning. Each of these terms has an individual meaning and community around them. Through interviews with professionals as well as those in the LGBTQ community, readers can learn not only the definition of each of these words, but also what it means on a greater scale. Perfect for research or personal use, this text will provide teens with answers to many of their questions about sexuality and create a dialogue through which they can learn to accept each other and themselves.","English",37.270000000000003,27.95,"306.76’60835--dc23","112 pp.",{"$f":"Table1[[#This Row],[QTY]]*Table1[[#This Row],['# of Books]]","v":0},{"$f":"Table1[[#This Row],[QTY]]*Table1[[#This Row],[School & Library Price]]","v":0}]
[null,null,null,98,"Got Issues?","Are You LGBTQ?",1,"eBook","978-0-7660-7140-7",2016,"January 2016",null,"Author","Jeanne Nagle",null,null,null,null,"Z",null,"Grade 7 - 8","Grade 7 - 12","Lesbian Gay Bisexual Transgender Queer or Questioning. Each of these terms has an individual meaning and community around them. Through interviews with professionals as well as those in the LGBTQ community, readers can learn not only the definition of each of these words, but also what it means on a greater scale. Perfect for research or personal use, this text will provide teens with answers to many of their questions about sexuality and create a dialogue through which they can learn to accept each other and themselves.","English",37.270000000000003,27.95,"306.76’60835--dc23","112 pp.",{"$f":"Table1[[#This Row],[QTY]]*Table1[[#This Row],['# of Books]]","v":0},{"$f":"Table1[[#This Row],[QTY]]*Table1[[#This Row],[School & Library Price]]","v":0}]
[null,null,null,98,"Got Issues?","Are You Misusing Other People's Words?: What Plagiarism Is And How To Avoid It",1,"Library Bound Book","978-0-7660-4321-3",2015,"August 2014","6.000 X 9.000","Author","Barbara Francis",8.3000000000000007,null,null,null,"T","1110L","Grade 6 - 7","Grade 6 - 12","Understand what plagiarism is and why it is wrong. While plagiarism has been a problem since the invention of the printing press, today the Internet had made copying and cheating easier than ever. Author Barbara Francis describes ways that students can avoid plagiarism in their own work and ways that teachers and communities can combat it. ","English",37.270000000000003,27.95,"808.02","112 pp.",{"$f":"Table1[[#This Row],[QTY]]*Table1[[#This Row],['# of Books]]","v":0},{"$f":"Table1[[#This Row],[QTY]]*Table1[[#This Row],[School & Library Price]]","v":0}]
[null,null,null,98,"Got Issues?","Are You Misusing Other People's Words?: What Plagiarism Is And How To Avoid It",1,"eBook","978-0-7660-5915-3",2015,"August 2014",null,"Author","Barbara Francis",8.3000000000000007,null,null,null,"T","1110L","Grade 6 - 7","Grade 6 - 12","Understand what plagiarism is and why it is wrong. While plagiarism has been a problem since the invention of the printing press, today the Internet had made copying and cheating easier than ever. Author Barbara Francis describes ways that students can avoid plagiarism in their own work and ways that teachers and communities can combat it. ","English",37.270000000000003,27.95,"808.02","112 pp.",{"$f":"Table1[[#This Row],[QTY]]*Table1[[#This Row],['# of Books]]","v":0},{"$f":"Table1[[#This Row],[QTY]]*Table1[[#This Row],[School & Library Price]]","v":0}]
[null,null,null,98,"Got Issues?","Are You Stressed Out In School?",1,"Library Bound Book","978-0-7660-6983-1",2016,"August 2015","6.000 X 9.000","Author","Stephanie Sammartino McPherson",null,null,null,null,"Z",null,"Grade 7","Grade 7 - 12","Between standardized tests, extra-curricular activities, pressure from parents, and the strain of getting into college, school is more stressful than ever. Relieve some of that stress by learning techniques to deal with the mounting pressure felt by students every day.","English",37.270000000000003,27.95,"371.713--d23","128 pp.",{"$f":"Table1[[#This Row],[QTY]]*Table1[[#This Row],['# of Books]]","v":0},{"$f":"Table1[[#This Row],[QTY]]*Table1[[#This Row],[School & Library Price]]","v":0}]
[null,null,null,98,"Got Issues?","Are You Stressed Out In School?",1,"eBook","978-0-7660-6984-8",2016,"August 2015",null,"Author","Stephanie Sammartino McPherson",null,null,null,null,"Z",null,"Grade 7","Grade 7 - 12","Between standardized tests, extra-curricular activities, pressure from parents, and the strain of getting into college, school is more stressful than ever. Relieve some of that stress by learning techniques to deal with the mounting pressure felt by students every day.","English",37.270000000000003,27.95,"371.713--d23","128 pp.",{"$f":"Table1[[#This Row],[QTY]]*Table1[[#This Row],['# of Books]]","v":0},{"$f":"Table1[[#This Row],[QTY]]*Table1[[#This Row],[School & Library Price]]","v":0}]
[null,null,null,98,"Got Issues?","Did Someone You Love Die?",1,"Library Bound Book","978-0-7660-6985-5",2016,"August 2015","6.000 X 9.000","Author","Tracy A. Phillips",null,null,null,null,"Z",null,"Grade 7","Grade 7 - 12","For a teen, it can be especially difficult to lose a family member or friend through death. Explore the emotions involved and learn ways to get through this experience as well as how to support someone living through a loss.","English",37.270000000000003,27.95,"155.9'37--dc23","128 pp.",{"$f":"Table1[[#This Row],[QTY]]*Table1[[#This Row],['# of Books]]","v":0},{"$f":"Table1[[#This Row],[QTY]]*Table1[[#This Row],[School & Library Price]]","v":0}]
[null,null,null,98,"Got Issues?","Did Someone You Love Die?",1,"eBook","978-0-7660-6986-2",2016,"August 2015",null,"Author","Tracy A. Phillips",null,null,null,null,"Z",null,"Grade 7","Grade 7 - 12","For a teen, it can be especially difficult to lose a family member or friend through death. Explore the emotions involved and learn ways to get through this experience as well as how to support someone living through a loss.","English",37.270000000000003,27.95,"155.9'37--dc23","128 pp.",{"$f":"Table1[[#This Row],[QTY]]*Table1[[#This Row],['# of Books]]","v":0},{"$f":"Table1[[#This Row],[QTY]]*Table1[[#This Row],[School & Library Price]]","v":0}]
[null,null,null,98,"Got Issues?","Do You Get Into Arguments?",1,"Library Bound Book","978-0-7660-7189-6",2016,"January 2016","6.000 X 9.000","Author, Author","Monique Vescia, Karen Faye Judson",null,null,null,null,"Z",null,"Grade 7 - 8","Grade 7 - 12","While it’s normal to argue from time to time, is there a point when it’s too much? Through up-to-date informational text that includes first-hand accounts by teens and advice from experts, this book will teach readers new techniques for dealing with their anger, as well as ways of avoiding arguments and disagreements. Excellent for research or for personal use.","English",37.270000000000003,27.95,"155.5'1247--dc23","128 pp.",{"$f":"Table1[[#This Row],[QTY]]*Table1[[#This Row],['# of Books]]","v":0},{"$f":"Table1[[#This Row],[QTY]]*Table1[[#This Row],[School & Library Price]]","v":0}]
[null,null,null,98,"Got Issues?","Do You Get Into Arguments?",1,"eBook","978-0-7660-7190-2",2016,"January 2016",null,"Author, Author","Monique Vescia, Karen Faye Judson",null,null,null,null,"Z",null,"Grade 7 - 8","Grade 7 - 12","While it’s normal to argue from time to time, is there a point when it’s too much? Through up-to-date informational text that includes first-hand accounts by teens and advice from experts, this book will teach readers new techniques for dealing with their anger, as well as ways of avoiding arguments and disagreements. Excellent for research or for personal use.","English",37.270000000000003,27.95,"155.5'1247--dc23","128 pp.",{"$f":"Table1[[#This Row],[QTY]]*Table1[[#This Row],['# of Books]]","v":0},{"$f":"Table1[[#This Row],[QTY]]*Table1[[#This Row],[School & Library Price]]","v":0}]
[null,null,null,98,"Got Issues?","Do You Have a Friend Who Is Suicidal?",1,"Library Bound Book","978-0-7660-7191-9",2016,"January 2016","6.000 X 9.000","Author","Elizabeth Wahl",null,null,null,null,"Z",null,"Grade 7 - 8","Grade 7 - 12","In today’s high-paced, high-pressure world, many teens cave into the pressure and decide to take their own lives, leaving behind confused and hurt family and friends. Through expert advice and firsthand accounts from teens, readers can learn the warning signs of suicidal behavior, and how best to help others or themselves.","English",37.270000000000003,27.95,"362.28--dc23","112 pp.",{"$f":"Table1[[#This Row],[QTY]]*Table1[[#This Row],['# of Books]]","v":0},{"$f":"Table1[[#This Row],[QTY]]*Table1[[#This Row],[School & Library Price]]","v":0}]
[null,null,null,98,"Got Issues?","Do You Have a Friend Who Is Suicidal?",1,"eBook","978-0-7660-7192-6",2016,"January 2016",null,"Author","Elizabeth Wahl",null,null,null,null,"Z",null,"Grade 7 - 8","Grade 7 - 12","In today’s high-paced, high-pressure world, many teens cave into the pressure and decide to take their own lives, leaving behind confused and hurt family and friends. Through expert advice and firsthand accounts from teens, readers can learn the warning signs of suicidal behavior, and how best to help others or themselves.","English",37.270000000000003,27.95,"362.28--dc23","112 pp.",{"$f":"Table1[[#This Row],[QTY]]*Table1[[#This Row],['# of Books]]","v":0},{"$f":"Table1[[#This Row],[QTY]]*Table1[[#This Row],[School & Library Price]]","v":0}]
[null,null,null,98,"Got Issues?","Do You Know What to Eat?",1,"Library Bound Book","978-0-7660-6987-9",2016,"August 2015","6.000 X 9.000","Author","Kathlyn Gay",null,null,null,null,"Z",null,"Grade 7","Grade 7 - 12","Eating right is one of the most important things a person can do. A proper diet can boost your energy, your creativity, and your focus. But eating the wrong foods, overeating, or not eating enough can be a problem. This book explains nutrition and the best ways to get it, helping readers understand that food is more than just an everyday meal.","English",37.270000000000003,27.95,"613.2--dc23","128 pp.",{"$f":"Table1[[#This Row],[QTY]]*Table1[[#This Row],['# of Books]]","v":0},{"$f":"Table1[[#This Row],[QTY]]*Table1[[#This Row],[School & Library Price]]","v":0}]
[null,null,null,98,"Got Issues?","Do You Know What to Eat?",1,"eBook","978-0-7660-6988-6",2016,"August 2015",null,"Author","Kathlyn Gay",null,null,null,null,"Z",null,"Grade 7","Grade 7 - 12","Eating right is one of the most important things a person can do. A proper diet can boost your energy, your creativity, and your focus. But eating the wrong foods, overeating, or not eating enough can be a problem. This book explains nutrition and the best ways to get it, helping readers understand that food is more than just an everyday meal.","English",37.270000000000003,27.95,"613.2--dc23","128 pp.",{"$f":"Table1[[#This Row],[QTY]]*Table1[[#This Row],['# of Books]]","v":0},{"$f":"Table1[[#This Row],[QTY]]*Table1[[#This Row],[School & Library Price]]","v":0}]
[null,null,null,98,"Got Issues?","Do You Know Your Rights?",1,"Library Bound Book","978-0-7660-7193-3",2016,"January 2016","6.000 X 9.000","Author","Maurene Hinds",null,null,null,null,"Z",null,"Grade 7 - 8","Grade 7 - 12","Most American teens know that when they turn eighteen they can vote, or that they have the right to free speech or to a twelfth-grade education. But what about other rights? Through expert advice and interviews with teens, readers will learn about their rights as consumers and employees, rights to health care and access to information, and their rights when they are in abusive situations or when they break the law.","English",37.270000000000003,27.95,"305.235--dc23","112 pp.",{"$f":"Table1[[#This Row],[QTY]]*Table1[[#This Row],['# of Books]]","v":0},{"$f":"Table1[[#This Row],[QTY]]*Table1[[#This Row],[School & Library Price]]","v":0}]
[null,null,null,98,"Got Issues?","Do You Know Your Rights?",1,"eBook","978-0-7660-7194-0",2016,"January 2016",null,"Author","Maurene Hinds",null,null,null,null,"Z",null,"Grade 7 - 8","Grade 7 - 12","Most American teens know that when they turn eighteen they can vote, or that they have the right to free speech or to a twelfth-grade education. But what about other rights? Through expert advice and interviews with teens, readers will learn about their rights as consumers and employees, rights to health care and access to information, and their rights when they are in abusive situations or when they break the law.","English",37.270000000000003,27.95,"305.235--dc23","112 pp.",{"$f":"Table1[[#This Row],[QTY]]*Table1[[#This Row],['# of Books]]","v":0},{"$f":"Table1[[#This Row],[QTY]]*Table1[[#This Row],[School & Library Price]]","v":0}]
[null,null,null,98,"Got Issues?","Do You Wonder About Sex and Sexuality?",1,"Library Bound Book","978-0-7660-6989-3",2016,"August 2015","6.000 X 9.000","Author","Stephen Feinstein",null,null,null,null,"Z",null,"Grade 7","Grade 7 - 12","Sex and sexuality can be difficult topics to talk about. Find answers to your questions as you learn about the complex and sometimes controversial topics of sexuality, contraception, abstinence, sex education, pregnancy, and STDs. A little knowledge goes a long way in helping you to make informed decisions.","English",37.270000000000003,27.95,"613.9071'2--dc23","128 pp.",{"$f":"Table1[[#This Row],[QTY]]*Table1[[#This Row],['# of Books]]","v":0},{"$f":"Table1[[#This Row],[QTY]]*Table1[[#This Row],[School & Library Price]]","v":0}]
[null,null,null,98,"Got Issues?","Do You Wonder About Sex and Sexuality?",1,"eBook","978-0-7660-6990-9",2016,"August 2015",null,"Author","Stephen Feinstein",null,null,null,null,"Z",null,"Grade 7","Grade 7 - 12","Sex and sexuality can be difficult topics to talk about. Find answers to your questions as you learn about the complex and sometimes controversial topics of sexuality, contraception, abstinence, sex education, pregnancy, and STDs. A little knowledge goes a long way in helping you to make informed decisions.","English",37.270000000000003,27.95,"613.9071'2--dc23","128 pp.",{"$f":"Table1[[#This Row],[QTY]]*Table1[[#This Row],['# of Books]]","v":0},{"$f":"Table1[[#This Row],[QTY]]*Table1[[#This Row],[School & Library Price]]","v":0}]
[null,null,null,99,"Be Smart About Money and Financial Literacy","Be Smart About Money and Financial Literacy",6,"Library Set","978-0-7660-8045-4",2014,"January 2014","6.000 X 9.000",null,null,null,null,null,null,null,null,"Grade 6 - 12","Grade 6 - 12",null,"English",135.6,101.7,null,"48 pp.",{"$f":"Table1[[#This Row],[QTY]]*Table1[[#This Row],['# of Books]]","v":0},{"$f":"Table1[[#This Row],[QTY]]*Table1[[#This Row],[School & Library Price]]","v":0}]
[null,null,null,99,"Be Smart About Money and Financial Literacy","Be Smart About Credit: Credit and Debt Management",1,"Library Bound Book","978-0-7660-4282-7",2014,"January 2014","6.000 X 9.000","Author","Kathiann M. Kowalski",6.3,null,null,null,"P","940L","Grade 8 - 9","Grade 8 - 12","Oh, the things you can buy with a small piece of plastic! It may seem like your first credit card is a ticket to buy anything you want. But be careful. Credit can be your best friend or your worst enemy if you don’t manage it right. Credit may help you pay for college or buy your first car. It can be a great financial tool, but you must learn to use it wisely. BE SMART ABOUT CREDIT will show you the various forms of credit, the best ways to use credit, and help you manage your debt so you can build a strong financial future. ","English",22.6,16.95,"332.024","48 pp.",{"$f":"Table1[[#This Row],[QTY]]*Table1[[#This Row],['# of Books]]","v":0},{"$f":"Table1[[#This Row],[QTY]]*Table1[[#This Row],[School & Library Price]]","v":0}]
[null,null,null,99,"Be Smart About Money and Financial Literacy","Be Smart About Credit: Credit and Debt Management",1,"eBook","978-0-7660-5894-1",2014,"January 2014",null,"Author","Kathiann M. Kowalski",6.3,null,null,null,"P","940L","Grade 8 - 9","Grade 8 - 12","Oh, the things you can buy with a small piece of plastic! It may seem like your first credit card is a ticket to buy anything you want. But be careful. Credit can be your best friend or your worst enemy if you don’t manage it right. Credit may help you pay for college or buy your first car. It can be a great financial tool, but you must learn to use it wisely. BE SMART ABOUT CREDIT will show you the various forms of credit, the best ways to use credit, and help you manage your debt so you can build a strong financial future. ","English",22.6,16.95,"332.024","48 pp.",{"$f":"Table1[[#This Row],[QTY]]*Table1[[#This Row],['# of Books]]","v":0},{"$f":"Table1[[#This Row],[QTY]]*Table1[[#This Row],[School & Library Price]]","v":0}]
[null,null,null,99,"Be Smart About Money and Financial Literacy","Be Smart About Investing: Planning, Saving, and the Stock Market",1,"Library Bound Book","978-0-7660-4281-0",2014,"January 2014","6.000 X 9.000","Author","Kathiann M. Kowalski",6.3,null,null,null,"P","950L","Grade 8 - 9","Grade 8 - 12","With $100 in your pocket, you could buy new jeans, a pair of shoes, and a couple movie tickets. You might still have some left over. But what if you took that $100 and invested it instead? In ten years, that $100 might turn into $1,000—even $10,000! Saving, planning, and smart investments can make your money grow. It might not be as much fun as spending it, but you’ll be much better off in the future. BE SMART ABOUT INVESTING will get you started on the best ways to save your money, learn about the stock market, and plan your financial future. ","English",22.6,16.95,"332.6","48 pp.",{"$f":"Table1[[#This Row],[QTY]]*Table1[[#This Row],['# of Books]]","v":0},{"$f":"Table1[[#This Row],[QTY]]*Table1[[#This Row],[School & Library Price]]","v":0}]
[null,null,null,99,"Be Smart About Money and Financial Literacy","Be Smart About Investing: Planning, Saving, and the Stock Market",1,"eBook","978-0-7660-5893-4",2014,"January 2014",null,"Author","Kathiann M. Kowalski",6.3,null,null,null,"P","950L","Grade 8 - 9","Grade 8 - 12","With $100 in your pocket, you could buy new jeans, a pair of shoes, and a couple movie tickets. You might still have some left over. But what if you took that $100 and invested it instead? In ten years, that $100 might turn into $1,000—even $10,000! Saving, planning, and smart investments can make your money grow. It might not be as much fun as spending it, but you’ll be much better off in the future. BE SMART ABOUT INVESTING will get you started on the best ways to save your money, learn about the stock market, and plan your financial future. ","English",22.6,16.95,"332.6","48 pp.",{"$f":"Table1[[#This Row],[QTY]]*Table1[[#This Row],['# of Books]]","v":0},{"$f":"Table1[[#This Row],[QTY]]*Table1[[#This Row],[School & Library Price]]","v":0}]
[null,null,null,99,"Be Smart About Money and Financial Literacy","Be Smart About Money: Money Management and Budgeting",1,"Library Bound Book","978-0-7660-4292-6",2014,"January 2014","6.000 X 9.000","Author","Sherri Mabry Gordon",6.3,null,null,null,"O","980L","Grade 8 - 9","Grade 8 - 12","When you get your first paycheck, the impulse is to spend it right away. After all, there's the new smartphone and video game system you want. But if you choose to spend quickly, you'll find your money disappears—fast! How do you avoid this common mistake? Smart money management and budgeting! Be prepared for your first paycheck. Plan a budget. Save. BE SMART ABOUT MONEY will show you the basics to managing your money, provide smart ways to save and spend, and how to create your personal budget. ","English",22.6,16.95,"332.024","48 pp.",{"$f":"Table1[[#This Row],[QTY]]*Table1[[#This Row],['# of Books]]","v":0},{"$f":"Table1[[#This Row],[QTY]]*Table1[[#This Row],[School & Library Price]]","v":0}]
[null,null,null,99,"Be Smart About Money and Financial Literacy","Be Smart About Money: Money Management and Budgeting",1,"eBook","978-0-7660-5903-0",2014,"January 2014",null,"Author","Sherri Mabry Gordon",6.3,null,null,null,"O","980L","Grade 8 - 9","Grade 8 - 12","When you get your first paycheck, the impulse is to spend it right away. After all, there's the new smartphone and video game system you want. But if you choose to spend quickly, you'll find your money disappears—fast! How do you avoid this common mistake? Smart money management and budgeting! Be prepared for your first paycheck. Plan a budget. Save. BE SMART ABOUT MONEY will show you the basics to managing your money, provide smart ways to save and spend, and how to create your personal budget. ","English",22.6,16.95,"332.024","48 pp.",{"$f":"Table1[[#This Row],[QTY]]*Table1[[#This Row],['# of Books]]","v":0},{"$f":"Table1[[#This Row],[QTY]]*Table1[[#This Row],[School & Library Price]]","v":0}]
[null,null,null,99,"Be Smart About Money and Financial Literacy","Be Smart About Shopping: The Critical Consumer and Civic Financial Responsibility",1,"Library Bound Book","978-0-7660-4283-4",2014,"January 2014","6.000 X 9.000","Author","Kathiann M. Kowalski",6.1,null,null,null,"O","940L","Grade 8 - 9","Grade 8 - 12","Should you buy that smartphone at full price now or wait for the sale? Shopping can be fun but also stressful, especially on a teen-sized budget. That’s why it’s important to be a critical consumer. It’s easy to spend money, but how do you save? With helpful tips and math word problems, BE SMART ABOUT SHOPPING will show you how to make smart financial decisions, avoid the bad deal, and get the most for your money. ","English",22.6,16.95,"640.73","48 pp.",{"$f":"Table1[[#This Row],[QTY]]*Table1[[#This Row],['# of Books]]","v":0},{"$f":"Table1[[#This Row],[QTY]]*Table1[[#This Row],[School & Library Price]]","v":0}]
[null,null,null,99,"Be Smart About Money and Financial Literacy","Be Smart About Shopping: The Critical Consumer and Civic Financial Responsibility",1,"eBook","978-0-7660-5895-8",2014,"January 2014",null,"Author","Kathiann M. Kowalski",6.1,null,null,null,"O","940L","Grade 8 - 9","Grade 8 - 12","Should you buy that smartphone at full price now or wait for the sale? Shopping can be fun but also stressful, especially on a teen-sized budget. That’s why it’s important to be a critical consumer. It’s easy to spend money, but how do you save? With helpful tips and math word problems, BE SMART ABOUT SHOPPING will show you how to make smart financial decisions, avoid the bad deal, and get the most for your money. ","English",22.6,16.95,"640.73","48 pp.",{"$f":"Table1[[#This Row],[QTY]]*Table1[[#This Row],['# of Books]]","v":0},{"$f":"Table1[[#This Row],[QTY]]*Table1[[#This Row],[School & Library Price]]","v":0}]
[null,null,null,99,"Be Smart About Money and Financial Literacy","Be Smart About Your Career: College, Income, and Careers",1,"Library Bound Book","978-0-7660-4286-5",2014,"January 2014","6.000 X 9.000","Author","Amy Graham",6.1,null,null,null,"O","880L","Grade 8 - 9","Grade 8 - 12","Doctor. Lawyer. Teacher. Astronaut. President of the United States. There are thousands of careers out there. Maybe you don’t know what you want to be yet. But no matter what career you’re interested in pursuing, the dream—and the hard work to get there—starts now. So it couldn’t hurt to be prepared. From smart ways to pay for college to decoding your first paycheck, BE SMART ABOUT YOUR CAREER will help you with the basics of choosing a college and setting a career plan you can achieve. ","English",22.6,16.95,"650.1","48 pp.",{"$f":"Table1[[#This Row],[QTY]]*Table1[[#This Row],['# of Books]]","v":0},{"$f":"Table1[[#This Row],[QTY]]*Table1[[#This Row],[School & Library Price]]","v":0}]
[null,null,null,99,"Be Smart About Money and Financial Literacy","Be Smart About Your Career: College, Income, and Careers",1,"eBook","978-0-7660-5898-9",2014,"January 2014",null,"Author","Amy Graham",6.1,null,null,null,"O","880L","Grade 8 - 9","Grade 8 - 12","Doctor. Lawyer. Teacher. Astronaut. President of the United States. There are thousands of careers out there. Maybe you don’t know what you want to be yet. But no matter what career you’re interested in pursuing, the dream—and the hard work to get there—starts now. So it couldn’t hurt to be prepared. From smart ways to pay for college to decoding your first paycheck, BE SMART ABOUT YOUR CAREER will help you with the basics of choosing a college and setting a career plan you can achieve. ","English",22.6,16.95,"650.1","48 pp.",{"$f":"Table1[[#This Row],[QTY]]*Table1[[#This Row],['# of Books]]","v":0},{"$f":"Table1[[#This Row],[QTY]]*Table1[[#This Row],[School & Library Price]]","v":0}]
[null,null,null,99,"Be Smart About Money and Financial Literacy","Be Smart About Your Future: Risk Management and Insurance",1,"Library Bound Book","978-0-7660-4285-8",2014,"January 2014","6.000 X 9.000","Author","Amy Graham",6.1,null,null,null,"P","900L","Grade 8 - 9","Grade 8 - 12","Have you ever been in a car accident? Did you ever go to the hospital because you were really sick? Accidents happen. People get sick. Life is unpredictable, and, unfortunately, bad things can happen. You cannot protect yourself from everything, but you can protect your future with smart choices and another helpful, life-saving tool—insurance. From auto insurance to health insurance to life insurance, BE SMART ABOUT YOUR FUTURE will help you learn about the importance of insurance and risk management. ","English",22.6,16.95,"368.00973","48 pp.",{"$f":"Table1[[#This Row],[QTY]]*Table1[[#This Row],['# of Books]]","v":0},{"$f":"Table1[[#This Row],[QTY]]*Table1[[#This Row],[School & Library Price]]","v":0}]
[null,null,null,99,"Be Smart About Money and Financial Literacy","Be Smart About Your Future: Risk Management and Insurance",1,"eBook","978-0-7660-5897-2",2014,"January 2014",null,"Author","Amy Graham",6.1,null,null,null,"P","900L","Grade 8 - 9","Grade 8 - 12","Have you ever been in a car accident? Did you ever go to the hospital because you were really sick? Accidents happen. People get sick. Life is unpredictable, and, unfortunately, bad things can happen. You cannot protect yourself from everything, but you can protect your future with smart choices and another helpful, life-saving tool—insurance. From auto insurance to health insurance to life insurance, BE SMART ABOUT YOUR FUTURE will help you learn about the importance of insurance and risk management. ","English",22.6,16.95,"368.00973","48 pp.",{"$f":"Table1[[#This Row],[QTY]]*Table1[[#This Row],['# of Books]]","v":0},{"$f":"Table1[[#This Row],[QTY]]*Table1[[#This Row],[School & Library Price]]","v":0}]
[null,null,null,100,"Handy Health Guides","Handy Health Guides",12,"Library Set","978-0-7660-8047-8",2014,"August 2013","7.500 X 9.000",null,null,null,null,null,null,null,null,"Grade 6 - 12","Grade 6 - 12",null,"English",303.24,227.4,null,"48 pp.",{"$f":"Table1[[#This Row],[QTY]]*Table1[[#This Row],['# of Books]]","v":0},{"$f":"Table1[[#This Row],[QTY]]*Table1[[#This Row],[School & Library Price]]","v":0}]
[null,null,null,100,"Handy Health Guides","Handy Health Guide to ADHD",1,"Library Bound Book","978-0-7660-4270-4",2014,"August 2013","7.500 X 9.000","Author, Author","Alvin Silverstein, Virginia Silverstein",5.8,null,null,null,"R","920L","Grade 5 - 6","Grade 5 - 12","What is ADHD? Find out all about who gets ADHD, what causes it, how it is diagnosed and treated in the HANDY HEALTH GUIDE TO ADHD. ","English",25.27,18.95,"618.92","48 pp.",{"$f":"Table1[[#This Row],[QTY]]*Table1[[#This Row],['# of Books]]","v":0},{"$f":"Table1[[#This Row],[QTY]]*Table1[[#This Row],[School & Library Price]]","v":0}]
[null,null,null,100,"Handy Health Guides","Handy Health Guide to ADHD",1,"eBook","978-0-7660-5882-8",2014,"August 2013",null,"Author, Author","Alvin Silverstein, Virginia Silverstein",5.8,null,null,null,"R","920L","Grade 5 - 6","Grade 5 - 12","What is ADHD? Find out all about who gets ADHD, what causes it, how it is diagnosed and treated in the HANDY HEALTH GUIDE TO ADHD. ","English",25.27,18.95,"618.92","48 pp.",{"$f":"Table1[[#This Row],[QTY]]*Table1[[#This Row],['# of Books]]","v":0},{"$f":"Table1[[#This Row],[QTY]]*Table1[[#This Row],[School & Library Price]]","v":0}]
[null,null,null,100,"Handy Health Guides","Handy Health Guide to Asthma",1,"Library Bound Book","978-0-7660-4269-8",2014,"August 2013","7.500 X 9.000","Author, Author","Alvin Silverstein, Virginia Silverstein",6.8,null,null,null,"Q","980L","Grade 5 - 6","Grade 5 - 12","Authors Alvin and Virginia Silverstein and Laura Silverstein Nunn explore asthma in this new title in the HANDY HEALTH GUIDES series. Find out what asthma is, what triggers attacks, and how to treat and prevent asthma attacks. ","English",25.27,18.95,"616.2","48 pp.",{"$f":"Table1[[#This Row],[QTY]]*Table1[[#This Row],['# of Books]]","v":0},{"$f":"Table1[[#This Row],[QTY]]*Table1[[#This Row],[School & Library Price]]","v":0}]
[null,null,null,100,"Handy Health Guides","Handy Health Guide to Asthma",1,"eBook","978-0-7660-5881-1",2014,"August 2013",null,"Author, Author","Alvin Silverstein, Virginia Silverstein",6.8,null,null,null,"Q","980L","Grade 5 - 6","Grade 5 - 12","Authors Alvin and Virginia Silverstein and Laura Silverstein Nunn explore asthma in this new title in the HANDY HEALTH GUIDES series. Find out what asthma is, what triggers attacks, and how to treat and prevent asthma attacks. ","English",25.27,18.95,"616.2","48 pp.",{"$f":"Table1[[#This Row],[QTY]]*Table1[[#This Row],['# of Books]]","v":0},{"$f":"Table1[[#This Row],[QTY]]*Table1[[#This Row],[School & Library Price]]","v":0}]
[null,null,null,100,"Handy Health Guides","Handy Health Guide to Better Sleep",1,"Library Bound Book","978-0-7660-4278-0",2014,"August 2013","7.500 X 9.000","Author, Author","Alvin Silverstein, Virginia Silverstein",5.0999999999999996,null,null,null,"Q","830L","Grade 5 - 6","Grade 5 - 12","Why do we need to sleep? The HANDY HEALTH GUIDE TO BETTER SLEEP explores why people sleep, what dreams are, common sleep issues, and good sleeping habits. An interesting look at why we need to recharge our batteries! ","English",25.27,18.95,"616.8","48 pp.",{"$f":"Table1[[#This Row],[QTY]]*Table1[[#This Row],['# of Books]]","v":0},{"$f":"Table1[[#This Row],[QTY]]*Table1[[#This Row],[School & Library Price]]","v":0}]
[null,null,null,100,"Handy Health Guides","Handy Health Guide to Better Sleep",1,"eBook","978-0-7660-5890-3",2014,"August 2013",null,"Author, Author","Alvin Silverstein, Virginia Silverstein",5.0999999999999996,null,null,null,"Q","830L","Grade 5 - 6","Grade 5 - 12","Why do we need to sleep? The HANDY HEALTH GUIDE TO BETTER SLEEP explores why people sleep, what dreams are, common sleep issues, and good sleeping habits. An interesting look at why we need to recharge our batteries! ","English",25.27,18.95,"616.8","48 pp.",{"$f":"Table1[[#This Row],[QTY]]*Table1[[#This Row],['# of Books]]","v":0},{"$f":"Table1[[#This Row],[QTY]]*Table1[[#This Row],[School & Library Price]]","v":0}]
[null,null,null,100,"Handy Health Guides","Handy Health Guide to Bites and Stings",1,"Library Bound Book","978-0-7660-4271-1",2014,"August 2013","7.500 X 9.000","Author, Author","Alvin Silverstein, Virginia Silverstein",5.5,null,null,null,"Q","910L","Grade 5 - 6","Grade 5 - 12","Did you know that kids usually get more bug bites than adults? It's true! Find out why people are so appealing to bugs, and how to prevent and treat bites and stings from a variety of insects and animals. ","English",25.27,18.95,"615.9","48 pp.",{"$f":"Table1[[#This Row],[QTY]]*Table1[[#This Row],['# of Books]]","v":0},{"$f":"Table1[[#This Row],[QTY]]*Table1[[#This Row],[School & Library Price]]","v":0}]
[null,null,null,100,"Handy Health Guides","Handy Health Guide to Bites and Stings",1,"eBook","978-0-7660-5883-5",2014,"August 2013",null,"Author, Author","Alvin Silverstein, Virginia Silverstein",5.5,null,null,null,"Q","910L","Grade 5 - 6","Grade 5 - 12","Did you know that kids usually get more bug bites than adults? It's true! Find out why people are so appealing to bugs, and how to prevent and treat bites and stings from a variety of insects and animals. ","English",25.27,18.95,"615.9","48 pp.",{"$f":"Table1[[#This Row],[QTY]]*Table1[[#This Row],['# of Books]]","v":0},{"$f":"Table1[[#This Row],[QTY]]*Table1[[#This Row],[School & Library Price]]","v":0}]
[null,null,null,100,"Handy Health Guides","Handy Health Guide to Burns and Blisters",1,"Library Bound Book","978-0-7660-4272-8",2014,"August 2013","7.500 X 9.000","Author, Author","Alvin Silverstein, Virginia Silverstein",5.8,null,null,null,"Q","920L","Grade 5 - 6","Grade 5 - 12","Have you ever touched a hot pan by accident? You may have even gotten slightly burned when you did. Authors Alvin and Viriginia Silverstien and Laura Silverstein Nunn explore the different types of burns you can get, and how to best prevent burns, blisters, and sunburns. ","English",25.27,18.95,"617.1","48 pp.",{"$f":"Table1[[#This Row],[QTY]]*Table1[[#This Row],['# of Books]]","v":0},{"$f":"Table1[[#This Row],[QTY]]*Table1[[#This Row],[School & Library Price]]","v":0}]
[null,null,null,100,"Handy Health Guides","Handy Health Guide to Burns and Blisters",1,"eBook","978-0-7660-5884-2",2014,"August 2013",null,"Author, Author","Alvin Silverstein, Virginia Silverstein",5.8,null,null,null,"Q","920L","Grade 5 - 6","Grade 5 - 12","Have you ever touched a hot pan by accident? You may have even gotten slightly burned when you did. Authors Alvin and Viriginia Silverstien and Laura Silverstein Nunn explore the different types of burns you can get, and how to best prevent burns, blisters, and sunburns. ","English",25.27,18.95,"617.1","48 pp.",{"$f":"Table1[[#This Row],[QTY]]*Table1[[#This Row],['# of Books]]","v":0},{"$f":"Table1[[#This Row],[QTY]]*Table1[[#This Row],[School & Library Price]]","v":0}]
[null,null,null,100,"Handy Health Guides","Handy Health Guide to Colds and Flu",1,"Library Bound Book","978-0-7660-4274-2",2014,"August 2013","7.500 X 9.000","Author, Author","Alvin Silverstein, Virginia Silverstein",6.1,null,null,null,"R","930L","Grade 5 - 6","Grade 5 - 12","Everybody gets sick! Use the HANDY HEALTH GUIDE TO COLDS AND FLU to explore the common cold and the flu, how these diseases are spread, treated, and prevented.  ","English",25.27,18.95,"616.2","48 pp.",{"$f":"Table1[[#This Row],[QTY]]*Table1[[#This Row],['# of Books]]","v":0},{"$f":"Table1[[#This Row],[QTY]]*Table1[[#This Row],[School & Library Price]]","v":0}]
[null,null,null,100,"Handy Health Guides","Handy Health Guide to Colds and Flu",1,"eBook","978-0-7660-5886-6",2014,"August 2013",null,"Author, Author","Alvin Silverstein, Virginia Silverstein",6.1,null,null,null,"R","930L","Grade 5 - 6","Grade 5 - 12","Everybody gets sick! Use the HANDY HEALTH GUIDE TO COLDS AND FLU to explore the common cold and the flu, how these diseases are spread, treated, and prevented.  ","English",25.27,18.95,"616.2","48 pp.",{"$f":"Table1[[#This Row],[QTY]]*Table1[[#This Row],['# of Books]]","v":0},{"$f":"Table1[[#This Row],[QTY]]*Table1[[#This Row],[School & Library Price]]","v":0}]
[null,null,null,100,"Handy Health Guides","Handy Health Guide to Diabetes",1,"Library Bound Book","978-0-7660-4275-9",2014,"August 2013","7.500 X 9.000","Author, Author","Alvin Silverstein, Virginia Silverstein",6.8,null,null,null,"R","980L","Grade 5 - 6","Grade 5 - 12","Diabetes affects people in all age groups. The HANDY HEALTH GUIDE TO DIABETES explores what this disease is, the different types of diabetes, testing for it, and treating it. Authors Alvin and Virigina Silverstein and Laura Silverstein Nunn make it easy to understand this topic. ","English",25.27,18.95,"616.4","48 pp.",{"$f":"Table1[[#This Row],[QTY]]*Table1[[#This Row],['# of Books]]","v":0},{"$f":"Table1[[#This Row],[QTY]]*Table1[[#This Row],[School & Library Price]]","v":0}]
[null,null,null,100,"Handy Health Guides","Handy Health Guide to Diabetes",1,"eBook","978-0-7660-5887-3",2014,"August 2013",null,"Author, Author","Alvin Silverstein, Virginia Silverstein",6.8,null,null,null,"R","980L","Grade 5 - 6","Grade 5 - 12","Diabetes affects people in all age groups. The HANDY HEALTH GUIDE TO DIABETES explores what this disease is, the different types of diabetes, testing for it, and treating it. Authors Alvin and Virigina Silverstein and Laura Silverstein Nunn make it easy to understand this topic. ","English",25.27,18.95,"616.4","48 pp.",{"$f":"Table1[[#This Row],[QTY]]*Table1[[#This Row],['# of Books]]","v":0},{"$f":"Table1[[#This Row],[QTY]]*Table1[[#This Row],[School & Library Price]]","v":0}]
[null,null,null,100,"Handy Health Guides","Handy Health Guide to Dyslexia",1,"Library Bound Book","978-0-7660-4276-6",2014,"August 2013","7.500 X 9.000","Author, Author","Alvin Silverstein, Virginia Silverstein",6.1,null,null,null,"Q","930L","Grade 5 - 6","Grade 5 - 12","HANDY HEALTH GUIDE TO DYSLEXIA describes this learning disorder, and discusses diagnosing dyslexia and getting help. ","English",25.27,18.95,"616.85","48 pp.",{"$f":"Table1[[#This Row],[QTY]]*Table1[[#This Row],['# of Books]]","v":0},{"$f":"Table1[[#This Row],[QTY]]*Table1[[#This Row],[School & Library Price]]","v":0}]
[null,null,null,100,"Handy Health Guides","Handy Health Guide to Dyslexia",1,"eBook","978-0-7660-5888-0",2014,"August 2013",null,"Author, Author","Alvin Silverstein, Virginia Silverstein",6.1,null,null,null,"Q","930L","Grade 5 - 6","Grade 5 - 12","HANDY HEALTH GUIDE TO DYSLEXIA describes this learning disorder, and discusses diagnosing dyslexia and getting help. ","English",25.27,18.95,"616.85","48 pp.",{"$f":"Table1[[#This Row],[QTY]]*Table1[[#This Row],['# of Books]]","v":0},{"$f":"Table1[[#This Row],[QTY]]*Table1[[#This Row],[School & Library Price]]","v":0}]
[null,null,null,100,"Handy Health Guides","Handy Health Guide to Headaches",1,"Library Bound Book","978-0-7660-4277-3",2014,"August 2013","7.500 X 9.000","Author, Author","Alvin Silverstein, Virginia Silverstein",6,null,null,null,"Q","930L","Grade 5 - 6","Grade 5 - 12","The HANDY HEALTH GUIDE TO HEADACHES explores why headaches hurt us so much. Authors Alvin and Virginia Silverstein and Laura Silverstein Nunn examine a variety of different types of headaches and give advice on both preventing and treating headaches. ","English",25.27,18.95,"616.8","48 pp.",{"$f":"Table1[[#This Row],[QTY]]*Table1[[#This Row],['# of Books]]","v":0},{"$f":"Table1[[#This Row],[QTY]]*Table1[[#This Row],[School & Library Price]]","v":0}]
[null,null,null,100,"Handy Health Guides","Handy Health Guide to Headaches",1,"eBook","978-0-7660-5889-7",2014,"August 2013",null,"Author, Author","Alvin Silverstein, Virginia Silverstein",6,null,null,null,"Q","930L","Grade 5 - 6","Grade 5 - 12","The HANDY HEALTH GUIDE TO HEADACHES explores why headaches hurt us so much. Authors Alvin and Virginia Silverstein and Laura Silverstein Nunn examine a variety of different types of headaches and give advice on both preventing and treating headaches. ","English",25.27,18.95,"616.8","48 pp.",{"$f":"Table1[[#This Row],[QTY]]*Table1[[#This Row],['# of Books]]","v":0},{"$f":"Table1[[#This Row],[QTY]]*Table1[[#This Row],[School & Library Price]]","v":0}]
[null,null,null,100,"Handy Health Guides","Handy Health Guide to Sore Throats",1,"Library Bound Book","978-0-7660-4279-7",2014,"August 2013","7.500 X 9.000","Author, Author","Alvin Silverstein, Virginia Silverstein",5.6,null,null,null,"R","920L","Grade 5 - 6","Grade 5 - 12","Have you ever had a sore throat? What caused it, and how do you make it feel better? The HANDY HEALTH GUIDE TO SORE THROATS examins what causes sore throats, your body's ways of healing, tonsillitis, strep throat and how to feel better. ","English",25.27,18.95,"616.3","48 pp.",{"$f":"Table1[[#This Row],[QTY]]*Table1[[#This Row],['# of Books]]","v":0},{"$f":"Table1[[#This Row],[QTY]]*Table1[[#This Row],[School & Library Price]]","v":0}]
[null,null,null,100,"Handy Health Guides","Handy Health Guide to Sore Throats",1,"eBook","978-0-7660-5891-0",2014,"August 2013",null,"Author, Author","Alvin Silverstein, Virginia Silverstein",5.6,null,null,null,"R","920L","Grade 5 - 6","Grade 5 - 12","Have you ever had a sore throat? What caused it, and how do you make it feel better? The HANDY HEALTH GUIDE TO SORE THROATS examins what causes sore throats, your body's ways of healing, tonsillitis, strep throat and how to feel better. ","English",25.27,18.95,"616.3","48 pp.",{"$f":"Table1[[#This Row],[QTY]]*Table1[[#This Row],['# of Books]]","v":0},{"$f":"Table1[[#This Row],[QTY]]*Table1[[#This Row],[School & Library Price]]","v":0}]
[null,null,null,100,"Handy Health Guides","Handy Health Guide to Your Eyes",1,"Library Bound Book","978-0-7660-4273-5",2014,"August 2013","7.500 X 9.000","Author, Author","Alvin Silverstein, Virginia Silverstein",5.6,null,null,null,"Q","920L","Grade 5 - 6","Grade 5 - 12","Do you know someone who wears glasses? Find out how your eyes work, and how to take care of your eyes. The HANDY HEALTH GUIDE TO YOUR EYES also explores why people need glasses or contacts. ","English",25.27,18.95,"612.8","48 pp.",{"$f":"Table1[[#This Row],[QTY]]*Table1[[#This Row],['# of Books]]","v":0},{"$f":"Table1[[#This Row],[QTY]]*Table1[[#This Row],[School & Library Price]]","v":0}]
[null,null,null,100,"Handy Health Guides","Handy Health Guide to Your Eyes",1,"eBook","978-0-7660-5885-9",2014,"August 2013",null,"Author, Author","Alvin Silverstein, Virginia Silverstein",5.6,null,null,null,"Q","920L","Grade 5 - 6","Grade 5 - 12","Do you know someone who wears glasses? Find out how your eyes work, and how to take care of your eyes. The HANDY HEALTH GUIDE TO YOUR EYES also explores why people need glasses or contacts. ","English",25.27,18.95,"612.8","48 pp.",{"$f":"Table1[[#This Row],[QTY]]*Table1[[#This Row],['# of Books]]","v":0},{"$f":"Table1[[#This Row],[QTY]]*Table1[[#This Row],[School & Library Price]]","v":0}]
[null,null,null,100,"Handy Health Guides","Handy Health Guide to Your Teeth",1,"Library Bound Book","978-0-7660-4280-3",2014,"August 2013","7.500 X 9.000","Author, Author","Alvin Silverstein, Virginia Silverstein",5.4,null,null,null,"Q","890L","Grade 5 - 6","Grade 5 - 12","Have you ever had a cavity? Find out what cavities are, and how to prevent them in this title in the HANDY HEALTH GUIDES series. Authors Alvin and Viriginia Silverstein and Laura Silverstein Nunn examine why our teeth are important, and how to take care of them. ","English",25.27,18.95,"617.6","48 pp.",{"$f":"Table1[[#This Row],[QTY]]*Table1[[#This Row],['# of Books]]","v":0},{"$f":"Table1[[#This Row],[QTY]]*Table1[[#This Row],[School & Library Price]]","v":0}]
[null,null,null,100,"Handy Health Guides","Handy Health Guide to Your Teeth",1,"eBook","978-0-7660-5892-7",2014,"August 2013",null,"Author, Author","Alvin Silverstein, Virginia Silverstein",5.4,null,null,null,"Q","890L","Grade 5 - 6","Grade 5 - 12","Have you ever had a cavity? Find out what cavities are, and how to prevent them in this title in the HANDY HEALTH GUIDES series. Authors Alvin and Viriginia Silverstein and Laura Silverstein Nunn examine why our teeth are important, and how to take care of them. ","English",25.27,18.95,"617.6","48 pp.",{"$f":"Table1[[#This Row],[QTY]]*Table1[[#This Row],['# of Books]]","v":0},{"$f":"Table1[[#This Row],[QTY]]*Table1[[#This Row],[School & Library Price]]","v":0}]
[null,null,null,101,"Girls Dealing With Feelings","Girls Dealing With Feelings",6,"Library Set","978-0-7660-8049-2",2015,"August 2014","6.000 X 9.000",null,null,null,null,null,null,null,null,"Grade 9 - 12","Grade 9 - 12",null,"English",107.7,80.75,null,"64 pp.",{"$f":"Table1[[#This Row],[QTY]]*Table1[[#This Row],['# of Books]]","v":0},{"$f":"Table1[[#This Row],[QTY]]*Table1[[#This Row],[School & Library Price]]","v":0}]
[null,null,null,101,"Girls Dealing With Feelings","Angry Girl?: Girls Dealing With Feelings",1,"Library Bound Book","978-1-6229-3030-2",2015,"August 2014","6.000 X 9.000","Author","Gail Snyder",6.4,null,null,null,"R","960L","Grade 5 - 6","Grade 5 - 12","Your heart is racing, your muscles stiffen, and you can't think clearly—you are so mad you want to scream and throw something! Exploding in anger is not the best way to deal with a problem, so how do you stop yourself from doing something you'll regret later? ANGRY GIRL? uses real-life examples and quotations to illustrate the causes of anger and its biological, emotional, and social effects. It also provides research-based information on how to handle it in a healthy way. Take a quiz to find out if you anger easily and learn how to improve the situation. ","English",17.95,13.46,"155.5","64 pp.",{"$f":"Table1[[#This Row],[QTY]]*Table1[[#This Row],['# of Books]]","v":0},{"$f":"Table1[[#This Row],[QTY]]*Table1[[#This Row],[School & Library Price]]","v":0}]
[null,null,null,101,"Girls Dealing With Feelings","Angry Girl?: Girls Dealing With Feelings",1,"eBook","978-1-6229-3034-0",2015,"August 2014",null,"Author","Gail Snyder",6.4,null,null,null,"R","960L","Grade 5 - 6","Grade 5 - 12","Your heart is racing, your muscles stiffen, and you can't think clearly—you are so mad you want to scream and throw something! Exploding in anger is not the best way to deal with a problem, so how do you stop yourself from doing something you'll regret later? ANGRY GIRL? uses real-life examples and quotations to illustrate the causes of anger and its biological, emotional, and social effects. It also provides research-based information on how to handle it in a healthy way. Take a quiz to find out if you anger easily and learn how to improve the situation. ","English",30.6,22.95,"155.5","64 pp.",{"$f":"Table1[[#This Row],[QTY]]*Table1[[#This Row],['# of Books]]","v":0},{"$f":"Table1[[#This Row],[QTY]]*Table1[[#This Row],[School & Library Price]]","v":0}]
[null,null,null,101,"Girls Dealing With Feelings","Feeling Unloved?: Girls Dealing With Feelings",1,"Library Bound Book","978-1-6229-3050-0",2015,"August 2014","6.000 X 9.000","Author","Dorothy Kavanaugh",null,null,null,null,"R","930L","Grade 5 - 6","Grade 5 - 12","Love can be both the best thing and worse thing to happen to you. Maybe you can't seem to find it at all. Whether you're too afraid to approach your crush or you've been recently dumped by your lover, what do you do when you feel unloved? FEELING UNLOVED? discusses the ups and downs of romance, and provides research-based information on the best ways to deal with crushes, dating, relationships, and breakups. Take a quiz to figure out if what you have is the real thing or if it's not right for you. ","English",17.95,13.46,"155.5","64 pp.",{"$f":"Table1[[#This Row],[QTY]]*Table1[[#This Row],['# of Books]]","v":0},{"$f":"Table1[[#This Row],[QTY]]*Table1[[#This Row],[School & Library Price]]","v":0}]
[null,null,null,101,"Girls Dealing With Feelings","Feeling Unloved?: Girls Dealing With Feelings",1,"eBook","978-1-6229-3054-8",2015,"August 2014",null,"Author","Dorothy Kavanaugh",null,null,null,null,"R","930L","Grade 5 - 6","Grade 5 - 12","Love can be both the best thing and worse thing to happen to you. Maybe you can't seem to find it at all. Whether you're too afraid to approach your crush or you've been recently dumped by your lover, what do you do when you feel unloved? FEELING UNLOVED? discusses the ups and downs of romance, and provides research-based information on the best ways to deal with crushes, dating, relationships, and breakups. Take a quiz to figure out if what you have is the real thing or if it's not right for you. ","English",30.6,22.95,"155.5","64 pp.",{"$f":"Table1[[#This Row],[QTY]]*Table1[[#This Row],['# of Books]]","v":0},{"$f":"Table1[[#This Row],[QTY]]*Table1[[#This Row],[School & Library Price]]","v":0}]
[null,null,null,101,"Girls Dealing With Feelings","Hassled Girl?: Girls Dealing With Feelings",1,"Library Bound Book","978-1-6229-3035-7",2015,"August 2014","6.000 X 9.000","Author","Dorothy Kavanaugh",null,null,null,null,"R","950L","Grade 5 - 6","Grade 5 - 12","Is a bully harassing you at school? Do you feel like your parents just don't understand you? Are you fighting with a friend or sibling? Mismanaged conflict can lead to damaged relationships, mistrust, and hostility. You can't change how you feel when someone says or does something you disagree with, but you can control how you react. Using real-life examples and quotations, HASSLED GIRL? discusses the causes and effects of conflict and provides research-based information on how to resolve it. Take a quiz to discover your communication style, and take the first steps to improve how you deal with conflict so you can begin to mend your relationships. ","English",17.95,13.46,"303.6","64 pp.",{"$f":"Table1[[#This Row],[QTY]]*Table1[[#This Row],['# of Books]]","v":0},{"$f":"Table1[[#This Row],[QTY]]*Table1[[#This Row],[School & Library Price]]","v":0}]
[null,null,null,101,"Girls Dealing With Feelings","Hassled Girl?: Girls Dealing With Feelings",1,"eBook","978-1-6229-3039-5",2015,"August 2014",null,"Author","Dorothy Kavanaugh",null,null,null,null,"R","950L","Grade 5 - 6","Grade 5 - 12","Is a bully harassing you at school? Do you feel like your parents just don't understand you? Are you fighting with a friend or sibling? Mismanaged conflict can lead to damaged relationships, mistrust, and hostility. You can't change how you feel when someone says or does something you disagree with, but you can control how you react. Using real-life examples and quotations, HASSLED GIRL? discusses the causes and effects of conflict and provides research-based information on how to resolve it. Take a quiz to discover your communication style, and take the first steps to improve how you deal with conflict so you can begin to mend your relationships. ","English",30.6,22.95,"303.6","64 pp.",{"$f":"Table1[[#This Row],[QTY]]*Table1[[#This Row],['# of Books]]","v":0},{"$f":"Table1[[#This Row],[QTY]]*Table1[[#This Row],[School & Library Price]]","v":0}]
[null,null,null,101,"Girls Dealing With Feelings","Jealous Girl?: Girls Dealing With Feelings",1,"Library Bound Book","978-1-6229-3045-6",2015,"August 2014","6.000 X 9.000","Author","Gail Snyder",null,null,null,null,"R","1030L","Grade 5 - 6","Grade 5 - 12","Is your best friend a better athlete than you are? Do your parents seem to favor your sister over you? Does seeing your lover talking to another girl make you crazy? Everyone feels jealous or envious at one time or another, but if you constantly feel like the world is unfair to you, you may need some help keeping these negative emotions in check. JEALOUS GIRL? uses real-life examples and quotations to illustrate the causes and effects of irrational jealousy and envy and provides strategies and tips on how to overcome them. ","English",17.95,13.46,"155.5","64 pp.",{"$f":"Table1[[#This Row],[QTY]]*Table1[[#This Row],['# of Books]]","v":0},{"$f":"Table1[[#This Row],[QTY]]*Table1[[#This Row],[School & Library Price]]","v":0}]
[null,null,null,101,"Girls Dealing With Feelings","Jealous Girl?: Girls Dealing With Feelings",1,"eBook","978-1-6229-3049-4",2015,"August 2014",null,"Author","Gail Snyder",null,null,null,null,"R","1030L","Grade 5 - 6","Grade 5 - 12","Is your best friend a better athlete than you are? Do your parents seem to favor your sister over you? Does seeing your lover talking to another girl make you crazy? Everyone feels jealous or envious at one time or another, but if you constantly feel like the world is unfair to you, you may need some help keeping these negative emotions in check. JEALOUS GIRL? uses real-life examples and quotations to illustrate the causes and effects of irrational jealousy and envy and provides strategies and tips on how to overcome them. ","English",30.6,22.95,"155.5","64 pp.",{"$f":"Table1[[#This Row],[QTY]]*Table1[[#This Row],['# of Books]]","v":0},{"$f":"Table1[[#This Row],[QTY]]*Table1[[#This Row],[School & Library Price]]","v":0}]
[null,null,null,101,"Girls Dealing With Feelings","Lonely Girl?: Girls Dealing With Feelings",1,"Library Bound Book","978-1-6229-3055-5",2015,"August 2014","6.000 X 9.000","Author","Gail Snyder",null,null,null,null,"R","960L","Grade 5 - 6","Grade 5 - 12","Besides taking an emotional toll on you, loneliness can take a physical toll on your body as well. Studies show that lonely people have higher blood pressure, which can cause heart disease, than people who don't feel lonely. If you aren't a loner by choice, how can you cope? Using real-life examples and quotations, LONELY GIRL? discusses the biological, emotional, and social effects of loneliness and provides research-based information on the best ways to overcome it. Take a quiz to find out if shyness is keeping you from making friends, and read tips on how to be more social. ","English",17.95,13.46,"155.5","64 pp.",{"$f":"Table1[[#This Row],[QTY]]*Table1[[#This Row],['# of Books]]","v":0},{"$f":"Table1[[#This Row],[QTY]]*Table1[[#This Row],[School & Library Price]]","v":0}]
[null,null,null,101,"Girls Dealing With Feelings","Lonely Girl?: Girls Dealing With Feelings",1,"eBook","978-1-6229-3059-3",2015,"August 2014",null,"Author","Gail Snyder",null,null,null,null,"R","960L","Grade 5 - 6","Grade 5 - 12","Besides taking an emotional toll on you, loneliness can take a physical toll on your body as well. Studies show that lonely people have higher blood pressure, which can cause heart disease, than people who don't feel lonely. If you aren't a loner by choice, how can you cope? Using real-life examples and quotations, LONELY GIRL? discusses the biological, emotional, and social effects of loneliness and provides research-based information on the best ways to overcome it. Take a quiz to find out if shyness is keeping you from making friends, and read tips on how to be more social. ","English",30.6,22.95,"155.5","64 pp.",{"$f":"Table1[[#This Row],[QTY]]*Table1[[#This Row],['# of Books]]","v":0},{"$f":"Table1[[#This Row],[QTY]]*Table1[[#This Row],[School & Library Price]]","v":0}]
[null,null,null,101,"Girls Dealing With Feelings","Stressed-Out Girl?: Girls Dealing With Feelings",1,"Library Bound Book","978-1-6229-3040-1",2015,"August 2014","6.000 X 9.000","Author","Annie Belfield",null,null,null,null,"R","980L","Grade 5 - 6","Grade 5 - 12","Common stressors for young women include family trouble, issues with friends, academic and social aspects of school, insecurity, and life-changing events that come with becoming an adult. You may feel pressure weighing down on you from several different sources and like you're losing control. Using real-life examples and quotations, STRESSED-OUT GIRL? discusses what triggers stress and its effects on your body and mind. Take a quiz to determine your stress level, and learn healthful strategies to reduce the stress in your life. ","English",17.95,13.46,"155.5","64 pp.",{"$f":"Table1[[#This Row],[QTY]]*Table1[[#This Row],['# of Books]]","v":0},{"$f":"Table1[[#This Row],[QTY]]*Table1[[#This Row],[School & Library Price]]","v":0}]
[null,null,null,101,"Girls Dealing With Feelings","Stressed-Out Girl?: Girls Dealing With Feelings",1,"eBook","978-1-6229-3044-9",2015,"August 2014",null,"Author","Annie Belfield",null,null,null,null,"R","980L","Grade 5 - 6","Grade 5 - 12","Common stressors for young women include family trouble, issues with friends, academic and social aspects of school, insecurity, and life-changing events that come with becoming an adult. You may feel pressure weighing down on you from several different sources and like you're losing control. Using real-life examples and quotations, STRESSED-OUT GIRL? discusses what triggers stress and its effects on your body and mind. Take a quiz to determine your stress level, and learn healthful strategies to reduce the stress in your life. ","English",30.6,22.95,"155.5","64 pp.",{"$f":"Table1[[#This Row],[QTY]]*Table1[[#This Row],['# of Books]]","v":0},{"$f":"Table1[[#This Row],[QTY]]*Table1[[#This Row],[School & Library Price]]","v":0}]
[null,null,null,101,"A Guy's Guide","A Guy's Guide",6,"Library Set","978-0-7660-8051-5",2015,"August 2014","6.000 X 9.000",null,null,null,null,null,null,null,null,"Grade 6 - 12","Grade 6 - 12",null,"",107.7,80.760000000000005,null,"64 pp.",{"$f":"Table1[[#This Row],[QTY]]*Table1[[#This Row],['# of Books]]","v":0},{"$f":"Table1[[#This Row],[QTY]]*Table1[[#This Row],[School & Library Price]]","v":0}]
[null,null,null,101,"A Guy's Guide","A Hassled Guy's Guide: How to Deal",1,"Library Bound Book","978-1-6229-3005-0",2015,"August 2014","6.000 X 9.000","Author","Jim Gallagher",null,null,null,null,"R","910L","Grade 5 - 7","Grade 5 - 12","Are you fighting with your parents or a friend? Are you being hassled or bullied? Do you lash out at them or give them the silent treatment? Neither of these strategies solve the problem, so what do you do? A HASSLED GUY’S GUIDE uses real-life examples and quotations to illustrate the causes of conflict and its biological and emotional effects. This book also provides research-based information on finding healthy ways to resolve the issue. Effective communication is the key. Take a quiz to discover your communication style, and take the first steps to improve how you deal with conflict so you can begin to mend your relationships. ","English",17.95,13.46,"303.6","64 pp.",{"$f":"Table1[[#This Row],[QTY]]*Table1[[#This Row],['# of Books]]","v":0},{"$f":"Table1[[#This Row],[QTY]]*Table1[[#This Row],[School & Library Price]]","v":0}]
[null,null,null,101,"A Guy's Guide","A Hassled Guy's Guide: How to Deal",1,"eBook","978-1-6229-3009-8",2015,"August 2014",null,"Author","Jim Gallagher",null,null,null,null,"R","910L","Grade 5 - 7","Grade 5 - 12","Are you fighting with your parents or a friend? Are you being hassled or bullied? Do you lash out at them or give them the silent treatment? Neither of these strategies solve the problem, so what do you do? A HASSLED GUY’S GUIDE uses real-life examples and quotations to illustrate the causes of conflict and its biological and emotional effects. This book also provides research-based information on finding healthy ways to resolve the issue. Effective communication is the key. Take a quiz to discover your communication style, and take the first steps to improve how you deal with conflict so you can begin to mend your relationships. ","English",30.6,22.95,"303.6","64 pp.",{"$f":"Table1[[#This Row],[QTY]]*Table1[[#This Row],['# of Books]]","v":0},{"$f":"Table1[[#This Row],[QTY]]*Table1[[#This Row],[School & Library Price]]","v":0}]
[null,null,null,101,"A Guy's Guide","A Jealous Guy's Guide: How to Deal",1,"Library Bound Book","978-1-6229-3015-9",2015,"August 2014","6.000 X 9.000","Author","Hal Marcovitz",null,null,null,null,"S","1010L","Grade 5 - 7","Grade 5 - 12","Did your best friend get a higher grade than you did on an exam? Did your brother get the newest cell phone while you’re still stuck with the same model from two years ago? Do you feel like guys are always trying to steal your lover away from you? You can’t control what other people do, but you can control how you react. A JEALOUS GUY'S GUIDE uses real-life examples and quotations to illustrate the causes of jealousy and envy and how they affect your body and emotions. Take a quiz to discover if your jealousy is taking over your life, and learn what to do—and what not to do— to deal with it. ","English",17.95,13.46,"155.5","64 pp.",{"$f":"Table1[[#This Row],[QTY]]*Table1[[#This Row],['# of Books]]","v":0},{"$f":"Table1[[#This Row],[QTY]]*Table1[[#This Row],[School & Library Price]]","v":0}]
[null,null,null,101,"A Guy's Guide","A Jealous Guy's Guide: How to Deal",1,"eBook","978-1-6229-3019-7",2015,"August 2014",null,"Author","Hal Marcovitz",null,null,null,null,"S","1010L","Grade 5 - 7","Grade 5 - 12","Did your best friend get a higher grade than you did on an exam? Did your brother get the newest cell phone while you’re still stuck with the same model from two years ago? Do you feel like guys are always trying to steal your lover away from you? You can’t control what other people do, but you can control how you react. A JEALOUS GUY'S GUIDE uses real-life examples and quotations to illustrate the causes of jealousy and envy and how they affect your body and emotions. Take a quiz to discover if your jealousy is taking over your life, and learn what to do—and what not to do— to deal with it. ","English",30.6,22.95,"155.5","64 pp.",{"$f":"Table1[[#This Row],[QTY]]*Table1[[#This Row],['# of Books]]","v":0},{"$f":"Table1[[#This Row],[QTY]]*Table1[[#This Row],[School & Library Price]]","v":0}]
[null,null,null,101,"A Guy's Guide","A Lonely Guy's Guide: How to Deal",1,"Library Bound Book","978-1-6229-3025-8",2015,"August 2014","6.000 X 9.000","Author","Hal Marcovitz",null,null,null,null,"S","920L","Grade 5 - 7","Grade 5 - 12","Is it difficult for you to make friends? Have you lost the one person you felt most comfortable with? Is your extreme shyness getting in the way of your happiness? Many people choose to be alone, but for those who don’t, the loneliness they experience may feel overwhelming and insurmountable. A LONELY GUY’S GUIDE discusses the negative effects of loneliness and provides research-based information on overcoming it. Take a quiz to figure out if you are an introvert or extrovert and discover how that affects your feelings about being alone. ","English",17.95,13.46,"155.5","64 pp.",{"$f":"Table1[[#This Row],[QTY]]*Table1[[#This Row],['# of Books]]","v":0},{"$f":"Table1[[#This Row],[QTY]]*Table1[[#This Row],[School & Library Price]]","v":0}]
[null,null,null,101,"A Guy's Guide","A Lonely Guy's Guide: How to Deal",1,"eBook","978-1-6229-3029-6",2015,"August 2014",null,"Author","Hal Marcovitz",null,null,null,null,"S","920L","Grade 5 - 7","Grade 5 - 12","Is it difficult for you to make friends? Have you lost the one person you felt most comfortable with? Is your extreme shyness getting in the way of your happiness? Many people choose to be alone, but for those who don’t, the loneliness they experience may feel overwhelming and insurmountable. A LONELY GUY’S GUIDE discusses the negative effects of loneliness and provides research-based information on overcoming it. Take a quiz to figure out if you are an introvert or extrovert and discover how that affects your feelings about being alone. ","English",30.6,22.95,"155.5","64 pp.",{"$f":"Table1[[#This Row],[QTY]]*Table1[[#This Row],['# of Books]]","v":0},{"$f":"Table1[[#This Row],[QTY]]*Table1[[#This Row],[School & Library Price]]","v":0}]
[null,null,null,101,"A Guy's Guide","A Stressed-Out Guy's Guide: How to Deal",1,"Library Bound Book","978-1-6229-3010-4",2015,"August 2014","6.000 X 9.000","Author","Travis Clark",null,null,null,null,"S","990L","Grade 5 - 7","Grade 5 - 12","Maybe you're dealing with problems at work, school, or in your family. These issues are affecting your sleep, eating habits, and relationships with others. You feel like you're losing control of your life. What do you do? Using real-life examples and quotations, A STRESSED GUY'S GUIDE discusses the biological, emotional, and social effects of stress and provides research-based information about getting support and coping with it. Take a quiz to figure out how high your stress levels are, and take the first steps to improve how you manage your stress. ","English",17.95,13.46,"155.5","64 pp.",{"$f":"Table1[[#This Row],[QTY]]*Table1[[#This Row],['# of Books]]","v":0},{"$f":"Table1[[#This Row],[QTY]]*Table1[[#This Row],[School & Library Price]]","v":0}]
[null,null,null,101,"A Guy's Guide","A Stressed-Out Guy's Guide: How to Deal",1,"eBook","978-1-6229-3014-2",2015,"August 2014",null,"Author","Travis Clark",null,null,null,null,"S","990L","Grade 5 - 7","Grade 5 - 12","Maybe you're dealing with problems at work, school, or in your family. These issues are affecting your sleep, eating habits, and relationships with others. You feel like you're losing control of your life. What do you do? Using real-life examples and quotations, A STRESSED GUY'S GUIDE discusses the biological, emotional, and social effects of stress and provides research-based information about getting support and coping with it. Take a quiz to figure out how high your stress levels are, and take the first steps to improve how you manage your stress. ","English",30.6,22.95,"155.5","64 pp.",{"$f":"Table1[[#This Row],[QTY]]*Table1[[#This Row],['# of Books]]","v":0},{"$f":"Table1[[#This Row],[QTY]]*Table1[[#This Row],[School & Library Price]]","v":0}]
[null,null,null,101,"A Guy's Guide","An Angry Guy's Guide: How to Deal",1,"Library Bound Book","978-1-6229-3003-6",2015,"August 2014","6.000 X 9.000","Author","Hal Marcovitz",6.6,null,null,null,"S","960L","Grade 5 - 7","Grade 5 - 12","Your face feels hot, your muscles tighten, you see red—you are angry…and you don’t know what to do about it. Using real-life examples and quotations, AN ANGRY GUY'S GUIDE discusses the biological, emotional, and social effects of anger and provides research-based information about getting support and coping with it. Take a quiz to figure out if you are aggressive, passive, or assertive, and take the first steps to improve how you deal with anger. ","English",17.95,13.46,"155.5","64 pp.",{"$f":"Table1[[#This Row],[QTY]]*Table1[[#This Row],['# of Books]]","v":0},{"$f":"Table1[[#This Row],[QTY]]*Table1[[#This Row],[School & Library Price]]","v":0}]
[null,null,null,101,"A Guy's Guide","An Angry Guy's Guide: How to Deal",1,"eBook","978-1-6229-3004-3",2015,"August 2014",null,"Author","Hal Marcovitz",6.6,null,null,null,"S","960L","Grade 5 - 7","Grade 5 - 12","Your face feels hot, your muscles tighten, you see red—you are angry…and you don’t know what to do about it. Using real-life examples and quotations, AN ANGRY GUY'S GUIDE discusses the biological, emotional, and social effects of anger and provides research-based information about getting support and coping with it. Take a quiz to figure out if you are aggressive, passive, or assertive, and take the first steps to improve how you deal with anger. ","English",30.6,22.95,"155.5","64 pp.",{"$f":"Table1[[#This Row],[QTY]]*Table1[[#This Row],['# of Books]]","v":0},{"$f":"Table1[[#This Row],[QTY]]*Table1[[#This Row],[School & Library Price]]","v":0}]
[null,null,null,101,"A Guy's Guide","An Unloved Guy's Guide: How to Deal",1,"Library Bound Book","978-1-6229-3020-3",2015,"August 2014","6.000 X 9.000","Author","John Logan",null,null,null,null,"R","910L","Grade 5 - 7","Grade 5 - 12","Do you have trouble getting dates? Did your significant other break up with you recently? Does it seem like everyone in the world is happily paired up except you? What do you do about these feelings of rejection, loneliness, and frustration?  Using real-life examples and quotations, AN UNLOVED GUY'S GUIDE discusses the biological, emotional, and social effects of love and provides research-based information on the best ways to deal with crushes, dating, relationships, and breakups. If you've got your eyes set on someone, take a quiz to find out if this crush has a chance and how to make the first move. ","English",17.95,13.46,"155.5","64 pp.",{"$f":"Table1[[#This Row],[QTY]]*Table1[[#This Row],['# of Books]]","v":0},{"$f":"Table1[[#This Row],[QTY]]*Table1[[#This Row],[School & Library Price]]","v":0}]
[null,null,null,101,"A Guy's Guide","An Unloved Guy's Guide: How to Deal",1,"eBook","978-1-6229-3024-1",2015,"August 2014",null,"Author","John Logan",null,null,null,null,"R","910L","Grade 5 - 7","Grade 5 - 12","Do you have trouble getting dates? Did your significant other break up with you recently? Does it seem like everyone in the world is happily paired up except you? What do you do about these feelings of rejection, loneliness, and frustration?  Using real-life examples and quotations, AN UNLOVED GUY'S GUIDE discusses the biological, emotional, and social effects of love and provides research-based information on the best ways to deal with crushes, dating, relationships, and breakups. If you've got your eyes set on someone, take a quiz to find out if this crush has a chance and how to make the first move. ","English",30.6,22.95,"155.5","64 pp.",{"$f":"Table1[[#This Row],[QTY]]*Table1[[#This Row],['# of Books]]","v":0},{"$f":"Table1[[#This Row],[QTY]]*Table1[[#This Row],[School & Library Price]]","v":0}]
[null,null,null,102,"Military Engineering in Action","Military Engineering in Action",12,"Library Set","978-0-7660-7940-3",2017,"August 2016","7.250 X 9.250",null,null,null,null,null,null,null,null,"Grade 5 - 6","Grade 6 - 8","Readers are right at the forefront of cutting-edge military technology as they learn about the innovation, development, use of each type of technology by the different branches of the armed forces, and the training required. Action-packed stories from soldiers and sailors and fact boxes provide an inside look at what it’s like to be in the military.","English",335.16,251.4,null,"48 pp.",{"$f":"Table1[[#This Row],[QTY]]*Table1[[#This Row],['# of Books]]","v":0},{"$f":"Table1[[#This Row],[QTY]]*Table1[[#This Row],[School & Library Price]]","v":0}]
[null,null,null,102,"Military Engineering in Action","Armored Tanks: Battlefield Dominance",1,"Library Bound Book","978-0-7660-6908-4",2016,"August 2015","7.250 X 9.250","Author, Author","Gerry Souter, Taylor Baldwin Kiland",7,1,null,null,"Z",null,"Grade 6","Grade 6 - 8","Although armored tanks have been in use since World War II, they have undergone changes in recent years. Used all over the world, the armored tank has become a standard military weapon. Learn how they work, what they do, and why they are so effective from the soldiers who operate them.","English",27.93,20.95,"355.8’3—dc23","48 pp.",{"$f":"Table1[[#This Row],[QTY]]*Table1[[#This Row],['# of Books]]","v":0},{"$f":"Table1[[#This Row],[QTY]]*Table1[[#This Row],[School & Library Price]]","v":0}]
[null,null,null,102,"Military Engineering in Action","Armored Tanks: Battlefield Dominance",1,"eBook","978-0-7660-6909-1",2016,"August 2015",null,"Author, Author","Gerry Souter, Taylor Baldwin Kiland",7,1,null,null,"Z",null,"Grade 6","Grade 6 - 8","Although armored tanks have been in use since World War II, they have undergone changes in recent years. Used all over the world, the armored tank has become a standard military weapon. Learn how they work, what they do, and why they are so effective from the soldiers who operate them.","English",27.93,20.95,"355.8’3—dc23","48 pp.",{"$f":"Table1[[#This Row],[QTY]]*Table1[[#This Row],['# of Books]]","v":0},{"$f":"Table1[[#This Row],[QTY]]*Table1[[#This Row],[School & Library Price]]","v":0}]
[null,null,null,102,"Military Engineering in Action","Biosecurity: Preventing Biological Warfare",1,"Library Bound Book","978-0-7660-7543-6",2017,"August 2016","7.250 X 9.250","Author","Earle Rice, Jr.",8.4,1,null,null,"X",null,"Grade 5 - 6","Grade 6 - 8","What is bioterrorism and how can the United States prepare and defend itself from this threat? Readers will learn about the history of biological warfare and terrorism—from ancient to medieval to modern times. Stories of a salmonella cult attack, a smallpox outbreak war game to test the nation’s readiness for a biological attack, and biosecurity breaches in Tokyo describe some of the nation’s experiences with biological warfare. Through informative text, full-color photos, and fact boxes, this book details US Army training against bioweapons, the future of biosecurity, and the prevention of bioweapon proliferation in the global community.","English",27.93,20.95,"358/.384--dc23","48 pp.",{"$f":"Table1[[#This Row],[QTY]]*Table1[[#This Row],['# of Books]]","v":0},{"$f":"Table1[[#This Row],[QTY]]*Table1[[#This Row],[School & Library Price]]","v":0}]
[null,null,null,102,"Military Engineering in Action","Biosecurity: Preventing Biological Warfare",1,"eBook","978-0-7660-7544-3",2017,"August 2016",null,"Author","Earle Rice, Jr.",8.4,1,null,null,"X",null,"Grade 5 - 6","Grade 6 - 8","What is bioterrorism and how can the United States prepare and defend itself from this threat? Readers will learn about the history of biological warfare and terrorism—from ancient to medieval to modern times. Stories of a salmonella cult attack, a smallpox outbreak war game to test the nation’s readiness for a biological attack, and biosecurity breaches in Tokyo describe some of the nation’s experiences with biological warfare. Through informative text, full-color photos, and fact boxes, this book details US Army training against bioweapons, the future of biosecurity, and the prevention of bioweapon proliferation in the global community.","English",27.93,20.95,"358/.384--dc23","48 pp.",{"$f":"Table1[[#This Row],[QTY]]*Table1[[#This Row],['# of Books]]","v":0},{"$f":"Table1[[#This Row],[QTY]]*Table1[[#This Row],[School & Library Price]]","v":0}]
[null,null,null,102,"Military Engineering in Action","Cyber Technology: Using Computers to Fight Terrorism",1,"Library Bound Book","978-0-7660-7538-2",2017,"August 2016","7.250 X 9.250","Author","Judy Silverstein Gray",8.1999999999999993,1,null,null,"X",null,"Grade 5 - 6","Grade 6 - 8","Cyber technology and counterterrorism are a hot topic today, and this book details how criminals, terrorists, and enemy governments attempt to use technology against the United States. How can we counter this threat? What training is our military and government using to prevent and/or repel cyberattacks? Students will learn about the cyber warriors who protect our nation’s information networks. Historical accounts include narrative about the codebreakers during World War II. Full-color photos, engaging text, fact boxes, and information about how to prepare for a career in cybersecurity in the military round out this new title.","English",27.93,20.95,"363.325--dc23","48 pp.",{"$f":"Table1[[#This Row],[QTY]]*Table1[[#This Row],['# of Books]]","v":0},{"$f":"Table1[[#This Row],[QTY]]*Table1[[#This Row],[School & Library Price]]","v":0}]
[null,null,null,102,"Military Engineering in Action","Cyber Technology: Using Computers to Fight Terrorism",1,"eBook","978-0-7660-7539-9",2017,"August 2016",null,"Author","Judy Silverstein Gray",8.1999999999999993,1,null,null,"X",null,"Grade 5 - 6","Grade 6 - 8","Cyber technology and counterterrorism are a hot topic today, and this book details how criminals, terrorists, and enemy governments attempt to use technology against the United States. How can we counter this threat? What training is our military and government using to prevent and/or repel cyberattacks? Students will learn about the cyber warriors who protect our nation’s information networks. Historical accounts include narrative about the codebreakers during World War II. Full-color photos, engaging text, fact boxes, and information about how to prepare for a career in cybersecurity in the military round out this new title.","English",27.93,20.95,"363.325--dc23","48 pp.",{"$f":"Table1[[#This Row],[QTY]]*Table1[[#This Row],['# of Books]]","v":0},{"$f":"Table1[[#This Row],[QTY]]*Table1[[#This Row],[School & Library Price]]","v":0}]
[null,null,null,102,"Military Engineering in Action","Drones: Remote-Controlled Warfare",1,"Library Bound Book","978-0-7660-7512-2",2017,"August 2016","7.250 X 9.250","Author","Judy Silverstein Gray",7.8,1,null,null,"X",null,"Grade 5 - 6","Grade 6 - 8","Students will meet a modern-day drone pilot and learn about the combat missions he performs. They will read about the history of UAVs, such as the use of pilotless balloons during the Civil War, and how these unmanned aerial vehicles, or UAVs, are used in military operations today. Full-color photos highlight the technology behind drones and fact boxes detail how to prepare for a career as a UAV pilot.","English",27.93,20.95,"623.74/69--dc23","48 pp.",{"$f":"Table1[[#This Row],[QTY]]*Table1[[#This Row],['# of Books]]","v":0},{"$f":"Table1[[#This Row],[QTY]]*Table1[[#This Row],[School & Library Price]]","v":0}]
[null,null,null,102,"Military Engineering in Action","Drones: Remote-Controlled Warfare",1,"eBook","978-0-7660-7513-9",2017,"August 2016",null,"Author","Judy Silverstein Gray",7.8,1,null,null,"X",null,"Grade 5 - 6","Grade 6 - 8","Students will meet a modern-day drone pilot and learn about the combat missions he performs. They will read about the history of UAVs, such as the use of pilotless balloons during the Civil War, and how these unmanned aerial vehicles, or UAVs, are used in military operations today. Full-color photos highlight the technology behind drones and fact boxes detail how to prepare for a career as a UAV pilot.","English",27.93,20.95,"623.74/69--dc23","48 pp.",{"$f":"Table1[[#This Row],[QTY]]*Table1[[#This Row],['# of Books]]","v":0},{"$f":"Table1[[#This Row],[QTY]]*Table1[[#This Row],[School & Library Price]]","v":0}]
[null,null,null,102,"Military Engineering in Action","Fighter Planes: Masters of the Sky",1,"Library Bound Book","978-0-7660-6910-7",2016,"August 2015","7.250 X 9.250","Author, Author","Karen E. Bledsoe, Glen Bledsoe",7.1,1,null,null,"Z",null,"Grade 6","Grade 6 - 8","Fighter planes were made famous by the movie Top Gun, but they were first used during World War I and have become a standard symbol for the military. Through first-hand interviews, learn about the development and evolution of fighter planes, when and how they are used, and what it’s like to be the pilots who fly them and the engineers who fix them.","English",27.93,20.95,"358.4’183—dc23","48 pp.",{"$f":"Table1[[#This Row],[QTY]]*Table1[[#This Row],['# of Books]]","v":0},{"$f":"Table1[[#This Row],[QTY]]*Table1[[#This Row],[School & Library Price]]","v":0}]
[null,null,null,102,"Military Engineering in Action","Fighter Planes: Masters of the Sky",1,"eBook","978-0-7660-6911-4",2016,"August 2015",null,"Author, Author","Karen E. Bledsoe, Glen Bledsoe",7.1,1,null,null,"Z",null,"Grade 6","Grade 6 - 8","Fighter planes were made famous by the movie Top Gun, but they were first used during World War I and have become a standard symbol for the military. Through first-hand interviews, learn about the development and evolution of fighter planes, when and how they are used, and what it’s like to be the pilots who fly them and the engineers who fix them.","English",27.93,20.95,"358.4’183—dc23","48 pp.",{"$f":"Table1[[#This Row],[QTY]]*Table1[[#This Row],['# of Books]]","v":0},{"$f":"Table1[[#This Row],[QTY]]*Table1[[#This Row],[School & Library Price]]","v":0}]
[null,null,null,102,"Military Engineering in Action","Military Helicopters: Heroes of the Sky",1,"Library Bound Book","978-0-7660-6912-1",2016,"August 2015","7.250 X 9.250","Author, Author","Karen E. Bledsoe, Glen Bledsoe",7.1,1,null,null,"Z",null,"Grade 6","Grade 6 - 8","The military uses helicopters for many reasons. Each chopper is designed for its specific purpose: transporting goods and troops, sending rockets and missiles at the enemy, or some combination thereof. Learn about the different kinds of military helicopters from the men and women who use them every day.","English",27.93,20.95,"358.4’183—dc23","48 pp.",{"$f":"Table1[[#This Row],[QTY]]*Table1[[#This Row],['# of Books]]","v":0},{"$f":"Table1[[#This Row],[QTY]]*Table1[[#This Row],[School & Library Price]]","v":0}]
[null,null,null,102,"Military Engineering in Action","Military Helicopters: Heroes of the Sky",1,"eBook","978-0-7660-6913-8",2016,"August 2015",null,"Author, Author","Karen E. Bledsoe, Glen Bledsoe",7.1,1,null,null,"Z",null,"Grade 6","Grade 6 - 8","The military uses helicopters for many reasons. Each chopper is designed for its specific purpose: transporting goods and troops, sending rockets and missiles at the enemy, or some combination thereof. Learn about the different kinds of military helicopters from the men and women who use them every day.","English",27.93,20.95,"358.4’183—dc23","48 pp.",{"$f":"Table1[[#This Row],[QTY]]*Table1[[#This Row],['# of Books]]","v":0},{"$f":"Table1[[#This Row],[QTY]]*Table1[[#This Row],[School & Library Price]]","v":0}]
[null,null,null,102,"Military Engineering in Action","Military Humvees: Armored Mobility",1,"Library Bound Book","978-0-7660-6914-5",2016,"August 2015","7.250 X 9.250","Author, Author","Michael Teitelbaum, Taylor Baldwin Kiland",6.7,1,null,null,"Z",null,"Grade 6","Grade 6 - 8","Armored, weaponized, and able to navigate different terrains, the Humvee has been used by the US military since the 1970s and continues to be a standard vehicle used in military operations. Soldiers in the field tell readers what it’s like to operate Humvees in the field, and introduce them to the newest military vehicle, the MRAP (Mine Resistant Ambush Protected).","English",27.93,20.95,"355.8’3—dc23","48 pp.",{"$f":"Table1[[#This Row],[QTY]]*Table1[[#This Row],['# of Books]]","v":0},{"$f":"Table1[[#This Row],[QTY]]*Table1[[#This Row],[School & Library Price]]","v":0}]
[null,null,null,102,"Military Engineering in Action","Military Humvees: Armored Mobility",1,"eBook","978-0-7660-6915-2",2016,"August 2015",null,"Author, Author","Michael Teitelbaum, Taylor Baldwin Kiland",6.7,1,null,null,"Z",null,"Grade 6","Grade 6 - 8","Armored, weaponized, and able to navigate different terrains, the Humvee has been used by the US military since the 1970s and continues to be a standard vehicle used in military operations. Soldiers in the field tell readers what it’s like to operate Humvees in the field, and introduce them to the newest military vehicle, the MRAP (Mine Resistant Ambush Protected).","English",27.93,20.95,"355.8’3—dc23","48 pp.",{"$f":"Table1[[#This Row],[QTY]]*Table1[[#This Row],['# of Books]]","v":0},{"$f":"Table1[[#This Row],[QTY]]*Table1[[#This Row],[School & Library Price]]","v":0}]
[null,null,null,102,"Military Engineering in Action","Military Rifles: Combat Ready",1,"Library Bound Book","978-0-7660-6916-9",2016,"August 2015","7.250 X 9.250","Author, Author","Gerry Souter, Taylor Baldwin Kiland",7,1,null,null,"Z",null,"Grade 6","Grade 6 - 8","First invented by the Chinese thousands of years ago, the rifle has changed as warfare has evolved. First-hand interviews with soldiers in the field give readers insight as to how these rifles work, what military rifle training entails, and what it’s like to use these high-powered weapons every day.","English",27.93,20.95,"355.8’2425—dc23","48 pp.",{"$f":"Table1[[#This Row],[QTY]]*Table1[[#This Row],['# of Books]]","v":0},{"$f":"Table1[[#This Row],[QTY]]*Table1[[#This Row],[School & Library Price]]","v":0}]
[null,null,null,102,"Military Engineering in Action","Military Rifles: Combat Ready",1,"eBook","978-0-7660-6917-6",2016,"August 2015",null,"Author, Author","Gerry Souter, Taylor Baldwin Kiland",7,1,null,null,"Z",null,"Grade 6","Grade 6 - 8","First invented by the Chinese thousands of years ago, the rifle has changed as warfare has evolved. First-hand interviews with soldiers in the field give readers insight as to how these rifles work, what military rifle training entails, and what it’s like to use these high-powered weapons every day.","English",27.93,20.95,"355.8’2425—dc23","48 pp.",{"$f":"Table1[[#This Row],[QTY]]*Table1[[#This Row],['# of Books]]","v":0},{"$f":"Table1[[#This Row],[QTY]]*Table1[[#This Row],[School & Library Price]]","v":0}]
[null,null,null,102,"Military Engineering in Action","Military Submarines: Sea Power",1,"Library Bound Book","978-0-7660-6918-3",2016,"August 2015","7.250 X 9.250","Author, Author","Taylor Baldwin Kiland, Michael Teitelbaum",7.1,1,null,null,"Z",null,"Grade 6","Grade 6 - 8","Submarines have been in use for centuries, but it wasn’t until the late 1800s that they were commonly used in the military. Today submarines are invaluable weapons in most navies. Through interviews with engineers and soldiers, learn how they work and what it’s like to live and work underwater.","English",27.93,20.95,"359.9'3830973--dc23","48 pp.",{"$f":"Table1[[#This Row],[QTY]]*Table1[[#This Row],['# of Books]]","v":0},{"$f":"Table1[[#This Row],[QTY]]*Table1[[#This Row],[School & Library Price]]","v":0}]
[null,null,null,102,"Military Engineering in Action","Military Submarines: Sea Power",1,"eBook","978-0-7660-6919-0",2016,"August 2015",null,"Author, Author","Taylor Baldwin Kiland, Michael Teitelbaum",7.1,1,null,null,"Z",null,"Grade 6","Grade 6 - 8","Submarines have been in use for centuries, but it wasn’t until the late 1800s that they were commonly used in the military. Today submarines are invaluable weapons in most navies. Through interviews with engineers and soldiers, learn how they work and what it’s like to live and work underwater.","English",27.93,20.95,"359.9'3830973--dc23","48 pp.",{"$f":"Table1[[#This Row],[QTY]]*Table1[[#This Row],['# of Books]]","v":0},{"$f":"Table1[[#This Row],[QTY]]*Table1[[#This Row],[School & Library Price]]","v":0}]
[null,null,null,102,"Military Engineering in Action","Missiles: Self-Guided Explosives",1,"Library Bound Book","978-0-7660-7524-5",2017,"August 2016","7.250 X 9.250","Author","Earle Rice, Jr.",8.1,1,null,null,"X",null,"Grade 5 - 6","Grade 6 - 8","Firing Hellfire missiles in Afghanistan, launching Tomahawk cruise missiles from a destroyer, or manning the underground launch control panel for nuclear warheads is all part of America’s military missile program. This book takes readers to the front lines, explaining the innovation, development, and use of precision-guided smart weapons, ballistic missiles, cruise missiles, and nuclear deterrence. They will learn about the dawn of the missile age and how the armed forces use these weapons. Fact boxes give detailed specs about the weapons and an inside look at military training.","English",27.93,20.95,"358.1/7182--dc23","48 pp.",{"$f":"Table1[[#This Row],[QTY]]*Table1[[#This Row],['# of Books]]","v":0},{"$f":"Table1[[#This Row],[QTY]]*Table1[[#This Row],[School & Library Price]]","v":0}]
[null,null,null,102,"Military Engineering in Action","Missiles: Self-Guided Explosives",1,"eBook","978-0-7660-7526-9",2017,"August 2016",null,"Author","Earle Rice, Jr.",8.1,1,null,null,"X",null,"Grade 5 - 6","Grade 6 - 8","Firing Hellfire missiles in Afghanistan, launching Tomahawk cruise missiles from a destroyer, or manning the underground launch control panel for nuclear warheads is all part of America’s military missile program. This book takes readers to the front lines, explaining the innovation, development, and use of precision-guided smart weapons, ballistic missiles, cruise missiles, and nuclear deterrence. They will learn about the dawn of the missile age and how the armed forces use these weapons. Fact boxes give detailed specs about the weapons and an inside look at military training.","English",27.93,20.95,"358.1/7182--dc23","48 pp.",{"$f":"Table1[[#This Row],[QTY]]*Table1[[#This Row],['# of Books]]","v":0},{"$f":"Table1[[#This Row],[QTY]]*Table1[[#This Row],[School & Library Price]]","v":0}]
[null,null,null,102,"Military Engineering in Action","Rockets & Satellites: Surveillance from Space",1,"Library Bound Book","978-0-7660-7532-0",2017,"August 2016","7.250 X 9.250","Author","Earle Rice, Jr.",8,1,null,null,"X",null,"Grade 5 - 6","Grade 6 - 8","The trail to find Osama bin Laden was uncovered by human and satellite intelligence, and the raid that killed him was directed by a fleet of intelligence-collecting satellites over Pakistan. Even though we can't see them, satellites play a large role in reconnaissance and defense support. Students will learn about the rockets that launch satellites, how satellites are used, and how the military uses secret space planes and test vehicles that are ready to spy from space or engage in any possible space wars. Full color photos, fact boxes, and comprehensive coverage of the history of the US satellite program fill out this timely title.","English",27.93,20.95,"358/.88--dc23","48 pp.",{"$f":"Table1[[#This Row],[QTY]]*Table1[[#This Row],['# of Books]]","v":0},{"$f":"Table1[[#This Row],[QTY]]*Table1[[#This Row],[School & Library Price]]","v":0}]
[null,null,null,102,"Military Engineering in Action","Rockets & Satellites: Surveillance from Space",1,"eBook","978-0-7660-7533-7",2017,"August 2016",null,"Author","Earle Rice, Jr.",8,1,null,null,"X",null,"Grade 5 - 6","Grade 6 - 8","The trail to find Osama bin Laden was uncovered by human and satellite intelligence, and the raid that killed him was directed by a fleet of intelligence-collecting satellites over Pakistan. Even though we can't see them, satellites play a large role in reconnaissance and defense support. Students will learn about the rockets that launch satellites, how satellites are used, and how the military uses secret space planes and test vehicles that are ready to spy from space or engage in any possible space wars. Full color photos, fact boxes, and comprehensive coverage of the history of the US satellite program fill out this timely title.","English",27.93,20.95,"358/.88--dc23","48 pp.",{"$f":"Table1[[#This Row],[QTY]]*Table1[[#This Row],['# of Books]]","v":0},{"$f":"Table1[[#This Row],[QTY]]*Table1[[#This Row],[School & Library Price]]","v":0}]
[null,null,null,102,"Military Engineering in Action","The Miitary GPS: Cutting Edge Global Positioning System",1,"Library Bound Book","978-0-7660-7518-4",2017,"August 2016","7.250 X 9.250","Author","Taylor Baldwin Kiland",8.1,1,null,null,"X",null,"Grade 5 - 6","Grade 6 - 8","GPS technology is used in everything from car satellite systems to iPhones to FitBits. How does GPS actually work? Who takes care of the vast constellation of satellites that are needed to make these systems work? Enhanced with full-color photos and fact boxes, this book showcases current military technology and tools, historical accounts leading to today’s global systems, and tips to prepare for a career in the military.","English",27.93,20.95,"623/.043--dc23","48 pp.",{"$f":"Table1[[#This Row],[QTY]]*Table1[[#This Row],['# of Books]]","v":0},{"$f":"Table1[[#This Row],[QTY]]*Table1[[#This Row],[School & Library Price]]","v":0}]
[null,null,null,102,"Military Engineering in Action","The Miitary GPS: Cutting Edge Global Positioning System",1,"eBook","978-0-7660-7519-1",2017,"August 2016",null,"Author","Taylor Baldwin Kiland",8.1,1,null,null,"X",null,"Grade 5 - 6","Grade 6 - 8","GPS technology is used in everything from car satellite systems to iPhones to FitBits. How does GPS actually work? Who takes care of the vast constellation of satellites that are needed to make these systems work? Enhanced with full-color photos and fact boxes, this book showcases current military technology and tools, historical accounts leading to today’s global systems, and tips to prepare for a career in the military.","English",27.93,20.95,"623/.043--dc23","48 pp.",{"$f":"Table1[[#This Row],[QTY]]*Table1[[#This Row],['# of Books]]","v":0},{"$f":"Table1[[#This Row],[QTY]]*Table1[[#This Row],[School & Library Price]]","v":0}]
[null,null,null,103,"The Psychology of Mass Murderers","The Psychology of Mass Murderers",4,"Library Set","978-0-7660-7508-5",2017,"August 2016","6.000 X 9.000",null,null,null,null,null,null,null,null,"Grade 8","Grade 9 - 12","To address the needs and interests of students taking psychology in high school, this series focuses on the factors that create, motivate, and often lead to the capture of mass murderers. Each book contains profiles of up to about twenty mass murderers grouped into chapters by psychological type or type of crime. Readers will learn how killers are diagnosed and classified and whether it's possible to treat or cure them.","English",149.08000000000001,111.8,null,"128 pp.",{"$f":"Table1[[#This Row],[QTY]]*Table1[[#This Row],['# of Books]]","v":0},{"$f":"Table1[[#This Row],[QTY]]*Table1[[#This Row],[School & Library Price]]","v":0}]
[null,null,null,103,"The Psychology of Mass Murderers","The People Behind Cult Murders",1,"Library Bound Book","978-0-7660-7610-5",2017,"August 2016","6.000 X 9.000","Author","Pete Schauer",null,null,null,null,"Z",null,"Grade 8","Grade 9 - 12","High school psychology students will read about what motivates the criminals behind cult murders. After introducing the wide range of cults that exist in the world, this book focuses on those cults that often feature violence, abuse, ritual death, and mass murder. Religious, doomsday, and terrorist cults are just some of the cults covered in this detailed title. Historical accounts of cult murders are followed by descriptions of the psychology of the minds of cult leaders and followers.","English",37.270000000000003,27.95,"364.152/34--dc23","144 pp.",{"$f":"Table1[[#This Row],[QTY]]*Table1[[#This Row],['# of Books]]","v":0},{"$f":"Table1[[#This Row],[QTY]]*Table1[[#This Row],[School & Library Price]]","v":0}]
[null,null,null,103,"The Psychology of Mass Murderers","The People Behind Cult Murders",1,"eBook","978-0-7660-7611-2",2017,"August 2016",null,"Author","Pete Schauer",null,null,null,null,"Z",null,"Grade 8","Grade 9 - 12","High school psychology students will read about what motivates the criminals behind cult murders. After introducing the wide range of cults that exist in the world, this book focuses on those cults that often feature violence, abuse, ritual death, and mass murder. Religious, doomsday, and terrorist cults are just some of the cults covered in this detailed title. Historical accounts of cult murders are followed by descriptions of the psychology of the minds of cult leaders and followers.","English",37.270000000000003,27.95,"364.152/34--dc23","144 pp.",{"$f":"Table1[[#This Row],[QTY]]*Table1[[#This Row],['# of Books]]","v":0},{"$f":"Table1[[#This Row],[QTY]]*Table1[[#This Row],[School & Library Price]]","v":0}]
[null,null,null,103,"The Psychology of Mass Murderers","The People Behind Deadly Terrorist Attacks",1,"Library Bound Book","978-0-7660-7775-1",2017,"August 2016","6.000 X 9.000","Author","Laura La Bella",null,null,null,null,"Z",null,"Grade 8","Grade 9 - 12","All the world knows what happened on September 11, 2001. And the Paris attacks of 2015 are just the latest in a string of terrorist attacks today. Bombings, hijackings, and mass shootings produce widespread fear and gain worldwide attention. Psychology students will gain insight into what motivates the terrorists behind these acts. Modern threats from cyberterrorism are also included in this title, which features psychological profiles, motivation, and often the ultimate capture of the terrorists. Readers will learn how killers are diagnosed and classified, and whether it is possible to treat or cure them.","English",37.270000000000003,27.95,"363.325--dc23","144 pp.",{"$f":"Table1[[#This Row],[QTY]]*Table1[[#This Row],['# of Books]]","v":0},{"$f":"Table1[[#This Row],[QTY]]*Table1[[#This Row],[School & Library Price]]","v":0}]
[null,null,null,103,"The Psychology of Mass Murderers","The People Behind Deadly Terrorist Attacks",1,"eBook","978-0-7660-7614-3",2017,"August 2016",null,"Author","Laura La Bella",null,null,null,null,"Z",null,"Grade 8","Grade 9 - 12","All the world knows what happened on September 11, 2001. And the Paris attacks of 2015 are just the latest in a string of terrorist attacks today. Bombings, hijackings, and mass shootings produce widespread fear and gain worldwide attention. Psychology students will gain insight into what motivates the terrorists behind these acts. Modern threats from cyberterrorism are also included in this title, which features psychological profiles, motivation, and often the ultimate capture of the terrorists. Readers will learn how killers are diagnosed and classified, and whether it is possible to treat or cure them.","English",37.270000000000003,27.95,"363.325--dc23","144 pp.",{"$f":"Table1[[#This Row],[QTY]]*Table1[[#This Row],['# of Books]]","v":0},{"$f":"Table1[[#This Row],[QTY]]*Table1[[#This Row],[School & Library Price]]","v":0}]
[null,null,null,103,"The Psychology of Mass Murderers","The People Behind Murderous Crime Sprees",1,"Library Bound Book","978-0-7660-7612-9",2017,"August 2016","6.000 X 9.000","Author","John A. Torres",null,null,null,null,"Z",null,"Grade 8","Grade 9 - 12","In the area of Washington, DC, the beltway snipers caused widespread fear just a year after the World Trade Center attacks. The pair of killers targeted random people doing everyday things, such as pumping gas or going shopping, and ultimately killed ten people. Psychology students will learn about the motives of these snipers and other criminal murderers responsible for crime-spree attacks. Featuring psychological profiles, these books educate readers about how killers are diagnosed and classified, and whether it is possible to treat or cure them.","English",37.270000000000003,27.95,"364.152/34--dc23","144 pp.",{"$f":"Table1[[#This Row],[QTY]]*Table1[[#This Row],['# of Books]]","v":0},{"$f":"Table1[[#This Row],[QTY]]*Table1[[#This Row],[School & Library Price]]","v":0}]
[null,null,null,103,"The Psychology of Mass Murderers","The People Behind Murderous Crime Sprees",1,"eBook","978-0-7660-7613-6",2017,"August 2016",null,"Author","John A. Torres",null,null,null,null,"Z",null,"Grade 8","Grade 9 - 12","In the area of Washington, DC, the beltway snipers caused widespread fear just a year after the World Trade Center attacks. The pair of killers targeted random people doing everyday things, such as pumping gas or going shopping, and ultimately killed ten people. Psychology students will learn about the motives of these snipers and other criminal murderers responsible for crime-spree attacks. Featuring psychological profiles, these books educate readers about how killers are diagnosed and classified, and whether it is possible to treat or cure them.","English",37.270000000000003,27.95,"364.152/34--dc23","144 pp.",{"$f":"Table1[[#This Row],[QTY]]*Table1[[#This Row],['# of Books]]","v":0},{"$f":"Table1[[#This Row],[QTY]]*Table1[[#This Row],[School & Library Price]]","v":0}]
[null,null,null,103,"The Psychology of Mass Murderers","The People Behind School Shootings and Public Massacres",1,"Library Bound Book","978-0-7660-7615-0",2017,"August 2016","6.000 X 9.000","Author","John A. Torres",null,null,null,null,"Z",null,"Grade 8","Grade 9 - 12","Sandy Hook Elementary School . . . Columbine High School. . . San Bernardino social services center . . . Aurora Movie Theater. There are more school shootings and public massacres than anyone wants to believe. What motivates the people behind these horrific crimes? This book addresses the needs of high school psychology students, detailing the accounts of the shooting sprees. The text follows with details of the individuals responsible for the acts and describes how mental health professionals seek to break the physical and psychological motivations of the mass murderers.","English",37.270000000000003,27.95,"364.152/34092273--dc23","144 pp.",{"$f":"Table1[[#This Row],[QTY]]*Table1[[#This Row],['# of Books]]","v":0},{"$f":"Table1[[#This Row],[QTY]]*Table1[[#This Row],[School & Library Price]]","v":0}]
[null,null,null,103,"The Psychology of Mass Murderers","The People Behind School Shootings and Public Massacres",1,"eBook","978-0-7660-7616-7",2017,"August 2016",null,"Author","John A. Torres",null,null,null,null,"Z",null,"Grade 8","Grade 9 - 12","Sandy Hook Elementary School . . . Columbine High School. . . San Bernardino social services center . . . Aurora Movie Theater. There are more school shootings and public massacres than anyone wants to believe. What motivates the people behind these horrific crimes? This book addresses the needs of high school psychology students, detailing the accounts of the shooting sprees. The text follows with details of the individuals responsible for the acts and describes how mental health professionals seek to break the physical and psychological motivations of the mass murderers.","English",37.270000000000003,27.95,"364.152/34092273--dc23","144 pp.",{"$f":"Table1[[#This Row],[QTY]]*Table1[[#This Row],['# of Books]]","v":0},{"$f":"Table1[[#This Row],[QTY]]*Table1[[#This Row],[School & Library Price]]","v":0}]
[null,null,null,103,"The Psychology of Serial Killers","The Psychology of Serial Killers",5,"Library Set","978-0-7660-7433-0",2016,"January 2016","6.000 X 9.000",null,null,null,null,null,null,null,null,"Grade 9","Grade 9 - 12","To address the needs and interests of students taking psychology, this unique series focuses on the factors that create, motivate, and, ultimately, often lead to the capture of serial killers. Each book contains profiles of up to 25 serial killers grouped into chapters by psychological type. Readers will learn how killers are diagnosed and classified, and whether it's possible to treat or cure them. \n\n\n\n• Examines the development of diagnosing, categorizing, and tracking one of the most macabre type of criminal\n\n• Personality disorder self-assessment quiz helps students learn more about psychopathy\n\n• Supports curriculum standards for psychology and abnormal psychology","English",186.35,139.75,null,"128 pp.",{"$f":"Table1[[#This Row],[QTY]]*Table1[[#This Row],['# of Books]]","v":0},{"$f":"Table1[[#This Row],[QTY]]*Table1[[#This Row],[School & Library Price]]","v":0}]
[null,null,null,103,"The Psychology of Serial Killers","Cannibal Serial Killers",1,"Library Bound Book","978-0-7660-7282-4",2016,"January 2016","6.000 X 9.000","Author","Nicki Peter Petrikowski",null,null,null,null,"Z",null,"Grade 9","Grade 9 - 12","From Albert Fish to Jeffery Dahmer, these cannibals represent the most horrific parts of the human psyche. This text provides psychology students with in-depth examinations by professionals of the factors that create, motivate, and often lead to the capture of these savage killers. Readers can also take a personality disorder self-assessment quiz to learn more about psychopathy—the most common psychological condition for serial killers.","English",37.270000000000003,27.95,"364.152'32--dc23","128 pp.",{"$f":"Table1[[#This Row],[QTY]]*Table1[[#This Row],['# of Books]]","v":0},{"$f":"Table1[[#This Row],[QTY]]*Table1[[#This Row],[School & Library Price]]","v":0}]
[null,null,null,103,"The Psychology of Serial Killers","Cannibal Serial Killers",1,"eBook","978-0-7660-7283-1",2016,"January 2016",null,"Author","Nicki Peter Petrikowski",null,null,null,null,"Z",null,"Grade 9","Grade 9 - 12","From Albert Fish to Jeffery Dahmer, these cannibals represent the most horrific parts of the human psyche. This text provides psychology students with in-depth examinations by professionals of the factors that create, motivate, and often lead to the capture of these savage killers. Readers can also take a personality disorder self-assessment quiz to learn more about psychopathy—the most common psychological condition for serial killers.","English",37.270000000000003,27.95,"364.152'32--dc23","128 pp.",{"$f":"Table1[[#This Row],[QTY]]*Table1[[#This Row],['# of Books]]","v":0},{"$f":"Table1[[#This Row],[QTY]]*Table1[[#This Row],[School & Library Price]]","v":0}]
[null,null,null,103,"The Psychology of Serial Killers","Female Serial Killers",1,"Library Bound Book","978-0-7660-7288-6",2016,"January 2016","6.000 X 9.000","Author","Don Rauf",null,null,null,null,"Z",null,"Grade 9","Grade 9 - 12","From Lady Elizabeth Bathory to Bell Gunness to Aileen Wuornos, this book takes an in-depth approach to evaluating the life and crimes of some of the world’s most vicious women, who are grouped into chapters by psychological type. Readers can also take a personality disorder self-assessment quiz to learn more about psychopathy—the most common psychological condition for serial killers.","English",37.270000000000003,27.95,"364.152/32082--dc23","128 pp.",{"$f":"Table1[[#This Row],[QTY]]*Table1[[#This Row],['# of Books]]","v":0},{"$f":"Table1[[#This Row],[QTY]]*Table1[[#This Row],[School & Library Price]]","v":0}]
[null,null,null,103,"The Psychology of Serial Killers","Female Serial Killers",1,"eBook","978-0-7660-7289-3",2016,"January 2016",null,"Author","Don Rauf",null,null,null,null,"Z",null,"Grade 9","Grade 9 - 12","From Lady Elizabeth Bathory to Bell Gunness to Aileen Wuornos, this book takes an in-depth approach to evaluating the life and crimes of some of the world’s most vicious women, who are grouped into chapters by psychological type. Readers can also take a personality disorder self-assessment quiz to learn more about psychopathy—the most common psychological condition for serial killers.","English",37.270000000000003,27.95,"364.152/32082--dc23","128 pp.",{"$f":"Table1[[#This Row],[QTY]]*Table1[[#This Row],['# of Books]]","v":0},{"$f":"Table1[[#This Row],[QTY]]*Table1[[#This Row],[School & Library Price]]","v":0}]
[null,null,null,103,"The Psychology of Serial Killers","Historical Serial Killers",1,"Library Bound Book","978-0-7660-7290-9",2016,"January 2016","6.000 X 9.000","Author","Don Rauf",null,null,null,null,"Z",null,"Grade 9","Grade 9 - 12","Containing profiles of several of the most famous serial killers throughout history such as Jack the Ripper and H. H. Holmes, this in-depth analysis of the killers’ minds, behavior, and actions will surely intrigue any psychology student. Comprehensive text explains the life and crimes of these prolific killers from history, and a personality disorder self-assessment quiz will give readers insight into psychopathy—the most common psychological condition for serial killers.","English",37.270000000000003,27.95,"364.15’23--dc23","128 pp.",{"$f":"Table1[[#This Row],[QTY]]*Table1[[#This Row],['# of Books]]","v":0},{"$f":"Table1[[#This Row],[QTY]]*Table1[[#This Row],[School & Library Price]]","v":0}]
[null,null,null,103,"The Psychology of Serial Killers","Historical Serial Killers",1,"eBook","978-0-7660-7291-6",2016,"January 2016",null,"Author","Don Rauf",null,null,null,null,"Z",null,"Grade 9","Grade 9 - 12","Containing profiles of several of the most famous serial killers throughout history such as Jack the Ripper and H. H. Holmes, this in-depth analysis of the killers’ minds, behavior, and actions will surely intrigue any psychology student. Comprehensive text explains the life and crimes of these prolific killers from history, and a personality disorder self-assessment quiz will give readers insight into psychopathy—the most common psychological condition for serial killers.","English",37.270000000000003,27.95,"364.15’23--dc23","128 pp.",{"$f":"Table1[[#This Row],[QTY]]*Table1[[#This Row],['# of Books]]","v":0},{"$f":"Table1[[#This Row],[QTY]]*Table1[[#This Row],[School & Library Price]]","v":0}]
[null,null,null,103,"The Psychology of Serial Killers","Medical Serial Killers",1,"Library Bound Book","978-0-7660-7296-1",2016,"January 2016","6.000 X 9.000","Author","Sara L. Latta",null,null,null,null,"Z",null,"Grade 9","Grade 9 - 12","In-depth analysis and comprehensive text delve into the psychology of medical serial killers, such as Dr. Michael Swango and Dr. Harold Shipman, in order to examine their motives, behaviors, and methods. Readers can also take a personality disorder self-assessment quiz to learn more about psychopathy—the most common psychological condition for serial killers.","English",37.270000000000003,27.95,"364.152'32--dc23","128 pp.",{"$f":"Table1[[#This Row],[QTY]]*Table1[[#This Row],['# of Books]]","v":0},{"$f":"Table1[[#This Row],[QTY]]*Table1[[#This Row],[School & Library Price]]","v":0}]
[null,null,null,103,"The Psychology of Serial Killers","Medical Serial Killers",1,"eBook","978-0-7660-7297-8",2016,"January 2016",null,"Author","Sara L. Latta",null,null,null,null,"Z",null,"Grade 9","Grade 9 - 12","In-depth analysis and comprehensive text delve into the psychology of medical serial killers, such as Dr. Michael Swango and Dr. Harold Shipman, in order to examine their motives, behaviors, and methods. Readers can also take a personality disorder self-assessment quiz to learn more about psychopathy—the most common psychological condition for serial killers.","English",37.270000000000003,27.95,"364.152'32--dc23","128 pp.",{"$f":"Table1[[#This Row],[QTY]]*Table1[[#This Row],['# of Books]]","v":0},{"$f":"Table1[[#This Row],[QTY]]*Table1[[#This Row],[School & Library Price]]","v":0}]
[null,null,null,103,"The Psychology of Serial Killers","Modern-Day Serial Killers",1,"Library Bound Book","978-0-7660-7298-5",2016,"January 2016","6.000 X 9.000","Author","Don Rauf",null,null,null,null,"Z",null,"Grade 9","Grade 9 - 12","Ted Bundy, BTK, Lonnie Franklin Jr. (“the Grim Sleeper”), and Anthony Sowell (“the Cleveland Strangler”)—what made these men into serial killers? Examination by authorities and professionals has given some insight into the minds of these serial killers and others, and psychology students will learn about the most current psychoanalysis of these modern-day murderers. The text also includes a personality disorder self-assessment quiz readers can take to learn more about psychopathy—the most common psychological condition for serial killers.","English",37.270000000000003,27.95,"364.152/32--dc23","128 pp.",{"$f":"Table1[[#This Row],[QTY]]*Table1[[#This Row],['# of Books]]","v":0},{"$f":"Table1[[#This Row],[QTY]]*Table1[[#This Row],[School & Library Price]]","v":0}]
[null,null,null,103,"The Psychology of Serial Killers","Modern-Day Serial Killers",1,"eBook","978-0-7660-7299-2",2016,"January 2016",null,"Author","Don Rauf",null,null,null,null,"Z",null,"Grade 9","Grade 9 - 12","Ted Bundy, BTK, Lonnie Franklin Jr. (“the Grim Sleeper”), and Anthony Sowell (“the Cleveland Strangler”)—what made these men into serial killers? Examination by authorities and professionals has given some insight into the minds of these serial killers and others, and psychology students will learn about the most current psychoanalysis of these modern-day murderers. The text also includes a personality disorder self-assessment quiz readers can take to learn more about psychopathy—the most common psychological condition for serial killers.","English",37.270000000000003,27.95,"364.152/32--dc23","128 pp.",{"$f":"Table1[[#This Row],[QTY]]*Table1[[#This Row],['# of Books]]","v":0},{"$f":"Table1[[#This Row],[QTY]]*Table1[[#This Row],[School & Library Price]]","v":0}]
[null,null,null,104,"Mythology, Myths, and Legends","Mythology, Myths, and Legends",6,"Library Set","978-0-7660-8053-9",2015,"August 2014","6.000 X 9.000",null,null,null,null,null,null,null,null,"Grade 6 - 12","Grade 6 - 12",null,"English",179.64,134.76,null,"96 pp.",{"$f":"Table1[[#This Row],[QTY]]*Table1[[#This Row],['# of Books]]","v":0},{"$f":"Table1[[#This Row],[QTY]]*Table1[[#This Row],[School & Library Price]]","v":0}]
[null,null,null,104,"Mythology, Myths, and Legends","Mythology of King Arthur and His Knights",1,"Library Bound Book","978-0-7660-6182-8",2015,"August 2014","6.000 X 9.000","Author","Evelyn Wolfson",null,null,null,null,"X","1050L","Grade 6 - 7","Grade 6 - 12","Out of dark and violent centuries, legends of a great leader arose. King Arthur became one of the most famous figures in British literature. During the Dark Ages, Britain was without a king and the land was divided. Death and destruction reigned over the land as power-hungry overlords armed themselves and fought against their fellow countrymen. Author Evelyn Wolfson examines both legend and historical fact surrounding King Arthur and the Dark Ages in the British Isles.","English",29.94,22.46,"942.01","96 pp.",{"$f":"Table1[[#This Row],[QTY]]*Table1[[#This Row],['# of Books]]","v":0},{"$f":"Table1[[#This Row],[QTY]]*Table1[[#This Row],[School & Library Price]]","v":0}]
[null,null,null,104,"Mythology, Myths, and Legends","Mythology of King Arthur and His Knights",1,"eBook","978-0-7660-6186-6",2015,"August 2014",null,"Author","Evelyn Wolfson",null,null,null,null,"X","1050L","Grade 6 - 7","Grade 6 - 12","Out of dark and violent centuries, legends of a great leader arose. King Arthur became one of the most famous figures in British literature. During the Dark Ages, Britain was without a king and the land was divided. Death and destruction reigned over the land as power-hungry overlords armed themselves and fought against their fellow countrymen. Author Evelyn Wolfson examines both legend and historical fact surrounding King Arthur and the Dark Ages in the British Isles.","English",34.6,25.95,"942.01","96 pp.",{"$f":"Table1[[#This Row],[QTY]]*Table1[[#This Row],['# of Books]]","v":0},{"$f":"Table1[[#This Row],[QTY]]*Table1[[#This Row],[School & Library Price]]","v":0}]
[null,null,null,104,"Mythology, Myths, and Legends","Mythology of the American Indians",1,"Library Bound Book","978-0-7660-6162-0",2015,"August 2014","6.000 X 9.000","Author","Evelyn Wolfson",null,null,null,null,"X","970L","Grade 6 - 7","Grade 6 - 12","Long before they were written down, American Indian myths were kept alive by a strong oral tradition. Have you ever wondered how the world was made? This book discusses this mystery, along with other myths and legends from different culture areas throughout North America. Each chapter is followed by a Question and Answer section which covers characters, themes, and symbols. An Expert Commentary section enhances the myths with opinions by noted scholars.","English",29.94,22.46,"398.208997","96 pp.",{"$f":"Table1[[#This Row],[QTY]]*Table1[[#This Row],['# of Books]]","v":0},{"$f":"Table1[[#This Row],[QTY]]*Table1[[#This Row],[School & Library Price]]","v":0}]
[null,null,null,104,"Mythology, Myths, and Legends","Mythology of the American Indians",1,"eBook","978-0-7660-6166-8",2015,"August 2014",null,"Author","Evelyn Wolfson",null,null,null,null,"X","970L","Grade 6 - 7","Grade 6 - 12","Long before they were written down, American Indian myths were kept alive by a strong oral tradition. Have you ever wondered how the world was made? This book discusses this mystery, along with other myths and legends from different culture areas throughout North America. Each chapter is followed by a Question and Answer section which covers characters, themes, and symbols. An Expert Commentary section enhances the myths with opinions by noted scholars.","English",34.6,25.95,"398.208997","96 pp.",{"$f":"Table1[[#This Row],[QTY]]*Table1[[#This Row],['# of Books]]","v":0},{"$f":"Table1[[#This Row],[QTY]]*Table1[[#This Row],[School & Library Price]]","v":0}]
[null,null,null,104,"Mythology, Myths, and Legends","Mythology of the Egyptians",1,"Library Bound Book","978-0-7660-6167-5",2015,"August 2014","6.000 X 9.000","Author","Don Nardo",null,null,null,null,"X","1190L","Grade 6 - 7","Grade 6 - 12","As many as six thousand years ago, when their civilization flourished in the Nile River valley, the ancient Egyptians told many of the myths in this book. Author Don Nardo discusses various myths, including \"The Creation of the Gods and Humans,\" and \"The Near Destruction of Humanity.\" Nardo also introduces us to the story within a story in \"The Shipwrecked Sailor.\" Each chapter is followed by a Question and Answer section which covers characters, themes, and symbols. An Expert Commentary section enhances the myths with opinions by noted scholars.","English",29.94,22.46,"398.20962","96 pp.",{"$f":"Table1[[#This Row],[QTY]]*Table1[[#This Row],['# of Books]]","v":0},{"$f":"Table1[[#This Row],[QTY]]*Table1[[#This Row],[School & Library Price]]","v":0}]
[null,null,null,104,"Mythology, Myths, and Legends","Mythology of the Egyptians",1,"eBook","978-0-7660-6171-2",2015,"August 2014",null,"Author","Don Nardo",null,null,null,null,"X","1190L","Grade 6 - 7","Grade 6 - 12","As many as six thousand years ago, when their civilization flourished in the Nile River valley, the ancient Egyptians told many of the myths in this book. Author Don Nardo discusses various myths, including \"The Creation of the Gods and Humans,\" and \"The Near Destruction of Humanity.\" Nardo also introduces us to the story within a story in \"The Shipwrecked Sailor.\" Each chapter is followed by a Question and Answer section which covers characters, themes, and symbols. An Expert Commentary section enhances the myths with opinions by noted scholars.","English",34.6,25.95,"398.20962","96 pp.",{"$f":"Table1[[#This Row],[QTY]]*Table1[[#This Row],['# of Books]]","v":0},{"$f":"Table1[[#This Row],[QTY]]*Table1[[#This Row],[School & Library Price]]","v":0}]
[null,null,null,104,"Mythology, Myths, and Legends","Mythology of the Iliad and the Odyssey",1,"Library Bound Book","978-0-7660-6172-9",2015,"August 2014","6.000 X 9.000","Author","Karen Bornemann Spies",null,null,null,null,"X","980L","Grade 6 - 7","Grade 6 - 12","Follow Odysseus as he hides in the Trojan horse and retakes Troy, fights the Cyclops, or fights enslavement by the sorceress Circe. Author Karen Bornemann Spies details the heroic adventures in both the Iliad and the Odyssey, and includes informative interpretation and expert commentary, as well as a Question and Answer section.","English",29.94,22.46,"398.2","96 pp.",{"$f":"Table1[[#This Row],[QTY]]*Table1[[#This Row],['# of Books]]","v":0},{"$f":"Table1[[#This Row],[QTY]]*Table1[[#This Row],[School & Library Price]]","v":0}]
[null,null,null,104,"Mythology, Myths, and Legends","Mythology of the Iliad and the Odyssey",1,"eBook","978-0-7660-6176-7",2015,"August 2014",null,"Author","Karen Bornemann Spies",null,null,null,null,"X","980L","Grade 6 - 7","Grade 6 - 12","Follow Odysseus as he hides in the Trojan horse and retakes Troy, fights the Cyclops, or fights enslavement by the sorceress Circe. Author Karen Bornemann Spies details the heroic adventures in both the Iliad and the Odyssey, and includes informative interpretation and expert commentary, as well as a Question and Answer section.","English",34.6,25.95,"398.2","96 pp.",{"$f":"Table1[[#This Row],[QTY]]*Table1[[#This Row],['# of Books]]","v":0},{"$f":"Table1[[#This Row],[QTY]]*Table1[[#This Row],[School & Library Price]]","v":0}]
[null,null,null,104,"Mythology, Myths, and Legends","Mythology of the Inuit",1,"Library Bound Book","978-0-7660-6177-4",2015,"August 2014","6.000 X 9.000","Author","Evelyn Wolfson",null,null,null,null,"X","1030L","Grade 6 - 7","Grade 6 - 12","During the long cold winter nights, Inuit families snuggled together in their winter houses and listened to tales about a time when unbelievable things could happen. These adventurers broke up the long hours of winter darkness and gave the listeners a cultural and traditional heritage. Each chapter is followed by a Question and Answer section which covers themes, symbols, and characters.","English",29.94,22.46,"398.2089","96 pp.",{"$f":"Table1[[#This Row],[QTY]]*Table1[[#This Row],['# of Books]]","v":0},{"$f":"Table1[[#This Row],[QTY]]*Table1[[#This Row],[School & Library Price]]","v":0}]
[null,null,null,104,"Mythology, Myths, and Legends","Mythology of the Inuit",1,"eBook","978-0-7660-6181-1",2015,"August 2014",null,"Author","Evelyn Wolfson",null,null,null,null,"X","1030L","Grade 6 - 7","Grade 6 - 12","During the long cold winter nights, Inuit families snuggled together in their winter houses and listened to tales about a time when unbelievable things could happen. These adventurers broke up the long hours of winter darkness and gave the listeners a cultural and traditional heritage. Each chapter is followed by a Question and Answer section which covers themes, symbols, and characters.","English",34.6,25.95,"398.2089","96 pp.",{"$f":"Table1[[#This Row],[QTY]]*Table1[[#This Row],['# of Books]]","v":0},{"$f":"Table1[[#This Row],[QTY]]*Table1[[#This Row],[School & Library Price]]","v":0}]
[null,null,null,104,"Mythology, Myths, and Legends","Mythology of the Romans",1,"Library Bound Book","978-0-7660-6187-3",2015,"August 2014","6.000 X 9.000","Author","Evelyn Wolfson",null,null,null,null,"X","1150L","Grade 6 - 7","Grade 6 - 12","This exciting volume richly explores the stories of some of the most prominent Roman figures, such as Romulus and Remus, Jupiter, Venus, Mars, and Apollo. Roman mythology is based heavily on the Greek myths, and the two cultures share many of the same gods and goddesses, under different names. However, Roman myths also include numerous references to real, historical figures. This book highlights stories from the complex culture that was ancient Rome. Each chapter is followed by a Question and Answer section which covers themes, symbols, and characters; and an Expert Commentary section is included, which makes for great discussion.","English",29.94,22.46,"292.1","96 pp.",{"$f":"Table1[[#This Row],[QTY]]*Table1[[#This Row],['# of Books]]","v":0},{"$f":"Table1[[#This Row],[QTY]]*Table1[[#This Row],[School & Library Price]]","v":0}]
[null,null,null,104,"Mythology, Myths, and Legends","Mythology of the Romans",1,"eBook","978-0-7660-6191-0",2015,"August 2014",null,"Author","Evelyn Wolfson",null,null,null,null,"X","1150L","Grade 6 - 7","Grade 6 - 12","This exciting volume richly explores the stories of some of the most prominent Roman figures, such as Romulus and Remus, Jupiter, Venus, Mars, and Apollo. Roman mythology is based heavily on the Greek myths, and the two cultures share many of the same gods and goddesses, under different names. However, Roman myths also include numerous references to real, historical figures. This book highlights stories from the complex culture that was ancient Rome. Each chapter is followed by a Question and Answer section which covers themes, symbols, and characters; and an Expert Commentary section is included, which makes for great discussion.","English",34.6,25.95,"292.1","96 pp.",{"$f":"Table1[[#This Row],[QTY]]*Table1[[#This Row],['# of Books]]","v":0},{"$f":"Table1[[#This Row],[QTY]]*Table1[[#This Row],[School & Library Price]]","v":0}]
[null,null,null,105,"American Space Missions—Astronauts, Exploration, and Discovery","American Space Missions—Astronauts, Exploration, and Discovery",6,"Library Set","978-0-7660-8055-3",2013,"August 2012","7.500 X 9.000",null,null,null,null,null,null,null,null,"Grade 6 - 12","Grade 6 - 12",null,"English",151.62,113.7,null,"48 pp.",{"$f":"Table1[[#This Row],[QTY]]*Table1[[#This Row],['# of Books]]","v":0},{"$f":"Table1[[#This Row],[QTY]]*Table1[[#This Row],[School & Library Price]]","v":0}]
[null,null,null,105,"American Space Missions—Astronauts, Exploration, and Discovery","Danger in Space: Surviving the Apollo 13 Disaster",1,"Library Bound Book","978-0-7660-4072-4",2013,"August 2012","7.500 X 9.000","Author","Henry M. Holden",6.4,1,null,null,"O","910L","Grade 5 - 7","Grade 5 - 9","Soaring through space at 25,000 per hour, APOLLO 13 was on course for the Moon. Suddenly, the three astronauts aboard the spacecraft heard a loud bang. A strong vibration rumbled through the crew cabin. There had been an explosion in the oxygen tank! More than 200,000 miles from Earth, APOLLO 13 was in grave danger. The astronauts had planned to land on the Moon. But now they had a new mission: survival. Author Henry M. Holden delivers the gripping details of how three astronauts, with the help of NASA scientists on Earth, turned a story of disaster into one of triumph. ","English",25.27,18.95,"629.45","48 pp.",{"$f":"Table1[[#This Row],[QTY]]*Table1[[#This Row],['# of Books]]","v":0},{"$f":"Table1[[#This Row],[QTY]]*Table1[[#This Row],[School & Library Price]]","v":0}]
[null,null,null,105,"American Space Missions—Astronauts, Exploration, and Discovery","Danger in Space: Surviving the Apollo 13 Disaster",1,"eBook","978-0-7660-4362-6",2013,"August 2012",null,"Author","Henry M. Holden",6.4,1,null,null,"O","910L","Grade 5 - 7","Grade 5 - 9","Soaring through space at 25,000 per hour, APOLLO 13 was on course for the Moon. Suddenly, the three astronauts aboard the spacecraft heard a loud bang. A strong vibration rumbled through the crew cabin. There had been an explosion in the oxygen tank! More than 200,000 miles from Earth, APOLLO 13 was in grave danger. The astronauts had planned to land on the Moon. But now they had a new mission: survival. Author Henry M. Holden delivers the gripping details of how three astronauts, with the help of NASA scientists on Earth, turned a story of disaster into one of triumph. ","English",25.27,18.95,"629.45","48 pp.",{"$f":"Table1[[#This Row],[QTY]]*Table1[[#This Row],['# of Books]]","v":0},{"$f":"Table1[[#This Row],[QTY]]*Table1[[#This Row],[School & Library Price]]","v":0}]
[null,null,null,105,"American Space Missions—Astronauts, Exploration, and Discovery","Eye on the Universe: The Incredible Hubble Space Telescope",1,"Library Bound Book","978-0-7660-4077-9",2013,"August 2012","7.500 X 9.000","Author","Michael D. Cole",7.2,1,null,null,"N","1010L","Grade 5 - 7","Grade 5 - 9","Would you like to see a colossal storm on the planet Saturn? Or would you rather see the black hole at the center of our Milky Way galaxy? Is it possible to see a planet in another galaxy 13 billion light years away? Orbiting high above Earth, the Hubble Telescope captures all these amazing wonders of space. Incredible photographs are relayed back to Earth, allowing scientists and astronomers to study parts of space that were once completely unknown. Author Michael D. Cole explores the remarkable journey of launching this telescope into space and how it can unlock the greatest mysteries of the universe. ","English",25.27,18.95,"522","48 pp.",{"$f":"Table1[[#This Row],[QTY]]*Table1[[#This Row],['# of Books]]","v":0},{"$f":"Table1[[#This Row],[QTY]]*Table1[[#This Row],[School & Library Price]]","v":0}]
[null,null,null,105,"American Space Missions—Astronauts, Exploration, and Discovery","Eye on the Universe: The Incredible Hubble Space Telescope",1,"eBook","978-0-7660-4363-3",2013,"August 2012",null,"Author","Michael D. Cole",7.2,1,null,null,"N","1010L","Grade 5 - 7","Grade 5 - 9","Would you like to see a colossal storm on the planet Saturn? Or would you rather see the black hole at the center of our Milky Way galaxy? Is it possible to see a planet in another galaxy 13 billion light years away? Orbiting high above Earth, the Hubble Telescope captures all these amazing wonders of space. Incredible photographs are relayed back to Earth, allowing scientists and astronomers to study parts of space that were once completely unknown. Author Michael D. Cole explores the remarkable journey of launching this telescope into space and how it can unlock the greatest mysteries of the universe. ","English",25.27,18.95,"522","48 pp.",{"$f":"Table1[[#This Row],[QTY]]*Table1[[#This Row],['# of Books]]","v":0},{"$f":"Table1[[#This Row],[QTY]]*Table1[[#This Row],[School & Library Price]]","v":0}]
[null,null,null,105,"American Space Missions—Astronauts, Exploration, and Discovery","Space Shuttle Disaster: The Tragic Mission of the Challenger",1,"Library Bound Book","978-0-7660-4073-1",2013,"August 2012","7.500 X 9.000","Author","Henry M. Holden",6.8,1,null,null,"O","930L","Grade 5 - 7","Grade 5 - 9","On the frigid morning of January 28, 1986, the space shuttle CHALLENGER rumbled off the launchpad at Cape Canaveral, Florida. Brilliant orange flames and clouds of smoke billowed out of the external fuel tank, lifting CHALLENGER high into the crystal-blue sky. The mission had attracted worldwide attention. NASA was sending the first teacher, Christa McAuliffe, into space. Crowds gathered to watch the launch, and millions tuned in on television. But less than two minutes into the mission, CHALLENGER exploded in midair, and the historic day ended in tragedy. Author Henry M. Holden takes an in-depth look at this space shuttle disaster. ","English",25.27,18.95,"363.12","48 pp.",{"$f":"Table1[[#This Row],[QTY]]*Table1[[#This Row],['# of Books]]","v":0},{"$f":"Table1[[#This Row],[QTY]]*Table1[[#This Row],[School & Library Price]]","v":0}]
[null,null,null,105,"American Space Missions—Astronauts, Exploration, and Discovery","Space Shuttle Disaster: The Tragic Mission of the Challenger",1,"eBook","978-0-7660-4367-1",2013,"August 2012",null,"Author","Henry M. Holden",6.8,1,null,null,"O","930L","Grade 5 - 7","Grade 5 - 9","On the frigid morning of January 28, 1986, the space shuttle CHALLENGER rumbled off the launchpad at Cape Canaveral, Florida. Brilliant orange flames and clouds of smoke billowed out of the external fuel tank, lifting CHALLENGER high into the crystal-blue sky. The mission had attracted worldwide attention. NASA was sending the first teacher, Christa McAuliffe, into space. Crowds gathered to watch the launch, and millions tuned in on television. But less than two minutes into the mission, CHALLENGER exploded in midair, and the historic day ended in tragedy. Author Henry M. Holden takes an in-depth look at this space shuttle disaster. ","English",25.27,18.95,"363.12","48 pp.",{"$f":"Table1[[#This Row],[QTY]]*Table1[[#This Row],['# of Books]]","v":0},{"$f":"Table1[[#This Row],[QTY]]*Table1[[#This Row],[School & Library Price]]","v":0}]
[null,null,null,105,"American Space Missions—Astronauts, Exploration, and Discovery","Spacewalk: The Astounding Gemini 4 Mission",1,"Library Bound Book","978-0-7660-4075-5",2013,"August 2012","7.500 X 9.000","Author","Carl R. Green",6.3,1,null,null,"O","950L","Grade 5 - 7","Grade 5 - 9","GEMINI 4 pilot Ed White could see Hawaii, California, Texas, and Florida. Millions of Americans had seen these places before, but White had a unique view. He looked at them while walking in space! One hundred miles above Earth and moving freely outside the GEMINI 4 spacecraft, White saw these states as tiny stepping stones. The first American spacewalk was a monumental achievement, and it helped push the space program toward its ultimate goal of landing men on the Moon. From the brave astronauts to the technology that made it possible, author Carl R. Green explores the astounding GEMINI 4 mission. ","English",25.27,18.95,"629.45","48 pp.",{"$f":"Table1[[#This Row],[QTY]]*Table1[[#This Row],['# of Books]]","v":0},{"$f":"Table1[[#This Row],[QTY]]*Table1[[#This Row],[School & Library Price]]","v":0}]
[null,null,null,105,"American Space Missions—Astronauts, Exploration, and Discovery","Spacewalk: The Astounding Gemini 4 Mission",1,"eBook","978-0-7660-4365-7",2013,"August 2012",null,"Author","Carl R. Green",6.3,1,null,null,"O","950L","Grade 5 - 7","Grade 5 - 9","GEMINI 4 pilot Ed White could see Hawaii, California, Texas, and Florida. Millions of Americans had seen these places before, but White had a unique view. He looked at them while walking in space! One hundred miles above Earth and moving freely outside the GEMINI 4 spacecraft, White saw these states as tiny stepping stones. The first American spacewalk was a monumental achievement, and it helped push the space program toward its ultimate goal of landing men on the Moon. From the brave astronauts to the technology that made it possible, author Carl R. Green explores the astounding GEMINI 4 mission. ","English",25.27,18.95,"629.45","48 pp.",{"$f":"Table1[[#This Row],[QTY]]*Table1[[#This Row],['# of Books]]","v":0},{"$f":"Table1[[#This Row],[QTY]]*Table1[[#This Row],[School & Library Price]]","v":0}]
[null,null,null,105,"American Space Missions—Astronauts, Exploration, and Discovery","The Coolest Job in the Universe: Working Aboard the International Space Station",1,"Library Bound Book","978-0-7660-4074-8",2013,"August 2012","7.500 X 9.000","Author","Henry M. Holden",7.2,1,null,null,"N","1020L","Grade 5 - 7","Grade 5 - 9","Traveling more than 17,000 miles per hour in constant orbit around Earth, astronauts live and work aboard the International Space Station (ISS). Despite the hostile environment of space, the ISS has suitable living conditions for its workers. Astronauts breathe clean air, eat shrimp cocktail, exercise daily, take baths, and take out the trash—in zero gravity, of course. Floating around the ISS, the astronauts have important jobs, conducting experiments and doing research projects. Author Henry M. Holden explores the base camp to the universe from its design and construction to the amazing astronauts who work there. ","English",25.27,18.95,"629.44","48 pp.",{"$f":"Table1[[#This Row],[QTY]]*Table1[[#This Row],['# of Books]]","v":0},{"$f":"Table1[[#This Row],[QTY]]*Table1[[#This Row],[School & Library Price]]","v":0}]
[null,null,null,105,"American Space Missions—Astronauts, Exploration, and Discovery","The Coolest Job in the Universe: Working Aboard the International Space Station",1,"eBook","978-0-7660-4366-4",2013,"August 2012",null,"Author","Henry M. Holden",7.2,1,null,null,"N","1020L","Grade 5 - 7","Grade 5 - 9","Traveling more than 17,000 miles per hour in constant orbit around Earth, astronauts live and work aboard the International Space Station (ISS). Despite the hostile environment of space, the ISS has suitable living conditions for its workers. Astronauts breathe clean air, eat shrimp cocktail, exercise daily, take baths, and take out the trash—in zero gravity, of course. Floating around the ISS, the astronauts have important jobs, conducting experiments and doing research projects. Author Henry M. Holden explores the base camp to the universe from its design and construction to the amazing astronauts who work there. ","English",25.27,18.95,"629.44","48 pp.",{"$f":"Table1[[#This Row],[QTY]]*Table1[[#This Row],['# of Books]]","v":0},{"$f":"Table1[[#This Row],[QTY]]*Table1[[#This Row],[School & Library Price]]","v":0}]
[null,null,null,105,"American Space Missions—Astronauts, Exploration, and Discovery","Walking on the Moon: The Amazing Apollo 11 Mission",1,"Library Bound Book","978-0-7660-4076-2",2013,"August 2012","7.500 X 9.000","Author","Carl R. Green",6.1,1,null,null,"O","920L","Grade 5 - 7","Grade 5 - 9","On July 20, 1969, the world watched on televisions or listened on radios as Neil Armstrong and Buzz Aldrin took the first-ever steps on the Moon. Once considered an impossible dream, the United States created the APOLLO program with one goal in mind—landing on the Moon. After many years of hard work, sacrifice, and dedication, the APOLLO 11 mission made that dream a reality. Author Carl R. Green explores one of the most monumental achievements in human history. ","English",25.27,18.95,"629.45","48 pp.",{"$f":"Table1[[#This Row],[QTY]]*Table1[[#This Row],['# of Books]]","v":0},{"$f":"Table1[[#This Row],[QTY]]*Table1[[#This Row],[School & Library Price]]","v":0}]
[null,null,null,105,"American Space Missions—Astronauts, Exploration, and Discovery","Walking on the Moon: The Amazing Apollo 11 Mission",1,"eBook","978-0-7660-4364-0",2013,"August 2012",null,"Author","Carl R. Green",6.1,1,null,null,"O","920L","Grade 5 - 7","Grade 5 - 9","On July 20, 1969, the world watched on televisions or listened on radios as Neil Armstrong and Buzz Aldrin took the first-ever steps on the Moon. Once considered an impossible dream, the United States created the APOLLO program with one goal in mind—landing on the Moon. After many years of hard work, sacrifice, and dedication, the APOLLO 11 mission made that dream a reality. Author Carl R. Green explores one of the most monumental achievements in human history. ","English",25.27,18.95,"629.45","48 pp.",{"$f":"Table1[[#This Row],[QTY]]*Table1[[#This Row],['# of Books]]","v":0},{"$f":"Table1[[#This Row],[QTY]]*Table1[[#This Row],[School & Library Price]]","v":0}]
[null,null,null,105,"Disasters—People in Peril","Disasters—People in Peril",6,"Library Set","978-0-7660-8058-4",2013,"January 2013","7.500 X 9.000",null,null,null,null,null,null,null,null,"Grade 6 - 12","Grade 6 - 12",null,"English",151.62,113.7,null,"48 pp.",{"$f":"Table1[[#This Row],[QTY]]*Table1[[#This Row],['# of Books]]","v":0},{"$f":"Table1[[#This Row],[QTY]]*Table1[[#This Row],[School & Library Price]]","v":0}]
[null,null,null,105,"Disasters—People in Peril","Deadly Storm Alert!: The Dangerous El Niño and La Niña",1,"Library Bound Book","978-0-7660-4014-4",2013,"January 2013","7.500 X 9.000","Author","Carmen Bredeson",6.5,1,null,null,"R","1000L","Grade 5 - 7","Grade 5 - 9","Twisting tornadoes leveled small towns in Florida. Floods washed out roads and homes in Peru. Severe droughts in Indonesia caused roaring forest fires, leaving animals starving. Is it possible that all these deadly disasters were caused by the same weather event? Yes, and its name is El Niño. This weather pattern causes a pool of warm water to form in the Pacific Ocean, which impacts climate conditions around the world. El Niño also has a dangerous little sister, La Niña. Author Carmen Bredeson explores the causes and effects of El Niño and La Niña, and looks at stories from survivors and rescue workers that have seen their wrath. ","English",25.27,18.95,"551.5","48 pp.",{"$f":"Table1[[#This Row],[QTY]]*Table1[[#This Row],['# of Books]]","v":0},{"$f":"Table1[[#This Row],[QTY]]*Table1[[#This Row],[School & Library Price]]","v":0}]
[null,null,null,105,"Disasters—People in Peril","Deadly Storm Alert!: The Dangerous El Niño and La Niña",1,"eBook","978-0-7660-4396-1",2013,"January 2013",null,"Author","Carmen Bredeson",6.5,1,null,null,"R","1000L","Grade 5 - 7","Grade 5 - 9","Twisting tornadoes leveled small towns in Florida. Floods washed out roads and homes in Peru. Severe droughts in Indonesia caused roaring forest fires, leaving animals starving. Is it possible that all these deadly disasters were caused by the same weather event? Yes, and its name is El Niño. This weather pattern causes a pool of warm water to form in the Pacific Ocean, which impacts climate conditions around the world. El Niño also has a dangerous little sister, La Niña. Author Carmen Bredeson explores the causes and effects of El Niño and La Niña, and looks at stories from survivors and rescue workers that have seen their wrath. ","English",25.27,18.95,"551.5","48 pp.",{"$f":"Table1[[#This Row],[QTY]]*Table1[[#This Row],['# of Books]]","v":0},{"$f":"Table1[[#This Row],[QTY]]*Table1[[#This Row],[School & Library Price]]","v":0}]
[null,null,null,105,"Disasters—People in Peril","Deadly Waves: Tsunamis",1,"Library Bound Book","978-0-7660-4018-2",2013,"January 2013","7.500 X 9.000","Author","Mary Dodson Wade",6.4,1,null,null,"Q","970L","Grade 5 - 7","Grade 5 - 9","On March 11, 2011, an earthquake rumbled off the coast of Japan in the Pacific Ocean. Buildings trembled, some collapsing, and fires started. But the earthquake had stirred up something even deadlier: a tsunami. A colossal wave surged inland, burying parts of the island nation in muddy, debris-filled water. The tsunami consumed buildings, crushed houses, and swept people away. The disaster caused catastrophic damage and loss of life. How can an earthquake deep in the ocean cause this much death and destruction? Author Mary Dodson Wade examines the causes of tsunamis, where they occur, and gives firsthand accounts from survivors of the deadliest waves. ","English",25.27,18.95,"551.47","48 pp.",{"$f":"Table1[[#This Row],[QTY]]*Table1[[#This Row],['# of Books]]","v":0},{"$f":"Table1[[#This Row],[QTY]]*Table1[[#This Row],[School & Library Price]]","v":0}]
[null,null,null,105,"Disasters—People in Peril","Deadly Waves: Tsunamis",1,"eBook","978-0-7660-4395-4",2013,"January 2013",null,"Author","Mary Dodson Wade",6.4,1,null,null,"Q","970L","Grade 5 - 7","Grade 5 - 9","On March 11, 2011, an earthquake rumbled off the coast of Japan in the Pacific Ocean. Buildings trembled, some collapsing, and fires started. But the earthquake had stirred up something even deadlier: a tsunami. A colossal wave surged inland, burying parts of the island nation in muddy, debris-filled water. The tsunami consumed buildings, crushed houses, and swept people away. The disaster caused catastrophic damage and loss of life. How can an earthquake deep in the ocean cause this much death and destruction? Author Mary Dodson Wade examines the causes of tsunamis, where they occur, and gives firsthand accounts from survivors of the deadliest waves. ","English",25.27,18.95,"551.47","48 pp.",{"$f":"Table1[[#This Row],[QTY]]*Table1[[#This Row],['# of Books]]","v":0},{"$f":"Table1[[#This Row],[QTY]]*Table1[[#This Row],[School & Library Price]]","v":0}]
[null,null,null,105,"Disasters—People in Peril","Fiery Volcano: The Eruption of Mount St. Helens",1,"Library Bound Book","978-0-7660-4015-1",2013,"January 2013","7.500 X 9.000","Author","Carmen Bredeson",6.2,1,null,null,"R","1020L","Grade 5 - 7","Grade 5 - 9","From his observation point just five miles from Mount St. Helens, geologist David Johnston said \"This is it!\" before his radio went dead. Johnston watched the volcano explode. His body was never found. During the violent eruption on May 18, 1980, the volcano released tons of rock and debris along with scorching steam and poisonous gas. Volcanic ash soared miles into the air, before covering roads and towns. Fifty-seven people died during the eruption, and it forever changed the landscape of the mountain. Author Carmen Bredeson examines the causes and effects of the Mount St. Helens eruption and gives firsthand stories from victims and survivors. ","English",25.27,18.95,"551.2109797","48 pp.",{"$f":"Table1[[#This Row],[QTY]]*Table1[[#This Row],['# of Books]]","v":0},{"$f":"Table1[[#This Row],[QTY]]*Table1[[#This Row],[School & Library Price]]","v":0}]
[null,null,null,105,"Disasters—People in Peril","Fiery Volcano: The Eruption of Mount St. Helens",1,"eBook","978-0-7660-4394-7",2013,"January 2013",null,"Author","Carmen Bredeson",6.2,1,null,null,"R","1020L","Grade 5 - 7","Grade 5 - 9","From his observation point just five miles from Mount St. Helens, geologist David Johnston said \"This is it!\" before his radio went dead. Johnston watched the volcano explode. His body was never found. During the violent eruption on May 18, 1980, the volcano released tons of rock and debris along with scorching steam and poisonous gas. Volcanic ash soared miles into the air, before covering roads and towns. Fifty-seven people died during the eruption, and it forever changed the landscape of the mountain. Author Carmen Bredeson examines the causes and effects of the Mount St. Helens eruption and gives firsthand stories from victims and survivors. ","English",25.27,18.95,"551.2109797","48 pp.",{"$f":"Table1[[#This Row],[QTY]]*Table1[[#This Row],['# of Books]]","v":0},{"$f":"Table1[[#This Row],[QTY]]*Table1[[#This Row],[School & Library Price]]","v":0}]
[null,null,null,105,"Disasters—People in Peril","Forty-Nine Minutes of Madness: The Columbine High School Shooting",1,"Library Bound Book","978-0-7660-4013-7",2013,"January 2013","7.500 X 9.000","Author","Judy L. Hasday",6.8,1,null,null,"R","970L","Grade 5 - 7","Grade 5 - 9","April 20, 1999, was an ordinary school day for students at Columbine High School in Littleton, Colorado. Classrooms were full of students finishing their last assignments before final exams. When the bell rang for the first lunch period, some went outside to enjoy the warm weather. But minutes later, the sound of gunfire pierced the peaceful spring day. At 11:19 A.M., two students, Eric Harris and Dyland Klebold, unleashed a long-planned murderous assault on their fellow classmates at Columbine, leaving twelve students and one teacher dead before taking their own lives. Author Judy L. Hasday carefully examines one of the worst incidents of school violence in American history, including accounts from witnesses and survivors. ","English",25.27,18.95,"373.17","48 pp.",{"$f":"Table1[[#This Row],[QTY]]*Table1[[#This Row],['# of Books]]","v":0},{"$f":"Table1[[#This Row],[QTY]]*Table1[[#This Row],[School & Library Price]]","v":0}]
[null,null,null,105,"Disasters—People in Peril","Forty-Nine Minutes of Madness: The Columbine High School Shooting",1,"eBook","978-0-7660-4397-8",2013,"January 2013",null,"Author","Judy L. Hasday",6.8,1,null,null,"R","970L","Grade 5 - 7","Grade 5 - 9","April 20, 1999, was an ordinary school day for students at Columbine High School in Littleton, Colorado. Classrooms were full of students finishing their last assignments before final exams. When the bell rang for the first lunch period, some went outside to enjoy the warm weather. But minutes later, the sound of gunfire pierced the peaceful spring day. At 11:19 A.M., two students, Eric Harris and Dyland Klebold, unleashed a long-planned murderous assault on their fellow classmates at Columbine, leaving twelve students and one teacher dead before taking their own lives. Author Judy L. Hasday carefully examines one of the worst incidents of school violence in American history, including accounts from witnesses and survivors. ","English",25.27,18.95,"373.17","48 pp.",{"$f":"Table1[[#This Row],[QTY]]*Table1[[#This Row],['# of Books]]","v":0},{"$f":"Table1[[#This Row],[QTY]]*Table1[[#This Row],[School & Library Price]]","v":0}]
[null,null,null,105,"Disasters—People in Peril","Homegrown Terror: The Oklahoma City Bombing",1,"Library Bound Book","978-0-7660-4016-8",2013,"January 2013","7.500 X 9.000","Author","Victoria Sherrow",6.6,1,null,null,"R","960L","Grade 5 - 7","Grade 5 - 9","At the Alfred P. Murrah Federal Building, a quiet spring day began like any other in Oklahoma City on April 19, 1995. Government employees arrived for a busy workday. Parents dropped their children off at the day care center. Suddenly, a colossal explosion tore through the nine-story building, the front of it crumbling to the ground. More than one hundred people died instantly. Many more were injured. Tragedy gripped the nation. What caused the explosion? An American terrorist had detonated a bomb. Author Victoria Sherrow examines this catastrophic day, including stories from witnesses and survivors, and the cause of this hateful crime—homegrown terrorism. ","English",25.27,18.95,"363.32509766","48 pp.",{"$f":"Table1[[#This Row],[QTY]]*Table1[[#This Row],['# of Books]]","v":0},{"$f":"Table1[[#This Row],[QTY]]*Table1[[#This Row],[School & Library Price]]","v":0}]
[null,null,null,105,"Disasters—People in Peril","Homegrown Terror: The Oklahoma City Bombing",1,"eBook","978-0-7660-4393-0",2013,"January 2013",null,"Author","Victoria Sherrow",6.6,1,null,null,"R","960L","Grade 5 - 7","Grade 5 - 9","At the Alfred P. Murrah Federal Building, a quiet spring day began like any other in Oklahoma City on April 19, 1995. Government employees arrived for a busy workday. Parents dropped their children off at the day care center. Suddenly, a colossal explosion tore through the nine-story building, the front of it crumbling to the ground. More than one hundred people died instantly. Many more were injured. Tragedy gripped the nation. What caused the explosion? An American terrorist had detonated a bomb. Author Victoria Sherrow examines this catastrophic day, including stories from witnesses and survivors, and the cause of this hateful crime—homegrown terrorism. ","English",25.27,18.95,"363.32509766","48 pp.",{"$f":"Table1[[#This Row],[QTY]]*Table1[[#This Row],['# of Books]]","v":0},{"$f":"Table1[[#This Row],[QTY]]*Table1[[#This Row],[School & Library Price]]","v":0}]
[null,null,null,105,"Disasters—People in Peril","Unsinkable!: The Titanic Shipwreck",1,"Library Bound Book","978-0-7660-4017-5",2013,"January 2013","7.500 X 9.000","Author","Michael D. Cole",6.6,1,null,null,"Q","990L","Grade 5 - 7","Grade 5 - 9","The TITANIC was the largest ocean liner ever built. Shipbuilders hailed its state-of-the-art design. First-class passengers enjoyed extravagant luxuries onboard. But on April 15, 1912, five days after departing on its maiden voyage, disaster struck. Lookout Frederick Fleet spotted an iceberg in the darkness ahead. The crew tried desperately to turn the monstrous ship, but the iceberg tore through its side, sealing the TITANIC's fate. Two hours later, the unsinkable ship disappeared into the Atlantic Ocean, taking fifteen hundred passengers with it. One hundred years later, the TITANIC and its tragic story still draw attention. Author Michael D. Cole examines the harrowing journey of this historic shipwreck. ","English",25.27,18.95,"910.9163","48 pp.",{"$f":"Table1[[#This Row],[QTY]]*Table1[[#This Row],['# of Books]]","v":0},{"$f":"Table1[[#This Row],[QTY]]*Table1[[#This Row],[School & Library Price]]","v":0}]
[null,null,null,105,"Disasters—People in Peril","Unsinkable!: The Titanic Shipwreck",1,"eBook","978-0-7660-4392-3",2013,"January 2013",null,"Author","Michael D. Cole",6.6,1,null,null,"Q","990L","Grade 5 - 7","Grade 5 - 9","The TITANIC was the largest ocean liner ever built. Shipbuilders hailed its state-of-the-art design. First-class passengers enjoyed extravagant luxuries onboard. But on April 15, 1912, five days after departing on its maiden voyage, disaster struck. Lookout Frederick Fleet spotted an iceberg in the darkness ahead. The crew tried desperately to turn the monstrous ship, but the iceberg tore through its side, sealing the TITANIC's fate. Two hours later, the unsinkable ship disappeared into the Atlantic Ocean, taking fifteen hundred passengers with it. One hundred years later, the TITANIC and its tragic story still draw attention. Author Michael D. Cole examines the harrowing journey of this historic shipwreck. ","English",25.27,18.95,"910.9163","48 pp.",{"$f":"Table1[[#This Row],[QTY]]*Table1[[#This Row],['# of Books]]","v":0},{"$f":"Table1[[#This Row],[QTY]]*Table1[[#This Row],[School & Library Price]]","v":0}]
[null,null,null,106,"Investigate Drugs","Investigate Drugs",5,"Library Set","978-0-7660-8062-1",2015,"August 2014","6.000 X 9.000",null,null,null,null,null,null,null,null,"Grade 6 - 12","Grade 6 - 12",null,"English",166.36,124.75,null,"112 pp.",{"$f":"Table1[[#This Row],[QTY]]*Table1[[#This Row],['# of Books]]","v":0},{"$f":"Table1[[#This Row],[QTY]]*Table1[[#This Row],[School & Library Price]]","v":0}]
[null,null,null,106,"Investigate Drugs","Investigate Alcohol",1,"Library Bound Book","978-0-7660-4253-7",2015,"August 2014","6.000 X 9.000","Author, Author","Marylou Ambrose, Veronica Deisler",null,null,null,null,"X","930L","Grade 5 - 6","Grade 5 - 12","Straightforward information about alcohol, from the physical effects it has on someone's body to reasons why people drink, underage drinking, alcohol's effects on the body, and its influence on behavior and mental health. Personal stories and the latest statistics bring the dangers of alcohol abuse into focus. ","English",33.270000000000003,24.95,"362.29209","112 pp.",{"$f":"Table1[[#This Row],[QTY]]*Table1[[#This Row],['# of Books]]","v":0},{"$f":"Table1[[#This Row],[QTY]]*Table1[[#This Row],[School & Library Price]]","v":0}]
[null,null,null,106,"Investigate Drugs","Investigate Alcohol",1,"eBook","978-0-7660-5876-7",2015,"August 2014",null,"Author, Author","Marylou Ambrose, Veronica Deisler",null,null,null,null,"X","930L","Grade 5 - 6","Grade 5 - 12","Straightforward information about alcohol, from the physical effects it has on someone's body to reasons why people drink, underage drinking, alcohol's effects on the body, and its influence on behavior and mental health. Personal stories and the latest statistics bring the dangers of alcohol abuse into focus. ","English",33.270000000000003,24.95,"362.29209","112 pp.",{"$f":"Table1[[#This Row],[QTY]]*Table1[[#This Row],['# of Books]]","v":0},{"$f":"Table1[[#This Row],[QTY]]*Table1[[#This Row],[School & Library Price]]","v":0}]
[null,null,null,106,"Investigate Drugs","Investigate Club Drugs",1,"Library Bound Book","978-0-7660-4221-6",2015,"August 2014","6.000 X 9.000","Author, Author","Alison Eldridge, Stephen Eldridge",null,null,null,null,"X","1010L","Grade 5 - 6","Grade 5 - 12","Club drugs refer to a wide variety of dangerous drugs often used by young adults at all-night dance parties, dance clubs and bars. The best known of the so-called club drugs used is ecstasy, but there are many others. Club drugs are also sometimes used as \"date rape\" drugs, to make someone unable to say no to or fight back against sexual assault. INVESTIGATE CLUB DRUGS presents information about ecstasy and other club drugs, including their history, how they are distributed, and their  physical and psychological effects highlighted by personal stories. ","English",33.270000000000003,24.95,"362.29","112 pp.",{"$f":"Table1[[#This Row],[QTY]]*Table1[[#This Row],['# of Books]]","v":0},{"$f":"Table1[[#This Row],[QTY]]*Table1[[#This Row],[School & Library Price]]","v":0}]
[null,null,null,106,"Investigate Drugs","Investigate Club Drugs",1,"eBook","978-0-7660-5844-6",2015,"August 2014",null,"Author, Author","Alison Eldridge, Stephen Eldridge",null,null,null,null,"X","1010L","Grade 5 - 6","Grade 5 - 12","Club drugs refer to a wide variety of dangerous drugs often used by young adults at all-night dance parties, dance clubs and bars. The best known of the so-called club drugs used is ecstasy, but there are many others. Club drugs are also sometimes used as \"date rape\" drugs, to make someone unable to say no to or fight back against sexual assault. INVESTIGATE CLUB DRUGS presents information about ecstasy and other club drugs, including their history, how they are distributed, and their  physical and psychological effects highlighted by personal stories. ","English",33.270000000000003,24.95,"362.29","112 pp.",{"$f":"Table1[[#This Row],[QTY]]*Table1[[#This Row],['# of Books]]","v":0},{"$f":"Table1[[#This Row],[QTY]]*Table1[[#This Row],[School & Library Price]]","v":0}]
[null,null,null,106,"Investigate Drugs","Investigate Cocaine and Crack",1,"Library Bound Book","978-0-7660-4255-1",2015,"August 2014","6.000 X 9.000","Author, Author","Marylou Ambrose, Veronica Deisler",null,null,null,null,"X","950L","Grade 5 - 6","Grade 5 - 12","INVESTIGATING COCAINE AND CRACK takes a look at the serious and potentially deadly consequences associated with crack and cocaine abuse. Personal stories and the latest statistics bring the dangers of this extremely habit-forming drug into focus. ","English",33.270000000000003,24.95,"616.86","112 pp.",{"$f":"Table1[[#This Row],[QTY]]*Table1[[#This Row],['# of Books]]","v":0},{"$f":"Table1[[#This Row],[QTY]]*Table1[[#This Row],[School & Library Price]]","v":0}]
[null,null,null,106,"Investigate Drugs","Investigate Cocaine and Crack",1,"eBook","978-0-7660-5878-1",2015,"August 2014",null,"Author, Author","Marylou Ambrose, Veronica Deisler",null,null,null,null,"X","950L","Grade 5 - 6","Grade 5 - 12","INVESTIGATING COCAINE AND CRACK takes a look at the serious and potentially deadly consequences associated with crack and cocaine abuse. Personal stories and the latest statistics bring the dangers of this extremely habit-forming drug into focus. ","English",33.270000000000003,24.95,"616.86","112 pp.",{"$f":"Table1[[#This Row],[QTY]]*Table1[[#This Row],['# of Books]]","v":0},{"$f":"Table1[[#This Row],[QTY]]*Table1[[#This Row],[School & Library Price]]","v":0}]
[null,null,null,106,"Investigate Drugs","Investigate Methamphetamine",1,"Library Bound Book","978-0-7660-4254-4",2015,"August 2014","6.000 X 9.000","Author, Author","Marylou Ambrose, Veronica Deisler",null,null,null,null,"X","910L","Grade 5 - 6","Grade 5 - 12","Meth . . . crank  . . .  ice . . . No matter what you call it, methamphetamine is an extremely addictive drug. It is expensive and gives users what appears to endless energy. In INVESTIGATE METHAMPHETAMINES, authors Marylou Ambrose and Veronica Deisler look at the epidemic spread of methamphetamines abuse in the United States.  Personal stories and the latest statistics bring the deadly impact of this drug into focus. ","English",33.270000000000003,24.95,"616.86","112 pp.",{"$f":"Table1[[#This Row],[QTY]]*Table1[[#This Row],['# of Books]]","v":0},{"$f":"Table1[[#This Row],[QTY]]*Table1[[#This Row],[School & Library Price]]","v":0}]
[null,null,null,106,"Investigate Drugs","Investigate Methamphetamine",1,"eBook","978-0-7660-5877-4",2015,"August 2014",null,"Author, Author","Marylou Ambrose, Veronica Deisler",null,null,null,null,"X","910L","Grade 5 - 6","Grade 5 - 12","Meth . . . crank  . . .  ice . . . No matter what you call it, methamphetamine is an extremely addictive drug. It is expensive and gives users what appears to endless energy. In INVESTIGATE METHAMPHETAMINES, authors Marylou Ambrose and Veronica Deisler look at the epidemic spread of methamphetamines abuse in the United States.  Personal stories and the latest statistics bring the deadly impact of this drug into focus. ","English",33.270000000000003,24.95,"616.86","112 pp.",{"$f":"Table1[[#This Row],[QTY]]*Table1[[#This Row],['# of Books]]","v":0},{"$f":"Table1[[#This Row],[QTY]]*Table1[[#This Row],[School & Library Price]]","v":0}]
[null,null,null,106,"Investigate Drugs","Investigate Steroids and Performance Drugs",1,"Library Bound Book","978-0-7660-4240-7",2015,"August 2014","6.000 X 9.000","Author","Sara L. Latta",null,null,null,null,"X","1140L","Grade 5 - 6","Grade 5 - 12","Many young people are tempted to take steroids because they believe they will become better athletes or be more attractive. INVESTIGATE STEROIDS AND PERFORMANCE DRUGS explains why this is a dangerous belief. Author Sara L. Latta discusses steroids and performance-enhancing drugs, explaining their history, effect on the body, reasons for use, laws that control their use, and their use by amateur and professional athletes. ","English",33.270000000000003,24.95,"362.29","112 pp.",{"$f":"Table1[[#This Row],[QTY]]*Table1[[#This Row],['# of Books]]","v":0},{"$f":"Table1[[#This Row],[QTY]]*Table1[[#This Row],[School & Library Price]]","v":0}]
[null,null,null,106,"Investigate Drugs","Investigate Steroids and Performance Drugs",1,"eBook","978-0-7660-5863-7",2015,"August 2014",null,"Author","Sara L. Latta",null,null,null,null,"X","1140L","Grade 5 - 6","Grade 5 - 12","Many young people are tempted to take steroids because they believe they will become better athletes or be more attractive. INVESTIGATE STEROIDS AND PERFORMANCE DRUGS explains why this is a dangerous belief. Author Sara L. Latta discusses steroids and performance-enhancing drugs, explaining their history, effect on the body, reasons for use, laws that control their use, and their use by amateur and professional athletes. ","English",33.270000000000003,24.95,"362.29","112 pp.",{"$f":"Table1[[#This Row],[QTY]]*Table1[[#This Row],['# of Books]]","v":0},{"$f":"Table1[[#This Row],[QTY]]*Table1[[#This Row],[School & Library Price]]","v":0}]
[null,null,null,106,"Learning About the Human Body Systems","Learning About the Human Body Systems",6,"Library Set","978-0-7660-8064-5",2013,"January 2013","7.500 X 9.000",null,null,null,null,null,null,null,null,"Grade 6 - 12","Grade 6 - 12",null,"English",151.62,113.7,null,"48 pp.",{"$f":"Table1[[#This Row],[QTY]]*Table1[[#This Row],['# of Books]]","v":0},{"$f":"Table1[[#This Row],[QTY]]*Table1[[#This Row],[School & Library Price]]","v":0}]
[null,null,null,106,"Learning About the Human Body Systems","Learning About the Circulatory and Lymphatic Systems",1,"Library Bound Book","978-0-7660-4156-1",2013,"January 2013","7.500 X 9.000","Author","John Coopersmith Gold",7.3,null,null,null,"U","970L","Grade 5 - 6","Grade 5 - 12","The circulatory system runs through the body carrying oxygen and nutrients to our cells and removes waste. It’s driven by the never-resting heart, which pumps blood through more than 60,000 miles of arteries and veins. The lymphatic system regulates the amount of liquid in the body among other tasks. Learn about how together, these two systems help the body stay alive and fight invading bacteria and viruses. ","English",25.27,18.95,"612.1","48 pp.",{"$f":"Table1[[#This Row],[QTY]]*Table1[[#This Row],['# of Books]]","v":0},{"$f":"Table1[[#This Row],[QTY]]*Table1[[#This Row],[School & Library Price]]","v":0}]
[null,null,null,106,"Learning About the Human Body Systems","Learning About the Circulatory and Lymphatic Systems",1,"eBook","978-0-7660-5782-1",2013,"January 2013",null,"Author","John Coopersmith Gold",7.3,null,null,null,"U","970L","Grade 5 - 6","Grade 5 - 12","The circulatory system runs through the body carrying oxygen and nutrients to our cells and removes waste. It’s driven by the never-resting heart, which pumps blood through more than 60,000 miles of arteries and veins. The lymphatic system regulates the amount of liquid in the body among other tasks. Learn about how together, these two systems help the body stay alive and fight invading bacteria and viruses. ","English",25.27,18.95,"612.1","48 pp.",{"$f":"Table1[[#This Row],[QTY]]*Table1[[#This Row],['# of Books]]","v":0},{"$f":"Table1[[#This Row],[QTY]]*Table1[[#This Row],[School & Library Price]]","v":0}]
[null,null,null,106,"Learning About the Human Body Systems","Learning About the Digestive and Excretory Systems",1,"Library Bound Book","978-0-7660-4157-8",2013,"January 2013","7.500 X 9.000","Author","Susan Dudley Gold",7.3,null,null,null,"V","990L","Grade 5 - 6","Grade 5 - 12","Author Susan Dudley Gold delves into the functions of the digestive and excretory systems. She explains why these systems are discussed together, how they work, and ways to keep healthy. Fascinating tidbits about these systems add an interesting twist. ","English",25.27,18.95,"612.3","48 pp.",{"$f":"Table1[[#This Row],[QTY]]*Table1[[#This Row],['# of Books]]","v":0},{"$f":"Table1[[#This Row],[QTY]]*Table1[[#This Row],[School & Library Price]]","v":0}]
[null,null,null,106,"Learning About the Human Body Systems","Learning About the Digestive and Excretory Systems",1,"eBook","978-0-7660-5783-8",2013,"January 2013",null,"Author","Susan Dudley Gold",7.3,null,null,null,"V","990L","Grade 5 - 6","Grade 5 - 12","Author Susan Dudley Gold delves into the functions of the digestive and excretory systems. She explains why these systems are discussed together, how they work, and ways to keep healthy. Fascinating tidbits about these systems add an interesting twist. ","English",25.27,18.95,"612.3","48 pp.",{"$f":"Table1[[#This Row],[QTY]]*Table1[[#This Row],['# of Books]]","v":0},{"$f":"Table1[[#This Row],[QTY]]*Table1[[#This Row],[School & Library Price]]","v":0}]
[null,null,null,106,"Learning About the Human Body Systems","Learning About the Endocrine and Reproductive Systems",1,"Library Bound Book","978-0-7660-4158-5",2013,"January 2013","7.500 X 9.000","Author","Melissa L. Kim",8,null,null,null,"V","1020L","Grade 5 - 6","Grade 5 - 12","The endocrine system is essential to human life. It enables a person to grow, respond to change and stress, and helps turn food into energy. The reproductive system has one crucial task: that of making the next generation of people. Learn how these two remarkable systems work together to ensure survival of the human race. ","English",25.27,18.95,"612.4","48 pp.",{"$f":"Table1[[#This Row],[QTY]]*Table1[[#This Row],['# of Books]]","v":0},{"$f":"Table1[[#This Row],[QTY]]*Table1[[#This Row],[School & Library Price]]","v":0}]
[null,null,null,106,"Learning About the Human Body Systems","Learning About the Endocrine and Reproductive Systems",1,"eBook","978-0-7660-5784-5",2013,"January 2013",null,"Author","Melissa L. Kim",8,null,null,null,"V","1020L","Grade 5 - 6","Grade 5 - 12","The endocrine system is essential to human life. It enables a person to grow, respond to change and stress, and helps turn food into energy. The reproductive system has one crucial task: that of making the next generation of people. Learn how these two remarkable systems work together to ensure survival of the human race. ","English",25.27,18.95,"612.4","48 pp.",{"$f":"Table1[[#This Row],[QTY]]*Table1[[#This Row],['# of Books]]","v":0},{"$f":"Table1[[#This Row],[QTY]]*Table1[[#This Row],[School & Library Price]]","v":0}]
[null,null,null,106,"Learning About the Human Body Systems","Learning About the Musculoskeletal System and the Skin",1,"Library Bound Book","978-0-7660-4159-2",2013,"January 2013","7.500 X 9.000","Author","Susan Dudley Gold",7.2,null,null,null,"U","1000L","Grade 5 - 6","Grade 5 - 12","Bone and muscles join forces to move us from one place to another. The musculoskeletal system controls our breathing, allows our eyes to focus, and shapes our smiles. It enables us to talk and to eat. Our strong bones support our weight. Skin wraps our body in a tough layer of tissue that keeps moisture in and germs out. Find out how this marvelous system works and learn some amazing facts about muscles, bones and skin. ","English",25.27,18.95,"612.7","48 pp.",{"$f":"Table1[[#This Row],[QTY]]*Table1[[#This Row],['# of Books]]","v":0},{"$f":"Table1[[#This Row],[QTY]]*Table1[[#This Row],[School & Library Price]]","v":0}]
[null,null,null,106,"Learning About the Human Body Systems","Learning About the Musculoskeletal System and the Skin",1,"eBook","978-0-7660-5785-2",2013,"January 2013",null,"Author","Susan Dudley Gold",7.2,null,null,null,"U","1000L","Grade 5 - 6","Grade 5 - 12","Bone and muscles join forces to move us from one place to another. The musculoskeletal system controls our breathing, allows our eyes to focus, and shapes our smiles. It enables us to talk and to eat. Our strong bones support our weight. Skin wraps our body in a tough layer of tissue that keeps moisture in and germs out. Find out how this marvelous system works and learn some amazing facts about muscles, bones and skin. ","English",25.27,18.95,"612.7","48 pp.",{"$f":"Table1[[#This Row],[QTY]]*Table1[[#This Row],['# of Books]]","v":0},{"$f":"Table1[[#This Row],[QTY]]*Table1[[#This Row],[School & Library Price]]","v":0}]
[null,null,null,106,"Learning About the Human Body Systems","Learning About the Nervous System",1,"Library Bound Book","978-0-7660-4160-8",2013,"January 2013","7.500 X 9.000","Author","Martha V. Gold",7.4,null,null,null,"V","970L","Grade 5 - 6","Grade 5 - 12","The nervous system is made up of the brain, the spinal cord and nerves. It is responsible for telling the heart to beat, the lungs to breathe, and the muscles to move. The brain—the central command center—processes everything from understanding a teacher’s instructions to enjoying a piece of chocolate cake. Discover more about how this remarkable system controls virtually every part of the human body. ","English",25.27,18.95,"612.8","48 pp.",{"$f":"Table1[[#This Row],[QTY]]*Table1[[#This Row],['# of Books]]","v":0},{"$f":"Table1[[#This Row],[QTY]]*Table1[[#This Row],[School & Library Price]]","v":0}]
[null,null,null,106,"Learning About the Human Body Systems","Learning About the Nervous System",1,"eBook","978-0-7660-5786-9",2013,"January 2013",null,"Author","Martha V. Gold",7.4,null,null,null,"V","970L","Grade 5 - 6","Grade 5 - 12","The nervous system is made up of the brain, the spinal cord and nerves. It is responsible for telling the heart to beat, the lungs to breathe, and the muscles to move. The brain—the central command center—processes everything from understanding a teacher’s instructions to enjoying a piece of chocolate cake. Discover more about how this remarkable system controls virtually every part of the human body. ","English",25.27,18.95,"612.8","48 pp.",{"$f":"Table1[[#This Row],[QTY]]*Table1[[#This Row],['# of Books]]","v":0},{"$f":"Table1[[#This Row],[QTY]]*Table1[[#This Row],[School & Library Price]]","v":0}]
[null,null,null,106,"Learning About the Human Body Systems","Learning About the Respiratory System",1,"Library Bound Book","978-0-7660-4161-5",2013,"January 2013","7.500 X 9.000","Author","Susan Dudley Gold",7.4,null,null,null,"V","1030L","Grade 5 - 6","Grade 5 - 12","In an informative and easy-to-understand look at the respiratory system, the author discusses what this body system is and what organs are involved in its various processes.  She discusses the potential health problems that can affect the respiratory system, such as cancer, pneumonia, and emphysema, as well as ways to keep healthy and problem-free.  Little-known facts about the respiratory system are also included. ","English",25.27,18.95,"611","48 pp.",{"$f":"Table1[[#This Row],[QTY]]*Table1[[#This Row],['# of Books]]","v":0},{"$f":"Table1[[#This Row],[QTY]]*Table1[[#This Row],[School & Library Price]]","v":0}]
[null,null,null,106,"Learning About the Human Body Systems","Learning About the Respiratory System",1,"eBook","978-0-7660-5787-6",2013,"January 2013",null,"Author","Susan Dudley Gold",7.4,null,null,null,"V","1030L","Grade 5 - 6","Grade 5 - 12","In an informative and easy-to-understand look at the respiratory system, the author discusses what this body system is and what organs are involved in its various processes.  She discusses the potential health problems that can affect the respiratory system, such as cancer, pneumonia, and emphysema, as well as ways to keep healthy and problem-free.  Little-known facts about the respiratory system are also included. ","English",25.27,18.95,"611","48 pp.",{"$f":"Table1[[#This Row],[QTY]]*Table1[[#This Row],['# of Books]]","v":0},{"$f":"Table1[[#This Row],[QTY]]*Table1[[#This Row],[School & Library Price]]","v":0}]
[null,null,null,107,"Diseases, Disorders, Symptoms","Diseases, Disorders, Symptoms",6,"Library Set","978-0-7660-8075-1",2015,"August 2014","6.000 X 9.000",null,null,null,null,null,null,null,null,"Grade 6 - 12","Grade 6 - 12",null,"English",179.64,134.76,null,null,{"$f":"Table1[[#This Row],[QTY]]*Table1[[#This Row],['# of Books]]","v":0},{"$f":"Table1[[#This Row],[QTY]]*Table1[[#This Row],[School & Library Price]]","v":0}]
[null,null,null,107,"Diseases, Disorders, Symptoms","Depression and Bipolar Disorder: Examining Chemical Imbalances and Mood Disorders",1,"Library Bound Book","978-1-6229-3060-9",2015,"August 2014","6.000 X 9.000","Author","Abigail Meisel",null,null,null,null,"V","1230L","Grade 9 - 10","Grade 9 - 12","Depression and bipolar disorder are imbalances in brain chemistry that affect mood, perception, and behavior. If left untreated, these imbalances can lead to years of pain and even suicide. Better understanding of the causes of depression and bipolar disorder and a revolution in medications for psychiatric illness along with psychotherapy have made both conditions treatable and brought relief to millions. Everything from the history of these disorders to their treatment options and stories of real teens dealing with depression are covered. This book is developed from INVESTIGATING DEPRESSION AND BIPOLAR DISORDER: REAL FACTS FOR REAL LIVES to allow republication of the original text into ebook, paperback, and trade editions. ","English",29.94,22.46,"616.89","96 pp.",{"$f":"Table1[[#This Row],[QTY]]*Table1[[#This Row],['# of Books]]","v":0},{"$f":"Table1[[#This Row],[QTY]]*Table1[[#This Row],[School & Library Price]]","v":0}]
[null,null,null,107,"Diseases, Disorders, Symptoms","Depression and Bipolar Disorder: Examining Chemical Imbalances and Mood Disorders",1,"eBook","978-1-6229-3064-7",2015,"August 2014",null,"Author","Abigail Meisel",null,null,null,null,"V","1230L","Grade 9 - 10","Grade 9 - 12","Depression and bipolar disorder are imbalances in brain chemistry that affect mood, perception, and behavior. If left untreated, these imbalances can lead to years of pain and even suicide. Better understanding of the causes of depression and bipolar disorder and a revolution in medications for psychiatric illness along with psychotherapy have made both conditions treatable and brought relief to millions. Everything from the history of these disorders to their treatment options and stories of real teens dealing with depression are covered. This book is developed from INVESTIGATING DEPRESSION AND BIPOLAR DISORDER: REAL FACTS FOR REAL LIVES to allow republication of the original text into ebook, paperback, and trade editions. ","English",34.6,25.95,"616.89","96 pp.",{"$f":"Table1[[#This Row],[QTY]]*Table1[[#This Row],['# of Books]]","v":0},{"$f":"Table1[[#This Row],[QTY]]*Table1[[#This Row],[School & Library Price]]","v":0}]
[null,null,null,107,"Diseases, Disorders, Symptoms","Diabetes: Examining Insulin and Blood Sugar",1,"Library Bound Book","978-1-6229-3065-4",2015,"August 2014","6.000 X 9.000","Author","Marylou Ambrose",null,null,null,null,"W","1200L","Grade 9 - 10","Grade 9 - 12","Diabetes can affect anyone from children to teens, and even to Olympic athletes, and famous performers. This informative book will answer your questions about diabetes: what it is and what it does to the body, how glucose and insulin work, why not every diabetic has to inject insulin, how a healthy diet and exercise can help people avoid Type 2 diabetes, and how amazing advances in treatment may someday make insulin injections a thing of the past. This book is developed from INVESTIGATING DIABETES: REAL FACTS FOR REAL LIVES to allow republication of the original text into ebook, paperback, and trade editions. ","English",29.94,22.46,"616.4","96 pp.",{"$f":"Table1[[#This Row],[QTY]]*Table1[[#This Row],['# of Books]]","v":0},{"$f":"Table1[[#This Row],[QTY]]*Table1[[#This Row],[School & Library Price]]","v":0}]
[null,null,null,107,"Diseases, Disorders, Symptoms","Diabetes: Examining Insulin and Blood Sugar",1,"eBook","978-1-6229-3069-2",2015,"August 2014",null,"Author","Marylou Ambrose",null,null,null,null,"W","1200L","Grade 9 - 10","Grade 9 - 12","Diabetes can affect anyone from children to teens, and even to Olympic athletes, and famous performers. This informative book will answer your questions about diabetes: what it is and what it does to the body, how glucose and insulin work, why not every diabetic has to inject insulin, how a healthy diet and exercise can help people avoid Type 2 diabetes, and how amazing advances in treatment may someday make insulin injections a thing of the past. This book is developed from INVESTIGATING DIABETES: REAL FACTS FOR REAL LIVES to allow republication of the original text into ebook, paperback, and trade editions. ","English",34.6,25.95,"616.4","96 pp.",{"$f":"Table1[[#This Row],[QTY]]*Table1[[#This Row],['# of Books]]","v":0},{"$f":"Table1[[#This Row],[QTY]]*Table1[[#This Row],[School & Library Price]]","v":0}]
[null,null,null,107,"Diseases, Disorders, Symptoms","Eating Disorders: Examining Anorexia, Bulimia, and Binge Eating",1,"Library Bound Book","978-1-6229-3070-8",2015,"August 2014","6.000 X 9.000","Author, Author","Marylou Ambrose, Veronica Deisler",null,null,null,null,"V","1110L","Grade 9 - 10","Grade 9 - 12","Everyone has heard of eating disorders. Readers and viewers of television, magazines, tabloids, and the Internet are kept up to date on which celebrities are too thin and which are too fat. But how much do people really understand about these psychological illnesses. This book demystifies the complex causes of eating disorders, discusses a myriad of treatment options, addresses helpful preventative measures, and highlights real people living with eating disorders. This book is developed from INVESTIGATING EATING DISORDERS (ANOREXIA, BULIMIA, AND BINGE EATING): REAL FACTS FOR REAL LIVES to allow republication of the original text into ebook, paperback, and trade editions. ","English",29.94,22.46,"616.85","96 pp.",{"$f":"Table1[[#This Row],[QTY]]*Table1[[#This Row],['# of Books]]","v":0},{"$f":"Table1[[#This Row],[QTY]]*Table1[[#This Row],[School & Library Price]]","v":0}]
[null,null,null,107,"Diseases, Disorders, Symptoms","Eating Disorders: Examining Anorexia, Bulimia, and Binge Eating",1,"eBook","978-1-6229-3074-6",2015,"August 2014",null,"Author, Author","Marylou Ambrose, Veronica Deisler",null,null,null,null,"V","1110L","Grade 9 - 10","Grade 9 - 12","Everyone has heard of eating disorders. Readers and viewers of television, magazines, tabloids, and the Internet are kept up to date on which celebrities are too thin and which are too fat. But how much do people really understand about these psychological illnesses. This book demystifies the complex causes of eating disorders, discusses a myriad of treatment options, addresses helpful preventative measures, and highlights real people living with eating disorders. This book is developed from INVESTIGATING EATING DISORDERS (ANOREXIA, BULIMIA, AND BINGE EATING): REAL FACTS FOR REAL LIVES to allow republication of the original text into ebook, paperback, and trade editions. ","English",34.6,25.95,"616.85","96 pp.",{"$f":"Table1[[#This Row],[QTY]]*Table1[[#This Row],['# of Books]]","v":0},{"$f":"Table1[[#This Row],[QTY]]*Table1[[#This Row],[School & Library Price]]","v":0}]
[null,null,null,107,"Diseases, Disorders, Symptoms","Influenza and Bird Flu: Examining the Flu",1,"Library Bound Book","978-1-6229-3075-3",2015,"August 2014","6.000 X 9.000","Author","Claire Wilson",null,null,null,null,"W","1230L","Grade 9 - 10","Grade 9 - 12","Every year, between 4 and 20 percent of the world population catches some form of influenza. Influenza, or the flu, is an infection caused by a viruses, much like the common cold. But unlike the common cold, the flu--whether seasonal, avian, or swine, has killed millions around the world throughout recorded history. Advances in science are producing effective vaccines and medications to combat this disease, but the influenza virus continues to change. Learn what the flu is and what it is not, what different types of flu exist, how to avoid infection, and what to do if you get the flu. This book is developed from INVESTIGATING INFLUENZA AND BIRD FLU: REAL FACTS FOR REAL LIVES to allow republication of the original text into ebook, paperback, and trade editions. ","English",29.94,22.46,"616.2","96 pp.",{"$f":"Table1[[#This Row],[QTY]]*Table1[[#This Row],['# of Books]]","v":0},{"$f":"Table1[[#This Row],[QTY]]*Table1[[#This Row],[School & Library Price]]","v":0}]
[null,null,null,107,"Diseases, Disorders, Symptoms","Influenza and Bird Flu: Examining the Flu",1,"eBook","978-1-6229-3079-1",2015,"August 2014",null,"Author","Claire Wilson",null,null,null,null,"W","1230L","Grade 9 - 10","Grade 9 - 12","Every year, between 4 and 20 percent of the world population catches some form of influenza. Influenza, or the flu, is an infection caused by a viruses, much like the common cold. But unlike the common cold, the flu--whether seasonal, avian, or swine, has killed millions around the world throughout recorded history. Advances in science are producing effective vaccines and medications to combat this disease, but the influenza virus continues to change. Learn what the flu is and what it is not, what different types of flu exist, how to avoid infection, and what to do if you get the flu. This book is developed from INVESTIGATING INFLUENZA AND BIRD FLU: REAL FACTS FOR REAL LIVES to allow republication of the original text into ebook, paperback, and trade editions. ","English",34.6,25.95,"616.2","96 pp.",{"$f":"Table1[[#This Row],[QTY]]*Table1[[#This Row],['# of Books]]","v":0},{"$f":"Table1[[#This Row],[QTY]]*Table1[[#This Row],[School & Library Price]]","v":0}]
[null,null,null,107,"Diseases, Disorders, Symptoms","Sexually Transmitted Diseases: Examining STDs",1,"Library Bound Book","978-1-6229-3080-7",2015,"August 2014","6.000 X 9.000","Author, Author","Marylou Ambrose, Veronica Deisler",null,null,null,null,"W","1170L","Grade 9 - 10","Grade 9 - 12","Nineteen million new STD infections occur each year. STDs have been around since there were humans, yet the history, causes, symptoms, treatment, and current topics surrounding these diseases are not always adequately addressed because of fear, embarrassment, and social stigma. This informative book discusses the causes and symptoms of the most common STDs, answers important questions, shows how real people deal with STDs, and much more. This book is developed from INVESTIGATING STDS (SEXUALLY TRANSMITTED DISEASES): REAL FACTS FOR REAL LIVES to allow republication of the original text into ebook, paperback, and trade editions. ","English",29.94,22.46,"616.95","96 pp.",{"$f":"Table1[[#This Row],[QTY]]*Table1[[#This Row],['# of Books]]","v":0},{"$f":"Table1[[#This Row],[QTY]]*Table1[[#This Row],[School & Library Price]]","v":0}]
[null,null,null,107,"Diseases, Disorders, Symptoms","Sexually Transmitted Diseases: Examining STDs",1,"eBook","978-1-6229-3084-5",2015,"August 2014",null,"Author, Author","Marylou Ambrose, Veronica Deisler",null,null,null,null,"W","1170L","Grade 9 - 10","Grade 9 - 12","Nineteen million new STD infections occur each year. STDs have been around since there were humans, yet the history, causes, symptoms, treatment, and current topics surrounding these diseases are not always adequately addressed because of fear, embarrassment, and social stigma. This informative book discusses the causes and symptoms of the most common STDs, answers important questions, shows how real people deal with STDs, and much more. This book is developed from INVESTIGATING STDS (SEXUALLY TRANSMITTED DISEASES): REAL FACTS FOR REAL LIVES to allow republication of the original text into ebook, paperback, and trade editions. ","English",34.6,25.95,"616.95","96 pp.",{"$f":"Table1[[#This Row],[QTY]]*Table1[[#This Row],['# of Books]]","v":0},{"$f":"Table1[[#This Row],[QTY]]*Table1[[#This Row],[School & Library Price]]","v":0}]
[null,null,null,107,"Diseases, Disorders, Symptoms","Tuberculosis and Superbugs: Examining TB and Bacterial Infections",1,"Library Bound Book","978-1-6229-3085-2",2015,"August 2014","6.000 X 9.000","Author, Author","Ian Wilker, Marylou Ambrose",null,null,null,null,"W","1200L","Grade 9 - 10","Grade 9 - 12","Even though tuberculosis can be successfully treated with antibiotics, it still infects millions of people every year, causing painful, debilitating symptoms and sometimes death. The overuse of antibiotics has lead to the evolution of \"superbugs,\" creating strains of TB and other diseases that are much more difficult to cure. This book investigates the history of TB and other drug-resistant diseases, explains who is most susceptible, and discusses the very real threat of these diseases today. This book is developed from INVESTIGATING TUBERCULOSIS AND SUPERBUGS: REAL FACTS FOR REAL LIVES to allow republication of the original text into ebook, paperback, and trade editions. ","English",29.94,22.46,"616.9","96 pp.",{"$f":"Table1[[#This Row],[QTY]]*Table1[[#This Row],['# of Books]]","v":0},{"$f":"Table1[[#This Row],[QTY]]*Table1[[#This Row],[School & Library Price]]","v":0}]
[null,null,null,107,"Diseases, Disorders, Symptoms","Tuberculosis and Superbugs: Examining TB and Bacterial Infections",1,"eBook","978-1-6229-3089-0",2015,"August 2014",null,"Author, Author","Ian Wilker, Marylou Ambrose",null,null,null,null,"W","1200L","Grade 9 - 10","Grade 9 - 12","Even though tuberculosis can be successfully treated with antibiotics, it still infects millions of people every year, causing painful, debilitating symptoms and sometimes death. The overuse of antibiotics has lead to the evolution of \"superbugs,\" creating strains of TB and other diseases that are much more difficult to cure. This book investigates the history of TB and other drug-resistant diseases, explains who is most susceptible, and discusses the very real threat of these diseases today. This book is developed from INVESTIGATING TUBERCULOSIS AND SUPERBUGS: REAL FACTS FOR REAL LIVES to allow republication of the original text into ebook, paperback, and trade editions. ","English",34.6,25.95,"616.9","96 pp.",{"$f":"Table1[[#This Row],[QTY]]*Table1[[#This Row],['# of Books]]","v":0},{"$f":"Table1[[#This Row],[QTY]]*Table1[[#This Row],[School & Library Price]]","v":0}]
[null,null,null,107,"Contemporary Diseases and Disorders","Contemporary Diseases and Disorders",8,"Library Set","978-0-7660-6701-1",2016,"August 2015","6.000 X 9.000",null,null,null,null,null,null,null,null,"Grade 7","Grade 7 - 12","These books tackle prevalent diseases and conditions that teens either deal with or hear about. The authors discuss diagnosis, treatment, and prevention of each disease, as well as new research toward faster, more effective cures. With case studies, a Q & A section, a timeline detailing the medical recognition and response to the disease or condition, chapter notes, and additional research sources, these books are excellent resources for teens looking for information for themselves, their families, or reports.\n\n\n\n-Explores each disease or condition through personal stories  \n\n-Discusses the nature and diagnosis of each disease  \n\n-Examines possible cures and treatments  \n\n-Strong resources for personal use or research\n\n","English",298.16000000000003,223.6,null,"128 pp.",{"$f":"Table1[[#This Row],[QTY]]*Table1[[#This Row],['# of Books]]","v":0},{"$f":"Table1[[#This Row],[QTY]]*Table1[[#This Row],[School & Library Price]]","v":0}]
[null,null,null,107,"Contemporary Diseases and Disorders","What You Can Do About ADHD",1,"Library Bound Book","978-0-7660-7028-8",2016,"August 2015","6.000 X 9.000","Author, Author","Monique Vescia, Alvin Silverstein",null,null,null,null,"Z",null,"Grade 7","Grade 7 - 12","What is ADHD and what are the symptoms? How is ADHD treated? Explore this common behavioral condition that causes problems in three main areas: inability to focus or pay attention, being overly active, and acting without thinking first. Read how thousands of people learn to accept, treat, and thrive with ADHD.","English",37.270000000000003,27.95,"599.6713'92—dc23","128 pp.",{"$f":"Table1[[#This Row],[QTY]]*Table1[[#This Row],['# of Books]]","v":0},{"$f":"Table1[[#This Row],[QTY]]*Table1[[#This Row],[School & Library Price]]","v":0}]
[null,null,null,107,"Contemporary Diseases and Disorders","What You Can Do About ADHD",1,"eBook","978-0-7660-7029-5",2016,"August 2015",null,"Author, Author","Monique Vescia, Alvin Silverstein",null,null,null,null,"Z",null,"Grade 7","Grade 7 - 12","What is ADHD and what are the symptoms? How is ADHD treated? Explore this common behavioral condition that causes problems in three main areas: inability to focus or pay attention, being overly active, and acting without thinking first. Read how thousands of people learn to accept, treat, and thrive with ADHD.","English",37.270000000000003,27.95,"599.6713'92—dc23","128 pp.",{"$f":"Table1[[#This Row],[QTY]]*Table1[[#This Row],['# of Books]]","v":0},{"$f":"Table1[[#This Row],[QTY]]*Table1[[#This Row],[School & Library Price]]","v":0}]
[null,null,null,107,"Contemporary Diseases and Disorders","What You Can Do About Allergies",1,"Library Bound Book","978-0-7660-7030-1",2016,"August 2015","6.000 X 9.000","Author","Sara L. Latta",null,null,null,null,"Z",null,"Grade 7","Grade 7 - 12","Through real-life stories, learn about the many types of allergies and their effects, including asthma, hay fever, food allergies, latex allergies, and anaphylaxis. Understand how the immune system works and how different people react to allergens. Explore the history, symptoms, diagnosis, treatment, prevention, and future areas of research for those with allergies.","English",37.270000000000003,27.95,"616.97--d23","128 pp.",{"$f":"Table1[[#This Row],[QTY]]*Table1[[#This Row],['# of Books]]","v":0},{"$f":"Table1[[#This Row],[QTY]]*Table1[[#This Row],[School & Library Price]]","v":0}]
[null,null,null,107,"Contemporary Diseases and Disorders","What You Can Do About Allergies",1,"eBook","978-0-7660-7031-8",2016,"August 2015",null,"Author","Sara L. Latta",null,null,null,null,"Z",null,"Grade 7","Grade 7 - 12","Through real-life stories, learn about the many types of allergies and their effects, including asthma, hay fever, food allergies, latex allergies, and anaphylaxis. Understand how the immune system works and how different people react to allergens. Explore the history, symptoms, diagnosis, treatment, prevention, and future areas of research for those with allergies.","English",37.270000000000003,27.95,"616.97--d23","128 pp.",{"$f":"Table1[[#This Row],[QTY]]*Table1[[#This Row],['# of Books]]","v":0},{"$f":"Table1[[#This Row],[QTY]]*Table1[[#This Row],[School & Library Price]]","v":0}]
[null,null,null,107,"Contemporary Diseases and Disorders","What You Can Do About Breast Cancer",1,"Library Bound Book","978-0-7660-7032-5",2016,"August 2015","6.000 X 9.000","Author, Author","Don Rauf, Alvin Silverstein",null,null,null,null,"Z",null,"Grade 7","Grade 7 - 12","Most people are aware that October goes pink for breast cancer. But what, exactly, is breast cancer? Can men get it? What causes it? What are the treatment options? What is the likelihood of surviving breast cancer? This text explains a very complex disease in a way that makes it comprehensible to everyone so that if you or someone you know is diagnosed, you're prepared for the road ahead.","English",37.270000000000003,27.95,"616.99'449--dc23","128 pp.",{"$f":"Table1[[#This Row],[QTY]]*Table1[[#This Row],['# of Books]]","v":0},{"$f":"Table1[[#This Row],[QTY]]*Table1[[#This Row],[School & Library Price]]","v":0}]
[null,null,null,107,"Contemporary Diseases and Disorders","What You Can Do About Breast Cancer",1,"eBook","978-0-7660-7033-2",2016,"August 2015",null,"Author, Author","Don Rauf, Alvin Silverstein",null,null,null,null,"Z",null,"Grade 7","Grade 7 - 12","Most people are aware that October goes pink for breast cancer. But what, exactly, is breast cancer? Can men get it? What causes it? What are the treatment options? What is the likelihood of surviving breast cancer? This text explains a very complex disease in a way that makes it comprehensible to everyone so that if you or someone you know is diagnosed, you're prepared for the road ahead.","English",37.270000000000003,27.95,"616.99'449--dc23","128 pp.",{"$f":"Table1[[#This Row],[QTY]]*Table1[[#This Row],['# of Books]]","v":0},{"$f":"Table1[[#This Row],[QTY]]*Table1[[#This Row],[School & Library Price]]","v":0}]
[null,null,null,107,"Contemporary Diseases and Disorders","What You Can Do About Carpal Tunnel Syndrome and Other Repetitive Strain Injuries",1,"Library Bound Book","978-0-7660-7034-9",2016,"August 2015","6.000 X 9.000","Author","Philip Johansson",null,null,null,null,"Z",null,"Grade 7","Grade 7 - 12","Do you text, use a computer, or play video games? Then you are at risk for carpel tunnel syndrome or repetitive strain injury. What are these injuries? Who do they affect? How are they treated and how can they be prevented? This text explains a relatively new diagnosis for an old condition and gives advice on how you can avoid these all-too-common injuries.","English",37.270000000000003,27.95,"616.85'6--dc23","128 pp.",{"$f":"Table1[[#This Row],[QTY]]*Table1[[#This Row],['# of Books]]","v":0},{"$f":"Table1[[#This Row],[QTY]]*Table1[[#This Row],[School & Library Price]]","v":0}]
[null,null,null,107,"Contemporary Diseases and Disorders","What You Can Do About Carpal Tunnel Syndrome and Other Repetitive Strain Injuries",1,"eBook","978-0-7660-7035-6",2016,"August 2015",null,"Author","Philip Johansson",null,null,null,null,"Z",null,"Grade 7","Grade 7 - 12","Do you text, use a computer, or play video games? Then you are at risk for carpel tunnel syndrome or repetitive strain injury. What are these injuries? Who do they affect? How are they treated and how can they be prevented? This text explains a relatively new diagnosis for an old condition and gives advice on how you can avoid these all-too-common injuries.","English",37.270000000000003,27.95,"616.85'6--dc23","128 pp.",{"$f":"Table1[[#This Row],[QTY]]*Table1[[#This Row],['# of Books]]","v":0},{"$f":"Table1[[#This Row],[QTY]]*Table1[[#This Row],[School & Library Price]]","v":0}]
[null,null,null,107,"Contemporary Diseases and Disorders","What You Can Do About Ebola",1,"Library Bound Book","978-0-7660-7036-3",2016,"August 2015","6.000 X 9.000","Author","Edward Willett",null,null,null,null,"Z",null,"Grade 7","Grade 7 - 12","The recent Ebola epidemic in West Africa killed more than 10,000 people, was the largest Ebola outbreak in history, and terrified people around the world. But what, exactly, is Ebola? What are the symptoms? How is it spread? How is it treated? This text explains this disease and how the latest epidemic changed the way we look at viruses forever.","English",37.270000000000003,27.95,"616.9’25--d23","128 pp.",{"$f":"Table1[[#This Row],[QTY]]*Table1[[#This Row],['# of Books]]","v":0},{"$f":"Table1[[#This Row],[QTY]]*Table1[[#This Row],[School & Library Price]]","v":0}]
[null,null,null,107,"Contemporary Diseases and Disorders","What You Can Do About Ebola",1,"eBook","978-0-7660-7037-0",2016,"August 2015",null,"Author","Edward Willett",null,null,null,null,"Z",null,"Grade 7","Grade 7 - 12","The recent Ebola epidemic in West Africa killed more than 10,000 people, was the largest Ebola outbreak in history, and terrified people around the world. But what, exactly, is Ebola? What are the symptoms? How is it spread? How is it treated? This text explains this disease and how the latest epidemic changed the way we look at viruses forever.","English",37.270000000000003,27.95,"616.9’25--d23","128 pp.",{"$f":"Table1[[#This Row],[QTY]]*Table1[[#This Row],['# of Books]]","v":0},{"$f":"Table1[[#This Row],[QTY]]*Table1[[#This Row],[School & Library Price]]","v":0}]
[null,null,null,107,"Contemporary Diseases and Disorders","What You Can Do About Food Poisoning",1,"Library Bound Book","978-0-7660-7038-7",2016,"August 2015","6.000 X 9.000","Author, Author","Don Rauf, Alvin Silverstein",null,null,null,null,"Z",null,"Grade 7","Grade 7 - 12","What causes food poisoning? Is it preventable? What is the best way to treat it? This book provides information on the symptoms, remedies, and preemptive measures that can be taken to protect yourself from foodborne diseases such as E. coli, botulism, and salmonella.","English",37.270000000000003,27.95,"615.9'5293--dc23","128 pp.",{"$f":"Table1[[#This Row],[QTY]]*Table1[[#This Row],['# of Books]]","v":0},{"$f":"Table1[[#This Row],[QTY]]*Table1[[#This Row],[School & Library Price]]","v":0}]
[null,null,null,107,"Contemporary Diseases and Disorders","What You Can Do About Food Poisoning",1,"eBook","978-0-7660-7039-4",2016,"August 2015",null,"Author, Author","Don Rauf, Alvin Silverstein",null,null,null,null,"Z",null,"Grade 7","Grade 7 - 12","What causes food poisoning? Is it preventable? What is the best way to treat it? This book provides information on the symptoms, remedies, and preemptive measures that can be taken to protect yourself from foodborne diseases such as E. coli, botulism, and salmonella.","English",37.270000000000003,27.95,"615.9'5293--dc23","128 pp.",{"$f":"Table1[[#This Row],[QTY]]*Table1[[#This Row],['# of Books]]","v":0},{"$f":"Table1[[#This Row],[QTY]]*Table1[[#This Row],[School & Library Price]]","v":0}]
[null,null,null,107,"Contemporary Diseases and Disorders","What You Can Do About Sickle Cell Disease",1,"Library Bound Book","978-0-7660-7040-0",2016,"August 2015","6.000 X 9.000","Author, Author","Monique Vescia, Alvin Silverstein",null,null,null,null,"Z",null,"Grade 7","Grade 7 - 12","What is sickle cell disease? What damage can it cause? Can anyone get it? Can it be treated or prevented? This text explains a rather complex and potentially deadly condition through case studies and interviews, and presents the most current research and treatments.","English",37.270000000000003,27.95,"616.1'527--dc23","128 pp.",{"$f":"Table1[[#This Row],[QTY]]*Table1[[#This Row],['# of Books]]","v":0},{"$f":"Table1[[#This Row],[QTY]]*Table1[[#This Row],[School & Library Price]]","v":0}]
[null,null,null,107,"Contemporary Diseases and Disorders","What You Can Do About Sickle Cell Disease",1,"eBook","978-0-7660-7041-7",2016,"August 2015",null,"Author, Author","Monique Vescia, Alvin Silverstein",null,null,null,null,"Z",null,"Grade 7","Grade 7 - 12","What is sickle cell disease? What damage can it cause? Can anyone get it? Can it be treated or prevented? This text explains a rather complex and potentially deadly condition through case studies and interviews, and presents the most current research and treatments.","English",37.270000000000003,27.95,"616.1'527--dc23","128 pp.",{"$f":"Table1[[#This Row],[QTY]]*Table1[[#This Row],['# of Books]]","v":0},{"$f":"Table1[[#This Row],[QTY]]*Table1[[#This Row],[School & Library Price]]","v":0}]
[null,null,null,107,"Contemporary Diseases and Disorders","What You Can Do About Stress and Anxiety",1,"Library Bound Book","978-0-7660-7042-4",2016,"August 2015","6.000 X 9.000","Author, Author","Jennifer Way, Sara Van Duyne",null,null,null,null,"Z",null,"Grade 7","Grade 7 - 12","Are you anxious, depressed, obsessive, or afraid? Do you wonder what causes these conditions and how are they treated? This book discusses the evolving understanding of how stress and anxiety affect people's lives and includes the foremost research on treating these conditions. Personal stories give readers an intimate look at how others are managing these sometimes-debilitating conditions.","English",37.270000000000003,27.95,"616.85","128 pp.",{"$f":"Table1[[#This Row],[QTY]]*Table1[[#This Row],['# of Books]]","v":0},{"$f":"Table1[[#This Row],[QTY]]*Table1[[#This Row],[School & Library Price]]","v":0}]
[null,null,null,107,"Contemporary Diseases and Disorders","What You Can Do About Stress and Anxiety",1,"eBook","978-0-7660-7043-1",2016,"August 2015",null,"Author, Author","Jennifer Way, Sara Van Duyne",null,null,null,null,"Z",null,"Grade 7","Grade 7 - 12","Are you anxious, depressed, obsessive, or afraid? Do you wonder what causes these conditions and how are they treated? This book discusses the evolving understanding of how stress and anxiety affect people's lives and includes the foremost research on treating these conditions. Personal stories give readers an intimate look at how others are managing these sometimes-debilitating conditions.","English",37.270000000000003,27.95,"616.85","128 pp.",{"$f":"Table1[[#This Row],[QTY]]*Table1[[#This Row],['# of Books]]","v":0},{"$f":"Table1[[#This Row],[QTY]]*Table1[[#This Row],[School & Library Price]]","v":0}]
[null,null,null,108,"The End of Life as We Know It","The End of Life as We Know It",6,"Library Set","978-0-7660-7432-3",2016,"January 2016","6.000 X 9.000",null,null,null,null,null,null,"Z",null,"Grade 7 - 8","Grade 7 - 12","It’s not enough to encourage kids to close the fridge and recycle. Young people need to understand the urgency with which we need to change how we humans interact with Earth and with each other. This series imparts to readers the size and scope of the impending environmental, economic, and physical disasters ahead of us if we continue to do virtually nothing differently. These books will incite readers to actively practice and advocate for a complete change in behavior and in thinking that is required for us to continue to be able to survive on Earth.\n\n• Inspired by Naomi Klein’s book This Changes Everything\n\n• \"\"Take Action\"\" boxes offer practical suggestion for teens to make small changes that have a big impact\n\n• Appendix includes excerpts from published scientific reports that address the featured issue","English",223.62,167.7,null,"128 pp.",{"$f":"Table1[[#This Row],[QTY]]*Table1[[#This Row],['# of Books]]","v":0},{"$f":"Table1[[#This Row],[QTY]]*Table1[[#This Row],[School & Library Price]]","v":0}]
[null,null,null,108,"The End of Life as We Know It","Buried: Too Much Garbage",1,"Library Bound Book","978-0-7660-7276-3",2016,"January 2016","6.000 X 9.000","Author","Kathlyn Gay",null,null,null,null,"Z",null,"Grade 7 - 8","Grade 7 - 12","Informational text, expert analysis, and seminal public documents enlighten students about the garbage situation we are facing, which not only includes mountains of food scraps and discarded possessions, but hazardous, toxic, and radioactive waste as well. Take Action boxes give readers ideas on how to do their part to improve the situation, such as reducing how much waste they produce and purchasing reusable water bottles.","English",37.270000000000003,27.95,"628.4'4--dc23","144 pp.",{"$f":"Table1[[#This Row],[QTY]]*Table1[[#This Row],['# of Books]]","v":0},{"$f":"Table1[[#This Row],[QTY]]*Table1[[#This Row],[School & Library Price]]","v":0}]
[null,null,null,108,"The End of Life as We Know It","Buried: Too Much Garbage",1,"eBook","978-0-7660-7277-0",2016,"January 2016",null,"Author","Kathlyn Gay",null,null,null,null,"Z",null,"Grade 7 - 8","Grade 7 - 12","Informational text, expert analysis, and seminal public documents enlighten students about the garbage situation we are facing, which not only includes mountains of food scraps and discarded possessions, but hazardous, toxic, and radioactive waste as well. Take Action boxes give readers ideas on how to do their part to improve the situation, such as reducing how much waste they produce and purchasing reusable water bottles.","English",37.270000000000003,27.95,"628.4'4--dc23","144 pp.",{"$f":"Table1[[#This Row],[QTY]]*Table1[[#This Row],['# of Books]]","v":0},{"$f":"Table1[[#This Row],[QTY]]*Table1[[#This Row],[School & Library Price]]","v":0}]
[null,null,null,108,"The End of Life as We Know It","Climate Change: A Threat to All Life on Earth",1,"Library Bound Book","978-0-7660-7284-8",2016,"January 2016","6.000 X 9.000","Author","Anne C. Cunningham",null,null,null,null,"Z",null,"Grade 7 - 8","Grade 7 - 12","Although it’s a buzzword used by politicians, scientists, and even religious figures, the concept of climate change is a confusing one. Through expert analysis, informational text, and excerpts from public documents, readers are introduced to the subject of climate change and how it is affecting the world around us. Take Action boxes encourage teens to engage in environmental activism.","English",37.270000000000003,27.95,"551.6--dc23","128 pp.",{"$f":"Table1[[#This Row],[QTY]]*Table1[[#This Row],['# of Books]]","v":0},{"$f":"Table1[[#This Row],[QTY]]*Table1[[#This Row],[School & Library Price]]","v":0}]
[null,null,null,108,"The End of Life as We Know It","Drying Up: Running Out of Water",1,"Library Bound Book","978-0-7660-7286-2",2016,"January 2016","6.000 X 9.000","Author","Stephen Feinstein",null,null,null,null,"Z",null,"Grade 7 - 8","Grade 7 - 12","Water is an essential part of life on Earth. But in some places, it’s running out. Through expert analysis and informational insets, students will learn about water scarcity, pollution, the impact on public health, and how to protect this diminishing resource. Take Action boxes will show teens how they can help stop the drought.","English",37.270000000000003,27.95,"363.6'1--dc23","144 pp.",{"$f":"Table1[[#This Row],[QTY]]*Table1[[#This Row],['# of Books]]","v":0},{"$f":"Table1[[#This Row],[QTY]]*Table1[[#This Row],[School & Library Price]]","v":0}]
[null,null,null,108,"The End of Life as We Know It","Drying Up: Running Out of Water",1,"eBook","978-0-7660-7287-9",2016,"January 2016",null,"Author","Stephen Feinstein",null,null,null,null,"Z",null,"Grade 7 - 8","Grade 7 - 12","Water is an essential part of life on Earth. But in some places, it’s running out. Through expert analysis and informational insets, students will learn about water scarcity, pollution, the impact on public health, and how to protect this diminishing resource. Take Action boxes will show teens how they can help stop the drought.","English",37.270000000000003,27.95,"363.6'1--dc23","144 pp.",{"$f":"Table1[[#This Row],[QTY]]*Table1[[#This Row],['# of Books]]","v":0},{"$f":"Table1[[#This Row],[QTY]]*Table1[[#This Row],[School & Library Price]]","v":0}]
[null,null,null,108,"The End of Life as We Know It","Out of Gas: Using Up Fossil Fuels",1,"Library Bound Book","978-0-7660-7306-7",2016,"January 2016","6.000 X 9.000","Author","Sherri Mabry Gordon",null,null,null,null,"Z",null,"Grade 7 - 8","Grade 7 - 12","Most people use a gas-powered vehicle of some kind on a daily basis. But what would happen if we were to run out of gas? This book evaluates a situation quickly coming to the forefront of our cultural consciousness. Through expert analysis, informational text, and seminal public documents, the problem is assessed and evaluated in a manner that makes readers understand the urgency of the situation. Take Action boxes provide suggestions on what teens can do to help.","English",37.270000000000003,27.95,"333.8'2--dc23","128 pp.",{"$f":"Table1[[#This Row],[QTY]]*Table1[[#This Row],['# of Books]]","v":0},{"$f":"Table1[[#This Row],[QTY]]*Table1[[#This Row],[School & Library Price]]","v":0}]
[null,null,null,108,"The End of Life as We Know It","Out of Gas: Using Up Fossil Fuels",1,"eBook","978-0-7660-7311-1",2016,"January 2016",null,"Author","Sherri Mabry Gordon",null,null,null,null,"Z",null,"Grade 7 - 8","Grade 7 - 12","Most people use a gas-powered vehicle of some kind on a daily basis. But what would happen if we were to run out of gas? This book evaluates a situation quickly coming to the forefront of our cultural consciousness. Through expert analysis, informational text, and seminal public documents, the problem is assessed and evaluated in a manner that makes readers understand the urgency of the situation. Take Action boxes provide suggestions on what teens can do to help.","English",37.270000000000003,27.95,"333.8'2--dc23","128 pp.",{"$f":"Table1[[#This Row],[QTY]]*Table1[[#This Row],['# of Books]]","v":0},{"$f":"Table1[[#This Row],[QTY]]*Table1[[#This Row],[School & Library Price]]","v":0}]
[null,null,null,108,"The End of Life as We Know It","Overpopulation: 7 Billion People and Counting",1,"Library Bound Book","978-0-7660-7312-8",2016,"January 2016","6.000 X 9.000","Author","David E. Newton",null,null,null,null,"Z",null,"Grade 7 - 8","Grade 7 - 12","Thanks to modern medicine, people are living longer. But can our planet support such a large population? Experts weigh in on the subject, introducing readers to ideas and key details, including how populations grow, change, and how trends are measured. Take Action boxes suggest research activities students can do to increase their understanding of the issue.","English",37.270000000000003,27.95,"363.9'1--dc23","160 pp.",{"$f":"Table1[[#This Row],[QTY]]*Table1[[#This Row],['# of Books]]","v":0},{"$f":"Table1[[#This Row],[QTY]]*Table1[[#This Row],[School & Library Price]]","v":0}]
[null,null,null,108,"The End of Life as We Know It","Overpopulation: 7 Billion People and Counting",1,"eBook","978-0-7660-7313-5",2016,"January 2016",null,"Author","David E. Newton",null,null,null,null,"Z",null,"Grade 7 - 8","Grade 7 - 12","Thanks to modern medicine, people are living longer. But can our planet support such a large population? Experts weigh in on the subject, introducing readers to ideas and key details, including how populations grow, change, and how trends are measured. Take Action boxes suggest research activities students can do to increase their understanding of the issue.","English",37.270000000000003,27.95,"363.9'1--dc23","160 pp.",{"$f":"Table1[[#This Row],[QTY]]*Table1[[#This Row],['# of Books]]","v":0},{"$f":"Table1[[#This Row],[QTY]]*Table1[[#This Row],[School & Library Price]]","v":0}]
[null,null,null,108,"The End of Life as We Know It","Starving: Can We Feed Everyone?",1,"Library Bound Book","978-0-7660-7374-6",2016,"January 2016","6.000 X 9.000","Author","Lisa A. Wroble",null,null,null,null,"Z",null,"Grade 7 - 8","Grade 7 - 12","There are more hungry people in the world than most students know. And with the human population growing every day, is there a possibility we will run out of food? Filled with current facts, key details, and expert analysis, this book introduces readers to the specifics of feeding a population, including problems, such as the dangers of overly processed food, and possible solutions, such as agroecology. Students will learn how to do their part to improve the situation through Take Action boxes that can be as simple as tracking the food they eat or as involved as starting a community garden.","English",37.270000000000003,27.95,"363.8--dc23","128 pp.",{"$f":"Table1[[#This Row],[QTY]]*Table1[[#This Row],['# of Books]]","v":0},{"$f":"Table1[[#This Row],[QTY]]*Table1[[#This Row],[School & Library Price]]","v":0}]
[null,null,null,108,"The End of Life as We Know It","Starving: Can We Feed Everyone?",1,"eBook","978-0-7660-7375-3",2016,"January 2016",null,"Author","Lisa A. Wroble",null,null,null,null,"Z",null,"Grade 7 - 8","Grade 7 - 12","There are more hungry people in the world than most students know. And with the human population growing every day, is there a possibility we will run out of food? Filled with current facts, key details, and expert analysis, this book introduces readers to the specifics of feeding a population, including problems, such as the dangers of overly processed food, and possible solutions, such as agroecology. Students will learn how to do their part to improve the situation through Take Action boxes that can be as simple as tracking the food they eat or as involved as starting a community garden.","English",37.270000000000003,27.95,"363.8--dc23","128 pp.",{"$f":"Table1[[#This Row],[QTY]]*Table1[[#This Row],['# of Books]]","v":0},{"$f":"Table1[[#This Row],[QTY]]*Table1[[#This Row],[School & Library Price]]","v":0}]
[null,null,null,109,"Genius Scientists and Their Genius Ideas","Genius Scientists and Their Genius Ideas",14,"Library Set","978-0-7660-8066-9",2015,"January 2015","6.000 X 9.000",null,null,null,null,null,null,null,null,"Grade 6 - 12","Grade 6 - 12","This historical series features some of the most influential scientists who ever lived. Without the advancements they’ve made throughout history, our modern lives would function very differently. Because of the inventive scientist profiled here, we’ve been able to see the stars, benefit from antibiotics, understand chemical relationships, and study evolution. For students wanting to excel scientifically, it’s important for them to discover where we’ve been. Share this exciting and exquisitely written set with your inquisitive students to inspire their movement into the world of invention.","English",391.16,293.2,null,"96 pp.",{"$f":"Table1[[#This Row],[QTY]]*Table1[[#This Row],['# of Books]]","v":0},{"$f":"Table1[[#This Row],[QTY]]*Table1[[#This Row],[School & Library Price]]","v":0}]
[null,null,null,109,"Genius Scientists and Their Genius Ideas","Archimedes: Genius Mathematician",1,"Library Bound Book","978-0-7660-6530-7",2015,"January 2015","6.000 X 9.000","Author","Mary Gow",null,null,null,null,null,null,"Grade 5","Grade 5 - 12","An original and profound thinker, Archimedes was a mathematician, a physicist, a mechanical engineer, and an inventor. He is most famous for proving the law of the lever and inventing the compound pulley. This title in the GENIUS SCIENTISTS AND THEIR GENIUS IDEAS series offers a look at one of the greatest minds of the ancient world.","English",27.95,20.95,null,"96 pp.",{"$f":"Table1[[#This Row],[QTY]]*Table1[[#This Row],['# of Books]]","v":0},{"$f":"Table1[[#This Row],[QTY]]*Table1[[#This Row],[School & Library Price]]","v":0}]
[null,null,null,109,"Genius Scientists and Their Genius Ideas","Archimedes: Genius Mathematician",1,"eBook","978-0-7660-6534-5",2015,"January 2015",null,"Author","Mary Gow",null,null,null,null,null,null,"Grade 5","Grade 5 - 12","An original and profound thinker, Archimedes was a mathematician, a physicist, a mechanical engineer, and an inventor. He is most famous for proving the law of the lever and inventing the compound pulley. This title in the GENIUS SCIENTISTS AND THEIR GENIUS IDEAS series offers a look at one of the greatest minds of the ancient world.","English",27.94,20.95,null,"96 pp.",{"$f":"Table1[[#This Row],[QTY]]*Table1[[#This Row],['# of Books]]","v":0},{"$f":"Table1[[#This Row],[QTY]]*Table1[[#This Row],[School & Library Price]]","v":0}]
[null,null,null,109,"Genius Scientists and Their Genius Ideas","Albert Einstein: Genius of the Theory of Relativity",1,"Library Bound Book","978-0-7660-6515-4",2015,"January 2015","6.000 X 9.000","Author","Joyce Goldenstern",null,null,null,null,null,null,"Grade 5","Grade 5 - 12","With his general theory of relativity, Albert Einstein is the symbol of genius. Being honored with the Nobel Prize in physics made him famous and firmed-up his reputation as a genius. Though Albert Einstein is remembered mostly as being a scientist, he was also concerned with helping people. During World War II, he assisted many Jews fleeing the Nazis. After the war, the people of Israel asked him to be their president. Einstein declined; he still had unanswered scientific questions to solve. Today, scientists are still hard at work trying to solve some of Einstein's questions.","English",27.94,20.95,null,"96 pp.",{"$f":"Table1[[#This Row],[QTY]]*Table1[[#This Row],['# of Books]]","v":0},{"$f":"Table1[[#This Row],[QTY]]*Table1[[#This Row],[School & Library Price]]","v":0}]
[null,null,null,109,"Genius Scientists and Their Genius Ideas","Albert Einstein: Genius of the Theory of Relativity",1,"eBook","978-0-7660-6519-2",2015,"January 2015",null,"Author","Joyce Goldenstern",null,null,null,null,null,null,"Grade 5","Grade 5 - 12","With his general theory of relativity, Albert Einstein is the symbol of genius. Being honored with the Nobel Prize in physics made him famous and firmed-up his reputation as a genius. Though Albert Einstein is remembered mostly as being a scientist, he was also concerned with helping people. During World War II, he assisted many Jews fleeing the Nazis. After the war, the people of Israel asked him to be their president. Einstein declined; he still had unanswered scientific questions to solve. Today, scientists are still hard at work trying to solve some of Einstein's questions.","English",27.94,20.95,null,"96 pp.",{"$f":"Table1[[#This Row],[QTY]]*Table1[[#This Row],['# of Books]]","v":0},{"$f":"Table1[[#This Row],[QTY]]*Table1[[#This Row],[School & Library Price]]","v":0}]
[null,null,null,109,"Genius Scientists and Their Genius Ideas","Antoine Lavoisier: Genius of Modern Chemistry",1,"Library Bound Book","978-0-7660-6520-8",2015,"January 2015","6.000 X 9.000","Author","Lisa Yount",null,null,null,null,null,null,"Grade 5","Grade 5 - 12","Antoine Lavoisier is considered to be the father of modern chemistry. Using experiments and careful measurements, he created a system to help chemists understand how matter behaves. He discovered and named oxygen and hydrogen, and helped set up a system to classify these and other elements. Perhaps his most famous discovery is the role oxygen plays in combustion.","English",27.94,20.95,null,"96 pp.",{"$f":"Table1[[#This Row],[QTY]]*Table1[[#This Row],['# of Books]]","v":0},{"$f":"Table1[[#This Row],[QTY]]*Table1[[#This Row],[School & Library Price]]","v":0}]
[null,null,null,109,"Genius Scientists and Their Genius Ideas","Antoine Lavoisier: Genius of Modern Chemistry",1,"eBook","978-0-7660-6524-6",2015,"January 2015",null,"Author","Lisa Yount",null,null,null,null,null,null,"Grade 5","Grade 5 - 12","Antoine Lavoisier is considered to be the father of modern chemistry. Using experiments and careful measurements, he created a system to help chemists understand how matter behaves. He discovered and named oxygen and hydrogen, and helped set up a system to classify these and other elements. Perhaps his most famous discovery is the role oxygen plays in combustion.","English",27.94,20.95,null,"96 pp.",{"$f":"Table1[[#This Row],[QTY]]*Table1[[#This Row],['# of Books]]","v":0},{"$f":"Table1[[#This Row],[QTY]]*Table1[[#This Row],[School & Library Price]]","v":0}]
[null,null,null,109,"Genius Scientists and Their Genius Ideas","Antoni van Leeuwenhoek: Genius Discoverer of Microscopic Life",1,"Library Bound Book","978-0-7660-6525-3",2015,"January 2015","6.000 X 9.000","Author","Lisa Yount",null,null,null,null,null,null,"Grade 5","Grade 5 - 12","For his discoveries of microscopic life, Antoni van Leeuwenhoek is remembered today as one of the great geniuses of science. Using microscopes he made himself, Antoni van Leeuwenhoek peered into exciting new worlds that no one knew existed before. Beginning in the 1670s, he discovered tiny, single-celled living things that he called “little animals.” His curiosity led him to examine lake water, moldy bread, and even the plaque build-up on his own teeth! Van Leeuwenhoek was also the first to see red blood cells and bacteria.","English",27.94,20.95,null,"96 pp.",{"$f":"Table1[[#This Row],[QTY]]*Table1[[#This Row],['# of Books]]","v":0},{"$f":"Table1[[#This Row],[QTY]]*Table1[[#This Row],[School & Library Price]]","v":0}]
[null,null,null,109,"Genius Scientists and Their Genius Ideas","Antoni van Leeuwenhoek: Genius Discoverer of Microscopic Life",1,"eBook","978-0-7660-6529-1",2015,"January 2015",null,"Author","Lisa Yount",null,null,null,null,null,null,"Grade 5","Grade 5 - 12","For his discoveries of microscopic life, Antoni van Leeuwenhoek is remembered today as one of the great geniuses of science. Using microscopes he made himself, Antoni van Leeuwenhoek peered into exciting new worlds that no one knew existed before. Beginning in the 1670s, he discovered tiny, single-celled living things that he called “little animals.” His curiosity led him to examine lake water, moldy bread, and even the plaque build-up on his own teeth! Van Leeuwenhoek was also the first to see red blood cells and bacteria.","English",27.94,20.95,null,"96 pp.",{"$f":"Table1[[#This Row],[QTY]]*Table1[[#This Row],['# of Books]]","v":0},{"$f":"Table1[[#This Row],[QTY]]*Table1[[#This Row],[School & Library Price]]","v":0}]
[null,null,null,109,"Genius Scientists and Their Genius Ideas","Aristotle: Genius Philosopher and Scientist",1,"Library Bound Book","978-0-7660-6535-2",2015,"January 2015","6.000 X 9.000","Author, Author","Margaret J. Anderson, Karen F. Stephenson",null,null,null,null,null,null,"Grade 5","Grade 5 - 12","Aristotle is one of the most significant figures in all of human history. Over the course of his life, he studied and wrote about every possible field of knowledge. He studied physics, zoology, botany, and chemistry before any of these fields of science even had names. Without the benefit of modern tools like the telescope or microscope, Aristotle still laid the foundation for nearly all later developments in Western science. In addition to his work in science, Aristotle contributed a great deal to our ideas about art, literature, ethics, and theology. Aristotle's influence is so deep, in fact, that many of his ideas have been absorbed into the very language of science and philosophy.","English",27.94,20.95,null,"96 pp.",{"$f":"Table1[[#This Row],[QTY]]*Table1[[#This Row],['# of Books]]","v":0},{"$f":"Table1[[#This Row],[QTY]]*Table1[[#This Row],[School & Library Price]]","v":0}]
[null,null,null,109,"Genius Scientists and Their Genius Ideas","Aristotle: Genius Philosopher and Scientist",1,"eBook","978-0-7660-6539-0",2015,"January 2015",null,"Author, Author","Margaret J. Anderson, Karen F. Stephenson",null,null,null,null,null,null,"Grade 5","Grade 5 - 12","Aristotle is one of the most significant figures in all of human history. Over the course of his life, he studied and wrote about every possible field of knowledge. He studied physics, zoology, botany, and chemistry before any of these fields of science even had names. Without the benefit of modern tools like the telescope or microscope, Aristotle still laid the foundation for nearly all later developments in Western science. In addition to his work in science, Aristotle contributed a great deal to our ideas about art, literature, ethics, and theology. Aristotle's influence is so deep, in fact, that many of his ideas have been absorbed into the very language of science and philosophy.","English",27.94,20.95,null,"96 pp.",{"$f":"Table1[[#This Row],[QTY]]*Table1[[#This Row],['# of Books]]","v":0},{"$f":"Table1[[#This Row],[QTY]]*Table1[[#This Row],[School & Library Price]]","v":0}]
[null,null,null,109,"Genius Scientists and Their Genius Ideas","Carl Linnaeus: Genius of Classification",1,"Library Bound Book","978-0-7660-6540-6",2015,"January 2015","6.000 X 9.000","Author","Margaret J. Anderson",null,null,null,null,null,null,"Grade 5","Grade 5 - 12","How can we organize and name all of the different animals and plants in the world? Many had tried before, but Carl Linnaeus came up with a system that we still use today. This Swedish scientist from over 300 years ago is known as the father of classification. Linnaeus’s system gave each plant or animal just two names. For example, the scientific term for human beings is Homo sapiens. In Latin, Homo means \"man\" and sapiens means \"wise.\"","English",27.94,20.95,null,"96 pp.",{"$f":"Table1[[#This Row],[QTY]]*Table1[[#This Row],['# of Books]]","v":0},{"$f":"Table1[[#This Row],[QTY]]*Table1[[#This Row],[School & Library Price]]","v":0}]
[null,null,null,109,"Genius Scientists and Their Genius Ideas","Carl Linnaeus: Genius of Classification",1,"eBook","978-0-7660-6544-4",2015,"January 2015",null,"Author","Margaret J. Anderson",null,null,null,null,null,null,"Grade 5","Grade 5 - 12","How can we organize and name all of the different animals and plants in the world? Many had tried before, but Carl Linnaeus came up with a system that we still use today. This Swedish scientist from over 300 years ago is known as the father of classification. Linnaeus’s system gave each plant or animal just two names. For example, the scientific term for human beings is Homo sapiens. In Latin, Homo means \"man\" and sapiens means \"wise.\"","English",27.94,20.95,null,"96 pp.",{"$f":"Table1[[#This Row],[QTY]]*Table1[[#This Row],['# of Books]]","v":0},{"$f":"Table1[[#This Row],[QTY]]*Table1[[#This Row],[School & Library Price]]","v":0}]
[null,null,null,109,"Genius Scientists and Their Genius Ideas","Charles Darwin: Genius of a Revolutionary Theory",1,"Library Bound Book","978-0-7660-6545-1",2015,"January 2015","6.000 X 9.000","Author","Margaret J. Anderson",null,null,null,null,null,null,"Grade 5","Grade 5 - 12","Charles Darwin published his most important book in 1859 called THE ORIGIN OF SPECIES. In this book Darwin claimed that plants and animals living today are descended from similar species that lived long ago. It caused an immediate uproar and upset some people because it appeared to go against the Bible. The genius of Charles Darwin is his discovery of a unifying theory of biology, explaining the diversity of life.","English",27.94,20.95,null,"96 pp.",{"$f":"Table1[[#This Row],[QTY]]*Table1[[#This Row],['# of Books]]","v":0},{"$f":"Table1[[#This Row],[QTY]]*Table1[[#This Row],[School & Library Price]]","v":0}]
[null,null,null,109,"Genius Scientists and Their Genius Ideas","Charles Darwin: Genius of a Revolutionary Theory",1,"eBook","978-0-7660-6549-9",2015,"January 2015",null,"Author","Margaret J. Anderson",null,null,null,null,null,null,"Grade 5","Grade 5 - 12","Charles Darwin published his most important book in 1859 called THE ORIGIN OF SPECIES. In this book Darwin claimed that plants and animals living today are descended from similar species that lived long ago. It caused an immediate uproar and upset some people because it appeared to go against the Bible. The genius of Charles Darwin is his discovery of a unifying theory of biology, explaining the diversity of life.","English",27.94,20.95,null,"96 pp.",{"$f":"Table1[[#This Row],[QTY]]*Table1[[#This Row],['# of Books]]","v":0},{"$f":"Table1[[#This Row],[QTY]]*Table1[[#This Row],[School & Library Price]]","v":0}]
[null,null,null,109,"Genius Scientists and Their Genius Ideas","Copernicus: Genius of Modern Astronomy",1,"Library Bound Book","978-0-7660-6550-5",2015,"January 2015","6.000 X 9.000","Author","Catherine M. Andronik",null,null,null,null,null,null,"Grade 5","Grade 5 - 12","Copernicus worked with primitive scientific instruments to prove that Earth revolved around the sun. The idea of Earth circling the sun is universally accepted today, but this was not always the case. Centuries ago, it was widely believed that the earth stood still and the sun moved. At first, Copernicus was denounced and ridiculed for this belief. Later, scientists with more advanced instruments proved that Earth did indeed revolve around the sun. Many of our modern advances in science would not have been possible without the heliocentric theory of Copernicus.","English",27.94,20.95,null,"96 pp.",{"$f":"Table1[[#This Row],[QTY]]*Table1[[#This Row],['# of Books]]","v":0},{"$f":"Table1[[#This Row],[QTY]]*Table1[[#This Row],[School & Library Price]]","v":0}]
[null,null,null,109,"Genius Scientists and Their Genius Ideas","Copernicus: Genius of Modern Astronomy",1,"eBook","978-0-7660-6554-3",2015,"January 2015",null,"Author","Catherine M. Andronik",null,null,null,null,null,null,"Grade 5","Grade 5 - 12","Copernicus worked with primitive scientific instruments to prove that Earth revolved around the sun. The idea of Earth circling the sun is universally accepted today, but this was not always the case. Centuries ago, it was widely believed that the earth stood still and the sun moved. At first, Copernicus was denounced and ridiculed for this belief. Later, scientists with more advanced instruments proved that Earth did indeed revolve around the sun. Many of our modern advances in science would not have been possible without the heliocentric theory of Copernicus.","English",27.94,20.95,null,"96 pp.",{"$f":"Table1[[#This Row],[QTY]]*Table1[[#This Row],['# of Books]]","v":0},{"$f":"Table1[[#This Row],[QTY]]*Table1[[#This Row],[School & Library Price]]","v":0}]
[null,null,null,109,"Genius Scientists and Their Genius Ideas","Edwin Hubble: Genius Discoverer of Galaxies",1,"Library Bound Book","978-0-7660-6555-0",2015,"January 2015","6.000 X 9.000","Author","Claire L. Datnow",null,null,null,null,null,null,"Grade 5","Grade 5 - 12","It was not always known that the Milky Way is just one of many galaxies in the universe. Edwin Hubble is the man who discovered this startling idea and that the universe was expanding. As a result of these discoveries, Hubble became an international celebrity, and is remembered today as a genius of science.","English",27.94,20.95,null,"96 pp.",{"$f":"Table1[[#This Row],[QTY]]*Table1[[#This Row],['# of Books]]","v":0},{"$f":"Table1[[#This Row],[QTY]]*Table1[[#This Row],[School & Library Price]]","v":0}]
[null,null,null,109,"Genius Scientists and Their Genius Ideas","Edwin Hubble: Genius Discoverer of Galaxies",1,"eBook","978-0-7660-6559-8",2015,"January 2015",null,"Author","Claire L. Datnow",null,null,null,null,null,null,"Grade 5","Grade 5 - 12","It was not always known that the Milky Way is just one of many galaxies in the universe. Edwin Hubble is the man who discovered this startling idea and that the universe was expanding. As a result of these discoveries, Hubble became an international celebrity, and is remembered today as a genius of science.","English",27.94,20.95,null,"96 pp.",{"$f":"Table1[[#This Row],[QTY]]*Table1[[#This Row],['# of Books]]","v":0},{"$f":"Table1[[#This Row],[QTY]]*Table1[[#This Row],[School & Library Price]]","v":0}]
[null,null,null,109,"Genius Scientists and Their Genius Ideas","Galileo: Genius Astronomer",1,"Library Bound Book","978-0-7660-6560-4",2015,"January 2015","6.000 X 9.000","Author","Paul W. Hightower",null,null,null,null,null,null,"Grade 5","Grade 5 - 12","This title in the GENIUS SCIENTISTS AND THEIR GENIUS IDEAS series is the perfect introduction to the life and work of the amazing scientist, Galileo. Many historians credit Galileo as the \"founder of modern experimental science.\" But his life was not easy. His outspoken beliefs and discoveries earned him many enemies. The Roman Catholic Church disagreed with Galileo regarding Earth’s position in the universe. The Church punished him and he spent the rest of his life under house arrest.","English",27.94,20.95,null,"96 pp.",{"$f":"Table1[[#This Row],[QTY]]*Table1[[#This Row],['# of Books]]","v":0},{"$f":"Table1[[#This Row],[QTY]]*Table1[[#This Row],[School & Library Price]]","v":0}]
[null,null,null,109,"Genius Scientists and Their Genius Ideas","Galileo: Genius Astronomer",1,"eBook","978-0-7660-6564-2",2015,"January 2015",null,"Author","Paul W. Hightower",null,null,null,null,null,null,"Grade 5","Grade 5 - 12","This title in the GENIUS SCIENTISTS AND THEIR GENIUS IDEAS series is the perfect introduction to the life and work of the amazing scientist, Galileo. Many historians credit Galileo as the \"founder of modern experimental science.\" But his life was not easy. His outspoken beliefs and discoveries earned him many enemies. The Roman Catholic Church disagreed with Galileo regarding Earth’s position in the universe. The Church punished him and he spent the rest of his life under house arrest.","English",27.94,20.95,null,"96 pp.",{"$f":"Table1[[#This Row],[QTY]]*Table1[[#This Row],['# of Books]]","v":0},{"$f":"Table1[[#This Row],[QTY]]*Table1[[#This Row],[School & Library Price]]","v":0}]
[null,null,null,109,"Genius Scientists and Their Genius Ideas","Isaac Newton: Greatest Genius of Science",1,"Library Bound Book","978-0-7660-6570-3",2015,"January 2015","6.000 X 9.000","Author","Margaret J. Anderson",null,null,null,null,null,null,"Grade 5","Grade 5 - 12","Isaac Newton is best known for his theories of motion and gravitation. These laws served as the foundation of science for the past three hundred years. In addition, using a prism, Newton first discovered the that sunlight is actually made up of light rays of many different colors. Among his other discoveries is the branch of mathematics called calculus.","English",27.94,20.95,null,"96 pp.",{"$f":"Table1[[#This Row],[QTY]]*Table1[[#This Row],['# of Books]]","v":0},{"$f":"Table1[[#This Row],[QTY]]*Table1[[#This Row],[School & Library Price]]","v":0}]
[null,null,null,109,"Genius Scientists and Their Genius Ideas","Isaac Newton: Greatest Genius of Science",1,"eBook","978-0-7660-6574-1",2015,"January 2015",null,"Author","Margaret J. Anderson",null,null,null,null,null,null,"Grade 5","Grade 5 - 12","Isaac Newton is best known for his theories of motion and gravitation. These laws served as the foundation of science for the past three hundred years. In addition, using a prism, Newton first discovered the that sunlight is actually made up of light rays of many different colors. Among his other discoveries is the branch of mathematics called calculus.","English",27.94,20.95,null,"96 pp.",{"$f":"Table1[[#This Row],[QTY]]*Table1[[#This Row],['# of Books]]","v":0},{"$f":"Table1[[#This Row],[QTY]]*Table1[[#This Row],[School & Library Price]]","v":0}]
[null,null,null,109,"Genius Scientists and Their Genius Ideas","Louis Pasteur: Genius Disease Fighter",1,"Library Bound Book","978-0-7660-6575-8",2015,"January 2015","6.000 X 9.000","Author","Linda Wasmer Smith",null,null,null,null,null,null,"Grade 5","Grade 5 - 12","Louis Pasteur was one of the first scientists to understand the importance of microorganisms in causing diseases. He focused much of his research on how to prevent the spread of harmful microorganisms by developing vaccines, including a vaccine against rabies. Pasteur’s many contributions to both medicine and industry makes him one of the geniuses of science. His work continues today in the Pasteur Institute, a world-wide health organization.","English",27.94,20.95,null,"96 pp.",{"$f":"Table1[[#This Row],[QTY]]*Table1[[#This Row],['# of Books]]","v":0},{"$f":"Table1[[#This Row],[QTY]]*Table1[[#This Row],[School & Library Price]]","v":0}]
[null,null,null,109,"Genius Scientists and Their Genius Ideas","Louis Pasteur: Genius Disease Fighter",1,"eBook","978-0-7660-6579-6",2015,"January 2015",null,"Author","Linda Wasmer Smith",null,null,null,null,null,null,"Grade 5","Grade 5 - 12","Louis Pasteur was one of the first scientists to understand the importance of microorganisms in causing diseases. He focused much of his research on how to prevent the spread of harmful microorganisms by developing vaccines, including a vaccine against rabies. Pasteur’s many contributions to both medicine and industry makes him one of the geniuses of science. His work continues today in the Pasteur Institute, a world-wide health organization.","English",27.94,20.95,null,"96 pp.",{"$f":"Table1[[#This Row],[QTY]]*Table1[[#This Row],['# of Books]]","v":0},{"$f":"Table1[[#This Row],[QTY]]*Table1[[#This Row],[School & Library Price]]","v":0}]
[null,null,null,109,"Genius Scientists and Their Genius Ideas","Marie Curie: Genius Researcher of Radioactivity",1,"Library Bound Book","978-0-7660-6580-2",2015,"January 2015","6.000 X 9.000","Author","Margaret Poynter",null,null,null,null,null,null,"Grade 5","Grade 5 - 12","Marie Curie is the first woman to be honored with a Nobel Prize in physics in 1903. In 1911 she was honored with a second Nobel Prize in a different field, this time in chemistry. With her husband Pierre, she pioneered the discovery of radiation and found two elements named polonium and radium. She created the Curie Institutes in Paris and Warsaw that are important centers of medical study today.","English",27.94,20.95,null,"96 pp.",{"$f":"Table1[[#This Row],[QTY]]*Table1[[#This Row],['# of Books]]","v":0},{"$f":"Table1[[#This Row],[QTY]]*Table1[[#This Row],[School & Library Price]]","v":0}]
[null,null,null,109,"Genius Scientists and Their Genius Ideas","Marie Curie: Genius Researcher of Radioactivity",1,"eBook","978-0-7660-6584-0",2015,"January 2015",null,"Author","Margaret Poynter",null,null,null,null,null,null,"Grade 5","Grade 5 - 12","Marie Curie is the first woman to be honored with a Nobel Prize in physics in 1903. In 1911 she was honored with a second Nobel Prize in a different field, this time in chemistry. With her husband Pierre, she pioneered the discovery of radiation and found two elements named polonium and radium. She created the Curie Institutes in Paris and Warsaw that are important centers of medical study today.","English",27.94,20.95,null,"96 pp.",{"$f":"Table1[[#This Row],[QTY]]*Table1[[#This Row],['# of Books]]","v":0},{"$f":"Table1[[#This Row],[QTY]]*Table1[[#This Row],[School & Library Price]]","v":0}]
[null,null,null,109,"Genius Scientists and Their Genius Ideas","William Harvey: Genius Discoverer of Blood Circulation",1,"Library Bound Book","978-0-7660-6585-7",2015,"January 2015","6.000 X 9.000","Author","Lisa Yount",null,null,null,null,null,null,"Grade 5","Grade 5 - 12","In the 17th century the English physician, William Harvey described for the first time the details of the human circulatory system. Harvey discovered that the heart was a muscle and that by contracting, pushed blood through the body. He worked out the whole pattern of the heartbeat. William Harvey's genius changed how people understood the workings of the human body. This marked on the greatest advances in the study of medicine.","English",27.94,20.95,null,"96 pp.",{"$f":"Table1[[#This Row],[QTY]]*Table1[[#This Row],['# of Books]]","v":0},{"$f":"Table1[[#This Row],[QTY]]*Table1[[#This Row],[School & Library Price]]","v":0}]
[null,null,null,109,"Genius Scientists and Their Genius Ideas","William Harvey: Genius Discoverer of Blood Circulation",1,"eBook","978-0-7660-6589-5",2015,"January 2015",null,"Author","Lisa Yount",null,null,null,null,null,null,"Grade 5","Grade 5 - 12","In the 17th century the English physician, William Harvey described for the first time the details of the human circulatory system. Harvey discovered that the heart was a muscle and that by contracting, pushed blood through the body. He worked out the whole pattern of the heartbeat. William Harvey's genius changed how people understood the workings of the human body. This marked on the greatest advances in the study of medicine.","English",27.94,20.95,null,"96 pp.",{"$f":"Table1[[#This Row],[QTY]]*Table1[[#This Row],['# of Books]]","v":0},{"$f":"Table1[[#This Row],[QTY]]*Table1[[#This Row],[School & Library Price]]","v":0}]
[null,null,null,110,"Exploring Hands-On Science Projects","Exploring Hands-On Science Projects",6,"Library Set","978-0-7660-8068-3",2013,"January 2013","6.000 X 9.000",null,null,null,null,null,null,null,null,"Grade 6 - 12","Grade 6 - 12",null,"English",167.65,125.7,null,"128 pp.",{"$f":"Table1[[#This Row],[QTY]]*Table1[[#This Row],['# of Books]]","v":0},{"$f":"Table1[[#This Row],[QTY]]*Table1[[#This Row],[School & Library Price]]","v":0}]
[null,null,null,110,"Exploring Hands-On Science Projects","Experimenting with Plants Science Projects",1,"Library Bound Book","978-0-7660-4144-8",2013,"January 2013","6.000 X 9.000","Author","Robert Gardner",7.3,null,null,null,"U","1010L","Grade 5 - 6","Grade 5 - 12","This book discusses the process of photosynthesis, the life cycle of plants, the differences between short day and long day flowers, and much more. Filled with projects that use plants as the basis for experiments, it includes seeds, flowers, leaves, plants and even grass! ","English",27.94,20.95,"580","128 pp.",{"$f":"Table1[[#This Row],[QTY]]*Table1[[#This Row],['# of Books]]","v":0},{"$f":"Table1[[#This Row],[QTY]]*Table1[[#This Row],[School & Library Price]]","v":0}]
[null,null,null,110,"Exploring Hands-On Science Projects","Experimenting with Plants Science Projects",1,"eBook","978-0-7660-5762-3",2013,"January 2013",null,"Author","Robert Gardner",7.3,null,null,null,"U","1010L","Grade 5 - 6","Grade 5 - 12","This book discusses the process of photosynthesis, the life cycle of plants, the differences between short day and long day flowers, and much more. Filled with projects that use plants as the basis for experiments, it includes seeds, flowers, leaves, plants and even grass! ","English",27.94,20.95,"580","128 pp.",{"$f":"Table1[[#This Row],[QTY]]*Table1[[#This Row],['# of Books]]","v":0},{"$f":"Table1[[#This Row],[QTY]]*Table1[[#This Row],[School & Library Price]]","v":0}]
[null,null,null,110,"Exploring Hands-On Science Projects","Experimenting with Sound Science Projects",1,"Library Bound Book","978-0-7660-4148-6",2013,"January 2013","6.000 X 9.000","Author","Robert Gardner",7.5,null,null,null,"U","1040L","Grade 5 - 6","Grade 5 - 12","This book describes how it’s possible to hear and feel sound, how sound travels and moves, as well as dimensions of space. It discusses making sounds and noises, waves, properties of sound and sound effects. It also includes sounds of music. ","English",27.94,20.95,"534.078","128 pp.",{"$f":"Table1[[#This Row],[QTY]]*Table1[[#This Row],['# of Books]]","v":0},{"$f":"Table1[[#This Row],[QTY]]*Table1[[#This Row],[School & Library Price]]","v":0}]
[null,null,null,110,"Exploring Hands-On Science Projects","Experimenting with Sound Science Projects",1,"eBook","978-0-7660-5766-1",2013,"January 2013",null,"Author","Robert Gardner",7.5,null,null,null,"U","1040L","Grade 5 - 6","Grade 5 - 12","This book describes how it’s possible to hear and feel sound, how sound travels and moves, as well as dimensions of space. It discusses making sounds and noises, waves, properties of sound and sound effects. It also includes sounds of music. ","English",27.94,20.95,"534.078","128 pp.",{"$f":"Table1[[#This Row],[QTY]]*Table1[[#This Row],['# of Books]]","v":0},{"$f":"Table1[[#This Row],[QTY]]*Table1[[#This Row],[School & Library Price]]","v":0}]
[null,null,null,110,"Exploring Hands-On Science Projects","Solids, Liquids, and Gases Science Projects",1,"Library Bound Book","978-0-7660-4145-5",2013,"January 2013","6.000 X 9.000","Author","Robert Gardner",7.5,null,null,null,"U","990L","Grade 5 - 6","Grade 5 - 12","This book investigates the states of matter and the properties of solids, liquids and gasses. Some experiments detailed in the book include finding the mass and density of gases, making solids and liquids disappear and reappear, liquid surface tension and viscosity and the conductivity and effects of temperature on matter. ","English",27.94,20.95,"530.078","128 pp.",{"$f":"Table1[[#This Row],[QTY]]*Table1[[#This Row],['# of Books]]","v":0},{"$f":"Table1[[#This Row],[QTY]]*Table1[[#This Row],[School & Library Price]]","v":0}]
[null,null,null,110,"Exploring Hands-On Science Projects","Solids, Liquids, and Gases Science Projects",1,"eBook","978-0-7660-5763-0",2013,"January 2013",null,"Author","Robert Gardner",7.5,null,null,null,"U","990L","Grade 5 - 6","Grade 5 - 12","This book investigates the states of matter and the properties of solids, liquids and gasses. Some experiments detailed in the book include finding the mass and density of gases, making solids and liquids disappear and reappear, liquid surface tension and viscosity and the conductivity and effects of temperature on matter. ","English",27.94,20.95,"530.078","128 pp.",{"$f":"Table1[[#This Row],[QTY]]*Table1[[#This Row],['# of Books]]","v":0},{"$f":"Table1[[#This Row],[QTY]]*Table1[[#This Row],[School & Library Price]]","v":0}]
[null,null,null,110,"Exploring Hands-On Science Projects","The Physics of Sports Science Projects",1,"Library Bound Book","978-0-7660-4146-2",2013,"January 2013","6.000 X 9.000","Author","Robert Gardner",7.2,null,null,null,"U","970L","Grade 5 - 6","Grade 5 - 12","This book introduces an object’s center of gravity and the laws governing the collision of objects. It focuses on experiments related to speed, forces, balance, centers of gravity and friction. It also dives into momentum and collisions, as well as angles and distances. ","English",27.94,20.95,"530.078","128 pp.",{"$f":"Table1[[#This Row],[QTY]]*Table1[[#This Row],['# of Books]]","v":0},{"$f":"Table1[[#This Row],[QTY]]*Table1[[#This Row],[School & Library Price]]","v":0}]
[null,null,null,110,"Exploring Hands-On Science Projects","The Physics of Sports Science Projects",1,"eBook","978-0-7660-5764-7",2013,"January 2013",null,"Author","Robert Gardner",7.2,null,null,null,"U","970L","Grade 5 - 6","Grade 5 - 12","This book introduces an object’s center of gravity and the laws governing the collision of objects. It focuses on experiments related to speed, forces, balance, centers of gravity and friction. It also dives into momentum and collisions, as well as angles and distances. ","English",27.94,20.95,"530.078","128 pp.",{"$f":"Table1[[#This Row],[QTY]]*Table1[[#This Row],['# of Books]]","v":0},{"$f":"Table1[[#This Row],[QTY]]*Table1[[#This Row],[School & Library Price]]","v":0}]
[null,null,null,110,"Exploring Hands-On Science Projects","The Physics of Toys and Games Science Projects",1,"Library Bound Book","978-0-7660-4143-1",2013,"January 2013","6.000 X 9.000","Author","Robert Gardner",7.1,null,null,null,"U","980L","Grade 5 - 6","Grade 5 - 12","Ideas introduced in this book discuss gravity, friction, electrical charges and more. This book is filled with projects that use toys as the basis for experiments, including party balloons, balls used in various sports, skis, sleds, toboggans, and a variety of other games and toys that adults enjoy, too. ","English",27.94,20.95,"507.8","128 pp.",{"$f":"Table1[[#This Row],[QTY]]*Table1[[#This Row],['# of Books]]","v":0},{"$f":"Table1[[#This Row],[QTY]]*Table1[[#This Row],[School & Library Price]]","v":0}]
[null,null,null,110,"Exploring Hands-On Science Projects","The Physics of Toys and Games Science Projects",1,"eBook","978-0-7660-5761-6",2013,"January 2013",null,"Author","Robert Gardner",7.1,null,null,null,"U","980L","Grade 5 - 6","Grade 5 - 12","Ideas introduced in this book discuss gravity, friction, electrical charges and more. This book is filled with projects that use toys as the basis for experiments, including party balloons, balls used in various sports, skis, sleds, toboggans, and a variety of other games and toys that adults enjoy, too. ","English",27.94,20.95,"507.8","128 pp.",{"$f":"Table1[[#This Row],[QTY]]*Table1[[#This Row],['# of Books]]","v":0},{"$f":"Table1[[#This Row],[QTY]]*Table1[[#This Row],[School & Library Price]]","v":0}]
[null,null,null,110,"Exploring Hands-On Science Projects","The Science Behind Magic Science Projects",1,"Library Bound Book","978-0-7660-4147-9",2013,"January 2013","6.000 X 9.000","Author","Robert Gardner",7.8,null,null,null,"U","1060L","Grade 5 - 6","Grade 5 - 12","The experiments in this book touch upon different concepts of scientific principles. The concepts in this book include magic through chemistry, magic through light and through sticky water, as well as magic through motion. ","English",27.94,20.95,"793.8078","128 pp.",{"$f":"Table1[[#This Row],[QTY]]*Table1[[#This Row],['# of Books]]","v":0},{"$f":"Table1[[#This Row],[QTY]]*Table1[[#This Row],[School & Library Price]]","v":0}]
[null,null,null,110,"Exploring Hands-On Science Projects","The Science Behind Magic Science Projects",1,"eBook","978-0-7660-5765-4",2013,"January 2013",null,"Author","Robert Gardner",7.8,null,null,null,"U","1060L","Grade 5 - 6","Grade 5 - 12","The experiments in this book touch upon different concepts of scientific principles. The concepts in this book include magic through chemistry, magic through light and through sticky water, as well as magic through motion. ","English",27.94,20.95,"793.8078","128 pp.",{"$f":"Table1[[#This Row],[QTY]]*Table1[[#This Row],['# of Books]]","v":0},{"$f":"Table1[[#This Row],[QTY]]*Table1[[#This Row],[School & Library Price]]","v":0}]
[null,null,null,110,"Last-Minute Science Projects","Last-Minute Science Projects",6,"Library Set","978-0-7660-8069-0",2013,"August 2012","7.500 X 9.000",null,null,null,null,null,null,null,null,"Grade 6 - 12","Grade 6 - 12",null,"English",151.62,113.7,null,"48 pp.",{"$f":"Table1[[#This Row],[QTY]]*Table1[[#This Row],['# of Books]]","v":0},{"$f":"Table1[[#This Row],[QTY]]*Table1[[#This Row],[School & Library Price]]","v":0}]
[null,null,null,110,"Last-Minute Science Projects","Atoms and Molecules Experiments Using Ice, Salt, Marbles, and More: One Hour or Less Science Experiments",1,"Library Bound Book","978-0-7660-3961-2",2013,"August 2012","7.500 X 9.000","Author","Robert Gardner",6.1,null,null,null,"U","900L","Grade 5 - 6","Grade 5 - 12","Waited until the last minute to get started? No problem! Each experiment in ATOMS AND MOLECULES EXPERIMENTS USING ICE, SALT, MARBLES, AND MORE follows the scientific method, and can be completed in an hour or less. Model a chemical reaction, discover how small a molecule is, and find out what happens when atoms jump from one molecule to another. Most experiments also include ideas for science fair projects in case you have extra time. ","English",25.27,18.95,"507.8","48 pp.",{"$f":"Table1[[#This Row],[QTY]]*Table1[[#This Row],['# of Books]]","v":0},{"$f":"Table1[[#This Row],[QTY]]*Table1[[#This Row],[School & Library Price]]","v":0}]
[null,null,null,110,"Last-Minute Science Projects","Atoms and Molecules Experiments Using Ice, Salt, Marbles, and More: One Hour or Less Science Experiments",1,"eBook","978-0-7660-4429-6",2013,"August 2012",null,"Author","Robert Gardner",6.1,null,null,null,"U","900L","Grade 5 - 6","Grade 5 - 12","Waited until the last minute to get started? No problem! Each experiment in ATOMS AND MOLECULES EXPERIMENTS USING ICE, SALT, MARBLES, AND MORE follows the scientific method, and can be completed in an hour or less. Model a chemical reaction, discover how small a molecule is, and find out what happens when atoms jump from one molecule to another. Most experiments also include ideas for science fair projects in case you have extra time. ","English",25.27,18.95,"507.8","48 pp.",{"$f":"Table1[[#This Row],[QTY]]*Table1[[#This Row],['# of Books]]","v":0},{"$f":"Table1[[#This Row],[QTY]]*Table1[[#This Row],[School & Library Price]]","v":0}]
[null,null,null,110,"Last-Minute Science Projects","Electricity and Magnetism Experiments Using Batteries, Bulbs, Wires, and More: One Hour or Less Science Experiments",1,"Library Bound Book","978-0-7660-3960-5",2013,"August 2012","7.500 X 9.000","Author","Robert Gardner",5.6,null,null,null,"U","860L","Grade 5 - 6","Grade 5 - 12","Down to the wire? Have you waited until the last minute to start your science project? Don’t worry, award-winning author Robert Gardner has you covered! Each experiment in this book follows the scientific method, and can be completed in an hour or less. Find out how to make different circuits, an electromagnet, and a simple electric motor. Most experiments also include ideas for science fair projects, in case you have more time than you originally thought! ","English",25.27,18.95,"537.078","48 pp.",{"$f":"Table1[[#This Row],[QTY]]*Table1[[#This Row],['# of Books]]","v":0},{"$f":"Table1[[#This Row],[QTY]]*Table1[[#This Row],[School & Library Price]]","v":0}]
[null,null,null,110,"Last-Minute Science Projects","Electricity and Magnetism Experiments Using Batteries, Bulbs, Wires, and More: One Hour or Less Science Experiments",1,"eBook","978-0-7660-4430-2",2013,"August 2012",null,"Author","Robert Gardner",5.6,null,null,null,"U","860L","Grade 5 - 6","Grade 5 - 12","Down to the wire? Have you waited until the last minute to start your science project? Don’t worry, award-winning author Robert Gardner has you covered! Each experiment in this book follows the scientific method, and can be completed in an hour or less. Find out how to make different circuits, an electromagnet, and a simple electric motor. Most experiments also include ideas for science fair projects, in case you have more time than you originally thought! ","English",25.27,18.95,"537.078","48 pp.",{"$f":"Table1[[#This Row],[QTY]]*Table1[[#This Row],['# of Books]]","v":0},{"$f":"Table1[[#This Row],[QTY]]*Table1[[#This Row],[School & Library Price]]","v":0}]
[null,null,null,110,"Last-Minute Science Projects","Energy Experiments Using Ice Cubes, Springs, Magnets, and More: One Hour or Less Science Experiments",1,"Library Bound Book","978-0-7660-3959-9",2013,"August 2012","7.500 X 9.000","Author","Robert Gardner",5.5,null,null,null,"U","850L","Grade 5 - 6","Grade 5 - 12","No energy to spare? This title in the LAST-MINUTE SCIENCE PROJECTS series is here to help. Discover how much energy is stored in a spring, and how to transfer energy. Each experiment follows the scientific method, and can be completed in an hour or less. Many experiments also include ideas for more detailed science fair projects. ","English",25.27,18.95,"530.078","48 pp.",{"$f":"Table1[[#This Row],[QTY]]*Table1[[#This Row],['# of Books]]","v":0},{"$f":"Table1[[#This Row],[QTY]]*Table1[[#This Row],[School & Library Price]]","v":0}]
[null,null,null,110,"Last-Minute Science Projects","Energy Experiments Using Ice Cubes, Springs, Magnets, and More: One Hour or Less Science Experiments",1,"eBook","978-0-7660-4431-9",2013,"August 2012",null,"Author","Robert Gardner",5.5,null,null,null,"U","850L","Grade 5 - 6","Grade 5 - 12","No energy to spare? This title in the LAST-MINUTE SCIENCE PROJECTS series is here to help. Discover how much energy is stored in a spring, and how to transfer energy. Each experiment follows the scientific method, and can be completed in an hour or less. Many experiments also include ideas for more detailed science fair projects. ","English",25.27,18.95,"530.078","48 pp.",{"$f":"Table1[[#This Row],[QTY]]*Table1[[#This Row],['# of Books]]","v":0},{"$f":"Table1[[#This Row],[QTY]]*Table1[[#This Row],[School & Library Price]]","v":0}]
[null,null,null,110,"Last-Minute Science Projects","Human Body Experiments Using Fingerprints, Hair, Muscles, and More: One Hour or Less Science Experiments",1,"Library Bound Book","978-0-7660-3958-2",2013,"August 2012","7.500 X 9.000","Author","Robert Gardner",5.5,null,null,null,"U","830L","Grade 5 - 6","Grade 5 - 12","Need a hand with your science experiments? HUMAN BODY EXPERIMENTS USING FINGERPRINTS, HAIR, MUSCLES, AND MORE, by award-winning author Robert Gardner, is here to help. Experiment with reflexes, vision, and fingerprints abound. This book is sure to help kids appreciate the workings for the human body. Each experiment can be completed in under an hour, usually with items that are easily found around the house. ","English",25.27,18.95,"612.0072","48 pp.",{"$f":"Table1[[#This Row],[QTY]]*Table1[[#This Row],['# of Books]]","v":0},{"$f":"Table1[[#This Row],[QTY]]*Table1[[#This Row],[School & Library Price]]","v":0}]
[null,null,null,110,"Last-Minute Science Projects","Human Body Experiments Using Fingerprints, Hair, Muscles, and More: One Hour or Less Science Experiments",1,"eBook","978-0-7660-4432-6",2013,"August 2012",null,"Author","Robert Gardner",5.5,null,null,null,"U","830L","Grade 5 - 6","Grade 5 - 12","Need a hand with your science experiments? HUMAN BODY EXPERIMENTS USING FINGERPRINTS, HAIR, MUSCLES, AND MORE, by award-winning author Robert Gardner, is here to help. Experiment with reflexes, vision, and fingerprints abound. This book is sure to help kids appreciate the workings for the human body. Each experiment can be completed in under an hour, usually with items that are easily found around the house. ","English",25.27,18.95,"612.0072","48 pp.",{"$f":"Table1[[#This Row],[QTY]]*Table1[[#This Row],['# of Books]]","v":0},{"$f":"Table1[[#This Row],[QTY]]*Table1[[#This Row],[School & Library Price]]","v":0}]
[null,null,null,110,"Last-Minute Science Projects","Simple Machine Experiments Using Seesaws, Wheels, Pulleys, and More: One Hour or Less Science Experiments",1,"Library Bound Book","978-0-7660-3957-5",2013,"August 2012","7.500 X 9.000","Author","Robert Gardner",5.5,null,null,null,"U","950L","Grade 5 - 6","Grade 5 - 12","Have you waited until the last minute to start your science project? Don't worry, award-winning author Robert Gardner has you covered! Each experiment in SIMPLE MACHING EXPERIMENTS USING SEESAWS, WHEELS, PULLEYS, AND MORE follows the scientific method, and can be completed in an hour or less. Explore using levers to control motion and lift, and how the steepness of inclined planes affects the force needed to move something. Most experiments also include ideas for science fair projects, in case you have more time than you originally thought! ","English",25.27,18.95,"621.8078","48 pp.",{"$f":"Table1[[#This Row],[QTY]]*Table1[[#This Row],['# of Books]]","v":0},{"$f":"Table1[[#This Row],[QTY]]*Table1[[#This Row],[School & Library Price]]","v":0}]
[null,null,null,110,"Last-Minute Science Projects","Simple Machine Experiments Using Seesaws, Wheels, Pulleys, and More: One Hour or Less Science Experiments",1,"eBook","978-0-7660-4427-2",2013,"August 2012",null,"Author","Robert Gardner",5.5,null,null,null,"U","950L","Grade 5 - 6","Grade 5 - 12","Have you waited until the last minute to start your science project? Don't worry, award-winning author Robert Gardner has you covered! Each experiment in SIMPLE MACHING EXPERIMENTS USING SEESAWS, WHEELS, PULLEYS, AND MORE follows the scientific method, and can be completed in an hour or less. Explore using levers to control motion and lift, and how the steepness of inclined planes affects the force needed to move something. Most experiments also include ideas for science fair projects, in case you have more time than you originally thought! ","English",25.27,18.95,"621.8078","48 pp.",{"$f":"Table1[[#This Row],[QTY]]*Table1[[#This Row],['# of Books]]","v":0},{"$f":"Table1[[#This Row],[QTY]]*Table1[[#This Row],[School & Library Price]]","v":0}]
[null,null,null,110,"Last-Minute Science Projects","Solids, Liquids, and Gases Experiments Using Water, Air, Marbles, and More: One Hour or Less Science Experiments",1,"Library Bound Book","978-0-7660-3962-9",2013,"August 2012","7.500 X 9.000","Author","Robert Gardner",5.6,null,null,null,"U","860L","Grade 5 - 6","Grade 5 - 12","Award-winning author Robert Gardner comes to the rescue of busy students everywhere. Each experiment in SOLIDS, LIQUIDS, AND GASES EXPERIMENTS USING WATER, AIR, MARBLES, AND MORE follows the scientific method, and is designed to be completed in under an hour. Discover how to weigh air, estimate the volume of matter, and the science of why water holds together. There are also ideas for more science experiments if you have extra time. ","English",25.27,18.95,"530.078","48 pp.",{"$f":"Table1[[#This Row],[QTY]]*Table1[[#This Row],['# of Books]]","v":0},{"$f":"Table1[[#This Row],[QTY]]*Table1[[#This Row],[School & Library Price]]","v":0}]
[null,null,null,110,"Last-Minute Science Projects","Solids, Liquids, and Gases Experiments Using Water, Air, Marbles, and More: One Hour or Less Science Experiments",1,"eBook","978-0-7660-4428-9",2013,"August 2012",null,"Author","Robert Gardner",5.6,null,null,null,"U","860L","Grade 5 - 6","Grade 5 - 12","Award-winning author Robert Gardner comes to the rescue of busy students everywhere. Each experiment in SOLIDS, LIQUIDS, AND GASES EXPERIMENTS USING WATER, AIR, MARBLES, AND MORE follows the scientific method, and is designed to be completed in under an hour. Discover how to weigh air, estimate the volume of matter, and the science of why water holds together. There are also ideas for more science experiments if you have extra time. ","English",25.27,18.95,"530.078","48 pp.",{"$f":"Table1[[#This Row],[QTY]]*Table1[[#This Row],['# of Books]]","v":0},{"$f":"Table1[[#This Row],[QTY]]*Table1[[#This Row],[School & Library Price]]","v":0}]
[null,null,null,111,"Design, Build, Experiment","Design, Build, Experiment",6,"Library Set","978-0-7660-6695-3",2016,"August 2015","6.500 X 9.250",null,null,null,null,null,null,null,null,"Grade 7","Grade 6 - 12","Spark student creativity by giving readers the ability to design, build, and conduct their own original science fair experiments. Readers learn how to build their own labs with simple materials and household items. Readers are then guided through applying the scientific method to conduct rigorous experiments in the major areas of science. \n\n\n\n-Experiments designed by award-winning science author Robert Gardner  \n\n-Encourages readers to design their own experiments, analyze and interpret data, and construct explanations for their findings \n\n-Instructions to build equipment using easy-to-obtain materials  \n\n","English",223.62,167.7,null,"128 pp.",{"$f":"Table1[[#This Row],[QTY]]*Table1[[#This Row],['# of Books]]","v":0},{"$f":"Table1[[#This Row],[QTY]]*Table1[[#This Row],[School & Library Price]]","v":0}]
[null,null,null,111,"Design, Build, Experiment","Astronomy Experiments in Your Own Observatory",1,"Library Bound Book","978-0-7660-6951-0",2016,"August 2015","6.500 X 9.250","Author","Robert Gardner",null,null,null,null,"Z",null,"Grade 7","Grade 6 - 12","Museums and colleges aren’t the only places that can have observatories. Now you can build your own observatory with easily accessible tools and supplies. Follow the directions in this book to use your observatory to view the stars and planets, develop hypotheses, and conduct experiments to test them out!","English",37.270000000000003,27.95,"522--d23","128 pp.",{"$f":"Table1[[#This Row],[QTY]]*Table1[[#This Row],['# of Books]]","v":0},{"$f":"Table1[[#This Row],[QTY]]*Table1[[#This Row],[School & Library Price]]","v":0}]
[null,null,null,111,"Design, Build, Experiment","Astronomy Experiments in Your Own Observatory",1,"eBook","978-0-7660-6952-7",2016,"August 2015",null,"Author","Robert Gardner",null,null,null,null,"Z",null,"Grade 7","Grade 6 - 12","Museums and colleges aren’t the only places that can have observatories. Now you can build your own observatory with easily accessible tools and supplies. Follow the directions in this book to use your observatory to view the stars and planets, develop hypotheses, and conduct experiments to test them out!","English",37.270000000000003,27.95,"522--d23","128 pp.",{"$f":"Table1[[#This Row],[QTY]]*Table1[[#This Row],['# of Books]]","v":0},{"$f":"Table1[[#This Row],[QTY]]*Table1[[#This Row],[School & Library Price]]","v":0}]
[null,null,null,111,"Design, Build, Experiment","Chemistry Experiments in Your Own Laboratory",1,"Library Bound Book","978-0-7660-6953-4",2016,"August 2015","6.500 X 9.250","Author","Robert Gardner",null,null,null,null,"Z",null,"Grade 7","Grade 6 - 12","Does mass change when water freezes? What is the source of the gas in a seltzer tablet? Find out in your own lab! Readers learn how to make their own laboratory with simple materials and household items. Then it's time to start experimenting! Step-by-step directions help you conduct your own experiments and test hypotheses. Perfect for the science fair!","English",37.270000000000003,27.95,"540.78--d23","128 pp.",{"$f":"Table1[[#This Row],[QTY]]*Table1[[#This Row],['# of Books]]","v":0},{"$f":"Table1[[#This Row],[QTY]]*Table1[[#This Row],[School & Library Price]]","v":0}]
[null,null,null,111,"Design, Build, Experiment","Chemistry Experiments in Your Own Laboratory",1,"eBook","978-0-7660-6954-1",2016,"August 2015",null,"Author","Robert Gardner",null,null,null,null,"Z",null,"Grade 7","Grade 6 - 12","Does mass change when water freezes? What is the source of the gas in a seltzer tablet? Find out in your own lab! Readers learn how to make their own laboratory with simple materials and household items. Then it's time to start experimenting! Step-by-step directions help you conduct your own experiments and test hypotheses. Perfect for the science fair!","English",37.270000000000003,27.95,"540.78--d23","128 pp.",{"$f":"Table1[[#This Row],[QTY]]*Table1[[#This Row],['# of Books]]","v":0},{"$f":"Table1[[#This Row],[QTY]]*Table1[[#This Row],[School & Library Price]]","v":0}]
[null,null,null,111,"Design, Build, Experiment","Forensic Science Experiments in Your Own Crime Lab",1,"Library Bound Book","978-0-7660-6955-8",2016,"August 2015","6.500 X 9.250","Author","Robert Gardner",null,null,null,null,"Z",null,"Grade 7","Grade 6 - 12","Ever wonder how forensics experts and law enforcement solve crimes? Learn how to build a crime lab of your very own with tools and supplies you can easily obtain. Then, following the step-by-step instructions, play the part of a forensic scientist by doing your own experiments, analyzing evidence and drawing conclusions.","English",37.270000000000003,27.95,"363.25--d23","128 pp.",{"$f":"Table1[[#This Row],[QTY]]*Table1[[#This Row],['# of Books]]","v":0},{"$f":"Table1[[#This Row],[QTY]]*Table1[[#This Row],[School & Library Price]]","v":0}]
[null,null,null,111,"Design, Build, Experiment","Forensic Science Experiments in Your Own Crime Lab",1,"eBook","978-0-7660-6956-5",2016,"August 2015",null,"Author","Robert Gardner",null,null,null,null,"Z",null,"Grade 7","Grade 6 - 12","Ever wonder how forensics experts and law enforcement solve crimes? Learn how to build a crime lab of your very own with tools and supplies you can easily obtain. Then, following the step-by-step instructions, play the part of a forensic scientist by doing your own experiments, analyzing evidence and drawing conclusions.","English",37.270000000000003,27.95,"363.25--d23","128 pp.",{"$f":"Table1[[#This Row],[QTY]]*Table1[[#This Row],['# of Books]]","v":0},{"$f":"Table1[[#This Row],[QTY]]*Table1[[#This Row],[School & Library Price]]","v":0}]
[null,null,null,111,"Design, Build, Experiment","Meteorology Experiments in Your Own Weather Station",1,"Library Bound Book","978-0-7660-6957-2",2016,"August 2015","6.500 X 9.250","Author","Robert Gardner",null,null,null,null,"Z",null,"Grade 7","Grade 6 - 12","Ever wonder how meteorologists predict the weather? Learn how to build a weather station of your very own with readily available tools and supplies. Then, following step-by-step directions, you can design and conduct experiments that will have you predicting the weather too!","English",37.270000000000003,27.95,"551.5078--d23","128 pp.",{"$f":"Table1[[#This Row],[QTY]]*Table1[[#This Row],['# of Books]]","v":0},{"$f":"Table1[[#This Row],[QTY]]*Table1[[#This Row],[School & Library Price]]","v":0}]
[null,null,null,111,"Design, Build, Experiment","Meteorology Experiments in Your Own Weather Station",1,"eBook","978-0-7660-6976-3",2016,"August 2015",null,"Author","Robert Gardner",null,null,null,null,"Z",null,"Grade 7","Grade 6 - 12","Ever wonder how meteorologists predict the weather? Learn how to build a weather station of your very own with readily available tools and supplies. Then, following step-by-step directions, you can design and conduct experiments that will have you predicting the weather too!","English",37.270000000000003,27.95,"551.5078--d23","128 pp.",{"$f":"Table1[[#This Row],[QTY]]*Table1[[#This Row],['# of Books]]","v":0},{"$f":"Table1[[#This Row],[QTY]]*Table1[[#This Row],[School & Library Price]]","v":0}]
[null,null,null,111,"Design, Build, Experiment","Physics Experiments in Your Own Light Box",1,"Library Bound Book","978-0-7660-6958-9",2016,"August 2015","6.500 X 9.250","Author","Robert Gardner",null,null,null,null,"Z",null,"Grade 7","Grade 6 - 12","Ever wonder about the science behind a rainbow? Now you can solve the mystery by building a light box of your own! Using tools and supplies you can easily find, conduct experiments and test hypotheses on reflection, refraction, shadows, color and more.","English",37.270000000000003,27.95,"530.078--d23","128 pp.",{"$f":"Table1[[#This Row],[QTY]]*Table1[[#This Row],['# of Books]]","v":0},{"$f":"Table1[[#This Row],[QTY]]*Table1[[#This Row],[School & Library Price]]","v":0}]
[null,null,null,111,"Design, Build, Experiment","Physics Experiments in Your Own Light Box",1,"eBook","978-0-7660-6959-6",2016,"August 2015",null,"Author","Robert Gardner",null,null,null,null,"Z",null,"Grade 7","Grade 6 - 12","Ever wonder about the science behind a rainbow? Now you can solve the mystery by building a light box of your own! Using tools and supplies you can easily find, conduct experiments and test hypotheses on reflection, refraction, shadows, color and more.","English",37.270000000000003,27.95,"530.078--d23","128 pp.",{"$f":"Table1[[#This Row],[QTY]]*Table1[[#This Row],['# of Books]]","v":0},{"$f":"Table1[[#This Row],[QTY]]*Table1[[#This Row],[School & Library Price]]","v":0}]
[null,null,null,111,"Design, Build, Experiment","Sound Experiments in Your Own Music Lab",1,"Library Bound Book","978-0-7660-6960-2",2016,"August 2015","6.500 X 9.250","Author","Robert Gardner",null,null,null,null,"Z",null,"Grade 7","Grade 6 - 12","Ever wonder how flutes, harps, guitars, pianos, or drums produce sound? Find out by building your own musical instruments! Using supplies and tools that are easy to find, you can experiment with frequency, vibration, harmonics, and more—all with homemade instruments. Follow the suggestions for expanding the ideas to develop your own unique science fair project!","English",37.270000000000003,27.95,"534.078--d23","128 pp.",{"$f":"Table1[[#This Row],[QTY]]*Table1[[#This Row],['# of Books]]","v":0},{"$f":"Table1[[#This Row],[QTY]]*Table1[[#This Row],[School & Library Price]]","v":0}]
[null,null,null,111,"Design, Build, Experiment","Sound Experiments in Your Own Music Lab",1,"eBook","978-0-7660-6961-9",2016,"August 2015",null,"Author","Robert Gardner",null,null,null,null,"Z",null,"Grade 7","Grade 6 - 12","Ever wonder how flutes, harps, guitars, pianos, or drums produce sound? Find out by building your own musical instruments! Using supplies and tools that are easy to find, you can experiment with frequency, vibration, harmonics, and more—all with homemade instruments. Follow the suggestions for expanding the ideas to develop your own unique science fair project!","English",37.270000000000003,27.95,"534.078--d23","128 pp.",{"$f":"Table1[[#This Row],[QTY]]*Table1[[#This Row],['# of Books]]","v":0},{"$f":"Table1[[#This Row],[QTY]]*Table1[[#This Row],[School & Library Price]]","v":0}]
[null,null,null,111,"Prize-Winning Science Fair Projects","Prize-Winning Science Fair Projects",6,"Library Set","978-0-7660-6700-4",2016,"August 2015","6.500 X 9.250",null,null,null,null,null,null,null,null,"Grade 7","Grade 6 - 12","Thought-provoking questions inspire readers to investigate and test basic science principles by doing more than 25 experiments in each book in this series. Additional suggestions for further investigation encourage readers to design and carry out their own experiments. \n\n\n\n-Supports science curriculum and encourages the exploration and experimentation of scientific knowledge, principles, and theories  \n\n-Encourages readers to develop their own hypotheses\n\n-Unique science fair project ideas  \n\n","English",223.62,167.7,null,"128 pp.",{"$f":"Table1[[#This Row],[QTY]]*Table1[[#This Row],['# of Books]]","v":0},{"$f":"Table1[[#This Row],[QTY]]*Table1[[#This Row],[School & Library Price]]","v":0}]
[null,null,null,111,"Prize-Winning Science Fair Projects","Bicycle Science Fair Projects",1,"Library Bound Book","978-0-7660-7016-5",2016,"August 2015","6.500 X 9.250","Author","Robert Gardner",null,null,null,null,"Z",null,"Grade 7","Grade 6 - 12","From demonstrating gravitational pull to measuring speed and efficiency, your bicycle is a great tool to use when planning your next science fair project. Diagrams, detailed instructions, and photographs make these projects easy to do, earning you that prize at the science fair!","English",37.270000000000003,27.95,"531’.6--d23","128 pp.",{"$f":"Table1[[#This Row],[QTY]]*Table1[[#This Row],['# of Books]]","v":0},{"$f":"Table1[[#This Row],[QTY]]*Table1[[#This Row],[School & Library Price]]","v":0}]
[null,null,null,111,"Prize-Winning Science Fair Projects","Bicycle Science Fair Projects",1,"eBook","978-0-7660-7017-2",2016,"August 2015",null,"Author","Robert Gardner",null,null,null,null,"Z",null,"Grade 7","Grade 6 - 12","From demonstrating gravitational pull to measuring speed and efficiency, your bicycle is a great tool to use when planning your next science fair project. Diagrams, detailed instructions, and photographs make these projects easy to do, earning you that prize at the science fair!","English",37.270000000000003,27.95,"531’.6--d23","128 pp.",{"$f":"Table1[[#This Row],[QTY]]*Table1[[#This Row],['# of Books]]","v":0},{"$f":"Table1[[#This Row],[QTY]]*Table1[[#This Row],[School & Library Price]]","v":0}]
[null,null,null,111,"Prize-Winning Science Fair Projects","Build Your Own Robot Science Fair Project",1,"Library Bound Book","978-0-7660-7018-9",2016,"August 2015","6.500 X 9.250","Author","Ed Sobey Ph.D.",null,null,null,null,"Z",null,"Grade 7","Grade 6 - 12","Design and build your own robots, RC cars, motors, and more with these prize-winning science fair ideas!","English",37.270000000000003,27.95,"629.8’92--d23","128 pp.",{"$f":"Table1[[#This Row],[QTY]]*Table1[[#This Row],['# of Books]]","v":0},{"$f":"Table1[[#This Row],[QTY]]*Table1[[#This Row],[School & Library Price]]","v":0}]
[null,null,null,111,"Prize-Winning Science Fair Projects","Build Your Own Robot Science Fair Project",1,"eBook","978-0-7660-7019-6",2016,"August 2015",null,"Author","Ed Sobey Ph.D.",null,null,null,null,"Z",null,"Grade 7","Grade 6 - 12","Design and build your own robots, RC cars, motors, and more with these prize-winning science fair ideas!","English",37.270000000000003,27.95,"629.8’92--d23","128 pp.",{"$f":"Table1[[#This Row],[QTY]]*Table1[[#This Row],['# of Books]]","v":0},{"$f":"Table1[[#This Row],[QTY]]*Table1[[#This Row],[School & Library Price]]","v":0}]
[null,null,null,111,"Prize-Winning Science Fair Projects","Science Fair Projects with Everyday Stuff",1,"Library Bound Book","978-0-7660-7020-2",2016,"August 2015","6.500 X 9.250","Author","Salvatore Tocci",null,null,null,null,"Z",null,"Grade 7","Grade 6 - 12","There's science behind everything. From testing how effective sunblock is to finding out how skin cream works to learning what chemicals are in aspirin besides pain relievers, these unique experiments use items you already have around the house. Investigate your world while you conduct a prize-winning science fair project!","English",37.270000000000003,27.95,"507’.8--d23","128 pp.",{"$f":"Table1[[#This Row],[QTY]]*Table1[[#This Row],['# of Books]]","v":0},{"$f":"Table1[[#This Row],[QTY]]*Table1[[#This Row],[School & Library Price]]","v":0}]
[null,null,null,111,"Prize-Winning Science Fair Projects","Science Fair Projects with Everyday Stuff",1,"eBook","978-0-7660-7021-9",2016,"August 2015",null,"Author","Salvatore Tocci",null,null,null,null,"Z",null,"Grade 7","Grade 6 - 12","There's science behind everything. From testing how effective sunblock is to finding out how skin cream works to learning what chemicals are in aspirin besides pain relievers, these unique experiments use items you already have around the house. Investigate your world while you conduct a prize-winning science fair project!","English",37.270000000000003,27.95,"507’.8--d23","128 pp.",{"$f":"Table1[[#This Row],[QTY]]*Table1[[#This Row],['# of Books]]","v":0},{"$f":"Table1[[#This Row],[QTY]]*Table1[[#This Row],[School & Library Price]]","v":0}]
[null,null,null,111,"Prize-Winning Science Fair Projects","Smelly Science Fair Projects",1,"Library Bound Book","978-0-7660-7022-6",2016,"August 2015","6.500 X 9.250","Author","Leah M. Rybolt",null,null,null,null,"Z",null,"Grade 7","Grade 6 - 12","Your sense of smell plays a huge role in how you taste, what you remember, what attracts you, and what repels you. Through photos, diagrams, and hands-on experiments, you'll discover how to find out your odor threshold, conduct a jelly bean smell and taste test, and learn what makes those feet so stinky.","English",37.270000000000003,27.95,"612.8’6’078--d23","128 pp.",{"$f":"Table1[[#This Row],[QTY]]*Table1[[#This Row],['# of Books]]","v":0},{"$f":"Table1[[#This Row],[QTY]]*Table1[[#This Row],[School & Library Price]]","v":0}]
[null,null,null,111,"Prize-Winning Science Fair Projects","Smelly Science Fair Projects",1,"eBook","978-0-7660-7023-3",2016,"August 2015",null,"Author","Leah M. Rybolt",null,null,null,null,"Z",null,"Grade 7","Grade 6 - 12","Your sense of smell plays a huge role in how you taste, what you remember, what attracts you, and what repels you. Through photos, diagrams, and hands-on experiments, you'll discover how to find out your odor threshold, conduct a jelly bean smell and taste test, and learn what makes those feet so stinky.","English",37.270000000000003,27.95,"612.8’6’078--d23","128 pp.",{"$f":"Table1[[#This Row],[QTY]]*Table1[[#This Row],['# of Books]]","v":0},{"$f":"Table1[[#This Row],[QTY]]*Table1[[#This Row],[School & Library Price]]","v":0}]
[null,null,null,111,"Prize-Winning Science Fair Projects","Soda Pop Science Fair Projects",1,"Library Bound Book","978-0-7660-7024-0",2016,"August 2015","6.500 X 9.250","Author","Dr. Thomas R. Rybolt",null,null,null,null,"Z",null,"Grade 7","Grade 6 - 12","Who knew you could do more with soda pop than just drink it? This collection of hands-on experiments allows you to have fun while investigating the properties of carbonated beverages. What causes soda to go flat? Can you identify your favorite cola by smell alone? How can you remove the coloring from soda? Using everyday objects, readers will learn about liquids, gases, acids, sugars, and more.  For a one-of-a-kind science fair project, just look in your fridge!","English",37.270000000000003,27.95,"663’.62--d23","128 pp.",{"$f":"Table1[[#This Row],[QTY]]*Table1[[#This Row],['# of Books]]","v":0},{"$f":"Table1[[#This Row],[QTY]]*Table1[[#This Row],[School & Library Price]]","v":0}]
[null,null,null,111,"Prize-Winning Science Fair Projects","Soda Pop Science Fair Projects",1,"eBook","978-0-7660-7025-7",2016,"August 2015",null,"Author","Dr. Thomas R. Rybolt",null,null,null,null,"Z",null,"Grade 7","Grade 6 - 12","Who knew you could do more with soda pop than just drink it? This collection of hands-on experiments allows you to have fun while investigating the properties of carbonated beverages. What causes soda to go flat? Can you identify your favorite cola by smell alone? How can you remove the coloring from soda? Using everyday objects, readers will learn about liquids, gases, acids, sugars, and more.  For a one-of-a-kind science fair project, just look in your fridge!","English",37.270000000000003,27.95,"663’.62--d23","128 pp.",{"$f":"Table1[[#This Row],[QTY]]*Table1[[#This Row],['# of Books]]","v":0},{"$f":"Table1[[#This Row],[QTY]]*Table1[[#This Row],[School & Library Price]]","v":0}]
[null,null,null,111,"Prize-Winning Science Fair Projects","Sports Science Fair Projects",1,"Library Bound Book","978-0-7660-7026-4",2016,"August 2015","6.500 X 9.250","Author","Madeline Goodstein",null,null,null,null,"Z",null,"Grade 7","Grade 6 - 12","Why do baseballs have stitches? Why do football have an oblong shape? How does a Ping-Pong ball change if you fill its center? Through these fun, step-by-step experiments, you will discover the science behind the sports that you play. Take home a trophy for the science fair this season!","English",37.270000000000003,27.95,"530’.078--d23","128 pp.",{"$f":"Table1[[#This Row],[QTY]]*Table1[[#This Row],['# of Books]]","v":0},{"$f":"Table1[[#This Row],[QTY]]*Table1[[#This Row],[School & Library Price]]","v":0}]
[null,null,null,111,"Prize-Winning Science Fair Projects","Sports Science Fair Projects",1,"eBook","978-0-7660-7027-1",2016,"August 2015",null,"Author","Madeline Goodstein",null,null,null,null,"Z",null,"Grade 7","Grade 6 - 12","Why do baseballs have stitches? Why do football have an oblong shape? How does a Ping-Pong ball change if you fill its center? Through these fun, step-by-step experiments, you will discover the science behind the sports that you play. Take home a trophy for the science fair this season!","English",37.270000000000003,27.95,null,"128 pp.",{"$f":"Table1[[#This Row],[QTY]]*Table1[[#This Row],['# of Books]]","v":0},{"$f":"Table1[[#This Row],[QTY]]*Table1[[#This Row],[School & Library Price]]","v":0}]
[null,null,null,112,"Explore Colonial America","Explore Colonial America",6,"Library Set","978-0-7660-7498-9",2017,"August 2016","7.250 X 9.250",null,null,null,null,null,null,null,null,"Grade 4 - 5","Grade 4 - 8","A fascinating time in American history, the colonial days sparked legends, traditions, and forged a new nation. From the first Thanksgiving to the Boston Tea Party, young readers will develop a deeper appreciation for the events that led to the founding of America.","English",167.58,125.7,null,"48 pp.",{"$f":"Table1[[#This Row],[QTY]]*Table1[[#This Row],['# of Books]]","v":0},{"$f":"Table1[[#This Row],[QTY]]*Table1[[#This Row],[School & Library Price]]","v":0}]
[null,null,null,112,"Explore Colonial America","Ben Franklin",1,"Library Bound Book","978-0-7660-7873-4",2017,"August 2016","7.250 X 9.250","Author","Sarah Gilman",4.5999999999999996,1,null,null,"R",null,"Grade 4 - 5","Grade 4 - 8","Many students know the story of Ben Franklin’s famed electricity experiment, but do they understand how influential he was in the formation of the United States? Through simple but engaging narrative, this fully illustrated volume leads readers through Franklin’s childhood, his diverse interests and accomplishments, and the role he played in the American Revolution and creation of an independent nation.","English",27.93,20.95,"973.3092--dc23","48 pp.",{"$f":"Table1[[#This Row],[QTY]]*Table1[[#This Row],['# of Books]]","v":0},{"$f":"Table1[[#This Row],[QTY]]*Table1[[#This Row],[School & Library Price]]","v":0}]
[null,null,null,112,"Explore Colonial America","Ben Franklin",1,"eBook","978-0-7660-7867-3",2017,"August 2016",null,"Author","Sarah Gilman",4.5999999999999996,1,null,null,"R",null,"Grade 4 - 5","Grade 4 - 8","Many students know the story of Ben Franklin’s famed electricity experiment, but do they understand how influential he was in the formation of the United States? Through simple but engaging narrative, this fully illustrated volume leads readers through Franklin’s childhood, his diverse interests and accomplishments, and the role he played in the American Revolution and creation of an independent nation.","English",27.93,20.95,"973.3092--dc23","48 pp.",{"$f":"Table1[[#This Row],[QTY]]*Table1[[#This Row],['# of Books]]","v":0},{"$f":"Table1[[#This Row],[QTY]]*Table1[[#This Row],[School & Library Price]]","v":0}]
[null,null,null,112,"Explore Colonial America","Colonial Jamestown",1,"Library Bound Book","978-0-7660-7871-0",2017,"August 2016","7.250 X 9.250","Author","Sarah Gilman",5,1,null,null,"T",null,"Grade 4 - 5","Grade 4 - 8","Readers of this exciting volume will be transported back to Colonial Jamestown, the first permanent English colony in North America. Through simple text and full-color images, students will experience the journey along with the colonists: the difficult voyage overseas, illness and starvation, uncertainty about the local American Indians, and the hard work that went into forming a successful colony. \n\n","English",27.93,20.95,"975.5/4251--dc23","48 pp.",{"$f":"Table1[[#This Row],[QTY]]*Table1[[#This Row],['# of Books]]","v":0},{"$f":"Table1[[#This Row],[QTY]]*Table1[[#This Row],[School & Library Price]]","v":0}]
[null,null,null,112,"Explore Colonial America","Colonial Jamestown",1,"eBook","978-0-7660-7865-9",2017,"August 2016",null,"Author","Sarah Gilman",5,1,null,null,"T",null,"Grade 4 - 5","Grade 4 - 8","Readers of this exciting volume will be transported back to Colonial Jamestown, the first permanent English colony in North America. Through simple text and full-color images, students will experience the journey along with the colonists: the difficult voyage overseas, illness and starvation, uncertainty about the local American Indians, and the hard work that went into forming a successful colony. \n\n","English",27.93,20.95,"975.5/4251--dc23","48 pp.",{"$f":"Table1[[#This Row],[QTY]]*Table1[[#This Row],['# of Books]]","v":0},{"$f":"Table1[[#This Row],[QTY]]*Table1[[#This Row],[School & Library Price]]","v":0}]
[null,null,null,112,"Explore Colonial America","The Boston Tea Party",1,"Library Bound Book","978-0-7660-7872-7",2017,"August 2016","7.250 X 9.250","Author","Sarah Gilman",5.2,1,null,null,"T",null,"Grade 4 - 5","Grade 4 - 8","When patriots dressed as Mohawk Indians dumped 342 chests of tea into Boston Harbor, they were acting out against restrictive laws imposed by British Parliament. The resulting punishment prompted the formation of a Continental Congress and culminated in the Revolutionary War. Through simple, exciting language and full-color images, readers of this engaging volume will learn the backstory of ﾓNo Taxation Without Representationﾔ and see how this act of defiance was anything but a party.\n\n","English",27.93,20.95,"973.3/115--dc23","48 pp.",{"$f":"Table1[[#This Row],[QTY]]*Table1[[#This Row],['# of Books]]","v":0},{"$f":"Table1[[#This Row],[QTY]]*Table1[[#This Row],[School & Library Price]]","v":0}]
[null,null,null,112,"Explore Colonial America","The Boston Tea Party",1,"eBook","978-0-7660-7866-6",2017,"August 2016",null,"Author","Sarah Gilman",5.2,1,null,null,"T",null,"Grade 4 - 5","Grade 4 - 8","When patriots dressed as Mohawk Indians dumped 342 chests of tea into Boston Harbor, they were acting out against restrictive laws imposed by British Parliament. The resulting punishment prompted the formation of a Continental Congress and culminated in the Revolutionary War. Through simple, exciting language and full-color images, readers of this engaging volume will learn the backstory of ﾓNo Taxation Without Representationﾔ and see how this act of defiance was anything but a party.\n\n","English",27.93,20.95,"973.3/115--dc23","48 pp.",{"$f":"Table1[[#This Row],[QTY]]*Table1[[#This Row],['# of Books]]","v":0},{"$f":"Table1[[#This Row],[QTY]]*Table1[[#This Row],[School & Library Price]]","v":0}]
[null,null,null,112,"Explore Colonial America","The First Thanksgiving",1,"Library Bound Book","978-0-7660-7869-7",2017,"August 2016","7.250 X 9.250","Author","Sarah Gilman",5,1,null,null,"T",null,"Grade 4 - 5","Grade 4 - 8","The story of the first Thanksgiving is so familiar to us, yet at the same time itﾒs surrounded in mystery. Who were the Pilgrims and Indians that are said to have shared a feast so important that we celebrate it as an annual holiday? Engaging text and full-color images will transport readers to the Plymouth Colony, and they will learn about the hardships experienced by the Pilgrims in attempting to build a successful colony and their changing relationship with the local Wampanoag Indians. \n\n","English",27.93,20.95,"974.402--dc23","48 pp.",{"$f":"Table1[[#This Row],[QTY]]*Table1[[#This Row],['# of Books]]","v":0},{"$f":"Table1[[#This Row],[QTY]]*Table1[[#This Row],[School & Library Price]]","v":0}]
[null,null,null,112,"Explore Colonial America","The First Thanksgiving",1,"eBook","978-0-7660-7863-5",2017,"August 2016",null,"Author","Sarah Gilman",5,1,null,null,"T",null,"Grade 4 - 5","Grade 4 - 8","The story of the first Thanksgiving is so familiar to us, yet at the same time itﾒs surrounded in mystery. Who were the Pilgrims and Indians that are said to have shared a feast so important that we celebrate it as an annual holiday? Engaging text and full-color images will transport readers to the Plymouth Colony, and they will learn about the hardships experienced by the Pilgrims in attempting to build a successful colony and their changing relationship with the local Wampanoag Indians. \n\n","English",27.93,20.95,"974.402--dc23","48 pp.",{"$f":"Table1[[#This Row],[QTY]]*Table1[[#This Row],['# of Books]]","v":0},{"$f":"Table1[[#This Row],[QTY]]*Table1[[#This Row],[School & Library Price]]","v":0}]
[null,null,null,112,"Explore Colonial America","The Founding of America",1,"Library Bound Book","978-0-7660-7870-3",2017,"August 2016","7.250 X 9.250","Author","Sarah Gilman",5.6,1,null,null,"S",null,"Grade 4 - 5","Grade 4 - 8","As discontent brewed among the thirteen American colonies, a grassroots campaign was started to break free from England. Teeming with full-color images, this volume explains the steps toward Revolution in clear, captivating prose that will help readers understand the remarkable achievements made by the Founding Fathers in creating a new nation.\n\n","English",27.93,20.95,"974.402--dc23","48 pp.",{"$f":"Table1[[#This Row],[QTY]]*Table1[[#This Row],['# of Books]]","v":0},{"$f":"Table1[[#This Row],[QTY]]*Table1[[#This Row],[School & Library Price]]","v":0}]
[null,null,null,112,"Explore Colonial America","The Founding of America",1,"eBook","978-0-7660-7864-2",2017,"August 2016",null,"Author","Sarah Gilman",5.6,1,null,null,"S",null,"Grade 4 - 5","Grade 4 - 8","As discontent brewed among the thirteen American colonies, a grassroots campaign was started to break free from England. Teeming with full-color images, this volume explains the steps toward Revolution in clear, captivating prose that will help readers understand the remarkable achievements made by the Founding Fathers in creating a new nation.\n\n","English",27.93,20.95,"974.402--dc23","48 pp.",{"$f":"Table1[[#This Row],[QTY]]*Table1[[#This Row],['# of Books]]","v":0},{"$f":"Table1[[#This Row],[QTY]]*Table1[[#This Row],[School & Library Price]]","v":0}]
[null,null,null,112,"Explore Colonial America","The Salem Witch Trials",1,"Library Bound Book","978-0-7660-7874-1",2017,"August 2016","7.250 X 9.250","Author","Sarah Gilman",5.3,1,null,null,"R",null,"Grade 4 - 5","Grade 4 - 8","Students will be fascinated by the events that transpired in seventeenth-century colonial Massachusetts, when a group of young girls accused several townspeople of witchcraft. Through colorful images and riveting text, this “truth is stranger than fiction” story will teach young readers much about the religious and cultural state of colonial New England, as well as the dangers of groupthink.","English",27.93,20.95,"345.744’50288--dc23","48 pp.",{"$f":"Table1[[#This Row],[QTY]]*Table1[[#This Row],['# of Books]]","v":0},{"$f":"Table1[[#This Row],[QTY]]*Table1[[#This Row],[School & Library Price]]","v":0}]
[null,null,null,112,"Explore Colonial America","The Salem Witch Trials",1,"eBook","978-0-7660-7868-0",2017,"August 2016",null,"Author","Sarah Gilman",5.3,1,null,null,"R",null,"Grade 4 - 5","Grade 4 - 8","Students will be fascinated by the events that transpired in seventeenth-century colonial Massachusetts, when a group of young girls accused several townspeople of witchcraft. Through colorful images and riveting text, this “truth is stranger than fiction” story will teach young readers much about the religious and cultural state of colonial New England, as well as the dangers of groupthink.","English",27.93,20.95,"345.744’50288--dc23","48 pp.",{"$f":"Table1[[#This Row],[QTY]]*Table1[[#This Row],['# of Books]]","v":0},{"$f":"Table1[[#This Row],[QTY]]*Table1[[#This Row],[School & Library Price]]","v":0}]
[null,null,null,113,"The Constitution and the United States Government","The Constitution and the United States Government",5,"Library Set","978-0-7660-8070-6",2013,"January 2013","6.000 X 9.000",null,null,null,null,null,null,null,null,"Grade 6 - 12","Grade 6 - 12",null,"English",166.35,124.75,null,"104 pp.",{"$f":"Table1[[#This Row],[QTY]]*Table1[[#This Row],['# of Books]]","v":0},{"$f":"Table1[[#This Row],[QTY]]*Table1[[#This Row],[School & Library Price]]","v":0}]
[null,null,null,113,"The Constitution and the United States Government","The President and the Executive Branch: How Our Nation Is Governed",1,"Library Bound Book","978-0-7660-4063-2",2013,"January 2013","6.000 X 9.000","Author","Mark Thorburn",10.1,null,null,null,"R","1230L","Grade 5 - 6","Grade 5 - 12","Learn about how the President is elected, what the Presidential duties are, and who runs the nation if the President gets sick. ","English",33.270000000000003,24.95,"352.230973","104 pp.",{"$f":"Table1[[#This Row],[QTY]]*Table1[[#This Row],['# of Books]]","v":0},{"$f":"Table1[[#This Row],[QTY]]*Table1[[#This Row],[School & Library Price]]","v":0}]
[null,null,null,113,"The Constitution and the United States Government","The President and the Executive Branch: How Our Nation Is Governed",1,"eBook","978-0-7660-4459-3",2013,"January 2013",null,"Author","Mark Thorburn",10.1,null,null,null,"R","1230L","Grade 5 - 6","Grade 5 - 12","Learn about how the President is elected, what the Presidential duties are, and who runs the nation if the President gets sick. ","English",33.270000000000003,24.95,"352.230973","104 pp.",{"$f":"Table1[[#This Row],[QTY]]*Table1[[#This Row],['# of Books]]","v":0},{"$f":"Table1[[#This Row],[QTY]]*Table1[[#This Row],[School & Library Price]]","v":0}]
[null,null,null,113,"The Constitution and the United States Government","The Security Agencies of the United States: How the CIA, FBI, NSA, and Homeland Security Keep Us Safe",1,"Library Bound Book","978-0-7660-4064-9",2013,"January 2013","6.000 X 9.000","Author","Tom Streissguth",7.5,null,null,null,"S","960L","Grade 5 - 6","Grade 5 - 12","Read about America's Security Agencies and how they keep us safe. ","English",33.270000000000003,24.95,"355","104 pp.",{"$f":"Table1[[#This Row],[QTY]]*Table1[[#This Row],['# of Books]]","v":0},{"$f":"Table1[[#This Row],[QTY]]*Table1[[#This Row],[School & Library Price]]","v":0}]
[null,null,null,113,"The Constitution and the United States Government","The Security Agencies of the United States: How the CIA, FBI, NSA, and Homeland Security Keep Us Safe",1,"eBook","978-0-7660-4455-5",2013,"January 2013",null,"Author","Tom Streissguth",7.5,null,null,null,"S","960L","Grade 5 - 6","Grade 5 - 12","Read about America's Security Agencies and how they keep us safe. ","English",33.270000000000003,24.95,"355","104 pp.",{"$f":"Table1[[#This Row],[QTY]]*Table1[[#This Row],['# of Books]]","v":0},{"$f":"Table1[[#This Row],[QTY]]*Table1[[#This Row],[School & Library Price]]","v":0}]
[null,null,null,113,"The Constitution and the United States Government","The Supreme Court and the Judicial Branch: How the Federal Courts Interpret Our Laws",1,"Library Bound Book","978-0-7660-4065-6",2013,"January 2013","6.000 X 9.000",null,null,9,null,null,null,"S","1090L","Grade 5 - 6","Grade 5 - 12","Learn about the Supreme Court of the United States, the history of the federal judiciary, and its organizations and responsibilities. ","English",33.270000000000003,24.95,"347.73","104 pp.",{"$f":"Table1[[#This Row],[QTY]]*Table1[[#This Row],['# of Books]]","v":0},{"$f":"Table1[[#This Row],[QTY]]*Table1[[#This Row],[School & Library Price]]","v":0}]
[null,null,null,113,"The Constitution and the United States Government","The Supreme Court and the Judicial Branch: How the Federal Courts Interpret Our Laws",1,"eBook","978-0-7660-4456-2",2013,"January 2013",null,null,null,9,null,null,null,"S","1090L","Grade 5 - 6","Grade 5 - 12","Learn about the Supreme Court of the United States, the history of the federal judiciary, and its organizations and responsibilities. ","English",33.270000000000003,24.95,"347.73","104 pp.",{"$f":"Table1[[#This Row],[QTY]]*Table1[[#This Row],['# of Books]]","v":0},{"$f":"Table1[[#This Row],[QTY]]*Table1[[#This Row],[School & Library Price]]","v":0}]
[null,null,null,113,"The Constitution and the United States Government","The United States Congress and the Legislative Branch: How the Senate and House of Representatives Create Our Laws",1,"Library Bound Book","978-0-7660-4066-3",2013,"January 2013","6.000 X 9.000","Author","Tony Zurlo",7.3,null,null,null,"S","920L","Grade 5 - 6","Grade 5 - 12","Learn about the structure and responsibilities of the U.S. Senate and House of Representatives. ","English",33.270000000000003,24.95,"328.73","104 pp.",{"$f":"Table1[[#This Row],[QTY]]*Table1[[#This Row],['# of Books]]","v":0},{"$f":"Table1[[#This Row],[QTY]]*Table1[[#This Row],[School & Library Price]]","v":0}]
[null,null,null,113,"The Constitution and the United States Government","The United States Congress and the Legislative Branch: How the Senate and House of Representatives Create Our Laws",1,"eBook","978-0-7660-4457-9",2013,"January 2013",null,"Author","Tony Zurlo",7.3,null,null,null,"S","920L","Grade 5 - 6","Grade 5 - 12","Learn about the structure and responsibilities of the U.S. Senate and House of Representatives. ","English",33.270000000000003,24.95,"328.73","104 pp.",{"$f":"Table1[[#This Row],[QTY]]*Table1[[#This Row],['# of Books]]","v":0},{"$f":"Table1[[#This Row],[QTY]]*Table1[[#This Row],[School & Library Price]]","v":0}]
[null,null,null,113,"The Constitution and the United States Government","The United States Constitution: Its History, Bill of Rights, and Amendments",1,"Library Bound Book","978-0-7660-4067-0",2013,"January 2013","6.000 X 9.000","Author","Karen Faye Judson",9.3000000000000007,null,null,null,"R","1110L","Grade 5 - 6","Grade 5 - 12","Learn about the history and the events that led to first Constitution of the United States, and how it's been revised and amended since then. ","English",33.270000000000003,24.95,"342.7302","104 pp.",{"$f":"Table1[[#This Row],[QTY]]*Table1[[#This Row],['# of Books]]","v":0},{"$f":"Table1[[#This Row],[QTY]]*Table1[[#This Row],[School & Library Price]]","v":0}]
[null,null,null,113,"The Constitution and the United States Government","The United States Constitution: Its History, Bill of Rights, and Amendments",1,"eBook","978-0-7660-4458-6",2013,"January 2013",null,"Author","Karen Faye Judson",9.3000000000000007,null,null,null,"R","1110L","Grade 5 - 6","Grade 5 - 12","Learn about the history and the events that led to first Constitution of the United States, and how it's been revised and amended since then. ","English",33.270000000000003,24.95,"342.7302","104 pp.",{"$f":"Table1[[#This Row],[QTY]]*Table1[[#This Row],['# of Books]]","v":0},{"$f":"Table1[[#This Row],[QTY]]*Table1[[#This Row],[School & Library Price]]","v":0}]
[null,null,null,113,"Discover Ancient Civilizations","Discover Ancient Civilizations",6,"Library Set","978-0-7660-8071-3",2014,"January 2014","6.000 X 9.000",null,null,null,null,null,null,null,null,"Grade 6 - 12","Grade 6 - 12",null,"English",199.62,149.69999999999999,null,"104 pp.",{"$f":"Table1[[#This Row],[QTY]]*Table1[[#This Row],['# of Books]]","v":0},{"$f":"Table1[[#This Row],[QTY]]*Table1[[#This Row],[School & Library Price]]","v":0}]
[null,null,null,113,"Discover Ancient Civilizations","Discover Ancient China",1,"Library Bound Book","978-0-7660-4194-3",2014,"January 2014","6.000 X 9.000","Author","Neil D. Bramwell",8.1,null,null,null,"V","1150L","Grade 5 - 6","Grade 5 - 12","Confucius, the Great Wall, silk, oracle bones, writing, and paper are among the topics explored in DISCOVER ANCIENT CHINA. The book starts with Emperor Qin Shi Huangdi’s life size terracotta army of soldiers, chariots, and horses. The photographs show the army as it looks today and in the broken disarray of its discovery. The following chapters deal with early development, early dynasties, the unification of China, and the achievements, gifts, and inventions of the ancient Chinese. ","English",33.270000000000003,24.95,"931","104 pp.",{"$f":"Table1[[#This Row],[QTY]]*Table1[[#This Row],['# of Books]]","v":0},{"$f":"Table1[[#This Row],[QTY]]*Table1[[#This Row],[School & Library Price]]","v":0}]
[null,null,null,113,"Discover Ancient Civilizations","Discover Ancient China",1,"eBook","978-0-7660-5814-9",2014,"January 2014",null,"Author","Neil D. Bramwell",8.1,null,null,null,"V","1150L","Grade 5 - 6","Grade 5 - 12","Confucius, the Great Wall, silk, oracle bones, writing, and paper are among the topics explored in DISCOVER ANCIENT CHINA. The book starts with Emperor Qin Shi Huangdi’s life size terracotta army of soldiers, chariots, and horses. The photographs show the army as it looks today and in the broken disarray of its discovery. The following chapters deal with early development, early dynasties, the unification of China, and the achievements, gifts, and inventions of the ancient Chinese. ","English",33.270000000000003,24.95,"931","104 pp.",{"$f":"Table1[[#This Row],[QTY]]*Table1[[#This Row],['# of Books]]","v":0},{"$f":"Table1[[#This Row],[QTY]]*Table1[[#This Row],[School & Library Price]]","v":0}]
[null,null,null,113,"Discover Ancient Civilizations","Discover Ancient Egypt",1,"Library Bound Book","978-0-7660-4195-0",2014,"January 2014","6.000 X 9.000","Author","Neil D. Bramwell",8.1,null,null,null,"W","1190L","Grade 5 - 6","Grade 5 - 12","Follow the story from the Egyptians' prehistoric origins to their conquest by the Persians, Greeks, and Romans. Begin the journey  at Hatshepsut’s tomb, Egypt’s first woman pharaoh. Then explore the amazing pyramids at Giza, learn about the fascinating language of hieroglyphics, and the rise and fall of the mighty pharaohs. ","English",33.270000000000003,24.95,"932","104 pp.",{"$f":"Table1[[#This Row],[QTY]]*Table1[[#This Row],['# of Books]]","v":0},{"$f":"Table1[[#This Row],[QTY]]*Table1[[#This Row],[School & Library Price]]","v":0}]
[null,null,null,113,"Discover Ancient Civilizations","Discover Ancient Egypt",1,"eBook","978-0-7660-5815-6",2014,"January 2014",null,"Author","Neil D. Bramwell",8.1,null,null,null,"W","1190L","Grade 5 - 6","Grade 5 - 12","Follow the story from the Egyptians' prehistoric origins to their conquest by the Persians, Greeks, and Romans. Begin the journey  at Hatshepsut’s tomb, Egypt’s first woman pharaoh. Then explore the amazing pyramids at Giza, learn about the fascinating language of hieroglyphics, and the rise and fall of the mighty pharaohs. ","English",33.270000000000003,24.95,"932","104 pp.",{"$f":"Table1[[#This Row],[QTY]]*Table1[[#This Row],['# of Books]]","v":0},{"$f":"Table1[[#This Row],[QTY]]*Table1[[#This Row],[School & Library Price]]","v":0}]
[null,null,null,113,"Discover Ancient Civilizations","Discover Ancient Greece",1,"Library Bound Book","978-0-7660-4196-7",2014,"January 2014","6.000 X 9.000","Author","Kim A. O'connell",7.9,null,null,null,"V","1130L","Grade 5 - 6","Grade 5 - 12","DISCOVER ANCIENT GREECE provides an overview of the history of ancient Greece, beginning with the Minoans, Greek mythology, and Mycenae, and continuing to the advent of Rome. Greek philosophy, religion, daily life, love of sports, and art and architecture are also explored. ","English",33.270000000000003,24.95,"938","104 pp.",{"$f":"Table1[[#This Row],[QTY]]*Table1[[#This Row],['# of Books]]","v":0},{"$f":"Table1[[#This Row],[QTY]]*Table1[[#This Row],[School & Library Price]]","v":0}]
[null,null,null,113,"Discover Ancient Civilizations","Discover Ancient Greece",1,"eBook","978-0-7660-5816-3",2014,"January 2014",null,"Author","Kim A. O'connell",7.9,null,null,null,"V","1130L","Grade 5 - 6","Grade 5 - 12","DISCOVER ANCIENT GREECE provides an overview of the history of ancient Greece, beginning with the Minoans, Greek mythology, and Mycenae, and continuing to the advent of Rome. Greek philosophy, religion, daily life, love of sports, and art and architecture are also explored. ","English",33.270000000000003,24.95,"938","104 pp.",{"$f":"Table1[[#This Row],[QTY]]*Table1[[#This Row],['# of Books]]","v":0},{"$f":"Table1[[#This Row],[QTY]]*Table1[[#This Row],[School & Library Price]]","v":0}]
[null,null,null,113,"Discover Ancient Civilizations","Discover Ancient Mesopotamia",1,"Library Bound Book","978-0-7660-4197-4",2014,"January 2014","6.000 X 9.000","Author","Stephen Feinstein",7.9,null,null,null,"W","1120L","Grade 5 - 6","Grade 5 - 12","Mesopotamia is often called the Cradle of Civilization and it is this region that is the focus of this book, DISCOVER ANCIENT MESOPOTAMIA. Ancient Mesopotamia, centering on the Tigris and Euphrates Rivers, features the rise of city-states and innovations in agriculture. The people of Mesopotamia also developed complex systems of writing, architectural wonders, advancements in military tactics and weaponry, and some of the first recorded legal codes. ","English",33.270000000000003,24.95,"935","104 pp.",{"$f":"Table1[[#This Row],[QTY]]*Table1[[#This Row],['# of Books]]","v":0},{"$f":"Table1[[#This Row],[QTY]]*Table1[[#This Row],[School & Library Price]]","v":0}]
[null,null,null,113,"Discover Ancient Civilizations","Discover Ancient Mesopotamia",1,"eBook","978-0-7660-5817-0",2014,"January 2014",null,"Author","Stephen Feinstein",7.9,null,null,null,"W","1120L","Grade 5 - 6","Grade 5 - 12","Mesopotamia is often called the Cradle of Civilization and it is this region that is the focus of this book, DISCOVER ANCIENT MESOPOTAMIA. Ancient Mesopotamia, centering on the Tigris and Euphrates Rivers, features the rise of city-states and innovations in agriculture. The people of Mesopotamia also developed complex systems of writing, architectural wonders, advancements in military tactics and weaponry, and some of the first recorded legal codes. ","English",33.270000000000003,24.95,"935","104 pp.",{"$f":"Table1[[#This Row],[QTY]]*Table1[[#This Row],['# of Books]]","v":0},{"$f":"Table1[[#This Row],[QTY]]*Table1[[#This Row],[School & Library Price]]","v":0}]
[null,null,null,113,"Discover Ancient Civilizations","Discover Ancient Persia",1,"Library Bound Book","978-0-7660-4198-1",2014,"January 2014","6.000 X 9.000","Author","Neil D. Bramwell",8.6999999999999993,null,null,null,"W","1240L","Grade 5 - 6","Grade 5 - 12","A history of ancient Persia discussing the contributions of rulers from Cyrus to Darius as they expanded the boundaries of the empire. Over a period of almost 1,200 years, the ancient Persians learned to cultivate crops such as wheat and barley and to domesticate animals. They also demonstrated their talents for architecture and art by building enormous palaces, such as at the site of Persepolis, and introduced the idea of worshipping a single god. ","English",33.270000000000003,24.95,"935.7","104 pp.",{"$f":"Table1[[#This Row],[QTY]]*Table1[[#This Row],['# of Books]]","v":0},{"$f":"Table1[[#This Row],[QTY]]*Table1[[#This Row],[School & Library Price]]","v":0}]
[null,null,null,113,"Discover Ancient Civilizations","Discover Ancient Persia",1,"eBook","978-0-7660-5818-7",2014,"January 2014",null,"Author","Neil D. Bramwell",8.6999999999999993,null,null,null,"W","1240L","Grade 5 - 6","Grade 5 - 12","A history of ancient Persia discussing the contributions of rulers from Cyrus to Darius as they expanded the boundaries of the empire. Over a period of almost 1,200 years, the ancient Persians learned to cultivate crops such as wheat and barley and to domesticate animals. They also demonstrated their talents for architecture and art by building enormous palaces, such as at the site of Persepolis, and introduced the idea of worshipping a single god. ","English",33.270000000000003,24.95,"935.7","104 pp.",{"$f":"Table1[[#This Row],[QTY]]*Table1[[#This Row],['# of Books]]","v":0},{"$f":"Table1[[#This Row],[QTY]]*Table1[[#This Row],[School & Library Price]]","v":0}]
[null,null,null,113,"Discover Ancient Civilizations","Discover Ancient Rome",1,"Library Bound Book","978-0-7660-4199-8",2014,"January 2014","6.000 X 9.000","Author","Deborah Kops",7.9,null,null,null,"W","1140L","Grade 5 - 6","Grade 5 - 12","DISCOVER ANCIENT ROME covers the highlights of ancient Rome, including the founding of Rome, mythology, Pompeii, and Roman law, among other topics. The book also focuses on Roman civilization, Roman religion, social life and customs. Everyday life is also featured in the book as well, including the bread and circuses, the trade guilds, the blood games, chariot races, the baths, theatre, poetry, and education. ","English",33.270000000000003,24.95,"937","112 pp.",{"$f":"Table1[[#This Row],[QTY]]*Table1[[#This Row],['# of Books]]","v":0},{"$f":"Table1[[#This Row],[QTY]]*Table1[[#This Row],[School & Library Price]]","v":0}]
[null,null,null,113,"Discover Ancient Civilizations","Discover Ancient Rome",1,"eBook","978-0-7660-5819-4",2014,"January 2014",null,"Author","Deborah Kops",7.9,null,null,null,"W","1140L","Grade 5 - 6","Grade 5 - 12","DISCOVER ANCIENT ROME covers the highlights of ancient Rome, including the founding of Rome, mythology, Pompeii, and Roman law, among other topics. The book also focuses on Roman civilization, Roman religion, social life and customs. Everyday life is also featured in the book as well, including the bread and circuses, the trade guilds, the blood games, chariot races, the baths, theatre, poetry, and education. ","English",33.270000000000003,24.95,"937","112 pp.",{"$f":"Table1[[#This Row],[QTY]]*Table1[[#This Row],['# of Books]]","v":0},{"$f":"Table1[[#This Row],[QTY]]*Table1[[#This Row],[School & Library Price]]","v":0}]
[null,null,null,114,"In United States History","In United States History",16,"Library Set","978-0-7660-8072-0",2015,"January 2015","6.000 X 9.000",null,null,null,null,null,null,null,null,"Grade 6 - 12","Grade 6 - 12","The history of the United States is filled with essential moments. Many of the ideals of the U.S. have been built on not only the discoveries, but pitfalls the nation has overcome. In this reflective series, fully discover some of the pivotal moments that have shaped our culture. The Attack on Pearl Harbor began WWII, while the Great Depression sparked a movement in the direction of kindness and welfare. This series is sure to inspire thoughtful debate for your inquisitive readers.","English",479.04,359.36,null,"96 pp.",{"$f":"Table1[[#This Row],[QTY]]*Table1[[#This Row],['# of Books]]","v":0},{"$f":"Table1[[#This Row],[QTY]]*Table1[[#This Row],[School & Library Price]]","v":0}]
[null,null,null,114,"In United States History","McCarthyism and the Communist Scare in United States History",1,"Library Bound Book","978-0-7660-6345-7",2015,"January 2015","6.000 X 9.000","Author","Karen Zeinert",null,null,null,null,null,null,"Grade 5","Grade 5 - 12","Author Karen Zeinert follows the rise and fall of McCarthyism and anti-Communist hysteria in the United States from its roots in the straining of American-Soviet relations after the Bolshevik Revolution and how it led to the \"witch hunt\" atmosphere of the Cold War.  Zeinert details the fearful climate of the post-World War II years and how those like McCarthy took advantage to sustain an anti-Communist movement, smearing the reputations of many innocent Americans.  The author also examines how the age of McCarthyism finally came to an end as the perceived threat of communism faded when the Soviet Union declined.","English",29.94,22.46,null,"96 pp.",{"$f":"Table1[[#This Row],[QTY]]*Table1[[#This Row],['# of Books]]","v":0},{"$f":"Table1[[#This Row],[QTY]]*Table1[[#This Row],[School & Library Price]]","v":0}]
[null,null,null,114,"In United States History","McCarthyism and the Communist Scare in United States History",1,"eBook","978-0-7660-6349-5",2015,"January 2015",null,"Author","Karen Zeinert",null,null,null,null,null,null,"Grade 5","Grade 5 - 12","Author Karen Zeinert follows the rise and fall of McCarthyism and anti-Communist hysteria in the United States from its roots in the straining of American-Soviet relations after the Bolshevik Revolution and how it led to the \"witch hunt\" atmosphere of the Cold War.  Zeinert details the fearful climate of the post-World War II years and how those like McCarthy took advantage to sustain an anti-Communist movement, smearing the reputations of many innocent Americans.  The author also examines how the age of McCarthyism finally came to an end as the perceived threat of communism faded when the Soviet Union declined.","English",34.6,25.95,null,"96 pp.",{"$f":"Table1[[#This Row],[QTY]]*Table1[[#This Row],['# of Books]]","v":0},{"$f":"Table1[[#This Row],[QTY]]*Table1[[#This Row],[School & Library Price]]","v":0}]
[null,null,null,114,"In United States History","The Attack on Pearl Harbor in United States History",1,"Library Bound Book","978-0-7660-5448-6",2015,"August 2014","6.000 X 9.000","Author, Author","Nathan Anthony, Robert Gardner",7.5,null,null,null,"T","1050L","Grade 5 - 6","Grade 5 - 12","On December 7, 1941 the Japanese military launched a surprise attack on the American Naval base at Pearl Harbor. A reluctant nation was pushed into World War II by the surprise attack which killed thousands of American sailors and soldiers, nearly destroyed the United States Navy. In this book, authors Nathan Anthony and Robert Gardner offer a clear description of the attack on Pearl Harbor, from early Japanese spying operations to a detailed account of the key events of that fateful day. This book is developed from THE BOMBING OF PEARL HARBOR IN AMERICAN HISTORY to allow republication of the original text into ebook, paperback, and trade editions. ","English",29.94,22.46,"940.54","96 pp.",{"$f":"Table1[[#This Row],[QTY]]*Table1[[#This Row],['# of Books]]","v":0},{"$f":"Table1[[#This Row],[QTY]]*Table1[[#This Row],[School & Library Price]]","v":0}]
[null,null,null,114,"In United States History","The Attack on Pearl Harbor in United States History",1,"eBook","978-0-7660-6057-9",2015,"August 2014",null,"Author, Author","Nathan Anthony, Robert Gardner",7.5,null,null,null,"T","1050L","Grade 5 - 6","Grade 5 - 12","On December 7, 1941 the Japanese military launched a surprise attack on the American Naval base at Pearl Harbor. A reluctant nation was pushed into World War II by the surprise attack which killed thousands of American sailors and soldiers, nearly destroyed the United States Navy. In this book, authors Nathan Anthony and Robert Gardner offer a clear description of the attack on Pearl Harbor, from early Japanese spying operations to a detailed account of the key events of that fateful day. This book is developed from THE BOMBING OF PEARL HARBOR IN AMERICAN HISTORY to allow republication of the original text into ebook, paperback, and trade editions. ","English",34.6,25.95,"940.54","96 pp.",{"$f":"Table1[[#This Row],[QTY]]*Table1[[#This Row],['# of Books]]","v":0},{"$f":"Table1[[#This Row],[QTY]]*Table1[[#This Row],[School & Library Price]]","v":0}]
[null,null,null,114,"In United States History","The Battle of the Little Bighorn in United States History",1,"Library Bound Book","978-0-7660-6097-5",2015,"August 2014","6.000 X 9.000","Author","Nancy Warren Ferrell",null,null,null,null,"S","960L","Grade 5 - 6","Grade 5 - 12","In Montana, on June 25, 1876 Lieutenant Colonel George Custer and the Seventh U.S. Cavalry faced thousands of Native American warriors. Custer’s Last Stand is the battle resulting from years of fighting between the expanding United States and the Native Americans who already populated the land. When the battle ended, not one of the United States soldiers in Custer's immediate command had survived. The trail of events which led to this historic battle are explored in this descriptive account, along with the famous and colorful characters who took part, including Sitting Bull, Crazy Horse, Marcus Reno, and George Custer. This book is developed from THE BATTLE OF THE LITTLE BIGHORN IN AMERICAN HISTORY to allow republication of the original text into ebook, paperback, and trade editions. ","English",29.94,22.46,"973.8","96 pp.",{"$f":"Table1[[#This Row],[QTY]]*Table1[[#This Row],['# of Books]]","v":0},{"$f":"Table1[[#This Row],[QTY]]*Table1[[#This Row],[School & Library Price]]","v":0}]
[null,null,null,114,"In United States History","The Battle of the Little Bighorn in United States History",1,"eBook","978-0-7660-6101-9",2015,"August 2014",null,"Author","Nancy Warren Ferrell",null,null,null,null,"S","960L","Grade 5 - 6","Grade 5 - 12","In Montana, on June 25, 1876 Lieutenant Colonel George Custer and the Seventh U.S. Cavalry faced thousands of Native American warriors. Custer’s Last Stand is the battle resulting from years of fighting between the expanding United States and the Native Americans who already populated the land. When the battle ended, not one of the United States soldiers in Custer's immediate command had survived. The trail of events which led to this historic battle are explored in this descriptive account, along with the famous and colorful characters who took part, including Sitting Bull, Crazy Horse, Marcus Reno, and George Custer. This book is developed from THE BATTLE OF THE LITTLE BIGHORN IN AMERICAN HISTORY to allow republication of the original text into ebook, paperback, and trade editions. ","English",34.6,25.95,"973.8","96 pp.",{"$f":"Table1[[#This Row],[QTY]]*Table1[[#This Row],['# of Books]]","v":0},{"$f":"Table1[[#This Row],[QTY]]*Table1[[#This Row],[School & Library Price]]","v":0}]
[null,null,null,114,"In United States History","The Great Depression in United States History",1,"Library Bound Book","978-0-7660-6087-6",2015,"August 2014","6.000 X 9.000","Author","David K. Fremon",null,null,null,null,"T","880L","Grade 5 - 6","Grade 5 - 12","The Great Depression began when the never-ending party of the Roaring Twenties came to a sudden half. On October 29, 1929, which became known as “Black Tuesday,” the stock market crashed, starting a downward economic slide. David K. Fremon recounts the fascinating events leading to the crash of the New York Stock Exchange, and tells of personal tales as a quarter of hard-working people were without jobs, banks failed, businesses were wiped out, and the Great Depression began. This book is developed from THE GREAT DEPRESSION IN AMERICAN HISTORY to allow republication of the original text into ebook, paperback, and trade editions. ","English",29.94,22.46,"330.973","96 pp.",{"$f":"Table1[[#This Row],[QTY]]*Table1[[#This Row],['# of Books]]","v":0},{"$f":"Table1[[#This Row],[QTY]]*Table1[[#This Row],[School & Library Price]]","v":0}]
[null,null,null,114,"In United States History","The Great Depression in United States History",1,"eBook","978-0-7660-6091-3",2015,"August 2014",null,"Author","David K. Fremon",null,null,null,null,"T","880L","Grade 5 - 6","Grade 5 - 12","The Great Depression began when the never-ending party of the Roaring Twenties came to a sudden half. On October 29, 1929, which became known as “Black Tuesday,” the stock market crashed, starting a downward economic slide. David K. Fremon recounts the fascinating events leading to the crash of the New York Stock Exchange, and tells of personal tales as a quarter of hard-working people were without jobs, banks failed, businesses were wiped out, and the Great Depression began. This book is developed from THE GREAT DEPRESSION IN AMERICAN HISTORY to allow republication of the original text into ebook, paperback, and trade editions. ","English",34.6,25.95,"330.973","96 pp.",{"$f":"Table1[[#This Row],[QTY]]*Table1[[#This Row],['# of Books]]","v":0},{"$f":"Table1[[#This Row],[QTY]]*Table1[[#This Row],[School & Library Price]]","v":0}]
[null,null,null,114,"In United States History","The Industrial Revolution in United States History",1,"Library Bound Book","978-0-7660-6102-6",2015,"August 2014","6.000 X 9.000","Author","Anita Louise McCormick",null,null,null,null,"T","1130L","Grade 5 - 6","Grade 5 - 12","Imagine listening as Alexander Graham Bell first demonstrates the telephone, or watching Thomas Edison show off his new invention—the automatic telegraph.  In less than two hundred years, the United States changed from a rural, agricultural society into an industrial world power. Author Anita Louise McCormick explores the inventions, ideas, and innovators who helped bring the Industrial Revolution from its roots in Great Britain to America. This book is developed from THE INDUSTRIAL REVOLUTION IN AMERICAN HISTORY to allow republication of the original text into ebook, paperback, and trade editions. ","English",29.94,22.46,"330.973","96 pp.",{"$f":"Table1[[#This Row],[QTY]]*Table1[[#This Row],['# of Books]]","v":0},{"$f":"Table1[[#This Row],[QTY]]*Table1[[#This Row],[School & Library Price]]","v":0}]
[null,null,null,114,"In United States History","The Industrial Revolution in United States History",1,"eBook","978-0-7660-6106-4",2015,"August 2014",null,"Author","Anita Louise McCormick",null,null,null,null,"T","1130L","Grade 5 - 6","Grade 5 - 12","Imagine listening as Alexander Graham Bell first demonstrates the telephone, or watching Thomas Edison show off his new invention—the automatic telegraph.  In less than two hundred years, the United States changed from a rural, agricultural society into an industrial world power. Author Anita Louise McCormick explores the inventions, ideas, and innovators who helped bring the Industrial Revolution from its roots in Great Britain to America. This book is developed from THE INDUSTRIAL REVOLUTION IN AMERICAN HISTORY to allow republication of the original text into ebook, paperback, and trade editions. ","English",34.6,25.95,"330.973","96 pp.",{"$f":"Table1[[#This Row],[QTY]]*Table1[[#This Row],['# of Books]]","v":0},{"$f":"Table1[[#This Row],[QTY]]*Table1[[#This Row],[School & Library Price]]","v":0}]
[null,null,null,114,"In United States History","The Infamous Alcatraz Prison in United States History",1,"Library Bound Book","978-0-7660-6320-4",2015,"January 2015","6.000 X 9.000","Author","Marilyn Tower Oliver",null,null,null,null,null,null,"Grade 5","Grade 5 - 12","An intriguing history of Alcatraz Island and its infamous prison, located off the coast of San Francisco, from the earliest years of Spanish exploration to the present day. Highlighting the unique geographical features of the island, it shows how Alcatraz went through many changes, being used over the years as a military facility, a notorious federal penitentiary widely believed to be escape-proof, as well as the site of American Indian uprisings.","English",29.94,22.46,null,"96 pp.",{"$f":"Table1[[#This Row],[QTY]]*Table1[[#This Row],['# of Books]]","v":0},{"$f":"Table1[[#This Row],[QTY]]*Table1[[#This Row],[School & Library Price]]","v":0}]
[null,null,null,114,"In United States History","The Infamous Alcatraz Prison in United States History",1,"eBook","978-0-7660-6324-2",2015,"January 2015",null,"Author","Marilyn Tower Oliver",null,null,null,null,null,null,"Grade 5","Grade 5 - 12","An intriguing history of Alcatraz Island and its infamous prison, located off the coast of San Francisco, from the earliest years of Spanish exploration to the present day. Highlighting the unique geographical features of the island, it shows how Alcatraz went through many changes, being used over the years as a military facility, a notorious federal penitentiary widely believed to be escape-proof, as well as the site of American Indian uprisings.","English",34.6,25.95,null,"96 pp.",{"$f":"Table1[[#This Row],[QTY]]*Table1[[#This Row],['# of Books]]","v":0},{"$f":"Table1[[#This Row],[QTY]]*Table1[[#This Row],[School & Library Price]]","v":0}]
[null,null,null,114,"In United States History","The Internment of Japanese Americans in United States History",1,"Library Bound Book","978-0-7660-6068-5",2015,"August 2014","6.000 X 9.000","Author","David K. Fremon",null,null,null,null,"T","960L","Grade 5 - 6","Grade 5 - 12","The loyalty of Japanese Americans was questioned after the Japanese attack on Pearl Harbor, simply because of their ancestry. Author David K. Fremon looks at the events behind this unfortunate episode from American history, highlighting the personal accounts of many Japanese Americans who were forced to live through this difficult time. The effects of this internment are still emerging, but the United States today recognizes that injustices were inflicted on thousands of Japanese Americans. This book is developed from JAPANESE-AMERICAN INTERNMENT IN AMERICAN HISTORY to allow republication of the original text into ebook, paperback, and trade editions. ","English",29.94,22.46,"940.53","96 pp.",{"$f":"Table1[[#This Row],[QTY]]*Table1[[#This Row],['# of Books]]","v":0},{"$f":"Table1[[#This Row],[QTY]]*Table1[[#This Row],[School & Library Price]]","v":0}]
[null,null,null,114,"In United States History","The Internment of Japanese Americans in United States History",1,"eBook","978-0-7660-6072-2",2015,"August 2014",null,"Author","David K. Fremon",null,null,null,null,"T","960L","Grade 5 - 6","Grade 5 - 12","The loyalty of Japanese Americans was questioned after the Japanese attack on Pearl Harbor, simply because of their ancestry. Author David K. Fremon looks at the events behind this unfortunate episode from American history, highlighting the personal accounts of many Japanese Americans who were forced to live through this difficult time. The effects of this internment are still emerging, but the United States today recognizes that injustices were inflicted on thousands of Japanese Americans. This book is developed from JAPANESE-AMERICAN INTERNMENT IN AMERICAN HISTORY to allow republication of the original text into ebook, paperback, and trade editions. ","English",34.6,25.95,"940.53","96 pp.",{"$f":"Table1[[#This Row],[QTY]]*Table1[[#This Row],['# of Books]]","v":0},{"$f":"Table1[[#This Row],[QTY]]*Table1[[#This Row],[School & Library Price]]","v":0}]
[null,null,null,114,"In United States History","The Jim Crow Laws and Racism in United States History",1,"Library Bound Book","978-0-7660-6092-0",2015,"August 2014","6.000 X 9.000","Author","David K. Fremon",null,null,null,null,"T","940L","Grade 5 - 6","Grade 5 - 12","In 1954, the Supreme Court rejected the notion of \"separate but equal\" facilities in the famous BROWN V. BOARD OF EDUCATION decision. Highlighting the efforts of both blacks and whites to promote racial equality in the face of violent attempts to preserve white supremacy, Author David K. Fremon shows how segregation made the South a caste system. He traces the history of racial discrimination from the end of the Civil War through the Jim Crow era of segregation. After years of enduring separate facilities—including water fountains, telephone books, hospitals, and cemeteries—for whites and blacks, Fremon shows how African Americans and their white supporters were eventually able to win the battle for equal rights. This book is developed from THE JIM CROW LAWS AND RACISM IN AMERICAN HISTORY to allow republication of the original text into ebook, paperback, and trade editions. ","English",29.94,22.46,"323.1196","96 pp.",{"$f":"Table1[[#This Row],[QTY]]*Table1[[#This Row],['# of Books]]","v":0},{"$f":"Table1[[#This Row],[QTY]]*Table1[[#This Row],[School & Library Price]]","v":0}]
[null,null,null,114,"In United States History","The Jim Crow Laws and Racism in United States History",1,"eBook","978-0-7660-6096-8",2015,"August 2014",null,"Author","David K. Fremon",null,null,null,null,"T","940L","Grade 5 - 6","Grade 5 - 12","In 1954, the Supreme Court rejected the notion of \"separate but equal\" facilities in the famous BROWN V. BOARD OF EDUCATION decision. Highlighting the efforts of both blacks and whites to promote racial equality in the face of violent attempts to preserve white supremacy, Author David K. Fremon shows how segregation made the South a caste system. He traces the history of racial discrimination from the end of the Civil War through the Jim Crow era of segregation. After years of enduring separate facilities—including water fountains, telephone books, hospitals, and cemeteries—for whites and blacks, Fremon shows how African Americans and their white supporters were eventually able to win the battle for equal rights. This book is developed from THE JIM CROW LAWS AND RACISM IN AMERICAN HISTORY to allow republication of the original text into ebook, paperback, and trade editions. ","English",34.6,25.95,"323.1196","96 pp.",{"$f":"Table1[[#This Row],[QTY]]*Table1[[#This Row],['# of Books]]","v":0},{"$f":"Table1[[#This Row],[QTY]]*Table1[[#This Row],[School & Library Price]]","v":0}]
[null,null,null,114,"In United States History","The Journey of Lewis and Clark in United States History",1,"Library Bound Book","978-0-7660-6058-6",2015,"August 2014","6.000 X 9.000","Author","Judith Edwards",null,null,null,null,"T","1120L","Grade 5 - 6","Grade 5 - 12","The place was the vast unexplored western frontier of the United States. The time was 1804. The Lewis and Clark expedition set out and overcome the unknown to open the way for settlers to begin the westward expansion to the Pacific Ocean. Conceived by President Thomas Jefferson to explore the lands of the new Louisiana Purchase, the expedition also made many scientific and geographic observations.  Author Judith Edwards highlights the extraordinary spirit of courage and cooperation that existed among the members of the famous expedition. This book is developed from LEWIS AND CLARK’S JOURNEY OF DISCOVERY IN AMERICAN HISTORY to allow republication of the original text into ebook, paperback, and trade editions. ","English",29.94,22.46,"917.804","96 pp.",{"$f":"Table1[[#This Row],[QTY]]*Table1[[#This Row],['# of Books]]","v":0},{"$f":"Table1[[#This Row],[QTY]]*Table1[[#This Row],[School & Library Price]]","v":0}]
[null,null,null,114,"In United States History","The Journey of Lewis and Clark in United States History",1,"eBook","978-0-7660-6062-3",2015,"August 2014",null,"Author","Judith Edwards",null,null,null,null,"T","1120L","Grade 5 - 6","Grade 5 - 12","The place was the vast unexplored western frontier of the United States. The time was 1804. The Lewis and Clark expedition set out and overcome the unknown to open the way for settlers to begin the westward expansion to the Pacific Ocean. Conceived by President Thomas Jefferson to explore the lands of the new Louisiana Purchase, the expedition also made many scientific and geographic observations.  Author Judith Edwards highlights the extraordinary spirit of courage and cooperation that existed among the members of the famous expedition. This book is developed from LEWIS AND CLARK’S JOURNEY OF DISCOVERY IN AMERICAN HISTORY to allow republication of the original text into ebook, paperback, and trade editions. ","English",34.6,25.95,"917.804","96 pp.",{"$f":"Table1[[#This Row],[QTY]]*Table1[[#This Row],['# of Books]]","v":0},{"$f":"Table1[[#This Row],[QTY]]*Table1[[#This Row],[School & Library Price]]","v":0}]
[null,null,null,114,"In United States History","The Native American Struggle in United States History",1,"Library Bound Book","978-0-7660-6325-9",2015,"January 2015","6.000 X 9.000","Author","Anita Louise McCormick",null,null,null,null,null,null,"Grade 5","Grade 5 - 12","Author Anita Louise McCormick Investigates the issues surrounding the creation of reservations—areas of land chosen by the United States government to relocate or contain Native Americans. Beginning with the first European explorers and continuing to the present, examine the history of the conflicts and resolutions between the United States government and Native Americans. Decide whether you feel the native peoples were treated fairly.","English",29.94,22.46,null,"96 pp.",{"$f":"Table1[[#This Row],[QTY]]*Table1[[#This Row],['# of Books]]","v":0},{"$f":"Table1[[#This Row],[QTY]]*Table1[[#This Row],[School & Library Price]]","v":0}]
[null,null,null,114,"In United States History","The Native American Struggle in United States History",1,"eBook","978-0-7660-6329-7",2015,"January 2015",null,"Author","Anita Louise McCormick",null,null,null,null,null,null,"Grade 5","Grade 5 - 12","Author Anita Louise McCormick Investigates the issues surrounding the creation of reservations—areas of land chosen by the United States government to relocate or contain Native Americans. Beginning with the first European explorers and continuing to the present, examine the history of the conflicts and resolutions between the United States government and Native Americans. Decide whether you feel the native peoples were treated fairly.","English",34.6,25.95,null,"96 pp.",{"$f":"Table1[[#This Row],[QTY]]*Table1[[#This Row],['# of Books]]","v":0},{"$f":"Table1[[#This Row],[QTY]]*Table1[[#This Row],[School & Library Price]]","v":0}]
[null,null,null,114,"In United States History","The Reconstruction of the South After the Civil War in United States History",1,"Library Bound Book","978-0-7660-6063-0",2015,"August 2014","6.000 X 9.000","Author","Marsha Ziff",null,null,null,null,"T","1130L","Grade 5 - 6","Grade 5 - 12","The North had won the Civil War and reunited the Union. African-American slaves were freed and made citizens. The South was in ruins. The period after the Civil War was a troubled time for the United States. Known as Reconstruction, the South, which had fought for its independence, was bitter. Former slaves were freed, made citizens, and granted the right to vote, but still faced terrible discrimination. Author Marsha Ziff highlights the people and events involved in this turbulent period, examining the frustration and the determination of African Americans as they began their journey out of the ruins of slavery and the Civil War toward freedom and equality. This book is developed from RECONSTRUCTION FOLLOWING THE CIVIL WAR IN AMERICAN HISTORY to allow republication of the original text into ebook, paperback, and trade editions. ","English",29.94,22.46,"973.8","96 pp.",{"$f":"Table1[[#This Row],[QTY]]*Table1[[#This Row],['# of Books]]","v":0},{"$f":"Table1[[#This Row],[QTY]]*Table1[[#This Row],[School & Library Price]]","v":0}]
[null,null,null,114,"In United States History","The Reconstruction of the South After the Civil War in United States History",1,"eBook","978-0-7660-6067-8",2015,"August 2014",null,"Author","Marsha Ziff",null,null,null,null,"T","1130L","Grade 5 - 6","Grade 5 - 12","The North had won the Civil War and reunited the Union. African-American slaves were freed and made citizens. The South was in ruins. The period after the Civil War was a troubled time for the United States. Known as Reconstruction, the South, which had fought for its independence, was bitter. Former slaves were freed, made citizens, and granted the right to vote, but still faced terrible discrimination. Author Marsha Ziff highlights the people and events involved in this turbulent period, examining the frustration and the determination of African Americans as they began their journey out of the ruins of slavery and the Civil War toward freedom and equality. This book is developed from RECONSTRUCTION FOLLOWING THE CIVIL WAR IN AMERICAN HISTORY to allow republication of the original text into ebook, paperback, and trade editions. ","English",34.6,25.95,"973.8","96 pp.",{"$f":"Table1[[#This Row],[QTY]]*Table1[[#This Row],['# of Books]]","v":0},{"$f":"Table1[[#This Row],[QTY]]*Table1[[#This Row],[School & Library Price]]","v":0}]
[null,null,null,114,"In United States History","The Salem Witchcraft Trials in United States History",1,"Library Bound Book","978-0-7660-6340-2",2015,"January 2015","6.000 X 9.000","Author","David K. Fremon",null,null,null,null,null,null,"Grade 5","Grade 5 - 12","The Salem witchcraft trials occurred during a controversial period in colonial America in which mass hysteria led to a series of outrageous trials resulting in the conviction and execution of twenty people for practicing witchcraft, and the imprisonment of one hundred fifty other accused witches.  Highlighting key people and events, Fremon explains the unique circumstances that existed in colonial Massachusetts and Salem Village at the time of the trials as he considers many possible reasons why the witchcraft trials were held.","English",29.94,22.46,null,"96 pp.",{"$f":"Table1[[#This Row],[QTY]]*Table1[[#This Row],['# of Books]]","v":0},{"$f":"Table1[[#This Row],[QTY]]*Table1[[#This Row],[School & Library Price]]","v":0}]
[null,null,null,114,"In United States History","The Salem Witchcraft Trials in United States History",1,"eBook","978-0-7660-6344-0",2015,"January 2015",null,"Author","David K. Fremon",null,null,null,null,null,null,"Grade 5","Grade 5 - 12","The Salem witchcraft trials occurred during a controversial period in colonial America in which mass hysteria led to a series of outrageous trials resulting in the conviction and execution of twenty people for practicing witchcraft, and the imprisonment of one hundred fifty other accused witches.  Highlighting key people and events, Fremon explains the unique circumstances that existed in colonial Massachusetts and Salem Village at the time of the trials as he considers many possible reasons why the witchcraft trials were held.","English",34.6,25.95,null,"96 pp.",{"$f":"Table1[[#This Row],[QTY]]*Table1[[#This Row],['# of Books]]","v":0},{"$f":"Table1[[#This Row],[QTY]]*Table1[[#This Row],[School & Library Price]]","v":0}]
[null,null,null,114,"In United States History","The Story of Slavery and Abolition in United States History",1,"Library Bound Book","978-0-7660-6330-3",2015,"January 2015","6.000 X 9.000","Author","Linda Jacobs Altman",null,null,null,null,null,null,"Grade 5","Grade 5 - 12","Prior to the end of the Civil War in 1865, many considered slavery vital to the economy of the United States, especially in the South. Most people in the North, though, came to reject slavery for moral or political reasons. Influential Northerners spearheaded the abolition movement. In this well-researched account, author Linda Jacobs Altman explores how abolitionists used words, money, violence, or simply courage, to fight to free the slaves. Tracing the history of slavery from its origins in America through its legal end with the Thirteenth Amendment, Altman shows how abolitionists—and slaves themselves—helped make the Civil War a fight not only to preserve the Union, but to make the nation free.","English",29.94,22.46,null,"96 pp.",{"$f":"Table1[[#This Row],[QTY]]*Table1[[#This Row],['# of Books]]","v":0},{"$f":"Table1[[#This Row],[QTY]]*Table1[[#This Row],[School & Library Price]]","v":0}]
[null,null,null,114,"In United States History","The Story of Slavery and Abolition in United States History",1,"eBook","978-0-7660-6334-1",2015,"January 2015",null,"Author","Linda Jacobs Altman",null,null,null,null,null,null,"Grade 5","Grade 5 - 12","Prior to the end of the Civil War in 1865, many considered slavery vital to the economy of the United States, especially in the South. Most people in the North, though, came to reject slavery for moral or political reasons. Influential Northerners spearheaded the abolition movement. In this well-researched account, author Linda Jacobs Altman explores how abolitionists used words, money, violence, or simply courage, to fight to free the slaves. Tracing the history of slavery from its origins in America through its legal end with the Thirteenth Amendment, Altman shows how abolitionists—and slaves themselves—helped make the Civil War a fight not only to preserve the Union, but to make the nation free.","English",34.6,25.95,null,"96 pp.",{"$f":"Table1[[#This Row],[QTY]]*Table1[[#This Row],['# of Books]]","v":0},{"$f":"Table1[[#This Row],[QTY]]*Table1[[#This Row],[School & Library Price]]","v":0}]
[null,null,null,114,"In United States History","The Watergate Scandal in United States History",1,"Library Bound Book","978-0-7660-6107-1",2015,"August 2014","6.000 X 9.000","Author","David K. Fremon",null,null,null,null,"T","970L","Grade 5 - 6","Grade 5 - 12","In 1972, five men were caught breaking into the Democratic National Headquarters located in Washington, D.C. What soon became clear was that the men who broke into the Watergate building were not ordinary burglars. They worked for the committed to re-elect President Richard Nixon and these illegal acts helped expose the fact that government officials were committing staggering crimes. This book explores the people and events involved in the political scandal that eventually forced the resignation of President Richard M. Nixon and changed the face of American politics. This book is developed from THE WATERGATE SCANDAL IN AMERICAN HISTORY to allow republication of the original text into ebook, paperback, and trade editions. ","English",29.94,22.46,"973.924092","96 pp.",{"$f":"Table1[[#This Row],[QTY]]*Table1[[#This Row],['# of Books]]","v":0},{"$f":"Table1[[#This Row],[QTY]]*Table1[[#This Row],[School & Library Price]]","v":0}]
[null,null,null,114,"In United States History","The Watergate Scandal in United States History",1,"eBook","978-0-7660-6111-8",2015,"August 2014",null,"Author","David K. Fremon",null,null,null,null,"T","970L","Grade 5 - 6","Grade 5 - 12","In 1972, five men were caught breaking into the Democratic National Headquarters located in Washington, D.C. What soon became clear was that the men who broke into the Watergate building were not ordinary burglars. They worked for the committed to re-elect President Richard Nixon and these illegal acts helped expose the fact that government officials were committing staggering crimes. This book explores the people and events involved in the political scandal that eventually forced the resignation of President Richard M. Nixon and changed the face of American politics. This book is developed from THE WATERGATE SCANDAL IN AMERICAN HISTORY to allow republication of the original text into ebook, paperback, and trade editions. ","English",34.6,25.95,"973.924092","96 pp.",{"$f":"Table1[[#This Row],[QTY]]*Table1[[#This Row],['# of Books]]","v":0},{"$f":"Table1[[#This Row],[QTY]]*Table1[[#This Row],[School & Library Price]]","v":0}]
[null,null,null,114,"In United States History","Witness the Boston Tea Party in United States History",1,"Library Bound Book","978-0-7660-6335-8",2015,"January 2015","6.000 X 9.000","Author","Mary E. Hull",null,null,null,null,null,null,"Grade 5","Grade 5 - 12","This book tells the story of the people and events involved in the Boston Tea Party, which marked one of the first times the American colonists publicly protested their treatment by Great Britain. Highlighting the individuals who participated in and planned the Tea Party, allegedly including Paul Revere and Sam Adams, the author shows how the Tea Party became an event that invoked harsh reactions from Britain, and in turn, sparked the break from England that led to the American Revolution.","English",29.94,22.46,null,"96 pp.",{"$f":"Table1[[#This Row],[QTY]]*Table1[[#This Row],['# of Books]]","v":0},{"$f":"Table1[[#This Row],[QTY]]*Table1[[#This Row],[School & Library Price]]","v":0}]
[null,null,null,114,"In United States History","Witness the Boston Tea Party in United States History",1,"eBook","978-0-7660-6339-6",2015,"January 2015",null,"Author","Mary E. Hull",null,null,null,null,null,null,"Grade 5","Grade 5 - 12","This book tells the story of the people and events involved in the Boston Tea Party, which marked one of the first times the American colonists publicly protested their treatment by Great Britain. Highlighting the individuals who participated in and planned the Tea Party, allegedly including Paul Revere and Sam Adams, the author shows how the Tea Party became an event that invoked harsh reactions from Britain, and in turn, sparked the break from England that led to the American Revolution.","English",34.6,25.95,null,"96 pp.",{"$f":"Table1[[#This Row],[QTY]]*Table1[[#This Row],['# of Books]]","v":0},{"$f":"Table1[[#This Row],[QTY]]*Table1[[#This Row],[School & Library Price]]","v":0}]
[null,null,null,114,"In United States History","Women Winning the Right to Vote in United States History",1,"Library Bound Book","978-0-7660-6073-9",2015,"August 2014","6.000 X 9.000","Author","Carol Rust Nash",null,null,null,null,"S","1100L","Grade 5 - 6","Grade 5 - 12","The suffrage movement was the fight for the right of women to vote. Highlighting the lives and careers of notable suffragists like Susan B. Anthony, Elizabeth Cady Stanton, Carrie Chapman Catt, and Alice Paul, author Carol Rust Nash traces the movement's roots from the temperance and abolition movements through its success with the passage of the Nineteenth Amendment. The author describes the many tactics used to fight for the right to vote for women, as well as the many problems and setbacks faced by the women and men involved in the movement. This book is developed from THE FIGHT FOR WOMAN'S RIGHT TO VOTE IN AMERICAN HISTORY to allow republication of the original text into ebook, paperback, and trade editions. ","English",29.94,22.46,"324.6","96 pp.",{"$f":"Table1[[#This Row],[QTY]]*Table1[[#This Row],['# of Books]]","v":0},{"$f":"Table1[[#This Row],[QTY]]*Table1[[#This Row],[School & Library Price]]","v":0}]
[null,null,null,114,"In United States History","Women Winning the Right to Vote in United States History",1,"eBook","978-0-7660-6077-7",2015,"August 2014",null,"Author","Carol Rust Nash",null,null,null,null,"S","1100L","Grade 5 - 6","Grade 5 - 12","The suffrage movement was the fight for the right of women to vote. Highlighting the lives and careers of notable suffragists like Susan B. Anthony, Elizabeth Cady Stanton, Carrie Chapman Catt, and Alice Paul, author Carol Rust Nash traces the movement's roots from the temperance and abolition movements through its success with the passage of the Nineteenth Amendment. The author describes the many tactics used to fight for the right to vote for women, as well as the many problems and setbacks faced by the women and men involved in the movement. This book is developed from THE FIGHT FOR WOMAN'S RIGHT TO VOTE IN AMERICAN HISTORY to allow republication of the original text into ebook, paperback, and trade editions. ","English",34.6,25.95,"324.6","96 pp.",{"$f":"Table1[[#This Row],[QTY]]*Table1[[#This Row],['# of Books]]","v":0},{"$f":"Table1[[#This Row],[QTY]]*Table1[[#This Row],[School & Library Price]]","v":0}]
[null,null,null,115,"Our Shared History","Our Shared History",6,"Library Set","978-0-7660-6699-1",2016,"August 2015","6.000 X 9.000",null,null,null,null,null,null,null,null,"Grade 7","Grade 6 - 12","The United States and Canada are composed of many cultures, each of which has had its own impact on the growth and development of these countries. This unique series explores several major events in North American history involving a particular ethnic or racial group, from the historical context to the event itself to the long-term effects on the people of that country.  \n\n\n\n-Each book covers one major cultural or racial event within its historical context  \n\n-Discusses modern-day effects of each event \n\n-Chapter notes deliver original sources to researchers\n\n","English",223.62,167.7,null,"128 pp.",{"$f":"Table1[[#This Row],[QTY]]*Table1[[#This Row],['# of Books]]","v":0},{"$f":"Table1[[#This Row],[QTY]]*Table1[[#This Row],[School & Library Price]]","v":0}]
[null,null,null,115,"Our Shared History","Puerto Rico: From Colony to Commonwealth",1,"Library Bound Book","978-0-7660-7004-2",2016,"August 2015","6.000 X 9.000","Author","Richard Worth",null,null,null,null,"Z",null,"Grade 7","Grade 6 - 12","After the Spanish-American War brought Puerto Rico under the control of the United States, the island transformed from an agricultural colony to a densely populated American commonwealth. Explore the island’s rich history, from the early clash between Spanish colonists and the Taino people to the vibrant, yet uncertain, future of this growing nation.","English",37.270000000000003,27.95,"972.95--d23","128 pp.",{"$f":"Table1[[#This Row],[QTY]]*Table1[[#This Row],['# of Books]]","v":0},{"$f":"Table1[[#This Row],[QTY]]*Table1[[#This Row],[School & Library Price]]","v":0}]
[null,null,null,115,"Our Shared History","Puerto Rico: From Colony to Commonwealth",1,"eBook","978-0-7660-7005-9",2016,"August 2015",null,"Author","Richard Worth",null,null,null,null,"Z",null,"Grade 7","Grade 6 - 12","After the Spanish-American War brought Puerto Rico under the control of the United States, the island transformed from an agricultural colony to a densely populated American commonwealth. Explore the island’s rich history, from the early clash between Spanish colonists and the Taino people to the vibrant, yet uncertain, future of this growing nation.","English",37.270000000000003,27.95,"972.95--d23","128 pp.",{"$f":"Table1[[#This Row],[QTY]]*Table1[[#This Row],['# of Books]]","v":0},{"$f":"Table1[[#This Row],[QTY]]*Table1[[#This Row],[School & Library Price]]","v":0}]
[null,null,null,115,"Our Shared History","The Fight for Latino Civil Rights",1,"Library Bound Book","978-0-7660-7006-6",2016,"August 2015","6.000 X 9.000","Author","Bárbara C. Cruz",null,null,null,null,"Z",null,"Grade 7","Grade 6 - 12","The fight for civil rights is stronger today than ever before, particularly for the largest minority population in the United States—Latinos. Learn about Latino history in the United States, from the missionary Father Junípero Serra to the activist César Chávez to Supreme Court Justice Sonia Sotomayor, and the continuing struggle for equality and justice.","English",37.270000000000003,27.95,"323.119468073--d23","128 pp.",{"$f":"Table1[[#This Row],[QTY]]*Table1[[#This Row],['# of Books]]","v":0},{"$f":"Table1[[#This Row],[QTY]]*Table1[[#This Row],[School & Library Price]]","v":0}]
[null,null,null,115,"Our Shared History","The Fight for Latino Civil Rights",1,"eBook","978-0-7660-7007-3",2016,"August 2015",null,"Author","Bárbara C. Cruz",null,null,null,null,"Z",null,"Grade 7","Grade 6 - 12","The fight for civil rights is stronger today than ever before, particularly for the largest minority population in the United States—Latinos. Learn about Latino history in the United States, from the missionary Father Junípero Serra to the activist César Chávez to Supreme Court Justice Sonia Sotomayor, and the continuing struggle for equality and justice.","English",37.270000000000003,27.95,"323.119468073--d23","128 pp.",{"$f":"Table1[[#This Row],[QTY]]*Table1[[#This Row],['# of Books]]","v":0},{"$f":"Table1[[#This Row],[QTY]]*Table1[[#This Row],[School & Library Price]]","v":0}]
[null,null,null,115,"Our Shared History","The Internment of Japanese Americans",1,"Library Bound Book","978-0-7660-7008-0",2016,"August 2015","6.000 X 9.000","Author, Author","Charlotte Taylor, Deborah Kent",null,null,null,null,"Z",null,"Grade 7","Grade 6 - 12","Before World War II, Japanese Americans worked hard to adapt to American life while creating tight-knit communities. But after Japan bombed Pearl Harbor, everything changed. The U.S. government sent 120,000 Americans of Japanese descent into internment camps. Learn the sad history of the camps, the reasons behind their creation, how the internees made the best of their deplorable situation, and how they finally received an official apology from the US government.","English",37.270000000000003,27.95,"940.53’1773--d23","128 pp.",{"$f":"Table1[[#This Row],[QTY]]*Table1[[#This Row],['# of Books]]","v":0},{"$f":"Table1[[#This Row],[QTY]]*Table1[[#This Row],[School & Library Price]]","v":0}]
[null,null,null,115,"Our Shared History","The Internment of Japanese Americans",1,"eBook","978-0-7660-7009-7",2016,"August 2015",null,"Author, Author","Charlotte Taylor, Deborah Kent",null,null,null,null,"Z",null,"Grade 7","Grade 6 - 12","Before World War II, Japanese Americans worked hard to adapt to American life while creating tight-knit communities. But after Japan bombed Pearl Harbor, everything changed. The U.S. government sent 120,000 Americans of Japanese descent into internment camps. Learn the sad history of the camps, the reasons behind their creation, how the internees made the best of their deplorable situation, and how they finally received an official apology from the US government.","English",37.270000000000003,27.95,"940.53’1773--d23","128 pp.",{"$f":"Table1[[#This Row],[QTY]]*Table1[[#This Row],['# of Books]]","v":0},{"$f":"Table1[[#This Row],[QTY]]*Table1[[#This Row],[School & Library Price]]","v":0}]
[null,null,null,115,"Our Shared History","The Little Rock Nine and School Desegregation",1,"Library Bound Book","978-0-7660-7010-3",2016,"August 2015","6.000 X 9.000","Author, Author","Charlotte Taylor, Mara Miller",null,null,null,null,"Z",null,"Grade 7","Grade 6 - 12","Nine African-American teenagers from Little Rock, Arkansas, changed history when they went to Little Rock Central High School in 1957. Why? Because the school had previously been segregated. Read about their amazing story, their courageous determination, and how they succeeded in helping to eliminate segregation from the American school system forever.","English",37.270000000000003,27.95,"379.2’630976773--d23","128 pp.",{"$f":"Table1[[#This Row],[QTY]]*Table1[[#This Row],['# of Books]]","v":0},{"$f":"Table1[[#This Row],[QTY]]*Table1[[#This Row],[School & Library Price]]","v":0}]
[null,null,null,115,"Our Shared History","The Relocation of Native Peoples of North America",1,"Library Bound Book","978-0-7660-7012-7",2016,"August 2015","6.000 X 9.000","Author, Author","Judith Edwards, Nicki Peter Petrikowski",null,null,null,null,"Z",null,"Grade 7","Grade 6 - 12","When the first European settlers arrived in what would become the United States and Canada, the lives of the native peoples of North America changed forever. As the two nations grew, native peoples were pushed off the land they called home and onto tightly controlled reservations. To better understand what life on the reservation is like today, learn about the dramatic transformation these native peoples were forced to undertake.","English",37.270000000000003,27.95,"323.1197--d23","128 pp.",{"$f":"Table1[[#This Row],[QTY]]*Table1[[#This Row],['# of Books]]","v":0},{"$f":"Table1[[#This Row],[QTY]]*Table1[[#This Row],[School & Library Price]]","v":0}]
[null,null,null,115,"Our Shared History","The Relocation of Native Peoples of North America",1,"eBook","978-0-7660-7013-4",2016,"August 2015",null,"Author, Author","Judith Edwards, Nicki Peter Petrikowski",null,null,null,null,"Z",null,"Grade 7","Grade 6 - 12","When the first European settlers arrived in what would become the United States and Canada, the lives of the native peoples of North America changed forever. As the two nations grew, native peoples were pushed off the land they called home and onto tightly controlled reservations. To better understand what life on the reservation is like today, learn about the dramatic transformation these native peoples were forced to undertake.","English",37.270000000000003,27.95,"323.1197--d23","128 pp.",{"$f":"Table1[[#This Row],[QTY]]*Table1[[#This Row],['# of Books]]","v":0},{"$f":"Table1[[#This Row],[QTY]]*Table1[[#This Row],[School & Library Price]]","v":0}]
[null,null,null,115,"Our Shared History","The Underground Railroad",1,"Library Bound Book","978-0-7660-7014-1",2016,"August 2015","6.000 X 9.000","Author, Author","R. Conrad Stein, Charlotte Taylor",null,null,null,null,"Z",null,"Grade 7","Grade 6 - 12","The Underground Railroad was a complex network of secret routes, safe houses, and courageous men and women—both black and white—who helped slaves escape to free states and to Canada.  “Conductors,” such as Harriet Tubman, risked recapture in the South guiding slaves to freedom. Explore the formation of this extremely effective anti-slavery escape network and the people who made it work.","English",37.270000000000003,27.95,"973.7’115--d23","128 pp.",{"$f":"Table1[[#This Row],[QTY]]*Table1[[#This Row],['# of Books]]","v":0},{"$f":"Table1[[#This Row],[QTY]]*Table1[[#This Row],[School & Library Price]]","v":0}]
[null,null,null,115,"Our Shared History","The Underground Railroad",1,"eBook","978-0-7660-7015-8",2016,"August 2015",null,"Author, Author","R. Conrad Stein, Charlotte Taylor",null,null,null,null,"Z",null,"Grade 7","Grade 6 - 12","The Underground Railroad was a complex network of secret routes, safe houses, and courageous men and women—both black and white—who helped slaves escape to free states and to Canada.  “Conductors,” such as Harriet Tubman, risked recapture in the South guiding slaves to freedom. Explore the formation of this extremely effective anti-slavery escape network and the people who made it work.","English",37.270000000000003,27.95,"973.7’115--d23","128 pp.",{"$f":"Table1[[#This Row],[QTY]]*Table1[[#This Row],['# of Books]]","v":0},{"$f":"Table1[[#This Row],[QTY]]*Table1[[#This Row],[School & Library Price]]","v":0}]
[null,null,null,115,"Slavery and Slave Resistance","Slavery and Slave Resistance",6,"Library Set","978-0-7660-7504-7",2017,"August 2016","6.000 X 9.000",null,null,null,null,null,null,null,null,"Grade 6","Grade 6 - 12","This series provides an overview of the most important aspects of American slavery, including the first transport of African slaves, the long fight for abolition, and the lasting impact of slavery on America’s economy, politics, and culture. Engaging black-and-white photos and full-color illustrations demonstrate the realities of slavery and those who fought against it.","English",223.62,167.7,null,"128 pp.",{"$f":"Table1[[#This Row],[QTY]]*Table1[[#This Row],['# of Books]]","v":0},{"$f":"Table1[[#This Row],[QTY]]*Table1[[#This Row],[School & Library Price]]","v":0}]
[null,null,null,115,"Slavery and Slave Resistance","Beyond Slavery: African Americans From Emancipation to Today",1,"Library Bound Book","978-0-7660-7547-4",2017,"August 2016","6.000 X 9.000","Author","Ann Byers",null,null,null,null,"Z",null,"Grade 6","Grade 6 - 12","Once slavery ended and emancipation was granted to slaves in the United States, African Americans did not suddenly find true independence and equality as they had dreamed. Instead many struggled to correct centuries-old attitudes that they were inferior to whites. Through excerpts from source documents, images, and riveting narrative, students will learn about the struggle and the rise of many in the black community to positions of power and importance in America.","English",37.270000000000003,27.95,"323.1196/0730904--dc23","128 pp.",{"$f":"Table1[[#This Row],[QTY]]*Table1[[#This Row],['# of Books]]","v":0},{"$f":"Table1[[#This Row],[QTY]]*Table1[[#This Row],[School & Library Price]]","v":0}]
[null,null,null,115,"Slavery and Slave Resistance","Beyond Slavery: African Americans From Emancipation to Today",1,"eBook","978-0-7660-7548-1",2017,"August 2016",null,"Author","Ann Byers",null,null,null,null,"Z",null,"Grade 6","Grade 6 - 12","Once slavery ended and emancipation was granted to slaves in the United States, African Americans did not suddenly find true independence and equality as they had dreamed. Instead many struggled to correct centuries-old attitudes that they were inferior to whites. Through excerpts from source documents, images, and riveting narrative, students will learn about the struggle and the rise of many in the black community to positions of power and importance in America.","English",37.270000000000003,27.95,"323.1196/0730904--dc23","128 pp.",{"$f":"Table1[[#This Row],[QTY]]*Table1[[#This Row],['# of Books]]","v":0},{"$f":"Table1[[#This Row],[QTY]]*Table1[[#This Row],[School & Library Price]]","v":0}]
[null,null,null,115,"Slavery and Slave Resistance","Collective Biographies of Slave Resistance Heroes",1,"Library Bound Book","978-0-7660-7555-9",2017,"August 2016","6.000 X 9.000","Author","Lisa A. Crayton",null,null,null,null,"Z",null,"Grade 6","Grade 6 - 12","This captivating and inspirational volume of biographies celebrates the lives of those who railed against slavery. Beginning with an overview of the institution, the narrative turns to biographical examinations of escaped slaves turned social activists, supporters of the Underground Railroad, political activists, journalists, and militant advocates. Readers will understand how the brave contributions of these individuals helped bring about the end of slavery in America.","English",37.270000000000003,27.95,"326/.80922--dc23","128 pp.",{"$f":"Table1[[#This Row],[QTY]]*Table1[[#This Row],['# of Books]]","v":0},{"$f":"Table1[[#This Row],[QTY]]*Table1[[#This Row],[School & Library Price]]","v":0}]
[null,null,null,115,"Slavery and Slave Resistance","Collective Biographies of Slave Resistance Heroes",1,"eBook","978-0-7660-7557-3",2017,"August 2016",null,"Author","Lisa A. Crayton",null,null,null,null,"Z",null,"Grade 6","Grade 6 - 12","This captivating and inspirational volume of biographies celebrates the lives of those who railed against slavery. Beginning with an overview of the institution, the narrative turns to biographical examinations of escaped slaves turned social activists, supporters of the Underground Railroad, political activists, journalists, and militant advocates. Readers will understand how the brave contributions of these individuals helped bring about the end of slavery in America.","English",37.270000000000003,27.95,"326/.80922--dc23","128 pp.",{"$f":"Table1[[#This Row],[QTY]]*Table1[[#This Row],['# of Books]]","v":0},{"$f":"Table1[[#This Row],[QTY]]*Table1[[#This Row],[School & Library Price]]","v":0}]
[null,null,null,115,"Slavery and Slave Resistance","Fighting for Freedom: Abolitionists and Slave Resistance",1,"Library Bound Book","978-0-7660-7545-0",2017,"August 2016","6.000 X 9.000","Author","Judith Edwards",null,null,null,null,"Z",null,"Grade 6","Grade 6 - 12","Slavery didn’t end without an organized and impassioned struggle. Through source documents, images, and engaging text, students will learn the story of those abolitionists and slave resisters who fought against a system they believed was inhumane and morally wrong.","English",37.270000000000003,27.95,"326/.80973--dc23","128 pp.",{"$f":"Table1[[#This Row],[QTY]]*Table1[[#This Row],['# of Books]]","v":0},{"$f":"Table1[[#This Row],[QTY]]*Table1[[#This Row],[School & Library Price]]","v":0}]
[null,null,null,115,"Slavery and Slave Resistance","Fighting for Freedom: Abolitionists and Slave Resistance",1,"eBook","978-0-7660-7546-7",2017,"August 2016",null,"Author","Judith Edwards",null,null,null,null,"Z",null,"Grade 6","Grade 6 - 12","Slavery didn’t end without an organized and impassioned struggle. Through source documents, images, and engaging text, students will learn the story of those abolitionists and slave resisters who fought against a system they believed was inhumane and morally wrong.","English",37.270000000000003,27.95,"326/.80973--dc23","128 pp.",{"$f":"Table1[[#This Row],[QTY]]*Table1[[#This Row],['# of Books]]","v":0},{"$f":"Table1[[#This Row],[QTY]]*Table1[[#This Row],[School & Library Price]]","v":0}]
[null,null,null,115,"Slavery and Slave Resistance","Life as a Slave",1,"Library Bound Book","978-0-7660-7549-8",2017,"August 2016","6.000 X 9.000","Author","Richard Worth",null,null,null,null,"Z",null,"Grade 6","Grade 6 - 12","This fascinating volume explores everyday life for slaves in America. Readers will learn about the various duties that slaves were responsible for conducting, their relationships with their masters, and the ways they found to cope with the humiliating and demoralizing lives they were captured into. Contextual information about how the practice of slavery began, how slaves contributed to the southern economy, and how the institution was finally destroyed rounds out this informative resource.","English",37.270000000000003,27.95,"306.3/620975--dc23","128 pp.",{"$f":"Table1[[#This Row],[QTY]]*Table1[[#This Row],['# of Books]]","v":0},{"$f":"Table1[[#This Row],[QTY]]*Table1[[#This Row],[School & Library Price]]","v":0}]
[null,null,null,115,"Slavery and Slave Resistance","Life as a Slave",1,"eBook","978-0-7660-7550-4",2017,"August 2016",null,"Author","Richard Worth",null,null,null,null,"Z",null,"Grade 6","Grade 6 - 12","This fascinating volume explores everyday life for slaves in America. Readers will learn about the various duties that slaves were responsible for conducting, their relationships with their masters, and the ways they found to cope with the humiliating and demoralizing lives they were captured into. Contextual information about how the practice of slavery began, how slaves contributed to the southern economy, and how the institution was finally destroyed rounds out this informative resource.","English",37.270000000000003,27.95,"306.3/620975--dc23","128 pp.",{"$f":"Table1[[#This Row],[QTY]]*Table1[[#This Row],['# of Books]]","v":0},{"$f":"Table1[[#This Row],[QTY]]*Table1[[#This Row],[School & Library Price]]","v":0}]
[null,null,null,115,"Slavery and Slave Resistance","Political Debates on Slavery",1,"Library Bound Book","978-0-7660-7551-1",2017,"August 2016","6.000 X 9.000","Author, Author","Suzanne Cloud-Tapper, Linda Jacobs",null,null,null,null,"Z",null,"Grade 6","Grade 6 - 12","As abolitionists fought to end slavery and influential southerners fought to keep it, the institution of slavery became a political issue. This valuable resource for student reports presents the impassioned debates made on the subject. Primary source document excerpts help further understanding.","English",37.270000000000003,27.95,"306.3/620973--dc23","128 pp.",{"$f":"Table1[[#This Row],[QTY]]*Table1[[#This Row],['# of Books]]","v":0},{"$f":"Table1[[#This Row],[QTY]]*Table1[[#This Row],[School & Library Price]]","v":0}]
[null,null,null,115,"Slavery and Slave Resistance","Political Debates on Slavery",1,"eBook","978-0-7660-7552-8",2017,"August 2016",null,"Author, Author","Suzanne Cloud-Tapper, Linda Jacobs",null,null,null,null,"Z",null,"Grade 6","Grade 6 - 12","As abolitionists fought to end slavery and influential southerners fought to keep it, the institution of slavery became a political issue. This valuable resource for student reports presents the impassioned debates made on the subject. Primary source document excerpts help further understanding.","English",37.270000000000003,27.95,"306.3/620973--dc23","128 pp.",{"$f":"Table1[[#This Row],[QTY]]*Table1[[#This Row],['# of Books]]","v":0},{"$f":"Table1[[#This Row],[QTY]]*Table1[[#This Row],[School & Library Price]]","v":0}]
[null,null,null,115,"Slavery and Slave Resistance","Views on Slavery: In the Words of Enslaved Africans, Merchants, Owners, and Abolitionists",1,"Library Bound Book","978-0-7660-7553-5",2017,"August 2016","6.000 X 9.000","Author","Suzanne Cloud-Tapper",null,null,null,null,"Z",null,"Grade 6","Grade 6 - 12","It is difficult for the modern student to truly understand how America could have supported slavery. This volume, containing primary source first-person accounts, allows readers to learn directly from the people of the time. Through their words—some hateful, others inspiring—students will develop a fuller understanding of this chapter in American history.","English",37.270000000000003,27.95,"306.3/620973--dc23","128 pp.",{"$f":"Table1[[#This Row],[QTY]]*Table1[[#This Row],['# of Books]]","v":0},{"$f":"Table1[[#This Row],[QTY]]*Table1[[#This Row],[School & Library Price]]","v":0}]
[null,null,null,115,"Slavery and Slave Resistance","Views on Slavery: In the Words of Enslaved Africans, Merchants, Owners, and Abolitionists",1,"eBook","978-0-7660-7554-2",2017,"August 2016",null,"Author","Suzanne Cloud-Tapper",null,null,null,null,"Z",null,"Grade 6","Grade 6 - 12","It is difficult for the modern student to truly understand how America could have supported slavery. This volume, containing primary source first-person accounts, allows readers to learn directly from the people of the time. Through their words—some hateful, others inspiring—students will develop a fuller understanding of this chapter in American history.","English",37.270000000000003,27.95,"306.3/620973--dc23","128 pp.",{"$f":"Table1[[#This Row],[QTY]]*Table1[[#This Row],['# of Books]]","v":0},{"$f":"Table1[[#This Row],[QTY]]*Table1[[#This Row],[School & Library Price]]","v":0}]
[null,null,null,116,"The United States at War","The United States at War",6,"Library Set","978-0-7660-7501-6",2017,"August 2016","6.500 X 9.250",null,null,null,null,null,null,null,null,"Grade 6","Grade 6 - 12","This series provides readers with a look at American wars, including the reasons behind the war, important battles and military leaders, what has happened as a result of the war, and the legacy these wars have today.","English",223.62,167.7,null,"128 pp.",{"$f":"Table1[[#This Row],[QTY]]*Table1[[#This Row],['# of Books]]","v":0},{"$f":"Table1[[#This Row],[QTY]]*Table1[[#This Row],[School & Library Price]]","v":0}]
[null,null,null,116,"The United States at War","The French and Indian War",1,"Library Bound Book","978-0-7660-7676-1",2017,"August 2016","6.500 X 9.250","Author","William R. Sanford",null,null,null,null,"Z",null,"Grade 6","Grade 6 - 12","A riveting full-page photo and a quotation from the period opens each chapter in this engaging analysis of the French and Indian War, which covers the arc of the conflict, from its genesis to its legacy.","English",37.270000000000003,27.95,"973.2/6--dc23","128 pp.",{"$f":"Table1[[#This Row],[QTY]]*Table1[[#This Row],['# of Books]]","v":0},{"$f":"Table1[[#This Row],[QTY]]*Table1[[#This Row],[School & Library Price]]","v":0}]
[null,null,null,116,"The United States at War","The French and Indian War",1,"eBook","978-0-7660-7679-2",2017,"August 2016",null,"Author","William R. Sanford",null,null,null,null,"Z",null,"Grade 6","Grade 6 - 12","A riveting full-page photo and a quotation from the period opens each chapter in this engaging analysis of the French and Indian War, which covers the arc of the conflict, from its genesis to its legacy.","English",37.270000000000003,27.95,"973.2/6--dc23","128 pp.",{"$f":"Table1[[#This Row],[QTY]]*Table1[[#This Row],['# of Books]]","v":0},{"$f":"Table1[[#This Row],[QTY]]*Table1[[#This Row],[School & Library Price]]","v":0}]
[null,null,null,116,"The United States at War","The Korean War",1,"Library Bound Book","978-0-7660-7659-4",2017,"August 2016","6.500 X 9.250","Author","Kevin Hall",null,null,null,null,"Z",null,"Grade 6","Grade 6 - 12","More than 36,000 Americans were killed in the Korean War, yet the three-year conflict went largely ignored by the American public as it took place. Through primary sources and personal accounts, informative sidebars, and riveting photos, this book provides readers with an in-depth look at this \"Forgotten War\" to help them understand the reasons behind it, the important battles and military leaders, what resulted from the war, and the legacy it has today.\n\n","English",37.270000000000003,27.95,"951.904/2--dc23","128 pp.",{"$f":"Table1[[#This Row],[QTY]]*Table1[[#This Row],['# of Books]]","v":0},{"$f":"Table1[[#This Row],[QTY]]*Table1[[#This Row],[School & Library Price]]","v":0}]
[null,null,null,116,"The United States at War","The Korean War",1,"eBook","978-0-7660-7660-0",2017,"August 2016",null,"Author","Kevin Hall",null,null,null,null,"Z",null,"Grade 6","Grade 6 - 12","More than 36,000 Americans were killed in the Korean War, yet the three-year conflict went largely ignored by the American public as it took place. Through primary sources and personal accounts, informative sidebars, and riveting photos, this book provides readers with an in-depth look at this \"Forgotten War\" to help them understand the reasons behind it, the important battles and military leaders, what resulted from the war, and the legacy it has today.\n\n","English",37.270000000000003,27.95,"951.904/2--dc23","128 pp.",{"$f":"Table1[[#This Row],[QTY]]*Table1[[#This Row],['# of Books]]","v":0},{"$f":"Table1[[#This Row],[QTY]]*Table1[[#This Row],[School & Library Price]]","v":0}]
[null,null,null,116,"The United States at War","The Mexican-American War",1,"Library Bound Book","978-0-7660-7662-4",2017,"August 2016","6.500 X 9.250","Author","Charles W. Carey, Jr.",null,null,null,null,"Z",null,"Grade 6","Grade 6 - 12","The Mexican War was a war of conquest led by the United States to take the lands north of the Rio Grande and Gila rivers from Mexico. Even today, the debate continues as to the morality of the US invasion although it paved the way for the United States to become a dominant world power. Engaging narrative enhanced by excerpts from primary sources and images will enthrall students as they learn about the circumstances that led to the war, the people who fought it, the deciding battles, the aftermath, and the lasting impact it has had on American pop culture and relations between Mexicans and Americans.","English",37.270000000000003,27.95,"973.6/2--dc23","128 pp.",{"$f":"Table1[[#This Row],[QTY]]*Table1[[#This Row],['# of Books]]","v":0},{"$f":"Table1[[#This Row],[QTY]]*Table1[[#This Row],[School & Library Price]]","v":0}]
[null,null,null,116,"The United States at War","The Mexican-American War",1,"eBook","978-0-7660-7663-1",2017,"August 2016",null,"Author","Charles W. Carey, Jr.",null,null,null,null,"Z",null,"Grade 6","Grade 6 - 12","The Mexican War was a war of conquest led by the United States to take the lands north of the Rio Grande and Gila rivers from Mexico. Even today, the debate continues as to the morality of the US invasion although it paved the way for the United States to become a dominant world power. Engaging narrative enhanced by excerpts from primary sources and images will enthrall students as they learn about the circumstances that led to the war, the people who fought it, the deciding battles, the aftermath, and the lasting impact it has had on American pop culture and relations between Mexicans and Americans.","English",37.270000000000003,27.95,"973.6/2--dc23","128 pp.",{"$f":"Table1[[#This Row],[QTY]]*Table1[[#This Row],['# of Books]]","v":0},{"$f":"Table1[[#This Row],[QTY]]*Table1[[#This Row],[School & Library Price]]","v":0}]
[null,null,null,116,"The United States at War","The Persian Gulf War and the War in Iraq",1,"Library Bound Book","978-0-7660-7680-8",2017,"August 2016","6.500 X 9.250","Author","Elizabeth Schmermund",null,null,null,null,"Z",null,"Grade 6","Grade 6 - 12","Hundreds of thousands of Iraqis and thousands of Americans were killed during the Persian Gulf War, which lasted from 1990 to 1991, and the Iraq War, which lasted from 2003 to 2011. Full of riveting primary sources and personal accounts and full-color photos from the front lines, this book will provide readers with an in-depth look at the complicated relationship between Iraq and the United States, the reasons behind these two wars, the decision-makers, the important battles, and the global impact these conflicts have had which continues to affect us even today.","English",37.270000000000003,27.95,"956.7044/3--dc23","128 pp.",{"$f":"Table1[[#This Row],[QTY]]*Table1[[#This Row],['# of Books]]","v":0},{"$f":"Table1[[#This Row],[QTY]]*Table1[[#This Row],[School & Library Price]]","v":0}]
[null,null,null,116,"The United States at War","The Persian Gulf War and the War in Iraq",1,"eBook","978-0-7660-7682-2",2017,"August 2016",null,"Author","Elizabeth Schmermund",null,null,null,null,"Z",null,"Grade 6","Grade 6 - 12","Hundreds of thousands of Iraqis and thousands of Americans were killed during the Persian Gulf War, which lasted from 1990 to 1991, and the Iraq War, which lasted from 2003 to 2011. Full of riveting primary sources and personal accounts and full-color photos from the front lines, this book will provide readers with an in-depth look at the complicated relationship between Iraq and the United States, the reasons behind these two wars, the decision-makers, the important battles, and the global impact these conflicts have had which continues to affect us even today.","English",37.270000000000003,27.95,"956.7044/3--dc23","128 pp.",{"$f":"Table1[[#This Row],[QTY]]*Table1[[#This Row],['# of Books]]","v":0},{"$f":"Table1[[#This Row],[QTY]]*Table1[[#This Row],[School & Library Price]]","v":0}]
[null,null,null,116,"The United States at War","The Spanish-American War",1,"Library Bound Book","978-0-7660-7665-5",2017,"August 2016","6.500 X 9.250","Author","Paula Johanson",null,null,null,null,"Z",null,"Grade 6","Grade 6 - 12","Before the Spanish-American War, the United States was a relatively isolated nation, but Cuba’s fight to gain independence from Spain garnered sympathy from America and the mysterious sinking of the US battleship Maine pushed the young nation toward war and into world affairs. Engaging narrative enhanced by excerpts from primary sources and images will enthrall students as they learn about the events that led to the war, the important battles and military leaders, the outcome, and the legacy it has today.","English",37.270000000000003,27.95,"973.8/9--dc23","128 pp.",{"$f":"Table1[[#This Row],[QTY]]*Table1[[#This Row],['# of Books]]","v":0},{"$f":"Table1[[#This Row],[QTY]]*Table1[[#This Row],[School & Library Price]]","v":0}]
[null,null,null,116,"The United States at War","The Spanish-American War",1,"eBook","978-0-7660-7667-9",2017,"August 2016",null,"Author","Paula Johanson",null,null,null,null,"Z",null,"Grade 6","Grade 6 - 12","Before the Spanish-American War, the United States was a relatively isolated nation, but Cuba’s fight to gain independence from Spain garnered sympathy from America and the mysterious sinking of the US battleship Maine pushed the young nation toward war and into world affairs. Engaging narrative enhanced by excerpts from primary sources and images will enthrall students as they learn about the events that led to the war, the important battles and military leaders, the outcome, and the legacy it has today.","English",37.270000000000003,27.95,"973.8/9--dc23","128 pp.",{"$f":"Table1[[#This Row],[QTY]]*Table1[[#This Row],['# of Books]]","v":0},{"$f":"Table1[[#This Row],[QTY]]*Table1[[#This Row],[School & Library Price]]","v":0}]
[null,null,null,116,"The United States at War","The War of 1812",1,"Library Bound Book","978-0-7660-7671-6",2017,"August 2016","6.500 X 9.250","Author","Karen Clemens Warrick",null,null,null,null,"Z",null,"Grade 6","Grade 6 - 12","Many readers may know that the events of the War of 1812 inspired Francis Scott Key to write a poem that later became the national anthem. However, they may not be familiar with the reasons behind the war, its outcomes, and its legacy. Enhanced by excerpts from primary sources and images, this book will discuss the circumstances that led to the war, the people who fought it, the deciding battles, the aftermath, and how it has shaped the nation we know today.","English",37.270000000000003,27.95,"973.5/2--dc23","128 pp.",{"$f":"Table1[[#This Row],[QTY]]*Table1[[#This Row],['# of Books]]","v":0},{"$f":"Table1[[#This Row],[QTY]]*Table1[[#This Row],[School & Library Price]]","v":0}]
[null,null,null,116,"The United States at War","The War of 1812",1,"eBook","978-0-7660-7673-0",2017,"August 2016",null,"Author","Karen Clemens Warrick",null,null,null,null,"Z",null,"Grade 6","Grade 6 - 12","Many readers may know that the events of the War of 1812 inspired Francis Scott Key to write a poem that later became the national anthem. However, they may not be familiar with the reasons behind the war, its outcomes, and its legacy. Enhanced by excerpts from primary sources and images, this book will discuss the circumstances that led to the war, the people who fought it, the deciding battles, the aftermath, and how it has shaped the nation we know today.","English",37.270000000000003,27.95,"973.5/2--dc23","128 pp.",{"$f":"Table1[[#This Row],[QTY]]*Table1[[#This Row],['# of Books]]","v":0},{"$f":"Table1[[#This Row],[QTY]]*Table1[[#This Row],[School & Library Price]]","v":0}]
[null,null,null,116,"Economics in the 21st Century","Economics in the 21st Century",6,"Library Set","978-0-7660-7423-1",2016,"January 2016","6.500 X 9.125",null,null,null,null,null,null,null,null,"Grade 8","Grade 7 - 12","What are taxes? How does the stock market work? Will there be another recession? To be financially responsible, one must learn the basic economic principles, concepts and processes. This series explains the fundamentals in an engaging style, with language that is easy to understand. Each book explains a concept, how it works, what its effects are, and how it applies to daily life. Prepare teens for life on their own by laying the foundation for smart fiscal decisions. \n\n• Explains key economic principles \n\n• Describes cause / effect of different economic decisions \n\n• Supports financial literacy initiatives","English",207.6,155.69999999999999,null,"96 pp.",{"$f":"Table1[[#This Row],[QTY]]*Table1[[#This Row],['# of Books]]","v":0},{"$f":"Table1[[#This Row],[QTY]]*Table1[[#This Row],[School & Library Price]]","v":0}]
[null,null,null,116,"Economics in the 21st Century","Economic Depression: What It Is and How It Works",1,"Library Bound Book","978-0-7660-7195-7",2016,"January 2016","6.500 X 9.125","Author, Author","Lisa A. Crayton, Jason Porterfield",null,null,null,null,"Z",null,"Grade 8","Grade 7 - 12","Economic depression is a term frequently heard in the news and an event read about in history class. But what exactly is it? Supporting financial literacy in school and in life, this text breaks down the complicated concept of economic depression into language readers can understand. They will learn how a depression starts, what causes it, how an economy can recover from it, if one is likely in the future, and how an economic depression can affect them directly.","English",34.6,25.95,"338.5'42--dc23","96 pp.",{"$f":"Table1[[#This Row],[QTY]]*Table1[[#This Row],['# of Books]]","v":0},{"$f":"Table1[[#This Row],[QTY]]*Table1[[#This Row],[School & Library Price]]","v":0}]
[null,null,null,116,"Economics in the 21st Century","Economic Depression: What It Is and How It Works",1,"eBook","978-0-7660-7196-4",2016,"January 2016",null,"Author, Author","Lisa A. Crayton, Jason Porterfield",null,null,null,null,"Z",null,"Grade 8","Grade 7 - 12","Economic depression is a term frequently heard in the news and an event read about in history class. But what exactly is it? Supporting financial literacy in school and in life, this text breaks down the complicated concept of economic depression into language readers can understand. They will learn how a depression starts, what causes it, how an economy can recover from it, if one is likely in the future, and how an economic depression can affect them directly.","English",34.6,25.95,"338.5'42--dc23","96 pp.",{"$f":"Table1[[#This Row],[QTY]]*Table1[[#This Row],['# of Books]]","v":0},{"$f":"Table1[[#This Row],[QTY]]*Table1[[#This Row],[School & Library Price]]","v":0}]
[null,null,null,116,"Economics in the 21st Century","Globalization: What It Is and How It Works",1,"Library Bound Book","978-0-7660-7244-2",2016,"January 2016","6.500 X 9.125","Author, Author","Lisa A. Crayton, Laura La Bella",null,null,null,null,"Z",null,"Grade 8","Grade 7 - 12","Using explanatory text, photos, and graphics, this book makes it easier for readers to understand the complicated and often controversial topic of globalization by discussing the different types of globalization, how and why it occurs, its effect on people, and what it means in the Internet Age.","English",34.6,25.95,"337--dc23","96 pp.",{"$f":"Table1[[#This Row],[QTY]]*Table1[[#This Row],['# of Books]]","v":0},{"$f":"Table1[[#This Row],[QTY]]*Table1[[#This Row],[School & Library Price]]","v":0}]
[null,null,null,116,"Economics in the 21st Century","Globalization: What It Is and How It Works",1,"eBook","978-0-7660-7245-9",2016,"January 2016",null,"Author, Author","Lisa A. Crayton, Laura La Bella",null,null,null,null,"Z",null,"Grade 8","Grade 7 - 12","Using explanatory text, photos, and graphics, this book makes it easier for readers to understand the complicated and often controversial topic of globalization by discussing the different types of globalization, how and why it occurs, its effect on people, and what it means in the Internet Age.","English",34.6,25.95,"337--dc23","96 pp.",{"$f":"Table1[[#This Row],[QTY]]*Table1[[#This Row],['# of Books]]","v":0},{"$f":"Table1[[#This Row],[QTY]]*Table1[[#This Row],[School & Library Price]]","v":0}]
[null,null,null,116,"Economics in the 21st Century","Inflation: What It Is and How It Works",1,"Library Bound Book","978-0-7660-7248-0",2016,"January 2016","6.500 X 9.125","Author, Author","Lisa A. Crayton, Joyce Hart",null,null,null,null,"Z",null,"Grade 8","Grade 7 - 12","This engaging text breaks down the complicated concept of inflation for readers and explains what inflation is, what causes it, its effects on the rest of the economy, and its impact on everyday life.","English",34.6,25.95,"332.4'1--dc23","96 pp.",{"$f":"Table1[[#This Row],[QTY]]*Table1[[#This Row],['# of Books]]","v":0},{"$f":"Table1[[#This Row],[QTY]]*Table1[[#This Row],[School & Library Price]]","v":0}]
[null,null,null,116,"Economics in the 21st Century","Inflation: What It Is and How It Works",1,"eBook","978-0-7660-7249-7",2016,"January 2016",null,"Author, Author","Lisa A. Crayton, Joyce Hart",null,null,null,null,"Z",null,"Grade 8","Grade 7 - 12","This engaging text breaks down the complicated concept of inflation for readers and explains what inflation is, what causes it, its effects on the rest of the economy, and its impact on everyday life.","English",34.6,25.95,"332.4'1--dc23","96 pp.",{"$f":"Table1[[#This Row],[QTY]]*Table1[[#This Row],['# of Books]]","v":0},{"$f":"Table1[[#This Row],[QTY]]*Table1[[#This Row],[School & Library Price]]","v":0}]
[null,null,null,116,"Economics in the 21st Century","Recession: What It Is and How It Works",1,"Library Bound Book","978-0-7660-7356-2",2016,"January 2016","6.500 X 9.125","Author, Author","Lisa A. Crayton, Jeanne Nagle",null,null,null,null,"Z",null,"Grade 8","Grade 7 - 12","Through engaging, easily understood language, readers will learn about the specifics of an economic recession, including the difference between a recession and a depression, what can be done about a recession, how it affects everyday life, and how it will impact their future. This text supports financial literacy and informs teens how to be fiscally responsible in life.","English",34.6,25.95,"338.5'42--dc23","96 pp.",{"$f":"Table1[[#This Row],[QTY]]*Table1[[#This Row],['# of Books]]","v":0},{"$f":"Table1[[#This Row],[QTY]]*Table1[[#This Row],[School & Library Price]]","v":0}]
[null,null,null,116,"Economics in the 21st Century","Recession: What It Is and How It Works",1,"eBook","978-0-7660-7357-9",2016,"January 2016",null,"Author, Author","Lisa A. Crayton, Jeanne Nagle",null,null,null,null,"Z",null,"Grade 8","Grade 7 - 12","Through engaging, easily understood language, readers will learn about the specifics of an economic recession, including the difference between a recession and a depression, what can be done about a recession, how it affects everyday life, and how it will impact their future. This text supports financial literacy and informs teens how to be fiscally responsible in life.","English",34.6,25.95,"338.5'42--dc23","96 pp.",{"$f":"Table1[[#This Row],[QTY]]*Table1[[#This Row],['# of Books]]","v":0},{"$f":"Table1[[#This Row],[QTY]]*Table1[[#This Row],[School & Library Price]]","v":0}]
[null,null,null,116,"Economics in the 21st Century","Taxes: What They Are and How They Work",1,"Library Bound Book","978-0-7660-7376-0",2016,"January 2016","6.500 X 9.125","Author, Author","Lisa A. Crayton, Laura La Bella",null,null,null,null,"Z",null,"Grade 8","Grade 7 - 12","Annually inundated with commercials, news segments, and online articles during tax season, students might be wondering about the intricacies of the American tax system. Designed to prepare readers for the working world, this book will inform them about taxes, including the different types of taxes, why they are needed, their history, where the tax money goes, and how the digital revolution has affected taxes.","English",34.6,25.95,"336.200973--dc23","96 pp.",{"$f":"Table1[[#This Row],[QTY]]*Table1[[#This Row],['# of Books]]","v":0},{"$f":"Table1[[#This Row],[QTY]]*Table1[[#This Row],[School & Library Price]]","v":0}]
[null,null,null,116,"Economics in the 21st Century","Taxes: What They Are and How They Work",1,"eBook","978-0-7660-7377-7",2016,"January 2016",null,"Author, Author","Lisa A. Crayton, Laura La Bella",null,null,null,null,"Z",null,"Grade 8","Grade 7 - 12","Annually inundated with commercials, news segments, and online articles during tax season, students might be wondering about the intricacies of the American tax system. Designed to prepare readers for the working world, this book will inform them about taxes, including the different types of taxes, why they are needed, their history, where the tax money goes, and how the digital revolution has affected taxes.","English",34.6,25.95,"336.200973--dc23","96 pp.",{"$f":"Table1[[#This Row],[QTY]]*Table1[[#This Row],['# of Books]]","v":0},{"$f":"Table1[[#This Row],[QTY]]*Table1[[#This Row],[School & Library Price]]","v":0}]
[null,null,null,116,"Economics in the 21st Century","The Stock Market: What It Is and How It Works",1,"Library Bound Book","978-0-7660-7384-5",2016,"January 2016","6.500 X 9.125","Author, Author","Lisa A. Crayton, Kathy Furgang",null,null,null,null,"Z",null,"Grade 8","Grade 7 - 12","Engaging text breaks down the complicated subject of the stock market and explains what it is, its history, what really happens on Wall Street, and how it can affect readers personally. Students will gain valuable fiscal knowledge that will serve them well in school and in life.","English",34.6,25.95,"332.64'2--dc23","96 pp.",{"$f":"Table1[[#This Row],[QTY]]*Table1[[#This Row],['# of Books]]","v":0},{"$f":"Table1[[#This Row],[QTY]]*Table1[[#This Row],[School & Library Price]]","v":0}]
[null,null,null,116,"Economics in the 21st Century","The Stock Market: What It Is and How It Works",1,"eBook","978-0-7660-7385-2",2016,"January 2016",null,"Author, Author","Lisa A. Crayton, Kathy Furgang",null,null,null,null,"Z",null,"Grade 8","Grade 7 - 12","Engaging text breaks down the complicated subject of the stock market and explains what it is, its history, what really happens on Wall Street, and how it can affect readers personally. Students will gain valuable fiscal knowledge that will serve them well in school and in life.","English",34.6,25.95,"332.64'2--dc23","96 pp.",{"$f":"Table1[[#This Row],[QTY]]*Table1[[#This Row],['# of Books]]","v":0},{"$f":"Table1[[#This Row],[QTY]]*Table1[[#This Row],[School & Library Price]]","v":0}]
[null,null,null,117,"Primary Sources of American Political Documents","Primary Sources of American Political Documents",6,"Library Set","978-0-7660-6686-1",2016,"August 2015","6.000 X 9.000",null,null,null,null,null,null,null,null,"Grade 7","Grade 7 - 12","This series examines six of the most crucial political documents that helped to shape the American political landscape. Each book includes an in-depth look at the events and people who created the political context within which the document was produced. Readers are then guided through the major points of the document itself, and the effects that document produced.\n\n\n\n-Detailed historical context \n\n-Helps readers identify and summarize central ideas of primary source material\n\n-Appendix containing the full text of the source document\n\n-Chapter notes provide readers with original research sources\n\n","English",223.62,167.7,null,"112-160 pp.",{"$f":"Table1[[#This Row],[QTY]]*Table1[[#This Row],['# of Books]]","v":0},{"$f":"Table1[[#This Row],[QTY]]*Table1[[#This Row],[School & Library Price]]","v":0}]
[null,null,null,117,"Primary Sources of American Political Documents","Understanding the  Iroquois Constitution",1,"Library Bound Book","978-0-7660-6878-0",2016,"August 2015","6.000 X 9.000","Author, Author","James Wolfe, Heather Moehn",null,null,null,null,"Z",null,"Grade 7","Grade 7 - 12","The Iroquois Constitution was created in the late sixteenth century to bring peace and unity to five—and later, six—warring Iroquois nations. But how was this understanding reached? What were its specific conditions? And did it affect later political documents in the United States? Read about the legacy of the Iroquois Constitution and how its influence can still be felt today.","English",37.270000000000003,27.95,"974.7004’9755—dc23","160 pp.",{"$f":"Table1[[#This Row],[QTY]]*Table1[[#This Row],['# of Books]]","v":0},{"$f":"Table1[[#This Row],[QTY]]*Table1[[#This Row],[School & Library Price]]","v":0}]
[null,null,null,117,"Primary Sources of American Political Documents","Understanding the  Iroquois Constitution",1,"eBook","978-0-7660-6879-7",2016,"August 2015",null,"Author, Author","James Wolfe, Heather Moehn",null,null,null,null,"Z",null,"Grade 7","Grade 7 - 12","The Iroquois Constitution was created in the late sixteenth century to bring peace and unity to five—and later, six—warring Iroquois nations. But how was this understanding reached? What were its specific conditions? And did it affect later political documents in the United States? Read about the legacy of the Iroquois Constitution and how its influence can still be felt today.","English",37.270000000000003,27.95,"974.7004’9755—dc23","160 pp.",{"$f":"Table1[[#This Row],[QTY]]*Table1[[#This Row],['# of Books]]","v":0},{"$f":"Table1[[#This Row],[QTY]]*Table1[[#This Row],[School & Library Price]]","v":0}]
[null,null,null,117,"Primary Sources of American Political Documents","Understanding the Articles of Confederation",1,"Library Bound Book","978-0-7660-6866-7",2016,"August 2015","6.000 X 9.000","Author, Author","James Wolfe, Kerry P. Callahan",null,null,null,null,"Z",null,"Grade 7","Grade 7 - 12","“The title of this confederacy shall be the United States . . . .” Thus began the first constitution of the United States of America. Although replaced by the current US Constitution in 1788, the Articles of Confederation defined the US government and established policies that are still in place today. Featuring a unique combination of context and primary source text, this book provides a thorough understanding of this essential document.","English",37.270000000000003,27.95,"342.7302’9—dc23","128 pp.",{"$f":"Table1[[#This Row],[QTY]]*Table1[[#This Row],['# of Books]]","v":0},{"$f":"Table1[[#This Row],[QTY]]*Table1[[#This Row],[School & Library Price]]","v":0}]
[null,null,null,117,"Primary Sources of American Political Documents","Understanding the Articles of Confederation",1,"eBook","978-0-7660-6867-4",2016,"August 2015",null,"Author, Author","James Wolfe, Kerry P. Callahan",null,null,null,null,"Z",null,"Grade 7","Grade 7 - 12","“The title of this confederacy shall be the United States . . . .” Thus began the first constitution of the United States of America. Although replaced by the current US Constitution in 1788, the Articles of Confederation defined the US government and established policies that are still in place today. Featuring a unique combination of context and primary source text, this book provides a thorough understanding of this essential document.","English",37.270000000000003,27.95,"342.7302’9—dc23","128 pp.",{"$f":"Table1[[#This Row],[QTY]]*Table1[[#This Row],['# of Books]]","v":0},{"$f":"Table1[[#This Row],[QTY]]*Table1[[#This Row],[School & Library Price]]","v":0}]
[null,null,null,117,"Primary Sources of American Political Documents","Understanding the Bill of Rights",1,"Library Bound Book","978-0-7660-6882-7",2016,"August 2015","6.000 X 9.000","Author, Author","James Wolfe, Nancy L. Stair",null,null,null,null,"Z",null,"Grade 7","Grade 7 - 12","Secret societies. Spy networks. Rebellion. Revolution. All of these were precursors to one of the most influential political documents in history. The Bill of Rights consists of the first ten amendments of the United States Constitution, outlining the basic human rights awarded to every American citizen from birth. Read about the origins of the Bill of Rights, its creation, and the influence it still holds.","English",37.270000000000003,27.95,"342.7308’5—dc23","112 pp.",{"$f":"Table1[[#This Row],[QTY]]*Table1[[#This Row],['# of Books]]","v":0},{"$f":"Table1[[#This Row],[QTY]]*Table1[[#This Row],[School & Library Price]]","v":0}]
[null,null,null,117,"Primary Sources of American Political Documents","Understanding the Bill of Rights",1,"eBook","978-0-7660-6883-4",2016,"August 2015",null,"Author, Author","James Wolfe, Nancy L. Stair",null,null,null,null,"Z",null,"Grade 7","Grade 7 - 12","Secret societies. Spy networks. Rebellion. Revolution. All of these were precursors to one of the most influential political documents in history. The Bill of Rights consists of the first ten amendments of the United States Constitution, outlining the basic human rights awarded to every American citizen from birth. Read about the origins of the Bill of Rights, its creation, and the influence it still holds.","English",37.270000000000003,27.95,"342.7308’5—dc23","112 pp.",{"$f":"Table1[[#This Row],[QTY]]*Table1[[#This Row],['# of Books]]","v":0},{"$f":"Table1[[#This Row],[QTY]]*Table1[[#This Row],[School & Library Price]]","v":0}]
[null,null,null,117,"Primary Sources of American Political Documents","Understanding the Charter of the Massachusetts Bay Colony",1,"Library Bound Book","978-0-7660-6870-4",2016,"August 2015","6.000 X 9.000","Author, Author","James Wolfe, Barbara Moe",null,null,null,null,"Z",null,"Grade 7","Grade 7 - 12","Early American colonists were optimistic adventurers who helped build a new settlement. But they also experimented with creating a new society. The Charter of the Massachusetts Bay Colony was the first political document written in the United States, a first attempt at self-government. Discover who wrote this document and why, and how it influenced the creation of the United States government.","English",37.270000000000003,27.95,"974.4’02—dc23","112 pp.",{"$f":"Table1[[#This Row],[QTY]]*Table1[[#This Row],['# of Books]]","v":0},{"$f":"Table1[[#This Row],[QTY]]*Table1[[#This Row],[School & Library Price]]","v":0}]
[null,null,null,117,"Primary Sources of American Political Documents","Understanding the Charter of the Massachusetts Bay Colony",1,"eBook","978-0-7660-6871-1",2016,"August 2015",null,"Author, Author","James Wolfe, Barbara Moe",null,null,null,null,"Z",null,"Grade 7","Grade 7 - 12","Early American colonists were optimistic adventurers who helped build a new settlement. But they also experimented with creating a new society. The Charter of the Massachusetts Bay Colony was the first political document written in the United States, a first attempt at self-government. Discover who wrote this document and why, and how it influenced the creation of the United States government.","English",37.270000000000003,27.95,"974.4’02—dc23","112 pp.",{"$f":"Table1[[#This Row],[QTY]]*Table1[[#This Row],['# of Books]]","v":0},{"$f":"Table1[[#This Row],[QTY]]*Table1[[#This Row],[School & Library Price]]","v":0}]
[null,null,null,117,"Primary Sources of American Political Documents","Understanding the Declaration of Independence",1,"Library Bound Book","978-0-7660-6874-2",2016,"August 2015","6.000 X 9.000","Author, Author","James Wolfe, Jennifer Viegas",null,null,null,null,"Z",null,"Grade 7","Grade 7 - 12","The Declaration of Independence became the cornerstone document of our democratic nation. But why was it written? What influenced its author, Thomas Jefferson, and what made it so revolutionary? Discover how this document shaped the foundation of a nation, and how it continues to influence American government today.","English",37.270000000000003,27.95,"973.3’13—dc23","112 pp.",{"$f":"Table1[[#This Row],[QTY]]*Table1[[#This Row],['# of Books]]","v":0},{"$f":"Table1[[#This Row],[QTY]]*Table1[[#This Row],[School & Library Price]]","v":0}]
[null,null,null,117,"Primary Sources of American Political Documents","Understanding the Declaration of Independence",1,"eBook","978-0-7660-6875-9",2016,"August 2015",null,"Author, Author","James Wolfe, Jennifer Viegas",null,null,null,null,"Z",null,"Grade 7","Grade 7 - 12","The Declaration of Independence became the cornerstone document of our democratic nation. But why was it written? What influenced its author, Thomas Jefferson, and what made it so revolutionary? Discover how this document shaped the foundation of a nation, and how it continues to influence American government today.","English",37.270000000000003,27.95,"973.3’13—dc23","112 pp.",{"$f":"Table1[[#This Row],[QTY]]*Table1[[#This Row],['# of Books]]","v":0},{"$f":"Table1[[#This Row],[QTY]]*Table1[[#This Row],[School & Library Price]]","v":0}]
[null,null,null,117,"Primary Sources of American Political Documents","Understanding the US Constitution",1,"Library Bound Book","978-0-7660-6862-9",2016,"August 2015","6.000 X 9.000","Author, Author","James Wolfe, Lesli J. Favor Ph.D.",null,null,null,null,"Z",null,"Grade 7","Grade 7 - 12","The United States Constitution is our country’s founding document, providing the framework for our government and judicial system. Explore the goals, intentions, and debates of the framers of the constitution to understand how and why our nation continues to live by and interpret its principles today.","English",37.270000000000003,27.95,"342.7302’9—dc23","144 pp.",{"$f":"Table1[[#This Row],[QTY]]*Table1[[#This Row],['# of Books]]","v":0},{"$f":"Table1[[#This Row],[QTY]]*Table1[[#This Row],[School & Library Price]]","v":0}]
[null,null,null,117,"Primary Sources of American Political Documents","Understanding the US Constitution",1,"eBook","978-0-7660-6863-6",2016,"August 2015",null,"Author, Author","James Wolfe, Lesli J. Favor Ph.D.",null,null,null,null,"Z",null,"Grade 7","Grade 7 - 12","The United States Constitution is our country’s founding document, providing the framework for our government and judicial system. Explore the goals, intentions, and debates of the framers of the constitution to understand how and why our nation continues to live by and interpret its principles today.","English",37.270000000000003,27.95,"342.7302’9—dc23","144 pp.",{"$f":"Table1[[#This Row],[QTY]]*Table1[[#This Row],['# of Books]]","v":0},{"$f":"Table1[[#This Row],[QTY]]*Table1[[#This Row],[School & Library Price]]","v":0}]
[null,null,null,118,"Decades of the 20th and 21st Centuries","Decades of the 20th and 21st Centuries",11,"Library Set","978-0-7660-6693-9",2016,"August 2015","6.500 X 9.125",null,null,null,null,null,null,null,null,"Grade 7","Grade 7 - 12","With an emphasis on American history and culture in connection to world events, this comprehensive series introduces readers to the most important technological, scientific, political, social, and economic events of the 20th and 21st centuries. Each book also looks at the arts, entertainment, sports, lifestyles, fashions, and fads popular in a given decade. \n\n\n\n-Timelines and sidebars add depth and interest \n\n-Integrates visual information with expositional text\n\n-Topics grouped by theme to help readers understand the influence of one event on the next\n\n","English",380.6,285.45,null,"96 pp.",{"$f":"Table1[[#This Row],[QTY]]*Table1[[#This Row],['# of Books]]","v":0},{"$f":"Table1[[#This Row],[QTY]]*Table1[[#This Row],[School & Library Price]]","v":0}]
[null,null,null,118,"Decades of the 20th and 21st Centuries","The 1900s",1,"Library Bound Book","978-0-7660-6920-6",2016,"August 2015","6.500 X 9.125","Author","Stephen Feinstein",null,null,null,null,"Z",null,"Grade 7","Grade 7 - 12","For the first time ever, human beings were in control of their environment. Airplanes, trains, and the first diesel engines let people go faster and farther than ever before. The birth of modern art and sound recording promised new cultural heights, while the invention of jazz music and the popularization of low-cost photography managed to bring societies closer together. This decade, from its arts and fashion to its politics and technological advancements, would help shape a culture and set the stage for the century ahead.","English",34.6,25.95,"973.8--dc23","96 pp.",{"$f":"Table1[[#This Row],[QTY]]*Table1[[#This Row],['# of Books]]","v":0},{"$f":"Table1[[#This Row],[QTY]]*Table1[[#This Row],[School & Library Price]]","v":0}]
[null,null,null,118,"Decades of the 20th and 21st Centuries","The 1900s",1,"eBook","978-0-7660-6921-3",2016,"August 2015",null,"Author","Stephen Feinstein",null,null,null,null,"Z",null,"Grade 7","Grade 7 - 12","For the first time ever, human beings were in control of their environment. Airplanes, trains, and the first diesel engines let people go faster and farther than ever before. The birth of modern art and sound recording promised new cultural heights, while the invention of jazz music and the popularization of low-cost photography managed to bring societies closer together. This decade, from its arts and fashion to its politics and technological advancements, would help shape a culture and set the stage for the century ahead.","English",34.6,25.95,"973.8--dc23","96 pp.",{"$f":"Table1[[#This Row],[QTY]]*Table1[[#This Row],['# of Books]]","v":0},{"$f":"Table1[[#This Row],[QTY]]*Table1[[#This Row],[School & Library Price]]","v":0}]
[null,null,null,118,"Decades of the 20th and 21st Centuries","The 1910s",1,"Library Bound Book","978-0-7660-6922-0",2016,"August 2015","6.500 X 9.125","Author","Stephen Feinstein",null,null,null,null,"Z",null,"Grade 7","Grade 7 - 12","From the invention of the motorcar and the widespread use of the radio to Albert Einstein's theory of relativity and Charlie Chaplin's entertaining silent films, the 1910s held more promise than any decade before it. But the sinking of the Titanic, the eruption of World War I, race riots, and the deadly Spanish flu pandemic proved there were growing pains to be experienced. Explore the people and events of one of the most unique periods in history.","English",34.6,25.95,"973.91'2--dc23","96 pp.",{"$f":"Table1[[#This Row],[QTY]]*Table1[[#This Row],['# of Books]]","v":0},{"$f":"Table1[[#This Row],[QTY]]*Table1[[#This Row],[School & Library Price]]","v":0}]
[null,null,null,118,"Decades of the 20th and 21st Centuries","The 1910s",1,"eBook","978-0-7660-6923-7",2016,"August 2015",null,"Author","Stephen Feinstein",null,null,null,null,"Z",null,"Grade 7","Grade 7 - 12","From the invention of the motorcar and the widespread use of the radio to Albert Einstein's theory of relativity and Charlie Chaplin's entertaining silent films, the 1910s held more promise than any decade before it. But the sinking of the Titanic, the eruption of World War I, race riots, and the deadly Spanish flu pandemic proved there were growing pains to be experienced. Explore the people and events of one of the most unique periods in history.","English",34.6,25.95,"973.91'2--dc23","96 pp.",{"$f":"Table1[[#This Row],[QTY]]*Table1[[#This Row],['# of Books]]","v":0},{"$f":"Table1[[#This Row],[QTY]]*Table1[[#This Row],[School & Library Price]]","v":0}]
[null,null,null,118,"Decades of the 20th and 21st Centuries","The 1920s",1,"Library Bound Book","978-0-7660-6924-4",2016,"August 2015","6.500 X 9.125","Author","Stephen Feinstein",null,null,null,null,"Z",null,"Grade 7","Grade 7 - 12","Suffragettes won women the right to vote in the United States. Babe Ruth was the biggest name in sports. The \"Lost Generation\" created music and literature that would speak to everyone. Prohibition created gangsters and mob bosses. And silent films gave way to talking ones. The 1920s was a decade full of idealization, prosperity, and creativity, leading a generation of Americans out of war and into a golden age.","English",34.6,25.95,"973.91'4--dc23","96 pp.",{"$f":"Table1[[#This Row],[QTY]]*Table1[[#This Row],['# of Books]]","v":0},{"$f":"Table1[[#This Row],[QTY]]*Table1[[#This Row],[School & Library Price]]","v":0}]
[null,null,null,118,"Decades of the 20th and 21st Centuries","The 1920s",1,"eBook","978-0-7660-6925-1",2016,"August 2015",null,"Author","Stephen Feinstein",null,null,null,null,"Z",null,"Grade 7","Grade 7 - 12","Suffragettes won women the right to vote in the United States. Babe Ruth was the biggest name in sports. The \"Lost Generation\" created music and literature that would speak to everyone. Prohibition created gangsters and mob bosses. And silent films gave way to talking ones. The 1920s was a decade full of idealization, prosperity, and creativity, leading a generation of Americans out of war and into a golden age.","English",34.6,25.95,"973.91'4--dc23","96 pp.",{"$f":"Table1[[#This Row],[QTY]]*Table1[[#This Row],['# of Books]]","v":0},{"$f":"Table1[[#This Row],[QTY]]*Table1[[#This Row],[School & Library Price]]","v":0}]
[null,null,null,118,"Decades of the 20th and 21st Centuries","The 1930s",1,"Library Bound Book","978-0-7660-6926-8",2016,"August 2015","6.500 X 9.125","Author","Stephen Feinstein",null,null,null,null,"Z",null,"Grade 7","Grade 7 - 12","Dust storms ravaged the Great Plains, and the economy crashed, leaving thousands unemployed, homeless, and hungry. Nazism began its rise to power in Germany, and a hurricane devastated New England. The 1930s were a time of enormous devastation, but also of great progress. Franklin D. Roosevelt promised a New Deal for America. Amelia Earhart attempted to become the first woman to fly around the world. Walt Disney began a media empire that would change entertainment forever. The 1930s would shape America and the world, with each new policy and invention creating the backdrop for a new world power.","English",34.6,25.95,"973.91'6--dc23","96 pp.",{"$f":"Table1[[#This Row],[QTY]]*Table1[[#This Row],['# of Books]]","v":0},{"$f":"Table1[[#This Row],[QTY]]*Table1[[#This Row],[School & Library Price]]","v":0}]
[null,null,null,118,"Decades of the 20th and 21st Centuries","The 1930s",1,"eBook","978-0-7660-6927-5",2016,"August 2015",null,"Author","Stephen Feinstein",null,null,null,null,"Z",null,"Grade 7","Grade 7 - 12","Dust storms ravaged the Great Plains, and the economy crashed, leaving thousands unemployed, homeless, and hungry. Nazism began its rise to power in Germany, and a hurricane devastated New England. The 1930s were a time of enormous devastation, but also of great progress. Franklin D. Roosevelt promised a New Deal for America. Amelia Earhart attempted to become the first woman to fly around the world. Walt Disney began a media empire that would change entertainment forever. The 1930s would shape America and the world, with each new policy and invention creating the backdrop for a new world power.","English",34.6,25.95,"973.91'6--dc23","96 pp.",{"$f":"Table1[[#This Row],[QTY]]*Table1[[#This Row],['# of Books]]","v":0},{"$f":"Table1[[#This Row],[QTY]]*Table1[[#This Row],[School & Library Price]]","v":0}]
[null,null,null,118,"Decades of the 20th and 21st Centuries","The 1940s",1,"Library Bound Book","978-0-7660-6928-2",2016,"August 2015","6.500 X 9.125","Author","Stephen Feinstein",null,null,null,null,"Z",null,"Grade 7","Grade 7 - 12","A decade of invention, adaptation, and creation, the 1940s were also a time of world conflict. From big band music, bobbysoxers, and Frank Sinatra to World War II, Rosie the Riveter, and the atomic bomb, readers will trace the changing attitudes of Americans through the decade. See how World War II helped end the poverty and despair of the Great Depression, ushering in a new time of prosperity in which Americans felt comfortable pursuing dreams of home ownership and family.","English",34.6,25.95,"973.918--dc23","96 pp.",{"$f":"Table1[[#This Row],[QTY]]*Table1[[#This Row],['# of Books]]","v":0},{"$f":"Table1[[#This Row],[QTY]]*Table1[[#This Row],[School & Library Price]]","v":0}]
[null,null,null,118,"Decades of the 20th and 21st Centuries","The 1940s",1,"eBook","978-0-7660-6929-9",2016,"August 2015",null,"Author","Stephen Feinstein",null,null,null,null,"Z",null,"Grade 7","Grade 7 - 12","A decade of invention, adaptation, and creation, the 1940s were also a time of world conflict. From big band music, bobbysoxers, and Frank Sinatra to World War II, Rosie the Riveter, and the atomic bomb, readers will trace the changing attitudes of Americans through the decade. See how World War II helped end the poverty and despair of the Great Depression, ushering in a new time of prosperity in which Americans felt comfortable pursuing dreams of home ownership and family.","English",34.6,25.95,"973.918--dc23","96 pp.",{"$f":"Table1[[#This Row],[QTY]]*Table1[[#This Row],['# of Books]]","v":0},{"$f":"Table1[[#This Row],[QTY]]*Table1[[#This Row],[School & Library Price]]","v":0}]
[null,null,null,118,"Decades of the 20th and 21st Centuries","The 1950s",1,"Library Bound Book","978-0-7660-6930-5",2016,"August 2015","6.500 X 9.125","Author","Stephen Feinstein",null,null,null,null,"Z",null,"Grade 7","Grade 7 - 12","During the 1950s, the United States became a world leader in business, technology, and health care. The invention of the polio vaccine and the establishment of NASA set the stage for scientific advancement. Rosa Parks refused to give up her bus seat, spurring the civil rights movement. However, US troops fought to a deadlock in Korea, the Soviet Union took an early lead in the Space Race, and Americans worried about the presence of Soviet spies. Social mores were being tested by new thinking, new music, and new idols. The 1950s would prove to be a decade that would reimagine pop culture, the new normal, and the American Dream.","English",34.6,25.95,"973.918--dc23","96 pp.",{"$f":"Table1[[#This Row],[QTY]]*Table1[[#This Row],['# of Books]]","v":0},{"$f":"Table1[[#This Row],[QTY]]*Table1[[#This Row],[School & Library Price]]","v":0}]
[null,null,null,118,"Decades of the 20th and 21st Centuries","The 1950s",1,"eBook","978-0-7660-6931-2",2016,"August 2015",null,"Author","Stephen Feinstein",null,null,null,null,"Z",null,"Grade 7","Grade 7 - 12","During the 1950s, the United States became a world leader in business, technology, and health care. The invention of the polio vaccine and the establishment of NASA set the stage for scientific advancement. Rosa Parks refused to give up her bus seat, spurring the civil rights movement. However, US troops fought to a deadlock in Korea, the Soviet Union took an early lead in the Space Race, and Americans worried about the presence of Soviet spies. Social mores were being tested by new thinking, new music, and new idols. The 1950s would prove to be a decade that would reimagine pop culture, the new normal, and the American Dream.","English",34.6,25.95,"973.918--dc23","96 pp.",{"$f":"Table1[[#This Row],[QTY]]*Table1[[#This Row],['# of Books]]","v":0},{"$f":"Table1[[#This Row],[QTY]]*Table1[[#This Row],[School & Library Price]]","v":0}]
[null,null,null,118,"Decades of the 20th and 21st Centuries","The 1960s",1,"Library Bound Book","978-0-7660-6932-9",2016,"August 2015","6.500 X 9.125","Author","Stephen Feinstein",null,null,null,null,"Z",null,"Grade 7","Grade 7 - 12","The 1960s were an exciting and unsettling time for America. Hippies protested the Vietnam War, astronauts walked on the moon, and Martin Luther King, Jr., lead the way to equal rights for African-Americans. Soldiers battled in the jungles of Southeast Asia. Inspirational leaders fell victim to assassins’ bullets. The Bay of Pigs invasion and ensuing Cuban Missile Crisis pushed the world toward nuclear war. The Beatles changed rock 'n' roll forever.","English",34.6,25.95,"973.922--dc23","96 pp.",{"$f":"Table1[[#This Row],[QTY]]*Table1[[#This Row],['# of Books]]","v":0},{"$f":"Table1[[#This Row],[QTY]]*Table1[[#This Row],[School & Library Price]]","v":0}]
[null,null,null,118,"Decades of the 20th and 21st Centuries","The 1960s",1,"eBook","978-0-7660-6933-6",2016,"August 2015",null,"Author","Stephen Feinstein",null,null,null,null,"Z",null,"Grade 7","Grade 7 - 12","The 1960s were an exciting and unsettling time for America. Hippies protested the Vietnam War, astronauts walked on the moon, and Martin Luther King, Jr., lead the way to equal rights for African-Americans. Soldiers battled in the jungles of Southeast Asia. Inspirational leaders fell victim to assassins’ bullets. The Bay of Pigs invasion and ensuing Cuban Missile Crisis pushed the world toward nuclear war. The Beatles changed rock 'n' roll forever.","English",34.6,25.95,"973.922--dc23","96 pp.",{"$f":"Table1[[#This Row],[QTY]]*Table1[[#This Row],['# of Books]]","v":0},{"$f":"Table1[[#This Row],[QTY]]*Table1[[#This Row],[School & Library Price]]","v":0}]
[null,null,null,118,"Decades of the 20th and 21st Centuries","The 1970s",1,"Library Bound Book","978-0-7660-6934-3",2016,"August 2015","6.500 X 9.125","Author","Stephen Feinstein",null,null,null,null,"Z",null,"Grade 7","Grade 7 - 12","The 1970s were a time of protest and change. President Nixon broke the law and caused the Watergate scandal, American dependency on oil increased, and the military draft sent thousands of young men to fight in Vietnam. But 1970s were happy times, too. The nation celebrated two hundred years of independence. Audiences enjoyed hit films such as Star Wars and Jaws. People dressed in funky clothes and danced to the beat of disco music.","English",34.6,25.95,"973.924--dc23","96 pp.",{"$f":"Table1[[#This Row],[QTY]]*Table1[[#This Row],['# of Books]]","v":0},{"$f":"Table1[[#This Row],[QTY]]*Table1[[#This Row],[School & Library Price]]","v":0}]
[null,null,null,118,"Decades of the 20th and 21st Centuries","The 1970s",1,"eBook","978-0-7660-6975-6",2016,"August 2015",null,"Author","Stephen Feinstein",null,null,null,null,"Z",null,"Grade 7","Grade 7 - 12","The 1970s were a time of protest and change. President Nixon broke the law and caused the Watergate scandal, American dependency on oil increased, and the military draft sent thousands of young men to fight in Vietnam. But 1970s were happy times, too. The nation celebrated two hundred years of independence. Audiences enjoyed hit films such as Star Wars and Jaws. People dressed in funky clothes and danced to the beat of disco music.","English",34.6,25.95,"973.924--dc23","96 pp.",{"$f":"Table1[[#This Row],[QTY]]*Table1[[#This Row],['# of Books]]","v":0},{"$f":"Table1[[#This Row],[QTY]]*Table1[[#This Row],[School & Library Price]]","v":0}]
[null,null,null,118,"Decades of the 20th and 21st Centuries","The 1980s",1,"Library Bound Book","978-0-7660-6935-0",2016,"August 2015","6.500 X 9.125","Author","Stephen Feinstein",null,null,null,null,"Z",null,"Grade 7","Grade 7 - 12","The 1980s were a time of tremendous growth and prosperity. The Cold War ended. The human population on earth was the largest it had ever been. Computers and video games became readily available. Cable television brought a diversity of entertainment to the American household. Severe social, economic, and military pressures forced the Soviet Union to abandon its longstanding political doctrine. Although the Space Shuttle Challenger exploded and the worst nuclear power accident in history occurred in Chernobyl, the 1980s were a decade filled with wild style and economic stability, ushering in a new wave of hope for the future.","English",34.6,25.95,"973.927--dc23","96 pp.",{"$f":"Table1[[#This Row],[QTY]]*Table1[[#This Row],['# of Books]]","v":0},{"$f":"Table1[[#This Row],[QTY]]*Table1[[#This Row],[School & Library Price]]","v":0}]
[null,null,null,118,"Decades of the 20th and 21st Centuries","The 1980s",1,"eBook","978-0-7660-6936-7",2016,"August 2015",null,"Author","Stephen Feinstein",null,null,null,null,"Z",null,"Grade 7","Grade 7 - 12","The 1980s were a time of tremendous growth and prosperity. The Cold War ended. The human population on earth was the largest it had ever been. Computers and video games became readily available. Cable television brought a diversity of entertainment to the American household. Severe social, economic, and military pressures forced the Soviet Union to abandon its longstanding political doctrine. Although the Space Shuttle Challenger exploded and the worst nuclear power accident in history occurred in Chernobyl, the 1980s were a decade filled with wild style and economic stability, ushering in a new wave of hope for the future.","English",34.6,25.95,"973.927--dc23","96 pp.",{"$f":"Table1[[#This Row],[QTY]]*Table1[[#This Row],['# of Books]]","v":0},{"$f":"Table1[[#This Row],[QTY]]*Table1[[#This Row],[School & Library Price]]","v":0}]
[null,null,null,118,"Decades of the 20th and 21st Centuries","The 1990s",1,"Library Bound Book","978-0-7660-6937-4",2016,"August 2015","6.500 X 9.125","Author","Stephen Feinstein",null,null,null,null,"Z",null,"Grade 7","Grade 7 - 12","The economic prosperity and technological advancement of the 1990s were counterbalanced by a sharp rise in terrorism. Following a military and diplomatic triumph in the first Persian Gulf War, Americans focused largely on domestic issues. Despite enhanced communications through the Internet, the world was slow to react to growing humanitarian crises in Africa and the Balkans. Grunge and hip-hop dominated the music scene. The last decade of the 20th century embodied Americans' excitement and fears for the future.","English",34.6,25.95,"973.929--dc23","96 pp.",{"$f":"Table1[[#This Row],[QTY]]*Table1[[#This Row],['# of Books]]","v":0},{"$f":"Table1[[#This Row],[QTY]]*Table1[[#This Row],[School & Library Price]]","v":0}]
[null,null,null,118,"Decades of the 20th and 21st Centuries","The 1990s",1,"eBook","978-0-7660-6938-1",2016,"August 2015",null,"Author","Stephen Feinstein",null,null,null,null,"Z",null,"Grade 7","Grade 7 - 12","The economic prosperity and technological advancement of the 1990s were counterbalanced by a sharp rise in terrorism. Following a military and diplomatic triumph in the first Persian Gulf War, Americans focused largely on domestic issues. Despite enhanced communications through the Internet, the world was slow to react to growing humanitarian crises in Africa and the Balkans. Grunge and hip-hop dominated the music scene. The last decade of the 20th century embodied Americans' excitement and fears for the future.","English",34.6,25.95,"973.929--dc23","96 pp.",{"$f":"Table1[[#This Row],[QTY]]*Table1[[#This Row],['# of Books]]","v":0},{"$f":"Table1[[#This Row],[QTY]]*Table1[[#This Row],[School & Library Price]]","v":0}]
[null,null,null,118,"Decades of the 20th and 21st Centuries","The 2000s",1,"Library Bound Book","978-0-7660-6939-8",2016,"August 2015","6.500 X 9.125","Author","Stephen Feinstein",null,null,null,null,"Z",null,"Grade 7","Grade 7 - 12","The first decade of the new millennium ushered in an age of unprecedented amounts of information through the Internet and electronic media. The US was attacked in 2001, changing the face of New York City forever. There was economic slowdown, political divisiveness, and unprecedented terrorism. US-led invasions of Afghanistan and Iraq achieved their initial goals, then devolved into bloody guerrilla conflicts. International competition for energy resources escalated dramatically. Then, in 2008, a time of change began when Barack Obama was elected president. As the 2000s moved forward, people changed the way they socialized, worked, and even entertained.","English",34.6,25.95,"973.931--dc23","96 pp.",{"$f":"Table1[[#This Row],[QTY]]*Table1[[#This Row],['# of Books]]","v":0},{"$f":"Table1[[#This Row],[QTY]]*Table1[[#This Row],[School & Library Price]]","v":0}]
[null,null,null,118,"Decades of the 20th and 21st Centuries","The 2000s",1,"eBook","978-0-7660-6940-4",2016,"August 2015",null,"Author","Stephen Feinstein",null,null,null,null,"Z",null,"Grade 7","Grade 7 - 12","The first decade of the new millennium ushered in an age of unprecedented amounts of information through the Internet and electronic media. The US was attacked in 2001, changing the face of New York City forever. There was economic slowdown, political divisiveness, and unprecedented terrorism. US-led invasions of Afghanistan and Iraq achieved their initial goals, then devolved into bloody guerrilla conflicts. International competition for energy resources escalated dramatically. Then, in 2008, a time of change began when Barack Obama was elected president. As the 2000s moved forward, people changed the way they socialized, worked, and even entertained.","English",34.6,25.95,"973.931--dc23","96 pp.",{"$f":"Table1[[#This Row],[QTY]]*Table1[[#This Row],['# of Books]]","v":0},{"$f":"Table1[[#This Row],[QTY]]*Table1[[#This Row],[School & Library Price]]","v":0}]
[null,null,null,119,"The Story of the Civil Rights Movement in Photographs","The Story of the Civil Rights Movement in Photographs",6,"Library Set","978-0-7660-8073-7",2014,"January 2014","7.500 X 9.000",null,null,null,null,null,null,null,null,"Grade 6 - 12","Grade 6 - 12",null,"English",151.62,113.7,null,"48 pp.",{"$f":"Table1[[#This Row],[QTY]]*Table1[[#This Row],['# of Books]]","v":0},{"$f":"Table1[[#This Row],[QTY]]*Table1[[#This Row],[School & Library Price]]","v":0}]
[null,null,null,119,"The Story of the Civil Rights Movement in Photographs","The Story of Rosa Parks and the Montgomery Bus Boycott in Photographs",1,"Library Bound Book","978-0-7660-4234-6",2014,"January 2014","7.500 X 9.000","Author","David Aretha",5.9,1,null,null,"U","880L","Grade 5 - 6","Grade 5 - 12","In Montgomery, Alabama, segregation was a way of life for African Americans. Rosa Parks, riding the bus after a long day of work, was tired of it. When the bus driver demanded Parks leave her seat for a white man, she refused. The police arrested her. Her courage ignited a boycott of Montgomery’s buses, one of the great protests that sparked the Civil Rights Movement. Through dramatic primary source photographs, author David Aretha explores this pivotal moment in American history. ","English",25.27,18.95,"323.1196","48 pp.",{"$f":"Table1[[#This Row],[QTY]]*Table1[[#This Row],['# of Books]]","v":0},{"$f":"Table1[[#This Row],[QTY]]*Table1[[#This Row],[School & Library Price]]","v":0}]
[null,null,null,119,"The Story of the Civil Rights Movement in Photographs","The Story of Rosa Parks and the Montgomery Bus Boycott in Photographs",1,"eBook","978-0-7660-5857-6",2014,"January 2014",null,"Author","David Aretha",5.9,1,null,null,"U","880L","Grade 5 - 6","Grade 5 - 12","In Montgomery, Alabama, segregation was a way of life for African Americans. Rosa Parks, riding the bus after a long day of work, was tired of it. When the bus driver demanded Parks leave her seat for a white man, she refused. The police arrested her. Her courage ignited a boycott of Montgomery’s buses, one of the great protests that sparked the Civil Rights Movement. Through dramatic primary source photographs, author David Aretha explores this pivotal moment in American history. ","English",25.27,18.95,"323.1196","48 pp.",{"$f":"Table1[[#This Row],[QTY]]*Table1[[#This Row],['# of Books]]","v":0},{"$f":"Table1[[#This Row],[QTY]]*Table1[[#This Row],[School & Library Price]]","v":0}]
[null,null,null,119,"The Story of the Civil Rights Movement in Photographs","The Story of the Birmingham Civil Rights Movement in Photographs",1,"Library Bound Book","978-0-7660-4237-7",2014,"January 2014","7.500 X 9.000","Author","David Aretha",6.2,1,null,null,"U","910L","Grade 5 - 6","Grade 5 - 12","Martin Luther King, Jr., called Birmingham, Alabama, the most segregated city in America. In 1963, he and other civil rights leaders believed it was time to change that. With marches and protests throughout the city, civil rights activists hoped the movement would draw national attention. Hundreds of young African Americans joined the cause, marching for equal rights. Angry segregationists reacted—violently. And it would play out in newspapers and on television screens across the country. Through dramatic primary source photographs, author David Aretha explores this crucial struggle of the Civil Rights Movement. ","English",25.27,18.95,"323.1196","48 pp.",{"$f":"Table1[[#This Row],[QTY]]*Table1[[#This Row],['# of Books]]","v":0},{"$f":"Table1[[#This Row],[QTY]]*Table1[[#This Row],[School & Library Price]]","v":0}]
[null,null,null,119,"The Story of the Civil Rights Movement in Photographs","The Story of the Birmingham Civil Rights Movement in Photographs",1,"eBook","978-0-7660-5860-6",2014,"January 2014",null,"Author","David Aretha",6.2,1,null,null,"U","910L","Grade 5 - 6","Grade 5 - 12","Martin Luther King, Jr., called Birmingham, Alabama, the most segregated city in America. In 1963, he and other civil rights leaders believed it was time to change that. With marches and protests throughout the city, civil rights activists hoped the movement would draw national attention. Hundreds of young African Americans joined the cause, marching for equal rights. Angry segregationists reacted—violently. And it would play out in newspapers and on television screens across the country. Through dramatic primary source photographs, author David Aretha explores this crucial struggle of the Civil Rights Movement. ","English",25.27,18.95,"323.1196","48 pp.",{"$f":"Table1[[#This Row],[QTY]]*Table1[[#This Row],['# of Books]]","v":0},{"$f":"Table1[[#This Row],[QTY]]*Table1[[#This Row],[School & Library Price]]","v":0}]
[null,null,null,119,"The Story of the Civil Rights Movement in Photographs","The Story of the Civil Rights Freedom Rides in Photographs",1,"Library Bound Book","978-0-7660-4236-0",2014,"January 2014","7.500 X 9.000","Author","David Aretha",5.8,1,null,null,"U","840L","Grade 5 - 6","Grade 5 - 12","Bombs. Clubs. Metal pipes. Severe beatings. Angry segregationists. This is what the Freedom Riders faced when they journeyed into the Deep South to integrate the interstate buses and terminals. Civil rights activists, black and white, understood the dangers of the Freedom Rides. They knew opposition would be fierce, but they did not care. It was worth the risk in the pursuit of African-American rights. Through captivating primary source photographs, author David Aretha examines this fight for equality in the Civil Rights Movement. ","English",25.27,18.95,"323.1196","48 pp.",{"$f":"Table1[[#This Row],[QTY]]*Table1[[#This Row],['# of Books]]","v":0},{"$f":"Table1[[#This Row],[QTY]]*Table1[[#This Row],[School & Library Price]]","v":0}]
[null,null,null,119,"The Story of the Civil Rights Movement in Photographs","The Story of the Civil Rights Freedom Rides in Photographs",1,"eBook","978-0-7660-5859-0",2014,"January 2014",null,"Author","David Aretha",5.8,1,null,null,"U","840L","Grade 5 - 6","Grade 5 - 12","Bombs. Clubs. Metal pipes. Severe beatings. Angry segregationists. This is what the Freedom Riders faced when they journeyed into the Deep South to integrate the interstate buses and terminals. Civil rights activists, black and white, understood the dangers of the Freedom Rides. They knew opposition would be fierce, but they did not care. It was worth the risk in the pursuit of African-American rights. Through captivating primary source photographs, author David Aretha examines this fight for equality in the Civil Rights Movement. ","English",25.27,18.95,"323.1196","48 pp.",{"$f":"Table1[[#This Row],[QTY]]*Table1[[#This Row],['# of Books]]","v":0},{"$f":"Table1[[#This Row],[QTY]]*Table1[[#This Row],[School & Library Price]]","v":0}]
[null,null,null,119,"The Story of the Civil Rights Movement in Photographs","The Story of the Civil Rights March on Washington for Jobs and Freedom in Photographs",1,"Library Bound Book","978-0-7660-4238-4",2014,"January 2014","7.500 X 9.000","Author","David Aretha",6.1,1,null,null,"T","890L","Grade 5 - 6","Grade 5 - 12","On August 28, 1963, more than 250,000 people descended on Washington, D.C. They came by bus, car, and bicycle. Some even walked hundreds of miles to be there. On that day, the massive crowd gathered to march, protest, sing, and support the Civil Rights Movement and to demonstrate that the time had come to end segregation in the South. To a captivated audience, Martin Luther King, Jr., spoke of his \"dream,\" when African Americans would have equal rights. Through vivid primary source photographs, author David Aretha explores the \"greatest demonstration for freedom\" in American history. ","English",25.27,18.95,"975.3","48 pp.",{"$f":"Table1[[#This Row],[QTY]]*Table1[[#This Row],['# of Books]]","v":0},{"$f":"Table1[[#This Row],[QTY]]*Table1[[#This Row],[School & Library Price]]","v":0}]
[null,null,null,119,"The Story of the Civil Rights Movement in Photographs","The Story of the Civil Rights March on Washington for Jobs and Freedom in Photographs",1,"eBook","978-0-7660-5861-3",2014,"January 2014",null,"Author","David Aretha",6.1,1,null,null,"T","890L","Grade 5 - 6","Grade 5 - 12","On August 28, 1963, more than 250,000 people descended on Washington, D.C. They came by bus, car, and bicycle. Some even walked hundreds of miles to be there. On that day, the massive crowd gathered to march, protest, sing, and support the Civil Rights Movement and to demonstrate that the time had come to end segregation in the South. To a captivated audience, Martin Luther King, Jr., spoke of his \"dream,\" when African Americans would have equal rights. Through vivid primary source photographs, author David Aretha explores the \"greatest demonstration for freedom\" in American history. ","English",25.27,18.95,"975.3","48 pp.",{"$f":"Table1[[#This Row],[QTY]]*Table1[[#This Row],['# of Books]]","v":0},{"$f":"Table1[[#This Row],[QTY]]*Table1[[#This Row],[School & Library Price]]","v":0}]
[null,null,null,119,"The Story of the Civil Rights Movement in Photographs","The Story of the Little Rock Nine and School Desegregation in Photographs",1,"Library Bound Book","978-0-7660-4235-3",2014,"January 2014","7.500 X 9.000","Author","David Aretha",5.9,1,null,null,"T","860L","Grade 5 - 6","Grade 5 - 12","In September 1957, nine brave African-American students attempted to do something that had not been done in the segregated South—integrate a public school. Until 1957, black students could not attend school with white students, and black schools were often inferior to white schools. However, in the face of hatred, protest, and violence, these courageous students, who came to be known as the Little Rock Nine, led the charge for change. Through riveting primary source photographs, author David Aretha examines this critical time in the Civil Rights Movement. ","English",25.27,18.95,"379.2","48 pp.",{"$f":"Table1[[#This Row],[QTY]]*Table1[[#This Row],['# of Books]]","v":0},{"$f":"Table1[[#This Row],[QTY]]*Table1[[#This Row],[School & Library Price]]","v":0}]
[null,null,null,119,"The Story of the Civil Rights Movement in Photographs","The Story of the Little Rock Nine and School Desegregation in Photographs",1,"eBook","978-0-7660-5858-3",2014,"January 2014",null,"Author","David Aretha",5.9,1,null,null,"T","860L","Grade 5 - 6","Grade 5 - 12","In September 1957, nine brave African-American students attempted to do something that had not been done in the segregated South—integrate a public school. Until 1957, black students could not attend school with white students, and black schools were often inferior to white schools. However, in the face of hatred, protest, and violence, these courageous students, who came to be known as the Little Rock Nine, led the charge for change. Through riveting primary source photographs, author David Aretha examines this critical time in the Civil Rights Movement. ","English",25.27,18.95,"379.2","48 pp.",{"$f":"Table1[[#This Row],[QTY]]*Table1[[#This Row],['# of Books]]","v":0},{"$f":"Table1[[#This Row],[QTY]]*Table1[[#This Row],[School & Library Price]]","v":0}]
[null,null,null,119,"The Story of the Civil Rights Movement in Photographs","The Story of the Selma Voting Rights Marches in Photographs",1,"Library Bound Book","978-0-7660-4239-1",2014,"January 2014","7.500 X 9.000","Author","David Aretha",6.1,1,null,null,"U","860L","Grade 5 - 6","Grade 5 - 12","The Civil Rights Act of 1964 was a momentous victory for civil rights activists. But one major obstacle remained in the path toward equal rights for African Americans: the right to vote. In the South, segregationists prevented African Americans from voting. Civil rights leaders believed it was time for strong action and chose Selma, Alabama, as the rallying point. There, the marches and protests captured the nation’s attention. Through gripping primary source photographs, author David Aretha explores this important time in American history. ","English",25.27,18.95,"324.6","48 pp.",{"$f":"Table1[[#This Row],[QTY]]*Table1[[#This Row],['# of Books]]","v":0},{"$f":"Table1[[#This Row],[QTY]]*Table1[[#This Row],[School & Library Price]]","v":0}]
[null,null,null,119,"The Story of the Civil Rights Movement in Photographs","The Story of the Selma Voting Rights Marches in Photographs",1,"eBook","978-0-7660-5862-0",2014,"January 2014",null,"Author","David Aretha",6.1,1,null,null,"U","860L","Grade 5 - 6","Grade 5 - 12","The Civil Rights Act of 1964 was a momentous victory for civil rights activists. But one major obstacle remained in the path toward equal rights for African Americans: the right to vote. In the South, segregationists prevented African Americans from voting. Civil rights leaders believed it was time for strong action and chose Selma, Alabama, as the rallying point. There, the marches and protests captured the nation’s attention. Through gripping primary source photographs, author David Aretha explores this important time in American history. ","English",25.27,18.95,"324.6","48 pp.",{"$f":"Table1[[#This Row],[QTY]]*Table1[[#This Row],['# of Books]]","v":0},{"$f":"Table1[[#This Row],[QTY]]*Table1[[#This Row],[School & Library Price]]","v":0}]
[null,null,null,119,"Remembering the Holocaust","Remembering the Holocaust",6,"Library Set","978-0-7660-8074-4",2015,"August 2014","6.000 X 9.000",null,null,null,null,null,null,null,null,"Grade 6 - 12","Grade 6 - 12",null,"English",179.64,134.76,null,"96 pp.",{"$f":"Table1[[#This Row],[QTY]]*Table1[[#This Row],['# of Books]]","v":0},{"$f":"Table1[[#This Row],[QTY]]*Table1[[#This Row],[School & Library Price]]","v":0}]
[null,null,null,119,"Remembering the Holocaust","Anti-Semitism and The \"Final Solution\": The Holocaust Overview",1,"Library Bound Book","978-0-7660-6192-7",2015,"August 2014","6.000 X 9.000","Author","Ann Byers",8.9,null,null,null,"W","1150L","Grade 6 - 7","Grade 6 - 12","Fanatical anti-Semitism and the persecution of Jews ended in the Holocaust's horrific legacy—the murder of nearly 6 million Jews. In ANTI-SEMITISM AND THE \"FINAL SOLUTION\": THE HOLOCAUST OVERVIEW, author Ann Byers analyzes the factors that led to the persecution of Jews, as well as the rise and fall of Hitler's Third Reich.  This book is developed from THE HOLOCAUST OVERVIEW to allow republication of the original text into ebook, paperback, and trade editions. ","English",29.94,22.46,"940.53","96 pp.",{"$f":"Table1[[#This Row],[QTY]]*Table1[[#This Row],['# of Books]]","v":0},{"$f":"Table1[[#This Row],[QTY]]*Table1[[#This Row],[School & Library Price]]","v":0}]
[null,null,null,119,"Remembering the Holocaust","Anti-Semitism and The \"Final Solution\": The Holocaust Overview",1,"eBook","978-0-7660-6196-5",2015,"August 2014",null,"Author","Ann Byers",8.9,null,null,null,"W","1150L","Grade 6 - 7","Grade 6 - 12","Fanatical anti-Semitism and the persecution of Jews ended in the Holocaust's horrific legacy—the murder of nearly 6 million Jews. In ANTI-SEMITISM AND THE \"FINAL SOLUTION\": THE HOLOCAUST OVERVIEW, author Ann Byers analyzes the factors that led to the persecution of Jews, as well as the rise and fall of Hitler's Third Reich.  This book is developed from THE HOLOCAUST OVERVIEW to allow republication of the original text into ebook, paperback, and trade editions. ","English",34.6,25.95,"940.53","96 pp.",{"$f":"Table1[[#This Row],[QTY]]*Table1[[#This Row],['# of Books]]","v":0},{"$f":"Table1[[#This Row],[QTY]]*Table1[[#This Row],[School & Library Price]]","v":0}]
[null,null,null,119,"Remembering the Holocaust","Auschwitz, Bergen-Belsen, Treblinka: The Holocaust Camps",1,"Library Bound Book","978-0-7660-6212-2",2015,"August 2014","6.000 X 9.000","Author","Ann Byers",null,null,null,null,"X","1160L","Grade 6 - 7","Grade 6 - 12","The Nazis set up concentration and death camps in order to isolate, torture, and murder millions of men, women, and children. In AUSCHWITZ, BERGEN-BELSEN, TREBLINKA: THE HOLOCAUST CAMPS, author Ann Byers details the system of camps in Europe during the Holocaust. Byers recounts the horrifying conditions suffered by camp inmates as well as their struggles for life and hope in a world gone mad. The remains of many camps still stand today to serve as a chilling reminder of the Holocaust. This book is developed from THE HOLOCAUST CAMPS to allow republication of the original text into ebook, paperback, and trade editions. ","English",29.94,22.46,"940.53","96 pp.",{"$f":"Table1[[#This Row],[QTY]]*Table1[[#This Row],['# of Books]]","v":0},{"$f":"Table1[[#This Row],[QTY]]*Table1[[#This Row],[School & Library Price]]","v":0}]
[null,null,null,119,"Remembering the Holocaust","Auschwitz, Bergen-Belsen, Treblinka: The Holocaust Camps",1,"eBook","978-0-7660-6216-0",2015,"August 2014",null,"Author","Ann Byers",null,null,null,null,"X","1160L","Grade 6 - 7","Grade 6 - 12","The Nazis set up concentration and death camps in order to isolate, torture, and murder millions of men, women, and children. In AUSCHWITZ, BERGEN-BELSEN, TREBLINKA: THE HOLOCAUST CAMPS, author Ann Byers details the system of camps in Europe during the Holocaust. Byers recounts the horrifying conditions suffered by camp inmates as well as their struggles for life and hope in a world gone mad. The remains of many camps still stand today to serve as a chilling reminder of the Holocaust. This book is developed from THE HOLOCAUST CAMPS to allow republication of the original text into ebook, paperback, and trade editions. ","English",34.6,25.95,"940.53","96 pp.",{"$f":"Table1[[#This Row],[QTY]]*Table1[[#This Row],['# of Books]]","v":0},{"$f":"Table1[[#This Row],[QTY]]*Table1[[#This Row],[School & Library Price]]","v":0}]
[null,null,null,119,"Remembering the Holocaust","Hitler, Goebbels, Himmler: The Nazi Holocaust Masterminds",1,"Library Bound Book","978-0-7660-6197-2",2015,"August 2014","6.000 X 9.000","Author","Linda Jacobs Altman",null,null,null,null,"W","970L","Grade 6 - 7","Grade 6 - 12","How could the Holocaust have happened in a civilized country? Who is to blame? The roots of the hatred that led to the Holocaust began long before World War II. In HITLER, GOEBBELS, HIMMLER: THE NAZI HOLOCAUST MASTERMINDS, author Linda Jacobs Altman thoroughly examines the causes and events that led up to the Holocaust, Adolf Hitler's rise to power, and the role he played in World War II in perpetuating the Holocaust. This book is developed from THE HOLOCAUST, HITLER, AND NAZI GERMANY to allow republication of the original text into ebook, paperback, and trade editions. ","English",29.94,22.46,"940.53","96 pp.",{"$f":"Table1[[#This Row],[QTY]]*Table1[[#This Row],['# of Books]]","v":0},{"$f":"Table1[[#This Row],[QTY]]*Table1[[#This Row],[School & Library Price]]","v":0}]
[null,null,null,119,"Remembering the Holocaust","Hitler, Goebbels, Himmler: The Nazi Holocaust Masterminds",1,"eBook","978-0-7660-6201-6",2015,"August 2014",null,"Author","Linda Jacobs Altman",null,null,null,null,"W","970L","Grade 6 - 7","Grade 6 - 12","How could the Holocaust have happened in a civilized country? Who is to blame? The roots of the hatred that led to the Holocaust began long before World War II. In HITLER, GOEBBELS, HIMMLER: THE NAZI HOLOCAUST MASTERMINDS, author Linda Jacobs Altman thoroughly examines the causes and events that led up to the Holocaust, Adolf Hitler's rise to power, and the role he played in World War II in perpetuating the Holocaust. This book is developed from THE HOLOCAUST, HITLER, AND NAZI GERMANY to allow republication of the original text into ebook, paperback, and trade editions. ","English",34.6,25.95,"940.53","96 pp.",{"$f":"Table1[[#This Row],[QTY]]*Table1[[#This Row],['# of Books]]","v":0},{"$f":"Table1[[#This Row],[QTY]]*Table1[[#This Row],[School & Library Price]]","v":0}]
[null,null,null,119,"Remembering the Holocaust","Schindler, Wallenberg, Miep Gies: The Holocaust Heroes",1,"Library Bound Book","978-0-7660-6217-7",2015,"August 2014","6.000 X 9.000","Author","David K. Fremon",null,null,null,null,"X","820L","Grade 6 - 7","Grade 6 - 12","The heroes of the Holocaust were individuals who risked their own lives to save thousands of Jews from certain death. In SCHINDLER, WALLENBERG, MIEP GIES: THE HOLOCAUST HEROES, author David K. Fremon recounts the actions some people took to save the lives of thousands of people trying to escape from the Nazis and their deadly persecution. Some heroes are now famous, but many unknown heroes took action to forge false identity papers, leave out food for refugees, and hide Jews in their homes. This book is developed from THE HOLOCAUST HEROES to allow republication of the original text into ebook, paperback, and trade editions. ","English",29.94,22.46,"940.53","96 pp.",{"$f":"Table1[[#This Row],[QTY]]*Table1[[#This Row],['# of Books]]","v":0},{"$f":"Table1[[#This Row],[QTY]]*Table1[[#This Row],[School & Library Price]]","v":0}]
[null,null,null,119,"Remembering the Holocaust","Schindler, Wallenberg, Miep Gies: The Holocaust Heroes",1,"eBook","978-0-7660-6221-4",2015,"August 2014",null,"Author","David K. Fremon",null,null,null,null,"X","820L","Grade 6 - 7","Grade 6 - 12","The heroes of the Holocaust were individuals who risked their own lives to save thousands of Jews from certain death. In SCHINDLER, WALLENBERG, MIEP GIES: THE HOLOCAUST HEROES, author David K. Fremon recounts the actions some people took to save the lives of thousands of people trying to escape from the Nazis and their deadly persecution. Some heroes are now famous, but many unknown heroes took action to forge false identity papers, leave out food for refugees, and hide Jews in their homes. This book is developed from THE HOLOCAUST HEROES to allow republication of the original text into ebook, paperback, and trade editions. ","English",34.6,25.95,"940.53","96 pp.",{"$f":"Table1[[#This Row],[QTY]]*Table1[[#This Row],['# of Books]]","v":0},{"$f":"Table1[[#This Row],[QTY]]*Table1[[#This Row],[School & Library Price]]","v":0}]
[null,null,null,119,"Remembering the Holocaust","Warsaw, Lodz, Vilna: The Holocaust Ghettos",1,"Library Bound Book","978-0-7660-6207-8",2015,"August 2014","6.000 X 9.000","Author","Linda Jacobs Altman",null,null,null,null,"X","1050L","Grade 6 - 7","Grade 6 - 12","Ghettos were set up by the Nazis to isolate and segregate Jews from other members of the population. Author Linda Jacobs Altman details the hardships of ghetto life under Nazi rule in WARSAW, LODZ, VILNA: THE HOLOCAUST GHETTOS. Set up in many countries including Poland, Lithuania, Latvia, Belorussia, and Czechoslovakia, the author describes how the Jews kept alive their cultural and religious lives despite the poverty and hardships of ghetto life. Also included are accounts of the revolts by those who dared to fight back.  This book is developed from THE HOLOCAUST GHETTOS to allow republication of the original text into ebook, paperback, and trade editions. ","English",29.94,22.46,"940.53","96 pp.",{"$f":"Table1[[#This Row],[QTY]]*Table1[[#This Row],['# of Books]]","v":0},{"$f":"Table1[[#This Row],[QTY]]*Table1[[#This Row],[School & Library Price]]","v":0}]
[null,null,null,119,"Remembering the Holocaust","Warsaw, Lodz, Vilna: The Holocaust Ghettos",1,"eBook","978-0-7660-6211-5",2015,"August 2014",null,"Author","Linda Jacobs Altman",null,null,null,null,"X","1050L","Grade 6 - 7","Grade 6 - 12","Ghettos were set up by the Nazis to isolate and segregate Jews from other members of the population. Author Linda Jacobs Altman details the hardships of ghetto life under Nazi rule in WARSAW, LODZ, VILNA: THE HOLOCAUST GHETTOS. Set up in many countries including Poland, Lithuania, Latvia, Belorussia, and Czechoslovakia, the author describes how the Jews kept alive their cultural and religious lives despite the poverty and hardships of ghetto life. Also included are accounts of the revolts by those who dared to fight back.  This book is developed from THE HOLOCAUST GHETTOS to allow republication of the original text into ebook, paperback, and trade editions. ","English",34.6,25.95,"940.53","96 pp.",{"$f":"Table1[[#This Row],[QTY]]*Table1[[#This Row],['# of Books]]","v":0},{"$f":"Table1[[#This Row],[QTY]]*Table1[[#This Row],[School & Library Price]]","v":0}]
[null,null,null,119,"Remembering the Holocaust","Wiesel, Wiesenthal, Klarsfeld: The Holocaust Survivors",1,"Library Bound Book","978-0-7660-6202-3",2015,"August 2014","6.000 X 9.000","Author","Tabatha Yeatts",null,null,null,null,"X","1210L","Grade 6 - 7","Grade 6 - 12","Two out of every three Jews in Europe died in the Holocaust. For those who survived, life continued to be bleak after the war since they had neither homes nor families to which they could return. Author Tabatha Yeatts tells the harsh stories of those who lived through the Holocaust concentrating on the aftermath’s effect on survivors. The fate of many Nazi war criminals is described as well. This book is developed from THE HOLOCAUST SURVIVORS to allow republication of the original text into ebook, paperback, and trade editions. ","English",29.94,22.46,"940.53","96 pp.",{"$f":"Table1[[#This Row],[QTY]]*Table1[[#This Row],['# of Books]]","v":0},{"$f":"Table1[[#This Row],[QTY]]*Table1[[#This Row],[School & Library Price]]","v":0}]
[null,null,null,119,"Remembering the Holocaust","Wiesel, Wiesenthal, Klarsfeld: The Holocaust Survivors",1,"eBook","978-0-7660-6206-1",2015,"August 2014",null,"Author","Tabatha Yeatts",null,null,null,null,"X","1210L","Grade 6 - 7","Grade 6 - 12","Two out of every three Jews in Europe died in the Holocaust. For those who survived, life continued to be bleak after the war since they had neither homes nor families to which they could return. Author Tabatha Yeatts tells the harsh stories of those who lived through the Holocaust concentrating on the aftermath’s effect on survivors. The fate of many Nazi war criminals is described as well. This book is developed from THE HOLOCAUST SURVIVORS to allow republication of the original text into ebook, paperback, and trade editions. ","English",34.6,25.95,"940.53","96 pp.",{"$f":"Table1[[#This Row],[QTY]]*Table1[[#This Row],['# of Books]]","v":0},{"$f":"Table1[[#This Row],[QTY]]*Table1[[#This Row],[School & Library Price]]","v":0}]

{"sheet":"Sheet2","index":2,"n_rows":27,"n_cols":10,"rows_kept":27,"cut":false,"hidden":false,"merged":[[0,4,3,5],[12,5,12,6],[4,1,4,2],[5,4,7,4],[10,5,10,6],[11,5,11,6],[21,5,21,6],[22,5,22,6],[24,5,24,6],[13,5,13,6],[15,1,15,2],[15,4,15,6],[16,5,16,6],[17,5,17,6],[18,5,18,6],[23,5,23,6]]}
[null,null,null,null,"Enslow Publishing\n101 W. 23rd Street, Suite 240\nNew York, NY 10011\nPhone: 800-398-2504\nenslow.com"]
[]
[]
[]
[null,"BILL TO:",null,null,null,null,null,null,null,"Visa"]
[null,"School/Library",{"$f":"Sheet1!K8","v":0},null,"For Credit card orders \nselect one:",null,null,null,null,"Mastercard"]
[null,"Attention",{"$f":"Sheet1!K9","v":0},null,null,null,"Select Card Type",null,null,"AMEX"]
[null,"Address",{"$f":"Sheet1!K11","v":0}]
[null,"City",{"$f":"Sheet1!K12","v":0}]
[null,"State",{"$f":"Sheet1!K13","v":0}]
[null,"Zip",{"$f":"Sheet1!K14","v":0},null,"Card Number"]
[null,"Phone",{"$f":"Sheet1!K16","v":0},null,"Name on Card"]
[null,"Fax",{"$f":"Sheet1!K17","v":0},null,"Exp. Date"]
[null,"Email",{"$f":"Sheet1!K18","v":0},null,"CVV Code"]
[]
[null,"SHIP TO:",null,null,"SUMMARY"]
[null,"School/Library",{"$f":"Sheet1!F8","v":0},null,"Book Subtotal",{"$f":"Sheet1!W11","v":0}]
[null,"Attention",{"$f":"Sheet1!F9","v":0},null,"Library Processing",{"$f":"Sheet1!W12","v":0}]
[null,"Address",{"$f":"Sheet1!F11","v":0},null,"S&H",{"$f":"Sheet1!W13","v":0}]
[null,"City",{"$f":"Sheet1!F12","v":0}]
[null,"State",{"$f":"Sheet1!F13","v":0}]
[null,"Zip",{"$f":"Sheet1!F14","v":0},null,"Tax",{"$f":"Sheet1!W14","v":0},null,"Notes"]
[null,"Phone",{"$f":"Sheet1!F16","v":0},null,"GRAND TOTAL",{"$f":"Sheet1!W15","v":0}]
[null,"Fax",{"$f":"Sheet1!F17","v":0},null,"Total # of Books Ordered",{"$f":"Sheet1!T9+Sheet1!V9+Sheet1!W9","v":0}]
[null,"Email",{"$f":"Sheet1!F18","v":0},null,"Purchase Order #",{"$f":"Sheet1!F20","v":0}]
[]
["QTY","ISBN","Description",null,"Product Type","# of Books","© Date","Price (ea.)","Total"]